{"text_format":"1","workbook":"xlsx","n_sheets":5,"sheets":["Datu_ievade","Biomasa","Līmeņatzīmes","Kurināmais","k_koef"],"not_rendered":{"charts":0,"images":0,"macros":1,"external_links":0,"defined_names":9,"comments":0,"pivot_tables":0},"unopened":[],"bounds":{"document_bytes":16777216,"sheet_cells":100000,"rows_first":2000,"rows_last":500,"rows_between":2000,"halvings":0,"cell_chars":16384,"cell_head_chars":4096},"cells_cut":0,"cells_raw":0,"read":"whole","date_system":"1900"}

{"sheet":"Datu_ievade","index":0,"n_rows":31,"n_cols":15,"rows_kept":31,"cut":false,"hidden":false,"merged":[[1,2,1,4],[10,1,11,1],[8,1,9,1],[2,2,2,4]]}
[null,null,null,null,null,null,null,null,null,"Elektrostacijas veids","OI sākuma gads","Mēnesis","Atbalsta noteikumi"]
[null,"Komersanta nosaukums",null,null,null,null,null,null,null,"Biogāze",2006,1,221,null,"Jā"]
[null,"Elektrostacijas adrese",null,null,null,null,null,null,null,"Biomasa",2007,2,262,null,"Nē"]
[null,"Elektrostacijas veids","Biomasa",null,null,{"$f":"IF($C$4=$J$5,\"Stacijas efektivitāte, % (75%,ja nav zināms)\",\" \")","v":" "},0.75,null,null,"Dabasgāze",2008,3]
[null,"Līgumā ar publisko tirgotāju norādītā stacijas uzstādītā elektriskā jauda (MW)",null,null,null,{"$f":"IF($C$4=$J$5,\"Kritums, m\",\" \")","v":" "},11,null,null,"HES",2009,4]
[null,{"$f":"IF(OR($C$4=$J$2,$C$4=$J$3,$C$4=$J$4),\"Stacijas uzstādītā bruto siltuma jauda (MW)\",\" \")","v":"Stacijas uzstādītā bruto siltuma jauda (MW)"},null,"Poligongāze?","Nē",{"$f":"IF($C$4=$J$6,\"Vai balansē saskaņā ar 262.noteikumu 55.pantu?\",\" \")","v":" "},"Nē",null,null,"VES",2010,5]
[null,"Stacijai šobrīd piemērojamie atbalsta MK noteikumi",262,null,null,null,null,null,null,null,2011,6]
[null,null,null,null,null,null,null,null,null,null,2012,7]
[null,"Obligātā iepirkuma sākuma datums","Gads","Mēnesis",null,null,null,null,null,null,2013,8]
[null,null,null,null,null,null,null,null,null,null,2014,9]
[null,"Obligātā iepirkuma beigu datums","Gads","Mēnesis",null,null,null,null,null,null,2015,10]
[null,null,{"$f":"IF(AND($C$7=262,$D$10=1),$C$10+19,IF($C$7=262,$C$10+20,IF(AND($C$7=221,$D$10=1),$C$10+9,$C$10+10)))","v":20},{"$f":"IF($D$10=1,12,$D$10-1)","v":-1},null,null,null,null,null,null,2016,11]
[null,null,null,null,null,null,null,null,null,null,2017,12]
[null,"AST pieslēguma izbūves investīcijas (EUR)",null,null,null,null,null,null,null,null,2018]
[null,null,null,null,null,null,null,null,null,null,2019]
[1,"Fondu atbalsts investīcijām (EUR)",null,null,null,null,null,null,null,null,2020]
[null,"Gads, kurā saņemts investīciju atbalsts no fondiem",null,null,null,null,null,null,null,null,2021]
[null,null,null,null,null,null,null,null,null,null,2022]
[2,"Fondu atbalsts investīcijām (EUR)",null,null,null,null,null,null,null,null,2023]
[null,"Gads, kurā saņemts investīciju atbalsts no fondiem",null,null,null,null,null,null,null,null,2024]
[null,null,null,null,null,null,null,null,null,null,2025]
[3,"Fondu atbalsts investīcijām (EUR)",null,null,null,null,null,null,null,null,2026]
[null,"Gads, kurā saņemts investīciju atbalsts no fondiem",null,null,null,null,null,null,null,null,2027]
[null,null,null,null,null,null,null,null,null,null,2028]
[4,"Fondu atbalsts investīcijām (EUR)",null,null,null,null,null,null,null,null,2029]
[null,"Gads, kurā saņemts investīciju atbalsts no fondiem",null,null,null,null,null,null,null,null,2030]
[]
[5,"Fondu atbalsts investīcijām (EUR)"]
[null,"Gads, kurā saņemts investīciju atbalsts no fondiem"]
[]
["Kopā","Fondu atbalsts investīcijām (EUR)",{"$f":"C16+C19+C22+C25+C28","v":0}]

{"sheet":"Biomasa","index":1,"n_rows":67,"n_cols":382,"rows_kept":67,"cut":false,"hidden":false,"merged":[[62,42,62,55],[40,303,40,314],[40,316,40,327],[40,329,40,340],[40,342,40,353],[40,147,40,158],[40,160,40,171],[40,173,40,184],[40,186,40,197],[40,199,40,210],[40,212,40,223],[40,69,40,80],[40,82,40,93],[40,95,40,106],[40,108,40,119],[40,121,40,132],[40,368,40,379],[40,225,40,236],[40,238,40,249],[40,251,40,262],[40,264,40,275],[40,277,40,288],[40,290,40,301],[40,134,40,145],[40,355,40,366],[40,4,40,15],[40,17,40,28],[40,30,40,41],[40,43,40,54],[40,56,40,67],[3,16,3,29],[2,172,2,185],[1,1,1,2],[1,120,1,159],[2,1,2,2],[2,120,2,133],[2,146,2,159]]}
["Biomasas elektrostacijas"]
["Komersanta nosaukums",{"$f":"IF(Datu_ievade!$C$4=Datu_ievade!$J$3,Datu_ievade!$C$2,\" \")","v":0},null,null,null,null,null,null,null,null,null,null,null,null,null,null,"Stacijai piemērojamās līmeņatzīmes",null,null,null,null,null,null,null,null,null,null,null,null,null,null,null,null,null,null,null,null,null,null,null,null,null,null,null,null,null,null,null,null,null,null,null,null,null,null,null,null,null,null,null,null,null,null,null,null,null,null,null,null,null,null,null,null,null,null,null,null,null,null,null,null,null,null,null,null,null,null,null,null,null,null,null,null,null,null,null,null,null,null,null,null,null,null,null,null,null,null,null,null,null,null,null,null,null,null,null,null,null,null,null,null,null,null,null,null,null,null,null,null,null,null,null,null,null,null,null,null,null,null,null,null,null,null,null,null,null,null,null,null,null,null,null,null,null,null,null,null,null,null,null,null,null,null,null,null,null,null,null,null,null,null,null,null,null,null,null,null,null,null,null,null,null,null,null,null,null,null,null,null,null,null,null,null,null,null,null,null,null,null,null,null,null,null,null,null,null,null,null,null,null,null,null,null,null,null,null,null,null,null,null,null,null,null,null,null,null,null,null,null,null,null,null,null,null,null,null,null,null,null,null,null,null,null,null,null,null,null,null,null,null,null,null,null,null,null,null,null,null,null,null,null,null,null,null,null,null,null,null,null,null,null,null,null,null,null,null,null,null,null,null,null,null,null,null,null,null,null,null,null,null,null,null,null,null,null,null,null,null,null,null,null,null,null,null,null,null,null,null,null,null,null,null,null,null,null,null,null,null,null,null,null,null,null,null,null,null,null,null,null,null,null,null,null,null,null,null,null,null,null,null,null,null,null,null,null,null,null,null,null,null,null,null,null,null,null,null,null,null,null,null,null,null,null,null,null,null,null,null,null,null,null,null,null,null,null,null,null,null,null,null,-1]
["Elektrostacijas adrese",{"$f":"IF(Datu_ievade!$C$4=Datu_ievade!$J$3,Datu_ievade!$C$3,\" \")","v":0},null,null,null,null,null,null,null,null,null,null,null,null,null,null,null,null,null,null,null,null,null,null,null,null,null,null,null,null,null,null,null,null,null,null,null,null,null,null,null,null,null,null,null,null,null,null,null,null,null,null,null,null,null,null,null,null,null,null,null,null,null,null,null,null,null,null,null,null,null,null,null,null,null,null,null,null,null,null,null,null,null,null,null,null,null,null,null,null,null,null,null,null,null,null,null,null,null,null,null,null,null,null,null,null,null,null,null,null,null,null,null,null,null,null,null,null,null,null,null,null,null,null,null,null,null,null,null,null,null,null,null,null,null,null,null,null,null,null,null,null,null,null,null,null,null,null,null,null,null,null,null,null,null,null,null,null,null,null,null,null,null,null,null,null,null,null,null,null,null,null,null,null,null,null,null,null,null,null,null,null,null,null,null,null,null,null,null,null,null,null,null,null,null,null,null,null,null,null,null,null,null,null,null,null,null,null,null,null,null,null,null,null,null,null,null,null,null,null,null,null,null,null,null,null,null,null,null,null,null,null,null,null,null,null,null,null,null,null,null,null,null,null,null,null,null,null,null,null,null,null,null,null,null,null,null,null,null,null,null,null,null,null,null,null,null,null,null,null,null,null,null,null,null,null,null,null,null,null,null,null,null,null,null,null,null,null,null,null,null,null,null,null,null,null,null,null,null,null,null,null,null,null,null,null,null,null,null,null,null,null,null,null,null,null,null,null,null,null,null,null,null,null,null,null,null,null,null,null,null,null,null,null,null,null,null,null,null,null,null,null,null,null,null,null,null,null,null,null,null,null,null,null,null,null,null,null,null,null,null,null,null,null,null,null,null,null,null,null,null,null,null,null,null,null,null,null,null,null,0]
["Atbalsta noteikumi",null,{"$f":"IF(Datu_ievade!$C$4=Datu_ievade!$J$3,Datu_ievade!$C$7,\" \")","v":262},null,null,null,null,null,null,null,null,null,null,null,null,null,"Elektroenerģijas cenas reizinājuma koef. (09.2007-)",null,null,null,null,null,null,null,null,null,null,null,null,null,null,null,null,null,null,null,null,null,null,null,null,null,"Īpatnējās inv.",null,null,null,null,null,null,null,null,null,null,null,null,"Darba stundu sk.",null,null,null,null,null,null,null,null,null,null,null,null,"Darba slodzes",null,null,null,null,null,null,null,null,null,null,null,null,"Ekspluatācijas un pārējās darbības izmaksas",null,null,null,null,null,null,null,null,null,null,null,null,"k koeficients",null,null,null,null,null,null,null,null,null,null,null,null,"Dabasgāzes patēriņa grupa",null,null,null,null,null,null,null,null,null,null,null,null,null,null,null,null,null,null,null,null,null,null,null,null,null,null,null,null,null,null,null,null,null,null,null,null,null,null,null,null,null,null,null,null,null,null,null,null,null,null,null,null,null,null,null,null,null,null,null,null,null,null,null,null,null,null,null,null,null,null,null,null,null,null,null,null,null,null,null,null,null,null,null,null,null,null,null,null,null,null,null,null,null,null,null,null,null,null,null,null,null,null,null,null,null,null,null,null,null,null,null,null,null,null,null,null,null,null,null,null,null,null,null,null,null,null,null,null,null,null,null,null,null,null,null,null,null,null,null,null,null,null,null,null,null,null,null,null,null,null,null,null,null,null,null,null,null,null,null,null,null,null,null,null,null,null,null,null,null,null,null,null,null,null,null,null,null,null,null,null,null,null,null,null,null,null,null,null,null,null,null,null,null,null,null,null,null,null,null,null,null,null,null,null,null,null,null,null,null,null,null,null,null,null,null,null,null,null,null,null,null,null,null,null,null,null,null,null,null,null,null,null,null,null,null,null,null,null,null,null,null,null,null,null,null,null,null,null,null,null,null,null,null,null,null,null,null,null,null,null,null,null,null,null,null,null,null,null,null,null,null,null,{"$f":"IF($C$4=262,20,10)","v":20}]
["Atbalsta perioda sākums (gads un mēnesis)",{"$f":"IF(Datu_ievade!$C$4=Datu_ievade!$J$3,Datu_ievade!$C$10,0)","v":0},{"$f":"IF(Datu_ievade!$C$4=Datu_ievade!$J$3,Datu_ievade!$D$10,0)","v":0},null,null,null,null,null,null,null,null,null,null,null,null,null,"1-10.gads",null,null,null,null,null,null,null,null,null,null,null,null,"11.-20.gads",null,null,null,null,null,null,null,null,null,null,null,null,"EUR/kWe",null,null,null,null,null,null,null,null,null,null,null,null,"h",null,null,null,null,null,null,null,null,null,null,null,null,"sk.",null,null,null,null,null,null,null,null,null,null,null,null,"%",null,null,null,null,null,null,null,null,null,null,null,null,null,null,null,null,null,null,null,null,null,null,null,null,null,null,null,null,null,null,null,null,null,null,null,null,null,null,null,null,null,null,null,null,null,null,null,null,null,null,null,null,null,null,null,null,null,null,null,null,null,null,null,null,null,null,null,null,null,null,null,null,null,null,null,null,null,null,null,null,null,null,null,null,null,null,null,null,null,null,null,null,null,null,null,null,null,null,null,null,null,null,null,null,null,null,null,null,null,null,null,null,null,null,null,null,null,null,null,null,null,null,null,null,null,null,null,null,null,null,null,null,null,null,null,null,null,null,null,null,null,null,null,null,null,null,null,null,null,null,null,null,null,null,null,null,null,null,null,null,null,null,null,null,null,null,null,null,null,null,null,null,null,null,null,null,null,null,null,null,null,null,null,null,null,null,null,null,null,null,null,null,null,null,null,null,null,null,null,null,null,null,null,null,null,null,null,null,null,null,null,null,null,null,null,null,null,null,null,null,null,null,null,null,null,null,null,null,null,null,null,null,null,null,null,null,null,null,null,null,null,null,null,null,null,null,null,null,null,null,null,null,null,null,null,null,null,null,null,null,null,null,null,null,null,null,null,null,null,null,null,null,null,null,null,null,null,null,null,null,null,null,null,null,null,null,null,null,null,null,null,null,null,null,null,null,null,null,11]
["Atbalsta perioda beigas (gads un mēnesis)",{"$f":"IF(Datu_ievade!$C$4=Datu_ievade!$J$3,Datu_ievade!$C$12,0)","v":20},{"$f":"IF(Datu_ievade!$C$4=Datu_ievade!$J$3,Datu_ievade!$D$12,0)","v":-1},null,null,null,null,null,null,null,null,null,null,null,null,null,{"$f":"IF($C$7<=4,$AQ$65,$AQ$67)","v":4.5},null,null,null,null,null,null,null,null,null,null,null,null,{"$f":"IF($C$7<=4,$BD$65,$BD$67)","v":3.4},null,null,null,null,null,null,null,null,null,null,null,null,{"$f":"IF($C$7<=$B$65,$D$65,IF(AND($C$7>$A$66,$C$7<=$B$66),$D$66,$D$67))","v":4500},{"$f":"IF($C$7<=$B$65,$C$65,IF(AND($C$7>$A$66,$C$7<=$B$66),$C$66,$C$67))","v":5500},5500,5500,5500,5500,5500,5500,5500,5500,5500,5500,5500,5500,null,null,null,null,null,null,null,null,null,null,null,null,{"$f":"IF($C$7<=$B$65,$Q$65,IF(AND($C$7>$A$66,$C$7<=$B$66),$Q$66,$Q$67))","v":3},null,null,null,null,null,null,null,null,null,null,null,null,{"$f":"IF($C$7<=$B$65,$AD$65,IF(AND($C$7>$A$66,$C$7<=$B$66),$AD$66,$AD$67))","v":0.04},null,null,null,null,null,null,null,null,null,null,null,null,{"$f":"VLOOKUP(C7,k_koef!A1:B16934,2,FALSE)","v":1.24},null,null,null,null,null,null,null,null,null,null,null,null,{"$f":"IF($NQ$4=10,IF($C$7<=0.08,Kurināmais!D2,IF(AND($C$7>0.08,$C$7<=1),Kurināmais!E2,IF(AND($C$7>1,$C$7<=4),Kurināmais!F2,Kurināmais!G2))),Kurināmais!E2)","v":4},null,null,null,null,null,null,null,null,null,null,null,null,null,null,null,null,null,null,null,null,null,null,null,null,null,null,null,null,null,null,null,null,null,null,null,null,null,null,null,null,null,null,null,null,null,null,null,null,null,null,null,null,null,null,null,null,null,null,null,null,null,null,null,null,null,null,null,null,null,null,null,null,null,null,null,null,null,null,null,null,null,null,null,null,null,null,null,null,null,null,null,null,null,null,null,null,null,null,null,null,null,null,null,null,null,null,null,null,null,null,null,null,null,null,null,null,null,null,null,null,null,null,null,null,null,null,null,null,null,null,null,null,null,null,null,null,null,null,null,null,null,null,null,null,null,null,null,null,null,null,null,null,null,null,null,null,null,null,null,null,null,null,null,null,null,null,null,null,null,null,null,null,null,null,null,null,null,null,null,null,null,null,null,null,null,null,null,null,null,null,null,null,null,null,null,null,null,null,null,null,null,null,null,null,null,null,null,null,null,null,null,null,null,null,null,null,null,null,null,null,null,null,null,null,null,null,null,null,null,null,null,null,null,null,null,null,null,null,null,null,null,null,null,null,null,null,null,null,null,null,null,null,null,null,null,null,null,null,null,null,null,null,null,null,null,null,null,null,null,null,null,null,{"$f":"NQ4+1","v":21},"Pēdējā gada aprēķins (20 vai 21 atkarībā no kura mēneša sākās stacijas OI iepirkums)"]
["Līgumā ar publisko tirgotāju norādītā stacijas uzstādītā elektriskā jauda (MW)","MW",{"$f":"IF(Datu_ievade!$C$4=Datu_ievade!$J$3,Datu_ievade!$C$5,0)","v":0}]
["Investīcijas kopā","EUR",{"$f":"$C$7*$AQ$6*1000","v":0},null,null,null,null,null,null,null,null,null,null,null,null,null,null,null,null,null,null,null,null,null,null,null,null,null,null,null,null,null,null,null,null,null,null,null,null,null,null,null,null,null,null,null,null,null,null,null,null,null,null,null,null,null,null,null,null,null,null,null,null,null,null,null,null,null,null,null,null,null,null,null,null,null,null,null,null,null,null,null,null,null,null,null,null,null,null,null,null,null,null,null,null,null,null,null,null,null,null,null,null,null,null,null,null,null,null,null,null,null,null,null,null,null,null,null,null,null,null,null,null,null,null,null,null,null,null,null,null,null,null,null,null,null,null,null,null,null,null,null,null,null,null,null,null,null,null,null,null,null,null,null,null,null,null,null,null,null,null,null,null,null,null,null,null,null,null,null,null,null,null,null,null,null,null,null,null,null,null,null,null,null,null,null,null,null,null,null,null,null,null,null,null,null,null,null,null,null,null,null,null,null,null,null,null,null,null,null,null,null,null,null,null,null,null,null,null,null,null,null,null,null,null,null,null,null,null,null,null,null,null,null,null,null,null,null,null,null,null,null,null,null,null,null,null,null,null,null,null,null,null,null,null,null,null,null,null,null,null,null,null,null,null,null,null,null,null,null,null,null,null,null,null,null,null,null,null,null,null,null,null,null,null,null,null,null,null,null,null,null,null,null,null,null,null,null,null,null,null,null,null,null,null,null,null,null,null,null,null,null,null,null,null,null,null,null,null,null,null,null,null,null,null,null,null,null,null,null,null,null,null,null,null,null,null,null,null,null,null,null,null,null,null,null,null,null,null,null,null,null,null,null,null,null,null,null,null,null,null,null,null,null,null,null,null,null,null,null,null,null,null,null,null,null,null,null,null,null,{"$f":"DD6+1","v":5},"Dabasgāzes grupai atbilstošā kollona \"Kurināmā\" sheetā"]
["Investīcijas pieslēgumam AST","EUR",{"$f":"IF(Datu_ievade!$C$4=Datu_ievade!$J$3,Datu_ievade!$C$14,0)","v":0}]
["Subsīdijas no fondiem","EUR",{"$f":"IF(Datu_ievade!$C$4=Datu_ievade!$J$3,Datu_ievade!$C$31,0)","v":0}]
["Uzstādītā siltumenerģijas jauda (neto)","MW",{"$f":"IF(Datu_ievade!$C$4=Datu_ievade!$J$3,Datu_ievade!$C$6,0)*0.97","v":0}]
["Stacijas kopējais lietderības koeficients","%",0.75,null,null,null,null,null,null,null,null,null,null,null,null,null,null,null,null,null,null,null,null,null,null,null,null,null,null,null,null,null,null,null,null,null,null,null,null,null,null,null,null,null,null,null,null,null,null,null,null,null,null,null,null,null,null,null,null,null,null,null,null,null,null,null,null,null,null,null,null,null,null,null,null,null,null,null,null,null,null,null,null,null,null,null,null,null,null,null,null,null,null,null,null,null,null,null,null,null,null,null,null,null,null,null,null,null,null,null,null,null,null,null,null,null,null,null,null,null,null,null,null,null,null,null,null,null,null,null,null,null,null,null,null,null,null,null,null,null,null,null,null,null,null,null,null,null,null,null,null,null,null,null,null,null,null,null,null,null,null,null,null,null,null,null,null,null,null,null,null,null,null,null,null,null,null,null,null,null,null,null,null,null,null,null,null,null,null,null,null,null,null,null,null,null,null,null,null,null,null,null,null,null,null,null,null,null,null,null,null,null,null,null,null,null,null,null,null,null,null,null,null,null,null,null,null,null,null,null,null,null,null,null,null,null,null,null,null,null,null,null,null,null,null,null,null,null,null,null,null,null,null,null,null,null,null,null,null,null,null,null,null,{"$f":"IF(JD11-$B$5<-1,\" \",IF(JD11-$B$5=-1,0,IF(IQ12<$NQ$4,IQ12+1,IF(IQ12=$NQ$4,21,\" \"))))","v":1}]
[null,null,null,null,null,null,null,null,null,null,null,null,null,null,null,null,null,null,null,null,null,null,null,null,null,null,null,null,null,null,null,null,null,null,null,null,null,null,null,null,null,null,null,null,null,null,null,null,null,null,null,null,null,null,null,null,null,null,null,null,null,null,null,null,null,null,null,null,null,null,null,null,null,null,null,null,null,null,null,null,null,null,null,null,null,null,null,null,null,null,null,null,null,null,null,null,null,null,null,null,null,null,null,null,null,null,null,null,null,null,null,null,null,null,null,null,null,null,null,null,null,null,null,null,null,null,null,null,null,null,null,null,null,null,null,null,null,null,null,null,null,null,null,null,null,null,null,null,null,null,null,null,null,null,null,null,null,null,null,null,null,null,null,null,null,null,null,null,null,null,null,null,null,null,null,null,null,null,null,null,null,null,null,null,null,null,null,null,null,null,null,null,null,null,null,null,null,null,null,null,null,null,null,null,null,null,null,null,null,null,null,null,null,null,null,null,null,null,null,null,null,null,null,null,null,null,null,null,null,null,null,null,null,null,null,null,null,null,null,null,null,null,null,null,null,null,null,null,null,null,null,null,null,null,null,null,null,null,null,null,null,null,null,null,null,null,null,null,null,null,null,null,null,null,null,null,{"$f":"IF(JQ15-$B$5<-1,\" \",IF(JQ15-$B$5=-1,0,IF(AND(JQ15>=$B$5,JQ15<$B$6),JD13+1,IF(JQ15=$B$6,IF($C$6=12,20,IF($C$6<20,21,\" \")),\" \"))))","v":" "}]
["IRR aprēķins (pirms pārkompensācijas koeficienta)"]
["Gads",null,2006,{"$f":"C15+1","v":2007},2007,2007,2007,2007,2007,2007,2007,2007,2007,2007,2007,2007,{"$f":"D15+1","v":2008},2008,2008,2008,2008,2008,2008,2008,2008,2008,2008,2008,2008,{"$f":"Q15+1","v":2009},2009,2009,2009,2009,2009,2009,2009,2009,2009,2009,2009,2009,{"$f":"AD15+1","v":2010},2010,2010,2010,2010,2010,2010,2010,2010,2010,2010,2010,2010,{"$f":"AQ15+1","v":2011},2011,2011,2011,2011,2011,2011,2011,2011,2011,2011,2011,2011,2012,2012,2012,2012,2012,2012,2012,2012,2012,2012,2012,2012,2012,2013,2013,2013,2013,2013,2013,2013,2013,2013,2013,2013,2013,2013,2014,2014,2014,2014,2014,2014,2014,2014,2014,2014,2014,2014,2014,2015,2015,2015,2015,2015,2015,2015,2015,2015,2015,2015,2015,2015,2016,2016,2016,2016,2016,2016,2016,2016,2016,2016,2016,2016,2016,2017,2017,2017,2017,2017,2017,2017,2017,2017,2017,2017,2017,2017,2018,2018,2018,2018,2018,2018,2018,2018,2018,2018,2018,2018,2018,2019,2019,2019,2019,2019,2019,2019,2019,2019,2019,2019,2019,2019,2020,2020,2020,2020,2020,2020,2020,2020,2020,2020,2020,2020,2020,2021,2021,2021,2021,2021,2021,2021,2021,2021,2021,2021,2021,2021,2022,2022,2022,2022,2022,2022,2022,2022,2022,2022,2022,2022,2022,2023,2023,2023,2023,2023,2023,2023,2023,2023,2023,2023,2023,2023,2024,2024,2024,2024,2024,2024,2024,2024,2024,2024,2024,2024,2024,2025,2025,2025,2025,2025,2025,2025,2025,2025,2025,2025,2025,2025,2026,2026,2026,2026,2026,2026,2026,2026,2026,2026,2026,2026,2026,2027,2027,2027,2027,2027,2027,2027,2027,2027,2027,2027,2027,2027,2028,2028,2028,2028,2028,2028,2028,2028,2028,2028,2028,2028,2028,2029,2029,2029,2029,2029,2029,2029,2029,2029,2029,2029,2029,2029,2030,2030,2030,2030,2030,2030,2030,2030,2030,2030,2030,2030,2030,2031,2031,2031,2031,2031,2031,2031,2031,2031,2031,2031,2031,2031,2032,2032,2032,2032,2032,2032,2032,2032,2032,2032,2032,2032,2032,2033,2033,2033,2033,2033,2033,2033,2033,2033,2033,2033,2033,2033,2034,2034,2034,2034,2034,2034,2034,2034,2034,2034,2034,2034,2034,2035,2035,2035,2035,2035,2035,2035,2035,2035,2035,2035,2035,2035]
["Projekta gads",null,{"$f":"IF(C15-$B$5<-1,\" \",IF(C15-$B$5=-1,0,IF(AND(C15>=$B$5,C15<$B$6),#REF!+1,IF(C15=$B$6,IF($C$6=12,$NQ$4,IF($C$6<12,$NQ$6,\" \")),\" \"))))","v":" "},{"$f":"IF(D15-$B$5<-1,\" \",IF(D15-$B$5=-1,0,IF(AND(D15>=$B$5,D15<$B$6),C16+1,IF(D15=$B$6,IF($C$6=12,$NQ$4,IF($C$6<12,$NQ$6,\" \")),\" \"))))","v":" "},{"$f":"D16","v":" "},{"$f":"E16","v":" "}," "," "," "," "," "," "," "," "," "," ",{"$f":"IF(Q15-$B$5<-1,\" \",IF(Q15-$B$5=-1,0,IF(AND(Q15>=$B$5,Q15<$B$6),D16+1,IF(Q15=$B$6,IF($C$6=12,$NQ$4,IF($C$6<12,$NQ$6,\" \")),\" \"))))","v":" "},{"$f":"Q16","v":" "},{"$f":"R16","v":" "}," "," "," "," "," "," "," "," "," "," ",{"$f":"IF(AD15-$B$5<-1,\" \",IF(AD15-$B$5=-1,0,IF(AND(AD15>=$B$5,AD15<$B$6),Q16+1,IF(AD15=$B$6,IF($C$6=12,$NQ$4,IF($C$6<12,$NQ$6,\" \")),\" \"))))","v":" "},{"$f":"AD16","v":" "},{"$f":"AE16","v":" "}," "," "," "," "," "," "," "," "," "," ",{"$f":"IF(AQ15-$B$5<-1,\" \",IF(AQ15-$B$5=-1,0,IF(AND(AQ15>=$B$5,AQ15<$B$6),AD16+1,IF(AQ15=$B$6,IF($C$6=12,$NQ$4,IF($C$6<12,$NQ$6,\" \")),\" \"))))","v":" "},{"$f":"$AQ$16","v":" "},{"$f":"$AQ$16","v":" "}," "," "," "," "," "," "," "," "," "," ",{"$f":"IF(BD15-$B$5<-1,\" \",IF(BD15-$B$5=-1,0,IF(AND(BD15>=$B$5,BD15<$B$6),AQ16+1,IF(BD15=$B$6,IF($C$6=12,$NQ$4,IF($C$6<12,$NQ$6,\" \")),\" \"))))","v":" "},{"$f":"$BD$16","v":" "},{"$f":"$BD$16","v":" "}," "," "," "," "," "," "," "," "," "," ",{"$f":"IF(BQ15-$B$5<-1,\" \",IF(BQ15-$B$5=-1,0,IF(AND(BQ15>=$B$5,BQ15<$B$6),BD16+1,IF(BQ15=$B$6,IF($C$6=12,$NQ$4,IF($C$6<12,$NQ$6,\" \")),\" \"))))","v":" "},{"$f":"$BQ$16","v":" "},{"$f":"$BQ$16","v":" "}," "," "," "," "," "," "," "," "," "," ",{"$f":"IF(CD15-$B$5<-1,\" \",IF(CD15-$B$5=-1,0,IF(AND(CD15>=$B$5,CD15<$B$6),BQ16+1,IF(CD15=$B$6,IF($C$6=12,$NQ$4,IF($C$6<12,$NQ$6,\" \")),\" \"))))","v":" "},{"$f":"$CD$16","v":" "},{"$f":"$CD$16","v":" "}," "," "," "," "," "," "," "," "," "," ",{"$f":"IF(CQ15-$B$5<-1,\" \",IF(CQ15-$B$5=-1,0,IF(AND(CQ15>=$B$5,CQ15<$B$6),CD16+1,IF(CQ15=$B$6,IF($C$6=12,$NQ$4,IF($C$6<12,$NQ$6,\" \")),\" \"))))","v":" "},{"$f":"$CQ$16","v":" "},{"$f":"$CQ$16","v":" "}," "," "," "," "," "," "," "," "," "," ",{"$f":"IF(DD15-$B$5<-1,\" \",IF(DD15-$B$5=-1,0,IF(AND(DD15>=$B$5,DD15<$B$6),CQ16+1,IF(DD15=$B$6,IF($C$6=12,$NQ$4,IF($C$6<12,$NQ$6,\" \")),\" \"))))","v":" "},{"$f":"$DD$16","v":" "},{"$f":"$DD$16","v":" "}," "," "," "," "," "," "," "," "," "," ",{"$f":"IF(DQ15-$B$5<-1,\" \",IF(DQ15-$B$5=-1,0,IF(AND(DQ15>=$B$5,DQ15<$B$6),DD16+1,IF(DQ15=$B$6,IF($C$6=12,$NQ$4,IF($C$6<12,$NQ$6,\" \")),\" \"))))","v":" "},{"$f":"$DQ$16","v":" "},{"$f":"$DQ$16","v":" "}," "," "," "," "," "," "," "," "," "," ",{"$f":"IF(ED15-$B$5<-1,\" \",IF(ED15-$B$5=-1,0,IF(AND(ED15>=$B$5,ED15<$B$6),DQ16+1,IF(ED15=$B$6,IF($C$6=12,$NQ$4,IF($C$6<12,$NQ$6,\" \")),\" \"))))","v":" "},{"$f":"$ED$16","v":" "},{"$f":"$ED$16","v":" "}," "," "," "," "," "," "," "," "," "," ",{"$f":"IF(EQ15-$B$5<-1,\" \",IF(EQ15-$B$5=-1,0,IF(AND(EQ15>=$B$5,EQ15<$B$6),ED16+1,IF(EQ15=$B$6,IF($C$6=12,$NQ$4,IF($C$6<12,$NQ$6,\" \")),\" \"))))","v":" "},{"$f":"$EQ$16","v":" "},{"$f":"$EQ$16","v":" "}," "," "," "," "," "," "," "," "," "," ",{"$f":"IF(FD15-$B$5<-1,\" \",IF(FD15-$B$5=-1,0,IF(AND(FD15>=$B$5,FD15<$B$6),EQ16+1,IF(FD15=$B$6,IF($C$6=12,$NQ$4,IF($C$6<12,$NQ$6,\" \")),\" \"))))","v":" "},{"$f":"$FD$16","v":" "},{"$f":"$FD$16","v":" "}," "," "," "," "," "," "," "," "," "," ",{"$f":"IF(FQ15-$B$5<-1,\" \",IF(FQ15-$B$5=-1,0,IF(AND(FQ15>=$B$5,FQ15<$B$6),FD16+1,IF(FQ15=$B$6,IF($C$6=12,$NQ$4,IF($C$6<12,$NQ$6,\" \")),\" \"))))","v":" "},{"$f":"$FQ$16","v":" "},{"$f":"$FQ$16","v":" "}," "," "," "," "," "," "," "," "," "," ",{"$f":"IF(GD15-$B$5<-1,\" \",IF(GD15-$B$5=-1,0,IF(AND(GD15>=$B$5,GD15<$B$6),FQ16+1,IF(GD15=$B$6,IF($C$6=12,$NQ$4,IF($C$6<12,$NQ$6,\" \")),\" \"))))","v":" "},{"$f":"$GD$16","v":" "},{"$f":"$GD$16","v":" "}," "," "," "," "," "," "," "," "," "," ",{"$f":"IF(GQ15-$B$5<-1,\" \",IF(GQ15-$B$5=-1,0,IF(AND(GQ15>=$B$5,GQ15<$B$6),GD16+1,IF(GQ15=$B$6,IF($C$6=12,$NQ$4,IF($C$6<12,$NQ$6,\" \")),\" \"))))","v":" "},{"$f":"$GQ$16","v":" "},{"$f":"$GQ$16","v":" "}," "," "," "," "," "," "," "," "," "," ",{"$f":"IF(HD15-$B$5<-1,\" \",IF(HD15-$B$5=-1,0,IF(AND(HD15>=$B$5,HD15<$B$6),GQ16+1,IF(HD15=$B$6,IF($C$6=12,$NQ$4,IF($C$6<12,$NQ$6,\" \")),\" \"))))","v":" "},{"$f":"HD16","v":" "},{"$f":"HE16","v":" "}," "," "," "," "," "," "," "," "," "," ",{"$f":"IF(HQ15-$B$5<-1,\" \",IF(HQ15-$B$5=-1,0,IF(AND(HQ15>=$B$5,HQ15<$B$6),HD16+1,IF(HQ15=$B$6,IF($C$6=12,$NQ$4,IF($C$6<12,$NQ$6,\" \")),\" \"))))","v":" "},{"$f":"$HQ$16","v":" "},{"$f":"$HQ$16","v":" "}," "," "," "," "," "," "," "," "," "," ",{"$f":"IF(ID15-$B$5<-1,\" \",IF(ID15-$B$5=-1,0,IF(AND(ID15>=$B$5,ID15<$B$6),HQ16+1,IF(ID15=$B$6,IF($C$6=12,$NQ$4,IF($C$6<12,$NQ$6,\" \")),\" \"))))","v":" "},{"$f":"$ID$16","v":" "},{"$f":"$ID$16","v":" "}," "," "," "," "," "," "," "," "," "," ",{"$f":"IF(IQ15-$B$5<-1,\" \",IF(IQ15-$B$5=-1,0,IF(AND(IQ15>=$B$5,IQ15<$B$6),ID16+1,IF(IQ15=$B$6,IF($C$6=12,$NQ$4,IF($C$6<12,$NQ$6,\" \")),\" \"))))","v":" "},{"$f":"$IQ$16","v":" "},{"$f":"$IQ$16","v":" "}," "," "," "," "," "," "," "," "," "," ",{"$f":"IF(JD15-$B$5<-1,\" \",IF(JD15-$B$5=-1,0,IF(AND(JD15>=$B$5,JD15<$B$6),IQ16+1,IF(JD15=$B$6,IF($C$6=12,$NQ$4,IF($C$6<12,$NQ$6,\" \")),\" \"))))","v":" "},{"$f":"$JD$16","v":" "},{"$f":"$JD$16","v":" "}," "," "," "," "," "," "," "," "," "," ",{"$f":"IF(JQ15-$B$5<-1,\" \",IF(JQ15-$B$5=-1,0,IF(AND(JQ15>=$B$5,JQ15<$B$6),JD16+1,IF(JQ15=$B$6,IF($C$6=12,$NQ$4,IF($C$6<12,$NQ$6,\" \")),\" \"))))","v":" "},{"$f":"JQ16","v":" "},{"$f":"JR16","v":" "}," "," "," "," "," "," "," "," "," "," ",{"$f":"IF(KD15-$B$5<-1,\" \",IF(KD15-$B$5=-1,0,IF(AND(KD15>=$B$5,KD15<$B$6),JQ16+1,IF(KD15=$B$6,IF($C$6=12,$NQ$4,IF($C$6<12,$NQ$6,\" \")),\" \"))))","v":" "},{"$f":"KD16","v":" "},{"$f":"KE16","v":" "}," "," "," "," "," "," "," "," "," "," ",{"$f":"IF(KQ15-$B$5<-1,\" \",IF(KQ15-$B$5=-1,0,IF(AND(KQ15>=$B$5,KQ15<$B$6),KD16+1,IF(KQ15=$B$6,IF($C$6=12,$NQ$4,IF($C$6<12,$NQ$6,\" \")),\" \"))))","v":" "},{"$f":"$KQ$16","v":" "},{"$f":"$KQ$16","v":" "}," "," "," "," "," "," "," "," "," "," ",{"$f":"IF(LD15-$B$5<-1,\" \",IF(LD15-$B$5=-1,0,IF(AND(LD15>=$B$5,LD15<$B$6),KQ16+1,IF(LD15=$B$6,IF($C$6=12,$NQ$4,IF($C$6<12,$NQ$6,\" \")),\" \"))))","v":" "},{"$f":"LD16","v":" "},{"$f":"LE16","v":" "}," "," "," "," "," "," "," "," "," "," ",{"$f":"IF(LQ15-$B$5<-1,\" \",IF(LQ15-$B$5=-1,0,IF(AND(LQ15>=$B$5,LQ15<$B$6),LD16+1,IF(LQ15=$B$6,IF($C$6=12,$NQ$4,IF($C$6<12,$NQ$6,\" \")),\" \"))))","v":" "},{"$f":"LQ16","v":" "},{"$f":"LR16","v":" "}," "," "," "," "," "," "," "," "," "," ",{"$f":"IF(MD15-$B$5<-1,\" \",IF(MD15-$B$5=-1,0,IF(AND(MD15>=$B$5,MD15<$B$6),LQ16+1,IF(MD15=$B$6,IF($C$6=12,$NQ$4,IF($C$6<12,$NQ$6,\" \")),\" \"))))","v":" "},{"$f":"MD16","v":" "},{"$f":"ME16","v":" "}," "," "," "," "," "," "," "," "," "," ",{"$f":"IF(MQ15-$B$5<-1,\" \",IF(MQ15-$B$5=-1,0,IF(AND(MQ15>=$B$5,MQ15<$B$6),MD16+1,IF(MQ15=$B$6,IF($C$6=12,$NQ$4,IF($C$6<12,$NQ$6,\" \")),\" \"))))","v":" "},{"$f":"MQ16","v":" "},{"$f":"MR16","v":" "}," "," "," "," "," "," "," "," "," "," ",{"$f":"IF(ND15-$B$5<-1,\" \",IF(ND15-$B$5=-1,0,IF(AND(ND15>=$B$5,ND15<$B$6),MQ16+1,IF(ND15=$B$6,IF($C$6=12,$NQ$4,IF($C$6<12,$NQ$6,\" \")),\" \"))))","v":" "},{"$f":"ND16","v":" "},{"$f":"NE16","v":" "}," "," "," "," "," "," "," "," "," "," "]
["Mēnesis",null,{"$f":"IF(C16=1,0,\" \")","v":" "},{"$f":"IF(Q16=1,0,\" \")","v":" "},1,2,3,4,5,6,7,8,9,10,11,12,null,1,2,3,4,5,6,7,8,9,10,11,12,null,1,2,3,4,5,6,7,8,9,10,11,12,null,1,2,3,4,5,6,7,8,9,10,11,12,null,1,2,3,4,5,6,7,8,9,10,11,12,null,1,2,3,4,5,6,7,8,9,10,11,12,null,1,2,3,4,5,6,7,8,9,10,11,12,null,1,2,3,4,5,6,7,8,9,10,11,12,null,1,2,3,4,5,6,7,8,9,10,11,12,null,1,2,3,4,5,6,7,8,9,10,11,12,null,1,2,3,4,5,6,7,8,9,10,11,12,null,1,2,3,4,5,6,7,8,9,10,11,12,null,1,2,3,4,5,6,7,8,9,10,11,12,null,1,2,3,4,5,6,7,8,9,10,11,12,null,1,2,3,4,5,6,7,8,9,10,11,12,null,1,2,3,4,5,6,7,8,9,10,11,12,null,1,2,3,4,5,6,7,8,9,10,11,12,null,1,2,3,4,5,6,7,8,9,10,11,12,null,1,2,3,4,5,6,7,8,9,10,11,12,null,1,2,3,4,5,6,7,8,9,10,11,12,null,1,2,3,4,5,6,7,8,9,10,11,12,null,1,2,3,4,5,6,7,8,9,10,11,12,null,1,2,3,4,5,6,7,8,9,10,11,12,null,1,2,3,4,5,6,7,8,9,10,11,12,null,1,2,3,4,5,6,7,8,9,10,11,12,null,1,2,3,4,5,6,7,8,9,10,11,12,null,1,2,3,4,5,6,7,8,9,10,11,12,null,1,2,3,4,5,6,7,8,9,10,11,12,null,1,2,3,4,5,6,7,8,9,10,11,12]
[null,null,null,null,{"$f":"$D$15&E17","v":"20071"},{"$f":"$D$15&F17","v":"20072"},"20073","20074","20075","20076","20077","20078","20079","200710","200711","200712",null,{"$f":"$Q$15&R17","v":"20081"},{"$f":"$Q$15&S17","v":"20082"},"20083","20084","20085","20086","20087","20088","20089","200810","200811","200812",null,{"$f":"$AD$15&AE17","v":"20091"},{"$f":"$AD$15&AF17","v":"20092"},"20093","20094","20095","20096","20097","20098","20099","200910","200911","200912",null,{"$f":"$AQ$15&AR17","v":"20101"},{"$f":"$AQ$15&AS17","v":"20102"},"20103","20104","20105","20106","20107","20108","20109","201010","201011","201012",null,{"$f":"$BD$15&BE17","v":"20111"},{"$f":"$BD$15&BF17","v":"20112"},"20113","20114","20115","20116","20117","20118","20119","201110","201111","201112",null,{"$f":"$BQ$15&BR17","v":"20121"},{"$f":"$BQ$15&BS17","v":"20122"},"20123","20124","20125","20126","20127","20128","20129","201210","201211","201212",null,{"$f":"$CD$15&CE17","v":"20131"},{"$f":"$CD$15&CF17","v":"20132"},"20133","20134","20135","20136","20137","20138","20139","201310","201311","201312",null,{"$f":"$CQ$15&CR17","v":"20141"},{"$f":"$CQ$15&CS17","v":"20142"},"20143","20144","20145","20146","20147","20148","20149","201410","201411","201412",null,{"$f":"$DD$15&DE17","v":"20151"},{"$f":"$DD$15&DF17","v":"20152"},"20153","20154","20155","20156","20157","20158","20159","201510","201511","201512",null,{"$f":"$DQ$15&DR17","v":"20161"},{"$f":"$DQ$15&DS17","v":"20162"},"20163","20164","20165","20166","20167","20168","20169","201610","201611","201612",null,{"$f":"$ED$15&EE17","v":"20171"},{"$f":"$ED$15&EF17","v":"20172"},"20173","20174","20175","20176","20177","20178","20179","201710","201711","201712",null,{"$f":"$EQ$15&ER17","v":"20181"},{"$f":"$EQ$15&ES17","v":"20182"},"20183","20184","20185","20186","20187","20188","20189","201810","201811","201812",null,{"$f":"$FD$15&FE17","v":"20191"},{"$f":"$FD$15&FF17","v":"20192"},"20193","20194","20195","20196","20197","20198","20199","201910","201911","201912",null,{"$f":"$FQ$15&FR17","v":"20201"},{"$f":"$FQ$15&FS17","v":"20202"},"20203","20204","20205","20206","20207","20208","20209","202010","202011","202012",null,{"$f":"$GD$15&GE17","v":"20211"},{"$f":"$GD$15&GF17","v":"20212"},"20213","20214","20215","20216","20217","20218","20219","202110","202111","202112",null,{"$f":"$GQ$15&GR17","v":"20221"},{"$f":"$GQ$15&GS17","v":"20222"},"20223","20224","20225","20226","20227","20228","20229","202210","202211","202212",null,{"$f":"$HD$15&HE17","v":"20231"},{"$f":"$HD$15&HF17","v":"20232"},"20233","20234","20235","20236","20237","20238","20239","202310","202311","202312",null,{"$f":"$HQ$15&HR17","v":"20241"},{"$f":"$HQ$15&HS17","v":"20242"},"20243","20244","20245","20246","20247","20248","20249","202410","202411","202412",null,{"$f":"$ID$15&IE17","v":"20251"},{"$f":"$ID$15&IF17","v":"20252"},"20253","20254","20255","20256","20257","20258","20259","202510","202511","202512",null,{"$f":"$IQ$15&IR17","v":"20261"},{"$f":"$IQ$15&IS17","v":"20262"},"20263","20264","20265","20266","20267","20268","20269","202610","202611","202612",null,{"$f":"$JD$15&JE17","v":"20271"},{"$f":"$JD$15&JF17","v":"20272"},"20273","20274","20275","20276","20277","20278","20279","202710","202711","202712",null,{"$f":"$JQ$15&JR17","v":"20281"},{"$f":"$JQ$15&JS17","v":"20282"},"20283","20284","20285","20286","20287","20288","20289","202810","202811","202812",null,{"$f":"$KD$15&KE17","v":"20291"},{"$f":"$KD$15&KF17","v":"20292"},"20293","20294","20295","20296","20297","20298","20299","202910","202911","202912",null,{"$f":"$KQ$15&KR17","v":"20301"},{"$f":"$KQ$15&KS17","v":"20302"},"20303","20304","20305","20306","20307","20308","20309","203010","203011","203012",null,{"$f":"$LD$15&LE17","v":"20311"},{"$f":"$LD$15&LF17","v":"20312"},"20313","20314","20315","20316","20317","20318","20319","203110","203111","203112",null,{"$f":"$LQ$15&LR17","v":"20321"},{"$f":"$LQ$15&LS17","v":"20322"},"20323","20324","20325","20326","20327","20328","20329","203210","203211","203212",null,{"$f":"$MD$15&ME17","v":"20331"},{"$f":"$MD$15&MF17","v":"20332"},"20333","20334","20335","20336","20337","20338","20339","203310","203311","203312",null,{"$f":"$MQ$15&MR17","v":"20341"},{"$f":"$MQ$15&MS17","v":"20342"},"20343","20344","20345","20346","20347","20348","20349","203410","203411","203412",null,{"$f":"$ND$15&NE17","v":"20351"},{"$f":"$ND$15&NF17","v":"20352"},"20353","20354","20355","20356","20357","20358","20359","203510","203511","203512"]
["Ieņēmumi kopā",null,null,{"$f":"IF(D22=\" \",\" \",SUM(E19:P19))","v":" "},{"$f":"IF(E22=\" \",\" \",(E20*(1-E23)+E24))","v":" "}," "," "," "," "," "," "," "," "," "," "," ",{"$f":"IF(Q22=\" \",\" \",SUM(R19:AC19))","v":" "},{"$f":"IF(R22=\" \",\" \",(R20*(1-R23)+R24))","v":" "}," "," "," "," "," "," "," "," "," "," "," ",{"$f":"IF(AD22=\" \",\" \",SUM(AE19:AP19))","v":" "},{"$f":"IF(AE22=\" \",\" \",(AE20*(1-AE23)+AE24))","v":" "}," "," "," "," "," "," "," "," "," "," "," ",{"$f":"IF(AQ22=\" \",\" \",SUM(AR19:BC19))","v":" "},{"$f":"IF(AR22=\" \",\" \",(AR20*(1-AR23)+AR24))","v":" "}," "," "," "," "," "," "," "," "," "," "," ",{"$f":"IF(BD22=\" \",\" \",SUM(BE19:BP19))","v":" "},{"$f":"IF(BE22=\" \",\" \",(BE20*(1-BE23)+BE24))","v":" "}," "," "," "," "," "," "," "," "," "," "," ",{"$f":"IF(BQ22=\" \",\" \",SUM(BR19:CC19))","v":" "},{"$f":"IF(BR22=\" \",\" \",(BR20*(1-BR23)+BR24))","v":" "}," "," "," "," "," "," "," "," "," "," "," ",{"$f":"IF(CD22=\" \",\" \",(CD20*(1-CD23)))","v":" "},{"$f":"IF(CE22=\" \",\" \",(CE20*(1-CE23)+CE24))","v":" "}," "," "," "," "," "," "," "," "," "," "," ",{"$f":"IF(CQ22=\" \",\" \",SUM(CR19:DC19))","v":" "},{"$f":"IF(CR22=\" \",\" \",(CR20*(1-CR23)+CR24))","v":" "}," "," "," "," "," "," "," "," "," "," "," ",{"$f":"IF(DD22=\" \",\" \",SUM(DE19:DP19))","v":" "},{"$f":"IF(DE22=\" \",\" \",(DE20*(1-DE23)+DE24))","v":" "}," "," "," "," "," "," "," "," "," "," "," ",{"$f":"IF(DQ22=\" \",\" \",SUM(DR19:EC19))","v":" "},{"$f":"IF(DR22=\" \",\" \",(DR20*(1-DR23)+DR24))","v":" "}," "," "," "," "," "," "," "," "," "," "," ",{"$f":"IF(ED22=\" \",\" \",SUM(EE19:EP19))","v":" "},{"$f":"IF(EE22=\" \",\" \",(EE20*(1-EE23)+EE24))","v":" "}," "," "," "," "," "," "," "," "," "," "," ",{"$f":"IF(EQ22=\" \",\" \",SUM(ER19:FC19))","v":" "},{"$f":"IF(ER22=\" \",\" \",(ER20*(1-ER23)+ER24))","v":" "}," "," "," "," "," "," "," "," "," "," "," ",{"$f":"IF(FD22=\" \",\" \",SUM(FE19:FP19))","v":" "},{"$f":"IF(FE22=\" \",\" \",(FE20*(1-FE23)+FE24))","v":" "}," "," "," "," "," "," "," "," "," "," "," ",{"$f":"IF(FQ22=\" \",\" \",SUM(FR19:GC19))","v":" "},{"$f":"IF(FR22=\" \",\" \",(FR20*(1-FR23)+FR24))","v":" "}," "," "," "," "," "," "," "," "," "," "," ",{"$f":"IF(GD22=\" \",\" \",SUM(GE19:GP19))","v":" "},{"$f":"IF(GE22=\" \",\" \",(GE20*(1-GE23)+GE24))","v":" "}," "," "," "," "," "," "," "," "," "," "," ",{"$f":"IF(GQ22=\" \",\" \",SUM(GR19:HC19))","v":" "},{"$f":"IF(GR22=\" \",\" \",(GR20*(1-GR23)+GR24))","v":" "}," "," "," "," "," "," "," "," "," "," "," ",{"$f":"IF(HD22=\" \",\" \",SUM(HE19:HP19))","v":" "},{"$f":"IF(HE22=\" \",\" \",(HE20*(1-HE23)+HE24))","v":" "}," "," "," "," "," "," "," "," "," "," "," ",{"$f":"IF(HQ22=\" \",\" \",SUM(HR19:IC19))","v":" "},{"$f":"IF(HR22=\" \",\" \",(HR20*(1-HR23)+HR24))","v":" "}," "," "," "," "," "," "," "," "," "," "," ",{"$f":"IF(ID22=\" \",\" \",SUM(IE19:IP19))","v":" "},{"$f":"IF(IE22=\" \",\" \",(IE20*(1-IE23)+IE24))","v":" "}," "," "," "," "," "," "," "," "," "," "," ",{"$f":"IF(IQ22=\" \",\" \",SUM(IR19:JC19))","v":" "},{"$f":"IF(IR22=\" \",\" \",(IR20*(1-IR23)+IR24))","v":" "}," "," "," "," "," "," "," "," "," "," "," ",{"$f":"IF(JD22=\" \",\" \",SUM(JE19:JP19))","v":" "},{"$f":"IF(JE22=\" \",\" \",(JE20*(1-JE23)+JE24))","v":" "}," "," "," "," "," "," "," "," "," "," "," ",{"$f":"IF(JQ22=\" \",\" \",(JQ20*(1-JQ23)))","v":" "},{"$f":"IF(JR22=\" \",\" \",(JR20*(1-JR23)+JR24))","v":" "}," "," "," "," "," "," "," "," "," "," "," ",{"$f":"IF(KD22=\" \",\" \",(KD20*(1-KD23)))","v":" "},{"$f":"IF(KE22=\" \",\" \",(KE20*(1-KE23)+KE24))","v":" "}," "," "," "," "," "," "," "," "," "," "," ",{"$f":"IF(KQ22=\" \",\" \",(KQ20*(1-KQ23)))","v":" "},{"$f":"IF(KR22=\" \",\" \",(KR20*(1-KR23)+KR24))","v":" "}," "," "," "," "," "," "," "," "," "," "," ",{"$f":"IF(LD22=\" \",\" \",(LD20*(1-LD23)))","v":" "},{"$f":"IF(LE22=\" \",\" \",(LE20*(1-LE23)+LE24))","v":" "}," "," "," "," "," "," "," "," "," "," "," ",{"$f":"IF(LQ22=\" \",\" \",(LQ20*(1-LQ23)))","v":" "},{"$f":"IF(LR22=\" \",\" \",(LR20*(1-LR23)+LR24))","v":" "}," "," "," "," "," "," "," "," "," "," "," ",{"$f":"IF(MD22=\" \",\" \",(MD20*(1-MD23)))","v":" "},{"$f":"IF(ME22=\" \",\" \",(ME20*(1-ME23)+ME24))","v":" "}," "," "," "," "," "," "," "," "," "," "," ",{"$f":"IF(MQ22=\" \",\" \",(MQ20*(1-MQ23)))","v":" "},{"$f":"IF(MR22=\" \",\" \",(MR20*(1-MR23)+MR24))","v":" "}," "," "," "," "," "," "," "," "," "," "," ",{"$f":"IF(ND22=\" \",\" \",(ND20*(1-ND23)))","v":" "},{"$f":"IF(NE22=\" \",\" \",(NE20*(1-NE23)+NE24))","v":" "}," "," "," "," "," "," "," "," "," "," "," "]
["Ieņēmumi no elektroenerģijas pārdošanas OI ietvaros","EUR"," ",{"$f":"IF(OR(D$16=\" \",D$16=0),\" \",SUM(E20:P20))","v":" "},{"$f":"IF(OR(E22=\" \",E22=0),\" \",E21*ROUND(E22,2))","v":" "},{"$f":"IF(OR(F22=\" \",F22=0),\" \",F21*ROUND(F22,2))","v":" "}," "," "," "," "," "," "," "," "," "," ",{"$f":"IF(OR(Q$16=\" \",Q$16=0),\" \",SUM(R20:AC20))","v":" "},{"$f":"IF(OR(R22=\" \",R22=0),\" \",R21*ROUND(R22,2))","v":" "},{"$f":"IF(OR(S22=\" \",S22=0),\" \",S21*ROUND(S22,2))","v":" "},{"$f":"IF(OR(T22=\" \",T22=0),\" \",T21*ROUND(T22,2))","v":" "},{"$f":"IF(OR(U22=\" \",U22=0),\" \",U21*ROUND(U22,2))","v":" "},{"$f":"IF(OR(V22=\" \",V22=0),\" \",V21*ROUND(V22,2))","v":" "},{"$f":"IF(OR(W22=\" \",W22=0),\" \",W21*ROUND(W22,2))","v":" "},{"$f":"IF(OR(X22=\" \",X22=0),\" \",X21*ROUND(X22,2))","v":" "},{"$f":"IF(OR(Y22=\" \",Y22=0),\" \",Y21*ROUND(Y22,2))","v":" "},{"$f":"IF(OR(Z22=\" \",Z22=0),\" \",Z21*ROUND(Z22,2))","v":" "},{"$f":"IF(OR(AA22=\" \",AA22=0),\" \",AA21*ROUND(AA22,2))","v":" "},{"$f":"IF(OR(AB22=\" \",AB22=0),\" \",AB21*ROUND(AB22,2))","v":" "},{"$f":"IF(OR(AC22=\" \",AC22=0),\" \",AC21*ROUND(AC22,2))","v":" "},{"$f":"IF(OR(AD$16=\" \",AD$16=0),\" \",SUM(AE20:AP20))","v":" "},{"$f":"IF(OR(AE22=\" \",AE22=0),\" \",AE21*ROUND(AE22,2))","v":" "},{"$f":"IF(OR(AF22=\" \",AF22=0),\" \",AF21*ROUND(AF22,2))","v":" "},{"$f":"IF(OR(AG22=\" \",AG22=0),\" \",AG21*ROUND(AG22,2))","v":" "},{"$f":"IF(OR(AH22=\" \",AH22=0),\" \",AH21*ROUND(AH22,2))","v":" "},{"$f":"IF(OR(AI22=\" \",AI22=0),\" \",AI21*ROUND(AI22,2))","v":" "},{"$f":"IF(OR(AJ22=\" \",AJ22=0),\" \",AJ21*ROUND(AJ22,2))","v":" "},{"$f":"IF(OR(AK22=\" \",AK22=0),\" \",AK21*ROUND(AK22,2))","v":" "},{"$f":"IF(OR(AL22=\" \",AL22=0),\" \",AL21*ROUND(AL22,2))","v":" "},{"$f":"IF(OR(AM22=\" \",AM22=0),\" \",AM21*ROUND(AM22,2))","v":" "},{"$f":"IF(OR(AN22=\" \",AN22=0),\" \",AN21*ROUND(AN22,2))","v":" "},{"$f":"IF(OR(AO22=\" \",AO22=0),\" \",AO21*ROUND(AO22,2))","v":" "},{"$f":"IF(OR(AP22=\" \",AP22=0),\" \",AP21*ROUND(AP22,2))","v":" "},{"$f":"IF(OR(AQ$16=\" \",AQ$16=0),\" \",SUM(AR20:BC20))","v":" "},{"$f":"IF(OR(AR22=\" \",AR22=0),\" \",AR21*ROUND(AR22,2))","v":" "},{"$f":"IF(OR(AS22=\" \",AS22=0),\" \",AS21*ROUND(AS22,2))","v":" "},{"$f":"IF(OR(AT22=\" \",AT22=0),\" \",AT21*ROUND(AT22,2))","v":" "},{"$f":"IF(OR(AU22=\" \",AU22=0),\" \",AU21*ROUND(AU22,2))","v":" "},{"$f":"IF(OR(AV22=\" \",AV22=0),\" \",AV21*ROUND(AV22,2))","v":" "},{"$f":"IF(OR(AW22=\" \",AW22=0),\" \",AW21*ROUND(AW22,2))","v":" "},{"$f":"IF(OR(AX22=\" \",AX22=0),\" \",AX21*ROUND(AX22,2))","v":" "},{"$f":"IF(OR(AY22=\" \",AY22=0),\" \",AY21*ROUND(AY22,2))","v":" "},{"$f":"IF(OR(AZ22=\" \",AZ22=0),\" \",AZ21*ROUND(AZ22,2))","v":" "},{"$f":"IF(OR(BA22=\" \",BA22=0),\" \",BA21*ROUND(BA22,2))","v":" "},{"$f":"IF(OR(BB22=\" \",BB22=0),\" \",BB21*ROUND(BB22,2))","v":" "},{"$f":"IF(OR(BC22=\" \",BC22=0),\" \",BC21*ROUND(BC22,2))","v":" "},{"$f":"IF(OR(BD$16=\" \",BD$16=0),\" \",SUM(BE20:BP20))","v":" "},{"$f":"IF(OR(BE22=\" \",BE22=0),\" \",BE21*ROUND(BE22,2))","v":" "},{"$f":"IF(OR(BF22=\" \",BF22=0),\" \",BF21*ROUND(BF22,2))","v":" "},{"$f":"IF(OR(BG22=\" \",BG22=0),\" \",BG21*ROUND(BG22,2))","v":" "},{"$f":"IF(OR(BH22=\" \",BH22=0),\" \",BH21*ROUND(BH22,2))","v":" "},{"$f":"IF(OR(BI22=\" \",BI22=0),\" \",BI21*ROUND(BI22,2))","v":" "},{"$f":"IF(OR(BJ22=\" \",BJ22=0),\" \",BJ21*ROUND(BJ22,2))","v":" "},{"$f":"IF(OR(BK22=\" \",BK22=0),\" \",BK21*ROUND(BK22,2))","v":" "},{"$f":"IF(OR(BL22=\" \",BL22=0),\" \",BL21*ROUND(BL22,2))","v":" "},{"$f":"IF(OR(BM22=\" \",BM22=0),\" \",BM21*ROUND(BM22,2))","v":" "},{"$f":"IF(OR(BN22=\" \",BN22=0),\" \",BN21*ROUND(BN22,2))","v":" "},{"$f":"IF(OR(BO22=\" \",BO22=0),\" \",BO21*ROUND(BO22,2))","v":" "},{"$f":"IF(OR(BP22=\" \",BP22=0),\" \",BP21*ROUND(BP22,2))","v":" "},{"$f":"IF(OR(BQ$16=\" \",BQ$16=0),\" \",SUM(BR20:CC20))","v":" "},{"$f":"IF(OR(BR22=\" \",BR22=0),\" \",BR21*ROUND(BR22,2))","v":" "},{"$f":"IF(OR(BS22=\" \",BS22=0),\" \",BS21*ROUND(BS22,2))","v":" "},{"$f":"IF(OR(BT22=\" \",BT22=0),\" \",BT21*ROUND(BT22,2))","v":" "},{"$f":"IF(OR(BU22=\" \",BU22=0),\" \",BU21*ROUND(BU22,2))","v":" "},{"$f":"IF(OR(BV22=\" \",BV22=0),\" \",BV21*ROUND(BV22,2))","v":" "},{"$f":"IF(OR(BW22=\" \",BW22=0),\" \",BW21*ROUND(BW22,2))","v":" "},{"$f":"IF(OR(BX22=\" \",BX22=0),\" \",BX21*ROUND(BX22,2))","v":" "},{"$f":"IF(OR(BY22=\" \",BY22=0),\" \",BY21*ROUND(BY22,2))","v":" "},{"$f":"IF(OR(BZ22=\" \",BZ22=0),\" \",BZ21*ROUND(BZ22,2))","v":" "},{"$f":"IF(OR(CA22=\" \",CA22=0),\" \",CA21*ROUND(CA22,2))","v":" "},{"$f":"IF(OR(CB22=\" \",CB22=0),\" \",CB21*ROUND(CB22,2))","v":" "},{"$f":"IF(OR(CC22=\" \",CC22=0),\" \",CC21*ROUND(CC22,2))","v":" "},{"$f":"IF(OR(CD$16=\" \",CD$16=0),\" \",SUM(CE20:CP20))","v":" "},{"$f":"IF(OR(CE22=\" \",CE22=0),\" \",CE21*ROUND(CE22,2))","v":" "},{"$f":"IF(OR(CF22=\" \",CF22=0),\" \",CF21*ROUND(CF22,2))","v":" "},{"$f":"IF(OR(CG22=\" \",CG22=0),\" \",CG21*ROUND(CG22,2))","v":" "},{"$f":"IF(OR(CH22=\" \",CH22=0),\" \",CH21*ROUND(CH22,2))","v":" "},{"$f":"IF(OR(CI22=\" \",CI22=0),\" \",CI21*ROUND(CI22,2))","v":" "},{"$f":"IF(OR(CJ22=\" \",CJ22=0),\" \",CJ21*ROUND(CJ22,2))","v":" "},{"$f":"IF(OR(CK22=\" \",CK22=0),\" \",CK21*ROUND(CK22,2))","v":" "},{"$f":"IF(OR(CL22=\" \",CL22=0),\" \",CL21*ROUND(CL22,2))","v":" "},{"$f":"IF(OR(CM22=\" \",CM22=0),\" \",CM21*ROUND(CM22,2))","v":" "},{"$f":"IF(OR(CN22=\" \",CN22=0),\" \",CN21*ROUND(CN22,2))","v":" "},{"$f":"IF(OR(CO22=\" \",CO22=0),\" \",CO21*ROUND(CO22,2))","v":" "},{"$f":"IF(OR(CP22=\" \",CP22=0),\" \",CP21*ROUND(CP22,2))","v":" "},{"$f":"IF(OR(CQ$16=\" \",CQ$16=0),\" \",SUM(CR20:DC20))","v":" "},{"$f":"IF(OR(CR22=\" \",CR22=0),\" \",CR21*ROUND(CR22,2))","v":" "},{"$f":"IF(OR(CS22=\" \",CS22=0),\" \",CS21*ROUND(CS22,2))","v":" "},{"$f":"IF(OR(CT22=\" \",CT22=0),\" \",CT21*ROUND(CT22,2))","v":" "},{"$f":"IF(OR(CU22=\" \",CU22=0),\" \",CU21*ROUND(CU22,2))","v":" "},{"$f":"IF(OR(CV22=\" \",CV22=0),\" \",CV21*ROUND(CV22,2))","v":" "},{"$f":"IF(OR(CW22=\" \",CW22=0),\" \",CW21*ROUND(CW22,2))","v":" "},{"$f":"IF(OR(CX22=\" \",CX22=0),\" \",CX21*ROUND(CX22,2))","v":" "},{"$f":"IF(OR(CY22=\" \",CY22=0),\" \",CY21*ROUND(CY22,2))","v":" "},{"$f":"IF(OR(CZ22=\" \",CZ22=0),\" \",CZ21*ROUND(CZ22,2))","v":" "},{"$f":"IF(OR(DA22=\" \",DA22=0),\" \",DA21*ROUND(DA22,2))","v":" "},{"$f":"IF(OR(DB22=\" \",DB22=0),\" \",DB21*ROUND(DB22,2))","v":" "},{"$f":"IF(OR(DC22=\" \",DC22=0),\" \",DC21*ROUND(DC22,2))","v":" "},{"$f":"IF(OR(DD$16=\" \",DD$16=0),\" \",SUM(DE20:DP20))","v":" "},{"$f":"IF(OR(DE22=\" \",DE22=0),\" \",DE21*ROUND(DE22,2))","v":" "},{"$f":"IF(OR(DF22=\" \",DF22=0),\" \",DF21*ROUND(DF22,2))","v":" "},{"$f":"IF(OR(DG22=\" \",DG22=0),\" \",DG21*ROUND(DG22,2))","v":" "},{"$f":"IF(OR(DH22=\" \",DH22=0),\" \",DH21*ROUND(DH22,2))","v":" "},{"$f":"IF(OR(DI22=\" \",DI22=0),\" \",DI21*ROUND(DI22,2))","v":" "},{"$f":"IF(OR(DJ22=\" \",DJ22=0),\" \",DJ21*ROUND(DJ22,2))","v":" "},{"$f":"IF(OR(DK22=\" \",DK22=0),\" \",DK21*ROUND(DK22,2))","v":" "},{"$f":"IF(OR(DL22=\" \",DL22=0),\" \",DL21*ROUND(DL22,2))","v":" "},{"$f":"IF(OR(DM22=\" \",DM22=0),\" \",DM21*ROUND(DM22,2))","v":" "},{"$f":"IF(OR(DN22=\" \",DN22=0),\" \",DN21*ROUND(DN22,2))","v":" "},{"$f":"IF(OR(DO22=\" \",DO22=0),\" \",DO21*ROUND(DO22,2))","v":" "},{"$f":"IF(OR(DP22=\" \",DP22=0),\" \",DP21*ROUND(DP22,2))","v":" "},{"$f":"IF(OR(DQ$16=\" \",DQ$16=0),\" \",SUM(DR20:EC20))","v":" "},{"$f":"IF(OR(DR22=\" \",DR22=0),\" \",DR21*ROUND(DR22,2))","v":" "},{"$f":"IF(OR(DS22=\" \",DS22=0),\" \",DS21*ROUND(DS22,2))","v":" "},{"$f":"IF(OR(DT22=\" \",DT22=0),\" \",DT21*ROUND(DT22,2))","v":" "},{"$f":"IF(OR(DU22=\" \",DU22=0),\" \",DU21*ROUND(DU22,2))","v":" "},{"$f":"IF(OR(DV22=\" \",DV22=0),\" \",DV21*ROUND(DV22,2))","v":" "},{"$f":"IF(OR(DW22=\" \",DW22=0),\" \",DW21*ROUND(DW22,2))","v":" "},{"$f":"IF(OR(DX22=\" \",DX22=0),\" \",DX21*ROUND(DX22,2))","v":" "},{"$f":"IF(OR(DY22=\" \",DY22=0),\" \",DY21*ROUND(DY22,2))","v":" "},{"$f":"IF(OR(DZ22=\" \",DZ22=0),\" \",DZ21*ROUND(DZ22,2))","v":" "},{"$f":"IF(OR(EA22=\" \",EA22=0),\" \",EA21*ROUND(EA22,2))","v":" "},{"$f":"IF(OR(EB22=\" \",EB22=0),\" \",EB21*ROUND(EB22,2))","v":" "},{"$f":"IF(OR(EC22=\" \",EC22=0),\" \",EC21*ROUND(EC22,2))","v":" "},{"$f":"IF(OR(ED$16=\" \",ED$16=0),\" \",SUM(EE20:EP20))","v":" "},{"$f":"IF(OR(EE22=\" \",EE22=0),\" \",EE21*ROUND(EE22,2))","v":" "},{"$f":"IF(OR(EF22=\" \",EF22=0),\" \",EF21*ROUND(EF22,2))","v":" "},{"$f":"IF(OR(EG22=\" \",EG22=0),\" \",EG21*ROUND(EG22,2))","v":" "},{"$f":"IF(OR(EH22=\" \",EH22=0),\" \",EH21*ROUND(EH22,2))","v":" "},{"$f":"IF(OR(EI22=\" \",EI22=0),\" \",EI21*ROUND(EI22,2))","v":" "},{"$f":"IF(OR(EJ22=\" \",EJ22=0),\" \",EJ21*ROUND(EJ22,2))","v":" "},{"$f":"IF(OR(EK22=\" \",EK22=0),\" \",EK21*ROUND(EK22,2))","v":" "},{"$f":"IF(OR(EL22=\" \",EL22=0),\" \",EL21*ROUND(EL22,2))","v":" "},{"$f":"IF(OR(EM22=\" \",EM22=0),\" \",EM21*ROUND(EM22,2))","v":" "},{"$f":"IF(OR(EN22=\" \",EN22=0),\" \",EN21*ROUND(EN22,2))","v":" "},{"$f":"IF(OR(EO22=\" \",EO22=0),\" \",EO21*ROUND(EO22,2))","v":" "},{"$f":"IF(OR(EP22=\" \",EP22=0),\" \",EP21*ROUND(EP22,2))","v":" "},{"$f":"IF(OR(EQ$16=\" \",EQ$16=0),\" \",SUM(ER20:FC20))","v":" "},{"$f":"IF(OR(ER22=\" \",ER22=0),\" \",ER21*ROUND(ER22,2))","v":" "},{"$f":"IF(OR(ES22=\" \",ES22=0),\" \",ES21*ROUND(ES22,2))","v":" "},{"$f":"IF(OR(ET22=\" \",ET22=0),\" \",ET21*ROUND(ET22,2))","v":" "},{"$f":"IF(OR(EU22=\" \",EU22=0),\" \",EU21*ROUND(EU22,2))","v":" "},{"$f":"IF(OR(EV22=\" \",EV22=0),\" \",EV21*ROUND(EV22,2))","v":" "},{"$f":"IF(OR(EW22=\" \",EW22=0),\" \",EW21*ROUND(EW22,2))","v":" "},{"$f":"IF(OR(EX22=\" \",EX22=0),\" \",EX21*ROUND(EX22,2))","v":" "},{"$f":"IF(OR(EY22=\" \",EY22=0),\" \",EY21*ROUND(EY22,2))","v":" "},{"$f":"IF(OR(EZ22=\" \",EZ22=0),\" \",EZ21*ROUND(EZ22,2))","v":" "},{"$f":"IF(OR(FA22=\" \",FA22=0),\" \",FA21*ROUND(FA22,2))","v":" "},{"$f":"IF(OR(FB22=\" \",FB22=0),\" \",FB21*ROUND(FB22,2))","v":" "},{"$f":"IF(OR(FC22=\" \",FC22=0),\" \",FC21*ROUND(FC22,2))","v":" "},{"$f":"IF(OR(FD$16=\" \",FD$16=0),\" \",SUM(FE20:FP20))","v":" "},{"$f":"IF(OR(FE22=\" \",FE22=0),\" \",FE21*ROUND(FE22,2))","v":" "},{"$f":"IF(OR(FF22=\" \",FF22=0),\" \",FF21*ROUND(FF22,2))","v":" "},{"$f":"IF(OR(FG22=\" \",FG22=0),\" \",FG21*ROUND(FG22,2))","v":" "},{"$f":"IF(OR(FH22=\" \",FH22=0),\" \",FH21*ROUND(FH22,2))","v":" "},{"$f":"IF(OR(FI22=\" \",FI22=0),\" \",FI21*ROUND(FI22,2))","v":" "},{"$f":"IF(OR(FJ22=\" \",FJ22=0),\" \",FJ21*ROUND(FJ22,2))","v":" "},{"$f":"IF(OR(FK22=\" \",FK22=0),\" \",FK21*ROUND(FK22,2))","v":" "},{"$f":"IF(OR(FL22=\" \",FL22=0),\" \",FL21*ROUND(FL22,2))","v":" "},{"$f":"IF(OR(FM22=\" \",FM22=0),\" \",FM21*ROUND(FM22,2))","v":" "},{"$f":"IF(OR(FN22=\" \",FN22=0),\" \",FN21*ROUND(FN22,2))","v":" "},{"$f":"IF(OR(FO22=\" \",FO22=0),\" \",FO21*ROUND(FO22,2))","v":" "},{"$f":"IF(OR(FP22=\" \",FP22=0),\" \",FP21*ROUND(FP22,2))","v":" "},{"$f":"IF(OR(FQ$16=\" \",FQ$16=0),\" \",SUM(FR20:GC20))","v":" "},{"$f":"IF(OR(FR22=\" \",FR22=0),\" \",FR21*ROUND(FR22,2))","v":" "},{"$f":"IF(OR(FS22=\" \",FS22=0),\" \",FS21*ROUND(FS22,2))","v":" "},{"$f":"IF(OR(FT22=\" \",FT22=0),\" \",FT21*ROUND(FT22,2))","v":" "},{"$f":"IF(OR(FU22=\" \",FU22=0),\" \",FU21*ROUND(FU22,2))","v":" "},{"$f":"IF(OR(FV22=\" \",FV22=0),\" \",FV21*ROUND(FV22,2))","v":" "},{"$f":"IF(OR(FW22=\" \",FW22=0),\" \",FW21*ROUND(FW22,2))","v":" "},{"$f":"IF(OR(FX22=\" \",FX22=0),\" \",FX21*ROUND(FX22,2))","v":" "},{"$f":"IF(OR(FY22=\" \",FY22=0),\" \",FY21*ROUND(FY22,2))","v":" "},{"$f":"IF(OR(FZ22=\" \",FZ22=0),\" \",FZ21*ROUND(FZ22,2))","v":" "},{"$f":"IF(OR(GA22=\" \",GA22=0),\" \",GA21*ROUND(GA22,2))","v":" "},{"$f":"IF(OR(GB22=\" \",GB22=0),\" \",GB21*ROUND(GB22,2))","v":" "},{"$f":"IF(OR(GC22=\" \",GC22=0),\" \",GC21*ROUND(GC22,2))","v":" "},{"$f":"IF(OR(GD$16=\" \",GD$16=0),\" \",SUM(GE20:GP20))","v":" "},{"$f":"IF(OR(GE22=\" \",GE22=0),\" \",GE21*ROUND(GE22,2))","v":" "},{"$f":"IF(OR(GF22=\" \",GF22=0),\" \",GF21*ROUND(GF22,2))","v":" "},{"$f":"IF(OR(GG22=\" \",GG22=0),\" \",GG21*ROUND(GG22,2))","v":" "},{"$f":"IF(OR(GH22=\" \",GH22=0),\" \",GH21*ROUND(GH22,2))","v":" "},{"$f":"IF(OR(GI22=\" \",GI22=0),\" \",GI21*ROUND(GI22,2))","v":" "},{"$f":"IF(OR(GJ22=\" \",GJ22=0),\" \",GJ21*ROUND(GJ22,2))","v":" "},{"$f":"IF(OR(GK22=\" \",GK22=0),\" \",GK21*ROUND(GK22,2))","v":" "},{"$f":"IF(OR(GL22=\" \",GL22=0),\" \",GL21*ROUND(GL22,2))","v":" "},{"$f":"IF(OR(GM22=\" \",GM22=0),\" \",GM21*ROUND(GM22,2))","v":" "},{"$f":"IF(OR(GN22=\" \",GN22=0),\" \",GN21*ROUND(GN22,2))","v":" "},{"$f":"IF(OR(GO22=\" \",GO22=0),\" \",GO21*ROUND(GO22,2))","v":" "},{"$f":"IF(OR(GP22=\" \",GP22=0),\" \",GP21*ROUND(GP22,2))","v":" "},{"$f":"IF(OR(GQ$16=\" \",GQ$16=0),\" \",SUM(GR20:HC20))","v":" "},{"$f":"IF(OR(GR22=\" \",GR22=0),\" \",GR21*ROUND(GR22,2))","v":" "},{"$f":"IF(OR(GS22=\" \",GS22=0),\" \",GS21*ROUND(GS22,2))","v":" "},{"$f":"IF(OR(GT22=\" \",GT22=0),\" \",GT21*ROUND(GT22,2))","v":" "},{"$f":"IF(OR(GU22=\" \",GU22=0),\" \",GU21*ROUND(GU22,2))","v":" "},{"$f":"IF(OR(GV22=\" \",GV22=0),\" \",GV21*ROUND(GV22,2))","v":" "},{"$f":"IF(OR(GW22=\" \",GW22=0),\" \",GW21*ROUND(GW22,2))","v":" "},{"$f":"IF(OR(GX22=\" \",GX22=0),\" \",GX21*ROUND(GX22,2))","v":" "},{"$f":"IF(OR(GY22=\" \",GY22=0),\" \",GY21*ROUND(GY22,2))","v":" "},{"$f":"IF(OR(GZ22=\" \",GZ22=0),\" \",GZ21*ROUND(GZ22,2))","v":" "},{"$f":"IF(OR(HA22=\" \",HA22=0),\" \",HA21*ROUND(HA22,2))","v":" "},{"$f":"IF(OR(HB22=\" \",HB22=0),\" \",HB21*ROUND(HB22,2))","v":" "},{"$f":"IF(OR(HC22=\" \",HC22=0),\" \",HC21*ROUND(HC22,2))","v":" "},{"$f":"IF(OR(HD$16=\" \",HD$16=0),\" \",SUM(HE20:HP20))","v":" "},{"$f":"IF(OR(HE22=\" \",HE22=0),\" \",HE21*ROUND(HE22,2))","v":" "},{"$f":"IF(OR(HF22=\" \",HF22=0),\" \",HF21*ROUND(HF22,2))","v":" "},{"$f":"IF(OR(HG22=\" \",HG22=0),\" \",HG21*ROUND(HG22,2))","v":" "},{"$f":"IF(OR(HH22=\" \",HH22=0),\" \",HH21*ROUND(HH22,2))","v":" "},{"$f":"IF(OR(HI22=\" \",HI22=0),\" \",HI21*ROUND(HI22,2))","v":" "},{"$f":"IF(OR(HJ22=\" \",HJ22=0),\" \",HJ21*ROUND(HJ22,2))","v":" "},{"$f":"IF(OR(HK22=\" \",HK22=0),\" \",HK21*ROUND(HK22,2))","v":" "},{"$f":"IF(OR(HL22=\" \",HL22=0),\" \",HL21*ROUND(HL22,2))","v":" "},{"$f":"IF(OR(HM22=\" \",HM22=0),\" \",HM21*ROUND(HM22,2))","v":" "},{"$f":"IF(OR(HN22=\" \",HN22=0),\" \",HN21*ROUND(HN22,2))","v":" "},{"$f":"IF(OR(HO22=\" \",HO22=0),\" \",HO21*ROUND(HO22,2))","v":" "},{"$f":"IF(OR(HP22=\" \",HP22=0),\" \",HP21*ROUND(HP22,2))","v":" "},{"$f":"IF(OR(HQ$16=\" \",HQ$16=0),\" \",SUM(HR20:IC20))","v":" "},{"$f":"IF(OR(HR22=\" \",HR22=0),\" \",HR21*ROUND(HR22,2))","v":" "},{"$f":"IF(OR(HS22=\" \",HS22=0),\" \",HS21*ROUND(HS22,2))","v":" "},{"$f":"IF(OR(HT22=\" \",HT22=0),\" \",HT21*ROUND(HT22,2))","v":" "},{"$f":"IF(OR(HU22=\" \",HU22=0),\" \",HU21*ROUND(HU22,2))","v":" "},{"$f":"IF(OR(HV22=\" \",HV22=0),\" \",HV21*ROUND(HV22,2))","v":" "},{"$f":"IF(OR(HW22=\" \",HW22=0),\" \",HW21*ROUND(HW22,2))","v":" "},{"$f":"IF(OR(HX22=\" \",HX22=0),\" \",HX21*ROUND(HX22,2))","v":" "},{"$f":"IF(OR(HY22=\" \",HY22=0),\" \",HY21*ROUND(HY22,2))","v":" "},{"$f":"IF(OR(HZ22=\" \",HZ22=0),\" \",HZ21*ROUND(HZ22,2))","v":" "},{"$f":"IF(OR(IA22=\" \",IA22=0),\" \",IA21*ROUND(IA22,2))","v":" "},{"$f":"IF(OR(IB22=\" \",IB22=0),\" \",IB21*ROUND(IB22,2))","v":" "},{"$f":"IF(OR(IC22=\" \",IC22=0),\" \",IC21*ROUND(IC22,2))","v":" "},{"$f":"IF(OR(ID$16=\" \",ID$16=0),\" \",SUM(IE20:IP20))","v":" "},{"$f":"IF(OR(IE22=\" \",IE22=0),\" \",IE21*ROUND(IE22,2))","v":" "},{"$f":"IF(OR(IF22=\" \",IF22=0),\" \",IF21*ROUND(IF22,2))","v":" "},{"$f":"IF(OR(IG22=\" \",IG22=0),\" \",IG21*ROUND(IG22,2))","v":" "},{"$f":"IF(OR(IH22=\" \",IH22=0),\" \",IH21*ROUND(IH22,2))","v":" "},{"$f":"IF(OR(II22=\" \",II22=0),\" \",II21*ROUND(II22,2))","v":" "},{"$f":"IF(OR(IJ22=\" \",IJ22=0),\" \",IJ21*ROUND(IJ22,2))","v":" "},{"$f":"IF(OR(IK22=\" \",IK22=0),\" \",IK21*ROUND(IK22,2))","v":" "},{"$f":"IF(OR(IL22=\" \",IL22=0),\" \",IL21*ROUND(IL22,2))","v":" "},{"$f":"IF(OR(IM22=\" \",IM22=0),\" \",IM21*ROUND(IM22,2))","v":" "},{"$f":"IF(OR(IN22=\" \",IN22=0),\" \",IN21*ROUND(IN22,2))","v":" "},{"$f":"IF(OR(IO22=\" \",IO22=0),\" \",IO21*ROUND(IO22,2))","v":" "},{"$f":"IF(OR(IP22=\" \",IP22=0),\" \",IP21*ROUND(IP22,2))","v":" "},{"$f":"IF(OR(IQ$16=\" \",IQ$16=0),\" \",SUM(IR20:JC20))","v":" "},{"$f":"IF(OR(IR22=\" \",IR22=0),\" \",IR21*ROUND(IR22,2))","v":" "},{"$f":"IF(OR(IS22=\" \",IS22=0),\" \",IS21*ROUND(IS22,2))","v":" "},{"$f":"IF(OR(IT22=\" \",IT22=0),\" \",IT21*ROUND(IT22,2))","v":" "},{"$f":"IF(OR(IU22=\" \",IU22=0),\" \",IU21*ROUND(IU22,2))","v":" "},{"$f":"IF(OR(IV22=\" \",IV22=0),\" \",IV21*ROUND(IV22,2))","v":" "},{"$f":"IF(OR(IW22=\" \",IW22=0),\" \",IW21*ROUND(IW22,2))","v":" "},{"$f":"IF(OR(IX22=\" \",IX22=0),\" \",IX21*ROUND(IX22,2))","v":" "},{"$f":"IF(OR(IY22=\" \",IY22=0),\" \",IY21*ROUND(IY22,2))","v":" "},{"$f":"IF(OR(IZ22=\" \",IZ22=0),\" \",IZ21*ROUND(IZ22,2))","v":" "},{"$f":"IF(OR(JA22=\" \",JA22=0),\" \",JA21*ROUND(JA22,2))","v":" "},{"$f":"IF(OR(JB22=\" \",JB22=0),\" \",JB21*ROUND(JB22,2))","v":" "},{"$f":"IF(OR(JC22=\" \",JC22=0),\" \",JC21*ROUND(JC22,2))","v":" "},{"$f":"IF(OR(JD$16=\" \",JD$16=0),\" \",SUM(JE20:JP20))","v":" "},{"$f":"IF(OR(JE22=\" \",JE22=0),\" \",JE21*ROUND(JE22,2))","v":" "},{"$f":"IF(OR(JF22=\" \",JF22=0),\" \",JF21*ROUND(JF22,2))","v":" "},{"$f":"IF(OR(JG22=\" \",JG22=0),\" \",JG21*ROUND(JG22,2))","v":" "},{"$f":"IF(OR(JH22=\" \",JH22=0),\" \",JH21*ROUND(JH22,2))","v":" "},{"$f":"IF(OR(JI22=\" \",JI22=0),\" \",JI21*ROUND(JI22,2))","v":" "},{"$f":"IF(OR(JJ22=\" \",JJ22=0),\" \",JJ21*ROUND(JJ22,2))","v":" "},{"$f":"IF(OR(JK22=\" \",JK22=0),\" \",JK21*ROUND(JK22,2))","v":" "},{"$f":"IF(OR(JL22=\" \",JL22=0),\" \",JL21*ROUND(JL22,2))","v":" "},{"$f":"IF(OR(JM22=\" \",JM22=0),\" \",JM21*ROUND(JM22,2))","v":" "},{"$f":"IF(OR(JN22=\" \",JN22=0),\" \",JN21*ROUND(JN22,2))","v":" "},{"$f":"IF(OR(JO22=\" \",JO22=0),\" \",JO21*ROUND(JO22,2))","v":" "},{"$f":"IF(OR(JP22=\" \",JP22=0),\" \",JP21*ROUND(JP22,2))","v":" "},{"$f":"IF(OR(JQ$16=\" \",JQ$16=0),\" \",SUM(JR20:KC20))","v":" "},{"$f":"IF(OR(JR22=\" \",JR22=0),\" \",JR21*ROUND(JR22,2))","v":" "},{"$f":"IF(OR(JS22=\" \",JS22=0),\" \",JS21*ROUND(JS22,2))","v":" "},{"$f":"IF(OR(JT22=\" \",JT22=0),\" \",JT21*ROUND(JT22,2))","v":" "},{"$f":"IF(OR(JU22=\" \",JU22=0),\" \",JU21*ROUND(JU22,2))","v":" "},{"$f":"IF(OR(JV22=\" \",JV22=0),\" \",JV21*ROUND(JV22,2))","v":" "},{"$f":"IF(OR(JW22=\" \",JW22=0),\" \",JW21*ROUND(JW22,2))","v":" "},{"$f":"IF(OR(JX22=\" \",JX22=0),\" \",JX21*ROUND(JX22,2))","v":" "},{"$f":"IF(OR(JY22=\" \",JY22=0),\" \",JY21*ROUND(JY22,2))","v":" "},{"$f":"IF(OR(JZ22=\" \",JZ22=0),\" \",JZ21*ROUND(JZ22,2))","v":" "},{"$f":"IF(OR(KA22=\" \",KA22=0),\" \",KA21*ROUND(KA22,2))","v":" "},{"$f":"IF(OR(KB22=\" \",KB22=0),\" \",KB21*ROUND(KB22,2))","v":" "},{"$f":"IF(OR(KC22=\" \",KC22=0),\" \",KC21*ROUND(KC22,2))","v":" "},{"$f":"IF(OR(KD$16=\" \",KD$16=0),\" \",SUM(KE20:KP20))","v":" "},{"$f":"IF(OR(KE22=\" \",KE22=0),\" \",KE21*ROUND(KE22,2))","v":" "},{"$f":"IF(OR(KF22=\" \",KF22=0),\" \",KF21*ROUND(KF22,2))","v":" "},{"$f":"IF(OR(KG22=\" \",KG22=0),\" \",KG21*ROUND(KG22,2))","v":" "},{"$f":"IF(OR(KH22=\" \",KH22=0),\" \",KH21*ROUND(KH22,2))","v":" "},{"$f":"IF(OR(KI22=\" \",KI22=0),\" \",KI21*ROUND(KI22,2))","v":" "},{"$f":"IF(OR(KJ22=\" \",KJ22=0),\" \",KJ21*ROUND(KJ22,2))","v":" "},{"$f":"IF(OR(KK22=\" \",KK22=0),\" \",KK21*ROUND(KK22,2))","v":" "},{"$f":"IF(OR(KL22=\" \",KL22=0),\" \",KL21*ROUND(KL22,2))","v":" "},{"$f":"IF(OR(KM22=\" \",KM22=0),\" \",KM21*ROUND(KM22,2))","v":" "},{"$f":"IF(OR(KN22=\" \",KN22=0),\" \",KN21*ROUND(KN22,2))","v":" "},{"$f":"IF(OR(KO22=\" \",KO22=0),\" \",KO21*ROUND(KO22,2))","v":" "},{"$f":"IF(OR(KP22=\" \",KP22=0),\" \",KP21*ROUND(KP22,2))","v":" "},{"$f":"IF(OR(KQ$16=\" \",KQ$16=0),\" \",SUM(KR20:LC20))","v":" "},{"$f":"IF(OR(KR22=\" \",KR22=0),\" \",KR21*ROUND(KR22,2))","v":" "},{"$f":"IF(OR(KS22=\" \",KS22=0),\" \",KS21*ROUND(KS22,2))","v":" "},{"$f":"IF(OR(KT22=\" \",KT22=0),\" \",KT21*ROUND(KT22,2))","v":" "},{"$f":"IF(OR(KU22=\" \",KU22=0),\" \",KU21*ROUND(KU22,2))","v":" "},{"$f":"IF(OR(KV22=\" \",KV22=0),\" \",KV21*ROUND(KV22,2))","v":" "},{"$f":"IF(OR(KW22=\" \",KW22=0),\" \",KW21*ROUND(KW22,2))","v":" "},{"$f":"IF(OR(KX22=\" \",KX22=0),\" \",KX21*ROUND(KX22,2))","v":" "},{"$f":"IF(OR(KY22=\" \",KY22=0),\" \",KY21*ROUND(KY22,2))","v":" "},{"$f":"IF(OR(KZ22=\" \",KZ22=0),\" \",KZ21*ROUND(KZ22,2))","v":" "},{"$f":"IF(OR(LA22=\" \",LA22=0),\" \",LA21*ROUND(LA22,2))","v":" "},{"$f":"IF(OR(LB22=\" \",LB22=0),\" \",LB21*ROUND(LB22,2))","v":" "},{"$f":"IF(OR(LC22=\" \",LC22=0),\" \",LC21*ROUND(LC22,2))","v":" "},{"$f":"IF(OR(LD$16=\" \",LD$16=0),\" \",SUM(LE20:LP20))","v":" "},{"$f":"IF(OR(LE22=\" \",LE22=0),\" \",LE21*ROUND(LE22,2))","v":" "},{"$f":"IF(OR(LF22=\" \",LF22=0),\" \",LF21*ROUND(LF22,2))","v":" "},{"$f":"IF(OR(LG22=\" \",LG22=0),\" \",LG21*ROUND(LG22,2))","v":" "},{"$f":"IF(OR(LH22=\" \",LH22=0),\" \",LH21*ROUND(LH22,2))","v":" "},{"$f":"IF(OR(LI22=\" \",LI22=0),\" \",LI21*ROUND(LI22,2))","v":" "},{"$f":"IF(OR(LJ22=\" \",LJ22=0),\" \",LJ21*ROUND(LJ22,2))","v":" "},{"$f":"IF(OR(LK22=\" \",LK22=0),\" \",LK21*ROUND(LK22,2))","v":" "},{"$f":"IF(OR(LL22=\" \",LL22=0),\" \",LL21*ROUND(LL22,2))","v":" "},{"$f":"IF(OR(LM22=\" \",LM22=0),\" \",LM21*ROUND(LM22,2))","v":" "},{"$f":"IF(OR(LN22=\" \",LN22=0),\" \",LN21*ROUND(LN22,2))","v":" "},{"$f":"IF(OR(LO22=\" \",LO22=0),\" \",LO21*ROUND(LO22,2))","v":" "},{"$f":"IF(OR(LP22=\" \",LP22=0),\" \",LP21*ROUND(LP22,2))","v":" "},{"$f":"IF(OR(LQ$16=\" \",LQ$16=0),\" \",SUM(LR20:MC20))","v":" "},{"$f":"IF(OR(LR22=\" \",LR22=0),\" \",LR21*ROUND(LR22,2))","v":" "},{"$f":"IF(OR(LS22=\" \",LS22=0),\" \",LS21*ROUND(LS22,2))","v":" "},{"$f":"IF(OR(LT22=\" \",LT22=0),\" \",LT21*ROUND(LT22,2))","v":" "},{"$f":"IF(OR(LU22=\" \",LU22=0),\" \",LU21*ROUND(LU22,2))","v":" "},{"$f":"IF(OR(LV22=\" \",LV22=0),\" \",LV21*ROUND(LV22,2))","v":" "},{"$f":"IF(OR(LW22=\" \",LW22=0),\" \",LW21*ROUND(LW22,2))","v":" "},{"$f":"IF(OR(LX22=\" \",LX22=0),\" \",LX21*ROUND(LX22,2))","v":" "},{"$f":"IF(OR(LY22=\" \",LY22=0),\" \",LY21*ROUND(LY22,2))","v":" "},{"$f":"IF(OR(LZ22=\" \",LZ22=0),\" \",LZ21*ROUND(LZ22,2))","v":" "},{"$f":"IF(OR(MA22=\" \",MA22=0),\" \",MA21*ROUND(MA22,2))","v":" "},{"$f":"IF(OR(MB22=\" \",MB22=0),\" \",MB21*ROUND(MB22,2))","v":" "},{"$f":"IF(OR(MC22=\" \",MC22=0),\" \",MC21*ROUND(MC22,2))","v":" "},{"$f":"IF(OR(MD$16=\" \",MD$16=0),\" \",SUM(ME20:MP20))","v":" "},{"$f":"IF(OR(ME22=\" \",ME22=0),\" \",ME21*ROUND(ME22,2))","v":" "},{"$f":"IF(OR(MF22=\" \",MF22=0),\" \",MF21*ROUND(MF22,2))","v":" "},{"$f":"IF(OR(MG22=\" \",MG22=0),\" \",MG21*ROUND(MG22,2))","v":" "},{"$f":"IF(OR(MH22=\" \",MH22=0),\" \",MH21*ROUND(MH22,2))","v":" "},{"$f":"IF(OR(MI22=\" \",MI22=0),\" \",MI21*ROUND(MI22,2))","v":" "},{"$f":"IF(OR(MJ22=\" \",MJ22=0),\" \",MJ21*ROUND(MJ22,2))","v":" "},{"$f":"IF(OR(MK22=\" \",MK22=0),\" \",MK21*ROUND(MK22,2))","v":" "},{"$f":"IF(OR(ML22=\" \",ML22=0),\" \",ML21*ROUND(ML22,2))","v":" "},{"$f":"IF(OR(MM22=\" \",MM22=0),\" \",MM21*ROUND(MM22,2))","v":" "},{"$f":"IF(OR(MN22=\" \",MN22=0),\" \",MN21*ROUND(MN22,2))","v":" "},{"$f":"IF(OR(MO22=\" \",MO22=0),\" \",MO21*ROUND(MO22,2))","v":" "},{"$f":"IF(OR(MP22=\" \",MP22=0),\" \",MP21*ROUND(MP22,2))","v":" "},{"$f":"IF(OR(MQ$16=\" \",MQ$16=0),\" \",SUM(MR20:NC20))","v":" "},{"$f":"IF(OR(MR22=\" \",MR22=0),\" \",MR21*ROUND(MR22,2))","v":" "},{"$f":"IF(OR(MS22=\" \",MS22=0),\" \",MS21*ROUND(MS22,2))","v":" "},{"$f":"IF(OR(MT22=\" \",MT22=0),\" \",MT21*ROUND(MT22,2))","v":" "},{"$f":"IF(OR(MU22=\" \",MU22=0),\" \",MU21*ROUND(MU22,2))","v":" "},{"$f":"IF(OR(MV22=\" \",MV22=0),\" \",MV21*ROUND(MV22,2))","v":" "},{"$f":"IF(OR(MW22=\" \",MW22=0),\" \",MW21*ROUND(MW22,2))","v":" "},{"$f":"IF(OR(MX22=\" \",MX22=0),\" \",MX21*ROUND(MX22,2))","v":" "},{"$f":"IF(OR(MY22=\" \",MY22=0),\" \",MY21*ROUND(MY22,2))","v":" "},{"$f":"IF(OR(MZ22=\" \",MZ22=0),\" \",MZ21*ROUND(MZ22,2))","v":" "},{"$f":"IF(OR(NA22=\" \",NA22=0),\" \",NA21*ROUND(NA22,2))","v":" "},{"$f":"IF(OR(NB22=\" \",NB22=0),\" \",NB21*ROUND(NB22,2))","v":" "},{"$f":"IF(OR(NC22=\" \",NC22=0),\" \",NC21*ROUND(NC22,2))","v":" "},{"$f":"IF(OR(ND$16=\" \",ND$16=0),\" \",SUM(NE20:NP20))","v":" "},{"$f":"IF(OR(NE22=\" \",NE22=0),\" \",NE21*ROUND(NE22,2))","v":" "},{"$f":"IF(OR(NF22=\" \",NF22=0),\" \",NF21*ROUND(NF22,2))","v":" "},{"$f":"IF(OR(NG22=\" \",NG22=0),\" \",NG21*ROUND(NG22,2))","v":" "},{"$f":"IF(OR(NH22=\" \",NH22=0),\" \",NH21*ROUND(NH22,2))","v":" "},{"$f":"IF(OR(NI22=\" \",NI22=0),\" \",NI21*ROUND(NI22,2))","v":" "},{"$f":"IF(OR(NJ22=\" \",NJ22=0),\" \",NJ21*ROUND(NJ22,2))","v":" "},{"$f":"IF(OR(NK22=\" \",NK22=0),\" \",NK21*ROUND(NK22,2))","v":" "},{"$f":"IF(OR(NL22=\" \",NL22=0),\" \",NL21*ROUND(NL22,2))","v":" "},{"$f":"IF(OR(NM22=\" \",NM22=0),\" \",NM21*ROUND(NM22,2))","v":" "},{"$f":"IF(OR(NN22=\" \",NN22=0),\" \",NN21*ROUND(NN22,2))","v":" "},{"$f":"IF(OR(NO22=\" \",NO22=0),\" \",NO21*ROUND(NO22,2))","v":" "},{"$f":"IF(OR(NP22=\" \",NP22=0),\" \",NP21*ROUND(NP22,2))","v":" "}]
["Pārdotais elektroenerģijas apjoms","MWh"," ",{"$f":"IF(OR(D$16=\" \",D$16=0),\" \",SUM(E21:P21))","v":" "},{"$f":"IF(OR(E22=\" \",E22=0),\" \",$BD$6*$C$7/12)","v":" "},{"$f":"IF(OR(F22=\" \",F22=0),\" \",$BD$6*$C$7/12)","v":" "}," "," "," "," "," "," "," "," "," "," ",{"$f":"IF(OR(Q$16=\" \",Q$16=0),\" \",SUM(R21:AC21))","v":" "}," "," "," "," "," "," "," "," "," "," "," "," ",{"$f":"IF(OR(AD$16=\" \",AD$16=0),\" \",SUM(AE21:AP21))","v":" "},{"$f":"IF(OR(AE22=\" \",AE22=0),\" \",$BD$6*$C$7/12)","v":" "}," "," "," "," "," "," "," "," "," "," "," ",{"$f":"IF(OR(AQ$16=\" \",AQ$16=0),\" \",SUM(AR21:BC21))","v":" "},{"$f":"IF(OR(AR22=\" \",AR22=0),\" \",$BD$6*$C$7/12)","v":" "}," "," "," "," "," "," "," "," "," "," "," ",{"$f":"IF(OR(BD$16=\" \",BD$16=0),\" \",SUM(BE21:BP21))","v":" "},{"$f":"IF(OR(BE22=\" \",BE22=0),\" \",$BD$6*$C$7/12)","v":" "}," "," "," "," "," "," "," "," "," "," "," ",{"$f":"IF(OR(BQ$16=\" \",BQ$16=0),\" \",SUM(BR21:CC21))","v":" "},{"$f":"IF(OR(BR22=\" \",BR22=0),\" \",$BD$6*$C$7/12)","v":" "}," "," "," "," "," "," "," "," "," "," "," ",{"$f":"IF(OR(CD$16=\" \",CD$16=0),\" \",SUM(CE21:CP21))","v":" "},{"$f":"IF(OR(CE22=\" \",CE22=0),\" \",$BD$6*$C$7/12)","v":" "}," "," "," "," "," "," "," "," "," "," "," ",{"$f":"IF(OR(CQ$16=\" \",CQ$16=0),\" \",SUM(CR21:DC21))","v":" "},{"$f":"IF(OR(CR22=\" \",CR22=0),\" \",$BD$6*$C$7/12)","v":" "}," "," "," "," "," "," "," "," "," "," "," ",{"$f":"IF(OR(DD$16=\" \",DD$16=0),\" \",SUM(DE21:DP21))","v":" "},{"$f":"IF(OR(DE22=\" \",DE22=0),\" \",$BD$6*$C$7/12)","v":" "},{"$f":"IF(OR(DF22=\" \",DF22=0),\" \",$BD$6*$C$7/12)","v":" "}," "," "," "," "," "," "," "," "," "," ",{"$f":"IF(OR(DQ$16=\" \",DQ$16=0),\" \",SUM(DR21:EC21))","v":" "},{"$f":"IF(OR(DR22=\" \",DR22=0),\" \",$BD$6*$C$7/12)","v":" "},{"$f":"IF(OR(DS22=\" \",DS22=0),\" \",$BD$6*$C$7/12)","v":" "}," "," "," "," "," "," "," "," "," "," ",{"$f":"IF(OR(ED$16=\" \",ED$16=0),\" \",SUM(EE21:EP21))","v":" "},{"$f":"IF(OR(EE22=\" \",EE22=0),\" \",$BD$6*$C$7/12)","v":" "},{"$f":"IF(OR(EF22=\" \",EF22=0),\" \",$BD$6*$C$7/12)","v":" "}," "," "," "," "," "," "," "," "," "," ",{"$f":"IF(OR(EQ$16=\" \",EQ$16=0),\" \",SUM(ER21:FC21))","v":" "},{"$f":"IF(OR(ER22=\" \",ER22=0),\" \",$BD$6*$C$7/12)","v":" "},{"$f":"IF(OR(ES22=\" \",ES22=0),\" \",$BD$6*$C$7/12)","v":" "}," "," "," "," "," "," "," "," "," "," ",{"$f":"IF(OR(FD$16=\" \",FD$16=0),\" \",SUM(FE21:FP21))","v":" "},{"$f":"IF(OR(FE22=\" \",FE22=0),\" \",$BD$6*$C$7/12)","v":" "},{"$f":"IF(OR(FF22=\" \",FF22=0),\" \",$BD$6*$C$7/12)","v":" "}," "," "," "," "," "," "," "," "," "," ",{"$f":"IF(OR(FQ$16=\" \",FQ$16=0),\" \",SUM(FR21:GC21))","v":" "},{"$f":"IF(OR(FR22=\" \",FR22=0),\" \",$BD$6*$C$7/12)","v":" "},{"$f":"IF(OR(FS22=\" \",FS22=0),\" \",$BD$6*$C$7/12)","v":" "}," "," "," "," "," "," "," "," "," "," ",{"$f":"IF(OR(GD$16=\" \",GD$16=0),\" \",SUM(GE21:GP21))","v":" "},{"$f":"IF(OR(GE22=\" \",GE22=0),\" \",$BD$6*$C$7/12)","v":" "},{"$f":"IF(OR(GF22=\" \",GF22=0),\" \",$BD$6*$C$7/12)","v":" "}," "," "," "," "," "," "," "," "," "," ",{"$f":"IF(OR(GQ$16=\" \",GQ$16=0),\" \",SUM(GR21:HC21))","v":" "},{"$f":"IF(OR(GR22=\" \",GR22=0),\" \",$BD$6*$C$7/12)","v":" "},{"$f":"IF(OR(GS22=\" \",GS22=0),\" \",$BD$6*$C$7/12)","v":" "}," "," "," "," "," "," "," "," "," "," ",{"$f":"IF(OR(HD$16=\" \",HD$16=0),\" \",SUM(HE21:HP21))","v":" "},{"$f":"IF(OR(HE22=\" \",HE22=0),\" \",$BD$6*$C$7/12)","v":" "},{"$f":"IF(OR(HF22=\" \",HF22=0),\" \",$BD$6*$C$7/12)","v":" "}," "," "," "," "," "," "," "," "," "," ",{"$f":"IF(OR(HQ$16=\" \",HQ$16=0),\" \",SUM(HR21:IC21))","v":" "},{"$f":"IF(OR(HR22=\" \",HR22=0),\" \",$BD$6*$C$7/12)","v":" "},{"$f":"IF(OR(HS22=\" \",HS22=0),\" \",$BD$6*$C$7/12)","v":" "}," "," "," "," "," "," "," "," "," "," ",{"$f":"IF(OR(ID$16=\" \",ID$16=0),\" \",SUM(IE21:IP21))","v":" "},{"$f":"IF(OR(IE22=\" \",IE22=0),\" \",$BD$6*$C$7/12)","v":" "},{"$f":"IF(OR(IF22=\" \",IF22=0),\" \",$BD$6*$C$7/12)","v":" "}," "," "," "," "," "," "," "," "," "," ",{"$f":"IF(OR(IQ$16=\" \",IQ$16=0),\" \",SUM(IR21:JC21))","v":" "},{"$f":"IF(OR(IR22=\" \",IR22=0),\" \",$BD$6*$C$7/12)","v":" "},{"$f":"IF(OR(IS22=\" \",IS22=0),\" \",$BD$6*$C$7/12)","v":" "}," "," "," "," "," "," "," "," "," "," ",{"$f":"IF(OR(JD$16=\" \",JD$16=0),\" \",SUM(JE21:JP21))","v":" "},{"$f":"IF(OR(JE22=\" \",JE22=0),\" \",$BD$6*$C$7/12)","v":" "},{"$f":"IF(OR(JF22=\" \",JF22=0),\" \",$BD$6*$C$7/12)","v":" "}," "," "," "," "," "," "," "," "," "," ",{"$f":"IF(OR(JQ$16=\" \",JQ$16=0),\" \",SUM(JR21:KC21))","v":" "},{"$f":"IF(OR(JR22=\" \",JR22=0),\" \",$BD$6*$C$7/12)","v":" "},{"$f":"IF(OR(JS22=\" \",JS22=0),\" \",$BD$6*$C$7/12)","v":" "}," "," "," "," "," "," "," "," "," "," ",{"$f":"IF(OR(KD$16=\" \",KD$16=0),\" \",SUM(KE21:KP21))","v":" "},{"$f":"IF(OR(KE22=\" \",KE22=0),\" \",$BD$6*$C$7/12)","v":" "},{"$f":"IF(OR(KF22=\" \",KF22=0),\" \",$BD$6*$C$7/12)","v":" "}," "," "," "," "," "," "," "," "," "," ",{"$f":"IF(OR(KQ$16=\" \",KQ$16=0),\" \",SUM(KR21:LC21))","v":" "},{"$f":"IF(OR(KR22=\" \",KR22=0),\" \",$BD$6*$C$7/12)","v":" "},{"$f":"IF(OR(KS22=\" \",KS22=0),\" \",$BD$6*$C$7/12)","v":" "}," "," "," "," "," "," "," "," "," "," ",{"$f":"IF(OR(LD$16=\" \",LD$16=0),\" \",SUM(LE21:LP21))","v":" "},{"$f":"IF(OR(LE22=\" \",LE22=0),\" \",$BD$6*$C$7/12)","v":" "},{"$f":"IF(OR(LF22=\" \",LF22=0),\" \",$BD$6*$C$7/12)","v":" "}," "," "," "," "," "," "," "," "," "," ",{"$f":"IF(OR(LQ$16=\" \",LQ$16=0),\" \",SUM(LR21:MC21))","v":" "},{"$f":"IF(OR(LR22=\" \",LR22=0),\" \",$BD$6*$C$7/12)","v":" "},{"$f":"IF(OR(LS22=\" \",LS22=0),\" \",$BD$6*$C$7/12)","v":" "}," "," "," "," "," "," "," "," "," "," ",{"$f":"IF(OR(MD$16=\" \",MD$16=0),\" \",SUM(ME21:MP21))","v":" "},{"$f":"IF(OR(ME22=\" \",ME22=0),\" \",$BD$6*$C$7/12)","v":" "},{"$f":"IF(OR(MF22=\" \",MF22=0),\" \",$BD$6*$C$7/12)","v":" "}," "," "," "," "," "," "," "," "," "," ",{"$f":"IF(OR(MQ$16=\" \",MQ$16=0),\" \",SUM(MR21:NC21))","v":" "},{"$f":"IF(OR(MR22=\" \",MR22=0),\" \",$BD$6*$C$7/12)","v":" "},{"$f":"IF(OR(MS22=\" \",MS22=0),\" \",$BD$6*$C$7/12)","v":" "}," "," "," "," "," "," "," "," "," "," ",{"$f":"IF(OR(ND$16=\" \",ND$16=0),\" \",SUM(NE21:NP21))","v":" "},{"$f":"IF(OR(NE22=\" \",NE22=0),\" \",$BD$6*$C$7/12)","v":" "},{"$f":"IF(OR(NF22=\" \",NF22=0),\" \",$BD$6*$C$7/12)","v":" "}," "," "," "," "," "," "," "," "," "," "]
["Elektroenerģijas cena","EUR/MWh"," ",{"$f":"IF(OR(D$16=\" \",D$16=0,D21=0),\" \",SUMPRODUCT(E21:P21,E22:P22)/D21)","v":" "},{"$f":"IF(AND(E15>=$B$5,E15<$B$6),IF(E16=1,IF(E17>=$C$5,VLOOKUP(E18,Kurināmais!$A$4:$G$351,$NQ$8,FALSE)/9.2*Biomasa!$Q$6*$CQ$6,\" \"),IF(AND(E16>1,E16<=10),VLOOKUP(E18,Kurināmais!$A$4:$G$351,$NQ$8,FALSE)/9.2*Biomasa!$Q$6*$CQ$6,IF(E16=11,IF(E17<$C$5,VLOOKUP(E18,Kurināmais!$A$4:$G$351,$NQ$8,FALSE)/9.2*Biomasa!$Q$6*$CQ$6,VLOOKUP(E18,Kurināmais!$A$4:$G$351,$NQ$8,FALSE)/9.2*$AD$6*$CQ$6),IF(E16>11,VLOOKUP(E18,Kurināmais!$A$4:$G$351,$NQ$8,FALSE)/9.2*$AD$6*$CQ$6)))),IF(AND(E16=$NQ$4,$C$6=12),VLOOKUP(E18,Kurināmais!$A$4:$G$351,$NQ$8,FALSE)/9.2*$AD$6*$CQ$6,IF(AND(E16=$NQ$4+1,$C$6<12,E17<=$C$6,$NQ$4=10),VLOOKUP(E18,Kurināmais!$A$4:$G$351,$NQ$8,FALSE)/9.2*$Q$6*$CQ$6,IF(AND(E16=$NQ$4+1,$C$6<12,E17<=$C$6),VLOOKUP(E18,Kurināmais!$A$4:$G$351,$NQ$8,FALSE)/9.2*$AD$6*$CQ$6,\" \"))))","v":" "},{"$f":"IF(AND(F15>=$B$5,F15<$B$6),IF(F16=1,IF(F17>=$C$5,VLOOKUP(F18,Kurināmais!$A$4:$G$351,$NQ$8,FALSE)/9.2*Biomasa!$Q$6*$CQ$6,\" \"),IF(AND(F16>1,F16<=10),VLOOKUP(F18,Kurināmais!$A$4:$G$351,$NQ$8,FALSE)/9.2*Biomasa!$Q$6*$CQ$6,IF(F16=11,IF(F17<$C$5,VLOOKUP(F18,Kurināmais!$A$4:$G$351,$NQ$8,FALSE)/9.2*Biomasa!$Q$6*$CQ$6,VLOOKUP(F18,Kurināmais!$A$4:$G$351,$NQ$8,FALSE)/9.2*$AD$6*$CQ$6),IF(F16>11,VLOOKUP(F18,Kurināmais!$A$4:$G$351,$NQ$8,FALSE)/9.2*$AD$6*$CQ$6)))),IF(AND(F16=$NQ$4,$C$6=12),VLOOKUP(F18,Kurināmais!$A$4:$G$351,$NQ$8,FALSE)/9.2*$AD$6*$CQ$6,IF(AND(F16=$NQ$4+1,$C$6<12,F17<=$C$6,$NQ$4=10),VLOOKUP(F18,Kurināmais!$A$4:$G$351,$NQ$8,FALSE)/9.2*$Q$6*$CQ$6,IF(AND(F16=$NQ$4+1,$C$6<12,F17<=$C$6),VLOOKUP(F18,Kurināmais!$A$4:$G$351,$NQ$8,FALSE)/9.2*$AD$6*$CQ$6,\" \"))))","v":" "},{"$f":"IF(AND(G15>=$B$5,G15<$B$6),IF(G16=1,IF(G17>=$C$5,VLOOKUP(G18,Kurināmais!$A$4:$G$351,$NQ$8,FALSE)/9.2*Biomasa!$Q$6*$CQ$6,\" \"),IF(AND(G16>1,G16<=10),VLOOKUP(G18,Kurināmais!$A$4:$G$351,$NQ$8,FALSE)/9.2*Biomasa!$Q$6*$CQ$6,IF(G16=11,IF(G17<$C$5,VLOOKUP(G18,Kurināmais!$A$4:$G$351,$NQ$8,FALSE)/9.2*Biomasa!$Q$6*$CQ$6,VLOOKUP(G18,Kurināmais!$A$4:$G$351,$NQ$8,FALSE)/9.2*$AD$6*$CQ$6),IF(G16>11,VLOOKUP(G18,Kurināmais!$A$4:$G$351,$NQ$8,FALSE)/9.2*$AD$6*$CQ$6)))),IF(AND(G16=$NQ$4,$C$6=12),VLOOKUP(G18,Kurināmais!$A$4:$G$351,$NQ$8,FALSE)/9.2*$AD$6*$CQ$6,IF(AND(G16=$NQ$4+1,$C$6<12,G17<=$C$6,$NQ$4=10),VLOOKUP(G18,Kurināmais!$A$4:$G$351,$NQ$8,FALSE)/9.2*$Q$6*$CQ$6,IF(AND(G16=$NQ$4+1,$C$6<12,G17<=$C$6),VLOOKUP(G18,Kurināmais!$A$4:$G$351,$NQ$8,FALSE)/9.2*$AD$6*$CQ$6,\" \"))))","v":" "},{"$f":"IF(AND(H15>=$B$5,H15<$B$6),IF(H16=1,IF(H17>=$C$5,VLOOKUP(H18,Kurināmais!$A$4:$G$351,$NQ$8,FALSE)/9.2*Biomasa!$Q$6*$CQ$6,\" \"),IF(AND(H16>1,H16<=10),VLOOKUP(H18,Kurināmais!$A$4:$G$351,$NQ$8,FALSE)/9.2*Biomasa!$Q$6*$CQ$6,IF(H16=11,IF(H17<$C$5,VLOOKUP(H18,Kurināmais!$A$4:$G$351,$NQ$8,FALSE)/9.2*Biomasa!$Q$6*$CQ$6,VLOOKUP(H18,Kurināmais!$A$4:$G$351,$NQ$8,FALSE)/9.2*$AD$6*$CQ$6),IF(H16>11,VLOOKUP(H18,Kurināmais!$A$4:$G$351,$NQ$8,FALSE)/9.2*$AD$6*$CQ$6)))),IF(AND(H16=$NQ$4,$C$6=12),VLOOKUP(H18,Kurināmais!$A$4:$G$351,$NQ$8,FALSE)/9.2*$AD$6*$CQ$6,IF(AND(H16=$NQ$4+1,$C$6<12,H17<=$C$6,$NQ$4=10),VLOOKUP(H18,Kurināmais!$A$4:$G$351,$NQ$8,FALSE)/9.2*$Q$6*$CQ$6,IF(AND(H16=$NQ$4+1,$C$6<12,H17<=$C$6),VLOOKUP(H18,Kurināmais!$A$4:$G$351,$NQ$8,FALSE)/9.2*$AD$6*$CQ$6,\" \"))))","v":" "},{"$f":"IF(AND(I15>=$B$5,I15<$B$6),IF(I16=1,IF(I17>=$C$5,VLOOKUP(I18,Kurināmais!$A$4:$G$351,$NQ$8,FALSE)/9.2*Biomasa!$Q$6*$CQ$6,\" \"),IF(AND(I16>1,I16<=10),VLOOKUP(I18,Kurināmais!$A$4:$G$351,$NQ$8,FALSE)/9.2*Biomasa!$Q$6*$CQ$6,IF(I16=11,IF(I17<$C$5,VLOOKUP(I18,Kurināmais!$A$4:$G$351,$NQ$8,FALSE)/9.2*Biomasa!$Q$6*$CQ$6,VLOOKUP(I18,Kurināmais!$A$4:$G$351,$NQ$8,FALSE)/9.2*$AD$6*$CQ$6),IF(I16>11,VLOOKUP(I18,Kurināmais!$A$4:$G$351,$NQ$8,FALSE)/9.2*$AD$6*$CQ$6)))),IF(AND(I16=$NQ$4,$C$6=12),VLOOKUP(I18,Kurināmais!$A$4:$G$351,$NQ$8,FALSE)/9.2*$AD$6*$CQ$6,IF(AND(I16=$NQ$4+1,$C$6<12,I17<=$C$6,$NQ$4=10),VLOOKUP(I18,Kurināmais!$A$4:$G$351,$NQ$8,FALSE)/9.2*$Q$6*$CQ$6,IF(AND(I16=$NQ$4+1,$C$6<12,I17<=$C$6),VLOOKUP(I18,Kurināmais!$A$4:$G$351,$NQ$8,FALSE)/9.2*$AD$6*$CQ$6,\" \"))))","v":" "},{"$f":"IF(AND(J15>=$B$5,J15<$B$6),IF(J16=1,IF(J17>=$C$5,VLOOKUP(J18,Kurināmais!$A$4:$G$351,$NQ$8,FALSE)/9.2*Biomasa!$Q$6*$CQ$6,\" \"),IF(AND(J16>1,J16<=10),VLOOKUP(J18,Kurināmais!$A$4:$G$351,$NQ$8,FALSE)/9.2*Biomasa!$Q$6*$CQ$6,IF(J16=11,IF(J17<$C$5,VLOOKUP(J18,Kurināmais!$A$4:$G$351,$NQ$8,FALSE)/9.2*Biomasa!$Q$6*$CQ$6,VLOOKUP(J18,Kurināmais!$A$4:$G$351,$NQ$8,FALSE)/9.2*$AD$6*$CQ$6),IF(J16>11,VLOOKUP(J18,Kurināmais!$A$4:$G$351,$NQ$8,FALSE)/9.2*$AD$6*$CQ$6)))),IF(AND(J16=$NQ$4,$C$6=12),VLOOKUP(J18,Kurināmais!$A$4:$G$351,$NQ$8,FALSE)/9.2*$AD$6*$CQ$6,IF(AND(J16=$NQ$4+1,$C$6<12,J17<=$C$6,$NQ$4=10),VLOOKUP(J18,Kurināmais!$A$4:$G$351,$NQ$8,FALSE)/9.2*$Q$6*$CQ$6,IF(AND(J16=$NQ$4+1,$C$6<12,J17<=$C$6),VLOOKUP(J18,Kurināmais!$A$4:$G$351,$NQ$8,FALSE)/9.2*$AD$6*$CQ$6,\" \"))))","v":" "},{"$f":"IF(AND(K15>=$B$5,K15<$B$6),IF(K16=1,IF(K17>=$C$5,VLOOKUP(K18,Kurināmais!$A$4:$G$351,$NQ$8,FALSE)/9.2*Biomasa!$Q$6*$CQ$6,\" \"),IF(AND(K16>1,K16<=10),VLOOKUP(K18,Kurināmais!$A$4:$G$351,$NQ$8,FALSE)/9.2*Biomasa!$Q$6*$CQ$6,IF(K16=11,IF(K17<$C$5,VLOOKUP(K18,Kurināmais!$A$4:$G$351,$NQ$8,FALSE)/9.2*Biomasa!$Q$6*$CQ$6,VLOOKUP(K18,Kurināmais!$A$4:$G$351,$NQ$8,FALSE)/9.2*$AD$6*$CQ$6),IF(K16>11,VLOOKUP(K18,Kurināmais!$A$4:$G$351,$NQ$8,FALSE)/9.2*$AD$6*$CQ$6)))),IF(AND(K16=$NQ$4,$C$6=12),VLOOKUP(K18,Kurināmais!$A$4:$G$351,$NQ$8,FALSE)/9.2*$AD$6*$CQ$6,IF(AND(K16=$NQ$4+1,$C$6<12,K17<=$C$6,$NQ$4=10),VLOOKUP(K18,Kurināmais!$A$4:$G$351,$NQ$8,FALSE)/9.2*$Q$6*$CQ$6,IF(AND(K16=$NQ$4+1,$C$6<12,K17<=$C$6),VLOOKUP(K18,Kurināmais!$A$4:$G$351,$NQ$8,FALSE)/9.2*$AD$6*$CQ$6,\" \"))))","v":" "},{"$f":"IF(AND(L15>=$B$5,L15<$B$6),IF(L16=1,IF(L17>=$C$5,VLOOKUP(L18,Kurināmais!$A$4:$G$351,$NQ$8,FALSE)/9.2*Biomasa!$Q$6*$CQ$6,\" \"),IF(AND(L16>1,L16<=10),VLOOKUP(L18,Kurināmais!$A$4:$G$351,$NQ$8,FALSE)/9.2*Biomasa!$Q$6*$CQ$6,IF(L16=11,IF(L17<$C$5,VLOOKUP(L18,Kurināmais!$A$4:$G$351,$NQ$8,FALSE)/9.2*Biomasa!$Q$6*$CQ$6,VLOOKUP(L18,Kurināmais!$A$4:$G$351,$NQ$8,FALSE)/9.2*$AD$6*$CQ$6),IF(L16>11,VLOOKUP(L18,Kurināmais!$A$4:$G$351,$NQ$8,FALSE)/9.2*$AD$6*$CQ$6)))),IF(AND(L16=$NQ$4,$C$6=12),VLOOKUP(L18,Kurināmais!$A$4:$G$351,$NQ$8,FALSE)/9.2*$AD$6*$CQ$6,IF(AND(L16=$NQ$4+1,$C$6<12,L17<=$C$6,$NQ$4=10),VLOOKUP(L18,Kurināmais!$A$4:$G$351,$NQ$8,FALSE)/9.2*$Q$6*$CQ$6,IF(AND(L16=$NQ$4+1,$C$6<12,L17<=$C$6),VLOOKUP(L18,Kurināmais!$A$4:$G$351,$NQ$8,FALSE)/9.2*$AD$6*$CQ$6,\" \"))))","v":" "},{"$f":"IF(AND(M15>=$B$5,M15<$B$6),IF(M16=1,IF(M17>=$C$5,VLOOKUP(M18,Kurināmais!$A$4:$G$351,$NQ$8,FALSE)/9.2*Biomasa!$Q$6*$CQ$6,\" \"),IF(AND(M16>1,M16<=10),VLOOKUP(M18,Kurināmais!$A$4:$G$351,$NQ$8,FALSE)/9.2*Biomasa!$Q$6*$CQ$6,IF(M16=11,IF(M17<$C$5,VLOOKUP(M18,Kurināmais!$A$4:$G$351,$NQ$8,FALSE)/9.2*Biomasa!$Q$6*$CQ$6,VLOOKUP(M18,Kurināmais!$A$4:$G$351,$NQ$8,FALSE)/9.2*$AD$6*$CQ$6),IF(M16>11,VLOOKUP(M18,Kurināmais!$A$4:$G$351,$NQ$8,FALSE)/9.2*$AD$6*$CQ$6)))),IF(AND(M16=$NQ$4,$C$6=12),VLOOKUP(M18,Kurināmais!$A$4:$G$351,$NQ$8,FALSE)/9.2*$AD$6*$CQ$6,IF(AND(M16=$NQ$4+1,$C$6<12,M17<=$C$6,$NQ$4=10),VLOOKUP(M18,Kurināmais!$A$4:$G$351,$NQ$8,FALSE)/9.2*$Q$6*$CQ$6,IF(AND(M16=$NQ$4+1,$C$6<12,M17<=$C$6),VLOOKUP(M18,Kurināmais!$A$4:$G$351,$NQ$8,FALSE)/9.2*$AD$6*$CQ$6,\" \"))))","v":" "},{"$f":"IF(AND(N15>=$B$5,N15<$B$6),IF(N16=1,IF(N17>=$C$5,VLOOKUP(N18,Kurināmais!$A$4:$G$351,$NQ$8,FALSE)/9.2*Biomasa!$Q$6*$CQ$6,\" \"),IF(AND(N16>1,N16<=10),VLOOKUP(N18,Kurināmais!$A$4:$G$351,$NQ$8,FALSE)/9.2*Biomasa!$Q$6*$CQ$6,IF(N16=11,IF(N17<$C$5,VLOOKUP(N18,Kurināmais!$A$4:$G$351,$NQ$8,FALSE)/9.2*Biomasa!$Q$6*$CQ$6,VLOOKUP(N18,Kurināmais!$A$4:$G$351,$NQ$8,FALSE)/9.2*$AD$6*$CQ$6),IF(N16>11,VLOOKUP(N18,Kurināmais!$A$4:$G$351,$NQ$8,FALSE)/9.2*$AD$6*$CQ$6)))),IF(AND(N16=$NQ$4,$C$6=12),VLOOKUP(N18,Kurināmais!$A$4:$G$351,$NQ$8,FALSE)/9.2*$AD$6*$CQ$6,IF(AND(N16=$NQ$4+1,$C$6<12,N17<=$C$6,$NQ$4=10),VLOOKUP(N18,Kurināmais!$A$4:$G$351,$NQ$8,FALSE)/9.2*$Q$6*$CQ$6,IF(AND(N16=$NQ$4+1,$C$6<12,N17<=$C$6),VLOOKUP(N18,Kurināmais!$A$4:$G$351,$NQ$8,FALSE)/9.2*$AD$6*$CQ$6,\" \"))))","v":" "},{"$f":"IF(AND(O15>=$B$5,O15<$B$6),IF(O16=1,IF(O17>=$C$5,VLOOKUP(O18,Kurināmais!$A$4:$G$351,$NQ$8,FALSE)/9.2*Biomasa!$Q$6*$CQ$6,\" \"),IF(AND(O16>1,O16<=10),VLOOKUP(O18,Kurināmais!$A$4:$G$351,$NQ$8,FALSE)/9.2*Biomasa!$Q$6*$CQ$6,IF(O16=11,IF(O17<$C$5,VLOOKUP(O18,Kurināmais!$A$4:$G$351,$NQ$8,FALSE)/9.2*Biomasa!$Q$6*$CQ$6,VLOOKUP(O18,Kurināmais!$A$4:$G$351,$NQ$8,FALSE)/9.2*$AD$6*$CQ$6),IF(O16>11,VLOOKUP(O18,Kurināmais!$A$4:$G$351,$NQ$8,FALSE)/9.2*$AD$6*$CQ$6)))),IF(AND(O16=$NQ$4,$C$6=12),VLOOKUP(O18,Kurināmais!$A$4:$G$351,$NQ$8,FALSE)/9.2*$AD$6*$CQ$6,IF(AND(O16=$NQ$4+1,$C$6<12,O17<=$C$6,$NQ$4=10),VLOOKUP(O18,Kurināmais!$A$4:$G$351,$NQ$8,FALSE)/9.2*$Q$6*$CQ$6,IF(AND(O16=$NQ$4+1,$C$6<12,O17<=$C$6),VLOOKUP(O18,Kurināmais!$A$4:$G$351,$NQ$8,FALSE)/9.2*$AD$6*$CQ$6,\" \"))))","v":" "},{"$f":"IF(AND(P15>=$B$5,P15<$B$6),IF(P16=1,IF(P17>=$C$5,VLOOKUP(P18,Kurināmais!$A$4:$G$351,$NQ$8,FALSE)/9.2*Biomasa!$Q$6*$CQ$6,\" \"),IF(AND(P16>1,P16<=10),VLOOKUP(P18,Kurināmais!$A$4:$G$351,$NQ$8,FALSE)/9.2*Biomasa!$Q$6*$CQ$6,IF(P16=11,IF(P17<$C$5,VLOOKUP(P18,Kurināmais!$A$4:$G$351,$NQ$8,FALSE)/9.2*Biomasa!$Q$6*$CQ$6,VLOOKUP(P18,Kurināmais!$A$4:$G$351,$NQ$8,FALSE)/9.2*$AD$6*$CQ$6),IF(P16>11,VLOOKUP(P18,Kurināmais!$A$4:$G$351,$NQ$8,FALSE)/9.2*$AD$6*$CQ$6)))),IF(AND(P16=$NQ$4,$C$6=12),VLOOKUP(P18,Kurināmais!$A$4:$G$351,$NQ$8,FALSE)/9.2*$AD$6*$CQ$6,IF(AND(P16=$NQ$4+1,$C$6<12,P17<=$C$6,$NQ$4=10),VLOOKUP(P18,Kurināmais!$A$4:$G$351,$NQ$8,FALSE)/9.2*$Q$6*$CQ$6,IF(AND(P16=$NQ$4+1,$C$6<12,P17<=$C$6),VLOOKUP(P18,Kurināmais!$A$4:$G$351,$NQ$8,FALSE)/9.2*$AD$6*$CQ$6,\" \"))))","v":" "},{"$f":"IF(OR(Q$16=\" \",Q$16=0,Q21=0),\" \",SUMPRODUCT(R21:AC21,R22:AC22)/Q21)","v":" "},{"$f":"IF(AND(R15>=$B$5,R15<$B$6),IF(R16=1,IF(R17>=$C$5,VLOOKUP(R18,Kurināmais!$A$4:$G$351,$NQ$8,FALSE)/9.2*Biomasa!$Q$6*$CQ$6,\" \"),IF(AND(R16>1,R16<=10),VLOOKUP(R18,Kurināmais!$A$4:$G$351,$NQ$8,FALSE)/9.2*Biomasa!$Q$6*$CQ$6,IF(R16=11,IF(R17<$C$5,VLOOKUP(R18,Kurināmais!$A$4:$G$351,$NQ$8,FALSE)/9.2*Biomasa!$Q$6*$CQ$6,VLOOKUP(R18,Kurināmais!$A$4:$G$351,$NQ$8,FALSE)/9.2*$AD$6*$CQ$6),IF(R16>11,VLOOKUP(R18,Kurināmais!$A$4:$G$351,$NQ$8,FALSE)/9.2*$AD$6*$CQ$6)))),IF(AND(R16=$NQ$4,$C$6=12),VLOOKUP(R18,Kurināmais!$A$4:$G$351,$NQ$8,FALSE)/9.2*$AD$6*$CQ$6,IF(AND(R16=$NQ$4+1,$C$6<12,R17<=$C$6,$NQ$4=10),VLOOKUP(R18,Kurināmais!$A$4:$G$351,$NQ$8,FALSE)/9.2*$Q$6*$CQ$6,IF(AND(R16=$NQ$4+1,$C$6<12,R17<=$C$6),VLOOKUP(R18,Kurināmais!$A$4:$G$351,$NQ$8,FALSE)/9.2*$AD$6*$CQ$6,\" \"))))","v":" "},{"$f":"IF(AND(S15>=$B$5,S15<$B$6),IF(S16=1,IF(S17>=$C$5,VLOOKUP(S18,Kurināmais!$A$4:$G$351,$NQ$8,FALSE)/9.2*Biomasa!$Q$6*$CQ$6,\" \"),IF(AND(S16>1,S16<=10),VLOOKUP(S18,Kurināmais!$A$4:$G$351,$NQ$8,FALSE)/9.2*Biomasa!$Q$6*$CQ$6,IF(S16=11,IF(S17<$C$5,VLOOKUP(S18,Kurināmais!$A$4:$G$351,$NQ$8,FALSE)/9.2*Biomasa!$Q$6*$CQ$6,VLOOKUP(S18,Kurināmais!$A$4:$G$351,$NQ$8,FALSE)/9.2*$AD$6*$CQ$6),IF(S16>11,VLOOKUP(S18,Kurināmais!$A$4:$G$351,$NQ$8,FALSE)/9.2*$AD$6*$CQ$6)))),IF(AND(S16=$NQ$4,$C$6=12),VLOOKUP(S18,Kurināmais!$A$4:$G$351,$NQ$8,FALSE)/9.2*$AD$6*$CQ$6,IF(AND(S16=$NQ$4+1,$C$6<12,S17<=$C$6,$NQ$4=10),VLOOKUP(S18,Kurināmais!$A$4:$G$351,$NQ$8,FALSE)/9.2*$Q$6*$CQ$6,IF(AND(S16=$NQ$4+1,$C$6<12,S17<=$C$6),VLOOKUP(S18,Kurināmais!$A$4:$G$351,$NQ$8,FALSE)/9.2*$AD$6*$CQ$6,\" \"))))","v":" "},{"$f":"IF(AND(T15>=$B$5,T15<$B$6),IF(T16=1,IF(T17>=$C$5,VLOOKUP(T18,Kurināmais!$A$4:$G$351,$NQ$8,FALSE)/9.2*Biomasa!$Q$6*$CQ$6,\" \"),IF(AND(T16>1,T16<=10),VLOOKUP(T18,Kurināmais!$A$4:$G$351,$NQ$8,FALSE)/9.2*Biomasa!$Q$6*$CQ$6,IF(T16=11,IF(T17<$C$5,VLOOKUP(T18,Kurināmais!$A$4:$G$351,$NQ$8,FALSE)/9.2*Biomasa!$Q$6*$CQ$6,VLOOKUP(T18,Kurināmais!$A$4:$G$351,$NQ$8,FALSE)/9.2*$AD$6*$CQ$6),IF(T16>11,VLOOKUP(T18,Kurināmais!$A$4:$G$351,$NQ$8,FALSE)/9.2*$AD$6*$CQ$6)))),IF(AND(T16=$NQ$4,$C$6=12),VLOOKUP(T18,Kurināmais!$A$4:$G$351,$NQ$8,FALSE)/9.2*$AD$6*$CQ$6,IF(AND(T16=$NQ$4+1,$C$6<12,T17<=$C$6,$NQ$4=10),VLOOKUP(T18,Kurināmais!$A$4:$G$351,$NQ$8,FALSE)/9.2*$Q$6*$CQ$6,IF(AND(T16=$NQ$4+1,$C$6<12,T17<=$C$6),VLOOKUP(T18,Kurināmais!$A$4:$G$351,$NQ$8,FALSE)/9.2*$AD$6*$CQ$6,\" \"))))","v":" "},{"$f":"IF(AND(U15>=$B$5,U15<$B$6),IF(U16=1,IF(U17>=$C$5,VLOOKUP(U18,Kurināmais!$A$4:$G$351,$NQ$8,FALSE)/9.2*Biomasa!$Q$6*$CQ$6,\" \"),IF(AND(U16>1,U16<=10),VLOOKUP(U18,Kurināmais!$A$4:$G$351,$NQ$8,FALSE)/9.2*Biomasa!$Q$6*$CQ$6,IF(U16=11,IF(U17<$C$5,VLOOKUP(U18,Kurināmais!$A$4:$G$351,$NQ$8,FALSE)/9.2*Biomasa!$Q$6*$CQ$6,VLOOKUP(U18,Kurināmais!$A$4:$G$351,$NQ$8,FALSE)/9.2*$AD$6*$CQ$6),IF(U16>11,VLOOKUP(U18,Kurināmais!$A$4:$G$351,$NQ$8,FALSE)/9.2*$AD$6*$CQ$6)))),IF(AND(U16=$NQ$4,$C$6=12),VLOOKUP(U18,Kurināmais!$A$4:$G$351,$NQ$8,FALSE)/9.2*$AD$6*$CQ$6,IF(AND(U16=$NQ$4+1,$C$6<12,U17<=$C$6,$NQ$4=10),VLOOKUP(U18,Kurināmais!$A$4:$G$351,$NQ$8,FALSE)/9.2*$Q$6*$CQ$6,IF(AND(U16=$NQ$4+1,$C$6<12,U17<=$C$6),VLOOKUP(U18,Kurināmais!$A$4:$G$351,$NQ$8,FALSE)/9.2*$AD$6*$CQ$6,\" \"))))","v":" "},{"$f":"IF(AND(V15>=$B$5,V15<$B$6),IF(V16=1,IF(V17>=$C$5,VLOOKUP(V18,Kurināmais!$A$4:$G$351,$NQ$8,FALSE)/9.2*Biomasa!$Q$6*$CQ$6,\" \"),IF(AND(V16>1,V16<=10),VLOOKUP(V18,Kurināmais!$A$4:$G$351,$NQ$8,FALSE)/9.2*Biomasa!$Q$6*$CQ$6,IF(V16=11,IF(V17<$C$5,VLOOKUP(V18,Kurināmais!$A$4:$G$351,$NQ$8,FALSE)/9.2*Biomasa!$Q$6*$CQ$6,VLOOKUP(V18,Kurināmais!$A$4:$G$351,$NQ$8,FALSE)/9.2*$AD$6*$CQ$6),IF(V16>11,VLOOKUP(V18,Kurināmais!$A$4:$G$351,$NQ$8,FALSE)/9.2*$AD$6*$CQ$6)))),IF(AND(V16=$NQ$4,$C$6=12),VLOOKUP(V18,Kurināmais!$A$4:$G$351,$NQ$8,FALSE)/9.2*$AD$6*$CQ$6,IF(AND(V16=$NQ$4+1,$C$6<12,V17<=$C$6,$NQ$4=10),VLOOKUP(V18,Kurināmais!$A$4:$G$351,$NQ$8,FALSE)/9.2*$Q$6*$CQ$6,IF(AND(V16=$NQ$4+1,$C$6<12,V17<=$C$6),VLOOKUP(V18,Kurināmais!$A$4:$G$351,$NQ$8,FALSE)/9.2*$AD$6*$CQ$6,\" \"))))","v":" "},{"$f":"IF(AND(W15>=$B$5,W15<$B$6),IF(W16=1,IF(W17>=$C$5,VLOOKUP(W18,Kurināmais!$A$4:$G$351,$NQ$8,FALSE)/9.2*Biomasa!$Q$6*$CQ$6,\" \"),IF(AND(W16>1,W16<=10),VLOOKUP(W18,Kurināmais!$A$4:$G$351,$NQ$8,FALSE)/9.2*Biomasa!$Q$6*$CQ$6,IF(W16=11,IF(W17<$C$5,VLOOKUP(W18,Kurināmais!$A$4:$G$351,$NQ$8,FALSE)/9.2*Biomasa!$Q$6*$CQ$6,VLOOKUP(W18,Kurināmais!$A$4:$G$351,$NQ$8,FALSE)/9.2*$AD$6*$CQ$6),IF(W16>11,VLOOKUP(W18,Kurināmais!$A$4:$G$351,$NQ$8,FALSE)/9.2*$AD$6*$CQ$6)))),IF(AND(W16=$NQ$4,$C$6=12),VLOOKUP(W18,Kurināmais!$A$4:$G$351,$NQ$8,FALSE)/9.2*$AD$6*$CQ$6,IF(AND(W16=$NQ$4+1,$C$6<12,W17<=$C$6,$NQ$4=10),VLOOKUP(W18,Kurināmais!$A$4:$G$351,$NQ$8,FALSE)/9.2*$Q$6*$CQ$6,IF(AND(W16=$NQ$4+1,$C$6<12,W17<=$C$6),VLOOKUP(W18,Kurināmais!$A$4:$G$351,$NQ$8,FALSE)/9.2*$AD$6*$CQ$6,\" \"))))","v":" "},{"$f":"IF(AND(X15>=$B$5,X15<$B$6),IF(X16=1,IF(X17>=$C$5,VLOOKUP(X18,Kurināmais!$A$4:$G$351,$NQ$8,FALSE)/9.2*Biomasa!$Q$6*$CQ$6,\" \"),IF(AND(X16>1,X16<=10),VLOOKUP(X18,Kurināmais!$A$4:$G$351,$NQ$8,FALSE)/9.2*Biomasa!$Q$6*$CQ$6,IF(X16=11,IF(X17<$C$5,VLOOKUP(X18,Kurināmais!$A$4:$G$351,$NQ$8,FALSE)/9.2*Biomasa!$Q$6*$CQ$6,VLOOKUP(X18,Kurināmais!$A$4:$G$351,$NQ$8,FALSE)/9.2*$AD$6*$CQ$6),IF(X16>11,VLOOKUP(X18,Kurināmais!$A$4:$G$351,$NQ$8,FALSE)/9.2*$AD$6*$CQ$6)))),IF(AND(X16=$NQ$4,$C$6=12),VLOOKUP(X18,Kurināmais!$A$4:$G$351,$NQ$8,FALSE)/9.2*$AD$6*$CQ$6,IF(AND(X16=$NQ$4+1,$C$6<12,X17<=$C$6,$NQ$4=10),VLOOKUP(X18,Kurināmais!$A$4:$G$351,$NQ$8,FALSE)/9.2*$Q$6*$CQ$6,IF(AND(X16=$NQ$4+1,$C$6<12,X17<=$C$6),VLOOKUP(X18,Kurināmais!$A$4:$G$351,$NQ$8,FALSE)/9.2*$AD$6*$CQ$6,\" \"))))","v":" "},{"$f":"IF(AND(Y15>=$B$5,Y15<$B$6),IF(Y16=1,IF(Y17>=$C$5,VLOOKUP(Y18,Kurināmais!$A$4:$G$351,$NQ$8,FALSE)/9.2*Biomasa!$Q$6*$CQ$6,\" \"),IF(AND(Y16>1,Y16<=10),VLOOKUP(Y18,Kurināmais!$A$4:$G$351,$NQ$8,FALSE)/9.2*Biomasa!$Q$6*$CQ$6,IF(Y16=11,IF(Y17<$C$5,VLOOKUP(Y18,Kurināmais!$A$4:$G$351,$NQ$8,FALSE)/9.2*Biomasa!$Q$6*$CQ$6,VLOOKUP(Y18,Kurināmais!$A$4:$G$351,$NQ$8,FALSE)/9.2*$AD$6*$CQ$6),IF(Y16>11,VLOOKUP(Y18,Kurināmais!$A$4:$G$351,$NQ$8,FALSE)/9.2*$AD$6*$CQ$6)))),IF(AND(Y16=$NQ$4,$C$6=12),VLOOKUP(Y18,Kurināmais!$A$4:$G$351,$NQ$8,FALSE)/9.2*$AD$6*$CQ$6,IF(AND(Y16=$NQ$4+1,$C$6<12,Y17<=$C$6,$NQ$4=10),VLOOKUP(Y18,Kurināmais!$A$4:$G$351,$NQ$8,FALSE)/9.2*$Q$6*$CQ$6,IF(AND(Y16=$NQ$4+1,$C$6<12,Y17<=$C$6),VLOOKUP(Y18,Kurināmais!$A$4:$G$351,$NQ$8,FALSE)/9.2*$AD$6*$CQ$6,\" \"))))","v":" "},{"$f":"IF(AND(Z15>=$B$5,Z15<$B$6),IF(Z16=1,IF(Z17>=$C$5,VLOOKUP(Z18,Kurināmais!$A$4:$G$351,$NQ$8,FALSE)/9.2*Biomasa!$Q$6*$CQ$6,\" \"),IF(AND(Z16>1,Z16<=10),VLOOKUP(Z18,Kurināmais!$A$4:$G$351,$NQ$8,FALSE)/9.2*Biomasa!$Q$6*$CQ$6,IF(Z16=11,IF(Z17<$C$5,VLOOKUP(Z18,Kurināmais!$A$4:$G$351,$NQ$8,FALSE)/9.2*Biomasa!$Q$6*$CQ$6,VLOOKUP(Z18,Kurināmais!$A$4:$G$351,$NQ$8,FALSE)/9.2*$AD$6*$CQ$6),IF(Z16>11,VLOOKUP(Z18,Kurināmais!$A$4:$G$351,$NQ$8,FALSE)/9.2*$AD$6*$CQ$6)))),IF(AND(Z16=$NQ$4,$C$6=12),VLOOKUP(Z18,Kurināmais!$A$4:$G$351,$NQ$8,FALSE)/9.2*$AD$6*$CQ$6,IF(AND(Z16=$NQ$4+1,$C$6<12,Z17<=$C$6,$NQ$4=10),VLOOKUP(Z18,Kurināmais!$A$4:$G$351,$NQ$8,FALSE)/9.2*$Q$6*$CQ$6,IF(AND(Z16=$NQ$4+1,$C$6<12,Z17<=$C$6),VLOOKUP(Z18,Kurināmais!$A$4:$G$351,$NQ$8,FALSE)/9.2*$AD$6*$CQ$6,\" \"))))","v":" "},{"$f":"IF(AND(AA15>=$B$5,AA15<$B$6),IF(AA16=1,IF(AA17>=$C$5,VLOOKUP(AA18,Kurināmais!$A$4:$G$351,$NQ$8,FALSE)/9.2*Biomasa!$Q$6*$CQ$6,\" \"),IF(AND(AA16>1,AA16<=10),VLOOKUP(AA18,Kurināmais!$A$4:$G$351,$NQ$8,FALSE)/9.2*Biomasa!$Q$6*$CQ$6,IF(AA16=11,IF(AA17<$C$5,VLOOKUP(AA18,Kurināmais!$A$4:$G$351,$NQ$8,FALSE)/9.2*Biomasa!$Q$6*$CQ$6,VLOOKUP(AA18,Kurināmais!$A$4:$G$351,$NQ$8,FALSE)/9.2*$AD$6*$CQ$6),IF(AA16>11,VLOOKUP(AA18,Kurināmais!$A$4:$G$351,$NQ$8,FALSE)/9.2*$AD$6*$CQ$6)))),IF(AND(AA16=$NQ$4,$C$6=12),VLOOKUP(AA18,Kurināmais!$A$4:$G$351,$NQ$8,FALSE)/9.2*$AD$6*$CQ$6,IF(AND(AA16=$NQ$4+1,$C$6<12,AA17<=$C$6,$NQ$4=10),VLOOKUP(AA18,Kurināmais!$A$4:$G$351,$NQ$8,FALSE)/9.2*$Q$6*$CQ$6,IF(AND(AA16=$NQ$4+1,$C$6<12,AA17<=$C$6),VLOOKUP(AA18,Kurināmais!$A$4:$G$351,$NQ$8,FALSE)/9.2*$AD$6*$CQ$6,\" \"))))","v":" "},{"$f":"IF(AND(AB15>=$B$5,AB15<$B$6),IF(AB16=1,IF(AB17>=$C$5,VLOOKUP(AB18,Kurināmais!$A$4:$G$351,$NQ$8,FALSE)/9.2*Biomasa!$Q$6*$CQ$6,\" \"),IF(AND(AB16>1,AB16<=10),VLOOKUP(AB18,Kurināmais!$A$4:$G$351,$NQ$8,FALSE)/9.2*Biomasa!$Q$6*$CQ$6,IF(AB16=11,IF(AB17<$C$5,VLOOKUP(AB18,Kurināmais!$A$4:$G$351,$NQ$8,FALSE)/9.2*Biomasa!$Q$6*$CQ$6,VLOOKUP(AB18,Kurināmais!$A$4:$G$351,$NQ$8,FALSE)/9.2*$AD$6*$CQ$6),IF(AB16>11,VLOOKUP(AB18,Kurināmais!$A$4:$G$351,$NQ$8,FALSE)/9.2*$AD$6*$CQ$6)))),IF(AND(AB16=$NQ$4,$C$6=12),VLOOKUP(AB18,Kurināmais!$A$4:$G$351,$NQ$8,FALSE)/9.2*$AD$6*$CQ$6,IF(AND(AB16=$NQ$4+1,$C$6<12,AB17<=$C$6,$NQ$4=10),VLOOKUP(AB18,Kurināmais!$A$4:$G$351,$NQ$8,FALSE)/9.2*$Q$6*$CQ$6,IF(AND(AB16=$NQ$4+1,$C$6<12,AB17<=$C$6),VLOOKUP(AB18,Kurināmais!$A$4:$G$351,$NQ$8,FALSE)/9.2*$AD$6*$CQ$6,\" \"))))","v":" "},{"$f":"IF(AND(AC15>=$B$5,AC15<$B$6),IF(AC16=1,IF(AC17>=$C$5,VLOOKUP(AC18,Kurināmais!$A$4:$G$351,$NQ$8,FALSE)/9.2*Biomasa!$Q$6*$CQ$6,\" \"),IF(AND(AC16>1,AC16<=10),VLOOKUP(AC18,Kurināmais!$A$4:$G$351,$NQ$8,FALSE)/9.2*Biomasa!$Q$6*$CQ$6,IF(AC16=11,IF(AC17<$C$5,VLOOKUP(AC18,Kurināmais!$A$4:$G$351,$NQ$8,FALSE)/9.2*Biomasa!$Q$6*$CQ$6,VLOOKUP(AC18,Kurināmais!$A$4:$G$351,$NQ$8,FALSE)/9.2*$AD$6*$CQ$6),IF(AC16>11,VLOOKUP(AC18,Kurināmais!$A$4:$G$351,$NQ$8,FALSE)/9.2*$AD$6*$CQ$6)))),IF(AND(AC16=$NQ$4,$C$6=12),VLOOKUP(AC18,Kurināmais!$A$4:$G$351,$NQ$8,FALSE)/9.2*$AD$6*$CQ$6,IF(AND(AC16=$NQ$4+1,$C$6<12,AC17<=$C$6,$NQ$4=10),VLOOKUP(AC18,Kurināmais!$A$4:$G$351,$NQ$8,FALSE)/9.2*$Q$6*$CQ$6,IF(AND(AC16=$NQ$4+1,$C$6<12,AC17<=$C$6),VLOOKUP(AC18,Kurināmais!$A$4:$G$351,$NQ$8,FALSE)/9.2*$AD$6*$CQ$6,\" \"))))","v":" "},{"$f":"IF(OR(AD$16=\" \",AD$16=0,AD21=0),\" \",SUMPRODUCT(AE21:AP21,AE22:AP22)/AD21)","v":" "},{"$f":"IF(AND(AE15>=$B$5,AE15<$B$6),IF(AE16=1,IF(AE17>=$C$5,VLOOKUP(AE18,Kurināmais!$A$4:$G$351,$NQ$8,FALSE)/9.2*Biomasa!$Q$6*$CQ$6,\" \"),IF(AND(AE16>1,AE16<=10),VLOOKUP(AE18,Kurināmais!$A$4:$G$351,$NQ$8,FALSE)/9.2*Biomasa!$Q$6*$CQ$6,IF(AE16=11,IF(AE17<$C$5,VLOOKUP(AE18,Kurināmais!$A$4:$G$351,$NQ$8,FALSE)/9.2*Biomasa!$Q$6*$CQ$6,VLOOKUP(AE18,Kurināmais!$A$4:$G$351,$NQ$8,FALSE)/9.2*$AD$6*$CQ$6),IF(AE16>11,VLOOKUP(AE18,Kurināmais!$A$4:$G$351,$NQ$8,FALSE)/9.2*$AD$6*$CQ$6)))),IF(AND(AE16=$NQ$4,$C$6=12),VLOOKUP(AE18,Kurināmais!$A$4:$G$351,$NQ$8,FALSE)/9.2*$AD$6*$CQ$6,IF(AND(AE16=$NQ$4+1,$C$6<12,AE17<=$C$6,$NQ$4=10),VLOOKUP(AE18,Kurināmais!$A$4:$G$351,$NQ$8,FALSE)/9.2*$Q$6*$CQ$6,IF(AND(AE16=$NQ$4+1,$C$6<12,AE17<=$C$6),VLOOKUP(AE18,Kurināmais!$A$4:$G$351,$NQ$8,FALSE)/9.2*$AD$6*$CQ$6,\" \"))))","v":" "},{"$f":"IF(AND(AF15>=$B$5,AF15<$B$6),IF(AF16=1,IF(AF17>=$C$5,VLOOKUP(AF18,Kurināmais!$A$4:$G$351,$NQ$8,FALSE)/9.2*Biomasa!$Q$6*$CQ$6,\" \"),IF(AND(AF16>1,AF16<=10),VLOOKUP(AF18,Kurināmais!$A$4:$G$351,$NQ$8,FALSE)/9.2*Biomasa!$Q$6*$CQ$6,IF(AF16=11,IF(AF17<$C$5,VLOOKUP(AF18,Kurināmais!$A$4:$G$351,$NQ$8,FALSE)/9.2*Biomasa!$Q$6*$CQ$6,VLOOKUP(AF18,Kurināmais!$A$4:$G$351,$NQ$8,FALSE)/9.2*$AD$6*$CQ$6),IF(AF16>11,VLOOKUP(AF18,Kurināmais!$A$4:$G$351,$NQ$8,FALSE)/9.2*$AD$6*$CQ$6)))),IF(AND(AF16=$NQ$4,$C$6=12),VLOOKUP(AF18,Kurināmais!$A$4:$G$351,$NQ$8,FALSE)/9.2*$AD$6*$CQ$6,IF(AND(AF16=$NQ$4+1,$C$6<12,AF17<=$C$6,$NQ$4=10),VLOOKUP(AF18,Kurināmais!$A$4:$G$351,$NQ$8,FALSE)/9.2*$Q$6*$CQ$6,IF(AND(AF16=$NQ$4+1,$C$6<12,AF17<=$C$6),VLOOKUP(AF18,Kurināmais!$A$4:$G$351,$NQ$8,FALSE)/9.2*$AD$6*$CQ$6,\" \"))))","v":" "},{"$f":"IF(AND(AG15>=$B$5,AG15<$B$6),IF(AG16=1,IF(AG17>=$C$5,VLOOKUP(AG18,Kurināmais!$A$4:$G$351,$NQ$8,FALSE)/9.2*Biomasa!$Q$6*$CQ$6,\" \"),IF(AND(AG16>1,AG16<=10),VLOOKUP(AG18,Kurināmais!$A$4:$G$351,$NQ$8,FALSE)/9.2*Biomasa!$Q$6*$CQ$6,IF(AG16=11,IF(AG17<$C$5,VLOOKUP(AG18,Kurināmais!$A$4:$G$351,$NQ$8,FALSE)/9.2*Biomasa!$Q$6*$CQ$6,VLOOKUP(AG18,Kurināmais!$A$4:$G$351,$NQ$8,FALSE)/9.2*$AD$6*$CQ$6),IF(AG16>11,VLOOKUP(AG18,Kurināmais!$A$4:$G$351,$NQ$8,FALSE)/9.2*$AD$6*$CQ$6)))),IF(AND(AG16=$NQ$4,$C$6=12),VLOOKUP(AG18,Kurināmais!$A$4:$G$351,$NQ$8,FALSE)/9.2*$AD$6*$CQ$6,IF(AND(AG16=$NQ$4+1,$C$6<12,AG17<=$C$6,$NQ$4=10),VLOOKUP(AG18,Kurināmais!$A$4:$G$351,$NQ$8,FALSE)/9.2*$Q$6*$CQ$6,IF(AND(AG16=$NQ$4+1,$C$6<12,AG17<=$C$6),VLOOKUP(AG18,Kurināmais!$A$4:$G$351,$NQ$8,FALSE)/9.2*$AD$6*$CQ$6,\" \"))))","v":" "},{"$f":"IF(AND(AH15>=$B$5,AH15<$B$6),IF(AH16=1,IF(AH17>=$C$5,VLOOKUP(AH18,Kurināmais!$A$4:$G$351,$NQ$8,FALSE)/9.3*Biomasa!$Q$6*$CQ$6,\" \"),IF(AND(AH16>1,AH16<=10),VLOOKUP(AH18,Kurināmais!$A$4:$G$351,$NQ$8,FALSE)/9.3*Biomasa!$Q$6*$CQ$6,IF(AH16=11,IF(AH17<$C$5,VLOOKUP(AH18,Kurināmais!$A$4:$G$351,$NQ$8,FALSE)/9.3*Biomasa!$Q$6*$CQ$6,VLOOKUP(AH18,Kurināmais!$A$4:$G$351,$NQ$8,FALSE)/9.3*$AD$6*$CQ$6),IF(AH16>11,VLOOKUP(AH18,Kurināmais!$A$4:$G$351,$NQ$8,FALSE)/9.3*$AD$6*$CQ$6)))),IF(AND(AH16=$NQ$4,$C$6=12),VLOOKUP(AH18,Kurināmais!$A$4:$G$351,$NQ$8,FALSE)/9.3*$AD$6*$CQ$6,IF(AND(AH16=$NQ$4+1,$C$6<12,AH17<=$C$6,$NQ$4=10),VLOOKUP(AH18,Kurināmais!$A$4:$G$351,$NQ$8,FALSE)/9.3*$Q$6*$CQ$6,IF(AND(AH16=$NQ$4+1,$C$6<12,AH17<=$C$6),VLOOKUP(AH18,Kurināmais!$A$4:$G$351,$NQ$8,FALSE)/9.3*$AD$6*$CQ$6,\" \"))))","v":" "},{"$f":"IF(AND(AI15>=$B$5,AI15<$B$6),IF(AI16=1,IF(AI17>=$C$5,VLOOKUP(AI18,Kurināmais!$A$4:$G$351,$NQ$8,FALSE)/9.3*Biomasa!$Q$6*$CQ$6,\" \"),IF(AND(AI16>1,AI16<=10),VLOOKUP(AI18,Kurināmais!$A$4:$G$351,$NQ$8,FALSE)/9.3*Biomasa!$Q$6*$CQ$6,IF(AI16=11,IF(AI17<$C$5,VLOOKUP(AI18,Kurināmais!$A$4:$G$351,$NQ$8,FALSE)/9.3*Biomasa!$Q$6*$CQ$6,VLOOKUP(AI18,Kurināmais!$A$4:$G$351,$NQ$8,FALSE)/9.3*$AD$6*$CQ$6),IF(AI16>11,VLOOKUP(AI18,Kurināmais!$A$4:$G$351,$NQ$8,FALSE)/9.3*$AD$6*$CQ$6)))),IF(AND(AI16=$NQ$4,$C$6=12),VLOOKUP(AI18,Kurināmais!$A$4:$G$351,$NQ$8,FALSE)/9.3*$AD$6*$CQ$6,IF(AND(AI16=$NQ$4+1,$C$6<12,AI17<=$C$6,$NQ$4=10),VLOOKUP(AI18,Kurināmais!$A$4:$G$351,$NQ$8,FALSE)/9.3*$Q$6*$CQ$6,IF(AND(AI16=$NQ$4+1,$C$6<12,AI17<=$C$6),VLOOKUP(AI18,Kurināmais!$A$4:$G$351,$NQ$8,FALSE)/9.3*$AD$6*$CQ$6,\" \"))))","v":" "},{"$f":"IF(AND(AJ15>=$B$5,AJ15<$B$6),IF(AJ16=1,IF(AJ17>=$C$5,VLOOKUP(AJ18,Kurināmais!$A$4:$G$351,$NQ$8,FALSE)/9.3*Biomasa!$Q$6*$CQ$6,\" \"),IF(AND(AJ16>1,AJ16<=10),VLOOKUP(AJ18,Kurināmais!$A$4:$G$351,$NQ$8,FALSE)/9.3*Biomasa!$Q$6*$CQ$6,IF(AJ16=11,IF(AJ17<$C$5,VLOOKUP(AJ18,Kurināmais!$A$4:$G$351,$NQ$8,FALSE)/9.3*Biomasa!$Q$6*$CQ$6,VLOOKUP(AJ18,Kurināmais!$A$4:$G$351,$NQ$8,FALSE)/9.3*$AD$6*$CQ$6),IF(AJ16>11,VLOOKUP(AJ18,Kurināmais!$A$4:$G$351,$NQ$8,FALSE)/9.3*$AD$6*$CQ$6)))),IF(AND(AJ16=$NQ$4,$C$6=12),VLOOKUP(AJ18,Kurināmais!$A$4:$G$351,$NQ$8,FALSE)/9.3*$AD$6*$CQ$6,IF(AND(AJ16=$NQ$4+1,$C$6<12,AJ17<=$C$6,$NQ$4=10),VLOOKUP(AJ18,Kurināmais!$A$4:$G$351,$NQ$8,FALSE)/9.3*$Q$6*$CQ$6,IF(AND(AJ16=$NQ$4+1,$C$6<12,AJ17<=$C$6),VLOOKUP(AJ18,Kurināmais!$A$4:$G$351,$NQ$8,FALSE)/9.3*$AD$6*$CQ$6,\" \"))))","v":" "},{"$f":"IF(AND(AK15>=$B$5,AK15<$B$6),IF(AK16=1,IF(AK17>=$C$5,VLOOKUP(AK18,Kurināmais!$A$4:$G$351,$NQ$8,FALSE)/9.3*Biomasa!$Q$6*$CQ$6,\" \"),IF(AND(AK16>1,AK16<=10),VLOOKUP(AK18,Kurināmais!$A$4:$G$351,$NQ$8,FALSE)/9.3*Biomasa!$Q$6*$CQ$6,IF(AK16=11,IF(AK17<$C$5,VLOOKUP(AK18,Kurināmais!$A$4:$G$351,$NQ$8,FALSE)/9.3*Biomasa!$Q$6*$CQ$6,VLOOKUP(AK18,Kurināmais!$A$4:$G$351,$NQ$8,FALSE)/9.3*$AD$6*$CQ$6),IF(AK16>11,VLOOKUP(AK18,Kurināmais!$A$4:$G$351,$NQ$8,FALSE)/9.3*$AD$6*$CQ$6)))),IF(AND(AK16=$NQ$4,$C$6=12),VLOOKUP(AK18,Kurināmais!$A$4:$G$351,$NQ$8,FALSE)/9.3*$AD$6*$CQ$6,IF(AND(AK16=$NQ$4+1,$C$6<12,AK17<=$C$6,$NQ$4=10),VLOOKUP(AK18,Kurināmais!$A$4:$G$351,$NQ$8,FALSE)/9.3*$Q$6*$CQ$6,IF(AND(AK16=$NQ$4+1,$C$6<12,AK17<=$C$6),VLOOKUP(AK18,Kurināmais!$A$4:$G$351,$NQ$8,FALSE)/9.3*$AD$6*$CQ$6,\" \"))))","v":" "},{"$f":"IF(AND(AL15>=$B$5,AL15<$B$6),IF(AL16=1,IF(AL17>=$C$5,VLOOKUP(AL18,Kurināmais!$A$4:$G$351,$NQ$8,FALSE)/9.3*Biomasa!$Q$6*$CQ$6,\" \"),IF(AND(AL16>1,AL16<=10),VLOOKUP(AL18,Kurināmais!$A$4:$G$351,$NQ$8,FALSE)/9.3*Biomasa!$Q$6*$CQ$6,IF(AL16=11,IF(AL17<$C$5,VLOOKUP(AL18,Kurināmais!$A$4:$G$351,$NQ$8,FALSE)/9.3*Biomasa!$Q$6*$CQ$6,VLOOKUP(AL18,Kurināmais!$A$4:$G$351,$NQ$8,FALSE)/9.3*$AD$6*$CQ$6),IF(AL16>11,VLOOKUP(AL18,Kurināmais!$A$4:$G$351,$NQ$8,FALSE)/9.3*$AD$6*$CQ$6)))),IF(AND(AL16=$NQ$4,$C$6=12),VLOOKUP(AL18,Kurināmais!$A$4:$G$351,$NQ$8,FALSE)/9.3*$AD$6*$CQ$6,IF(AND(AL16=$NQ$4+1,$C$6<12,AL17<=$C$6,$NQ$4=10),VLOOKUP(AL18,Kurināmais!$A$4:$G$351,$NQ$8,FALSE)/9.3*$Q$6*$CQ$6,IF(AND(AL16=$NQ$4+1,$C$6<12,AL17<=$C$6),VLOOKUP(AL18,Kurināmais!$A$4:$G$351,$NQ$8,FALSE)/9.3*$AD$6*$CQ$6,\" \"))))","v":" "},{"$f":"IF(AND(AM15>=$B$5,AM15<$B$6),IF(AM16=1,IF(AM17>=$C$5,VLOOKUP(AM18,Kurināmais!$A$4:$G$351,$NQ$8,FALSE)/9.3*Biomasa!$Q$6*$CQ$6,\" \"),IF(AND(AM16>1,AM16<=10),VLOOKUP(AM18,Kurināmais!$A$4:$G$351,$NQ$8,FALSE)/9.3*Biomasa!$Q$6*$CQ$6,IF(AM16=11,IF(AM17<$C$5,VLOOKUP(AM18,Kurināmais!$A$4:$G$351,$NQ$8,FALSE)/9.3*Biomasa!$Q$6*$CQ$6,VLOOKUP(AM18,Kurināmais!$A$4:$G$351,$NQ$8,FALSE)/9.3*$AD$6*$CQ$6),IF(AM16>11,VLOOKUP(AM18,Kurināmais!$A$4:$G$351,$NQ$8,FALSE)/9.3*$AD$6*$CQ$6)))),IF(AND(AM16=$NQ$4,$C$6=12),VLOOKUP(AM18,Kurināmais!$A$4:$G$351,$NQ$8,FALSE)/9.3*$AD$6*$CQ$6,IF(AND(AM16=$NQ$4+1,$C$6<12,AM17<=$C$6,$NQ$4=10),VLOOKUP(AM18,Kurināmais!$A$4:$G$351,$NQ$8,FALSE)/9.3*$Q$6*$CQ$6,IF(AND(AM16=$NQ$4+1,$C$6<12,AM17<=$C$6),VLOOKUP(AM18,Kurināmais!$A$4:$G$351,$NQ$8,FALSE)/9.3*$AD$6*$CQ$6,\" \"))))","v":" "},{"$f":"IF(AND(AN15>=$B$5,AN15<$B$6),IF(AN16=1,IF(AN17>=$C$5,VLOOKUP(AN18,Kurināmais!$A$4:$G$351,$NQ$8,FALSE)/9.3*Biomasa!$Q$6*$CQ$6,\" \"),IF(AND(AN16>1,AN16<=10),VLOOKUP(AN18,Kurināmais!$A$4:$G$351,$NQ$8,FALSE)/9.3*Biomasa!$Q$6*$CQ$6,IF(AN16=11,IF(AN17<$C$5,VLOOKUP(AN18,Kurināmais!$A$4:$G$351,$NQ$8,FALSE)/9.3*Biomasa!$Q$6*$CQ$6,VLOOKUP(AN18,Kurināmais!$A$4:$G$351,$NQ$8,FALSE)/9.3*$AD$6*$CQ$6),IF(AN16>11,VLOOKUP(AN18,Kurināmais!$A$4:$G$351,$NQ$8,FALSE)/9.3*$AD$6*$CQ$6)))),IF(AND(AN16=$NQ$4,$C$6=12),VLOOKUP(AN18,Kurināmais!$A$4:$G$351,$NQ$8,FALSE)/9.3*$AD$6*$CQ$6,IF(AND(AN16=$NQ$4+1,$C$6<12,AN17<=$C$6,$NQ$4=10),VLOOKUP(AN18,Kurināmais!$A$4:$G$351,$NQ$8,FALSE)/9.3*$Q$6*$CQ$6,IF(AND(AN16=$NQ$4+1,$C$6<12,AN17<=$C$6),VLOOKUP(AN18,Kurināmais!$A$4:$G$351,$NQ$8,FALSE)/9.3*$AD$6*$CQ$6,\" \"))))","v":" "},{"$f":"IF(AND(AO15>=$B$5,AO15<$B$6),IF(AO16=1,IF(AO17>=$C$5,VLOOKUP(AO18,Kurināmais!$A$4:$G$351,$NQ$8,FALSE)/9.3*Biomasa!$Q$6*$CQ$6,\" \"),IF(AND(AO16>1,AO16<=10),VLOOKUP(AO18,Kurināmais!$A$4:$G$351,$NQ$8,FALSE)/9.3*Biomasa!$Q$6*$CQ$6,IF(AO16=11,IF(AO17<$C$5,VLOOKUP(AO18,Kurināmais!$A$4:$G$351,$NQ$8,FALSE)/9.3*Biomasa!$Q$6*$CQ$6,VLOOKUP(AO18,Kurināmais!$A$4:$G$351,$NQ$8,FALSE)/9.3*$AD$6*$CQ$6),IF(AO16>11,VLOOKUP(AO18,Kurināmais!$A$4:$G$351,$NQ$8,FALSE)/9.3*$AD$6*$CQ$6)))),IF(AND(AO16=$NQ$4,$C$6=12),VLOOKUP(AO18,Kurināmais!$A$4:$G$351,$NQ$8,FALSE)/9.3*$AD$6*$CQ$6,IF(AND(AO16=$NQ$4+1,$C$6<12,AO17<=$C$6,$NQ$4=10),VLOOKUP(AO18,Kurināmais!$A$4:$G$351,$NQ$8,FALSE)/9.3*$Q$6*$CQ$6,IF(AND(AO16=$NQ$4+1,$C$6<12,AO17<=$C$6),VLOOKUP(AO18,Kurināmais!$A$4:$G$351,$NQ$8,FALSE)/9.3*$AD$6*$CQ$6,\" \"))))","v":" "},{"$f":"IF(AND(AP15>=$B$5,AP15<$B$6),IF(AP16=1,IF(AP17>=$C$5,VLOOKUP(AP18,Kurināmais!$A$4:$G$351,$NQ$8,FALSE)/9.3*Biomasa!$Q$6*$CQ$6,\" \"),IF(AND(AP16>1,AP16<=10),VLOOKUP(AP18,Kurināmais!$A$4:$G$351,$NQ$8,FALSE)/9.3*Biomasa!$Q$6*$CQ$6,IF(AP16=11,IF(AP17<$C$5,VLOOKUP(AP18,Kurināmais!$A$4:$G$351,$NQ$8,FALSE)/9.3*Biomasa!$Q$6*$CQ$6,VLOOKUP(AP18,Kurināmais!$A$4:$G$351,$NQ$8,FALSE)/9.3*$AD$6*$CQ$6),IF(AP16>11,VLOOKUP(AP18,Kurināmais!$A$4:$G$351,$NQ$8,FALSE)/9.3*$AD$6*$CQ$6)))),IF(AND(AP16=$NQ$4,$C$6=12),VLOOKUP(AP18,Kurināmais!$A$4:$G$351,$NQ$8,FALSE)/9.3*$AD$6*$CQ$6,IF(AND(AP16=$NQ$4+1,$C$6<12,AP17<=$C$6,$NQ$4=10),VLOOKUP(AP18,Kurināmais!$A$4:$G$351,$NQ$8,FALSE)/9.3*$Q$6*$CQ$6,IF(AND(AP16=$NQ$4+1,$C$6<12,AP17<=$C$6),VLOOKUP(AP18,Kurināmais!$A$4:$G$351,$NQ$8,FALSE)/9.3*$AD$6*$CQ$6,\" \"))))","v":" "},{"$f":"IF(OR(AQ$16=\" \",AQ$16=0,AQ21=0),\" \",SUMPRODUCT(AR21:BC21,AR22:BC22)/AQ21)","v":" "},{"$f":"IF(AND(AR15>=$B$5,AR15<$B$6),IF(AR16=1,IF(AR17>=$C$5,VLOOKUP(AR18,Kurināmais!$A$4:$G$351,$NQ$8,FALSE)/9.3*Biomasa!$Q$6*$CQ$6,\" \"),IF(AND(AR16>1,AR16<=10),VLOOKUP(AR18,Kurināmais!$A$4:$G$351,$NQ$8,FALSE)/9.3*Biomasa!$Q$6*$CQ$6,IF(AR16=11,IF(AR17<$C$5,VLOOKUP(AR18,Kurināmais!$A$4:$G$351,$NQ$8,FALSE)/9.3*Biomasa!$Q$6*$CQ$6,VLOOKUP(AR18,Kurināmais!$A$4:$G$351,$NQ$8,FALSE)/9.3*$AD$6*$CQ$6),IF(AR16>11,VLOOKUP(AR18,Kurināmais!$A$4:$G$351,$NQ$8,FALSE)/9.3*$AD$6*$CQ$6)))),IF(AND(AR16=$NQ$4,$C$6=12),VLOOKUP(AR18,Kurināmais!$A$4:$G$351,$NQ$8,FALSE)/9.3*$AD$6*$CQ$6,IF(AND(AR16=$NQ$4+1,$C$6<12,AR17<=$C$6,$NQ$4=10),VLOOKUP(AR18,Kurināmais!$A$4:$G$351,$NQ$8,FALSE)/9.3*$Q$6*$CQ$6,IF(AND(AR16=$NQ$4+1,$C$6<12,AR17<=$C$6),VLOOKUP(AR18,Kurināmais!$A$4:$G$351,$NQ$8,FALSE)/9.3*$AD$6*$CQ$6,\" \"))))","v":" "},{"$f":"IF(AND(AS15>=$B$5,AS15<$B$6),IF(AS16=1,IF(AS17>=$C$5,VLOOKUP(AS18,Kurināmais!$A$4:$G$351,$NQ$8,FALSE)/9.3*Biomasa!$Q$6*$CQ$6,\" \"),IF(AND(AS16>1,AS16<=10),VLOOKUP(AS18,Kurināmais!$A$4:$G$351,$NQ$8,FALSE)/9.3*Biomasa!$Q$6*$CQ$6,IF(AS16=11,IF(AS17<$C$5,VLOOKUP(AS18,Kurināmais!$A$4:$G$351,$NQ$8,FALSE)/9.3*Biomasa!$Q$6*$CQ$6,VLOOKUP(AS18,Kurināmais!$A$4:$G$351,$NQ$8,FALSE)/9.3*$AD$6*$CQ$6),IF(AS16>11,VLOOKUP(AS18,Kurināmais!$A$4:$G$351,$NQ$8,FALSE)/9.3*$AD$6*$CQ$6)))),IF(AND(AS16=$NQ$4,$C$6=12),VLOOKUP(AS18,Kurināmais!$A$4:$G$351,$NQ$8,FALSE)/9.3*$AD$6*$CQ$6,IF(AND(AS16=$NQ$4+1,$C$6<12,AS17<=$C$6,$NQ$4=10),VLOOKUP(AS18,Kurināmais!$A$4:$G$351,$NQ$8,FALSE)/9.3*$Q$6*$CQ$6,IF(AND(AS16=$NQ$4+1,$C$6<12,AS17<=$C$6),VLOOKUP(AS18,Kurināmais!$A$4:$G$351,$NQ$8,FALSE)/9.3*$AD$6*$CQ$6,\" \"))))","v":" "},{"$f":"IF(AND(AT15>=$B$5,AT15<$B$6),IF(AT16=1,IF(AT17>=$C$5,VLOOKUP(AT18,Kurināmais!$A$4:$G$351,$NQ$8,FALSE)/9.3*Biomasa!$Q$6*$CQ$6,\" \"),IF(AND(AT16>1,AT16<=10),VLOOKUP(AT18,Kurināmais!$A$4:$G$351,$NQ$8,FALSE)/9.3*Biomasa!$Q$6*$CQ$6,IF(AT16=11,IF(AT17<$C$5,VLOOKUP(AT18,Kurināmais!$A$4:$G$351,$NQ$8,FALSE)/9.3*Biomasa!$Q$6*$CQ$6,VLOOKUP(AT18,Kurināmais!$A$4:$G$351,$NQ$8,FALSE)/9.3*$AD$6*$CQ$6),IF(AT16>11,VLOOKUP(AT18,Kurināmais!$A$4:$G$351,$NQ$8,FALSE)/9.3*$AD$6*$CQ$6)))),IF(AND(AT16=$NQ$4,$C$6=12),VLOOKUP(AT18,Kurināmais!$A$4:$G$351,$NQ$8,FALSE)/9.3*$AD$6*$CQ$6,IF(AND(AT16=$NQ$4+1,$C$6<12,AT17<=$C$6,$NQ$4=10),VLOOKUP(AT18,Kurināmais!$A$4:$G$351,$NQ$8,FALSE)/9.3*$Q$6*$CQ$6,IF(AND(AT16=$NQ$4+1,$C$6<12,AT17<=$C$6),VLOOKUP(AT18,Kurināmais!$A$4:$G$351,$NQ$8,FALSE)/9.3*$AD$6*$CQ$6,\" \"))))","v":" "},{"$f":"IF(AND(AU15>=$B$5,AU15<$B$6),IF(AU16=1,IF(AU17>=$C$5,VLOOKUP(AU18,Kurināmais!$A$4:$G$351,$NQ$8,FALSE)/9.3*Biomasa!$Q$6*$CQ$6,\" \"),IF(AND(AU16>1,AU16<=10),VLOOKUP(AU18,Kurināmais!$A$4:$G$351,$NQ$8,FALSE)/9.3*Biomasa!$Q$6*$CQ$6,IF(AU16=11,IF(AU17<$C$5,VLOOKUP(AU18,Kurināmais!$A$4:$G$351,$NQ$8,FALSE)/9.3*Biomasa!$Q$6*$CQ$6,VLOOKUP(AU18,Kurināmais!$A$4:$G$351,$NQ$8,FALSE)/9.3*$AD$6*$CQ$6),IF(AU16>11,VLOOKUP(AU18,Kurināmais!$A$4:$G$351,$NQ$8,FALSE)/9.3*$AD$6*$CQ$6)))),IF(AND(AU16=$NQ$4,$C$6=12),VLOOKUP(AU18,Kurināmais!$A$4:$G$351,$NQ$8,FALSE)/9.3*$AD$6*$CQ$6,IF(AND(AU16=$NQ$4+1,$C$6<12,AU17<=$C$6,$NQ$4=10),VLOOKUP(AU18,Kurināmais!$A$4:$G$351,$NQ$8,FALSE)/9.3*$Q$6*$CQ$6,IF(AND(AU16=$NQ$4+1,$C$6<12,AU17<=$C$6),VLOOKUP(AU18,Kurināmais!$A$4:$G$351,$NQ$8,FALSE)/9.3*$AD$6*$CQ$6,\" \"))))","v":" "},{"$f":"IF(AND(AV15>=$B$5,AV15<$B$6),IF(AV16=1,IF(AV17>=$C$5,VLOOKUP(AV18,Kurināmais!$A$4:$G$351,$NQ$8,FALSE)/9.3*Biomasa!$Q$6*$CQ$6,\" \"),IF(AND(AV16>1,AV16<=10),VLOOKUP(AV18,Kurināmais!$A$4:$G$351,$NQ$8,FALSE)/9.3*Biomasa!$Q$6*$CQ$6,IF(AV16=11,IF(AV17<$C$5,VLOOKUP(AV18,Kurināmais!$A$4:$G$351,$NQ$8,FALSE)/9.3*Biomasa!$Q$6*$CQ$6,VLOOKUP(AV18,Kurināmais!$A$4:$G$351,$NQ$8,FALSE)/9.3*$AD$6*$CQ$6),IF(AV16>11,VLOOKUP(AV18,Kurināmais!$A$4:$G$351,$NQ$8,FALSE)/9.3*$AD$6*$CQ$6)))),IF(AND(AV16=$NQ$4,$C$6=12),VLOOKUP(AV18,Kurināmais!$A$4:$G$351,$NQ$8,FALSE)/9.3*$AD$6*$CQ$6,IF(AND(AV16=$NQ$4+1,$C$6<12,AV17<=$C$6,$NQ$4=10),VLOOKUP(AV18,Kurināmais!$A$4:$G$351,$NQ$8,FALSE)/9.3*$Q$6*$CQ$6,IF(AND(AV16=$NQ$4+1,$C$6<12,AV17<=$C$6),VLOOKUP(AV18,Kurināmais!$A$4:$G$351,$NQ$8,FALSE)/9.3*$AD$6*$CQ$6,\" \"))))","v":" "},{"$f":"IF(AND(AW15>=$B$5,AW15<$B$6),IF(AW16=1,IF(AW17>=$C$5,VLOOKUP(AW18,Kurināmais!$A$4:$G$351,$NQ$8,FALSE)/9.3*Biomasa!$Q$6*$CQ$6,\" \"),IF(AND(AW16>1,AW16<=10),VLOOKUP(AW18,Kurināmais!$A$4:$G$351,$NQ$8,FALSE)/9.3*Biomasa!$Q$6*$CQ$6,IF(AW16=11,IF(AW17<$C$5,VLOOKUP(AW18,Kurināmais!$A$4:$G$351,$NQ$8,FALSE)/9.3*Biomasa!$Q$6*$CQ$6,VLOOKUP(AW18,Kurināmais!$A$4:$G$351,$NQ$8,FALSE)/9.3*$AD$6*$CQ$6),IF(AW16>11,VLOOKUP(AW18,Kurināmais!$A$4:$G$351,$NQ$8,FALSE)/9.3*$AD$6*$CQ$6)))),IF(AND(AW16=$NQ$4,$C$6=12),VLOOKUP(AW18,Kurināmais!$A$4:$G$351,$NQ$8,FALSE)/9.3*$AD$6*$CQ$6,IF(AND(AW16=$NQ$4+1,$C$6<12,AW17<=$C$6,$NQ$4=10),VLOOKUP(AW18,Kurināmais!$A$4:$G$351,$NQ$8,FALSE)/9.3*$Q$6*$CQ$6,IF(AND(AW16=$NQ$4+1,$C$6<12,AW17<=$C$6),VLOOKUP(AW18,Kurināmais!$A$4:$G$351,$NQ$8,FALSE)/9.3*$AD$6*$CQ$6,\" \"))))","v":" "},{"$f":"IF(AND(AX15>=$B$5,AX15<$B$6),IF(AX16=1,IF(AX17>=$C$5,VLOOKUP(AX18,Kurināmais!$A$4:$G$351,$NQ$8,FALSE)/9.3*Biomasa!$Q$6*$CQ$6,\" \"),IF(AND(AX16>1,AX16<=10),VLOOKUP(AX18,Kurināmais!$A$4:$G$351,$NQ$8,FALSE)/9.3*Biomasa!$Q$6*$CQ$6,IF(AX16=11,IF(AX17<$C$5,VLOOKUP(AX18,Kurināmais!$A$4:$G$351,$NQ$8,FALSE)/9.3*Biomasa!$Q$6*$CQ$6,VLOOKUP(AX18,Kurināmais!$A$4:$G$351,$NQ$8,FALSE)/9.3*$AD$6*$CQ$6),IF(AX16>11,VLOOKUP(AX18,Kurināmais!$A$4:$G$351,$NQ$8,FALSE)/9.3*$AD$6*$CQ$6)))),IF(AND(AX16=$NQ$4,$C$6=12),VLOOKUP(AX18,Kurināmais!$A$4:$G$351,$NQ$8,FALSE)/9.3*$AD$6*$CQ$6,IF(AND(AX16=$NQ$4+1,$C$6<12,AX17<=$C$6,$NQ$4=10),VLOOKUP(AX18,Kurināmais!$A$4:$G$351,$NQ$8,FALSE)/9.3*$Q$6*$CQ$6,IF(AND(AX16=$NQ$4+1,$C$6<12,AX17<=$C$6),VLOOKUP(AX18,Kurināmais!$A$4:$G$351,$NQ$8,FALSE)/9.3*$AD$6*$CQ$6,\" \"))))","v":" "},{"$f":"IF(AND(AY15>=$B$5,AY15<$B$6),IF(AY16=1,IF(AY17>=$C$5,VLOOKUP(AY18,Kurināmais!$A$4:$G$351,$NQ$8,FALSE)/9.3*Biomasa!$Q$6*$CQ$6,\" \"),IF(AND(AY16>1,AY16<=10),VLOOKUP(AY18,Kurināmais!$A$4:$G$351,$NQ$8,FALSE)/9.3*Biomasa!$Q$6*$CQ$6,IF(AY16=11,IF(AY17<$C$5,VLOOKUP(AY18,Kurināmais!$A$4:$G$351,$NQ$8,FALSE)/9.3*Biomasa!$Q$6*$CQ$6,VLOOKUP(AY18,Kurināmais!$A$4:$G$351,$NQ$8,FALSE)/9.3*$AD$6*$CQ$6),IF(AY16>11,VLOOKUP(AY18,Kurināmais!$A$4:$G$351,$NQ$8,FALSE)/9.3*$AD$6*$CQ$6)))),IF(AND(AY16=$NQ$4,$C$6=12),VLOOKUP(AY18,Kurināmais!$A$4:$G$351,$NQ$8,FALSE)/9.3*$AD$6*$CQ$6,IF(AND(AY16=$NQ$4+1,$C$6<12,AY17<=$C$6,$NQ$4=10),VLOOKUP(AY18,Kurināmais!$A$4:$G$351,$NQ$8,FALSE)/9.3*$Q$6*$CQ$6,IF(AND(AY16=$NQ$4+1,$C$6<12,AY17<=$C$6),VLOOKUP(AY18,Kurināmais!$A$4:$G$351,$NQ$8,FALSE)/9.3*$AD$6*$CQ$6,\" \"))))","v":" "},{"$f":"IF(AND(AZ15>=$B$5,AZ15<$B$6),IF(AZ16=1,IF(AZ17>=$C$5,VLOOKUP(AZ18,Kurināmais!$A$4:$G$351,$NQ$8,FALSE)/9.3*Biomasa!$Q$6*$CQ$6,\" \"),IF(AND(AZ16>1,AZ16<=10),VLOOKUP(AZ18,Kurināmais!$A$4:$G$351,$NQ$8,FALSE)/9.3*Biomasa!$Q$6*$CQ$6,IF(AZ16=11,IF(AZ17<$C$5,VLOOKUP(AZ18,Kurināmais!$A$4:$G$351,$NQ$8,FALSE)/9.3*Biomasa!$Q$6*$CQ$6,VLOOKUP(AZ18,Kurināmais!$A$4:$G$351,$NQ$8,FALSE)/9.3*$AD$6*$CQ$6),IF(AZ16>11,VLOOKUP(AZ18,Kurināmais!$A$4:$G$351,$NQ$8,FALSE)/9.3*$AD$6*$CQ$6)))),IF(AND(AZ16=$NQ$4,$C$6=12),VLOOKUP(AZ18,Kurināmais!$A$4:$G$351,$NQ$8,FALSE)/9.3*$AD$6*$CQ$6,IF(AND(AZ16=$NQ$4+1,$C$6<12,AZ17<=$C$6,$NQ$4=10),VLOOKUP(AZ18,Kurināmais!$A$4:$G$351,$NQ$8,FALSE)/9.3*$Q$6*$CQ$6,IF(AND(AZ16=$NQ$4+1,$C$6<12,AZ17<=$C$6),VLOOKUP(AZ18,Kurināmais!$A$4:$G$351,$NQ$8,FALSE)/9.3*$AD$6*$CQ$6,\" \"))))","v":" "},{"$f":"IF(AND(BA15>=$B$5,BA15<$B$6),IF(BA16=1,IF(BA17>=$C$5,VLOOKUP(BA18,Kurināmais!$A$4:$G$351,$NQ$8,FALSE)/9.3*Biomasa!$Q$6*$CQ$6,\" \"),IF(AND(BA16>1,BA16<=10),VLOOKUP(BA18,Kurināmais!$A$4:$G$351,$NQ$8,FALSE)/9.3*Biomasa!$Q$6*$CQ$6,IF(BA16=11,IF(BA17<$C$5,VLOOKUP(BA18,Kurināmais!$A$4:$G$351,$NQ$8,FALSE)/9.3*Biomasa!$Q$6*$CQ$6,VLOOKUP(BA18,Kurināmais!$A$4:$G$351,$NQ$8,FALSE)/9.3*$AD$6*$CQ$6),IF(BA16>11,VLOOKUP(BA18,Kurināmais!$A$4:$G$351,$NQ$8,FALSE)/9.3*$AD$6*$CQ$6)))),IF(AND(BA16=$NQ$4,$C$6=12),VLOOKUP(BA18,Kurināmais!$A$4:$G$351,$NQ$8,FALSE)/9.3*$AD$6*$CQ$6,IF(AND(BA16=$NQ$4+1,$C$6<12,BA17<=$C$6,$NQ$4=10),VLOOKUP(BA18,Kurināmais!$A$4:$G$351,$NQ$8,FALSE)/9.3*$Q$6*$CQ$6,IF(AND(BA16=$NQ$4+1,$C$6<12,BA17<=$C$6),VLOOKUP(BA18,Kurināmais!$A$4:$G$351,$NQ$8,FALSE)/9.3*$AD$6*$CQ$6,\" \"))))","v":" "},{"$f":"IF(AND(BB15>=$B$5,BB15<$B$6),IF(BB16=1,IF(BB17>=$C$5,VLOOKUP(BB18,Kurināmais!$A$4:$G$351,$NQ$8,FALSE)/9.3*Biomasa!$Q$6*$CQ$6,\" \"),IF(AND(BB16>1,BB16<=10),VLOOKUP(BB18,Kurināmais!$A$4:$G$351,$NQ$8,FALSE)/9.3*Biomasa!$Q$6*$CQ$6,IF(BB16=11,IF(BB17<$C$5,VLOOKUP(BB18,Kurināmais!$A$4:$G$351,$NQ$8,FALSE)/9.3*Biomasa!$Q$6*$CQ$6,VLOOKUP(BB18,Kurināmais!$A$4:$G$351,$NQ$8,FALSE)/9.3*$AD$6*$CQ$6),IF(BB16>11,VLOOKUP(BB18,Kurināmais!$A$4:$G$351,$NQ$8,FALSE)/9.3*$AD$6*$CQ$6)))),IF(AND(BB16=$NQ$4,$C$6=12),VLOOKUP(BB18,Kurināmais!$A$4:$G$351,$NQ$8,FALSE)/9.3*$AD$6*$CQ$6,IF(AND(BB16=$NQ$4+1,$C$6<12,BB17<=$C$6,$NQ$4=10),VLOOKUP(BB18,Kurināmais!$A$4:$G$351,$NQ$8,FALSE)/9.3*$Q$6*$CQ$6,IF(AND(BB16=$NQ$4+1,$C$6<12,BB17<=$C$6),VLOOKUP(BB18,Kurināmais!$A$4:$G$351,$NQ$8,FALSE)/9.3*$AD$6*$CQ$6,\" \"))))","v":" "},{"$f":"IF(AND(BC15>=$B$5,BC15<$B$6),IF(BC16=1,IF(BC17>=$C$5,VLOOKUP(BC18,Kurināmais!$A$4:$G$351,$NQ$8,FALSE)/9.3*Biomasa!$Q$6*$CQ$6,\" \"),IF(AND(BC16>1,BC16<=10),VLOOKUP(BC18,Kurināmais!$A$4:$G$351,$NQ$8,FALSE)/9.3*Biomasa!$Q$6*$CQ$6,IF(BC16=11,IF(BC17<$C$5,VLOOKUP(BC18,Kurināmais!$A$4:$G$351,$NQ$8,FALSE)/9.3*Biomasa!$Q$6*$CQ$6,VLOOKUP(BC18,Kurināmais!$A$4:$G$351,$NQ$8,FALSE)/9.3*$AD$6*$CQ$6),IF(BC16>11,VLOOKUP(BC18,Kurināmais!$A$4:$G$351,$NQ$8,FALSE)/9.3*$AD$6*$CQ$6)))),IF(AND(BC16=$NQ$4,$C$6=12),VLOOKUP(BC18,Kurināmais!$A$4:$G$351,$NQ$8,FALSE)/9.3*$AD$6*$CQ$6,IF(AND(BC16=$NQ$4+1,$C$6<12,BC17<=$C$6,$NQ$4=10),VLOOKUP(BC18,Kurināmais!$A$4:$G$351,$NQ$8,FALSE)/9.3*$Q$6*$CQ$6,IF(AND(BC16=$NQ$4+1,$C$6<12,BC17<=$C$6),VLOOKUP(BC18,Kurināmais!$A$4:$G$351,$NQ$8,FALSE)/9.3*$AD$6*$CQ$6,\" \"))))","v":" "},{"$f":"IF(OR(BD$16=\" \",BD$16=0,BD21=0),\" \",SUMPRODUCT(BE21:BP21,BE22:BP22)/BD21)","v":" "},{"$f":"IF(AND(BE15>=$B$5,BE15<$B$6),IF(BE16=1,IF(BE17>=$C$5,VLOOKUP(BE18,Kurināmais!$A$4:$G$351,$NQ$8,FALSE)/9.3*Biomasa!$Q$6*$CQ$6,\" \"),IF(AND(BE16>1,BE16<=10),VLOOKUP(BE18,Kurināmais!$A$4:$G$351,$NQ$8,FALSE)/9.3*Biomasa!$Q$6*$CQ$6,IF(BE16=11,IF(BE17<$C$5,VLOOKUP(BE18,Kurināmais!$A$4:$G$351,$NQ$8,FALSE)/9.3*Biomasa!$Q$6*$CQ$6,VLOOKUP(BE18,Kurināmais!$A$4:$G$351,$NQ$8,FALSE)/9.3*$AD$6*$CQ$6),IF(BE16>11,VLOOKUP(BE18,Kurināmais!$A$4:$G$351,$NQ$8,FALSE)/9.3*$AD$6*$CQ$6)))),IF(AND(BE16=$NQ$4,$C$6=12),VLOOKUP(BE18,Kurināmais!$A$4:$G$351,$NQ$8,FALSE)/9.3*$AD$6*$CQ$6,IF(AND(BE16=$NQ$4+1,$C$6<12,BE17<=$C$6,$NQ$4=10),VLOOKUP(BE18,Kurināmais!$A$4:$G$351,$NQ$8,FALSE)/9.3*$Q$6*$CQ$6,IF(AND(BE16=$NQ$4+1,$C$6<12,BE17<=$C$6),VLOOKUP(BE18,Kurināmais!$A$4:$G$351,$NQ$8,FALSE)/9.3*$AD$6*$CQ$6,\" \"))))","v":" "},{"$f":"IF(AND(BF15>=$B$5,BF15<$B$6),IF(BF16=1,IF(BF17>=$C$5,VLOOKUP(BF18,Kurināmais!$A$4:$G$351,$NQ$8,FALSE)/9.3*Biomasa!$Q$6*$CQ$6,\" \"),IF(AND(BF16>1,BF16<=10),VLOOKUP(BF18,Kurināmais!$A$4:$G$351,$NQ$8,FALSE)/9.3*Biomasa!$Q$6*$CQ$6,IF(BF16=11,IF(BF17<$C$5,VLOOKUP(BF18,Kurināmais!$A$4:$G$351,$NQ$8,FALSE)/9.3*Biomasa!$Q$6*$CQ$6,VLOOKUP(BF18,Kurināmais!$A$4:$G$351,$NQ$8,FALSE)/9.3*$AD$6*$CQ$6),IF(BF16>11,VLOOKUP(BF18,Kurināmais!$A$4:$G$351,$NQ$8,FALSE)/9.3*$AD$6*$CQ$6)))),IF(AND(BF16=$NQ$4,$C$6=12),VLOOKUP(BF18,Kurināmais!$A$4:$G$351,$NQ$8,FALSE)/9.3*$AD$6*$CQ$6,IF(AND(BF16=$NQ$4+1,$C$6<12,BF17<=$C$6,$NQ$4=10),VLOOKUP(BF18,Kurināmais!$A$4:$G$351,$NQ$8,FALSE)/9.3*$Q$6*$CQ$6,IF(AND(BF16=$NQ$4+1,$C$6<12,BF17<=$C$6),VLOOKUP(BF18,Kurināmais!$A$4:$G$351,$NQ$8,FALSE)/9.3*$AD$6*$CQ$6,\" \"))))","v":" "},{"$f":"IF(AND(BG15>=$B$5,BG15<$B$6),IF(BG16=1,IF(BG17>=$C$5,VLOOKUP(BG18,Kurināmais!$A$4:$G$351,$NQ$8,FALSE)/9.3*Biomasa!$Q$6*$CQ$6,\" \"),IF(AND(BG16>1,BG16<=10),VLOOKUP(BG18,Kurināmais!$A$4:$G$351,$NQ$8,FALSE)/9.3*Biomasa!$Q$6*$CQ$6,IF(BG16=11,IF(BG17<$C$5,VLOOKUP(BG18,Kurināmais!$A$4:$G$351,$NQ$8,FALSE)/9.3*Biomasa!$Q$6*$CQ$6,VLOOKUP(BG18,Kurināmais!$A$4:$G$351,$NQ$8,FALSE)/9.3*$AD$6*$CQ$6),IF(BG16>11,VLOOKUP(BG18,Kurināmais!$A$4:$G$351,$NQ$8,FALSE)/9.3*$AD$6*$CQ$6)))),IF(AND(BG16=$NQ$4,$C$6=12),VLOOKUP(BG18,Kurināmais!$A$4:$G$351,$NQ$8,FALSE)/9.3*$AD$6*$CQ$6,IF(AND(BG16=$NQ$4+1,$C$6<12,BG17<=$C$6,$NQ$4=10),VLOOKUP(BG18,Kurināmais!$A$4:$G$351,$NQ$8,FALSE)/9.3*$Q$6*$CQ$6,IF(AND(BG16=$NQ$4+1,$C$6<12,BG17<=$C$6),VLOOKUP(BG18,Kurināmais!$A$4:$G$351,$NQ$8,FALSE)/9.3*$AD$6*$CQ$6,\" \"))))","v":" "},{"$f":"IF(AND(BH15>=$B$5,BH15<$B$6),IF(BH16=1,IF(BH17>=$C$5,VLOOKUP(BH18,Kurināmais!$A$4:$G$351,$NQ$8,FALSE)/9.3*Biomasa!$Q$6*$CQ$6,\" \"),IF(AND(BH16>1,BH16<=10),VLOOKUP(BH18,Kurināmais!$A$4:$G$351,$NQ$8,FALSE)/9.3*Biomasa!$Q$6*$CQ$6,IF(BH16=11,IF(BH17<$C$5,VLOOKUP(BH18,Kurināmais!$A$4:$G$351,$NQ$8,FALSE)/9.3*Biomasa!$Q$6*$CQ$6,VLOOKUP(BH18,Kurināmais!$A$4:$G$351,$NQ$8,FALSE)/9.3*$AD$6*$CQ$6),IF(BH16>11,VLOOKUP(BH18,Kurināmais!$A$4:$G$351,$NQ$8,FALSE)/9.3*$AD$6*$CQ$6)))),IF(AND(BH16=$NQ$4,$C$6=12),VLOOKUP(BH18,Kurināmais!$A$4:$G$351,$NQ$8,FALSE)/9.3*$AD$6*$CQ$6,IF(AND(BH16=$NQ$4+1,$C$6<12,BH17<=$C$6,$NQ$4=10),VLOOKUP(BH18,Kurināmais!$A$4:$G$351,$NQ$8,FALSE)/9.3*$Q$6*$CQ$6,IF(AND(BH16=$NQ$4+1,$C$6<12,BH17<=$C$6),VLOOKUP(BH18,Kurināmais!$A$4:$G$351,$NQ$8,FALSE)/9.3*$AD$6*$CQ$6,\" \"))))","v":" "},{"$f":"IF(AND(BI15>=$B$5,BI15<$B$6),IF(BI16=1,IF(BI17>=$C$5,VLOOKUP(BI18,Kurināmais!$A$4:$G$351,$NQ$8,FALSE)/9.3*Biomasa!$Q$6*$CQ$6,\" \"),IF(AND(BI16>1,BI16<=10),VLOOKUP(BI18,Kurināmais!$A$4:$G$351,$NQ$8,FALSE)/9.3*Biomasa!$Q$6*$CQ$6,IF(BI16=11,IF(BI17<$C$5,VLOOKUP(BI18,Kurināmais!$A$4:$G$351,$NQ$8,FALSE)/9.3*Biomasa!$Q$6*$CQ$6,VLOOKUP(BI18,Kurināmais!$A$4:$G$351,$NQ$8,FALSE)/9.3*$AD$6*$CQ$6),IF(BI16>11,VLOOKUP(BI18,Kurināmais!$A$4:$G$351,$NQ$8,FALSE)/9.3*$AD$6*$CQ$6)))),IF(AND(BI16=$NQ$4,$C$6=12),VLOOKUP(BI18,Kurināmais!$A$4:$G$351,$NQ$8,FALSE)/9.3*$AD$6*$CQ$6,IF(AND(BI16=$NQ$4+1,$C$6<12,BI17<=$C$6,$NQ$4=10),VLOOKUP(BI18,Kurināmais!$A$4:$G$351,$NQ$8,FALSE)/9.3*$Q$6*$CQ$6,IF(AND(BI16=$NQ$4+1,$C$6<12,BI17<=$C$6),VLOOKUP(BI18,Kurināmais!$A$4:$G$351,$NQ$8,FALSE)/9.3*$AD$6*$CQ$6,\" \"))))","v":" "},{"$f":"IF(AND(BJ15>=$B$5,BJ15<$B$6),IF(BJ16=1,IF(BJ17>=$C$5,VLOOKUP(BJ18,Kurināmais!$A$4:$G$351,$NQ$8,FALSE)/9.3*Biomasa!$Q$6*$CQ$6,\" \"),IF(AND(BJ16>1,BJ16<=10),VLOOKUP(BJ18,Kurināmais!$A$4:$G$351,$NQ$8,FALSE)/9.3*Biomasa!$Q$6*$CQ$6,IF(BJ16=11,IF(BJ17<$C$5,VLOOKUP(BJ18,Kurināmais!$A$4:$G$351,$NQ$8,FALSE)/9.3*Biomasa!$Q$6*$CQ$6,VLOOKUP(BJ18,Kurināmais!$A$4:$G$351,$NQ$8,FALSE)/9.3*$AD$6*$CQ$6),IF(BJ16>11,VLOOKUP(BJ18,Kurināmais!$A$4:$G$351,$NQ$8,FALSE)/9.3*$AD$6*$CQ$6)))),IF(AND(BJ16=$NQ$4,$C$6=12),VLOOKUP(BJ18,Kurināmais!$A$4:$G$351,$NQ$8,FALSE)/9.3*$AD$6*$CQ$6,IF(AND(BJ16=$NQ$4+1,$C$6<12,BJ17<=$C$6,$NQ$4=10),VLOOKUP(BJ18,Kurināmais!$A$4:$G$351,$NQ$8,FALSE)/9.3*$Q$6*$CQ$6,IF(AND(BJ16=$NQ$4+1,$C$6<12,BJ17<=$C$6),VLOOKUP(BJ18,Kurināmais!$A$4:$G$351,$NQ$8,FALSE)/9.3*$AD$6*$CQ$6,\" \"))))","v":" "},{"$f":"IF(AND(BK15>=$B$5,BK15<$B$6),IF(BK16=1,IF(BK17>=$C$5,VLOOKUP(BK18,Kurināmais!$A$4:$G$351,$NQ$8,FALSE)/9.3*Biomasa!$Q$6*$CQ$6,\" \"),IF(AND(BK16>1,BK16<=10),VLOOKUP(BK18,Kurināmais!$A$4:$G$351,$NQ$8,FALSE)/9.3*Biomasa!$Q$6*$CQ$6,IF(BK16=11,IF(BK17<$C$5,VLOOKUP(BK18,Kurināmais!$A$4:$G$351,$NQ$8,FALSE)/9.3*Biomasa!$Q$6*$CQ$6,VLOOKUP(BK18,Kurināmais!$A$4:$G$351,$NQ$8,FALSE)/9.3*$AD$6*$CQ$6),IF(BK16>11,VLOOKUP(BK18,Kurināmais!$A$4:$G$351,$NQ$8,FALSE)/9.3*$AD$6*$CQ$6)))),IF(AND(BK16=$NQ$4,$C$6=12),VLOOKUP(BK18,Kurināmais!$A$4:$G$351,$NQ$8,FALSE)/9.3*$AD$6*$CQ$6,IF(AND(BK16=$NQ$4+1,$C$6<12,BK17<=$C$6,$NQ$4=10),VLOOKUP(BK18,Kurināmais!$A$4:$G$351,$NQ$8,FALSE)/9.3*$Q$6*$CQ$6,IF(AND(BK16=$NQ$4+1,$C$6<12,BK17<=$C$6),VLOOKUP(BK18,Kurināmais!$A$4:$G$351,$NQ$8,FALSE)/9.3*$AD$6*$CQ$6,\" \"))))","v":" "},{"$f":"IF(AND(BL15>=$B$5,BL15<$B$6),IF(BL16=1,IF(BL17>=$C$5,VLOOKUP(BL18,Kurināmais!$A$4:$G$351,$NQ$8,FALSE)/9.3*Biomasa!$Q$6*$CQ$6,\" \"),IF(AND(BL16>1,BL16<=10),VLOOKUP(BL18,Kurināmais!$A$4:$G$351,$NQ$8,FALSE)/9.3*Biomasa!$Q$6*$CQ$6,IF(BL16=11,IF(BL17<$C$5,VLOOKUP(BL18,Kurināmais!$A$4:$G$351,$NQ$8,FALSE)/9.3*Biomasa!$Q$6*$CQ$6,VLOOKUP(BL18,Kurināmais!$A$4:$G$351,$NQ$8,FALSE)/9.3*$AD$6*$CQ$6),IF(BL16>11,VLOOKUP(BL18,Kurināmais!$A$4:$G$351,$NQ$8,FALSE)/9.3*$AD$6*$CQ$6)))),IF(AND(BL16=$NQ$4,$C$6=12),VLOOKUP(BL18,Kurināmais!$A$4:$G$351,$NQ$8,FALSE)/9.3*$AD$6*$CQ$6,IF(AND(BL16=$NQ$4+1,$C$6<12,BL17<=$C$6,$NQ$4=10),VLOOKUP(BL18,Kurināmais!$A$4:$G$351,$NQ$8,FALSE)/9.3*$Q$6*$CQ$6,IF(AND(BL16=$NQ$4+1,$C$6<12,BL17<=$C$6),VLOOKUP(BL18,Kurināmais!$A$4:$G$351,$NQ$8,FALSE)/9.3*$AD$6*$CQ$6,\" \"))))","v":" "},{"$f":"IF(AND(BM15>=$B$5,BM15<$B$6),IF(BM16=1,IF(BM17>=$C$5,VLOOKUP(BM18,Kurināmais!$A$4:$G$351,$NQ$8,FALSE)/9.3*Biomasa!$Q$6*$CQ$6,\" \"),IF(AND(BM16>1,BM16<=10),VLOOKUP(BM18,Kurināmais!$A$4:$G$351,$NQ$8,FALSE)/9.3*Biomasa!$Q$6*$CQ$6,IF(BM16=11,IF(BM17<$C$5,VLOOKUP(BM18,Kurināmais!$A$4:$G$351,$NQ$8,FALSE)/9.3*Biomasa!$Q$6*$CQ$6,VLOOKUP(BM18,Kurināmais!$A$4:$G$351,$NQ$8,FALSE)/9.3*$AD$6*$CQ$6),IF(BM16>11,VLOOKUP(BM18,Kurināmais!$A$4:$G$351,$NQ$8,FALSE)/9.3*$AD$6*$CQ$6)))),IF(AND(BM16=$NQ$4,$C$6=12),VLOOKUP(BM18,Kurināmais!$A$4:$G$351,$NQ$8,FALSE)/9.3*$AD$6*$CQ$6,IF(AND(BM16=$NQ$4+1,$C$6<12,BM17<=$C$6,$NQ$4=10),VLOOKUP(BM18,Kurināmais!$A$4:$G$351,$NQ$8,FALSE)/9.3*$Q$6*$CQ$6,IF(AND(BM16=$NQ$4+1,$C$6<12,BM17<=$C$6),VLOOKUP(BM18,Kurināmais!$A$4:$G$351,$NQ$8,FALSE)/9.3*$AD$6*$CQ$6,\" \"))))","v":" "},{"$f":"IF(AND(BN15>=$B$5,BN15<$B$6),IF(BN16=1,IF(BN17>=$C$5,VLOOKUP(BN18,Kurināmais!$A$4:$G$351,$NQ$8,FALSE)/9.3*Biomasa!$Q$6*$CQ$6,\" \"),IF(AND(BN16>1,BN16<=10),VLOOKUP(BN18,Kurināmais!$A$4:$G$351,$NQ$8,FALSE)/9.3*Biomasa!$Q$6*$CQ$6,IF(BN16=11,IF(BN17<$C$5,VLOOKUP(BN18,Kurināmais!$A$4:$G$351,$NQ$8,FALSE)/9.3*Biomasa!$Q$6*$CQ$6,VLOOKUP(BN18,Kurināmais!$A$4:$G$351,$NQ$8,FALSE)/9.3*$AD$6*$CQ$6),IF(BN16>11,VLOOKUP(BN18,Kurināmais!$A$4:$G$351,$NQ$8,FALSE)/9.3*$AD$6*$CQ$6)))),IF(AND(BN16=$NQ$4,$C$6=12),VLOOKUP(BN18,Kurināmais!$A$4:$G$351,$NQ$8,FALSE)/9.3*$AD$6*$CQ$6,IF(AND(BN16=$NQ$4+1,$C$6<12,BN17<=$C$6,$NQ$4=10),VLOOKUP(BN18,Kurināmais!$A$4:$G$351,$NQ$8,FALSE)/9.3*$Q$6*$CQ$6,IF(AND(BN16=$NQ$4+1,$C$6<12,BN17<=$C$6),VLOOKUP(BN18,Kurināmais!$A$4:$G$351,$NQ$8,FALSE)/9.3*$AD$6*$CQ$6,\" \"))))","v":" "},{"$f":"IF(AND(BO15>=$B$5,BO15<$B$6),IF(BO16=1,IF(BO17>=$C$5,VLOOKUP(BO18,Kurināmais!$A$4:$G$351,$NQ$8,FALSE)/9.3*Biomasa!$Q$6*$CQ$6,\" \"),IF(AND(BO16>1,BO16<=10),VLOOKUP(BO18,Kurināmais!$A$4:$G$351,$NQ$8,FALSE)/9.3*Biomasa!$Q$6*$CQ$6,IF(BO16=11,IF(BO17<$C$5,VLOOKUP(BO18,Kurināmais!$A$4:$G$351,$NQ$8,FALSE)/9.3*Biomasa!$Q$6*$CQ$6,VLOOKUP(BO18,Kurināmais!$A$4:$G$351,$NQ$8,FALSE)/9.3*$AD$6*$CQ$6),IF(BO16>11,VLOOKUP(BO18,Kurināmais!$A$4:$G$351,$NQ$8,FALSE)/9.3*$AD$6*$CQ$6)))),IF(AND(BO16=$NQ$4,$C$6=12),VLOOKUP(BO18,Kurināmais!$A$4:$G$351,$NQ$8,FALSE)/9.3*$AD$6*$CQ$6,IF(AND(BO16=$NQ$4+1,$C$6<12,BO17<=$C$6,$NQ$4=10),VLOOKUP(BO18,Kurināmais!$A$4:$G$351,$NQ$8,FALSE)/9.3*$Q$6*$CQ$6,IF(AND(BO16=$NQ$4+1,$C$6<12,BO17<=$C$6),VLOOKUP(BO18,Kurināmais!$A$4:$G$351,$NQ$8,FALSE)/9.3*$AD$6*$CQ$6,\" \"))))","v":" "},{"$f":"IF(AND(BP15>=$B$5,BP15<$B$6),IF(BP16=1,IF(BP17>=$C$5,VLOOKUP(BP18,Kurināmais!$A$4:$G$351,$NQ$8,FALSE)/9.3*Biomasa!$Q$6*$CQ$6,\" \"),IF(AND(BP16>1,BP16<=10),VLOOKUP(BP18,Kurināmais!$A$4:$G$351,$NQ$8,FALSE)/9.3*Biomasa!$Q$6*$CQ$6,IF(BP16=11,IF(BP17<$C$5,VLOOKUP(BP18,Kurināmais!$A$4:$G$351,$NQ$8,FALSE)/9.3*Biomasa!$Q$6*$CQ$6,VLOOKUP(BP18,Kurināmais!$A$4:$G$351,$NQ$8,FALSE)/9.3*$AD$6*$CQ$6),IF(BP16>11,VLOOKUP(BP18,Kurināmais!$A$4:$G$351,$NQ$8,FALSE)/9.3*$AD$6*$CQ$6)))),IF(AND(BP16=$NQ$4,$C$6=12),VLOOKUP(BP18,Kurināmais!$A$4:$G$351,$NQ$8,FALSE)/9.3*$AD$6*$CQ$6,IF(AND(BP16=$NQ$4+1,$C$6<12,BP17<=$C$6,$NQ$4=10),VLOOKUP(BP18,Kurināmais!$A$4:$G$351,$NQ$8,FALSE)/9.3*$Q$6*$CQ$6,IF(AND(BP16=$NQ$4+1,$C$6<12,BP17<=$C$6),VLOOKUP(BP18,Kurināmais!$A$4:$G$351,$NQ$8,FALSE)/9.3*$AD$6*$CQ$6,\" \"))))","v":" "},{"$f":"IF(OR(BQ$16=\" \",BQ$16=0,BQ21=0),\" \",SUMPRODUCT(BR21:CC21,BR22:CC22)/BQ21)","v":" "},{"$f":"IF(AND(BR15>=$B$5,BR15<$B$6),IF(BR16=1,IF(BR17>=$C$5,VLOOKUP(BR18,Kurināmais!$A$4:$G$351,$NQ$8,FALSE)/9.3*Biomasa!$Q$6*$CQ$6,\" \"),IF(AND(BR16>1,BR16<=10),VLOOKUP(BR18,Kurināmais!$A$4:$G$351,$NQ$8,FALSE)/9.3*Biomasa!$Q$6*$CQ$6,IF(BR16=11,IF(BR17<$C$5,VLOOKUP(BR18,Kurināmais!$A$4:$G$351,$NQ$8,FALSE)/9.3*Biomasa!$Q$6*$CQ$6,VLOOKUP(BR18,Kurināmais!$A$4:$G$351,$NQ$8,FALSE)/9.3*$AD$6*$CQ$6),IF(BR16>11,VLOOKUP(BR18,Kurināmais!$A$4:$G$351,$NQ$8,FALSE)/9.3*$AD$6*$CQ$6)))),IF(AND(BR16=$NQ$4,$C$6=12),VLOOKUP(BR18,Kurināmais!$A$4:$G$351,$NQ$8,FALSE)/9.3*$AD$6*$CQ$6,IF(AND(BR16=$NQ$4+1,$C$6<12,BR17<=$C$6,$NQ$4=10),VLOOKUP(BR18,Kurināmais!$A$4:$G$351,$NQ$8,FALSE)/9.3*$Q$6*$CQ$6,IF(AND(BR16=$NQ$4+1,$C$6<12,BR17<=$C$6),VLOOKUP(BR18,Kurināmais!$A$4:$G$351,$NQ$8,FALSE)/9.3*$AD$6*$CQ$6,\" \"))))","v":" "},{"$f":"IF(AND(BS15>=$B$5,BS15<$B$6),IF(BS16=1,IF(BS17>=$C$5,VLOOKUP(BS18,Kurināmais!$A$4:$G$351,$NQ$8,FALSE)/9.3*Biomasa!$Q$6*$CQ$6,\" \"),IF(AND(BS16>1,BS16<=10),VLOOKUP(BS18,Kurināmais!$A$4:$G$351,$NQ$8,FALSE)/9.3*Biomasa!$Q$6*$CQ$6,IF(BS16=11,IF(BS17<$C$5,VLOOKUP(BS18,Kurināmais!$A$4:$G$351,$NQ$8,FALSE)/9.3*Biomasa!$Q$6*$CQ$6,VLOOKUP(BS18,Kurināmais!$A$4:$G$351,$NQ$8,FALSE)/9.3*$AD$6*$CQ$6),IF(BS16>11,VLOOKUP(BS18,Kurināmais!$A$4:$G$351,$NQ$8,FALSE)/9.3*$AD$6*$CQ$6)))),IF(AND(BS16=$NQ$4,$C$6=12),VLOOKUP(BS18,Kurināmais!$A$4:$G$351,$NQ$8,FALSE)/9.3*$AD$6*$CQ$6,IF(AND(BS16=$NQ$4+1,$C$6<12,BS17<=$C$6,$NQ$4=10),VLOOKUP(BS18,Kurināmais!$A$4:$G$351,$NQ$8,FALSE)/9.3*$Q$6*$CQ$6,IF(AND(BS16=$NQ$4+1,$C$6<12,BS17<=$C$6),VLOOKUP(BS18,Kurināmais!$A$4:$G$351,$NQ$8,FALSE)/9.3*$AD$6*$CQ$6,\" \"))))","v":" "},{"$f":"IF(AND(BT15>=$B$5,BT15<$B$6),IF(BT16=1,IF(BT17>=$C$5,VLOOKUP(BT18,Kurināmais!$A$4:$G$351,$NQ$8,FALSE)/9.3*Biomasa!$Q$6*$CQ$6,\" \"),IF(AND(BT16>1,BT16<=10),VLOOKUP(BT18,Kurināmais!$A$4:$G$351,$NQ$8,FALSE)/9.3*Biomasa!$Q$6*$CQ$6,IF(BT16=11,IF(BT17<$C$5,VLOOKUP(BT18,Kurināmais!$A$4:$G$351,$NQ$8,FALSE)/9.3*Biomasa!$Q$6*$CQ$6,VLOOKUP(BT18,Kurināmais!$A$4:$G$351,$NQ$8,FALSE)/9.3*$AD$6*$CQ$6),IF(BT16>11,VLOOKUP(BT18,Kurināmais!$A$4:$G$351,$NQ$8,FALSE)/9.3*$AD$6*$CQ$6)))),IF(AND(BT16=$NQ$4,$C$6=12),VLOOKUP(BT18,Kurināmais!$A$4:$G$351,$NQ$8,FALSE)/9.3*$AD$6*$CQ$6,IF(AND(BT16=$NQ$4+1,$C$6<12,BT17<=$C$6,$NQ$4=10),VLOOKUP(BT18,Kurināmais!$A$4:$G$351,$NQ$8,FALSE)/9.3*$Q$6*$CQ$6,IF(AND(BT16=$NQ$4+1,$C$6<12,BT17<=$C$6),VLOOKUP(BT18,Kurināmais!$A$4:$G$351,$NQ$8,FALSE)/9.3*$AD$6*$CQ$6,\" \"))))","v":" "},{"$f":"IF(AND(BU15>=$B$5,BU15<$B$6),IF(BU16=1,IF(BU17>=$C$5,VLOOKUP(BU18,Kurināmais!$A$4:$G$351,$NQ$8,FALSE)/9.3*Biomasa!$Q$6*$CQ$6,\" \"),IF(AND(BU16>1,BU16<=10),VLOOKUP(BU18,Kurināmais!$A$4:$G$351,$NQ$8,FALSE)/9.3*Biomasa!$Q$6*$CQ$6,IF(BU16=11,IF(BU17<$C$5,VLOOKUP(BU18,Kurināmais!$A$4:$G$351,$NQ$8,FALSE)/9.3*Biomasa!$Q$6*$CQ$6,VLOOKUP(BU18,Kurināmais!$A$4:$G$351,$NQ$8,FALSE)/9.3*$AD$6*$CQ$6),IF(BU16>11,VLOOKUP(BU18,Kurināmais!$A$4:$G$351,$NQ$8,FALSE)/9.3*$AD$6*$CQ$6)))),IF(AND(BU16=$NQ$4,$C$6=12),VLOOKUP(BU18,Kurināmais!$A$4:$G$351,$NQ$8,FALSE)/9.3*$AD$6*$CQ$6,IF(AND(BU16=$NQ$4+1,$C$6<12,BU17<=$C$6,$NQ$4=10),VLOOKUP(BU18,Kurināmais!$A$4:$G$351,$NQ$8,FALSE)/9.3*$Q$6*$CQ$6,IF(AND(BU16=$NQ$4+1,$C$6<12,BU17<=$C$6),VLOOKUP(BU18,Kurināmais!$A$4:$G$351,$NQ$8,FALSE)/9.3*$AD$6*$CQ$6,\" \"))))","v":" "},{"$f":"IF(AND(BV15>=$B$5,BV15<$B$6),IF(BV16=1,IF(BV17>=$C$5,VLOOKUP(BV18,Kurināmais!$A$4:$G$351,$NQ$8,FALSE)/9.3*Biomasa!$Q$6*$CQ$6,\" \"),IF(AND(BV16>1,BV16<=10),VLOOKUP(BV18,Kurināmais!$A$4:$G$351,$NQ$8,FALSE)/9.3*Biomasa!$Q$6*$CQ$6,IF(BV16=11,IF(BV17<$C$5,VLOOKUP(BV18,Kurināmais!$A$4:$G$351,$NQ$8,FALSE)/9.3*Biomasa!$Q$6*$CQ$6,VLOOKUP(BV18,Kurināmais!$A$4:$G$351,$NQ$8,FALSE)/9.3*$AD$6*$CQ$6),IF(BV16>11,VLOOKUP(BV18,Kurināmais!$A$4:$G$351,$NQ$8,FALSE)/9.3*$AD$6*$CQ$6)))),IF(AND(BV16=$NQ$4,$C$6=12),VLOOKUP(BV18,Kurināmais!$A$4:$G$351,$NQ$8,FALSE)/9.3*$AD$6*$CQ$6,IF(AND(BV16=$NQ$4+1,$C$6<12,BV17<=$C$6,$NQ$4=10),VLOOKUP(BV18,Kurināmais!$A$4:$G$351,$NQ$8,FALSE)/9.3*$Q$6*$CQ$6,IF(AND(BV16=$NQ$4+1,$C$6<12,BV17<=$C$6),VLOOKUP(BV18,Kurināmais!$A$4:$G$351,$NQ$8,FALSE)/9.3*$AD$6*$CQ$6,\" \"))))","v":" "},{"$f":"IF(AND(BW15>=$B$5,BW15<$B$6),IF(BW16=1,IF(BW17>=$C$5,VLOOKUP(BW18,Kurināmais!$A$4:$G$351,$NQ$8,FALSE)/9.3*Biomasa!$Q$6*$CQ$6,\" \"),IF(AND(BW16>1,BW16<=10),VLOOKUP(BW18,Kurināmais!$A$4:$G$351,$NQ$8,FALSE)/9.3*Biomasa!$Q$6*$CQ$6,IF(BW16=11,IF(BW17<$C$5,VLOOKUP(BW18,Kurināmais!$A$4:$G$351,$NQ$8,FALSE)/9.3*Biomasa!$Q$6*$CQ$6,VLOOKUP(BW18,Kurināmais!$A$4:$G$351,$NQ$8,FALSE)/9.3*$AD$6*$CQ$6),IF(BW16>11,VLOOKUP(BW18,Kurināmais!$A$4:$G$351,$NQ$8,FALSE)/9.3*$AD$6*$CQ$6)))),IF(AND(BW16=$NQ$4,$C$6=12),VLOOKUP(BW18,Kurināmais!$A$4:$G$351,$NQ$8,FALSE)/9.3*$AD$6*$CQ$6,IF(AND(BW16=$NQ$4+1,$C$6<12,BW17<=$C$6,$NQ$4=10),VLOOKUP(BW18,Kurināmais!$A$4:$G$351,$NQ$8,FALSE)/9.3*$Q$6*$CQ$6,IF(AND(BW16=$NQ$4+1,$C$6<12,BW17<=$C$6),VLOOKUP(BW18,Kurināmais!$A$4:$G$351,$NQ$8,FALSE)/9.3*$AD$6*$CQ$6,\" \"))))","v":" "},{"$f":"IF(AND(BX15>=$B$5,BX15<$B$6),IF(BX16=1,IF(BX17>=$C$5,VLOOKUP(BX18,Kurināmais!$A$4:$G$351,$NQ$8,FALSE)/9.3*Biomasa!$Q$6*$CQ$6,\" \"),IF(AND(BX16>1,BX16<=10),VLOOKUP(BX18,Kurināmais!$A$4:$G$351,$NQ$8,FALSE)/9.3*Biomasa!$Q$6*$CQ$6,IF(BX16=11,IF(BX17<$C$5,VLOOKUP(BX18,Kurināmais!$A$4:$G$351,$NQ$8,FALSE)/9.3*Biomasa!$Q$6*$CQ$6,VLOOKUP(BX18,Kurināmais!$A$4:$G$351,$NQ$8,FALSE)/9.3*$AD$6*$CQ$6),IF(BX16>11,VLOOKUP(BX18,Kurināmais!$A$4:$G$351,$NQ$8,FALSE)/9.3*$AD$6*$CQ$6)))),IF(AND(BX16=$NQ$4,$C$6=12),VLOOKUP(BX18,Kurināmais!$A$4:$G$351,$NQ$8,FALSE)/9.3*$AD$6*$CQ$6,IF(AND(BX16=$NQ$4+1,$C$6<12,BX17<=$C$6,$NQ$4=10),VLOOKUP(BX18,Kurināmais!$A$4:$G$351,$NQ$8,FALSE)/9.3*$Q$6*$CQ$6,IF(AND(BX16=$NQ$4+1,$C$6<12,BX17<=$C$6),VLOOKUP(BX18,Kurināmais!$A$4:$G$351,$NQ$8,FALSE)/9.3*$AD$6*$CQ$6,\" \"))))","v":" "},{"$f":"IF(AND(BY15>=$B$5,BY15<$B$6),IF(BY16=1,IF(BY17>=$C$5,VLOOKUP(BY18,Kurināmais!$A$4:$G$351,$NQ$8,FALSE)/9.3*Biomasa!$Q$6*$CQ$6,\" \"),IF(AND(BY16>1,BY16<=10),VLOOKUP(BY18,Kurināmais!$A$4:$G$351,$NQ$8,FALSE)/9.3*Biomasa!$Q$6*$CQ$6,IF(BY16=11,IF(BY17<$C$5,VLOOKUP(BY18,Kurināmais!$A$4:$G$351,$NQ$8,FALSE)/9.3*Biomasa!$Q$6*$CQ$6,VLOOKUP(BY18,Kurināmais!$A$4:$G$351,$NQ$8,FALSE)/9.3*$AD$6*$CQ$6),IF(BY16>11,VLOOKUP(BY18,Kurināmais!$A$4:$G$351,$NQ$8,FALSE)/9.3*$AD$6*$CQ$6)))),IF(AND(BY16=$NQ$4,$C$6=12),VLOOKUP(BY18,Kurināmais!$A$4:$G$351,$NQ$8,FALSE)/9.3*$AD$6*$CQ$6,IF(AND(BY16=$NQ$4+1,$C$6<12,BY17<=$C$6,$NQ$4=10),VLOOKUP(BY18,Kurināmais!$A$4:$G$351,$NQ$8,FALSE)/9.3*$Q$6*$CQ$6,IF(AND(BY16=$NQ$4+1,$C$6<12,BY17<=$C$6),VLOOKUP(BY18,Kurināmais!$A$4:$G$351,$NQ$8,FALSE)/9.3*$AD$6*$CQ$6,\" \"))))","v":" "},{"$f":"IF(AND(BZ15>=$B$5,BZ15<$B$6),IF(BZ16=1,IF(BZ17>=$C$5,VLOOKUP(BZ18,Kurināmais!$A$4:$G$351,$NQ$8,FALSE)/9.3*Biomasa!$Q$6*$CQ$6,\" \"),IF(AND(BZ16>1,BZ16<=10),VLOOKUP(BZ18,Kurināmais!$A$4:$G$351,$NQ$8,FALSE)/9.3*Biomasa!$Q$6*$CQ$6,IF(BZ16=11,IF(BZ17<$C$5,VLOOKUP(BZ18,Kurināmais!$A$4:$G$351,$NQ$8,FALSE)/9.3*Biomasa!$Q$6*$CQ$6,VLOOKUP(BZ18,Kurināmais!$A$4:$G$351,$NQ$8,FALSE)/9.3*$AD$6*$CQ$6),IF(BZ16>11,VLOOKUP(BZ18,Kurināmais!$A$4:$G$351,$NQ$8,FALSE)/9.3*$AD$6*$CQ$6)))),IF(AND(BZ16=$NQ$4,$C$6=12),VLOOKUP(BZ18,Kurināmais!$A$4:$G$351,$NQ$8,FALSE)/9.3*$AD$6*$CQ$6,IF(AND(BZ16=$NQ$4+1,$C$6<12,BZ17<=$C$6,$NQ$4=10),VLOOKUP(BZ18,Kurināmais!$A$4:$G$351,$NQ$8,FALSE)/9.3*$Q$6*$CQ$6,IF(AND(BZ16=$NQ$4+1,$C$6<12,BZ17<=$C$6),VLOOKUP(BZ18,Kurināmais!$A$4:$G$351,$NQ$8,FALSE)/9.3*$AD$6*$CQ$6,\" \"))))","v":" "},{"$f":"IF(AND(CA15>=$B$5,CA15<$B$6),IF(CA16=1,IF(CA17>=$C$5,VLOOKUP(CA18,Kurināmais!$A$4:$G$351,$NQ$8,FALSE)/9.3*Biomasa!$Q$6*$CQ$6,\" \"),IF(AND(CA16>1,CA16<=10),VLOOKUP(CA18,Kurināmais!$A$4:$G$351,$NQ$8,FALSE)/9.3*Biomasa!$Q$6*$CQ$6,IF(CA16=11,IF(CA17<$C$5,VLOOKUP(CA18,Kurināmais!$A$4:$G$351,$NQ$8,FALSE)/9.3*Biomasa!$Q$6*$CQ$6,VLOOKUP(CA18,Kurināmais!$A$4:$G$351,$NQ$8,FALSE)/9.3*$AD$6*$CQ$6),IF(CA16>11,VLOOKUP(CA18,Kurināmais!$A$4:$G$351,$NQ$8,FALSE)/9.3*$AD$6*$CQ$6)))),IF(AND(CA16=$NQ$4,$C$6=12),VLOOKUP(CA18,Kurināmais!$A$4:$G$351,$NQ$8,FALSE)/9.3*$AD$6*$CQ$6,IF(AND(CA16=$NQ$4+1,$C$6<12,CA17<=$C$6,$NQ$4=10),VLOOKUP(CA18,Kurināmais!$A$4:$G$351,$NQ$8,FALSE)/9.3*$Q$6*$CQ$6,IF(AND(CA16=$NQ$4+1,$C$6<12,CA17<=$C$6),VLOOKUP(CA18,Kurināmais!$A$4:$G$351,$NQ$8,FALSE)/9.3*$AD$6*$CQ$6,\" \"))))","v":" "},{"$f":"IF(AND(CB15>=$B$5,CB15<$B$6),IF(CB16=1,IF(CB17>=$C$5,VLOOKUP(CB18,Kurināmais!$A$4:$G$351,$NQ$8,FALSE)/9.3*Biomasa!$Q$6*$CQ$6,\" \"),IF(AND(CB16>1,CB16<=10),VLOOKUP(CB18,Kurināmais!$A$4:$G$351,$NQ$8,FALSE)/9.3*Biomasa!$Q$6*$CQ$6,IF(CB16=11,IF(CB17<$C$5,VLOOKUP(CB18,Kurināmais!$A$4:$G$351,$NQ$8,FALSE)/9.3*Biomasa!$Q$6*$CQ$6,VLOOKUP(CB18,Kurināmais!$A$4:$G$351,$NQ$8,FALSE)/9.3*$AD$6*$CQ$6),IF(CB16>11,VLOOKUP(CB18,Kurināmais!$A$4:$G$351,$NQ$8,FALSE)/9.3*$AD$6*$CQ$6)))),IF(AND(CB16=$NQ$4,$C$6=12),VLOOKUP(CB18,Kurināmais!$A$4:$G$351,$NQ$8,FALSE)/9.3*$AD$6*$CQ$6,IF(AND(CB16=$NQ$4+1,$C$6<12,CB17<=$C$6,$NQ$4=10),VLOOKUP(CB18,Kurināmais!$A$4:$G$351,$NQ$8,FALSE)/9.3*$Q$6*$CQ$6,IF(AND(CB16=$NQ$4+1,$C$6<12,CB17<=$C$6),VLOOKUP(CB18,Kurināmais!$A$4:$G$351,$NQ$8,FALSE)/9.3*$AD$6*$CQ$6,\" \"))))","v":" "},{"$f":"IF(AND(CC15>=$B$5,CC15<$B$6),IF(CC16=1,IF(CC17>=$C$5,VLOOKUP(CC18,Kurināmais!$A$4:$G$351,$NQ$8,FALSE)/9.3*Biomasa!$Q$6*$CQ$6,\" \"),IF(AND(CC16>1,CC16<=10),VLOOKUP(CC18,Kurināmais!$A$4:$G$351,$NQ$8,FALSE)/9.3*Biomasa!$Q$6*$CQ$6,IF(CC16=11,IF(CC17<$C$5,VLOOKUP(CC18,Kurināmais!$A$4:$G$351,$NQ$8,FALSE)/9.3*Biomasa!$Q$6*$CQ$6,VLOOKUP(CC18,Kurināmais!$A$4:$G$351,$NQ$8,FALSE)/9.3*$AD$6*$CQ$6),IF(CC16>11,VLOOKUP(CC18,Kurināmais!$A$4:$G$351,$NQ$8,FALSE)/9.3*$AD$6*$CQ$6)))),IF(AND(CC16=$NQ$4,$C$6=12),VLOOKUP(CC18,Kurināmais!$A$4:$G$351,$NQ$8,FALSE)/9.3*$AD$6*$CQ$6,IF(AND(CC16=$NQ$4+1,$C$6<12,CC17<=$C$6,$NQ$4=10),VLOOKUP(CC18,Kurināmais!$A$4:$G$351,$NQ$8,FALSE)/9.3*$Q$6*$CQ$6,IF(AND(CC16=$NQ$4+1,$C$6<12,CC17<=$C$6),VLOOKUP(CC18,Kurināmais!$A$4:$G$351,$NQ$8,FALSE)/9.3*$AD$6*$CQ$6,\" \"))))","v":" "},{"$f":"IF(OR(CD$16=\" \",CD$16=0,CD21=0),\" \",SUMPRODUCT(CE21:CP21,CE22:CP22)/CD21)","v":" "},{"$f":"IF(AND(CE15>=$B$5,CE15<$B$6),IF(CE16=1,IF(CE17>=$C$5,VLOOKUP(CE18,Kurināmais!$A$4:$G$351,$NQ$8,FALSE)/9.3*Biomasa!$Q$6*$CQ$6,\" \"),IF(AND(CE16>1,CE16<=10),VLOOKUP(CE18,Kurināmais!$A$4:$G$351,$NQ$8,FALSE)/9.3*Biomasa!$Q$6*$CQ$6,IF(CE16=11,IF(CE17<$C$5,VLOOKUP(CE18,Kurināmais!$A$4:$G$351,$NQ$8,FALSE)/9.3*Biomasa!$Q$6*$CQ$6,VLOOKUP(CE18,Kurināmais!$A$4:$G$351,$NQ$8,FALSE)/9.3*$AD$6*$CQ$6),IF(CE16>11,VLOOKUP(CE18,Kurināmais!$A$4:$G$351,$NQ$8,FALSE)/9.3*$AD$6*$CQ$6)))),IF(AND(CE16=$NQ$4,$C$6=12),VLOOKUP(CE18,Kurināmais!$A$4:$G$351,$NQ$8,FALSE)/9.3*$AD$6*$CQ$6,IF(AND(CE16=$NQ$4+1,$C$6<12,CE17<=$C$6,$NQ$4=10),VLOOKUP(CE18,Kurināmais!$A$4:$G$351,$NQ$8,FALSE)/9.3*$Q$6*$CQ$6,IF(AND(CE16=$NQ$4+1,$C$6<12,CE17<=$C$6),VLOOKUP(CE18,Kurināmais!$A$4:$G$351,$NQ$8,FALSE)/9.3*$AD$6*$CQ$6,\" \"))))","v":" "},{"$f":"IF(AND(CF15>=$B$5,CF15<$B$6),IF(CF16=1,IF(CF17>=$C$5,VLOOKUP(CF18,Kurināmais!$A$4:$G$351,$NQ$8,FALSE)/9.3*Biomasa!$Q$6*$CQ$6,\" \"),IF(AND(CF16>1,CF16<=10),VLOOKUP(CF18,Kurināmais!$A$4:$G$351,$NQ$8,FALSE)/9.3*Biomasa!$Q$6*$CQ$6,IF(CF16=11,IF(CF17<$C$5,VLOOKUP(CF18,Kurināmais!$A$4:$G$351,$NQ$8,FALSE)/9.3*Biomasa!$Q$6*$CQ$6,VLOOKUP(CF18,Kurināmais!$A$4:$G$351,$NQ$8,FALSE)/9.3*$AD$6*$CQ$6),IF(CF16>11,VLOOKUP(CF18,Kurināmais!$A$4:$G$351,$NQ$8,FALSE)/9.3*$AD$6*$CQ$6)))),IF(AND(CF16=$NQ$4,$C$6=12),VLOOKUP(CF18,Kurināmais!$A$4:$G$351,$NQ$8,FALSE)/9.3*$AD$6*$CQ$6,IF(AND(CF16=$NQ$4+1,$C$6<12,CF17<=$C$6,$NQ$4=10),VLOOKUP(CF18,Kurināmais!$A$4:$G$351,$NQ$8,FALSE)/9.3*$Q$6*$CQ$6,IF(AND(CF16=$NQ$4+1,$C$6<12,CF17<=$C$6),VLOOKUP(CF18,Kurināmais!$A$4:$G$351,$NQ$8,FALSE)/9.3*$AD$6*$CQ$6,\" \"))))","v":" "},{"$f":"IF(AND(CG15>=$B$5,CG15<$B$6),IF(CG16=1,IF(CG17>=$C$5,VLOOKUP(CG18,Kurināmais!$A$4:$G$351,$NQ$8,FALSE)/9.3*Biomasa!$Q$6*$CQ$6,\" \"),IF(AND(CG16>1,CG16<=10),VLOOKUP(CG18,Kurināmais!$A$4:$G$351,$NQ$8,FALSE)/9.3*Biomasa!$Q$6*$CQ$6,IF(CG16=11,IF(CG17<$C$5,VLOOKUP(CG18,Kurināmais!$A$4:$G$351,$NQ$8,FALSE)/9.3*Biomasa!$Q$6*$CQ$6,VLOOKUP(CG18,Kurināmais!$A$4:$G$351,$NQ$8,FALSE)/9.3*$AD$6*$CQ$6),IF(CG16>11,VLOOKUP(CG18,Kurināmais!$A$4:$G$351,$NQ$8,FALSE)/9.3*$AD$6*$CQ$6)))),IF(AND(CG16=$NQ$4,$C$6=12),VLOOKUP(CG18,Kurināmais!$A$4:$G$351,$NQ$8,FALSE)/9.3*$AD$6*$CQ$6,IF(AND(CG16=$NQ$4+1,$C$6<12,CG17<=$C$6,$NQ$4=10),VLOOKUP(CG18,Kurināmais!$A$4:$G$351,$NQ$8,FALSE)/9.3*$Q$6*$CQ$6,IF(AND(CG16=$NQ$4+1,$C$6<12,CG17<=$C$6),VLOOKUP(CG18,Kurināmais!$A$4:$G$351,$NQ$8,FALSE)/9.3*$AD$6*$CQ$6,\" \"))))","v":" "},{"$f":"IF(AND(CH15>=$B$5,CH15<$B$6),IF(CH16=1,IF(CH17>=$C$5,VLOOKUP(CH18,Kurināmais!$A$4:$G$351,$NQ$8,FALSE)/9.3*Biomasa!$Q$6*$CQ$6,\" \"),IF(AND(CH16>1,CH16<=10),VLOOKUP(CH18,Kurināmais!$A$4:$G$351,$NQ$8,FALSE)/9.3*Biomasa!$Q$6*$CQ$6,IF(CH16=11,IF(CH17<$C$5,VLOOKUP(CH18,Kurināmais!$A$4:$G$351,$NQ$8,FALSE)/9.3*Biomasa!$Q$6*$CQ$6,VLOOKUP(CH18,Kurināmais!$A$4:$G$351,$NQ$8,FALSE)/9.3*$AD$6*$CQ$6),IF(CH16>11,VLOOKUP(CH18,Kurināmais!$A$4:$G$351,$NQ$8,FALSE)/9.3*$AD$6*$CQ$6)))),IF(AND(CH16=$NQ$4,$C$6=12),VLOOKUP(CH18,Kurināmais!$A$4:$G$351,$NQ$8,FALSE)/9.3*$AD$6*$CQ$6,IF(AND(CH16=$NQ$4+1,$C$6<12,CH17<=$C$6,$NQ$4=10),VLOOKUP(CH18,Kurināmais!$A$4:$G$351,$NQ$8,FALSE)/9.3*$Q$6*$CQ$6,IF(AND(CH16=$NQ$4+1,$C$6<12,CH17<=$C$6),VLOOKUP(CH18,Kurināmais!$A$4:$G$351,$NQ$8,FALSE)/9.3*$AD$6*$CQ$6,\" \"))))","v":" "},{"$f":"IF(AND(CI15>=$B$5,CI15<$B$6),IF(CI16=1,IF(CI17>=$C$5,VLOOKUP(CI18,Kurināmais!$A$4:$G$351,$NQ$8,FALSE)/9.3*Biomasa!$Q$6*$CQ$6,\" \"),IF(AND(CI16>1,CI16<=10),VLOOKUP(CI18,Kurināmais!$A$4:$G$351,$NQ$8,FALSE)/9.3*Biomasa!$Q$6*$CQ$6,IF(CI16=11,IF(CI17<$C$5,VLOOKUP(CI18,Kurināmais!$A$4:$G$351,$NQ$8,FALSE)/9.3*Biomasa!$Q$6*$CQ$6,VLOOKUP(CI18,Kurināmais!$A$4:$G$351,$NQ$8,FALSE)/9.3*$AD$6*$CQ$6),IF(CI16>11,VLOOKUP(CI18,Kurināmais!$A$4:$G$351,$NQ$8,FALSE)/9.3*$AD$6*$CQ$6)))),IF(AND(CI16=$NQ$4,$C$6=12),VLOOKUP(CI18,Kurināmais!$A$4:$G$351,$NQ$8,FALSE)/9.3*$AD$6*$CQ$6,IF(AND(CI16=$NQ$4+1,$C$6<12,CI17<=$C$6,$NQ$4=10),VLOOKUP(CI18,Kurināmais!$A$4:$G$351,$NQ$8,FALSE)/9.3*$Q$6*$CQ$6,IF(AND(CI16=$NQ$4+1,$C$6<12,CI17<=$C$6),VLOOKUP(CI18,Kurināmais!$A$4:$G$351,$NQ$8,FALSE)/9.3*$AD$6*$CQ$6,\" \"))))","v":" "},{"$f":"IF(AND(CJ15>=$B$5,CJ15<$B$6),IF(CJ16=1,IF(CJ17>=$C$5,VLOOKUP(CJ18,Kurināmais!$A$4:$G$351,$NQ$8,FALSE)/9.3*Biomasa!$Q$6*$CQ$6,\" \"),IF(AND(CJ16>1,CJ16<=10),VLOOKUP(CJ18,Kurināmais!$A$4:$G$351,$NQ$8,FALSE)/9.3*Biomasa!$Q$6*$CQ$6,IF(CJ16=11,IF(CJ17<$C$5,VLOOKUP(CJ18,Kurināmais!$A$4:$G$351,$NQ$8,FALSE)/9.3*Biomasa!$Q$6*$CQ$6,VLOOKUP(CJ18,Kurināmais!$A$4:$G$351,$NQ$8,FALSE)/9.3*$AD$6*$CQ$6),IF(CJ16>11,VLOOKUP(CJ18,Kurināmais!$A$4:$G$351,$NQ$8,FALSE)/9.3*$AD$6*$CQ$6)))),IF(AND(CJ16=$NQ$4,$C$6=12),VLOOKUP(CJ18,Kurināmais!$A$4:$G$351,$NQ$8,FALSE)/9.3*$AD$6*$CQ$6,IF(AND(CJ16=$NQ$4+1,$C$6<12,CJ17<=$C$6,$NQ$4=10),VLOOKUP(CJ18,Kurināmais!$A$4:$G$351,$NQ$8,FALSE)/9.3*$Q$6*$CQ$6,IF(AND(CJ16=$NQ$4+1,$C$6<12,CJ17<=$C$6),VLOOKUP(CJ18,Kurināmais!$A$4:$G$351,$NQ$8,FALSE)/9.3*$AD$6*$CQ$6,\" \"))))","v":" "},{"$f":"IF(AND(CK15>=$B$5,CK15<$B$6),IF(CK16=1,IF(CK17>=$C$5,VLOOKUP(CK18,Kurināmais!$A$4:$G$351,$NQ$8,FALSE)/9.3*Biomasa!$Q$6*$CQ$6,\" \"),IF(AND(CK16>1,CK16<=10),VLOOKUP(CK18,Kurināmais!$A$4:$G$351,$NQ$8,FALSE)/9.3*Biomasa!$Q$6*$CQ$6,IF(CK16=11,IF(CK17<$C$5,VLOOKUP(CK18,Kurināmais!$A$4:$G$351,$NQ$8,FALSE)/9.3*Biomasa!$Q$6*$CQ$6,VLOOKUP(CK18,Kurināmais!$A$4:$G$351,$NQ$8,FALSE)/9.3*$AD$6*$CQ$6),IF(CK16>11,VLOOKUP(CK18,Kurināmais!$A$4:$G$351,$NQ$8,FALSE)/9.3*$AD$6*$CQ$6)))),IF(AND(CK16=$NQ$4,$C$6=12),VLOOKUP(CK18,Kurināmais!$A$4:$G$351,$NQ$8,FALSE)/9.3*$AD$6*$CQ$6,IF(AND(CK16=$NQ$4+1,$C$6<12,CK17<=$C$6,$NQ$4=10),VLOOKUP(CK18,Kurināmais!$A$4:$G$351,$NQ$8,FALSE)/9.3*$Q$6*$CQ$6,IF(AND(CK16=$NQ$4+1,$C$6<12,CK17<=$C$6),VLOOKUP(CK18,Kurināmais!$A$4:$G$351,$NQ$8,FALSE)/9.3*$AD$6*$CQ$6,\" \"))))","v":" "},{"$f":"IF(AND(CL15>=$B$5,CL15<$B$6),IF(CL16=1,IF(CL17>=$C$5,VLOOKUP(CL18,Kurināmais!$A$4:$G$351,$NQ$8,FALSE)/9.3*Biomasa!$Q$6*$CQ$6,\" \"),IF(AND(CL16>1,CL16<=10),VLOOKUP(CL18,Kurināmais!$A$4:$G$351,$NQ$8,FALSE)/9.3*Biomasa!$Q$6*$CQ$6,IF(CL16=11,IF(CL17<$C$5,VLOOKUP(CL18,Kurināmais!$A$4:$G$351,$NQ$8,FALSE)/9.3*Biomasa!$Q$6*$CQ$6,VLOOKUP(CL18,Kurināmais!$A$4:$G$351,$NQ$8,FALSE)/9.3*$AD$6*$CQ$6),IF(CL16>11,VLOOKUP(CL18,Kurināmais!$A$4:$G$351,$NQ$8,FALSE)/9.3*$AD$6*$CQ$6)))),IF(AND(CL16=$NQ$4,$C$6=12),VLOOKUP(CL18,Kurināmais!$A$4:$G$351,$NQ$8,FALSE)/9.3*$AD$6*$CQ$6,IF(AND(CL16=$NQ$4+1,$C$6<12,CL17<=$C$6,$NQ$4=10),VLOOKUP(CL18,Kurināmais!$A$4:$G$351,$NQ$8,FALSE)/9.3*$Q$6*$CQ$6,IF(AND(CL16=$NQ$4+1,$C$6<12,CL17<=$C$6),VLOOKUP(CL18,Kurināmais!$A$4:$G$351,$NQ$8,FALSE)/9.3*$AD$6*$CQ$6,\" \"))))","v":" "},{"$f":"IF(AND(CM15>=$B$5,CM15<$B$6),IF(CM16=1,IF(CM17>=$C$5,VLOOKUP(CM18,Kurināmais!$A$4:$G$351,$NQ$8,FALSE)/9.3*Biomasa!$Q$6*$CQ$6,\" \"),IF(AND(CM16>1,CM16<=10),VLOOKUP(CM18,Kurināmais!$A$4:$G$351,$NQ$8,FALSE)/9.3*Biomasa!$Q$6*$CQ$6,IF(CM16=11,IF(CM17<$C$5,VLOOKUP(CM18,Kurināmais!$A$4:$G$351,$NQ$8,FALSE)/9.3*Biomasa!$Q$6*$CQ$6,VLOOKUP(CM18,Kurināmais!$A$4:$G$351,$NQ$8,FALSE)/9.3*$AD$6*$CQ$6),IF(CM16>11,VLOOKUP(CM18,Kurināmais!$A$4:$G$351,$NQ$8,FALSE)/9.3*$AD$6*$CQ$6)))),IF(AND(CM16=$NQ$4,$C$6=12),VLOOKUP(CM18,Kurināmais!$A$4:$G$351,$NQ$8,FALSE)/9.3*$AD$6*$CQ$6,IF(AND(CM16=$NQ$4+1,$C$6<12,CM17<=$C$6,$NQ$4=10),VLOOKUP(CM18,Kurināmais!$A$4:$G$351,$NQ$8,FALSE)/9.3*$Q$6*$CQ$6,IF(AND(CM16=$NQ$4+1,$C$6<12,CM17<=$C$6),VLOOKUP(CM18,Kurināmais!$A$4:$G$351,$NQ$8,FALSE)/9.3*$AD$6*$CQ$6,\" \"))))","v":" "},{"$f":"IF(AND(CN15>=$B$5,CN15<$B$6),IF(CN16=1,IF(CN17>=$C$5,VLOOKUP(CN18,Kurināmais!$A$4:$G$351,$NQ$8,FALSE)/9.3*Biomasa!$Q$6*$CQ$6,\" \"),IF(AND(CN16>1,CN16<=10),VLOOKUP(CN18,Kurināmais!$A$4:$G$351,$NQ$8,FALSE)/9.3*Biomasa!$Q$6*$CQ$6,IF(CN16=11,IF(CN17<$C$5,VLOOKUP(CN18,Kurināmais!$A$4:$G$351,$NQ$8,FALSE)/9.3*Biomasa!$Q$6*$CQ$6,VLOOKUP(CN18,Kurināmais!$A$4:$G$351,$NQ$8,FALSE)/9.3*$AD$6*$CQ$6),IF(CN16>11,VLOOKUP(CN18,Kurināmais!$A$4:$G$351,$NQ$8,FALSE)/9.3*$AD$6*$CQ$6)))),IF(AND(CN16=$NQ$4,$C$6=12),VLOOKUP(CN18,Kurināmais!$A$4:$G$351,$NQ$8,FALSE)/9.3*$AD$6*$CQ$6,IF(AND(CN16=$NQ$4+1,$C$6<12,CN17<=$C$6,$NQ$4=10),VLOOKUP(CN18,Kurināmais!$A$4:$G$351,$NQ$8,FALSE)/9.3*$Q$6*$CQ$6,IF(AND(CN16=$NQ$4+1,$C$6<12,CN17<=$C$6),VLOOKUP(CN18,Kurināmais!$A$4:$G$351,$NQ$8,FALSE)/9.3*$AD$6*$CQ$6,\" \"))))","v":" "},{"$f":"IF(AND(CO15>=$B$5,CO15<$B$6),IF(CO16=1,IF(CO17>=$C$5,VLOOKUP(CO18,Kurināmais!$A$4:$G$351,$NQ$8,FALSE)/9.3*Biomasa!$Q$6*$CQ$6,\" \"),IF(AND(CO16>1,CO16<=10),VLOOKUP(CO18,Kurināmais!$A$4:$G$351,$NQ$8,FALSE)/9.3*Biomasa!$Q$6*$CQ$6,IF(CO16=11,IF(CO17<$C$5,VLOOKUP(CO18,Kurināmais!$A$4:$G$351,$NQ$8,FALSE)/9.3*Biomasa!$Q$6*$CQ$6,VLOOKUP(CO18,Kurināmais!$A$4:$G$351,$NQ$8,FALSE)/9.3*$AD$6*$CQ$6),IF(CO16>11,VLOOKUP(CO18,Kurināmais!$A$4:$G$351,$NQ$8,FALSE)/9.3*$AD$6*$CQ$6)))),IF(AND(CO16=$NQ$4,$C$6=12),VLOOKUP(CO18,Kurināmais!$A$4:$G$351,$NQ$8,FALSE)/9.3*$AD$6*$CQ$6,IF(AND(CO16=$NQ$4+1,$C$6<12,CO17<=$C$6,$NQ$4=10),VLOOKUP(CO18,Kurināmais!$A$4:$G$351,$NQ$8,FALSE)/9.3*$Q$6*$CQ$6,IF(AND(CO16=$NQ$4+1,$C$6<12,CO17<=$C$6),VLOOKUP(CO18,Kurināmais!$A$4:$G$351,$NQ$8,FALSE)/9.3*$AD$6*$CQ$6,\" \"))))","v":" "},{"$f":"IF(AND(CP15>=$B$5,CP15<$B$6),IF(CP16=1,IF(CP17>=$C$5,VLOOKUP(CP18,Kurināmais!$A$4:$G$351,$NQ$8,FALSE)/9.3*Biomasa!$Q$6*$CQ$6,\" \"),IF(AND(CP16>1,CP16<=10),VLOOKUP(CP18,Kurināmais!$A$4:$G$351,$NQ$8,FALSE)/9.3*Biomasa!$Q$6*$CQ$6,IF(CP16=11,IF(CP17<$C$5,VLOOKUP(CP18,Kurināmais!$A$4:$G$351,$NQ$8,FALSE)/9.3*Biomasa!$Q$6*$CQ$6,VLOOKUP(CP18,Kurināmais!$A$4:$G$351,$NQ$8,FALSE)/9.3*$AD$6*$CQ$6),IF(CP16>11,VLOOKUP(CP18,Kurināmais!$A$4:$G$351,$NQ$8,FALSE)/9.3*$AD$6*$CQ$6)))),IF(AND(CP16=$NQ$4,$C$6=12),VLOOKUP(CP18,Kurināmais!$A$4:$G$351,$NQ$8,FALSE)/9.3*$AD$6*$CQ$6,IF(AND(CP16=$NQ$4+1,$C$6<12,CP17<=$C$6,$NQ$4=10),VLOOKUP(CP18,Kurināmais!$A$4:$G$351,$NQ$8,FALSE)/9.3*$Q$6*$CQ$6,IF(AND(CP16=$NQ$4+1,$C$6<12,CP17<=$C$6),VLOOKUP(CP18,Kurināmais!$A$4:$G$351,$NQ$8,FALSE)/9.3*$AD$6*$CQ$6,\" \"))))","v":" "},{"$f":"IF(OR(CQ$16=\" \",CQ$16=0,CQ21=0),\" \",SUMPRODUCT(CR21:DC21,CR22:DC22)/CQ21)","v":" "},{"$f":"IF(AND(CR15>=$B$5,CR15<$B$6),IF(CR16=1,IF(CR17>=$C$5,VLOOKUP(CR18,Kurināmais!$A$4:$G$351,$NQ$8,FALSE)/9.3*Biomasa!$Q$6*$CQ$6,\" \"),IF(AND(CR16>1,CR16<=10),VLOOKUP(CR18,Kurināmais!$A$4:$G$351,$NQ$8,FALSE)/9.3*Biomasa!$Q$6*$CQ$6,IF(CR16=11,IF(CR17<$C$5,VLOOKUP(CR18,Kurināmais!$A$4:$G$351,$NQ$8,FALSE)/9.3*Biomasa!$Q$6*$CQ$6,VLOOKUP(CR18,Kurināmais!$A$4:$G$351,$NQ$8,FALSE)/9.3*$AD$6*$CQ$6),IF(CR16>11,VLOOKUP(CR18,Kurināmais!$A$4:$G$351,$NQ$8,FALSE)/9.3*$AD$6*$CQ$6)))),IF(AND(CR16=$NQ$4,$C$6=12),VLOOKUP(CR18,Kurināmais!$A$4:$G$351,$NQ$8,FALSE)/9.3*$AD$6*$CQ$6,IF(AND(CR16=$NQ$4+1,$C$6<12,CR17<=$C$6,$NQ$4=10),VLOOKUP(CR18,Kurināmais!$A$4:$G$351,$NQ$8,FALSE)/9.3*$Q$6*$CQ$6,IF(AND(CR16=$NQ$4+1,$C$6<12,CR17<=$C$6),VLOOKUP(CR18,Kurināmais!$A$4:$G$351,$NQ$8,FALSE)/9.3*$AD$6*$CQ$6,\" \"))))","v":" "},{"$f":"IF(AND(CS15>=$B$5,CS15<$B$6),IF(CS16=1,IF(CS17>=$C$5,VLOOKUP(CS18,Kurināmais!$A$4:$G$351,$NQ$8,FALSE)/9.3*Biomasa!$Q$6*$CQ$6,\" \"),IF(AND(CS16>1,CS16<=10),VLOOKUP(CS18,Kurināmais!$A$4:$G$351,$NQ$8,FALSE)/9.3*Biomasa!$Q$6*$CQ$6,IF(CS16=11,IF(CS17<$C$5,VLOOKUP(CS18,Kurināmais!$A$4:$G$351,$NQ$8,FALSE)/9.3*Biomasa!$Q$6*$CQ$6,VLOOKUP(CS18,Kurināmais!$A$4:$G$351,$NQ$8,FALSE)/9.3*$AD$6*$CQ$6),IF(CS16>11,VLOOKUP(CS18,Kurināmais!$A$4:$G$351,$NQ$8,FALSE)/9.3*$AD$6*$CQ$6)))),IF(AND(CS16=$NQ$4,$C$6=12),VLOOKUP(CS18,Kurināmais!$A$4:$G$351,$NQ$8,FALSE)/9.3*$AD$6*$CQ$6,IF(AND(CS16=$NQ$4+1,$C$6<12,CS17<=$C$6,$NQ$4=10),VLOOKUP(CS18,Kurināmais!$A$4:$G$351,$NQ$8,FALSE)/9.3*$Q$6*$CQ$6,IF(AND(CS16=$NQ$4+1,$C$6<12,CS17<=$C$6),VLOOKUP(CS18,Kurināmais!$A$4:$G$351,$NQ$8,FALSE)/9.3*$AD$6*$CQ$6,\" \"))))","v":" "},{"$f":"IF(AND(CT15>=$B$5,CT15<$B$6),IF(CT16=1,IF(CT17>=$C$5,VLOOKUP(CT18,Kurināmais!$A$4:$G$351,$NQ$8,FALSE)/9.3*Biomasa!$Q$6*$CQ$6,\" \"),IF(AND(CT16>1,CT16<=10),VLOOKUP(CT18,Kurināmais!$A$4:$G$351,$NQ$8,FALSE)/9.3*Biomasa!$Q$6*$CQ$6,IF(CT16=11,IF(CT17<$C$5,VLOOKUP(CT18,Kurināmais!$A$4:$G$351,$NQ$8,FALSE)/9.3*Biomasa!$Q$6*$CQ$6,VLOOKUP(CT18,Kurināmais!$A$4:$G$351,$NQ$8,FALSE)/9.3*$AD$6*$CQ$6),IF(CT16>11,VLOOKUP(CT18,Kurināmais!$A$4:$G$351,$NQ$8,FALSE)/9.3*$AD$6*$CQ$6)))),IF(AND(CT16=$NQ$4,$C$6=12),VLOOKUP(CT18,Kurināmais!$A$4:$G$351,$NQ$8,FALSE)/9.3*$AD$6*$CQ$6,IF(AND(CT16=$NQ$4+1,$C$6<12,CT17<=$C$6,$NQ$4=10),VLOOKUP(CT18,Kurināmais!$A$4:$G$351,$NQ$8,FALSE)/9.3*$Q$6*$CQ$6,IF(AND(CT16=$NQ$4+1,$C$6<12,CT17<=$C$6),VLOOKUP(CT18,Kurināmais!$A$4:$G$351,$NQ$8,FALSE)/9.3*$AD$6*$CQ$6,\" \"))))","v":" "},{"$f":"IF(AND(CU15>=$B$5,CU15<$B$6),IF(CU16=1,IF(CU17>=$C$5,VLOOKUP(CU18,Kurināmais!$A$4:$G$351,$NQ$8,FALSE)/9.3*Biomasa!$Q$6*$CQ$6,\" \"),IF(AND(CU16>1,CU16<=10),VLOOKUP(CU18,Kurināmais!$A$4:$G$351,$NQ$8,FALSE)/9.3*Biomasa!$Q$6*$CQ$6,IF(CU16=11,IF(CU17<$C$5,VLOOKUP(CU18,Kurināmais!$A$4:$G$351,$NQ$8,FALSE)/9.3*Biomasa!$Q$6*$CQ$6,VLOOKUP(CU18,Kurināmais!$A$4:$G$351,$NQ$8,FALSE)/9.3*$AD$6*$CQ$6),IF(CU16>11,VLOOKUP(CU18,Kurināmais!$A$4:$G$351,$NQ$8,FALSE)/9.3*$AD$6*$CQ$6)))),IF(AND(CU16=$NQ$4,$C$6=12),VLOOKUP(CU18,Kurināmais!$A$4:$G$351,$NQ$8,FALSE)/9.3*$AD$6*$CQ$6,IF(AND(CU16=$NQ$4+1,$C$6<12,CU17<=$C$6,$NQ$4=10),VLOOKUP(CU18,Kurināmais!$A$4:$G$351,$NQ$8,FALSE)/9.3*$Q$6*$CQ$6,IF(AND(CU16=$NQ$4+1,$C$6<12,CU17<=$C$6),VLOOKUP(CU18,Kurināmais!$A$4:$G$351,$NQ$8,FALSE)/9.3*$AD$6*$CQ$6,\" \"))))","v":" "},{"$f":"IF(AND(CV15>=$B$5,CV15<$B$6),IF(CV16=1,IF(CV17>=$C$5,VLOOKUP(CV18,Kurināmais!$A$4:$G$351,$NQ$8,FALSE)/9.3*Biomasa!$Q$6*$CQ$6,\" \"),IF(AND(CV16>1,CV16<=10),VLOOKUP(CV18,Kurināmais!$A$4:$G$351,$NQ$8,FALSE)/9.3*Biomasa!$Q$6*$CQ$6,IF(CV16=11,IF(CV17<$C$5,VLOOKUP(CV18,Kurināmais!$A$4:$G$351,$NQ$8,FALSE)/9.3*Biomasa!$Q$6*$CQ$6,VLOOKUP(CV18,Kurināmais!$A$4:$G$351,$NQ$8,FALSE)/9.3*$AD$6*$CQ$6),IF(CV16>11,VLOOKUP(CV18,Kurināmais!$A$4:$G$351,$NQ$8,FALSE)/9.3*$AD$6*$CQ$6)))),IF(AND(CV16=$NQ$4,$C$6=12),VLOOKUP(CV18,Kurināmais!$A$4:$G$351,$NQ$8,FALSE)/9.3*$AD$6*$CQ$6,IF(AND(CV16=$NQ$4+1,$C$6<12,CV17<=$C$6,$NQ$4=10),VLOOKUP(CV18,Kurināmais!$A$4:$G$351,$NQ$8,FALSE)/9.3*$Q$6*$CQ$6,IF(AND(CV16=$NQ$4+1,$C$6<12,CV17<=$C$6),VLOOKUP(CV18,Kurināmais!$A$4:$G$351,$NQ$8,FALSE)/9.3*$AD$6*$CQ$6,\" \"))))","v":" "},{"$f":"IF(AND(CW15>=$B$5,CW15<$B$6),IF(CW16=1,IF(CW17>=$C$5,VLOOKUP(CW18,Kurināmais!$A$4:$G$351,$NQ$8,FALSE)/9.3*Biomasa!$Q$6*$CQ$6,\" \"),IF(AND(CW16>1,CW16<=10),VLOOKUP(CW18,Kurināmais!$A$4:$G$351,$NQ$8,FALSE)/9.3*Biomasa!$Q$6*$CQ$6,IF(CW16=11,IF(CW17<$C$5,VLOOKUP(CW18,Kurināmais!$A$4:$G$351,$NQ$8,FALSE)/9.3*Biomasa!$Q$6*$CQ$6,VLOOKUP(CW18,Kurināmais!$A$4:$G$351,$NQ$8,FALSE)/9.3*$AD$6*$CQ$6),IF(CW16>11,VLOOKUP(CW18,Kurināmais!$A$4:$G$351,$NQ$8,FALSE)/9.3*$AD$6*$CQ$6)))),IF(AND(CW16=$NQ$4,$C$6=12),VLOOKUP(CW18,Kurināmais!$A$4:$G$351,$NQ$8,FALSE)/9.3*$AD$6*$CQ$6,IF(AND(CW16=$NQ$4+1,$C$6<12,CW17<=$C$6,$NQ$4=10),VLOOKUP(CW18,Kurināmais!$A$4:$G$351,$NQ$8,FALSE)/9.3*$Q$6*$CQ$6,IF(AND(CW16=$NQ$4+1,$C$6<12,CW17<=$C$6),VLOOKUP(CW18,Kurināmais!$A$4:$G$351,$NQ$8,FALSE)/9.3*$AD$6*$CQ$6,\" \"))))","v":" "},{"$f":"IF(AND(CX15>=$B$5,CX15<$B$6),IF(CX16=1,IF(CX17>=$C$5,VLOOKUP(CX18,Kurināmais!$A$4:$G$351,$NQ$8,FALSE)/9.3*Biomasa!$Q$6*$CQ$6,\" \"),IF(AND(CX16>1,CX16<=10),VLOOKUP(CX18,Kurināmais!$A$4:$G$351,$NQ$8,FALSE)/9.3*Biomasa!$Q$6*$CQ$6,IF(CX16=11,IF(CX17<$C$5,VLOOKUP(CX18,Kurināmais!$A$4:$G$351,$NQ$8,FALSE)/9.3*Biomasa!$Q$6*$CQ$6,VLOOKUP(CX18,Kurināmais!$A$4:$G$351,$NQ$8,FALSE)/9.3*$AD$6*$CQ$6),IF(CX16>11,VLOOKUP(CX18,Kurināmais!$A$4:$G$351,$NQ$8,FALSE)/9.3*$AD$6*$CQ$6)))),IF(AND(CX16=$NQ$4,$C$6=12),VLOOKUP(CX18,Kurināmais!$A$4:$G$351,$NQ$8,FALSE)/9.3*$AD$6*$CQ$6,IF(AND(CX16=$NQ$4+1,$C$6<12,CX17<=$C$6,$NQ$4=10),VLOOKUP(CX18,Kurināmais!$A$4:$G$351,$NQ$8,FALSE)/9.3*$Q$6*$CQ$6,IF(AND(CX16=$NQ$4+1,$C$6<12,CX17<=$C$6),VLOOKUP(CX18,Kurināmais!$A$4:$G$351,$NQ$8,FALSE)/9.3*$AD$6*$CQ$6,\" \"))))","v":" "},{"$f":"IF(AND(CY15>=$B$5,CY15<$B$6),IF(CY16=1,IF(CY17>=$C$5,VLOOKUP(CY18,Kurināmais!$A$4:$G$351,$NQ$8,FALSE)/9.3*Biomasa!$Q$6*$CQ$6,\" \"),IF(AND(CY16>1,CY16<=10),VLOOKUP(CY18,Kurināmais!$A$4:$G$351,$NQ$8,FALSE)/9.3*Biomasa!$Q$6*$CQ$6,IF(CY16=11,IF(CY17<$C$5,VLOOKUP(CY18,Kurināmais!$A$4:$G$351,$NQ$8,FALSE)/9.3*Biomasa!$Q$6*$CQ$6,VLOOKUP(CY18,Kurināmais!$A$4:$G$351,$NQ$8,FALSE)/9.3*$AD$6*$CQ$6),IF(CY16>11,VLOOKUP(CY18,Kurināmais!$A$4:$G$351,$NQ$8,FALSE)/9.3*$AD$6*$CQ$6)))),IF(AND(CY16=$NQ$4,$C$6=12),VLOOKUP(CY18,Kurināmais!$A$4:$G$351,$NQ$8,FALSE)/9.3*$AD$6*$CQ$6,IF(AND(CY16=$NQ$4+1,$C$6<12,CY17<=$C$6,$NQ$4=10),VLOOKUP(CY18,Kurināmais!$A$4:$G$351,$NQ$8,FALSE)/9.3*$Q$6*$CQ$6,IF(AND(CY16=$NQ$4+1,$C$6<12,CY17<=$C$6),VLOOKUP(CY18,Kurināmais!$A$4:$G$351,$NQ$8,FALSE)/9.3*$AD$6*$CQ$6,\" \"))))","v":" "},{"$f":"IF(AND(CZ15>=$B$5,CZ15<$B$6),IF(CZ16=1,IF(CZ17>=$C$5,VLOOKUP(CZ18,Kurināmais!$A$4:$G$351,$NQ$8,FALSE)/9.3*Biomasa!$Q$6*$CQ$6,\" \"),IF(AND(CZ16>1,CZ16<=10),VLOOKUP(CZ18,Kurināmais!$A$4:$G$351,$NQ$8,FALSE)/9.3*Biomasa!$Q$6*$CQ$6,IF(CZ16=11,IF(CZ17<$C$5,VLOOKUP(CZ18,Kurināmais!$A$4:$G$351,$NQ$8,FALSE)/9.3*Biomasa!$Q$6*$CQ$6,VLOOKUP(CZ18,Kurināmais!$A$4:$G$351,$NQ$8,FALSE)/9.3*$AD$6*$CQ$6),IF(CZ16>11,VLOOKUP(CZ18,Kurināmais!$A$4:$G$351,$NQ$8,FALSE)/9.3*$AD$6*$CQ$6)))),IF(AND(CZ16=$NQ$4,$C$6=12),VLOOKUP(CZ18,Kurināmais!$A$4:$G$351,$NQ$8,FALSE)/9.3*$AD$6*$CQ$6,IF(AND(CZ16=$NQ$4+1,$C$6<12,CZ17<=$C$6,$NQ$4=10),VLOOKUP(CZ18,Kurināmais!$A$4:$G$351,$NQ$8,FALSE)/9.3*$Q$6*$CQ$6,IF(AND(CZ16=$NQ$4+1,$C$6<12,CZ17<=$C$6),VLOOKUP(CZ18,Kurināmais!$A$4:$G$351,$NQ$8,FALSE)/9.3*$AD$6*$CQ$6,\" \"))))","v":" "},{"$f":"IF(AND(DA15>=$B$5,DA15<$B$6),IF(DA16=1,IF(DA17>=$C$5,VLOOKUP(DA18,Kurināmais!$A$4:$G$351,$NQ$8,FALSE)/9.3*Biomasa!$Q$6*$CQ$6,\" \"),IF(AND(DA16>1,DA16<=10),VLOOKUP(DA18,Kurināmais!$A$4:$G$351,$NQ$8,FALSE)/9.3*Biomasa!$Q$6*$CQ$6,IF(DA16=11,IF(DA17<$C$5,VLOOKUP(DA18,Kurināmais!$A$4:$G$351,$NQ$8,FALSE)/9.3*Biomasa!$Q$6*$CQ$6,VLOOKUP(DA18,Kurināmais!$A$4:$G$351,$NQ$8,FALSE)/9.3*$AD$6*$CQ$6),IF(DA16>11,VLOOKUP(DA18,Kurināmais!$A$4:$G$351,$NQ$8,FALSE)/9.3*$AD$6*$CQ$6)))),IF(AND(DA16=$NQ$4,$C$6=12),VLOOKUP(DA18,Kurināmais!$A$4:$G$351,$NQ$8,FALSE)/9.3*$AD$6*$CQ$6,IF(AND(DA16=$NQ$4+1,$C$6<12,DA17<=$C$6,$NQ$4=10),VLOOKUP(DA18,Kurināmais!$A$4:$G$351,$NQ$8,FALSE)/9.3*$Q$6*$CQ$6,IF(AND(DA16=$NQ$4+1,$C$6<12,DA17<=$C$6),VLOOKUP(DA18,Kurināmais!$A$4:$G$351,$NQ$8,FALSE)/9.3*$AD$6*$CQ$6,\" \"))))","v":" "},{"$f":"IF(AND(DB15>=$B$5,DB15<$B$6),IF(DB16=1,IF(DB17>=$C$5,VLOOKUP(DB18,Kurināmais!$A$4:$G$351,$NQ$8,FALSE)/9.3*Biomasa!$Q$6*$CQ$6,\" \"),IF(AND(DB16>1,DB16<=10),VLOOKUP(DB18,Kurināmais!$A$4:$G$351,$NQ$8,FALSE)/9.3*Biomasa!$Q$6*$CQ$6,IF(DB16=11,IF(DB17<$C$5,VLOOKUP(DB18,Kurināmais!$A$4:$G$351,$NQ$8,FALSE)/9.3*Biomasa!$Q$6*$CQ$6,VLOOKUP(DB18,Kurināmais!$A$4:$G$351,$NQ$8,FALSE)/9.3*$AD$6*$CQ$6),IF(DB16>11,VLOOKUP(DB18,Kurināmais!$A$4:$G$351,$NQ$8,FALSE)/9.3*$AD$6*$CQ$6)))),IF(AND(DB16=$NQ$4,$C$6=12),VLOOKUP(DB18,Kurināmais!$A$4:$G$351,$NQ$8,FALSE)/9.3*$AD$6*$CQ$6,IF(AND(DB16=$NQ$4+1,$C$6<12,DB17<=$C$6,$NQ$4=10),VLOOKUP(DB18,Kurināmais!$A$4:$G$351,$NQ$8,FALSE)/9.3*$Q$6*$CQ$6,IF(AND(DB16=$NQ$4+1,$C$6<12,DB17<=$C$6),VLOOKUP(DB18,Kurināmais!$A$4:$G$351,$NQ$8,FALSE)/9.3*$AD$6*$CQ$6,\" \"))))","v":" "},{"$f":"IF(AND(DC15>=$B$5,DC15<$B$6),IF(DC16=1,IF(DC17>=$C$5,VLOOKUP(DC18,Kurināmais!$A$4:$G$351,$NQ$8,FALSE)/9.3*Biomasa!$Q$6*$CQ$6,\" \"),IF(AND(DC16>1,DC16<=10),VLOOKUP(DC18,Kurināmais!$A$4:$G$351,$NQ$8,FALSE)/9.3*Biomasa!$Q$6*$CQ$6,IF(DC16=11,IF(DC17<$C$5,VLOOKUP(DC18,Kurināmais!$A$4:$G$351,$NQ$8,FALSE)/9.3*Biomasa!$Q$6*$CQ$6,VLOOKUP(DC18,Kurināmais!$A$4:$G$351,$NQ$8,FALSE)/9.3*$AD$6*$CQ$6),IF(DC16>11,VLOOKUP(DC18,Kurināmais!$A$4:$G$351,$NQ$8,FALSE)/9.3*$AD$6*$CQ$6)))),IF(AND(DC16=$NQ$4,$C$6=12),VLOOKUP(DC18,Kurināmais!$A$4:$G$351,$NQ$8,FALSE)/9.3*$AD$6*$CQ$6,IF(AND(DC16=$NQ$4+1,$C$6<12,DC17<=$C$6,$NQ$4=10),VLOOKUP(DC18,Kurināmais!$A$4:$G$351,$NQ$8,FALSE)/9.3*$Q$6*$CQ$6,IF(AND(DC16=$NQ$4+1,$C$6<12,DC17<=$C$6),VLOOKUP(DC18,Kurināmais!$A$4:$G$351,$NQ$8,FALSE)/9.3*$AD$6*$CQ$6,\" \"))))","v":" "},{"$f":"IF(OR(DD$16=\" \",DD$16=0,DD21=0),\" \",SUMPRODUCT(DE21:DP21,DE22:DP22)/DD21)","v":" "},{"$f":"IF(AND(DE15>=$B$5,DE15<$B$6),IF(DE16=1,IF(DE17>=$C$5,VLOOKUP(DE18,Kurināmais!$A$4:$G$351,$NQ$8,FALSE)/9.3*Biomasa!$Q$6*$CQ$6,\" \"),IF(AND(DE16>1,DE16<=10),VLOOKUP(DE18,Kurināmais!$A$4:$G$351,$NQ$8,FALSE)/9.3*Biomasa!$Q$6*$CQ$6,IF(DE16=11,IF(DE17<$C$5,VLOOKUP(DE18,Kurināmais!$A$4:$G$351,$NQ$8,FALSE)/9.3*Biomasa!$Q$6*$CQ$6,VLOOKUP(DE18,Kurināmais!$A$4:$G$351,$NQ$8,FALSE)/9.3*$AD$6*$CQ$6),IF(DE16>11,VLOOKUP(DE18,Kurināmais!$A$4:$G$351,$NQ$8,FALSE)/9.3*$AD$6*$CQ$6)))),IF(AND(DE16=$NQ$4,$C$6=12),VLOOKUP(DE18,Kurināmais!$A$4:$G$351,$NQ$8,FALSE)/9.3*$AD$6*$CQ$6,IF(AND(DE16=$NQ$4+1,$C$6<12,DE17<=$C$6,$NQ$4=10),VLOOKUP(DE18,Kurināmais!$A$4:$G$351,$NQ$8,FALSE)/9.3*$Q$6*$CQ$6,IF(AND(DE16=$NQ$4+1,$C$6<12,DE17<=$C$6),VLOOKUP(DE18,Kurināmais!$A$4:$G$351,$NQ$8,FALSE)/9.3*$AD$6*$CQ$6,\" \"))))","v":" "},{"$f":"IF(AND(DF15>=$B$5,DF15<$B$6),IF(DF16=1,IF(DF17>=$C$5,VLOOKUP(DF18,Kurināmais!$A$4:$G$351,$NQ$8,FALSE)/9.3*Biomasa!$Q$6*$CQ$6,\" \"),IF(AND(DF16>1,DF16<=10),VLOOKUP(DF18,Kurināmais!$A$4:$G$351,$NQ$8,FALSE)/9.3*Biomasa!$Q$6*$CQ$6,IF(DF16=11,IF(DF17<$C$5,VLOOKUP(DF18,Kurināmais!$A$4:$G$351,$NQ$8,FALSE)/9.3*Biomasa!$Q$6*$CQ$6,VLOOKUP(DF18,Kurināmais!$A$4:$G$351,$NQ$8,FALSE)/9.3*$AD$6*$CQ$6),IF(DF16>11,VLOOKUP(DF18,Kurināmais!$A$4:$G$351,$NQ$8,FALSE)/9.3*$AD$6*$CQ$6)))),IF(AND(DF16=$NQ$4,$C$6=12),VLOOKUP(DF18,Kurināmais!$A$4:$G$351,$NQ$8,FALSE)/9.3*$AD$6*$CQ$6,IF(AND(DF16=$NQ$4+1,$C$6<12,DF17<=$C$6,$NQ$4=10),VLOOKUP(DF18,Kurināmais!$A$4:$G$351,$NQ$8,FALSE)/9.3*$Q$6*$CQ$6,IF(AND(DF16=$NQ$4+1,$C$6<12,DF17<=$C$6),VLOOKUP(DF18,Kurināmais!$A$4:$G$351,$NQ$8,FALSE)/9.3*$AD$6*$CQ$6,\" \"))))","v":" "},{"$f":"IF(AND(DG15>=$B$5,DG15<$B$6),IF(DG16=1,IF(DG17>=$C$5,VLOOKUP(DG18,Kurināmais!$A$4:$G$351,$NQ$8,FALSE)/9.3*Biomasa!$Q$6*$CQ$6,\" \"),IF(AND(DG16>1,DG16<=10),VLOOKUP(DG18,Kurināmais!$A$4:$G$351,$NQ$8,FALSE)/9.3*Biomasa!$Q$6*$CQ$6,IF(DG16=11,IF(DG17<$C$5,VLOOKUP(DG18,Kurināmais!$A$4:$G$351,$NQ$8,FALSE)/9.3*Biomasa!$Q$6*$CQ$6,VLOOKUP(DG18,Kurināmais!$A$4:$G$351,$NQ$8,FALSE)/9.3*$AD$6*$CQ$6),IF(DG16>11,VLOOKUP(DG18,Kurināmais!$A$4:$G$351,$NQ$8,FALSE)/9.3*$AD$6*$CQ$6)))),IF(AND(DG16=$NQ$4,$C$6=12),VLOOKUP(DG18,Kurināmais!$A$4:$G$351,$NQ$8,FALSE)/9.3*$AD$6*$CQ$6,IF(AND(DG16=$NQ$4+1,$C$6<12,DG17<=$C$6,$NQ$4=10),VLOOKUP(DG18,Kurināmais!$A$4:$G$351,$NQ$8,FALSE)/9.3*$Q$6*$CQ$6,IF(AND(DG16=$NQ$4+1,$C$6<12,DG17<=$C$6),VLOOKUP(DG18,Kurināmais!$A$4:$G$351,$NQ$8,FALSE)/9.3*$AD$6*$CQ$6,\" \"))))","v":" "},{"$f":"IF(AND(DH15>=$B$5,DH15<$B$6),IF(DH16=1,IF(DH17>=$C$5,VLOOKUP(DH18,Kurināmais!$A$4:$G$351,$NQ$8,FALSE)/9.3*Biomasa!$Q$6*$CQ$6,\" \"),IF(AND(DH16>1,DH16<=10),VLOOKUP(DH18,Kurināmais!$A$4:$G$351,$NQ$8,FALSE)/9.3*Biomasa!$Q$6*$CQ$6,IF(DH16=11,IF(DH17<$C$5,VLOOKUP(DH18,Kurināmais!$A$4:$G$351,$NQ$8,FALSE)/9.3*Biomasa!$Q$6*$CQ$6,VLOOKUP(DH18,Kurināmais!$A$4:$G$351,$NQ$8,FALSE)/9.3*$AD$6*$CQ$6),IF(DH16>11,VLOOKUP(DH18,Kurināmais!$A$4:$G$351,$NQ$8,FALSE)/9.3*$AD$6*$CQ$6)))),IF(AND(DH16=$NQ$4,$C$6=12),VLOOKUP(DH18,Kurināmais!$A$4:$G$351,$NQ$8,FALSE)/9.3*$AD$6*$CQ$6,IF(AND(DH16=$NQ$4+1,$C$6<12,DH17<=$C$6,$NQ$4=10),VLOOKUP(DH18,Kurināmais!$A$4:$G$351,$NQ$8,FALSE)/9.3*$Q$6*$CQ$6,IF(AND(DH16=$NQ$4+1,$C$6<12,DH17<=$C$6),VLOOKUP(DH18,Kurināmais!$A$4:$G$351,$NQ$8,FALSE)/9.3*$AD$6*$CQ$6,\" \"))))","v":" "},{"$f":"IF(AND(DI15>=$B$5,DI15<$B$6),IF(DI16=1,IF(DI17>=$C$5,VLOOKUP(DI18,Kurināmais!$A$4:$G$351,$NQ$8,FALSE)/9.3*Biomasa!$Q$6*$CQ$6,\" \"),IF(AND(DI16>1,DI16<=10),VLOOKUP(DI18,Kurināmais!$A$4:$G$351,$NQ$8,FALSE)/9.3*Biomasa!$Q$6*$CQ$6,IF(DI16=11,IF(DI17<$C$5,VLOOKUP(DI18,Kurināmais!$A$4:$G$351,$NQ$8,FALSE)/9.3*Biomasa!$Q$6*$CQ$6,VLOOKUP(DI18,Kurināmais!$A$4:$G$351,$NQ$8,FALSE)/9.3*$AD$6*$CQ$6),IF(DI16>11,VLOOKUP(DI18,Kurināmais!$A$4:$G$351,$NQ$8,FALSE)/9.3*$AD$6*$CQ$6)))),IF(AND(DI16=$NQ$4,$C$6=12),VLOOKUP(DI18,Kurināmais!$A$4:$G$351,$NQ$8,FALSE)/9.3*$AD$6*$CQ$6,IF(AND(DI16=$NQ$4+1,$C$6<12,DI17<=$C$6,$NQ$4=10),VLOOKUP(DI18,Kurināmais!$A$4:$G$351,$NQ$8,FALSE)/9.3*$Q$6*$CQ$6,IF(AND(DI16=$NQ$4+1,$C$6<12,DI17<=$C$6),VLOOKUP(DI18,Kurināmais!$A$4:$G$351,$NQ$8,FALSE)/9.3*$AD$6*$CQ$6,\" \"))))","v":" "},{"$f":"IF(AND(DJ15>=$B$5,DJ15<$B$6),IF(DJ16=1,IF(DJ17>=$C$5,VLOOKUP(DJ18,Kurināmais!$A$4:$G$351,$NQ$8,FALSE)/9.3*Biomasa!$Q$6*$CQ$6,\" \"),IF(AND(DJ16>1,DJ16<=10),VLOOKUP(DJ18,Kurināmais!$A$4:$G$351,$NQ$8,FALSE)/9.3*Biomasa!$Q$6*$CQ$6,IF(DJ16=11,IF(DJ17<$C$5,VLOOKUP(DJ18,Kurināmais!$A$4:$G$351,$NQ$8,FALSE)/9.3*Biomasa!$Q$6*$CQ$6,VLOOKUP(DJ18,Kurināmais!$A$4:$G$351,$NQ$8,FALSE)/9.3*$AD$6*$CQ$6),IF(DJ16>11,VLOOKUP(DJ18,Kurināmais!$A$4:$G$351,$NQ$8,FALSE)/9.3*$AD$6*$CQ$6)))),IF(AND(DJ16=$NQ$4,$C$6=12),VLOOKUP(DJ18,Kurināmais!$A$4:$G$351,$NQ$8,FALSE)/9.3*$AD$6*$CQ$6,IF(AND(DJ16=$NQ$4+1,$C$6<12,DJ17<=$C$6,$NQ$4=10),VLOOKUP(DJ18,Kurināmais!$A$4:$G$351,$NQ$8,FALSE)/9.3*$Q$6*$CQ$6,IF(AND(DJ16=$NQ$4+1,$C$6<12,DJ17<=$C$6),VLOOKUP(DJ18,Kurināmais!$A$4:$G$351,$NQ$8,FALSE)/9.3*$AD$6*$CQ$6,\" \"))))","v":" "},{"$f":"IF(AND(DK15>=$B$5,DK15<$B$6),IF(DK16=1,IF(DK17>=$C$5,VLOOKUP(DK18,Kurināmais!$A$4:$G$351,$NQ$8,FALSE)/9.3*Biomasa!$Q$6*$CQ$6,\" \"),IF(AND(DK16>1,DK16<=10),VLOOKUP(DK18,Kurināmais!$A$4:$G$351,$NQ$8,FALSE)/9.3*Biomasa!$Q$6*$CQ$6,IF(DK16=11,IF(DK17<$C$5,VLOOKUP(DK18,Kurināmais!$A$4:$G$351,$NQ$8,FALSE)/9.3*Biomasa!$Q$6*$CQ$6,VLOOKUP(DK18,Kurināmais!$A$4:$G$351,$NQ$8,FALSE)/9.3*$AD$6*$CQ$6),IF(DK16>11,VLOOKUP(DK18,Kurināmais!$A$4:$G$351,$NQ$8,FALSE)/9.3*$AD$6*$CQ$6)))),IF(AND(DK16=$NQ$4,$C$6=12),VLOOKUP(DK18,Kurināmais!$A$4:$G$351,$NQ$8,FALSE)/9.3*$AD$6*$CQ$6,IF(AND(DK16=$NQ$4+1,$C$6<12,DK17<=$C$6,$NQ$4=10),VLOOKUP(DK18,Kurināmais!$A$4:$G$351,$NQ$8,FALSE)/9.3*$Q$6*$CQ$6,IF(AND(DK16=$NQ$4+1,$C$6<12,DK17<=$C$6),VLOOKUP(DK18,Kurināmais!$A$4:$G$351,$NQ$8,FALSE)/9.3*$AD$6*$CQ$6,\" \"))))","v":" "},{"$f":"IF(AND(DL15>=$B$5,DL15<$B$6),IF(DL16=1,IF(DL17>=$C$5,VLOOKUP(DL18,Kurināmais!$A$4:$G$351,$NQ$8,FALSE)/9.3*Biomasa!$Q$6*$CQ$6,\" \"),IF(AND(DL16>1,DL16<=10),VLOOKUP(DL18,Kurināmais!$A$4:$G$351,$NQ$8,FALSE)/9.3*Biomasa!$Q$6*$CQ$6,IF(DL16=11,IF(DL17<$C$5,VLOOKUP(DL18,Kurināmais!$A$4:$G$351,$NQ$8,FALSE)/9.3*Biomasa!$Q$6*$CQ$6,VLOOKUP(DL18,Kurināmais!$A$4:$G$351,$NQ$8,FALSE)/9.3*$AD$6*$CQ$6),IF(DL16>11,VLOOKUP(DL18,Kurināmais!$A$4:$G$351,$NQ$8,FALSE)/9.3*$AD$6*$CQ$6)))),IF(AND(DL16=$NQ$4,$C$6=12),VLOOKUP(DL18,Kurināmais!$A$4:$G$351,$NQ$8,FALSE)/9.3*$AD$6*$CQ$6,IF(AND(DL16=$NQ$4+1,$C$6<12,DL17<=$C$6,$NQ$4=10),VLOOKUP(DL18,Kurināmais!$A$4:$G$351,$NQ$8,FALSE)/9.3*$Q$6*$CQ$6,IF(AND(DL16=$NQ$4+1,$C$6<12,DL17<=$C$6),VLOOKUP(DL18,Kurināmais!$A$4:$G$351,$NQ$8,FALSE)/9.3*$AD$6*$CQ$6,\" \"))))","v":" "},{"$f":"IF(AND(DM15>=$B$5,DM15<$B$6),IF(DM16=1,IF(DM17>=$C$5,VLOOKUP(DM18,Kurināmais!$A$4:$G$351,$NQ$8,FALSE)/9.3*Biomasa!$Q$6*$CQ$6,\" \"),IF(AND(DM16>1,DM16<=10),VLOOKUP(DM18,Kurināmais!$A$4:$G$351,$NQ$8,FALSE)/9.3*Biomasa!$Q$6*$CQ$6,IF(DM16=11,IF(DM17<$C$5,VLOOKUP(DM18,Kurināmais!$A$4:$G$351,$NQ$8,FALSE)/9.3*Biomasa!$Q$6*$CQ$6,VLOOKUP(DM18,Kurināmais!$A$4:$G$351,$NQ$8,FALSE)/9.3*$AD$6*$CQ$6),IF(DM16>11,VLOOKUP(DM18,Kurināmais!$A$4:$G$351,$NQ$8,FALSE)/9.3*$AD$6*$CQ$6)))),IF(AND(DM16=$NQ$4,$C$6=12),VLOOKUP(DM18,Kurināmais!$A$4:$G$351,$NQ$8,FALSE)/9.3*$AD$6*$CQ$6,IF(AND(DM16=$NQ$4+1,$C$6<12,DM17<=$C$6,$NQ$4=10),VLOOKUP(DM18,Kurināmais!$A$4:$G$351,$NQ$8,FALSE)/9.3*$Q$6*$CQ$6,IF(AND(DM16=$NQ$4+1,$C$6<12,DM17<=$C$6),VLOOKUP(DM18,Kurināmais!$A$4:$G$351,$NQ$8,FALSE)/9.3*$AD$6*$CQ$6,\" \"))))","v":" "},{"$f":"IF(AND(DN15>=$B$5,DN15<$B$6),IF(DN16=1,IF(DN17>=$C$5,VLOOKUP(DN18,Kurināmais!$A$4:$G$351,$NQ$8,FALSE)/9.3*Biomasa!$Q$6*$CQ$6,\" \"),IF(AND(DN16>1,DN16<=10),VLOOKUP(DN18,Kurināmais!$A$4:$G$351,$NQ$8,FALSE)/9.3*Biomasa!$Q$6*$CQ$6,IF(DN16=11,IF(DN17<$C$5,VLOOKUP(DN18,Kurināmais!$A$4:$G$351,$NQ$8,FALSE)/9.3*Biomasa!$Q$6*$CQ$6,VLOOKUP(DN18,Kurināmais!$A$4:$G$351,$NQ$8,FALSE)/9.3*$AD$6*$CQ$6),IF(DN16>11,VLOOKUP(DN18,Kurināmais!$A$4:$G$351,$NQ$8,FALSE)/9.3*$AD$6*$CQ$6)))),IF(AND(DN16=$NQ$4,$C$6=12),VLOOKUP(DN18,Kurināmais!$A$4:$G$351,$NQ$8,FALSE)/9.3*$AD$6*$CQ$6,IF(AND(DN16=$NQ$4+1,$C$6<12,DN17<=$C$6,$NQ$4=10),VLOOKUP(DN18,Kurināmais!$A$4:$G$351,$NQ$8,FALSE)/9.3*$Q$6*$CQ$6,IF(AND(DN16=$NQ$4+1,$C$6<12,DN17<=$C$6),VLOOKUP(DN18,Kurināmais!$A$4:$G$351,$NQ$8,FALSE)/9.3*$AD$6*$CQ$6,\" \"))))","v":" "},{"$f":"IF(AND(DO15>=$B$5,DO15<$B$6),IF(DO16=1,IF(DO17>=$C$5,VLOOKUP(DO18,Kurināmais!$A$4:$G$351,$NQ$8,FALSE)/9.3*Biomasa!$Q$6*$CQ$6,\" \"),IF(AND(DO16>1,DO16<=10),VLOOKUP(DO18,Kurināmais!$A$4:$G$351,$NQ$8,FALSE)/9.3*Biomasa!$Q$6*$CQ$6,IF(DO16=11,IF(DO17<$C$5,VLOOKUP(DO18,Kurināmais!$A$4:$G$351,$NQ$8,FALSE)/9.3*Biomasa!$Q$6*$CQ$6,VLOOKUP(DO18,Kurināmais!$A$4:$G$351,$NQ$8,FALSE)/9.3*$AD$6*$CQ$6),IF(DO16>11,VLOOKUP(DO18,Kurināmais!$A$4:$G$351,$NQ$8,FALSE)/9.3*$AD$6*$CQ$6)))),IF(AND(DO16=$NQ$4,$C$6=12),VLOOKUP(DO18,Kurināmais!$A$4:$G$351,$NQ$8,FALSE)/9.3*$AD$6*$CQ$6,IF(AND(DO16=$NQ$4+1,$C$6<12,DO17<=$C$6,$NQ$4=10),VLOOKUP(DO18,Kurināmais!$A$4:$G$351,$NQ$8,FALSE)/9.3*$Q$6*$CQ$6,IF(AND(DO16=$NQ$4+1,$C$6<12,DO17<=$C$6),VLOOKUP(DO18,Kurināmais!$A$4:$G$351,$NQ$8,FALSE)/9.3*$AD$6*$CQ$6,\" \"))))","v":" "},{"$f":"IF(AND(DP15>=$B$5,DP15<$B$6),IF(DP16=1,IF(DP17>=$C$5,VLOOKUP(DP18,Kurināmais!$A$4:$G$351,$NQ$8,FALSE)/9.3*Biomasa!$Q$6*$CQ$6,\" \"),IF(AND(DP16>1,DP16<=10),VLOOKUP(DP18,Kurināmais!$A$4:$G$351,$NQ$8,FALSE)/9.3*Biomasa!$Q$6*$CQ$6,IF(DP16=11,IF(DP17<$C$5,VLOOKUP(DP18,Kurināmais!$A$4:$G$351,$NQ$8,FALSE)/9.3*Biomasa!$Q$6*$CQ$6,VLOOKUP(DP18,Kurināmais!$A$4:$G$351,$NQ$8,FALSE)/9.3*$AD$6*$CQ$6),IF(DP16>11,VLOOKUP(DP18,Kurināmais!$A$4:$G$351,$NQ$8,FALSE)/9.3*$AD$6*$CQ$6)))),IF(AND(DP16=$NQ$4,$C$6=12),VLOOKUP(DP18,Kurināmais!$A$4:$G$351,$NQ$8,FALSE)/9.3*$AD$6*$CQ$6,IF(AND(DP16=$NQ$4+1,$C$6<12,DP17<=$C$6,$NQ$4=10),VLOOKUP(DP18,Kurināmais!$A$4:$G$351,$NQ$8,FALSE)/9.3*$Q$6*$CQ$6,IF(AND(DP16=$NQ$4+1,$C$6<12,DP17<=$C$6),VLOOKUP(DP18,Kurināmais!$A$4:$G$351,$NQ$8,FALSE)/9.3*$AD$6*$CQ$6,\" \"))))","v":" "},{"$f":"IF(OR(DQ$16=\" \",DQ$16=0,DQ21=0),\" \",SUMPRODUCT(DR21:EC21,DR22:EC22)/DQ21)","v":" "},{"$f":"IF(AND(DR15>=$B$5,DR15<$B$6),IF(DR16=1,IF(DR17>=$C$5,VLOOKUP(DR18,Kurināmais!$A$4:$G$351,$NQ$8,FALSE)/9.3*Biomasa!$Q$6*$CQ$6,\" \"),IF(AND(DR16>1,DR16<=10),VLOOKUP(DR18,Kurināmais!$A$4:$G$351,$NQ$8,FALSE)/9.3*Biomasa!$Q$6*$CQ$6,IF(DR16=11,IF(DR17<$C$5,VLOOKUP(DR18,Kurināmais!$A$4:$G$351,$NQ$8,FALSE)/9.3*Biomasa!$Q$6*$CQ$6,VLOOKUP(DR18,Kurināmais!$A$4:$G$351,$NQ$8,FALSE)/9.3*$AD$6*$CQ$6),IF(DR16>11,VLOOKUP(DR18,Kurināmais!$A$4:$G$351,$NQ$8,FALSE)/9.3*$AD$6*$CQ$6)))),IF(AND(DR16=$NQ$4,$C$6=12),VLOOKUP(DR18,Kurināmais!$A$4:$G$351,$NQ$8,FALSE)/9.3*$AD$6*$CQ$6,IF(AND(DR16=$NQ$4+1,$C$6<12,DR17<=$C$6,$NQ$4=10),VLOOKUP(DR18,Kurināmais!$A$4:$G$351,$NQ$8,FALSE)/9.3*$Q$6*$CQ$6,IF(AND(DR16=$NQ$4+1,$C$6<12,DR17<=$C$6),VLOOKUP(DR18,Kurināmais!$A$4:$G$351,$NQ$8,FALSE)/9.3*$AD$6*$CQ$6,\" \"))))","v":" "},{"$f":"IF(AND(DS15>=$B$5,DS15<$B$6),IF(DS16=1,IF(DS17>=$C$5,VLOOKUP(DS18,Kurināmais!$A$4:$G$351,$NQ$8,FALSE)/9.3*Biomasa!$Q$6*$CQ$6,\" \"),IF(AND(DS16>1,DS16<=10),VLOOKUP(DS18,Kurināmais!$A$4:$G$351,$NQ$8,FALSE)/9.3*Biomasa!$Q$6*$CQ$6,IF(DS16=11,IF(DS17<$C$5,VLOOKUP(DS18,Kurināmais!$A$4:$G$351,$NQ$8,FALSE)/9.3*Biomasa!$Q$6*$CQ$6,VLOOKUP(DS18,Kurināmais!$A$4:$G$351,$NQ$8,FALSE)/9.3*$AD$6*$CQ$6),IF(DS16>11,VLOOKUP(DS18,Kurināmais!$A$4:$G$351,$NQ$8,FALSE)/9.3*$AD$6*$CQ$6)))),IF(AND(DS16=$NQ$4,$C$6=12),VLOOKUP(DS18,Kurināmais!$A$4:$G$351,$NQ$8,FALSE)/9.3*$AD$6*$CQ$6,IF(AND(DS16=$NQ$4+1,$C$6<12,DS17<=$C$6,$NQ$4=10),VLOOKUP(DS18,Kurināmais!$A$4:$G$351,$NQ$8,FALSE)/9.3*$Q$6*$CQ$6,IF(AND(DS16=$NQ$4+1,$C$6<12,DS17<=$C$6),VLOOKUP(DS18,Kurināmais!$A$4:$G$351,$NQ$8,FALSE)/9.3*$AD$6*$CQ$6,\" \"))))","v":" "},{"$f":"IF(AND(DT15>=$B$5,DT15<$B$6),IF(DT16=1,IF(DT17>=$C$5,VLOOKUP(DT18,Kurināmais!$A$4:$G$351,$NQ$8,FALSE)/9.3*Biomasa!$Q$6*$CQ$6,\" \"),IF(AND(DT16>1,DT16<=10),VLOOKUP(DT18,Kurināmais!$A$4:$G$351,$NQ$8,FALSE)/9.3*Biomasa!$Q$6*$CQ$6,IF(DT16=11,IF(DT17<$C$5,VLOOKUP(DT18,Kurināmais!$A$4:$G$351,$NQ$8,FALSE)/9.3*Biomasa!$Q$6*$CQ$6,VLOOKUP(DT18,Kurināmais!$A$4:$G$351,$NQ$8,FALSE)/9.3*$AD$6*$CQ$6),IF(DT16>11,VLOOKUP(DT18,Kurināmais!$A$4:$G$351,$NQ$8,FALSE)/9.3*$AD$6*$CQ$6)))),IF(AND(DT16=$NQ$4,$C$6=12),VLOOKUP(DT18,Kurināmais!$A$4:$G$351,$NQ$8,FALSE)/9.3*$AD$6*$CQ$6,IF(AND(DT16=$NQ$4+1,$C$6<12,DT17<=$C$6,$NQ$4=10),VLOOKUP(DT18,Kurināmais!$A$4:$G$351,$NQ$8,FALSE)/9.3*$Q$6*$CQ$6,IF(AND(DT16=$NQ$4+1,$C$6<12,DT17<=$C$6),VLOOKUP(DT18,Kurināmais!$A$4:$G$351,$NQ$8,FALSE)/9.3*$AD$6*$CQ$6,\" \"))))","v":" "},{"$f":"IF(AND(DU15>=$B$5,DU15<$B$6),IF(DU16=1,IF(DU17>=$C$5,VLOOKUP(DU18,Kurināmais!$A$4:$G$351,$NQ$8,FALSE)/9.3*Biomasa!$Q$6*$CQ$6,\" \"),IF(AND(DU16>1,DU16<=10),VLOOKUP(DU18,Kurināmais!$A$4:$G$351,$NQ$8,FALSE)/9.3*Biomasa!$Q$6*$CQ$6,IF(DU16=11,IF(DU17<$C$5,VLOOKUP(DU18,Kurināmais!$A$4:$G$351,$NQ$8,FALSE)/9.3*Biomasa!$Q$6*$CQ$6,VLOOKUP(DU18,Kurināmais!$A$4:$G$351,$NQ$8,FALSE)/9.3*$AD$6*$CQ$6),IF(DU16>11,VLOOKUP(DU18,Kurināmais!$A$4:$G$351,$NQ$8,FALSE)/9.3*$AD$6*$CQ$6)))),IF(AND(DU16=$NQ$4,$C$6=12),VLOOKUP(DU18,Kurināmais!$A$4:$G$351,$NQ$8,FALSE)/9.3*$AD$6*$CQ$6,IF(AND(DU16=$NQ$4+1,$C$6<12,DU17<=$C$6,$NQ$4=10),VLOOKUP(DU18,Kurināmais!$A$4:$G$351,$NQ$8,FALSE)/9.3*$Q$6*$CQ$6,IF(AND(DU16=$NQ$4+1,$C$6<12,DU17<=$C$6),VLOOKUP(DU18,Kurināmais!$A$4:$G$351,$NQ$8,FALSE)/9.3*$AD$6*$CQ$6,\" \"))))","v":" "},{"$f":"IF(AND(DV15>=$B$5,DV15<$B$6),IF(DV16=1,IF(DV17>=$C$5,VLOOKUP(DV18,Kurināmais!$A$4:$G$351,$NQ$8,FALSE)/9.3*Biomasa!$Q$6*$CQ$6,\" \"),IF(AND(DV16>1,DV16<=10),VLOOKUP(DV18,Kurināmais!$A$4:$G$351,$NQ$8,FALSE)/9.3*Biomasa!$Q$6*$CQ$6,IF(DV16=11,IF(DV17<$C$5,VLOOKUP(DV18,Kurināmais!$A$4:$G$351,$NQ$8,FALSE)/9.3*Biomasa!$Q$6*$CQ$6,VLOOKUP(DV18,Kurināmais!$A$4:$G$351,$NQ$8,FALSE)/9.3*$AD$6*$CQ$6),IF(DV16>11,VLOOKUP(DV18,Kurināmais!$A$4:$G$351,$NQ$8,FALSE)/9.3*$AD$6*$CQ$6)))),IF(AND(DV16=$NQ$4,$C$6=12),VLOOKUP(DV18,Kurināmais!$A$4:$G$351,$NQ$8,FALSE)/9.3*$AD$6*$CQ$6,IF(AND(DV16=$NQ$4+1,$C$6<12,DV17<=$C$6,$NQ$4=10),VLOOKUP(DV18,Kurināmais!$A$4:$G$351,$NQ$8,FALSE)/9.3*$Q$6*$CQ$6,IF(AND(DV16=$NQ$4+1,$C$6<12,DV17<=$C$6),VLOOKUP(DV18,Kurināmais!$A$4:$G$351,$NQ$8,FALSE)/9.3*$AD$6*$CQ$6,\" \"))))","v":" "},{"$f":"IF(AND(DW15>=$B$5,DW15<$B$6),IF(DW16=1,IF(DW17>=$C$5,VLOOKUP(DW18,Kurināmais!$A$4:$G$351,$NQ$8,FALSE)/9.3*Biomasa!$Q$6*$CQ$6,\" \"),IF(AND(DW16>1,DW16<=10),VLOOKUP(DW18,Kurināmais!$A$4:$G$351,$NQ$8,FALSE)/9.3*Biomasa!$Q$6*$CQ$6,IF(DW16=11,IF(DW17<$C$5,VLOOKUP(DW18,Kurināmais!$A$4:$G$351,$NQ$8,FALSE)/9.3*Biomasa!$Q$6*$CQ$6,VLOOKUP(DW18,Kurināmais!$A$4:$G$351,$NQ$8,FALSE)/9.3*$AD$6*$CQ$6),IF(DW16>11,VLOOKUP(DW18,Kurināmais!$A$4:$G$351,$NQ$8,FALSE)/9.3*$AD$6*$CQ$6)))),IF(AND(DW16=$NQ$4,$C$6=12),VLOOKUP(DW18,Kurināmais!$A$4:$G$351,$NQ$8,FALSE)/9.3*$AD$6*$CQ$6,IF(AND(DW16=$NQ$4+1,$C$6<12,DW17<=$C$6,$NQ$4=10),VLOOKUP(DW18,Kurināmais!$A$4:$G$351,$NQ$8,FALSE)/9.3*$Q$6*$CQ$6,IF(AND(DW16=$NQ$4+1,$C$6<12,DW17<=$C$6),VLOOKUP(DW18,Kurināmais!$A$4:$G$351,$NQ$8,FALSE)/9.3*$AD$6*$CQ$6,\" \"))))","v":" "},{"$f":"IF(AND(DX15>=$B$5,DX15<$B$6),IF(DX16=1,IF(DX17>=$C$5,VLOOKUP(DX18,Kurināmais!$A$4:$G$351,$NQ$8,FALSE)/9.3*Biomasa!$Q$6*$CQ$6,\" \"),IF(AND(DX16>1,DX16<=10),VLOOKUP(DX18,Kurināmais!$A$4:$G$351,$NQ$8,FALSE)/9.3*Biomasa!$Q$6*$CQ$6,IF(DX16=11,IF(DX17<$C$5,VLOOKUP(DX18,Kurināmais!$A$4:$G$351,$NQ$8,FALSE)/9.3*Biomasa!$Q$6*$CQ$6,VLOOKUP(DX18,Kurināmais!$A$4:$G$351,$NQ$8,FALSE)/9.3*$AD$6*$CQ$6),IF(DX16>11,VLOOKUP(DX18,Kurināmais!$A$4:$G$351,$NQ$8,FALSE)/9.3*$AD$6*$CQ$6)))),IF(AND(DX16=$NQ$4,$C$6=12),VLOOKUP(DX18,Kurināmais!$A$4:$G$351,$NQ$8,FALSE)/9.3*$AD$6*$CQ$6,IF(AND(DX16=$NQ$4+1,$C$6<12,DX17<=$C$6,$NQ$4=10),VLOOKUP(DX18,Kurināmais!$A$4:$G$351,$NQ$8,FALSE)/9.3*$Q$6*$CQ$6,IF(AND(DX16=$NQ$4+1,$C$6<12,DX17<=$C$6),VLOOKUP(DX18,Kurināmais!$A$4:$G$351,$NQ$8,FALSE)/9.3*$AD$6*$CQ$6,\" \"))))","v":" "},{"$f":"IF(AND(DY15>=$B$5,DY15<$B$6),IF(DY16=1,IF(DY17>=$C$5,VLOOKUP(DY18,Kurināmais!$A$4:$G$351,$NQ$8,FALSE)/9.3*Biomasa!$Q$6*$CQ$6,\" \"),IF(AND(DY16>1,DY16<=10),VLOOKUP(DY18,Kurināmais!$A$4:$G$351,$NQ$8,FALSE)/9.3*Biomasa!$Q$6*$CQ$6,IF(DY16=11,IF(DY17<$C$5,VLOOKUP(DY18,Kurināmais!$A$4:$G$351,$NQ$8,FALSE)/9.3*Biomasa!$Q$6*$CQ$6,VLOOKUP(DY18,Kurināmais!$A$4:$G$351,$NQ$8,FALSE)/9.3*$AD$6*$CQ$6),IF(DY16>11,VLOOKUP(DY18,Kurināmais!$A$4:$G$351,$NQ$8,FALSE)/9.3*$AD$6*$CQ$6)))),IF(AND(DY16=$NQ$4,$C$6=12),VLOOKUP(DY18,Kurināmais!$A$4:$G$351,$NQ$8,FALSE)/9.3*$AD$6*$CQ$6,IF(AND(DY16=$NQ$4+1,$C$6<12,DY17<=$C$6,$NQ$4=10),VLOOKUP(DY18,Kurināmais!$A$4:$G$351,$NQ$8,FALSE)/9.3*$Q$6*$CQ$6,IF(AND(DY16=$NQ$4+1,$C$6<12,DY17<=$C$6),VLOOKUP(DY18,Kurināmais!$A$4:$G$351,$NQ$8,FALSE)/9.3*$AD$6*$CQ$6,\" \"))))","v":" "},{"$f":"IF(AND(DZ15>=$B$5,DZ15<$B$6),IF(DZ16=1,IF(DZ17>=$C$5,VLOOKUP(DZ18,Kurināmais!$A$4:$G$351,$NQ$8,FALSE)/9.3*Biomasa!$Q$6*$CQ$6,\" \"),IF(AND(DZ16>1,DZ16<=10),VLOOKUP(DZ18,Kurināmais!$A$4:$G$351,$NQ$8,FALSE)/9.3*Biomasa!$Q$6*$CQ$6,IF(DZ16=11,IF(DZ17<$C$5,VLOOKUP(DZ18,Kurināmais!$A$4:$G$351,$NQ$8,FALSE)/9.3*Biomasa!$Q$6*$CQ$6,VLOOKUP(DZ18,Kurināmais!$A$4:$G$351,$NQ$8,FALSE)/9.3*$AD$6*$CQ$6),IF(DZ16>11,VLOOKUP(DZ18,Kurināmais!$A$4:$G$351,$NQ$8,FALSE)/9.3*$AD$6*$CQ$6)))),IF(AND(DZ16=$NQ$4,$C$6=12),VLOOKUP(DZ18,Kurināmais!$A$4:$G$351,$NQ$8,FALSE)/9.3*$AD$6*$CQ$6,IF(AND(DZ16=$NQ$4+1,$C$6<12,DZ17<=$C$6,$NQ$4=10),VLOOKUP(DZ18,Kurināmais!$A$4:$G$351,$NQ$8,FALSE)/9.3*$Q$6*$CQ$6,IF(AND(DZ16=$NQ$4+1,$C$6<12,DZ17<=$C$6),VLOOKUP(DZ18,Kurināmais!$A$4:$G$351,$NQ$8,FALSE)/9.3*$AD$6*$CQ$6,\" \"))))","v":" "},{"$f":"IF(AND(EA15>=$B$5,EA15<$B$6),IF(EA16=1,IF(EA17>=$C$5,VLOOKUP(EA18,Kurināmais!$A$4:$G$351,$NQ$8,FALSE)/9.3*Biomasa!$Q$6*$CQ$6,\" \"),IF(AND(EA16>1,EA16<=10),VLOOKUP(EA18,Kurināmais!$A$4:$G$351,$NQ$8,FALSE)/9.3*Biomasa!$Q$6*$CQ$6,IF(EA16=11,IF(EA17<$C$5,VLOOKUP(EA18,Kurināmais!$A$4:$G$351,$NQ$8,FALSE)/9.3*Biomasa!$Q$6*$CQ$6,VLOOKUP(EA18,Kurināmais!$A$4:$G$351,$NQ$8,FALSE)/9.3*$AD$6*$CQ$6),IF(EA16>11,VLOOKUP(EA18,Kurināmais!$A$4:$G$351,$NQ$8,FALSE)/9.3*$AD$6*$CQ$6)))),IF(AND(EA16=$NQ$4,$C$6=12),VLOOKUP(EA18,Kurināmais!$A$4:$G$351,$NQ$8,FALSE)/9.3*$AD$6*$CQ$6,IF(AND(EA16=$NQ$4+1,$C$6<12,EA17<=$C$6,$NQ$4=10),VLOOKUP(EA18,Kurināmais!$A$4:$G$351,$NQ$8,FALSE)/9.3*$Q$6*$CQ$6,IF(AND(EA16=$NQ$4+1,$C$6<12,EA17<=$C$6),VLOOKUP(EA18,Kurināmais!$A$4:$G$351,$NQ$8,FALSE)/9.3*$AD$6*$CQ$6,\" \"))))","v":" "},{"$f":"IF(AND(EB15>=$B$5,EB15<$B$6),IF(EB16=1,IF(EB17>=$C$5,VLOOKUP(EB18,Kurināmais!$A$4:$G$351,$NQ$8,FALSE)/9.3*Biomasa!$Q$6*$CQ$6,\" \"),IF(AND(EB16>1,EB16<=10),VLOOKUP(EB18,Kurināmais!$A$4:$G$351,$NQ$8,FALSE)/9.3*Biomasa!$Q$6*$CQ$6,IF(EB16=11,IF(EB17<$C$5,VLOOKUP(EB18,Kurināmais!$A$4:$G$351,$NQ$8,FALSE)/9.3*Biomasa!$Q$6*$CQ$6,VLOOKUP(EB18,Kurināmais!$A$4:$G$351,$NQ$8,FALSE)/9.3*$AD$6*$CQ$6),IF(EB16>11,VLOOKUP(EB18,Kurināmais!$A$4:$G$351,$NQ$8,FALSE)/9.3*$AD$6*$CQ$6)))),IF(AND(EB16=$NQ$4,$C$6=12),VLOOKUP(EB18,Kurināmais!$A$4:$G$351,$NQ$8,FALSE)/9.3*$AD$6*$CQ$6,IF(AND(EB16=$NQ$4+1,$C$6<12,EB17<=$C$6,$NQ$4=10),VLOOKUP(EB18,Kurināmais!$A$4:$G$351,$NQ$8,FALSE)/9.3*$Q$6*$CQ$6,IF(AND(EB16=$NQ$4+1,$C$6<12,EB17<=$C$6),VLOOKUP(EB18,Kurināmais!$A$4:$G$351,$NQ$8,FALSE)/9.3*$AD$6*$CQ$6,\" \"))))","v":" "},{"$f":"IF(AND(EC15>=$B$5,EC15<$B$6),IF(EC16=1,IF(EC17>=$C$5,VLOOKUP(EC18,Kurināmais!$A$4:$G$351,$NQ$8,FALSE)/9.3*Biomasa!$Q$6*$CQ$6,\" \"),IF(AND(EC16>1,EC16<=10),VLOOKUP(EC18,Kurināmais!$A$4:$G$351,$NQ$8,FALSE)/9.3*Biomasa!$Q$6*$CQ$6,IF(EC16=11,IF(EC17<$C$5,VLOOKUP(EC18,Kurināmais!$A$4:$G$351,$NQ$8,FALSE)/9.3*Biomasa!$Q$6*$CQ$6,VLOOKUP(EC18,Kurināmais!$A$4:$G$351,$NQ$8,FALSE)/9.3*$AD$6*$CQ$6),IF(EC16>11,VLOOKUP(EC18,Kurināmais!$A$4:$G$351,$NQ$8,FALSE)/9.3*$AD$6*$CQ$6)))),IF(AND(EC16=$NQ$4,$C$6=12),VLOOKUP(EC18,Kurināmais!$A$4:$G$351,$NQ$8,FALSE)/9.3*$AD$6*$CQ$6,IF(AND(EC16=$NQ$4+1,$C$6<12,EC17<=$C$6,$NQ$4=10),VLOOKUP(EC18,Kurināmais!$A$4:$G$351,$NQ$8,FALSE)/9.3*$Q$6*$CQ$6,IF(AND(EC16=$NQ$4+1,$C$6<12,EC17<=$C$6),VLOOKUP(EC18,Kurināmais!$A$4:$G$351,$NQ$8,FALSE)/9.3*$AD$6*$CQ$6,\" \"))))","v":" "},{"$f":"IF(OR(ED$16=\" \",ED$16=0,ED21=0),\" \",SUMPRODUCT(EE21:EP21,EE22:EP22)/ED21)","v":" "},{"$f":"IF(AND(EE15>=$B$5,EE15<$B$6),IF(EE16=1,IF(EE17>=$C$5,VLOOKUP(EE18,Kurināmais!$A$4:$G$351,$NQ$8,FALSE)/9.3*Biomasa!$Q$6*$CQ$6,\" \"),IF(AND(EE16>1,EE16<=10),VLOOKUP(EE18,Kurināmais!$A$4:$G$351,$NQ$8,FALSE)/9.3*Biomasa!$Q$6*$CQ$6,IF(EE16=11,IF(EE17<$C$5,VLOOKUP(EE18,Kurināmais!$A$4:$G$351,$NQ$8,FALSE)/9.3*Biomasa!$Q$6*$CQ$6,VLOOKUP(EE18,Kurināmais!$A$4:$G$351,$NQ$8,FALSE)/9.3*$AD$6*$CQ$6),IF(EE16>11,VLOOKUP(EE18,Kurināmais!$A$4:$G$351,$NQ$8,FALSE)/9.3*$AD$6*$CQ$6)))),IF(AND(EE16=$NQ$4,$C$6=12),VLOOKUP(EE18,Kurināmais!$A$4:$G$351,$NQ$8,FALSE)/9.3*$AD$6*$CQ$6,IF(AND(EE16=$NQ$4+1,$C$6<12,EE17<=$C$6,$NQ$4=10),VLOOKUP(EE18,Kurināmais!$A$4:$G$351,$NQ$8,FALSE)/9.3*$Q$6*$CQ$6,IF(AND(EE16=$NQ$4+1,$C$6<12,EE17<=$C$6),VLOOKUP(EE18,Kurināmais!$A$4:$G$351,$NQ$8,FALSE)/9.3*$AD$6*$CQ$6,\" \"))))","v":" "},{"$f":"IF(AND(EF15>=$B$5,EF15<$B$6),IF(EF16=1,IF(EF17>=$C$5,VLOOKUP(EF18,Kurināmais!$A$4:$G$351,$NQ$8,FALSE)/9.3*Biomasa!$Q$6*$CQ$6,\" \"),IF(AND(EF16>1,EF16<=10),VLOOKUP(EF18,Kurināmais!$A$4:$G$351,$NQ$8,FALSE)/9.3*Biomasa!$Q$6*$CQ$6,IF(EF16=11,IF(EF17<$C$5,VLOOKUP(EF18,Kurināmais!$A$4:$G$351,$NQ$8,FALSE)/9.3*Biomasa!$Q$6*$CQ$6,VLOOKUP(EF18,Kurināmais!$A$4:$G$351,$NQ$8,FALSE)/9.3*$AD$6*$CQ$6),IF(EF16>11,VLOOKUP(EF18,Kurināmais!$A$4:$G$351,$NQ$8,FALSE)/9.3*$AD$6*$CQ$6)))),IF(AND(EF16=$NQ$4,$C$6=12),VLOOKUP(EF18,Kurināmais!$A$4:$G$351,$NQ$8,FALSE)/9.3*$AD$6*$CQ$6,IF(AND(EF16=$NQ$4+1,$C$6<12,EF17<=$C$6,$NQ$4=10),VLOOKUP(EF18,Kurināmais!$A$4:$G$351,$NQ$8,FALSE)/9.3*$Q$6*$CQ$6,IF(AND(EF16=$NQ$4+1,$C$6<12,EF17<=$C$6),VLOOKUP(EF18,Kurināmais!$A$4:$G$351,$NQ$8,FALSE)/9.3*$AD$6*$CQ$6,\" \"))))","v":" "},{"$f":"IF(AND(EG15>=$B$5,EG15<$B$6),IF(EG16=1,IF(EG17>=$C$5,VLOOKUP(EG18,Kurināmais!$A$4:$G$351,$NQ$8,FALSE)/9.3*Biomasa!$Q$6*$CQ$6,\" \"),IF(AND(EG16>1,EG16<=10),VLOOKUP(EG18,Kurināmais!$A$4:$G$351,$NQ$8,FALSE)/9.3*Biomasa!$Q$6*$CQ$6,IF(EG16=11,IF(EG17<$C$5,VLOOKUP(EG18,Kurināmais!$A$4:$G$351,$NQ$8,FALSE)/9.3*Biomasa!$Q$6*$CQ$6,VLOOKUP(EG18,Kurināmais!$A$4:$G$351,$NQ$8,FALSE)/9.3*$AD$6*$CQ$6),IF(EG16>11,VLOOKUP(EG18,Kurināmais!$A$4:$G$351,$NQ$8,FALSE)/9.3*$AD$6*$CQ$6)))),IF(AND(EG16=$NQ$4,$C$6=12),VLOOKUP(EG18,Kurināmais!$A$4:$G$351,$NQ$8,FALSE)/9.3*$AD$6*$CQ$6,IF(AND(EG16=$NQ$4+1,$C$6<12,EG17<=$C$6,$NQ$4=10),VLOOKUP(EG18,Kurināmais!$A$4:$G$351,$NQ$8,FALSE)/9.3*$Q$6*$CQ$6,IF(AND(EG16=$NQ$4+1,$C$6<12,EG17<=$C$6),VLOOKUP(EG18,Kurināmais!$A$4:$G$351,$NQ$8,FALSE)/9.3*$AD$6*$CQ$6,\" \"))))","v":" "},{"$f":"IF(AND(EH15>=$B$5,EH15<$B$6),IF(EH16=1,IF(EH17>=$C$5,VLOOKUP(EH18,Kurināmais!$A$4:$G$351,$NQ$8,FALSE)/9.3*Biomasa!$Q$6*$CQ$6,\" \"),IF(AND(EH16>1,EH16<=10),VLOOKUP(EH18,Kurināmais!$A$4:$G$351,$NQ$8,FALSE)/9.3*Biomasa!$Q$6*$CQ$6,IF(EH16=11,IF(EH17<$C$5,VLOOKUP(EH18,Kurināmais!$A$4:$G$351,$NQ$8,FALSE)/9.3*Biomasa!$Q$6*$CQ$6,VLOOKUP(EH18,Kurināmais!$A$4:$G$351,$NQ$8,FALSE)/9.3*$AD$6*$CQ$6),IF(EH16>11,VLOOKUP(EH18,Kurināmais!$A$4:$G$351,$NQ$8,FALSE)/9.3*$AD$6*$CQ$6)))),IF(AND(EH16=$NQ$4,$C$6=12),VLOOKUP(EH18,Kurināmais!$A$4:$G$351,$NQ$8,FALSE)/9.3*$AD$6*$CQ$6,IF(AND(EH16=$NQ$4+1,$C$6<12,EH17<=$C$6,$NQ$4=10),VLOOKUP(EH18,Kurināmais!$A$4:$G$351,$NQ$8,FALSE)/9.3*$Q$6*$CQ$6,IF(AND(EH16=$NQ$4+1,$C$6<12,EH17<=$C$6),VLOOKUP(EH18,Kurināmais!$A$4:$G$351,$NQ$8,FALSE)/9.3*$AD$6*$CQ$6,\" \"))))","v":" "},{"$f":"IF(AND(EI15>=$B$5,EI15<$B$6),IF(EI16=1,IF(EI17>=$C$5,VLOOKUP(EI18,Kurināmais!$A$4:$G$351,$NQ$8,FALSE)/9.3*Biomasa!$Q$6*$CQ$6,\" \"),IF(AND(EI16>1,EI16<=10),VLOOKUP(EI18,Kurināmais!$A$4:$G$351,$NQ$8,FALSE)/9.3*Biomasa!$Q$6*$CQ$6,IF(EI16=11,IF(EI17<$C$5,VLOOKUP(EI18,Kurināmais!$A$4:$G$351,$NQ$8,FALSE)/9.3*Biomasa!$Q$6*$CQ$6,VLOOKUP(EI18,Kurināmais!$A$4:$G$351,$NQ$8,FALSE)/9.3*$AD$6*$CQ$6),IF(EI16>11,VLOOKUP(EI18,Kurināmais!$A$4:$G$351,$NQ$8,FALSE)/9.3*$AD$6*$CQ$6)))),IF(AND(EI16=$NQ$4,$C$6=12),VLOOKUP(EI18,Kurināmais!$A$4:$G$351,$NQ$8,FALSE)/9.3*$AD$6*$CQ$6,IF(AND(EI16=$NQ$4+1,$C$6<12,EI17<=$C$6,$NQ$4=10),VLOOKUP(EI18,Kurināmais!$A$4:$G$351,$NQ$8,FALSE)/9.3*$Q$6*$CQ$6,IF(AND(EI16=$NQ$4+1,$C$6<12,EI17<=$C$6),VLOOKUP(EI18,Kurināmais!$A$4:$G$351,$NQ$8,FALSE)/9.3*$AD$6*$CQ$6,\" \"))))","v":" "},{"$f":"IF(AND(EJ15>=$B$5,EJ15<$B$6),IF(EJ16=1,IF(EJ17>=$C$5,VLOOKUP(EJ18,Kurināmais!$A$4:$G$351,$NQ$8,FALSE)/9.3*Biomasa!$Q$6*$CQ$6,\" \"),IF(AND(EJ16>1,EJ16<=10),VLOOKUP(EJ18,Kurināmais!$A$4:$G$351,$NQ$8,FALSE)/9.3*Biomasa!$Q$6*$CQ$6,IF(EJ16=11,IF(EJ17<$C$5,VLOOKUP(EJ18,Kurināmais!$A$4:$G$351,$NQ$8,FALSE)/9.3*Biomasa!$Q$6*$CQ$6,VLOOKUP(EJ18,Kurināmais!$A$4:$G$351,$NQ$8,FALSE)/9.3*$AD$6*$CQ$6),IF(EJ16>11,VLOOKUP(EJ18,Kurināmais!$A$4:$G$351,$NQ$8,FALSE)/9.3*$AD$6*$CQ$6)))),IF(AND(EJ16=$NQ$4,$C$6=12),VLOOKUP(EJ18,Kurināmais!$A$4:$G$351,$NQ$8,FALSE)/9.3*$AD$6*$CQ$6,IF(AND(EJ16=$NQ$4+1,$C$6<12,EJ17<=$C$6,$NQ$4=10),VLOOKUP(EJ18,Kurināmais!$A$4:$G$351,$NQ$8,FALSE)/9.3*$Q$6*$CQ$6,IF(AND(EJ16=$NQ$4+1,$C$6<12,EJ17<=$C$6),VLOOKUP(EJ18,Kurināmais!$A$4:$G$351,$NQ$8,FALSE)/9.3*$AD$6*$CQ$6,\" \"))))","v":" "},{"$f":"IF(AND(EK15>=$B$5,EK15<$B$6),IF(EK16=1,IF(EK17>=$C$5,VLOOKUP(EK18,Kurināmais!$A$4:$G$351,$NQ$8,FALSE)/9.3*Biomasa!$Q$6*$CQ$6,\" \"),IF(AND(EK16>1,EK16<=10),VLOOKUP(EK18,Kurināmais!$A$4:$G$351,$NQ$8,FALSE)/9.3*Biomasa!$Q$6*$CQ$6,IF(EK16=11,IF(EK17<$C$5,VLOOKUP(EK18,Kurināmais!$A$4:$G$351,$NQ$8,FALSE)/9.3*Biomasa!$Q$6*$CQ$6,VLOOKUP(EK18,Kurināmais!$A$4:$G$351,$NQ$8,FALSE)/9.3*$AD$6*$CQ$6),IF(EK16>11,VLOOKUP(EK18,Kurināmais!$A$4:$G$351,$NQ$8,FALSE)/9.3*$AD$6*$CQ$6)))),IF(AND(EK16=$NQ$4,$C$6=12),VLOOKUP(EK18,Kurināmais!$A$4:$G$351,$NQ$8,FALSE)/9.3*$AD$6*$CQ$6,IF(AND(EK16=$NQ$4+1,$C$6<12,EK17<=$C$6,$NQ$4=10),VLOOKUP(EK18,Kurināmais!$A$4:$G$351,$NQ$8,FALSE)/9.3*$Q$6*$CQ$6,IF(AND(EK16=$NQ$4+1,$C$6<12,EK17<=$C$6),VLOOKUP(EK18,Kurināmais!$A$4:$G$351,$NQ$8,FALSE)/9.3*$AD$6*$CQ$6,\" \"))))","v":" "},{"$f":"IF(AND(EL15>=$B$5,EL15<$B$6),IF(EL16=1,IF(EL17>=$C$5,VLOOKUP(EL18,Kurināmais!$A$4:$G$351,$NQ$8,FALSE)/9.3*Biomasa!$Q$6*$CQ$6,\" \"),IF(AND(EL16>1,EL16<=10),VLOOKUP(EL18,Kurināmais!$A$4:$G$351,$NQ$8,FALSE)/9.3*Biomasa!$Q$6*$CQ$6,IF(EL16=11,IF(EL17<$C$5,VLOOKUP(EL18,Kurināmais!$A$4:$G$351,$NQ$8,FALSE)/9.3*Biomasa!$Q$6*$CQ$6,VLOOKUP(EL18,Kurināmais!$A$4:$G$351,$NQ$8,FALSE)/9.3*$AD$6*$CQ$6),IF(EL16>11,VLOOKUP(EL18,Kurināmais!$A$4:$G$351,$NQ$8,FALSE)/9.3*$AD$6*$CQ$6)))),IF(AND(EL16=$NQ$4,$C$6=12),VLOOKUP(EL18,Kurināmais!$A$4:$G$351,$NQ$8,FALSE)/9.3*$AD$6*$CQ$6,IF(AND(EL16=$NQ$4+1,$C$6<12,EL17<=$C$6,$NQ$4=10),VLOOKUP(EL18,Kurināmais!$A$4:$G$351,$NQ$8,FALSE)/9.3*$Q$6*$CQ$6,IF(AND(EL16=$NQ$4+1,$C$6<12,EL17<=$C$6),VLOOKUP(EL18,Kurināmais!$A$4:$G$351,$NQ$8,FALSE)/9.3*$AD$6*$CQ$6,\" \"))))","v":" "},{"$f":"IF(AND(EM15>=$B$5,EM15<$B$6),IF(EM16=1,IF(EM17>=$C$5,VLOOKUP(EM18,Kurināmais!$A$4:$G$351,$NQ$8,FALSE)/9.3*Biomasa!$Q$6*$CQ$6,\" \"),IF(AND(EM16>1,EM16<=10),VLOOKUP(EM18,Kurināmais!$A$4:$G$351,$NQ$8,FALSE)/9.3*Biomasa!$Q$6*$CQ$6,IF(EM16=11,IF(EM17<$C$5,VLOOKUP(EM18,Kurināmais!$A$4:$G$351,$NQ$8,FALSE)/9.3*Biomasa!$Q$6*$CQ$6,VLOOKUP(EM18,Kurināmais!$A$4:$G$351,$NQ$8,FALSE)/9.3*$AD$6*$CQ$6),IF(EM16>11,VLOOKUP(EM18,Kurināmais!$A$4:$G$351,$NQ$8,FALSE)/9.3*$AD$6*$CQ$6)))),IF(AND(EM16=$NQ$4,$C$6=12),VLOOKUP(EM18,Kurināmais!$A$4:$G$351,$NQ$8,FALSE)/9.3*$AD$6*$CQ$6,IF(AND(EM16=$NQ$4+1,$C$6<12,EM17<=$C$6,$NQ$4=10),VLOOKUP(EM18,Kurināmais!$A$4:$G$351,$NQ$8,FALSE)/9.3*$Q$6*$CQ$6,IF(AND(EM16=$NQ$4+1,$C$6<12,EM17<=$C$6),VLOOKUP(EM18,Kurināmais!$A$4:$G$351,$NQ$8,FALSE)/9.3*$AD$6*$CQ$6,\" \"))))","v":" "},{"$f":"IF(AND(EN15>=$B$5,EN15<$B$6),IF(EN16=1,IF(EN17>=$C$5,VLOOKUP(EN18,Kurināmais!$A$4:$G$351,$NQ$8,FALSE)/9.3*Biomasa!$Q$6*$CQ$6,\" \"),IF(AND(EN16>1,EN16<=10),VLOOKUP(EN18,Kurināmais!$A$4:$G$351,$NQ$8,FALSE)/9.3*Biomasa!$Q$6*$CQ$6,IF(EN16=11,IF(EN17<$C$5,VLOOKUP(EN18,Kurināmais!$A$4:$G$351,$NQ$8,FALSE)/9.3*Biomasa!$Q$6*$CQ$6,VLOOKUP(EN18,Kurināmais!$A$4:$G$351,$NQ$8,FALSE)/9.3*$AD$6*$CQ$6),IF(EN16>11,VLOOKUP(EN18,Kurināmais!$A$4:$G$351,$NQ$8,FALSE)/9.3*$AD$6*$CQ$6)))),IF(AND(EN16=$NQ$4,$C$6=12),VLOOKUP(EN18,Kurināmais!$A$4:$G$351,$NQ$8,FALSE)/9.3*$AD$6*$CQ$6,IF(AND(EN16=$NQ$4+1,$C$6<12,EN17<=$C$6,$NQ$4=10),VLOOKUP(EN18,Kurināmais!$A$4:$G$351,$NQ$8,FALSE)/9.3*$Q$6*$CQ$6,IF(AND(EN16=$NQ$4+1,$C$6<12,EN17<=$C$6),VLOOKUP(EN18,Kurināmais!$A$4:$G$351,$NQ$8,FALSE)/9.3*$AD$6*$CQ$6,\" \"))))","v":" "},{"$f":"IF(AND(EO15>=$B$5,EO15<$B$6),IF(EO16=1,IF(EO17>=$C$5,VLOOKUP(EO18,Kurināmais!$A$4:$G$351,$NQ$8,FALSE)/9.3*Biomasa!$Q$6*$CQ$6,\" \"),IF(AND(EO16>1,EO16<=10),VLOOKUP(EO18,Kurināmais!$A$4:$G$351,$NQ$8,FALSE)/9.3*Biomasa!$Q$6*$CQ$6,IF(EO16=11,IF(EO17<$C$5,VLOOKUP(EO18,Kurināmais!$A$4:$G$351,$NQ$8,FALSE)/9.3*Biomasa!$Q$6*$CQ$6,VLOOKUP(EO18,Kurināmais!$A$4:$G$351,$NQ$8,FALSE)/9.3*$AD$6*$CQ$6),IF(EO16>11,VLOOKUP(EO18,Kurināmais!$A$4:$G$351,$NQ$8,FALSE)/9.3*$AD$6*$CQ$6)))),IF(AND(EO16=$NQ$4,$C$6=12),VLOOKUP(EO18,Kurināmais!$A$4:$G$351,$NQ$8,FALSE)/9.3*$AD$6*$CQ$6,IF(AND(EO16=$NQ$4+1,$C$6<12,EO17<=$C$6,$NQ$4=10),VLOOKUP(EO18,Kurināmais!$A$4:$G$351,$NQ$8,FALSE)/9.3*$Q$6*$CQ$6,IF(AND(EO16=$NQ$4+1,$C$6<12,EO17<=$C$6),VLOOKUP(EO18,Kurināmais!$A$4:$G$351,$NQ$8,FALSE)/9.3*$AD$6*$CQ$6,\" \"))))","v":" "},{"$f":"IF(AND(EP15>=$B$5,EP15<$B$6),IF(EP16=1,IF(EP17>=$C$5,VLOOKUP(EP18,Kurināmais!$A$4:$G$351,$NQ$8,FALSE)/9.3*Biomasa!$Q$6*$CQ$6,\" \"),IF(AND(EP16>1,EP16<=10),VLOOKUP(EP18,Kurināmais!$A$4:$G$351,$NQ$8,FALSE)/9.3*Biomasa!$Q$6*$CQ$6,IF(EP16=11,IF(EP17<$C$5,VLOOKUP(EP18,Kurināmais!$A$4:$G$351,$NQ$8,FALSE)/9.3*Biomasa!$Q$6*$CQ$6,VLOOKUP(EP18,Kurināmais!$A$4:$G$351,$NQ$8,FALSE)/9.3*$AD$6*$CQ$6),IF(EP16>11,VLOOKUP(EP18,Kurināmais!$A$4:$G$351,$NQ$8,FALSE)/9.3*$AD$6*$CQ$6)))),IF(AND(EP16=$NQ$4,$C$6=12),VLOOKUP(EP18,Kurināmais!$A$4:$G$351,$NQ$8,FALSE)/9.3*$AD$6*$CQ$6,IF(AND(EP16=$NQ$4+1,$C$6<12,EP17<=$C$6,$NQ$4=10),VLOOKUP(EP18,Kurināmais!$A$4:$G$351,$NQ$8,FALSE)/9.3*$Q$6*$CQ$6,IF(AND(EP16=$NQ$4+1,$C$6<12,EP17<=$C$6),VLOOKUP(EP18,Kurināmais!$A$4:$G$351,$NQ$8,FALSE)/9.3*$AD$6*$CQ$6,\" \"))))","v":" "},{"$f":"IF(OR(EQ$16=\" \",EQ$16=0,EQ21=0),\" \",SUMPRODUCT(ER21:FC21,ER22:FC22)/EQ21)","v":" "},{"$f":"IF(AND(ER15>=$B$5,ER15<$B$6),IF(ER16=1,IF(ER17>=$C$5,VLOOKUP(ER18,Kurināmais!$A$4:$G$351,$NQ$8,FALSE)/9.3*Biomasa!$Q$6*$CQ$6,\" \"),IF(AND(ER16>1,ER16<=10),VLOOKUP(ER18,Kurināmais!$A$4:$G$351,$NQ$8,FALSE)/9.3*Biomasa!$Q$6*$CQ$6,IF(ER16=11,IF(ER17<$C$5,VLOOKUP(ER18,Kurināmais!$A$4:$G$351,$NQ$8,FALSE)/9.3*Biomasa!$Q$6*$CQ$6,VLOOKUP(ER18,Kurināmais!$A$4:$G$351,$NQ$8,FALSE)/9.3*$AD$6*$CQ$6),IF(ER16>11,VLOOKUP(ER18,Kurināmais!$A$4:$G$351,$NQ$8,FALSE)/9.3*$AD$6*$CQ$6)))),IF(AND(ER16=$NQ$4,$C$6=12),VLOOKUP(ER18,Kurināmais!$A$4:$G$351,$NQ$8,FALSE)/9.3*$AD$6*$CQ$6,IF(AND(ER16=$NQ$4+1,$C$6<12,ER17<=$C$6,$NQ$4=10),VLOOKUP(ER18,Kurināmais!$A$4:$G$351,$NQ$8,FALSE)/9.3*$Q$6*$CQ$6,IF(AND(ER16=$NQ$4+1,$C$6<12,ER17<=$C$6),VLOOKUP(ER18,Kurināmais!$A$4:$G$351,$NQ$8,FALSE)/9.3*$AD$6*$CQ$6,\" \"))))","v":" "},{"$f":"IF(AND(ES15>=$B$5,ES15<$B$6),IF(ES16=1,IF(ES17>=$C$5,VLOOKUP(ES18,Kurināmais!$A$4:$G$351,$NQ$8,FALSE)/9.3*Biomasa!$Q$6*$CQ$6,\" \"),IF(AND(ES16>1,ES16<=10),VLOOKUP(ES18,Kurināmais!$A$4:$G$351,$NQ$8,FALSE)/9.3*Biomasa!$Q$6*$CQ$6,IF(ES16=11,IF(ES17<$C$5,VLOOKUP(ES18,Kurināmais!$A$4:$G$351,$NQ$8,FALSE)/9.3*Biomasa!$Q$6*$CQ$6,VLOOKUP(ES18,Kurināmais!$A$4:$G$351,$NQ$8,FALSE)/9.3*$AD$6*$CQ$6),IF(ES16>11,VLOOKUP(ES18,Kurināmais!$A$4:$G$351,$NQ$8,FALSE)/9.3*$AD$6*$CQ$6)))),IF(AND(ES16=$NQ$4,$C$6=12),VLOOKUP(ES18,Kurināmais!$A$4:$G$351,$NQ$8,FALSE)/9.3*$AD$6*$CQ$6,IF(AND(ES16=$NQ$4+1,$C$6<12,ES17<=$C$6,$NQ$4=10),VLOOKUP(ES18,Kurināmais!$A$4:$G$351,$NQ$8,FALSE)/9.3*$Q$6*$CQ$6,IF(AND(ES16=$NQ$4+1,$C$6<12,ES17<=$C$6),VLOOKUP(ES18,Kurināmais!$A$4:$G$351,$NQ$8,FALSE)/9.3*$AD$6*$CQ$6,\" \"))))","v":" "},{"$f":"IF(AND(ET15>=$B$5,ET15<$B$6),IF(ET16=1,IF(ET17>=$C$5,VLOOKUP(ET18,Kurināmais!$A$4:$G$351,$NQ$8,FALSE)/9.3*Biomasa!$Q$6*$CQ$6,\" \"),IF(AND(ET16>1,ET16<=10),VLOOKUP(ET18,Kurināmais!$A$4:$G$351,$NQ$8,FALSE)/9.3*Biomasa!$Q$6*$CQ$6,IF(ET16=11,IF(ET17<$C$5,VLOOKUP(ET18,Kurināmais!$A$4:$G$351,$NQ$8,FALSE)/9.3*Biomasa!$Q$6*$CQ$6,VLOOKUP(ET18,Kurināmais!$A$4:$G$351,$NQ$8,FALSE)/9.3*$AD$6*$CQ$6),IF(ET16>11,VLOOKUP(ET18,Kurināmais!$A$4:$G$351,$NQ$8,FALSE)/9.3*$AD$6*$CQ$6)))),IF(AND(ET16=$NQ$4,$C$6=12),VLOOKUP(ET18,Kurināmais!$A$4:$G$351,$NQ$8,FALSE)/9.3*$AD$6*$CQ$6,IF(AND(ET16=$NQ$4+1,$C$6<12,ET17<=$C$6,$NQ$4=10),VLOOKUP(ET18,Kurināmais!$A$4:$G$351,$NQ$8,FALSE)/9.3*$Q$6*$CQ$6,IF(AND(ET16=$NQ$4+1,$C$6<12,ET17<=$C$6),VLOOKUP(ET18,Kurināmais!$A$4:$G$351,$NQ$8,FALSE)/9.3*$AD$6*$CQ$6,\" \"))))","v":" "},{"$f":"IF(AND(EU15>=$B$5,EU15<$B$6),IF(EU16=1,IF(EU17>=$C$5,VLOOKUP(EU18,Kurināmais!$A$4:$G$351,$NQ$8,FALSE)/9.3*Biomasa!$Q$6*$CQ$6,\" \"),IF(AND(EU16>1,EU16<=10),VLOOKUP(EU18,Kurināmais!$A$4:$G$351,$NQ$8,FALSE)/9.3*Biomasa!$Q$6*$CQ$6,IF(EU16=11,IF(EU17<$C$5,VLOOKUP(EU18,Kurināmais!$A$4:$G$351,$NQ$8,FALSE)/9.3*Biomasa!$Q$6*$CQ$6,VLOOKUP(EU18,Kurināmais!$A$4:$G$351,$NQ$8,FALSE)/9.3*$AD$6*$CQ$6),IF(EU16>11,VLOOKUP(EU18,Kurināmais!$A$4:$G$351,$NQ$8,FALSE)/9.3*$AD$6*$CQ$6)))),IF(AND(EU16=$NQ$4,$C$6=12),VLOOKUP(EU18,Kurināmais!$A$4:$G$351,$NQ$8,FALSE)/9.3*$AD$6*$CQ$6,IF(AND(EU16=$NQ$4+1,$C$6<12,EU17<=$C$6,$NQ$4=10),VLOOKUP(EU18,Kurināmais!$A$4:$G$351,$NQ$8,FALSE)/9.3*$Q$6*$CQ$6,IF(AND(EU16=$NQ$4+1,$C$6<12,EU17<=$C$6),VLOOKUP(EU18,Kurināmais!$A$4:$G$351,$NQ$8,FALSE)/9.3*$AD$6*$CQ$6,\" \"))))","v":" "},{"$f":"IF(AND(EV15>=$B$5,EV15<$B$6),IF(EV16=1,IF(EV17>=$C$5,VLOOKUP(EV18,Kurināmais!$A$4:$G$351,$NQ$8,FALSE)/9.3*Biomasa!$Q$6*$CQ$6,\" \"),IF(AND(EV16>1,EV16<=10),VLOOKUP(EV18,Kurināmais!$A$4:$G$351,$NQ$8,FALSE)/9.3*Biomasa!$Q$6*$CQ$6,IF(EV16=11,IF(EV17<$C$5,VLOOKUP(EV18,Kurināmais!$A$4:$G$351,$NQ$8,FALSE)/9.3*Biomasa!$Q$6*$CQ$6,VLOOKUP(EV18,Kurināmais!$A$4:$G$351,$NQ$8,FALSE)/9.3*$AD$6*$CQ$6),IF(EV16>11,VLOOKUP(EV18,Kurināmais!$A$4:$G$351,$NQ$8,FALSE)/9.3*$AD$6*$CQ$6)))),IF(AND(EV16=$NQ$4,$C$6=12),VLOOKUP(EV18,Kurināmais!$A$4:$G$351,$NQ$8,FALSE)/9.3*$AD$6*$CQ$6,IF(AND(EV16=$NQ$4+1,$C$6<12,EV17<=$C$6,$NQ$4=10),VLOOKUP(EV18,Kurināmais!$A$4:$G$351,$NQ$8,FALSE)/9.3*$Q$6*$CQ$6,IF(AND(EV16=$NQ$4+1,$C$6<12,EV17<=$C$6),VLOOKUP(EV18,Kurināmais!$A$4:$G$351,$NQ$8,FALSE)/9.3*$AD$6*$CQ$6,\" \"))))","v":" "},{"$f":"IF(AND(EW15>=$B$5,EW15<$B$6),IF(EW16=1,IF(EW17>=$C$5,VLOOKUP(EW18,Kurināmais!$A$4:$G$351,$NQ$8,FALSE)/9.3*Biomasa!$Q$6*$CQ$6,\" \"),IF(AND(EW16>1,EW16<=10),VLOOKUP(EW18,Kurināmais!$A$4:$G$351,$NQ$8,FALSE)/9.3*Biomasa!$Q$6*$CQ$6,IF(EW16=11,IF(EW17<$C$5,VLOOKUP(EW18,Kurināmais!$A$4:$G$351,$NQ$8,FALSE)/9.3*Biomasa!$Q$6*$CQ$6,VLOOKUP(EW18,Kurināmais!$A$4:$G$351,$NQ$8,FALSE)/9.3*$AD$6*$CQ$6),IF(EW16>11,VLOOKUP(EW18,Kurināmais!$A$4:$G$351,$NQ$8,FALSE)/9.3*$AD$6*$CQ$6)))),IF(AND(EW16=$NQ$4,$C$6=12),VLOOKUP(EW18,Kurināmais!$A$4:$G$351,$NQ$8,FALSE)/9.3*$AD$6*$CQ$6,IF(AND(EW16=$NQ$4+1,$C$6<12,EW17<=$C$6,$NQ$4=10),VLOOKUP(EW18,Kurināmais!$A$4:$G$351,$NQ$8,FALSE)/9.3*$Q$6*$CQ$6,IF(AND(EW16=$NQ$4+1,$C$6<12,EW17<=$C$6),VLOOKUP(EW18,Kurināmais!$A$4:$G$351,$NQ$8,FALSE)/9.3*$AD$6*$CQ$6,\" \"))))","v":" "},{"$f":"IF(AND(EX15>=$B$5,EX15<$B$6),IF(EX16=1,IF(EX17>=$C$5,VLOOKUP(EX18,Kurināmais!$A$4:$G$351,$NQ$8,FALSE)/9.3*Biomasa!$Q$6*$CQ$6,\" \"),IF(AND(EX16>1,EX16<=10),VLOOKUP(EX18,Kurināmais!$A$4:$G$351,$NQ$8,FALSE)/9.3*Biomasa!$Q$6*$CQ$6,IF(EX16=11,IF(EX17<$C$5,VLOOKUP(EX18,Kurināmais!$A$4:$G$351,$NQ$8,FALSE)/9.3*Biomasa!$Q$6*$CQ$6,VLOOKUP(EX18,Kurināmais!$A$4:$G$351,$NQ$8,FALSE)/9.3*$AD$6*$CQ$6),IF(EX16>11,VLOOKUP(EX18,Kurināmais!$A$4:$G$351,$NQ$8,FALSE)/9.3*$AD$6*$CQ$6)))),IF(AND(EX16=$NQ$4,$C$6=12),VLOOKUP(EX18,Kurināmais!$A$4:$G$351,$NQ$8,FALSE)/9.3*$AD$6*$CQ$6,IF(AND(EX16=$NQ$4+1,$C$6<12,EX17<=$C$6,$NQ$4=10),VLOOKUP(EX18,Kurināmais!$A$4:$G$351,$NQ$8,FALSE)/9.3*$Q$6*$CQ$6,IF(AND(EX16=$NQ$4+1,$C$6<12,EX17<=$C$6),VLOOKUP(EX18,Kurināmais!$A$4:$G$351,$NQ$8,FALSE)/9.3*$AD$6*$CQ$6,\" \"))))","v":" "},{"$f":"IF(AND(EY15>=$B$5,EY15<$B$6),IF(EY16=1,IF(EY17>=$C$5,VLOOKUP(EY18,Kurināmais!$A$4:$G$351,$NQ$8,FALSE)/9.3*Biomasa!$Q$6*$CQ$6,\" \"),IF(AND(EY16>1,EY16<=10),VLOOKUP(EY18,Kurināmais!$A$4:$G$351,$NQ$8,FALSE)/9.3*Biomasa!$Q$6*$CQ$6,IF(EY16=11,IF(EY17<$C$5,VLOOKUP(EY18,Kurināmais!$A$4:$G$351,$NQ$8,FALSE)/9.3*Biomasa!$Q$6*$CQ$6,VLOOKUP(EY18,Kurināmais!$A$4:$G$351,$NQ$8,FALSE)/9.3*$AD$6*$CQ$6),IF(EY16>11,VLOOKUP(EY18,Kurināmais!$A$4:$G$351,$NQ$8,FALSE)/9.3*$AD$6*$CQ$6)))),IF(AND(EY16=$NQ$4,$C$6=12),VLOOKUP(EY18,Kurināmais!$A$4:$G$351,$NQ$8,FALSE)/9.3*$AD$6*$CQ$6,IF(AND(EY16=$NQ$4+1,$C$6<12,EY17<=$C$6,$NQ$4=10),VLOOKUP(EY18,Kurināmais!$A$4:$G$351,$NQ$8,FALSE)/9.3*$Q$6*$CQ$6,IF(AND(EY16=$NQ$4+1,$C$6<12,EY17<=$C$6),VLOOKUP(EY18,Kurināmais!$A$4:$G$351,$NQ$8,FALSE)/9.3*$AD$6*$CQ$6,\" \"))))","v":" "},{"$f":"IF(AND(EZ15>=$B$5,EZ15<$B$6),IF(EZ16=1,IF(EZ17>=$C$5,VLOOKUP(EZ18,Kurināmais!$A$4:$G$351,$NQ$8,FALSE)/9.3*Biomasa!$Q$6*$CQ$6,\" \"),IF(AND(EZ16>1,EZ16<=10),VLOOKUP(EZ18,Kurināmais!$A$4:$G$351,$NQ$8,FALSE)/9.3*Biomasa!$Q$6*$CQ$6,IF(EZ16=11,IF(EZ17<$C$5,VLOOKUP(EZ18,Kurināmais!$A$4:$G$351,$NQ$8,FALSE)/9.3*Biomasa!$Q$6*$CQ$6,VLOOKUP(EZ18,Kurināmais!$A$4:$G$351,$NQ$8,FALSE)/9.3*$AD$6*$CQ$6),IF(EZ16>11,VLOOKUP(EZ18,Kurināmais!$A$4:$G$351,$NQ$8,FALSE)/9.3*$AD$6*$CQ$6)))),IF(AND(EZ16=$NQ$4,$C$6=12),VLOOKUP(EZ18,Kurināmais!$A$4:$G$351,$NQ$8,FALSE)/9.3*$AD$6*$CQ$6,IF(AND(EZ16=$NQ$4+1,$C$6<12,EZ17<=$C$6,$NQ$4=10),VLOOKUP(EZ18,Kurināmais!$A$4:$G$351,$NQ$8,FALSE)/9.3*$Q$6*$CQ$6,IF(AND(EZ16=$NQ$4+1,$C$6<12,EZ17<=$C$6),VLOOKUP(EZ18,Kurināmais!$A$4:$G$351,$NQ$8,FALSE)/9.3*$AD$6*$CQ$6,\" \"))))","v":" "},{"$f":"IF(AND(FA15>=$B$5,FA15<$B$6),IF(FA16=1,IF(FA17>=$C$5,VLOOKUP(FA18,Kurināmais!$A$4:$G$351,$NQ$8,FALSE)/9.3*Biomasa!$Q$6*$CQ$6,\" \"),IF(AND(FA16>1,FA16<=10),VLOOKUP(FA18,Kurināmais!$A$4:$G$351,$NQ$8,FALSE)/9.3*Biomasa!$Q$6*$CQ$6,IF(FA16=11,IF(FA17<$C$5,VLOOKUP(FA18,Kurināmais!$A$4:$G$351,$NQ$8,FALSE)/9.3*Biomasa!$Q$6*$CQ$6,VLOOKUP(FA18,Kurināmais!$A$4:$G$351,$NQ$8,FALSE)/9.3*$AD$6*$CQ$6),IF(FA16>11,VLOOKUP(FA18,Kurināmais!$A$4:$G$351,$NQ$8,FALSE)/9.3*$AD$6*$CQ$6)))),IF(AND(FA16=$NQ$4,$C$6=12),VLOOKUP(FA18,Kurināmais!$A$4:$G$351,$NQ$8,FALSE)/9.3*$AD$6*$CQ$6,IF(AND(FA16=$NQ$4+1,$C$6<12,FA17<=$C$6,$NQ$4=10),VLOOKUP(FA18,Kurināmais!$A$4:$G$351,$NQ$8,FALSE)/9.3*$Q$6*$CQ$6,IF(AND(FA16=$NQ$4+1,$C$6<12,FA17<=$C$6),VLOOKUP(FA18,Kurināmais!$A$4:$G$351,$NQ$8,FALSE)/9.3*$AD$6*$CQ$6,\" \"))))","v":" "},{"$f":"IF(AND(FB15>=$B$5,FB15<$B$6),IF(FB16=1,IF(FB17>=$C$5,VLOOKUP(FB18,Kurināmais!$A$4:$G$351,$NQ$8,FALSE)/9.3*Biomasa!$Q$6*$CQ$6,\" \"),IF(AND(FB16>1,FB16<=10),VLOOKUP(FB18,Kurināmais!$A$4:$G$351,$NQ$8,FALSE)/9.3*Biomasa!$Q$6*$CQ$6,IF(FB16=11,IF(FB17<$C$5,VLOOKUP(FB18,Kurināmais!$A$4:$G$351,$NQ$8,FALSE)/9.3*Biomasa!$Q$6*$CQ$6,VLOOKUP(FB18,Kurināmais!$A$4:$G$351,$NQ$8,FALSE)/9.3*$AD$6*$CQ$6),IF(FB16>11,VLOOKUP(FB18,Kurināmais!$A$4:$G$351,$NQ$8,FALSE)/9.3*$AD$6*$CQ$6)))),IF(AND(FB16=$NQ$4,$C$6=12),VLOOKUP(FB18,Kurināmais!$A$4:$G$351,$NQ$8,FALSE)/9.3*$AD$6*$CQ$6,IF(AND(FB16=$NQ$4+1,$C$6<12,FB17<=$C$6,$NQ$4=10),VLOOKUP(FB18,Kurināmais!$A$4:$G$351,$NQ$8,FALSE)/9.3*$Q$6*$CQ$6,IF(AND(FB16=$NQ$4+1,$C$6<12,FB17<=$C$6),VLOOKUP(FB18,Kurināmais!$A$4:$G$351,$NQ$8,FALSE)/9.3*$AD$6*$CQ$6,\" \"))))","v":" "},{"$f":"IF(AND(FC15>=$B$5,FC15<$B$6),IF(FC16=1,IF(FC17>=$C$5,VLOOKUP(FC18,Kurināmais!$A$4:$G$351,$NQ$8,FALSE)/9.3*Biomasa!$Q$6*$CQ$6,\" \"),IF(AND(FC16>1,FC16<=10),VLOOKUP(FC18,Kurināmais!$A$4:$G$351,$NQ$8,FALSE)/9.3*Biomasa!$Q$6*$CQ$6,IF(FC16=11,IF(FC17<$C$5,VLOOKUP(FC18,Kurināmais!$A$4:$G$351,$NQ$8,FALSE)/9.3*Biomasa!$Q$6*$CQ$6,VLOOKUP(FC18,Kurināmais!$A$4:$G$351,$NQ$8,FALSE)/9.3*$AD$6*$CQ$6),IF(FC16>11,VLOOKUP(FC18,Kurināmais!$A$4:$G$351,$NQ$8,FALSE)/9.3*$AD$6*$CQ$6)))),IF(AND(FC16=$NQ$4,$C$6=12),VLOOKUP(FC18,Kurināmais!$A$4:$G$351,$NQ$8,FALSE)/9.3*$AD$6*$CQ$6,IF(AND(FC16=$NQ$4+1,$C$6<12,FC17<=$C$6,$NQ$4=10),VLOOKUP(FC18,Kurināmais!$A$4:$G$351,$NQ$8,FALSE)/9.3*$Q$6*$CQ$6,IF(AND(FC16=$NQ$4+1,$C$6<12,FC17<=$C$6),VLOOKUP(FC18,Kurināmais!$A$4:$G$351,$NQ$8,FALSE)/9.3*$AD$6*$CQ$6,\" \"))))","v":" "},{"$f":"IF(OR(FD$16=\" \",FD$16=0,FD21=0),\" \",SUMPRODUCT(FE21:FP21,FE22:FP22)/FD21)","v":" "},{"$f":"IF(AND(FE15>=$B$5,FE15<$B$6),IF(FE16=1,IF(FE17>=$C$5,VLOOKUP(FE18,Kurināmais!$A$4:$G$351,$NQ$8,FALSE)/9.3*Biomasa!$Q$6*$CQ$6,\" \"),IF(AND(FE16>1,FE16<=10),VLOOKUP(FE18,Kurināmais!$A$4:$G$351,$NQ$8,FALSE)/9.3*Biomasa!$Q$6*$CQ$6,IF(FE16=11,IF(FE17<$C$5,VLOOKUP(FE18,Kurināmais!$A$4:$G$351,$NQ$8,FALSE)/9.3*Biomasa!$Q$6*$CQ$6,VLOOKUP(FE18,Kurināmais!$A$4:$G$351,$NQ$8,FALSE)/9.3*$AD$6*$CQ$6),IF(FE16>11,VLOOKUP(FE18,Kurināmais!$A$4:$G$351,$NQ$8,FALSE)/9.3*$AD$6*$CQ$6)))),IF(AND(FE16=$NQ$4,$C$6=12),VLOOKUP(FE18,Kurināmais!$A$4:$G$351,$NQ$8,FALSE)/9.3*$AD$6*$CQ$6,IF(AND(FE16=$NQ$4+1,$C$6<12,FE17<=$C$6,$NQ$4=10),VLOOKUP(FE18,Kurināmais!$A$4:$G$351,$NQ$8,FALSE)/9.3*$Q$6*$CQ$6,IF(AND(FE16=$NQ$4+1,$C$6<12,FE17<=$C$6),VLOOKUP(FE18,Kurināmais!$A$4:$G$351,$NQ$8,FALSE)/9.3*$AD$6*$CQ$6,\" \"))))","v":" "},{"$f":"IF(AND(FF15>=$B$5,FF15<$B$6),IF(FF16=1,IF(FF17>=$C$5,VLOOKUP(FF18,Kurināmais!$A$4:$G$351,$NQ$8,FALSE)/9.3*Biomasa!$Q$6*$CQ$6,\" \"),IF(AND(FF16>1,FF16<=10),VLOOKUP(FF18,Kurināmais!$A$4:$G$351,$NQ$8,FALSE)/9.3*Biomasa!$Q$6*$CQ$6,IF(FF16=11,IF(FF17<$C$5,VLOOKUP(FF18,Kurināmais!$A$4:$G$351,$NQ$8,FALSE)/9.3*Biomasa!$Q$6*$CQ$6,VLOOKUP(FF18,Kurināmais!$A$4:$G$351,$NQ$8,FALSE)/9.3*$AD$6*$CQ$6),IF(FF16>11,VLOOKUP(FF18,Kurināmais!$A$4:$G$351,$NQ$8,FALSE)/9.3*$AD$6*$CQ$6)))),IF(AND(FF16=$NQ$4,$C$6=12),VLOOKUP(FF18,Kurināmais!$A$4:$G$351,$NQ$8,FALSE)/9.3*$AD$6*$CQ$6,IF(AND(FF16=$NQ$4+1,$C$6<12,FF17<=$C$6,$NQ$4=10),VLOOKUP(FF18,Kurināmais!$A$4:$G$351,$NQ$8,FALSE)/9.3*$Q$6*$CQ$6,IF(AND(FF16=$NQ$4+1,$C$6<12,FF17<=$C$6),VLOOKUP(FF18,Kurināmais!$A$4:$G$351,$NQ$8,FALSE)/9.3*$AD$6*$CQ$6,\" \"))))","v":" "},{"$f":"IF(AND(FG15>=$B$5,FG15<$B$6),IF(FG16=1,IF(FG17>=$C$5,VLOOKUP(FG18,Kurināmais!$A$4:$G$351,$NQ$8,FALSE)/9.3*Biomasa!$Q$6*$CQ$6,\" \"),IF(AND(FG16>1,FG16<=10),VLOOKUP(FG18,Kurināmais!$A$4:$G$351,$NQ$8,FALSE)/9.3*Biomasa!$Q$6*$CQ$6,IF(FG16=11,IF(FG17<$C$5,VLOOKUP(FG18,Kurināmais!$A$4:$G$351,$NQ$8,FALSE)/9.3*Biomasa!$Q$6*$CQ$6,VLOOKUP(FG18,Kurināmais!$A$4:$G$351,$NQ$8,FALSE)/9.3*$AD$6*$CQ$6),IF(FG16>11,VLOOKUP(FG18,Kurināmais!$A$4:$G$351,$NQ$8,FALSE)/9.3*$AD$6*$CQ$6)))),IF(AND(FG16=$NQ$4,$C$6=12),VLOOKUP(FG18,Kurināmais!$A$4:$G$351,$NQ$8,FALSE)/9.3*$AD$6*$CQ$6,IF(AND(FG16=$NQ$4+1,$C$6<12,FG17<=$C$6,$NQ$4=10),VLOOKUP(FG18,Kurināmais!$A$4:$G$351,$NQ$8,FALSE)/9.3*$Q$6*$CQ$6,IF(AND(FG16=$NQ$4+1,$C$6<12,FG17<=$C$6),VLOOKUP(FG18,Kurināmais!$A$4:$G$351,$NQ$8,FALSE)/9.3*$AD$6*$CQ$6,\" \"))))","v":" "},{"$f":"IF(AND(FH15>=$B$5,FH15<$B$6),IF(FH16=1,IF(FH17>=$C$5,VLOOKUP(FH18,Kurināmais!$A$4:$G$351,$NQ$8,FALSE)/9.3*Biomasa!$Q$6*$CQ$6,\" \"),IF(AND(FH16>1,FH16<=10),VLOOKUP(FH18,Kurināmais!$A$4:$G$351,$NQ$8,FALSE)/9.3*Biomasa!$Q$6*$CQ$6,IF(FH16=11,IF(FH17<$C$5,VLOOKUP(FH18,Kurināmais!$A$4:$G$351,$NQ$8,FALSE)/9.3*Biomasa!$Q$6*$CQ$6,VLOOKUP(FH18,Kurināmais!$A$4:$G$351,$NQ$8,FALSE)/9.3*$AD$6*$CQ$6),IF(FH16>11,VLOOKUP(FH18,Kurināmais!$A$4:$G$351,$NQ$8,FALSE)/9.3*$AD$6*$CQ$6)))),IF(AND(FH16=$NQ$4,$C$6=12),VLOOKUP(FH18,Kurināmais!$A$4:$G$351,$NQ$8,FALSE)/9.3*$AD$6*$CQ$6,IF(AND(FH16=$NQ$4+1,$C$6<12,FH17<=$C$6,$NQ$4=10),VLOOKUP(FH18,Kurināmais!$A$4:$G$351,$NQ$8,FALSE)/9.3*$Q$6*$CQ$6,IF(AND(FH16=$NQ$4+1,$C$6<12,FH17<=$C$6),VLOOKUP(FH18,Kurināmais!$A$4:$G$351,$NQ$8,FALSE)/9.3*$AD$6*$CQ$6,\" \"))))","v":" "},{"$f":"IF(AND(FI15>=$B$5,FI15<$B$6),IF(FI16=1,IF(FI17>=$C$5,VLOOKUP(FI18,Kurināmais!$A$4:$G$351,$NQ$8,FALSE)/9.3*Biomasa!$Q$6*$CQ$6,\" \"),IF(AND(FI16>1,FI16<=10),VLOOKUP(FI18,Kurināmais!$A$4:$G$351,$NQ$8,FALSE)/9.3*Biomasa!$Q$6*$CQ$6,IF(FI16=11,IF(FI17<$C$5,VLOOKUP(FI18,Kurināmais!$A$4:$G$351,$NQ$8,FALSE)/9.3*Biomasa!$Q$6*$CQ$6,VLOOKUP(FI18,Kurināmais!$A$4:$G$351,$NQ$8,FALSE)/9.3*$AD$6*$CQ$6),IF(FI16>11,VLOOKUP(FI18,Kurināmais!$A$4:$G$351,$NQ$8,FALSE)/9.3*$AD$6*$CQ$6)))),IF(AND(FI16=$NQ$4,$C$6=12),VLOOKUP(FI18,Kurināmais!$A$4:$G$351,$NQ$8,FALSE)/9.3*$AD$6*$CQ$6,IF(AND(FI16=$NQ$4+1,$C$6<12,FI17<=$C$6,$NQ$4=10),VLOOKUP(FI18,Kurināmais!$A$4:$G$351,$NQ$8,FALSE)/9.3*$Q$6*$CQ$6,IF(AND(FI16=$NQ$4+1,$C$6<12,FI17<=$C$6),VLOOKUP(FI18,Kurināmais!$A$4:$G$351,$NQ$8,FALSE)/9.3*$AD$6*$CQ$6,\" \"))))","v":" "},{"$f":"IF(AND(FJ15>=$B$5,FJ15<$B$6),IF(FJ16=1,IF(FJ17>=$C$5,VLOOKUP(FJ18,Kurināmais!$A$4:$G$351,$NQ$8,FALSE)/9.3*Biomasa!$Q$6*$CQ$6,\" \"),IF(AND(FJ16>1,FJ16<=10),VLOOKUP(FJ18,Kurināmais!$A$4:$G$351,$NQ$8,FALSE)/9.3*Biomasa!$Q$6*$CQ$6,IF(FJ16=11,IF(FJ17<$C$5,VLOOKUP(FJ18,Kurināmais!$A$4:$G$351,$NQ$8,FALSE)/9.3*Biomasa!$Q$6*$CQ$6,VLOOKUP(FJ18,Kurināmais!$A$4:$G$351,$NQ$8,FALSE)/9.3*$AD$6*$CQ$6),IF(FJ16>11,VLOOKUP(FJ18,Kurināmais!$A$4:$G$351,$NQ$8,FALSE)/9.3*$AD$6*$CQ$6)))),IF(AND(FJ16=$NQ$4,$C$6=12),VLOOKUP(FJ18,Kurināmais!$A$4:$G$351,$NQ$8,FALSE)/9.3*$AD$6*$CQ$6,IF(AND(FJ16=$NQ$4+1,$C$6<12,FJ17<=$C$6,$NQ$4=10),VLOOKUP(FJ18,Kurināmais!$A$4:$G$351,$NQ$8,FALSE)/9.3*$Q$6*$CQ$6,IF(AND(FJ16=$NQ$4+1,$C$6<12,FJ17<=$C$6),VLOOKUP(FJ18,Kurināmais!$A$4:$G$351,$NQ$8,FALSE)/9.3*$AD$6*$CQ$6,\" \"))))","v":" "},{"$f":"IF(AND(FK15>=$B$5,FK15<$B$6),IF(FK16=1,IF(FK17>=$C$5,VLOOKUP(FK18,Kurināmais!$A$4:$G$351,$NQ$8,FALSE)/9.3*Biomasa!$Q$6*$CQ$6,\" \"),IF(AND(FK16>1,FK16<=10),VLOOKUP(FK18,Kurināmais!$A$4:$G$351,$NQ$8,FALSE)/9.3*Biomasa!$Q$6*$CQ$6,IF(FK16=11,IF(FK17<$C$5,VLOOKUP(FK18,Kurināmais!$A$4:$G$351,$NQ$8,FALSE)/9.3*Biomasa!$Q$6*$CQ$6,VLOOKUP(FK18,Kurināmais!$A$4:$G$351,$NQ$8,FALSE)/9.3*$AD$6*$CQ$6),IF(FK16>11,VLOOKUP(FK18,Kurināmais!$A$4:$G$351,$NQ$8,FALSE)/9.3*$AD$6*$CQ$6)))),IF(AND(FK16=$NQ$4,$C$6=12),VLOOKUP(FK18,Kurināmais!$A$4:$G$351,$NQ$8,FALSE)/9.3*$AD$6*$CQ$6,IF(AND(FK16=$NQ$4+1,$C$6<12,FK17<=$C$6,$NQ$4=10),VLOOKUP(FK18,Kurināmais!$A$4:$G$351,$NQ$8,FALSE)/9.3*$Q$6*$CQ$6,IF(AND(FK16=$NQ$4+1,$C$6<12,FK17<=$C$6),VLOOKUP(FK18,Kurināmais!$A$4:$G$351,$NQ$8,FALSE)/9.3*$AD$6*$CQ$6,\" \"))))","v":" "},{"$f":"IF(AND(FL15>=$B$5,FL15<$B$6),IF(FL16=1,IF(FL17>=$C$5,VLOOKUP(FL18,Kurināmais!$A$4:$G$351,$NQ$8,FALSE)/9.3*Biomasa!$Q$6*$CQ$6,\" \"),IF(AND(FL16>1,FL16<=10),VLOOKUP(FL18,Kurināmais!$A$4:$G$351,$NQ$8,FALSE)/9.3*Biomasa!$Q$6*$CQ$6,IF(FL16=11,IF(FL17<$C$5,VLOOKUP(FL18,Kurināmais!$A$4:$G$351,$NQ$8,FALSE)/9.3*Biomasa!$Q$6*$CQ$6,VLOOKUP(FL18,Kurināmais!$A$4:$G$351,$NQ$8,FALSE)/9.3*$AD$6*$CQ$6),IF(FL16>11,VLOOKUP(FL18,Kurināmais!$A$4:$G$351,$NQ$8,FALSE)/9.3*$AD$6*$CQ$6)))),IF(AND(FL16=$NQ$4,$C$6=12),VLOOKUP(FL18,Kurināmais!$A$4:$G$351,$NQ$8,FALSE)/9.3*$AD$6*$CQ$6,IF(AND(FL16=$NQ$4+1,$C$6<12,FL17<=$C$6,$NQ$4=10),VLOOKUP(FL18,Kurināmais!$A$4:$G$351,$NQ$8,FALSE)/9.3*$Q$6*$CQ$6,IF(AND(FL16=$NQ$4+1,$C$6<12,FL17<=$C$6),VLOOKUP(FL18,Kurināmais!$A$4:$G$351,$NQ$8,FALSE)/9.3*$AD$6*$CQ$6,\" \"))))","v":" "},{"$f":"IF(AND(FM15>=$B$5,FM15<$B$6),IF(FM16=1,IF(FM17>=$C$5,VLOOKUP(FM18,Kurināmais!$A$4:$G$351,$NQ$8,FALSE)/9.3*Biomasa!$Q$6*$CQ$6,\" \"),IF(AND(FM16>1,FM16<=10),VLOOKUP(FM18,Kurināmais!$A$4:$G$351,$NQ$8,FALSE)/9.3*Biomasa!$Q$6*$CQ$6,IF(FM16=11,IF(FM17<$C$5,VLOOKUP(FM18,Kurināmais!$A$4:$G$351,$NQ$8,FALSE)/9.3*Biomasa!$Q$6*$CQ$6,VLOOKUP(FM18,Kurināmais!$A$4:$G$351,$NQ$8,FALSE)/9.3*$AD$6*$CQ$6),IF(FM16>11,VLOOKUP(FM18,Kurināmais!$A$4:$G$351,$NQ$8,FALSE)/9.3*$AD$6*$CQ$6)))),IF(AND(FM16=$NQ$4,$C$6=12),VLOOKUP(FM18,Kurināmais!$A$4:$G$351,$NQ$8,FALSE)/9.3*$AD$6*$CQ$6,IF(AND(FM16=$NQ$4+1,$C$6<12,FM17<=$C$6,$NQ$4=10),VLOOKUP(FM18,Kurināmais!$A$4:$G$351,$NQ$8,FALSE)/9.3*$Q$6*$CQ$6,IF(AND(FM16=$NQ$4+1,$C$6<12,FM17<=$C$6),VLOOKUP(FM18,Kurināmais!$A$4:$G$351,$NQ$8,FALSE)/9.3*$AD$6*$CQ$6,\" \"))))","v":" "},{"$f":"IF(AND(FN15>=$B$5,FN15<$B$6),IF(FN16=1,IF(FN17>=$C$5,VLOOKUP(FN18,Kurināmais!$A$4:$G$351,$NQ$8,FALSE)/9.3*Biomasa!$Q$6*$CQ$6,\" \"),IF(AND(FN16>1,FN16<=10),VLOOKUP(FN18,Kurināmais!$A$4:$G$351,$NQ$8,FALSE)/9.3*Biomasa!$Q$6*$CQ$6,IF(FN16=11,IF(FN17<$C$5,VLOOKUP(FN18,Kurināmais!$A$4:$G$351,$NQ$8,FALSE)/9.3*Biomasa!$Q$6*$CQ$6,VLOOKUP(FN18,Kurināmais!$A$4:$G$351,$NQ$8,FALSE)/9.3*$AD$6*$CQ$6),IF(FN16>11,VLOOKUP(FN18,Kurināmais!$A$4:$G$351,$NQ$8,FALSE)/9.3*$AD$6*$CQ$6)))),IF(AND(FN16=$NQ$4,$C$6=12),VLOOKUP(FN18,Kurināmais!$A$4:$G$351,$NQ$8,FALSE)/9.3*$AD$6*$CQ$6,IF(AND(FN16=$NQ$4+1,$C$6<12,FN17<=$C$6,$NQ$4=10),VLOOKUP(FN18,Kurināmais!$A$4:$G$351,$NQ$8,FALSE)/9.3*$Q$6*$CQ$6,IF(AND(FN16=$NQ$4+1,$C$6<12,FN17<=$C$6),VLOOKUP(FN18,Kurināmais!$A$4:$G$351,$NQ$8,FALSE)/9.3*$AD$6*$CQ$6,\" \"))))","v":" "},{"$f":"IF(AND(FO15>=$B$5,FO15<$B$6),IF(FO16=1,IF(FO17>=$C$5,VLOOKUP(FO18,Kurināmais!$A$4:$G$351,$NQ$8,FALSE)/9.3*Biomasa!$Q$6*$CQ$6,\" \"),IF(AND(FO16>1,FO16<=10),VLOOKUP(FO18,Kurināmais!$A$4:$G$351,$NQ$8,FALSE)/9.3*Biomasa!$Q$6*$CQ$6,IF(FO16=11,IF(FO17<$C$5,VLOOKUP(FO18,Kurināmais!$A$4:$G$351,$NQ$8,FALSE)/9.3*Biomasa!$Q$6*$CQ$6,VLOOKUP(FO18,Kurināmais!$A$4:$G$351,$NQ$8,FALSE)/9.3*$AD$6*$CQ$6),IF(FO16>11,VLOOKUP(FO18,Kurināmais!$A$4:$G$351,$NQ$8,FALSE)/9.3*$AD$6*$CQ$6)))),IF(AND(FO16=$NQ$4,$C$6=12),VLOOKUP(FO18,Kurināmais!$A$4:$G$351,$NQ$8,FALSE)/9.3*$AD$6*$CQ$6,IF(AND(FO16=$NQ$4+1,$C$6<12,FO17<=$C$6,$NQ$4=10),VLOOKUP(FO18,Kurināmais!$A$4:$G$351,$NQ$8,FALSE)/9.3*$Q$6*$CQ$6,IF(AND(FO16=$NQ$4+1,$C$6<12,FO17<=$C$6),VLOOKUP(FO18,Kurināmais!$A$4:$G$351,$NQ$8,FALSE)/9.3*$AD$6*$CQ$6,\" \"))))","v":" "},{"$f":"IF(AND(FP15>=$B$5,FP15<$B$6),IF(FP16=1,IF(FP17>=$C$5,VLOOKUP(FP18,Kurināmais!$A$4:$G$351,$NQ$8,FALSE)/9.3*Biomasa!$Q$6*$CQ$6,\" \"),IF(AND(FP16>1,FP16<=10),VLOOKUP(FP18,Kurināmais!$A$4:$G$351,$NQ$8,FALSE)/9.3*Biomasa!$Q$6*$CQ$6,IF(FP16=11,IF(FP17<$C$5,VLOOKUP(FP18,Kurināmais!$A$4:$G$351,$NQ$8,FALSE)/9.3*Biomasa!$Q$6*$CQ$6,VLOOKUP(FP18,Kurināmais!$A$4:$G$351,$NQ$8,FALSE)/9.3*$AD$6*$CQ$6),IF(FP16>11,VLOOKUP(FP18,Kurināmais!$A$4:$G$351,$NQ$8,FALSE)/9.3*$AD$6*$CQ$6)))),IF(AND(FP16=$NQ$4,$C$6=12),VLOOKUP(FP18,Kurināmais!$A$4:$G$351,$NQ$8,FALSE)/9.3*$AD$6*$CQ$6,IF(AND(FP16=$NQ$4+1,$C$6<12,FP17<=$C$6,$NQ$4=10),VLOOKUP(FP18,Kurināmais!$A$4:$G$351,$NQ$8,FALSE)/9.3*$Q$6*$CQ$6,IF(AND(FP16=$NQ$4+1,$C$6<12,FP17<=$C$6),VLOOKUP(FP18,Kurināmais!$A$4:$G$351,$NQ$8,FALSE)/9.3*$AD$6*$CQ$6,\" \"))))","v":" "},{"$f":"IF(OR(FQ$16=\" \",FQ$16=0,FQ21=0),\" \",SUMPRODUCT(FR21:GC21,FR22:GC22)/FQ21)","v":" "},{"$f":"IF(AND(FR15>=$B$5,FR15<$B$6),IF(FR16=1,IF(FR17>=$C$5,VLOOKUP(FR18,Kurināmais!$A$4:$G$351,$NQ$8,FALSE)/9.3*Biomasa!$Q$6*$CQ$6,\" \"),IF(AND(FR16>1,FR16<=10),VLOOKUP(FR18,Kurināmais!$A$4:$G$351,$NQ$8,FALSE)/9.3*Biomasa!$Q$6*$CQ$6,IF(FR16=11,IF(FR17<$C$5,VLOOKUP(FR18,Kurināmais!$A$4:$G$351,$NQ$8,FALSE)/9.3*Biomasa!$Q$6*$CQ$6,VLOOKUP(FR18,Kurināmais!$A$4:$G$351,$NQ$8,FALSE)/9.3*$AD$6*$CQ$6),IF(FR16>11,VLOOKUP(FR18,Kurināmais!$A$4:$G$351,$NQ$8,FALSE)/9.3*$AD$6*$CQ$6)))),IF(AND(FR16=$NQ$4,$C$6=12),VLOOKUP(FR18,Kurināmais!$A$4:$G$351,$NQ$8,FALSE)/9.3*$AD$6*$CQ$6,IF(AND(FR16=$NQ$4+1,$C$6<12,FR17<=$C$6,$NQ$4=10),VLOOKUP(FR18,Kurināmais!$A$4:$G$351,$NQ$8,FALSE)/9.3*$Q$6*$CQ$6,IF(AND(FR16=$NQ$4+1,$C$6<12,FR17<=$C$6),VLOOKUP(FR18,Kurināmais!$A$4:$G$351,$NQ$8,FALSE)/9.3*$AD$6*$CQ$6,\" \"))))","v":" "},{"$f":"IF(AND(FS15>=$B$5,FS15<$B$6),IF(FS16=1,IF(FS17>=$C$5,VLOOKUP(FS18,Kurināmais!$A$4:$G$351,$NQ$8,FALSE)/9.3*Biomasa!$Q$6*$CQ$6,\" \"),IF(AND(FS16>1,FS16<=10),VLOOKUP(FS18,Kurināmais!$A$4:$G$351,$NQ$8,FALSE)/9.3*Biomasa!$Q$6*$CQ$6,IF(FS16=11,IF(FS17<$C$5,VLOOKUP(FS18,Kurināmais!$A$4:$G$351,$NQ$8,FALSE)/9.3*Biomasa!$Q$6*$CQ$6,VLOOKUP(FS18,Kurināmais!$A$4:$G$351,$NQ$8,FALSE)/9.3*$AD$6*$CQ$6),IF(FS16>11,VLOOKUP(FS18,Kurināmais!$A$4:$G$351,$NQ$8,FALSE)/9.3*$AD$6*$CQ$6)))),IF(AND(FS16=$NQ$4,$C$6=12),VLOOKUP(FS18,Kurināmais!$A$4:$G$351,$NQ$8,FALSE)/9.3*$AD$6*$CQ$6,IF(AND(FS16=$NQ$4+1,$C$6<12,FS17<=$C$6,$NQ$4=10),VLOOKUP(FS18,Kurināmais!$A$4:$G$351,$NQ$8,FALSE)/9.3*$Q$6*$CQ$6,IF(AND(FS16=$NQ$4+1,$C$6<12,FS17<=$C$6),VLOOKUP(FS18,Kurināmais!$A$4:$G$351,$NQ$8,FALSE)/9.3*$AD$6*$CQ$6,\" \"))))","v":" "},{"$f":"IF(AND(FT15>=$B$5,FT15<$B$6),IF(FT16=1,IF(FT17>=$C$5,VLOOKUP(FT18,Kurināmais!$A$4:$G$351,$NQ$8,FALSE)/9.3*Biomasa!$Q$6*$CQ$6,\" \"),IF(AND(FT16>1,FT16<=10),VLOOKUP(FT18,Kurināmais!$A$4:$G$351,$NQ$8,FALSE)/9.3*Biomasa!$Q$6*$CQ$6,IF(FT16=11,IF(FT17<$C$5,VLOOKUP(FT18,Kurināmais!$A$4:$G$351,$NQ$8,FALSE)/9.3*Biomasa!$Q$6*$CQ$6,VLOOKUP(FT18,Kurināmais!$A$4:$G$351,$NQ$8,FALSE)/9.3*$AD$6*$CQ$6),IF(FT16>11,VLOOKUP(FT18,Kurināmais!$A$4:$G$351,$NQ$8,FALSE)/9.3*$AD$6*$CQ$6)))),IF(AND(FT16=$NQ$4,$C$6=12),VLOOKUP(FT18,Kurināmais!$A$4:$G$351,$NQ$8,FALSE)/9.3*$AD$6*$CQ$6,IF(AND(FT16=$NQ$4+1,$C$6<12,FT17<=$C$6,$NQ$4=10),VLOOKUP(FT18,Kurināmais!$A$4:$G$351,$NQ$8,FALSE)/9.3*$Q$6*$CQ$6,IF(AND(FT16=$NQ$4+1,$C$6<12,FT17<=$C$6),VLOOKUP(FT18,Kurināmais!$A$4:$G$351,$NQ$8,FALSE)/9.3*$AD$6*$CQ$6,\" \"))))","v":" "},{"$f":"IF(AND(FU15>=$B$5,FU15<$B$6),IF(FU16=1,IF(FU17>=$C$5,VLOOKUP(FU18,Kurināmais!$A$4:$G$351,$NQ$8,FALSE)/9.3*Biomasa!$Q$6*$CQ$6,\" \"),IF(AND(FU16>1,FU16<=10),VLOOKUP(FU18,Kurināmais!$A$4:$G$351,$NQ$8,FALSE)/9.3*Biomasa!$Q$6*$CQ$6,IF(FU16=11,IF(FU17<$C$5,VLOOKUP(FU18,Kurināmais!$A$4:$G$351,$NQ$8,FALSE)/9.3*Biomasa!$Q$6*$CQ$6,VLOOKUP(FU18,Kurināmais!$A$4:$G$351,$NQ$8,FALSE)/9.3*$AD$6*$CQ$6),IF(FU16>11,VLOOKUP(FU18,Kurināmais!$A$4:$G$351,$NQ$8,FALSE)/9.3*$AD$6*$CQ$6)))),IF(AND(FU16=$NQ$4,$C$6=12),VLOOKUP(FU18,Kurināmais!$A$4:$G$351,$NQ$8,FALSE)/9.3*$AD$6*$CQ$6,IF(AND(FU16=$NQ$4+1,$C$6<12,FU17<=$C$6,$NQ$4=10),VLOOKUP(FU18,Kurināmais!$A$4:$G$351,$NQ$8,FALSE)/9.3*$Q$6*$CQ$6,IF(AND(FU16=$NQ$4+1,$C$6<12,FU17<=$C$6),VLOOKUP(FU18,Kurināmais!$A$4:$G$351,$NQ$8,FALSE)/9.3*$AD$6*$CQ$6,\" \"))))","v":" "},{"$f":"IF(AND(FV15>=$B$5,FV15<$B$6),IF(FV16=1,IF(FV17>=$C$5,VLOOKUP(FV18,Kurināmais!$A$4:$G$351,$NQ$8,FALSE)/9.3*Biomasa!$Q$6*$CQ$6,\" \"),IF(AND(FV16>1,FV16<=10),VLOOKUP(FV18,Kurināmais!$A$4:$G$351,$NQ$8,FALSE)/9.3*Biomasa!$Q$6*$CQ$6,IF(FV16=11,IF(FV17<$C$5,VLOOKUP(FV18,Kurināmais!$A$4:$G$351,$NQ$8,FALSE)/9.3*Biomasa!$Q$6*$CQ$6,VLOOKUP(FV18,Kurināmais!$A$4:$G$351,$NQ$8,FALSE)/9.3*$AD$6*$CQ$6),IF(FV16>11,VLOOKUP(FV18,Kurināmais!$A$4:$G$351,$NQ$8,FALSE)/9.3*$AD$6*$CQ$6)))),IF(AND(FV16=$NQ$4,$C$6=12),VLOOKUP(FV18,Kurināmais!$A$4:$G$351,$NQ$8,FALSE)/9.3*$AD$6*$CQ$6,IF(AND(FV16=$NQ$4+1,$C$6<12,FV17<=$C$6,$NQ$4=10),VLOOKUP(FV18,Kurināmais!$A$4:$G$351,$NQ$8,FALSE)/9.3*$Q$6*$CQ$6,IF(AND(FV16=$NQ$4+1,$C$6<12,FV17<=$C$6),VLOOKUP(FV18,Kurināmais!$A$4:$G$351,$NQ$8,FALSE)/9.3*$AD$6*$CQ$6,\" \"))))","v":" "},{"$f":"IF(AND(FW15>=$B$5,FW15<$B$6),IF(FW16=1,IF(FW17>=$C$5,VLOOKUP(FW18,Kurināmais!$A$4:$G$351,$NQ$8,FALSE)/9.3*Biomasa!$Q$6*$CQ$6,\" \"),IF(AND(FW16>1,FW16<=10),VLOOKUP(FW18,Kurināmais!$A$4:$G$351,$NQ$8,FALSE)/9.3*Biomasa!$Q$6*$CQ$6,IF(FW16=11,IF(FW17<$C$5,VLOOKUP(FW18,Kurināmais!$A$4:$G$351,$NQ$8,FALSE)/9.3*Biomasa!$Q$6*$CQ$6,VLOOKUP(FW18,Kurināmais!$A$4:$G$351,$NQ$8,FALSE)/9.3*$AD$6*$CQ$6),IF(FW16>11,VLOOKUP(FW18,Kurināmais!$A$4:$G$351,$NQ$8,FALSE)/9.3*$AD$6*$CQ$6)))),IF(AND(FW16=$NQ$4,$C$6=12),VLOOKUP(FW18,Kurināmais!$A$4:$G$351,$NQ$8,FALSE)/9.3*$AD$6*$CQ$6,IF(AND(FW16=$NQ$4+1,$C$6<12,FW17<=$C$6,$NQ$4=10),VLOOKUP(FW18,Kurināmais!$A$4:$G$351,$NQ$8,FALSE)/9.3*$Q$6*$CQ$6,IF(AND(FW16=$NQ$4+1,$C$6<12,FW17<=$C$6),VLOOKUP(FW18,Kurināmais!$A$4:$G$351,$NQ$8,FALSE)/9.3*$AD$6*$CQ$6,\" \"))))","v":" "},{"$f":"IF(AND(FX15>=$B$5,FX15<$B$6),IF(FX16=1,IF(FX17>=$C$5,VLOOKUP(FX18,Kurināmais!$A$4:$G$351,$NQ$8,FALSE)/9.3*Biomasa!$Q$6*$CQ$6,\" \"),IF(AND(FX16>1,FX16<=10),VLOOKUP(FX18,Kurināmais!$A$4:$G$351,$NQ$8,FALSE)/9.3*Biomasa!$Q$6*$CQ$6,IF(FX16=11,IF(FX17<$C$5,VLOOKUP(FX18,Kurināmais!$A$4:$G$351,$NQ$8,FALSE)/9.3*Biomasa!$Q$6*$CQ$6,VLOOKUP(FX18,Kurināmais!$A$4:$G$351,$NQ$8,FALSE)/9.3*$AD$6*$CQ$6),IF(FX16>11,VLOOKUP(FX18,Kurināmais!$A$4:$G$351,$NQ$8,FALSE)/9.3*$AD$6*$CQ$6)))),IF(AND(FX16=$NQ$4,$C$6=12),VLOOKUP(FX18,Kurināmais!$A$4:$G$351,$NQ$8,FALSE)/9.3*$AD$6*$CQ$6,IF(AND(FX16=$NQ$4+1,$C$6<12,FX17<=$C$6,$NQ$4=10),VLOOKUP(FX18,Kurināmais!$A$4:$G$351,$NQ$8,FALSE)/9.3*$Q$6*$CQ$6,IF(AND(FX16=$NQ$4+1,$C$6<12,FX17<=$C$6),VLOOKUP(FX18,Kurināmais!$A$4:$G$351,$NQ$8,FALSE)/9.3*$AD$6*$CQ$6,\" \"))))","v":" "},{"$f":"IF(AND(FY15>=$B$5,FY15<$B$6),IF(FY16=1,IF(FY17>=$C$5,VLOOKUP(FY18,Kurināmais!$A$4:$G$351,$NQ$8,FALSE)/9.3*Biomasa!$Q$6*$CQ$6,\" \"),IF(AND(FY16>1,FY16<=10),VLOOKUP(FY18,Kurināmais!$A$4:$G$351,$NQ$8,FALSE)/9.3*Biomasa!$Q$6*$CQ$6,IF(FY16=11,IF(FY17<$C$5,VLOOKUP(FY18,Kurināmais!$A$4:$G$351,$NQ$8,FALSE)/9.3*Biomasa!$Q$6*$CQ$6,VLOOKUP(FY18,Kurināmais!$A$4:$G$351,$NQ$8,FALSE)/9.3*$AD$6*$CQ$6),IF(FY16>11,VLOOKUP(FY18,Kurināmais!$A$4:$G$351,$NQ$8,FALSE)/9.3*$AD$6*$CQ$6)))),IF(AND(FY16=$NQ$4,$C$6=12),VLOOKUP(FY18,Kurināmais!$A$4:$G$351,$NQ$8,FALSE)/9.3*$AD$6*$CQ$6,IF(AND(FY16=$NQ$4+1,$C$6<12,FY17<=$C$6,$NQ$4=10),VLOOKUP(FY18,Kurināmais!$A$4:$G$351,$NQ$8,FALSE)/9.3*$Q$6*$CQ$6,IF(AND(FY16=$NQ$4+1,$C$6<12,FY17<=$C$6),VLOOKUP(FY18,Kurināmais!$A$4:$G$351,$NQ$8,FALSE)/9.3*$AD$6*$CQ$6,\" \"))))","v":" "},{"$f":"IF(AND(FZ15>=$B$5,FZ15<$B$6),IF(FZ16=1,IF(FZ17>=$C$5,VLOOKUP(FZ18,Kurināmais!$A$4:$G$351,$NQ$8,FALSE)/9.3*Biomasa!$Q$6*$CQ$6,\" \"),IF(AND(FZ16>1,FZ16<=10),VLOOKUP(FZ18,Kurināmais!$A$4:$G$351,$NQ$8,FALSE)/9.3*Biomasa!$Q$6*$CQ$6,IF(FZ16=11,IF(FZ17<$C$5,VLOOKUP(FZ18,Kurināmais!$A$4:$G$351,$NQ$8,FALSE)/9.3*Biomasa!$Q$6*$CQ$6,VLOOKUP(FZ18,Kurināmais!$A$4:$G$351,$NQ$8,FALSE)/9.3*$AD$6*$CQ$6),IF(FZ16>11,VLOOKUP(FZ18,Kurināmais!$A$4:$G$351,$NQ$8,FALSE)/9.3*$AD$6*$CQ$6)))),IF(AND(FZ16=$NQ$4,$C$6=12),VLOOKUP(FZ18,Kurināmais!$A$4:$G$351,$NQ$8,FALSE)/9.3*$AD$6*$CQ$6,IF(AND(FZ16=$NQ$4+1,$C$6<12,FZ17<=$C$6,$NQ$4=10),VLOOKUP(FZ18,Kurināmais!$A$4:$G$351,$NQ$8,FALSE)/9.3*$Q$6*$CQ$6,IF(AND(FZ16=$NQ$4+1,$C$6<12,FZ17<=$C$6),VLOOKUP(FZ18,Kurināmais!$A$4:$G$351,$NQ$8,FALSE)/9.3*$AD$6*$CQ$6,\" \"))))","v":" "},{"$f":"IF(AND(GA15>=$B$5,GA15<$B$6),IF(GA16=1,IF(GA17>=$C$5,VLOOKUP(GA18,Kurināmais!$A$4:$G$351,$NQ$8,FALSE)/9.3*Biomasa!$Q$6*$CQ$6,\" \"),IF(AND(GA16>1,GA16<=10),VLOOKUP(GA18,Kurināmais!$A$4:$G$351,$NQ$8,FALSE)/9.3*Biomasa!$Q$6*$CQ$6,IF(GA16=11,IF(GA17<$C$5,VLOOKUP(GA18,Kurināmais!$A$4:$G$351,$NQ$8,FALSE)/9.3*Biomasa!$Q$6*$CQ$6,VLOOKUP(GA18,Kurināmais!$A$4:$G$351,$NQ$8,FALSE)/9.3*$AD$6*$CQ$6),IF(GA16>11,VLOOKUP(GA18,Kurināmais!$A$4:$G$351,$NQ$8,FALSE)/9.3*$AD$6*$CQ$6)))),IF(AND(GA16=$NQ$4,$C$6=12),VLOOKUP(GA18,Kurināmais!$A$4:$G$351,$NQ$8,FALSE)/9.3*$AD$6*$CQ$6,IF(AND(GA16=$NQ$4+1,$C$6<12,GA17<=$C$6,$NQ$4=10),VLOOKUP(GA18,Kurināmais!$A$4:$G$351,$NQ$8,FALSE)/9.3*$Q$6*$CQ$6,IF(AND(GA16=$NQ$4+1,$C$6<12,GA17<=$C$6),VLOOKUP(GA18,Kurināmais!$A$4:$G$351,$NQ$8,FALSE)/9.3*$AD$6*$CQ$6,\" \"))))","v":" "},{"$f":"IF(AND(GB15>=$B$5,GB15<$B$6),IF(GB16=1,IF(GB17>=$C$5,VLOOKUP(GB18,Kurināmais!$A$4:$G$351,$NQ$8,FALSE)/9.3*Biomasa!$Q$6*$CQ$6,\" \"),IF(AND(GB16>1,GB16<=10),VLOOKUP(GB18,Kurināmais!$A$4:$G$351,$NQ$8,FALSE)/9.3*Biomasa!$Q$6*$CQ$6,IF(GB16=11,IF(GB17<$C$5,VLOOKUP(GB18,Kurināmais!$A$4:$G$351,$NQ$8,FALSE)/9.3*Biomasa!$Q$6*$CQ$6,VLOOKUP(GB18,Kurināmais!$A$4:$G$351,$NQ$8,FALSE)/9.3*$AD$6*$CQ$6),IF(GB16>11,VLOOKUP(GB18,Kurināmais!$A$4:$G$351,$NQ$8,FALSE)/9.3*$AD$6*$CQ$6)))),IF(AND(GB16=$NQ$4,$C$6=12),VLOOKUP(GB18,Kurināmais!$A$4:$G$351,$NQ$8,FALSE)/9.3*$AD$6*$CQ$6,IF(AND(GB16=$NQ$4+1,$C$6<12,GB17<=$C$6,$NQ$4=10),VLOOKUP(GB18,Kurināmais!$A$4:$G$351,$NQ$8,FALSE)/9.3*$Q$6*$CQ$6,IF(AND(GB16=$NQ$4+1,$C$6<12,GB17<=$C$6),VLOOKUP(GB18,Kurināmais!$A$4:$G$351,$NQ$8,FALSE)/9.3*$AD$6*$CQ$6,\" \"))))","v":" "},{"$f":"IF(AND(GC15>=$B$5,GC15<$B$6),IF(GC16=1,IF(GC17>=$C$5,VLOOKUP(GC18,Kurināmais!$A$4:$G$351,$NQ$8,FALSE)/9.3*Biomasa!$Q$6*$CQ$6,\" \"),IF(AND(GC16>1,GC16<=10),VLOOKUP(GC18,Kurināmais!$A$4:$G$351,$NQ$8,FALSE)/9.3*Biomasa!$Q$6*$CQ$6,IF(GC16=11,IF(GC17<$C$5,VLOOKUP(GC18,Kurināmais!$A$4:$G$351,$NQ$8,FALSE)/9.3*Biomasa!$Q$6*$CQ$6,VLOOKUP(GC18,Kurināmais!$A$4:$G$351,$NQ$8,FALSE)/9.3*$AD$6*$CQ$6),IF(GC16>11,VLOOKUP(GC18,Kurināmais!$A$4:$G$351,$NQ$8,FALSE)/9.3*$AD$6*$CQ$6)))),IF(AND(GC16=$NQ$4,$C$6=12),VLOOKUP(GC18,Kurināmais!$A$4:$G$351,$NQ$8,FALSE)/9.3*$AD$6*$CQ$6,IF(AND(GC16=$NQ$4+1,$C$6<12,GC17<=$C$6,$NQ$4=10),VLOOKUP(GC18,Kurināmais!$A$4:$G$351,$NQ$8,FALSE)/9.3*$Q$6*$CQ$6,IF(AND(GC16=$NQ$4+1,$C$6<12,GC17<=$C$6),VLOOKUP(GC18,Kurināmais!$A$4:$G$351,$NQ$8,FALSE)/9.3*$AD$6*$CQ$6,\" \"))))","v":" "},{"$f":"IF(OR(GD$16=\" \",GD$16=0,GD21=0),\" \",SUMPRODUCT(GE21:GP21,GE22:GP22)/GD21)","v":" "},{"$f":"IF(AND(GE15>=$B$5,GE15<$B$6),IF(GE16=1,IF(GE17>=$C$5,VLOOKUP(GE18,Kurināmais!$A$4:$G$351,$NQ$8,FALSE)/9.3*Biomasa!$Q$6*$CQ$6,\" \"),IF(AND(GE16>1,GE16<=10),VLOOKUP(GE18,Kurināmais!$A$4:$G$351,$NQ$8,FALSE)/9.3*Biomasa!$Q$6*$CQ$6,IF(GE16=11,IF(GE17<$C$5,VLOOKUP(GE18,Kurināmais!$A$4:$G$351,$NQ$8,FALSE)/9.3*Biomasa!$Q$6*$CQ$6,VLOOKUP(GE18,Kurināmais!$A$4:$G$351,$NQ$8,FALSE)/9.3*$AD$6*$CQ$6),IF(GE16>11,VLOOKUP(GE18,Kurināmais!$A$4:$G$351,$NQ$8,FALSE)/9.3*$AD$6*$CQ$6)))),IF(AND(GE16=$NQ$4,$C$6=12),VLOOKUP(GE18,Kurināmais!$A$4:$G$351,$NQ$8,FALSE)/9.3*$AD$6*$CQ$6,IF(AND(GE16=$NQ$4+1,$C$6<12,GE17<=$C$6,$NQ$4=10),VLOOKUP(GE18,Kurināmais!$A$4:$G$351,$NQ$8,FALSE)/9.3*$Q$6*$CQ$6,IF(AND(GE16=$NQ$4+1,$C$6<12,GE17<=$C$6),VLOOKUP(GE18,Kurināmais!$A$4:$G$351,$NQ$8,FALSE)/9.3*$AD$6*$CQ$6,\" \"))))","v":" "},{"$f":"IF(AND(GF15>=$B$5,GF15<$B$6),IF(GF16=1,IF(GF17>=$C$5,VLOOKUP(GF18,Kurināmais!$A$4:$G$351,$NQ$8,FALSE)/9.3*Biomasa!$Q$6*$CQ$6,\" \"),IF(AND(GF16>1,GF16<=10),VLOOKUP(GF18,Kurināmais!$A$4:$G$351,$NQ$8,FALSE)/9.3*Biomasa!$Q$6*$CQ$6,IF(GF16=11,IF(GF17<$C$5,VLOOKUP(GF18,Kurināmais!$A$4:$G$351,$NQ$8,FALSE)/9.3*Biomasa!$Q$6*$CQ$6,VLOOKUP(GF18,Kurināmais!$A$4:$G$351,$NQ$8,FALSE)/9.3*$AD$6*$CQ$6),IF(GF16>11,VLOOKUP(GF18,Kurināmais!$A$4:$G$351,$NQ$8,FALSE)/9.3*$AD$6*$CQ$6)))),IF(AND(GF16=$NQ$4,$C$6=12),VLOOKUP(GF18,Kurināmais!$A$4:$G$351,$NQ$8,FALSE)/9.3*$AD$6*$CQ$6,IF(AND(GF16=$NQ$4+1,$C$6<12,GF17<=$C$6,$NQ$4=10),VLOOKUP(GF18,Kurināmais!$A$4:$G$351,$NQ$8,FALSE)/9.3*$Q$6*$CQ$6,IF(AND(GF16=$NQ$4+1,$C$6<12,GF17<=$C$6),VLOOKUP(GF18,Kurināmais!$A$4:$G$351,$NQ$8,FALSE)/9.3*$AD$6*$CQ$6,\" \"))))","v":" "},{"$f":"IF(AND(GG15>=$B$5,GG15<$B$6),IF(GG16=1,IF(GG17>=$C$5,VLOOKUP(GG18,Kurināmais!$A$4:$G$351,$NQ$8,FALSE)/9.3*Biomasa!$Q$6*$CQ$6,\" \"),IF(AND(GG16>1,GG16<=10),VLOOKUP(GG18,Kurināmais!$A$4:$G$351,$NQ$8,FALSE)/9.3*Biomasa!$Q$6*$CQ$6,IF(GG16=11,IF(GG17<$C$5,VLOOKUP(GG18,Kurināmais!$A$4:$G$351,$NQ$8,FALSE)/9.3*Biomasa!$Q$6*$CQ$6,VLOOKUP(GG18,Kurināmais!$A$4:$G$351,$NQ$8,FALSE)/9.3*$AD$6*$CQ$6),IF(GG16>11,VLOOKUP(GG18,Kurināmais!$A$4:$G$351,$NQ$8,FALSE)/9.3*$AD$6*$CQ$6)))),IF(AND(GG16=$NQ$4,$C$6=12),VLOOKUP(GG18,Kurināmais!$A$4:$G$351,$NQ$8,FALSE)/9.3*$AD$6*$CQ$6,IF(AND(GG16=$NQ$4+1,$C$6<12,GG17<=$C$6,$NQ$4=10),VLOOKUP(GG18,Kurināmais!$A$4:$G$351,$NQ$8,FALSE)/9.3*$Q$6*$CQ$6,IF(AND(GG16=$NQ$4+1,$C$6<12,GG17<=$C$6),VLOOKUP(GG18,Kurināmais!$A$4:$G$351,$NQ$8,FALSE)/9.3*$AD$6*$CQ$6,\" \"))))","v":" "},{"$f":"IF(AND(GH15>=$B$5,GH15<$B$6),IF(GH16=1,IF(GH17>=$C$5,VLOOKUP(GH18,Kurināmais!$A$4:$G$351,$NQ$8,FALSE)/9.3*Biomasa!$Q$6*$CQ$6,\" \"),IF(AND(GH16>1,GH16<=10),VLOOKUP(GH18,Kurināmais!$A$4:$G$351,$NQ$8,FALSE)/9.3*Biomasa!$Q$6*$CQ$6,IF(GH16=11,IF(GH17<$C$5,VLOOKUP(GH18,Kurināmais!$A$4:$G$351,$NQ$8,FALSE)/9.3*Biomasa!$Q$6*$CQ$6,VLOOKUP(GH18,Kurināmais!$A$4:$G$351,$NQ$8,FALSE)/9.3*$AD$6*$CQ$6),IF(GH16>11,VLOOKUP(GH18,Kurināmais!$A$4:$G$351,$NQ$8,FALSE)/9.3*$AD$6*$CQ$6)))),IF(AND(GH16=$NQ$4,$C$6=12),VLOOKUP(GH18,Kurināmais!$A$4:$G$351,$NQ$8,FALSE)/9.3*$AD$6*$CQ$6,IF(AND(GH16=$NQ$4+1,$C$6<12,GH17<=$C$6,$NQ$4=10),VLOOKUP(GH18,Kurināmais!$A$4:$G$351,$NQ$8,FALSE)/9.3*$Q$6*$CQ$6,IF(AND(GH16=$NQ$4+1,$C$6<12,GH17<=$C$6),VLOOKUP(GH18,Kurināmais!$A$4:$G$351,$NQ$8,FALSE)/9.3*$AD$6*$CQ$6,\" \"))))","v":" "},{"$f":"IF(AND(GI15>=$B$5,GI15<$B$6),IF(GI16=1,IF(GI17>=$C$5,VLOOKUP(GI18,Kurināmais!$A$4:$G$351,$NQ$8,FALSE)/9.3*Biomasa!$Q$6*$CQ$6,\" \"),IF(AND(GI16>1,GI16<=10),VLOOKUP(GI18,Kurināmais!$A$4:$G$351,$NQ$8,FALSE)/9.3*Biomasa!$Q$6*$CQ$6,IF(GI16=11,IF(GI17<$C$5,VLOOKUP(GI18,Kurināmais!$A$4:$G$351,$NQ$8,FALSE)/9.3*Biomasa!$Q$6*$CQ$6,VLOOKUP(GI18,Kurināmais!$A$4:$G$351,$NQ$8,FALSE)/9.3*$AD$6*$CQ$6),IF(GI16>11,VLOOKUP(GI18,Kurināmais!$A$4:$G$351,$NQ$8,FALSE)/9.3*$AD$6*$CQ$6)))),IF(AND(GI16=$NQ$4,$C$6=12),VLOOKUP(GI18,Kurināmais!$A$4:$G$351,$NQ$8,FALSE)/9.3*$AD$6*$CQ$6,IF(AND(GI16=$NQ$4+1,$C$6<12,GI17<=$C$6,$NQ$4=10),VLOOKUP(GI18,Kurināmais!$A$4:$G$351,$NQ$8,FALSE)/9.3*$Q$6*$CQ$6,IF(AND(GI16=$NQ$4+1,$C$6<12,GI17<=$C$6),VLOOKUP(GI18,Kurināmais!$A$4:$G$351,$NQ$8,FALSE)/9.3*$AD$6*$CQ$6,\" \"))))","v":" "},{"$f":"IF(AND(GJ15>=$B$5,GJ15<$B$6),IF(GJ16=1,IF(GJ17>=$C$5,VLOOKUP(GJ18,Kurināmais!$A$4:$G$351,$NQ$8,FALSE)/9.3*Biomasa!$Q$6*$CQ$6,\" \"),IF(AND(GJ16>1,GJ16<=10),VLOOKUP(GJ18,Kurināmais!$A$4:$G$351,$NQ$8,FALSE)/9.3*Biomasa!$Q$6*$CQ$6,IF(GJ16=11,IF(GJ17<$C$5,VLOOKUP(GJ18,Kurināmais!$A$4:$G$351,$NQ$8,FALSE)/9.3*Biomasa!$Q$6*$CQ$6,VLOOKUP(GJ18,Kurināmais!$A$4:$G$351,$NQ$8,FALSE)/9.3*$AD$6*$CQ$6),IF(GJ16>11,VLOOKUP(GJ18,Kurināmais!$A$4:$G$351,$NQ$8,FALSE)/9.3*$AD$6*$CQ$6)))),IF(AND(GJ16=$NQ$4,$C$6=12),VLOOKUP(GJ18,Kurināmais!$A$4:$G$351,$NQ$8,FALSE)/9.3*$AD$6*$CQ$6,IF(AND(GJ16=$NQ$4+1,$C$6<12,GJ17<=$C$6,$NQ$4=10),VLOOKUP(GJ18,Kurināmais!$A$4:$G$351,$NQ$8,FALSE)/9.3*$Q$6*$CQ$6,IF(AND(GJ16=$NQ$4+1,$C$6<12,GJ17<=$C$6),VLOOKUP(GJ18,Kurināmais!$A$4:$G$351,$NQ$8,FALSE)/9.3*$AD$6*$CQ$6,\" \"))))","v":" "},{"$f":"IF(AND(GK15>=$B$5,GK15<$B$6),IF(GK16=1,IF(GK17>=$C$5,VLOOKUP(GK18,Kurināmais!$A$4:$G$351,$NQ$8,FALSE)/9.3*Biomasa!$Q$6*$CQ$6,\" \"),IF(AND(GK16>1,GK16<=10),VLOOKUP(GK18,Kurināmais!$A$4:$G$351,$NQ$8,FALSE)/9.3*Biomasa!$Q$6*$CQ$6,IF(GK16=11,IF(GK17<$C$5,VLOOKUP(GK18,Kurināmais!$A$4:$G$351,$NQ$8,FALSE)/9.3*Biomasa!$Q$6*$CQ$6,VLOOKUP(GK18,Kurināmais!$A$4:$G$351,$NQ$8,FALSE)/9.3*$AD$6*$CQ$6),IF(GK16>11,VLOOKUP(GK18,Kurināmais!$A$4:$G$351,$NQ$8,FALSE)/9.3*$AD$6*$CQ$6)))),IF(AND(GK16=$NQ$4,$C$6=12),VLOOKUP(GK18,Kurināmais!$A$4:$G$351,$NQ$8,FALSE)/9.3*$AD$6*$CQ$6,IF(AND(GK16=$NQ$4+1,$C$6<12,GK17<=$C$6,$NQ$4=10),VLOOKUP(GK18,Kurināmais!$A$4:$G$351,$NQ$8,FALSE)/9.3*$Q$6*$CQ$6,IF(AND(GK16=$NQ$4+1,$C$6<12,GK17<=$C$6),VLOOKUP(GK18,Kurināmais!$A$4:$G$351,$NQ$8,FALSE)/9.3*$AD$6*$CQ$6,\" \"))))","v":" "},{"$f":"IF(AND(GL15>=$B$5,GL15<$B$6),IF(GL16=1,IF(GL17>=$C$5,VLOOKUP(GL18,Kurināmais!$A$4:$G$351,$NQ$8,FALSE)/9.3*Biomasa!$Q$6*$CQ$6,\" \"),IF(AND(GL16>1,GL16<=10),VLOOKUP(GL18,Kurināmais!$A$4:$G$351,$NQ$8,FALSE)/9.3*Biomasa!$Q$6*$CQ$6,IF(GL16=11,IF(GL17<$C$5,VLOOKUP(GL18,Kurināmais!$A$4:$G$351,$NQ$8,FALSE)/9.3*Biomasa!$Q$6*$CQ$6,VLOOKUP(GL18,Kurināmais!$A$4:$G$351,$NQ$8,FALSE)/9.3*$AD$6*$CQ$6),IF(GL16>11,VLOOKUP(GL18,Kurināmais!$A$4:$G$351,$NQ$8,FALSE)/9.3*$AD$6*$CQ$6)))),IF(AND(GL16=$NQ$4,$C$6=12),VLOOKUP(GL18,Kurināmais!$A$4:$G$351,$NQ$8,FALSE)/9.3*$AD$6*$CQ$6,IF(AND(GL16=$NQ$4+1,$C$6<12,GL17<=$C$6,$NQ$4=10),VLOOKUP(GL18,Kurināmais!$A$4:$G$351,$NQ$8,FALSE)/9.3*$Q$6*$CQ$6,IF(AND(GL16=$NQ$4+1,$C$6<12,GL17<=$C$6),VLOOKUP(GL18,Kurināmais!$A$4:$G$351,$NQ$8,FALSE)/9.3*$AD$6*$CQ$6,\" \"))))","v":" "},{"$f":"IF(AND(GM15>=$B$5,GM15<$B$6),IF(GM16=1,IF(GM17>=$C$5,VLOOKUP(GM18,Kurināmais!$A$4:$G$351,$NQ$8,FALSE)/9.3*Biomasa!$Q$6*$CQ$6,\" \"),IF(AND(GM16>1,GM16<=10),VLOOKUP(GM18,Kurināmais!$A$4:$G$351,$NQ$8,FALSE)/9.3*Biomasa!$Q$6*$CQ$6,IF(GM16=11,IF(GM17<$C$5,VLOOKUP(GM18,Kurināmais!$A$4:$G$351,$NQ$8,FALSE)/9.3*Biomasa!$Q$6*$CQ$6,VLOOKUP(GM18,Kurināmais!$A$4:$G$351,$NQ$8,FALSE)/9.3*$AD$6*$CQ$6),IF(GM16>11,VLOOKUP(GM18,Kurināmais!$A$4:$G$351,$NQ$8,FALSE)/9.3*$AD$6*$CQ$6)))),IF(AND(GM16=$NQ$4,$C$6=12),VLOOKUP(GM18,Kurināmais!$A$4:$G$351,$NQ$8,FALSE)/9.3*$AD$6*$CQ$6,IF(AND(GM16=$NQ$4+1,$C$6<12,GM17<=$C$6,$NQ$4=10),VLOOKUP(GM18,Kurināmais!$A$4:$G$351,$NQ$8,FALSE)/9.3*$Q$6*$CQ$6,IF(AND(GM16=$NQ$4+1,$C$6<12,GM17<=$C$6),VLOOKUP(GM18,Kurināmais!$A$4:$G$351,$NQ$8,FALSE)/9.3*$AD$6*$CQ$6,\" \"))))","v":" "},{"$f":"IF(AND(GN15>=$B$5,GN15<$B$6),IF(GN16=1,IF(GN17>=$C$5,VLOOKUP(GN18,Kurināmais!$A$4:$G$351,$NQ$8,FALSE)/9.3*Biomasa!$Q$6*$CQ$6,\" \"),IF(AND(GN16>1,GN16<=10),VLOOKUP(GN18,Kurināmais!$A$4:$G$351,$NQ$8,FALSE)/9.3*Biomasa!$Q$6*$CQ$6,IF(GN16=11,IF(GN17<$C$5,VLOOKUP(GN18,Kurināmais!$A$4:$G$351,$NQ$8,FALSE)/9.3*Biomasa!$Q$6*$CQ$6,VLOOKUP(GN18,Kurināmais!$A$4:$G$351,$NQ$8,FALSE)/9.3*$AD$6*$CQ$6),IF(GN16>11,VLOOKUP(GN18,Kurināmais!$A$4:$G$351,$NQ$8,FALSE)/9.3*$AD$6*$CQ$6)))),IF(AND(GN16=$NQ$4,$C$6=12),VLOOKUP(GN18,Kurināmais!$A$4:$G$351,$NQ$8,FALSE)/9.3*$AD$6*$CQ$6,IF(AND(GN16=$NQ$4+1,$C$6<12,GN17<=$C$6,$NQ$4=10),VLOOKUP(GN18,Kurināmais!$A$4:$G$351,$NQ$8,FALSE)/9.3*$Q$6*$CQ$6,IF(AND(GN16=$NQ$4+1,$C$6<12,GN17<=$C$6),VLOOKUP(GN18,Kurināmais!$A$4:$G$351,$NQ$8,FALSE)/9.3*$AD$6*$CQ$6,\" \"))))","v":" "},{"$f":"IF(AND(GO15>=$B$5,GO15<$B$6),IF(GO16=1,IF(GO17>=$C$5,VLOOKUP(GO18,Kurināmais!$A$4:$G$351,$NQ$8,FALSE)/9.3*Biomasa!$Q$6*$CQ$6,\" \"),IF(AND(GO16>1,GO16<=10),VLOOKUP(GO18,Kurināmais!$A$4:$G$351,$NQ$8,FALSE)/9.3*Biomasa!$Q$6*$CQ$6,IF(GO16=11,IF(GO17<$C$5,VLOOKUP(GO18,Kurināmais!$A$4:$G$351,$NQ$8,FALSE)/9.3*Biomasa!$Q$6*$CQ$6,VLOOKUP(GO18,Kurināmais!$A$4:$G$351,$NQ$8,FALSE)/9.3*$AD$6*$CQ$6),IF(GO16>11,VLOOKUP(GO18,Kurināmais!$A$4:$G$351,$NQ$8,FALSE)/9.3*$AD$6*$CQ$6)))),IF(AND(GO16=$NQ$4,$C$6=12),VLOOKUP(GO18,Kurināmais!$A$4:$G$351,$NQ$8,FALSE)/9.3*$AD$6*$CQ$6,IF(AND(GO16=$NQ$4+1,$C$6<12,GO17<=$C$6,$NQ$4=10),VLOOKUP(GO18,Kurināmais!$A$4:$G$351,$NQ$8,FALSE)/9.3*$Q$6*$CQ$6,IF(AND(GO16=$NQ$4+1,$C$6<12,GO17<=$C$6),VLOOKUP(GO18,Kurināmais!$A$4:$G$351,$NQ$8,FALSE)/9.3*$AD$6*$CQ$6,\" \"))))","v":" "},{"$f":"IF(AND(GP15>=$B$5,GP15<$B$6),IF(GP16=1,IF(GP17>=$C$5,VLOOKUP(GP18,Kurināmais!$A$4:$G$351,$NQ$8,FALSE)/9.3*Biomasa!$Q$6*$CQ$6,\" \"),IF(AND(GP16>1,GP16<=10),VLOOKUP(GP18,Kurināmais!$A$4:$G$351,$NQ$8,FALSE)/9.3*Biomasa!$Q$6*$CQ$6,IF(GP16=11,IF(GP17<$C$5,VLOOKUP(GP18,Kurināmais!$A$4:$G$351,$NQ$8,FALSE)/9.3*Biomasa!$Q$6*$CQ$6,VLOOKUP(GP18,Kurināmais!$A$4:$G$351,$NQ$8,FALSE)/9.3*$AD$6*$CQ$6),IF(GP16>11,VLOOKUP(GP18,Kurināmais!$A$4:$G$351,$NQ$8,FALSE)/9.3*$AD$6*$CQ$6)))),IF(AND(GP16=$NQ$4,$C$6=12),VLOOKUP(GP18,Kurināmais!$A$4:$G$351,$NQ$8,FALSE)/9.3*$AD$6*$CQ$6,IF(AND(GP16=$NQ$4+1,$C$6<12,GP17<=$C$6,$NQ$4=10),VLOOKUP(GP18,Kurināmais!$A$4:$G$351,$NQ$8,FALSE)/9.3*$Q$6*$CQ$6,IF(AND(GP16=$NQ$4+1,$C$6<12,GP17<=$C$6),VLOOKUP(GP18,Kurināmais!$A$4:$G$351,$NQ$8,FALSE)/9.3*$AD$6*$CQ$6,\" \"))))","v":" "},{"$f":"IF(OR(GQ$16=\" \",GQ$16=0,GQ21=0),\" \",SUMPRODUCT(GR21:HC21,GR22:HC22)/GQ21)","v":" "},{"$f":"IF(AND(GR15>=$B$5,GR15<$B$6),IF(GR16=1,IF(GR17>=$C$5,VLOOKUP(GR18,Kurināmais!$A$4:$G$351,$NQ$8,FALSE)/9.3*Biomasa!$Q$6*$CQ$6,\" \"),IF(AND(GR16>1,GR16<=10),VLOOKUP(GR18,Kurināmais!$A$4:$G$351,$NQ$8,FALSE)/9.3*Biomasa!$Q$6*$CQ$6,IF(GR16=11,IF(GR17<$C$5,VLOOKUP(GR18,Kurināmais!$A$4:$G$351,$NQ$8,FALSE)/9.3*Biomasa!$Q$6*$CQ$6,VLOOKUP(GR18,Kurināmais!$A$4:$G$351,$NQ$8,FALSE)/9.3*$AD$6*$CQ$6),IF(GR16>11,VLOOKUP(GR18,Kurināmais!$A$4:$G$351,$NQ$8,FALSE)/9.3*$AD$6*$CQ$6)))),IF(AND(GR16=$NQ$4,$C$6=12),VLOOKUP(GR18,Kurināmais!$A$4:$G$351,$NQ$8,FALSE)/9.3*$AD$6*$CQ$6,IF(AND(GR16=$NQ$4+1,$C$6<12,GR17<=$C$6,$NQ$4=10),VLOOKUP(GR18,Kurināmais!$A$4:$G$351,$NQ$8,FALSE)/9.3*$Q$6*$CQ$6,IF(AND(GR16=$NQ$4+1,$C$6<12,GR17<=$C$6),VLOOKUP(GR18,Kurināmais!$A$4:$G$351,$NQ$8,FALSE)/9.3*$AD$6*$CQ$6,\" \"))))","v":" "},{"$f":"IF(AND(GS15>=$B$5,GS15<$B$6),IF(GS16=1,IF(GS17>=$C$5,VLOOKUP(GS18,Kurināmais!$A$4:$G$351,$NQ$8,FALSE)/9.3*Biomasa!$Q$6*$CQ$6,\" \"),IF(AND(GS16>1,GS16<=10),VLOOKUP(GS18,Kurināmais!$A$4:$G$351,$NQ$8,FALSE)/9.3*Biomasa!$Q$6*$CQ$6,IF(GS16=11,IF(GS17<$C$5,VLOOKUP(GS18,Kurināmais!$A$4:$G$351,$NQ$8,FALSE)/9.3*Biomasa!$Q$6*$CQ$6,VLOOKUP(GS18,Kurināmais!$A$4:$G$351,$NQ$8,FALSE)/9.3*$AD$6*$CQ$6),IF(GS16>11,VLOOKUP(GS18,Kurināmais!$A$4:$G$351,$NQ$8,FALSE)/9.3*$AD$6*$CQ$6)))),IF(AND(GS16=$NQ$4,$C$6=12),VLOOKUP(GS18,Kurināmais!$A$4:$G$351,$NQ$8,FALSE)/9.3*$AD$6*$CQ$6,IF(AND(GS16=$NQ$4+1,$C$6<12,GS17<=$C$6,$NQ$4=10),VLOOKUP(GS18,Kurināmais!$A$4:$G$351,$NQ$8,FALSE)/9.3*$Q$6*$CQ$6,IF(AND(GS16=$NQ$4+1,$C$6<12,GS17<=$C$6),VLOOKUP(GS18,Kurināmais!$A$4:$G$351,$NQ$8,FALSE)/9.3*$AD$6*$CQ$6,\" \"))))","v":" "},{"$f":"IF(AND(GT15>=$B$5,GT15<$B$6),IF(GT16=1,IF(GT17>=$C$5,VLOOKUP(GT18,Kurināmais!$A$4:$G$351,$NQ$8,FALSE)/9.3*Biomasa!$Q$6*$CQ$6,\" \"),IF(AND(GT16>1,GT16<=10),VLOOKUP(GT18,Kurināmais!$A$4:$G$351,$NQ$8,FALSE)/9.3*Biomasa!$Q$6*$CQ$6,IF(GT16=11,IF(GT17<$C$5,VLOOKUP(GT18,Kurināmais!$A$4:$G$351,$NQ$8,FALSE)/9.3*Biomasa!$Q$6*$CQ$6,VLOOKUP(GT18,Kurināmais!$A$4:$G$351,$NQ$8,FALSE)/9.3*$AD$6*$CQ$6),IF(GT16>11,VLOOKUP(GT18,Kurināmais!$A$4:$G$351,$NQ$8,FALSE)/9.3*$AD$6*$CQ$6)))),IF(AND(GT16=$NQ$4,$C$6=12),VLOOKUP(GT18,Kurināmais!$A$4:$G$351,$NQ$8,FALSE)/9.3*$AD$6*$CQ$6,IF(AND(GT16=$NQ$4+1,$C$6<12,GT17<=$C$6,$NQ$4=10),VLOOKUP(GT18,Kurināmais!$A$4:$G$351,$NQ$8,FALSE)/9.3*$Q$6*$CQ$6,IF(AND(GT16=$NQ$4+1,$C$6<12,GT17<=$C$6),VLOOKUP(GT18,Kurināmais!$A$4:$G$351,$NQ$8,FALSE)/9.3*$AD$6*$CQ$6,\" \"))))","v":" "},{"$f":"IF(AND(GU15>=$B$5,GU15<$B$6),IF(GU16=1,IF(GU17>=$C$5,VLOOKUP(GU18,Kurināmais!$A$4:$G$351,$NQ$8,FALSE)/9.3*Biomasa!$Q$6*$CQ$6,\" \"),IF(AND(GU16>1,GU16<=10),VLOOKUP(GU18,Kurināmais!$A$4:$G$351,$NQ$8,FALSE)/9.3*Biomasa!$Q$6*$CQ$6,IF(GU16=11,IF(GU17<$C$5,VLOOKUP(GU18,Kurināmais!$A$4:$G$351,$NQ$8,FALSE)/9.3*Biomasa!$Q$6*$CQ$6,VLOOKUP(GU18,Kurināmais!$A$4:$G$351,$NQ$8,FALSE)/9.3*$AD$6*$CQ$6),IF(GU16>11,VLOOKUP(GU18,Kurināmais!$A$4:$G$351,$NQ$8,FALSE)/9.3*$AD$6*$CQ$6)))),IF(AND(GU16=$NQ$4,$C$6=12),VLOOKUP(GU18,Kurināmais!$A$4:$G$351,$NQ$8,FALSE)/9.3*$AD$6*$CQ$6,IF(AND(GU16=$NQ$4+1,$C$6<12,GU17<=$C$6,$NQ$4=10),VLOOKUP(GU18,Kurināmais!$A$4:$G$351,$NQ$8,FALSE)/9.3*$Q$6*$CQ$6,IF(AND(GU16=$NQ$4+1,$C$6<12,GU17<=$C$6),VLOOKUP(GU18,Kurināmais!$A$4:$G$351,$NQ$8,FALSE)/9.3*$AD$6*$CQ$6,\" \"))))","v":" "},{"$f":"IF(AND(GV15>=$B$5,GV15<$B$6),IF(GV16=1,IF(GV17>=$C$5,VLOOKUP(GV18,Kurināmais!$A$4:$G$351,$NQ$8,FALSE)/9.3*Biomasa!$Q$6*$CQ$6,\" \"),IF(AND(GV16>1,GV16<=10),VLOOKUP(GV18,Kurināmais!$A$4:$G$351,$NQ$8,FALSE)/9.3*Biomasa!$Q$6*$CQ$6,IF(GV16=11,IF(GV17<$C$5,VLOOKUP(GV18,Kurināmais!$A$4:$G$351,$NQ$8,FALSE)/9.3*Biomasa!$Q$6*$CQ$6,VLOOKUP(GV18,Kurināmais!$A$4:$G$351,$NQ$8,FALSE)/9.3*$AD$6*$CQ$6),IF(GV16>11,VLOOKUP(GV18,Kurināmais!$A$4:$G$351,$NQ$8,FALSE)/9.3*$AD$6*$CQ$6)))),IF(AND(GV16=$NQ$4,$C$6=12),VLOOKUP(GV18,Kurināmais!$A$4:$G$351,$NQ$8,FALSE)/9.3*$AD$6*$CQ$6,IF(AND(GV16=$NQ$4+1,$C$6<12,GV17<=$C$6,$NQ$4=10),VLOOKUP(GV18,Kurināmais!$A$4:$G$351,$NQ$8,FALSE)/9.3*$Q$6*$CQ$6,IF(AND(GV16=$NQ$4+1,$C$6<12,GV17<=$C$6),VLOOKUP(GV18,Kurināmais!$A$4:$G$351,$NQ$8,FALSE)/9.3*$AD$6*$CQ$6,\" \"))))","v":" "},{"$f":"IF(AND(GW15>=$B$5,GW15<$B$6),IF(GW16=1,IF(GW17>=$C$5,VLOOKUP(GW18,Kurināmais!$A$4:$G$351,$NQ$8,FALSE)/9.3*Biomasa!$Q$6*$CQ$6,\" \"),IF(AND(GW16>1,GW16<=10),VLOOKUP(GW18,Kurināmais!$A$4:$G$351,$NQ$8,FALSE)/9.3*Biomasa!$Q$6*$CQ$6,IF(GW16=11,IF(GW17<$C$5,VLOOKUP(GW18,Kurināmais!$A$4:$G$351,$NQ$8,FALSE)/9.3*Biomasa!$Q$6*$CQ$6,VLOOKUP(GW18,Kurināmais!$A$4:$G$351,$NQ$8,FALSE)/9.3*$AD$6*$CQ$6),IF(GW16>11,VLOOKUP(GW18,Kurināmais!$A$4:$G$351,$NQ$8,FALSE)/9.3*$AD$6*$CQ$6)))),IF(AND(GW16=$NQ$4,$C$6=12),VLOOKUP(GW18,Kurināmais!$A$4:$G$351,$NQ$8,FALSE)/9.3*$AD$6*$CQ$6,IF(AND(GW16=$NQ$4+1,$C$6<12,GW17<=$C$6,$NQ$4=10),VLOOKUP(GW18,Kurināmais!$A$4:$G$351,$NQ$8,FALSE)/9.3*$Q$6*$CQ$6,IF(AND(GW16=$NQ$4+1,$C$6<12,GW17<=$C$6),VLOOKUP(GW18,Kurināmais!$A$4:$G$351,$NQ$8,FALSE)/9.3*$AD$6*$CQ$6,\" \"))))","v":" "},{"$f":"IF(AND(GX15>=$B$5,GX15<$B$6),IF(GX16=1,IF(GX17>=$C$5,VLOOKUP(GX18,Kurināmais!$A$4:$G$351,$NQ$8,FALSE)/9.3*Biomasa!$Q$6*$CQ$6,\" \"),IF(AND(GX16>1,GX16<=10),VLOOKUP(GX18,Kurināmais!$A$4:$G$351,$NQ$8,FALSE)/9.3*Biomasa!$Q$6*$CQ$6,IF(GX16=11,IF(GX17<$C$5,VLOOKUP(GX18,Kurināmais!$A$4:$G$351,$NQ$8,FALSE)/9.3*Biomasa!$Q$6*$CQ$6,VLOOKUP(GX18,Kurināmais!$A$4:$G$351,$NQ$8,FALSE)/9.3*$AD$6*$CQ$6),IF(GX16>11,VLOOKUP(GX18,Kurināmais!$A$4:$G$351,$NQ$8,FALSE)/9.3*$AD$6*$CQ$6)))),IF(AND(GX16=$NQ$4,$C$6=12),VLOOKUP(GX18,Kurināmais!$A$4:$G$351,$NQ$8,FALSE)/9.3*$AD$6*$CQ$6,IF(AND(GX16=$NQ$4+1,$C$6<12,GX17<=$C$6,$NQ$4=10),VLOOKUP(GX18,Kurināmais!$A$4:$G$351,$NQ$8,FALSE)/9.3*$Q$6*$CQ$6,IF(AND(GX16=$NQ$4+1,$C$6<12,GX17<=$C$6),VLOOKUP(GX18,Kurināmais!$A$4:$G$351,$NQ$8,FALSE)/9.3*$AD$6*$CQ$6,\" \"))))","v":" "},{"$f":"IF(AND(GY15>=$B$5,GY15<$B$6),IF(GY16=1,IF(GY17>=$C$5,VLOOKUP(GY18,Kurināmais!$A$4:$G$351,$NQ$8,FALSE)/9.3*Biomasa!$Q$6*$CQ$6,\" \"),IF(AND(GY16>1,GY16<=10),VLOOKUP(GY18,Kurināmais!$A$4:$G$351,$NQ$8,FALSE)/9.3*Biomasa!$Q$6*$CQ$6,IF(GY16=11,IF(GY17<$C$5,VLOOKUP(GY18,Kurināmais!$A$4:$G$351,$NQ$8,FALSE)/9.3*Biomasa!$Q$6*$CQ$6,VLOOKUP(GY18,Kurināmais!$A$4:$G$351,$NQ$8,FALSE)/9.3*$AD$6*$CQ$6),IF(GY16>11,VLOOKUP(GY18,Kurināmais!$A$4:$G$351,$NQ$8,FALSE)/9.3*$AD$6*$CQ$6)))),IF(AND(GY16=$NQ$4,$C$6=12),VLOOKUP(GY18,Kurināmais!$A$4:$G$351,$NQ$8,FALSE)/9.3*$AD$6*$CQ$6,IF(AND(GY16=$NQ$4+1,$C$6<12,GY17<=$C$6,$NQ$4=10),VLOOKUP(GY18,Kurināmais!$A$4:$G$351,$NQ$8,FALSE)/9.3*$Q$6*$CQ$6,IF(AND(GY16=$NQ$4+1,$C$6<12,GY17<=$C$6),VLOOKUP(GY18,Kurināmais!$A$4:$G$351,$NQ$8,FALSE)/9.3*$AD$6*$CQ$6,\" \"))))","v":" "},{"$f":"IF(AND(GZ15>=$B$5,GZ15<$B$6),IF(GZ16=1,IF(GZ17>=$C$5,VLOOKUP(GZ18,Kurināmais!$A$4:$G$351,$NQ$8,FALSE)/9.3*Biomasa!$Q$6*$CQ$6,\" \"),IF(AND(GZ16>1,GZ16<=10),VLOOKUP(GZ18,Kurināmais!$A$4:$G$351,$NQ$8,FALSE)/9.3*Biomasa!$Q$6*$CQ$6,IF(GZ16=11,IF(GZ17<$C$5,VLOOKUP(GZ18,Kurināmais!$A$4:$G$351,$NQ$8,FALSE)/9.3*Biomasa!$Q$6*$CQ$6,VLOOKUP(GZ18,Kurināmais!$A$4:$G$351,$NQ$8,FALSE)/9.3*$AD$6*$CQ$6),IF(GZ16>11,VLOOKUP(GZ18,Kurināmais!$A$4:$G$351,$NQ$8,FALSE)/9.3*$AD$6*$CQ$6)))),IF(AND(GZ16=$NQ$4,$C$6=12),VLOOKUP(GZ18,Kurināmais!$A$4:$G$351,$NQ$8,FALSE)/9.3*$AD$6*$CQ$6,IF(AND(GZ16=$NQ$4+1,$C$6<12,GZ17<=$C$6,$NQ$4=10),VLOOKUP(GZ18,Kurināmais!$A$4:$G$351,$NQ$8,FALSE)/9.3*$Q$6*$CQ$6,IF(AND(GZ16=$NQ$4+1,$C$6<12,GZ17<=$C$6),VLOOKUP(GZ18,Kurināmais!$A$4:$G$351,$NQ$8,FALSE)/9.3*$AD$6*$CQ$6,\" \"))))","v":" "},{"$f":"IF(AND(HA15>=$B$5,HA15<$B$6),IF(HA16=1,IF(HA17>=$C$5,VLOOKUP(HA18,Kurināmais!$A$4:$G$351,$NQ$8,FALSE)/9.3*Biomasa!$Q$6*$CQ$6,\" \"),IF(AND(HA16>1,HA16<=10),VLOOKUP(HA18,Kurināmais!$A$4:$G$351,$NQ$8,FALSE)/9.3*Biomasa!$Q$6*$CQ$6,IF(HA16=11,IF(HA17<$C$5,VLOOKUP(HA18,Kurināmais!$A$4:$G$351,$NQ$8,FALSE)/9.3*Biomasa!$Q$6*$CQ$6,VLOOKUP(HA18,Kurināmais!$A$4:$G$351,$NQ$8,FALSE)/9.3*$AD$6*$CQ$6),IF(HA16>11,VLOOKUP(HA18,Kurināmais!$A$4:$G$351,$NQ$8,FALSE)/9.3*$AD$6*$CQ$6)))),IF(AND(HA16=$NQ$4,$C$6=12),VLOOKUP(HA18,Kurināmais!$A$4:$G$351,$NQ$8,FALSE)/9.3*$AD$6*$CQ$6,IF(AND(HA16=$NQ$4+1,$C$6<12,HA17<=$C$6,$NQ$4=10),VLOOKUP(HA18,Kurināmais!$A$4:$G$351,$NQ$8,FALSE)/9.3*$Q$6*$CQ$6,IF(AND(HA16=$NQ$4+1,$C$6<12,HA17<=$C$6),VLOOKUP(HA18,Kurināmais!$A$4:$G$351,$NQ$8,FALSE)/9.3*$AD$6*$CQ$6,\" \"))))","v":" "},{"$f":"IF(AND(HB15>=$B$5,HB15<$B$6),IF(HB16=1,IF(HB17>=$C$5,VLOOKUP(HB18,Kurināmais!$A$4:$G$351,$NQ$8,FALSE)/9.3*Biomasa!$Q$6*$CQ$6,\" \"),IF(AND(HB16>1,HB16<=10),VLOOKUP(HB18,Kurināmais!$A$4:$G$351,$NQ$8,FALSE)/9.3*Biomasa!$Q$6*$CQ$6,IF(HB16=11,IF(HB17<$C$5,VLOOKUP(HB18,Kurināmais!$A$4:$G$351,$NQ$8,FALSE)/9.3*Biomasa!$Q$6*$CQ$6,VLOOKUP(HB18,Kurināmais!$A$4:$G$351,$NQ$8,FALSE)/9.3*$AD$6*$CQ$6),IF(HB16>11,VLOOKUP(HB18,Kurināmais!$A$4:$G$351,$NQ$8,FALSE)/9.3*$AD$6*$CQ$6)))),IF(AND(HB16=$NQ$4,$C$6=12),VLOOKUP(HB18,Kurināmais!$A$4:$G$351,$NQ$8,FALSE)/9.3*$AD$6*$CQ$6,IF(AND(HB16=$NQ$4+1,$C$6<12,HB17<=$C$6,$NQ$4=10),VLOOKUP(HB18,Kurināmais!$A$4:$G$351,$NQ$8,FALSE)/9.3*$Q$6*$CQ$6,IF(AND(HB16=$NQ$4+1,$C$6<12,HB17<=$C$6),VLOOKUP(HB18,Kurināmais!$A$4:$G$351,$NQ$8,FALSE)/9.3*$AD$6*$CQ$6,\" \"))))","v":" "},{"$f":"IF(AND(HC15>=$B$5,HC15<$B$6),IF(HC16=1,IF(HC17>=$C$5,VLOOKUP(HC18,Kurināmais!$A$4:$G$351,$NQ$8,FALSE)/9.3*Biomasa!$Q$6*$CQ$6,\" \"),IF(AND(HC16>1,HC16<=10),VLOOKUP(HC18,Kurināmais!$A$4:$G$351,$NQ$8,FALSE)/9.3*Biomasa!$Q$6*$CQ$6,IF(HC16=11,IF(HC17<$C$5,VLOOKUP(HC18,Kurināmais!$A$4:$G$351,$NQ$8,FALSE)/9.3*Biomasa!$Q$6*$CQ$6,VLOOKUP(HC18,Kurināmais!$A$4:$G$351,$NQ$8,FALSE)/9.3*$AD$6*$CQ$6),IF(HC16>11,VLOOKUP(HC18,Kurināmais!$A$4:$G$351,$NQ$8,FALSE)/9.3*$AD$6*$CQ$6)))),IF(AND(HC16=$NQ$4,$C$6=12),VLOOKUP(HC18,Kurināmais!$A$4:$G$351,$NQ$8,FALSE)/9.3*$AD$6*$CQ$6,IF(AND(HC16=$NQ$4+1,$C$6<12,HC17<=$C$6,$NQ$4=10),VLOOKUP(HC18,Kurināmais!$A$4:$G$351,$NQ$8,FALSE)/9.3*$Q$6*$CQ$6,IF(AND(HC16=$NQ$4+1,$C$6<12,HC17<=$C$6),VLOOKUP(HC18,Kurināmais!$A$4:$G$351,$NQ$8,FALSE)/9.3*$AD$6*$CQ$6,\" \"))))","v":" "},{"$f":"IF(OR(HD$16=\" \",HD$16=0,HD21=0),\" \",SUMPRODUCT(HE21:HP21,HE22:HP22)/HD21)","v":" "},{"$f":"IF(AND(HE15>=$B$5,HE15<$B$6),IF(HE16=1,IF(HE17>=$C$5,VLOOKUP(HE18,Kurināmais!$A$4:$G$351,$NQ$8,FALSE)/9.3*Biomasa!$Q$6*$CQ$6,\" \"),IF(AND(HE16>1,HE16<=10),VLOOKUP(HE18,Kurināmais!$A$4:$G$351,$NQ$8,FALSE)/9.3*Biomasa!$Q$6*$CQ$6,IF(HE16=11,IF(HE17<$C$5,VLOOKUP(HE18,Kurināmais!$A$4:$G$351,$NQ$8,FALSE)/9.3*Biomasa!$Q$6*$CQ$6,VLOOKUP(HE18,Kurināmais!$A$4:$G$351,$NQ$8,FALSE)/9.3*$AD$6*$CQ$6),IF(HE16>11,VLOOKUP(HE18,Kurināmais!$A$4:$G$351,$NQ$8,FALSE)/9.3*$AD$6*$CQ$6)))),IF(AND(HE16=$NQ$4,$C$6=12),VLOOKUP(HE18,Kurināmais!$A$4:$G$351,$NQ$8,FALSE)/9.3*$AD$6*$CQ$6,IF(AND(HE16=$NQ$4+1,$C$6<12,HE17<=$C$6,$NQ$4=10),VLOOKUP(HE18,Kurināmais!$A$4:$G$351,$NQ$8,FALSE)/9.3*$Q$6*$CQ$6,IF(AND(HE16=$NQ$4+1,$C$6<12,HE17<=$C$6),VLOOKUP(HE18,Kurināmais!$A$4:$G$351,$NQ$8,FALSE)/9.3*$AD$6*$CQ$6,\" \"))))","v":" "},{"$f":"IF(AND(HF15>=$B$5,HF15<$B$6),IF(HF16=1,IF(HF17>=$C$5,VLOOKUP(HF18,Kurināmais!$A$4:$G$351,$NQ$8,FALSE)/9.3*Biomasa!$Q$6*$CQ$6,\" \"),IF(AND(HF16>1,HF16<=10),VLOOKUP(HF18,Kurināmais!$A$4:$G$351,$NQ$8,FALSE)/9.3*Biomasa!$Q$6*$CQ$6,IF(HF16=11,IF(HF17<$C$5,VLOOKUP(HF18,Kurināmais!$A$4:$G$351,$NQ$8,FALSE)/9.3*Biomasa!$Q$6*$CQ$6,VLOOKUP(HF18,Kurināmais!$A$4:$G$351,$NQ$8,FALSE)/9.3*$AD$6*$CQ$6),IF(HF16>11,VLOOKUP(HF18,Kurināmais!$A$4:$G$351,$NQ$8,FALSE)/9.3*$AD$6*$CQ$6)))),IF(AND(HF16=$NQ$4,$C$6=12),VLOOKUP(HF18,Kurināmais!$A$4:$G$351,$NQ$8,FALSE)/9.3*$AD$6*$CQ$6,IF(AND(HF16=$NQ$4+1,$C$6<12,HF17<=$C$6,$NQ$4=10),VLOOKUP(HF18,Kurināmais!$A$4:$G$351,$NQ$8,FALSE)/9.3*$Q$6*$CQ$6,IF(AND(HF16=$NQ$4+1,$C$6<12,HF17<=$C$6),VLOOKUP(HF18,Kurināmais!$A$4:$G$351,$NQ$8,FALSE)/9.3*$AD$6*$CQ$6,\" \"))))","v":" "},{"$f":"IF(AND(HG15>=$B$5,HG15<$B$6),IF(HG16=1,IF(HG17>=$C$5,VLOOKUP(HG18,Kurināmais!$A$4:$G$351,$NQ$8,FALSE)/9.3*Biomasa!$Q$6*$CQ$6,\" \"),IF(AND(HG16>1,HG16<=10),VLOOKUP(HG18,Kurināmais!$A$4:$G$351,$NQ$8,FALSE)/9.3*Biomasa!$Q$6*$CQ$6,IF(HG16=11,IF(HG17<$C$5,VLOOKUP(HG18,Kurināmais!$A$4:$G$351,$NQ$8,FALSE)/9.3*Biomasa!$Q$6*$CQ$6,VLOOKUP(HG18,Kurināmais!$A$4:$G$351,$NQ$8,FALSE)/9.3*$AD$6*$CQ$6),IF(HG16>11,VLOOKUP(HG18,Kurināmais!$A$4:$G$351,$NQ$8,FALSE)/9.3*$AD$6*$CQ$6)))),IF(AND(HG16=$NQ$4,$C$6=12),VLOOKUP(HG18,Kurināmais!$A$4:$G$351,$NQ$8,FALSE)/9.3*$AD$6*$CQ$6,IF(AND(HG16=$NQ$4+1,$C$6<12,HG17<=$C$6,$NQ$4=10),VLOOKUP(HG18,Kurināmais!$A$4:$G$351,$NQ$8,FALSE)/9.3*$Q$6*$CQ$6,IF(AND(HG16=$NQ$4+1,$C$6<12,HG17<=$C$6),VLOOKUP(HG18,Kurināmais!$A$4:$G$351,$NQ$8,FALSE)/9.3*$AD$6*$CQ$6,\" \"))))","v":" "},{"$f":"IF(AND(HH15>=$B$5,HH15<$B$6),IF(HH16=1,IF(HH17>=$C$5,VLOOKUP(HH18,Kurināmais!$A$4:$G$351,$NQ$8,FALSE)/9.3*Biomasa!$Q$6*$CQ$6,\" \"),IF(AND(HH16>1,HH16<=10),VLOOKUP(HH18,Kurināmais!$A$4:$G$351,$NQ$8,FALSE)/9.3*Biomasa!$Q$6*$CQ$6,IF(HH16=11,IF(HH17<$C$5,VLOOKUP(HH18,Kurināmais!$A$4:$G$351,$NQ$8,FALSE)/9.3*Biomasa!$Q$6*$CQ$6,VLOOKUP(HH18,Kurināmais!$A$4:$G$351,$NQ$8,FALSE)/9.3*$AD$6*$CQ$6),IF(HH16>11,VLOOKUP(HH18,Kurināmais!$A$4:$G$351,$NQ$8,FALSE)/9.3*$AD$6*$CQ$6)))),IF(AND(HH16=$NQ$4,$C$6=12),VLOOKUP(HH18,Kurināmais!$A$4:$G$351,$NQ$8,FALSE)/9.3*$AD$6*$CQ$6,IF(AND(HH16=$NQ$4+1,$C$6<12,HH17<=$C$6,$NQ$4=10),VLOOKUP(HH18,Kurināmais!$A$4:$G$351,$NQ$8,FALSE)/9.3*$Q$6*$CQ$6,IF(AND(HH16=$NQ$4+1,$C$6<12,HH17<=$C$6),VLOOKUP(HH18,Kurināmais!$A$4:$G$351,$NQ$8,FALSE)/9.3*$AD$6*$CQ$6,\" \"))))","v":" "},{"$f":"IF(AND(HI15>=$B$5,HI15<$B$6),IF(HI16=1,IF(HI17>=$C$5,VLOOKUP(HI18,Kurināmais!$A$4:$G$351,$NQ$8,FALSE)/9.3*Biomasa!$Q$6*$CQ$6,\" \"),IF(AND(HI16>1,HI16<=10),VLOOKUP(HI18,Kurināmais!$A$4:$G$351,$NQ$8,FALSE)/9.3*Biomasa!$Q$6*$CQ$6,IF(HI16=11,IF(HI17<$C$5,VLOOKUP(HI18,Kurināmais!$A$4:$G$351,$NQ$8,FALSE)/9.3*Biomasa!$Q$6*$CQ$6,VLOOKUP(HI18,Kurināmais!$A$4:$G$351,$NQ$8,FALSE)/9.3*$AD$6*$CQ$6),IF(HI16>11,VLOOKUP(HI18,Kurināmais!$A$4:$G$351,$NQ$8,FALSE)/9.3*$AD$6*$CQ$6)))),IF(AND(HI16=$NQ$4,$C$6=12),VLOOKUP(HI18,Kurināmais!$A$4:$G$351,$NQ$8,FALSE)/9.3*$AD$6*$CQ$6,IF(AND(HI16=$NQ$4+1,$C$6<12,HI17<=$C$6,$NQ$4=10),VLOOKUP(HI18,Kurināmais!$A$4:$G$351,$NQ$8,FALSE)/9.3*$Q$6*$CQ$6,IF(AND(HI16=$NQ$4+1,$C$6<12,HI17<=$C$6),VLOOKUP(HI18,Kurināmais!$A$4:$G$351,$NQ$8,FALSE)/9.3*$AD$6*$CQ$6,\" \"))))","v":" "},{"$f":"IF(AND(HJ15>=$B$5,HJ15<$B$6),IF(HJ16=1,IF(HJ17>=$C$5,VLOOKUP(HJ18,Kurināmais!$A$4:$G$351,$NQ$8,FALSE)/9.3*Biomasa!$Q$6*$CQ$6,\" \"),IF(AND(HJ16>1,HJ16<=10),VLOOKUP(HJ18,Kurināmais!$A$4:$G$351,$NQ$8,FALSE)/9.3*Biomasa!$Q$6*$CQ$6,IF(HJ16=11,IF(HJ17<$C$5,VLOOKUP(HJ18,Kurināmais!$A$4:$G$351,$NQ$8,FALSE)/9.3*Biomasa!$Q$6*$CQ$6,VLOOKUP(HJ18,Kurināmais!$A$4:$G$351,$NQ$8,FALSE)/9.3*$AD$6*$CQ$6),IF(HJ16>11,VLOOKUP(HJ18,Kurināmais!$A$4:$G$351,$NQ$8,FALSE)/9.3*$AD$6*$CQ$6)))),IF(AND(HJ16=$NQ$4,$C$6=12),VLOOKUP(HJ18,Kurināmais!$A$4:$G$351,$NQ$8,FALSE)/9.3*$AD$6*$CQ$6,IF(AND(HJ16=$NQ$4+1,$C$6<12,HJ17<=$C$6,$NQ$4=10),VLOOKUP(HJ18,Kurināmais!$A$4:$G$351,$NQ$8,FALSE)/9.3*$Q$6*$CQ$6,IF(AND(HJ16=$NQ$4+1,$C$6<12,HJ17<=$C$6),VLOOKUP(HJ18,Kurināmais!$A$4:$G$351,$NQ$8,FALSE)/9.3*$AD$6*$CQ$6,\" \"))))","v":" "},{"$f":"IF(AND(HK15>=$B$5,HK15<$B$6),IF(HK16=1,IF(HK17>=$C$5,VLOOKUP(HK18,Kurināmais!$A$4:$G$351,$NQ$8,FALSE)/9.3*Biomasa!$Q$6*$CQ$6,\" \"),IF(AND(HK16>1,HK16<=10),VLOOKUP(HK18,Kurināmais!$A$4:$G$351,$NQ$8,FALSE)/9.3*Biomasa!$Q$6*$CQ$6,IF(HK16=11,IF(HK17<$C$5,VLOOKUP(HK18,Kurināmais!$A$4:$G$351,$NQ$8,FALSE)/9.3*Biomasa!$Q$6*$CQ$6,VLOOKUP(HK18,Kurināmais!$A$4:$G$351,$NQ$8,FALSE)/9.3*$AD$6*$CQ$6),IF(HK16>11,VLOOKUP(HK18,Kurināmais!$A$4:$G$351,$NQ$8,FALSE)/9.3*$AD$6*$CQ$6)))),IF(AND(HK16=$NQ$4,$C$6=12),VLOOKUP(HK18,Kurināmais!$A$4:$G$351,$NQ$8,FALSE)/9.3*$AD$6*$CQ$6,IF(AND(HK16=$NQ$4+1,$C$6<12,HK17<=$C$6,$NQ$4=10),VLOOKUP(HK18,Kurināmais!$A$4:$G$351,$NQ$8,FALSE)/9.3*$Q$6*$CQ$6,IF(AND(HK16=$NQ$4+1,$C$6<12,HK17<=$C$6),VLOOKUP(HK18,Kurināmais!$A$4:$G$351,$NQ$8,FALSE)/9.3*$AD$6*$CQ$6,\" \"))))","v":" "},{"$f":"IF(AND(HL15>=$B$5,HL15<$B$6),IF(HL16=1,IF(HL17>=$C$5,VLOOKUP(HL18,Kurināmais!$A$4:$G$351,$NQ$8,FALSE)/9.3*Biomasa!$Q$6*$CQ$6,\" \"),IF(AND(HL16>1,HL16<=10),VLOOKUP(HL18,Kurināmais!$A$4:$G$351,$NQ$8,FALSE)/9.3*Biomasa!$Q$6*$CQ$6,IF(HL16=11,IF(HL17<$C$5,VLOOKUP(HL18,Kurināmais!$A$4:$G$351,$NQ$8,FALSE)/9.3*Biomasa!$Q$6*$CQ$6,VLOOKUP(HL18,Kurināmais!$A$4:$G$351,$NQ$8,FALSE)/9.3*$AD$6*$CQ$6),IF(HL16>11,VLOOKUP(HL18,Kurināmais!$A$4:$G$351,$NQ$8,FALSE)/9.3*$AD$6*$CQ$6)))),IF(AND(HL16=$NQ$4,$C$6=12),VLOOKUP(HL18,Kurināmais!$A$4:$G$351,$NQ$8,FALSE)/9.3*$AD$6*$CQ$6,IF(AND(HL16=$NQ$4+1,$C$6<12,HL17<=$C$6,$NQ$4=10),VLOOKUP(HL18,Kurināmais!$A$4:$G$351,$NQ$8,FALSE)/9.3*$Q$6*$CQ$6,IF(AND(HL16=$NQ$4+1,$C$6<12,HL17<=$C$6),VLOOKUP(HL18,Kurināmais!$A$4:$G$351,$NQ$8,FALSE)/9.3*$AD$6*$CQ$6,\" \"))))","v":" "},{"$f":"IF(AND(HM15>=$B$5,HM15<$B$6),IF(HM16=1,IF(HM17>=$C$5,VLOOKUP(HM18,Kurināmais!$A$4:$G$351,$NQ$8,FALSE)/9.3*Biomasa!$Q$6*$CQ$6,\" \"),IF(AND(HM16>1,HM16<=10),VLOOKUP(HM18,Kurināmais!$A$4:$G$351,$NQ$8,FALSE)/9.3*Biomasa!$Q$6*$CQ$6,IF(HM16=11,IF(HM17<$C$5,VLOOKUP(HM18,Kurināmais!$A$4:$G$351,$NQ$8,FALSE)/9.3*Biomasa!$Q$6*$CQ$6,VLOOKUP(HM18,Kurināmais!$A$4:$G$351,$NQ$8,FALSE)/9.3*$AD$6*$CQ$6),IF(HM16>11,VLOOKUP(HM18,Kurināmais!$A$4:$G$351,$NQ$8,FALSE)/9.3*$AD$6*$CQ$6)))),IF(AND(HM16=$NQ$4,$C$6=12),VLOOKUP(HM18,Kurināmais!$A$4:$G$351,$NQ$8,FALSE)/9.3*$AD$6*$CQ$6,IF(AND(HM16=$NQ$4+1,$C$6<12,HM17<=$C$6,$NQ$4=10),VLOOKUP(HM18,Kurināmais!$A$4:$G$351,$NQ$8,FALSE)/9.3*$Q$6*$CQ$6,IF(AND(HM16=$NQ$4+1,$C$6<12,HM17<=$C$6),VLOOKUP(HM18,Kurināmais!$A$4:$G$351,$NQ$8,FALSE)/9.3*$AD$6*$CQ$6,\" \"))))","v":" "},{"$f":"IF(AND(HN15>=$B$5,HN15<$B$6),IF(HN16=1,IF(HN17>=$C$5,VLOOKUP(HN18,Kurināmais!$A$4:$G$351,$NQ$8,FALSE)/9.3*Biomasa!$Q$6*$CQ$6,\" \"),IF(AND(HN16>1,HN16<=10),VLOOKUP(HN18,Kurināmais!$A$4:$G$351,$NQ$8,FALSE)/9.3*Biomasa!$Q$6*$CQ$6,IF(HN16=11,IF(HN17<$C$5,VLOOKUP(HN18,Kurināmais!$A$4:$G$351,$NQ$8,FALSE)/9.3*Biomasa!$Q$6*$CQ$6,VLOOKUP(HN18,Kurināmais!$A$4:$G$351,$NQ$8,FALSE)/9.3*$AD$6*$CQ$6),IF(HN16>11,VLOOKUP(HN18,Kurināmais!$A$4:$G$351,$NQ$8,FALSE)/9.3*$AD$6*$CQ$6)))),IF(AND(HN16=$NQ$4,$C$6=12),VLOOKUP(HN18,Kurināmais!$A$4:$G$351,$NQ$8,FALSE)/9.3*$AD$6*$CQ$6,IF(AND(HN16=$NQ$4+1,$C$6<12,HN17<=$C$6,$NQ$4=10),VLOOKUP(HN18,Kurināmais!$A$4:$G$351,$NQ$8,FALSE)/9.3*$Q$6*$CQ$6,IF(AND(HN16=$NQ$4+1,$C$6<12,HN17<=$C$6),VLOOKUP(HN18,Kurināmais!$A$4:$G$351,$NQ$8,FALSE)/9.3*$AD$6*$CQ$6,\" \"))))","v":" "},{"$f":"IF(AND(HO15>=$B$5,HO15<$B$6),IF(HO16=1,IF(HO17>=$C$5,VLOOKUP(HO18,Kurināmais!$A$4:$G$351,$NQ$8,FALSE)/9.3*Biomasa!$Q$6*$CQ$6,\" \"),IF(AND(HO16>1,HO16<=10),VLOOKUP(HO18,Kurināmais!$A$4:$G$351,$NQ$8,FALSE)/9.3*Biomasa!$Q$6*$CQ$6,IF(HO16=11,IF(HO17<$C$5,VLOOKUP(HO18,Kurināmais!$A$4:$G$351,$NQ$8,FALSE)/9.3*Biomasa!$Q$6*$CQ$6,VLOOKUP(HO18,Kurināmais!$A$4:$G$351,$NQ$8,FALSE)/9.3*$AD$6*$CQ$6),IF(HO16>11,VLOOKUP(HO18,Kurināmais!$A$4:$G$351,$NQ$8,FALSE)/9.3*$AD$6*$CQ$6)))),IF(AND(HO16=$NQ$4,$C$6=12),VLOOKUP(HO18,Kurināmais!$A$4:$G$351,$NQ$8,FALSE)/9.3*$AD$6*$CQ$6,IF(AND(HO16=$NQ$4+1,$C$6<12,HO17<=$C$6,$NQ$4=10),VLOOKUP(HO18,Kurināmais!$A$4:$G$351,$NQ$8,FALSE)/9.3*$Q$6*$CQ$6,IF(AND(HO16=$NQ$4+1,$C$6<12,HO17<=$C$6),VLOOKUP(HO18,Kurināmais!$A$4:$G$351,$NQ$8,FALSE)/9.3*$AD$6*$CQ$6,\" \"))))","v":" "},{"$f":"IF(AND(HP15>=$B$5,HP15<$B$6),IF(HP16=1,IF(HP17>=$C$5,VLOOKUP(HP18,Kurināmais!$A$4:$G$351,$NQ$8,FALSE)/9.3*Biomasa!$Q$6*$CQ$6,\" \"),IF(AND(HP16>1,HP16<=10),VLOOKUP(HP18,Kurināmais!$A$4:$G$351,$NQ$8,FALSE)/9.3*Biomasa!$Q$6*$CQ$6,IF(HP16=11,IF(HP17<$C$5,VLOOKUP(HP18,Kurināmais!$A$4:$G$351,$NQ$8,FALSE)/9.3*Biomasa!$Q$6*$CQ$6,VLOOKUP(HP18,Kurināmais!$A$4:$G$351,$NQ$8,FALSE)/9.3*$AD$6*$CQ$6),IF(HP16>11,VLOOKUP(HP18,Kurināmais!$A$4:$G$351,$NQ$8,FALSE)/9.3*$AD$6*$CQ$6)))),IF(AND(HP16=$NQ$4,$C$6=12),VLOOKUP(HP18,Kurināmais!$A$4:$G$351,$NQ$8,FALSE)/9.3*$AD$6*$CQ$6,IF(AND(HP16=$NQ$4+1,$C$6<12,HP17<=$C$6,$NQ$4=10),VLOOKUP(HP18,Kurināmais!$A$4:$G$351,$NQ$8,FALSE)/9.3*$Q$6*$CQ$6,IF(AND(HP16=$NQ$4+1,$C$6<12,HP17<=$C$6),VLOOKUP(HP18,Kurināmais!$A$4:$G$351,$NQ$8,FALSE)/9.3*$AD$6*$CQ$6,\" \"))))","v":" "},{"$f":"IF(OR(HQ$16=\" \",HQ$16=0,HQ21=0),\" \",SUMPRODUCT(HR21:IC21,HR22:IC22)/HQ21)","v":" "},{"$f":"IF(AND(HR15>=$B$5,HR15<$B$6),IF(HR16=1,IF(HR17>=$C$5,VLOOKUP(HR18,Kurināmais!$A$4:$G$351,$NQ$8,FALSE)/9.3*Biomasa!$Q$6*$CQ$6,\" \"),IF(AND(HR16>1,HR16<=10),VLOOKUP(HR18,Kurināmais!$A$4:$G$351,$NQ$8,FALSE)/9.3*Biomasa!$Q$6*$CQ$6,IF(HR16=11,IF(HR17<$C$5,VLOOKUP(HR18,Kurināmais!$A$4:$G$351,$NQ$8,FALSE)/9.3*Biomasa!$Q$6*$CQ$6,VLOOKUP(HR18,Kurināmais!$A$4:$G$351,$NQ$8,FALSE)/9.3*$AD$6*$CQ$6),IF(HR16>11,VLOOKUP(HR18,Kurināmais!$A$4:$G$351,$NQ$8,FALSE)/9.3*$AD$6*$CQ$6)))),IF(AND(HR16=$NQ$4,$C$6=12),VLOOKUP(HR18,Kurināmais!$A$4:$G$351,$NQ$8,FALSE)/9.3*$AD$6*$CQ$6,IF(AND(HR16=$NQ$4+1,$C$6<12,HR17<=$C$6,$NQ$4=10),VLOOKUP(HR18,Kurināmais!$A$4:$G$351,$NQ$8,FALSE)/9.3*$Q$6*$CQ$6,IF(AND(HR16=$NQ$4+1,$C$6<12,HR17<=$C$6),VLOOKUP(HR18,Kurināmais!$A$4:$G$351,$NQ$8,FALSE)/9.3*$AD$6*$CQ$6,\" \"))))","v":" "},{"$f":"IF(AND(HS15>=$B$5,HS15<$B$6),IF(HS16=1,IF(HS17>=$C$5,VLOOKUP(HS18,Kurināmais!$A$4:$G$351,$NQ$8,FALSE)/9.3*Biomasa!$Q$6*$CQ$6,\" \"),IF(AND(HS16>1,HS16<=10),VLOOKUP(HS18,Kurināmais!$A$4:$G$351,$NQ$8,FALSE)/9.3*Biomasa!$Q$6*$CQ$6,IF(HS16=11,IF(HS17<$C$5,VLOOKUP(HS18,Kurināmais!$A$4:$G$351,$NQ$8,FALSE)/9.3*Biomasa!$Q$6*$CQ$6,VLOOKUP(HS18,Kurināmais!$A$4:$G$351,$NQ$8,FALSE)/9.3*$AD$6*$CQ$6),IF(HS16>11,VLOOKUP(HS18,Kurināmais!$A$4:$G$351,$NQ$8,FALSE)/9.3*$AD$6*$CQ$6)))),IF(AND(HS16=$NQ$4,$C$6=12),VLOOKUP(HS18,Kurināmais!$A$4:$G$351,$NQ$8,FALSE)/9.3*$AD$6*$CQ$6,IF(AND(HS16=$NQ$4+1,$C$6<12,HS17<=$C$6,$NQ$4=10),VLOOKUP(HS18,Kurināmais!$A$4:$G$351,$NQ$8,FALSE)/9.3*$Q$6*$CQ$6,IF(AND(HS16=$NQ$4+1,$C$6<12,HS17<=$C$6),VLOOKUP(HS18,Kurināmais!$A$4:$G$351,$NQ$8,FALSE)/9.3*$AD$6*$CQ$6,\" \"))))","v":" "},{"$f":"IF(AND(HT15>=$B$5,HT15<$B$6),IF(HT16=1,IF(HT17>=$C$5,VLOOKUP(HT18,Kurināmais!$A$4:$G$351,$NQ$8,FALSE)/9.3*Biomasa!$Q$6*$CQ$6,\" \"),IF(AND(HT16>1,HT16<=10),VLOOKUP(HT18,Kurināmais!$A$4:$G$351,$NQ$8,FALSE)/9.3*Biomasa!$Q$6*$CQ$6,IF(HT16=11,IF(HT17<$C$5,VLOOKUP(HT18,Kurināmais!$A$4:$G$351,$NQ$8,FALSE)/9.3*Biomasa!$Q$6*$CQ$6,VLOOKUP(HT18,Kurināmais!$A$4:$G$351,$NQ$8,FALSE)/9.3*$AD$6*$CQ$6),IF(HT16>11,VLOOKUP(HT18,Kurināmais!$A$4:$G$351,$NQ$8,FALSE)/9.3*$AD$6*$CQ$6)))),IF(AND(HT16=$NQ$4,$C$6=12),VLOOKUP(HT18,Kurināmais!$A$4:$G$351,$NQ$8,FALSE)/9.3*$AD$6*$CQ$6,IF(AND(HT16=$NQ$4+1,$C$6<12,HT17<=$C$6,$NQ$4=10),VLOOKUP(HT18,Kurināmais!$A$4:$G$351,$NQ$8,FALSE)/9.3*$Q$6*$CQ$6,IF(AND(HT16=$NQ$4+1,$C$6<12,HT17<=$C$6),VLOOKUP(HT18,Kurināmais!$A$4:$G$351,$NQ$8,FALSE)/9.3*$AD$6*$CQ$6,\" \"))))","v":" "},{"$f":"IF(AND(HU15>=$B$5,HU15<$B$6),IF(HU16=1,IF(HU17>=$C$5,VLOOKUP(HU18,Kurināmais!$A$4:$G$351,$NQ$8,FALSE)/9.3*Biomasa!$Q$6*$CQ$6,\" \"),IF(AND(HU16>1,HU16<=10),VLOOKUP(HU18,Kurināmais!$A$4:$G$351,$NQ$8,FALSE)/9.3*Biomasa!$Q$6*$CQ$6,IF(HU16=11,IF(HU17<$C$5,VLOOKUP(HU18,Kurināmais!$A$4:$G$351,$NQ$8,FALSE)/9.3*Biomasa!$Q$6*$CQ$6,VLOOKUP(HU18,Kurināmais!$A$4:$G$351,$NQ$8,FALSE)/9.3*$AD$6*$CQ$6),IF(HU16>11,VLOOKUP(HU18,Kurināmais!$A$4:$G$351,$NQ$8,FALSE)/9.3*$AD$6*$CQ$6)))),IF(AND(HU16=$NQ$4,$C$6=12),VLOOKUP(HU18,Kurināmais!$A$4:$G$351,$NQ$8,FALSE)/9.3*$AD$6*$CQ$6,IF(AND(HU16=$NQ$4+1,$C$6<12,HU17<=$C$6,$NQ$4=10),VLOOKUP(HU18,Kurināmais!$A$4:$G$351,$NQ$8,FALSE)/9.3*$Q$6*$CQ$6,IF(AND(HU16=$NQ$4+1,$C$6<12,HU17<=$C$6),VLOOKUP(HU18,Kurināmais!$A$4:$G$351,$NQ$8,FALSE)/9.3*$AD$6*$CQ$6,\" \"))))","v":" "},{"$f":"IF(AND(HV15>=$B$5,HV15<$B$6),IF(HV16=1,IF(HV17>=$C$5,VLOOKUP(HV18,Kurināmais!$A$4:$G$351,$NQ$8,FALSE)/9.3*Biomasa!$Q$6*$CQ$6,\" \"),IF(AND(HV16>1,HV16<=10),VLOOKUP(HV18,Kurināmais!$A$4:$G$351,$NQ$8,FALSE)/9.3*Biomasa!$Q$6*$CQ$6,IF(HV16=11,IF(HV17<$C$5,VLOOKUP(HV18,Kurināmais!$A$4:$G$351,$NQ$8,FALSE)/9.3*Biomasa!$Q$6*$CQ$6,VLOOKUP(HV18,Kurināmais!$A$4:$G$351,$NQ$8,FALSE)/9.3*$AD$6*$CQ$6),IF(HV16>11,VLOOKUP(HV18,Kurināmais!$A$4:$G$351,$NQ$8,FALSE)/9.3*$AD$6*$CQ$6)))),IF(AND(HV16=$NQ$4,$C$6=12),VLOOKUP(HV18,Kurināmais!$A$4:$G$351,$NQ$8,FALSE)/9.3*$AD$6*$CQ$6,IF(AND(HV16=$NQ$4+1,$C$6<12,HV17<=$C$6,$NQ$4=10),VLOOKUP(HV18,Kurināmais!$A$4:$G$351,$NQ$8,FALSE)/9.3*$Q$6*$CQ$6,IF(AND(HV16=$NQ$4+1,$C$6<12,HV17<=$C$6),VLOOKUP(HV18,Kurināmais!$A$4:$G$351,$NQ$8,FALSE)/9.3*$AD$6*$CQ$6,\" \"))))","v":" "},{"$f":"IF(AND(HW15>=$B$5,HW15<$B$6),IF(HW16=1,IF(HW17>=$C$5,VLOOKUP(HW18,Kurināmais!$A$4:$G$351,$NQ$8,FALSE)/9.3*Biomasa!$Q$6*$CQ$6,\" \"),IF(AND(HW16>1,HW16<=10),VLOOKUP(HW18,Kurināmais!$A$4:$G$351,$NQ$8,FALSE)/9.3*Biomasa!$Q$6*$CQ$6,IF(HW16=11,IF(HW17<$C$5,VLOOKUP(HW18,Kurināmais!$A$4:$G$351,$NQ$8,FALSE)/9.3*Biomasa!$Q$6*$CQ$6,VLOOKUP(HW18,Kurināmais!$A$4:$G$351,$NQ$8,FALSE)/9.3*$AD$6*$CQ$6),IF(HW16>11,VLOOKUP(HW18,Kurināmais!$A$4:$G$351,$NQ$8,FALSE)/9.3*$AD$6*$CQ$6)))),IF(AND(HW16=$NQ$4,$C$6=12),VLOOKUP(HW18,Kurināmais!$A$4:$G$351,$NQ$8,FALSE)/9.3*$AD$6*$CQ$6,IF(AND(HW16=$NQ$4+1,$C$6<12,HW17<=$C$6,$NQ$4=10),VLOOKUP(HW18,Kurināmais!$A$4:$G$351,$NQ$8,FALSE)/9.3*$Q$6*$CQ$6,IF(AND(HW16=$NQ$4+1,$C$6<12,HW17<=$C$6),VLOOKUP(HW18,Kurināmais!$A$4:$G$351,$NQ$8,FALSE)/9.3*$AD$6*$CQ$6,\" \"))))","v":" "},{"$f":"IF(AND(HX15>=$B$5,HX15<$B$6),IF(HX16=1,IF(HX17>=$C$5,VLOOKUP(HX18,Kurināmais!$A$4:$G$351,$NQ$8,FALSE)/9.3*Biomasa!$Q$6*$CQ$6,\" \"),IF(AND(HX16>1,HX16<=10),VLOOKUP(HX18,Kurināmais!$A$4:$G$351,$NQ$8,FALSE)/9.3*Biomasa!$Q$6*$CQ$6,IF(HX16=11,IF(HX17<$C$5,VLOOKUP(HX18,Kurināmais!$A$4:$G$351,$NQ$8,FALSE)/9.3*Biomasa!$Q$6*$CQ$6,VLOOKUP(HX18,Kurināmais!$A$4:$G$351,$NQ$8,FALSE)/9.3*$AD$6*$CQ$6),IF(HX16>11,VLOOKUP(HX18,Kurināmais!$A$4:$G$351,$NQ$8,FALSE)/9.3*$AD$6*$CQ$6)))),IF(AND(HX16=$NQ$4,$C$6=12),VLOOKUP(HX18,Kurināmais!$A$4:$G$351,$NQ$8,FALSE)/9.3*$AD$6*$CQ$6,IF(AND(HX16=$NQ$4+1,$C$6<12,HX17<=$C$6,$NQ$4=10),VLOOKUP(HX18,Kurināmais!$A$4:$G$351,$NQ$8,FALSE)/9.3*$Q$6*$CQ$6,IF(AND(HX16=$NQ$4+1,$C$6<12,HX17<=$C$6),VLOOKUP(HX18,Kurināmais!$A$4:$G$351,$NQ$8,FALSE)/9.3*$AD$6*$CQ$6,\" \"))))","v":" "},{"$f":"IF(AND(HY15>=$B$5,HY15<$B$6),IF(HY16=1,IF(HY17>=$C$5,VLOOKUP(HY18,Kurināmais!$A$4:$G$351,$NQ$8,FALSE)/9.3*Biomasa!$Q$6*$CQ$6,\" \"),IF(AND(HY16>1,HY16<=10),VLOOKUP(HY18,Kurināmais!$A$4:$G$351,$NQ$8,FALSE)/9.3*Biomasa!$Q$6*$CQ$6,IF(HY16=11,IF(HY17<$C$5,VLOOKUP(HY18,Kurināmais!$A$4:$G$351,$NQ$8,FALSE)/9.3*Biomasa!$Q$6*$CQ$6,VLOOKUP(HY18,Kurināmais!$A$4:$G$351,$NQ$8,FALSE)/9.3*$AD$6*$CQ$6),IF(HY16>11,VLOOKUP(HY18,Kurināmais!$A$4:$G$351,$NQ$8,FALSE)/9.3*$AD$6*$CQ$6)))),IF(AND(HY16=$NQ$4,$C$6=12),VLOOKUP(HY18,Kurināmais!$A$4:$G$351,$NQ$8,FALSE)/9.3*$AD$6*$CQ$6,IF(AND(HY16=$NQ$4+1,$C$6<12,HY17<=$C$6,$NQ$4=10),VLOOKUP(HY18,Kurināmais!$A$4:$G$351,$NQ$8,FALSE)/9.3*$Q$6*$CQ$6,IF(AND(HY16=$NQ$4+1,$C$6<12,HY17<=$C$6),VLOOKUP(HY18,Kurināmais!$A$4:$G$351,$NQ$8,FALSE)/9.3*$AD$6*$CQ$6,\" \"))))","v":" "},{"$f":"IF(AND(HZ15>=$B$5,HZ15<$B$6),IF(HZ16=1,IF(HZ17>=$C$5,VLOOKUP(HZ18,Kurināmais!$A$4:$G$351,$NQ$8,FALSE)/9.3*Biomasa!$Q$6*$CQ$6,\" \"),IF(AND(HZ16>1,HZ16<=10),VLOOKUP(HZ18,Kurināmais!$A$4:$G$351,$NQ$8,FALSE)/9.3*Biomasa!$Q$6*$CQ$6,IF(HZ16=11,IF(HZ17<$C$5,VLOOKUP(HZ18,Kurināmais!$A$4:$G$351,$NQ$8,FALSE)/9.3*Biomasa!$Q$6*$CQ$6,VLOOKUP(HZ18,Kurināmais!$A$4:$G$351,$NQ$8,FALSE)/9.3*$AD$6*$CQ$6),IF(HZ16>11,VLOOKUP(HZ18,Kurināmais!$A$4:$G$351,$NQ$8,FALSE)/9.3*$AD$6*$CQ$6)))),IF(AND(HZ16=$NQ$4,$C$6=12),VLOOKUP(HZ18,Kurināmais!$A$4:$G$351,$NQ$8,FALSE)/9.3*$AD$6*$CQ$6,IF(AND(HZ16=$NQ$4+1,$C$6<12,HZ17<=$C$6,$NQ$4=10),VLOOKUP(HZ18,Kurināmais!$A$4:$G$351,$NQ$8,FALSE)/9.3*$Q$6*$CQ$6,IF(AND(HZ16=$NQ$4+1,$C$6<12,HZ17<=$C$6),VLOOKUP(HZ18,Kurināmais!$A$4:$G$351,$NQ$8,FALSE)/9.3*$AD$6*$CQ$6,\" \"))))","v":" "},{"$f":"IF(AND(IA15>=$B$5,IA15<$B$6),IF(IA16=1,IF(IA17>=$C$5,VLOOKUP(IA18,Kurināmais!$A$4:$G$351,$NQ$8,FALSE)/9.3*Biomasa!$Q$6*$CQ$6,\" \"),IF(AND(IA16>1,IA16<=10),VLOOKUP(IA18,Kurināmais!$A$4:$G$351,$NQ$8,FALSE)/9.3*Biomasa!$Q$6*$CQ$6,IF(IA16=11,IF(IA17<$C$5,VLOOKUP(IA18,Kurināmais!$A$4:$G$351,$NQ$8,FALSE)/9.3*Biomasa!$Q$6*$CQ$6,VLOOKUP(IA18,Kurināmais!$A$4:$G$351,$NQ$8,FALSE)/9.3*$AD$6*$CQ$6),IF(IA16>11,VLOOKUP(IA18,Kurināmais!$A$4:$G$351,$NQ$8,FALSE)/9.3*$AD$6*$CQ$6)))),IF(AND(IA16=$NQ$4,$C$6=12),VLOOKUP(IA18,Kurināmais!$A$4:$G$351,$NQ$8,FALSE)/9.3*$AD$6*$CQ$6,IF(AND(IA16=$NQ$4+1,$C$6<12,IA17<=$C$6,$NQ$4=10),VLOOKUP(IA18,Kurināmais!$A$4:$G$351,$NQ$8,FALSE)/9.3*$Q$6*$CQ$6,IF(AND(IA16=$NQ$4+1,$C$6<12,IA17<=$C$6),VLOOKUP(IA18,Kurināmais!$A$4:$G$351,$NQ$8,FALSE)/9.3*$AD$6*$CQ$6,\" \"))))","v":" "},{"$f":"IF(AND(IB15>=$B$5,IB15<$B$6),IF(IB16=1,IF(IB17>=$C$5,VLOOKUP(IB18,Kurināmais!$A$4:$G$351,$NQ$8,FALSE)/9.3*Biomasa!$Q$6*$CQ$6,\" \"),IF(AND(IB16>1,IB16<=10),VLOOKUP(IB18,Kurināmais!$A$4:$G$351,$NQ$8,FALSE)/9.3*Biomasa!$Q$6*$CQ$6,IF(IB16=11,IF(IB17<$C$5,VLOOKUP(IB18,Kurināmais!$A$4:$G$351,$NQ$8,FALSE)/9.3*Biomasa!$Q$6*$CQ$6,VLOOKUP(IB18,Kurināmais!$A$4:$G$351,$NQ$8,FALSE)/9.3*$AD$6*$CQ$6),IF(IB16>11,VLOOKUP(IB18,Kurināmais!$A$4:$G$351,$NQ$8,FALSE)/9.3*$AD$6*$CQ$6)))),IF(AND(IB16=$NQ$4,$C$6=12),VLOOKUP(IB18,Kurināmais!$A$4:$G$351,$NQ$8,FALSE)/9.3*$AD$6*$CQ$6,IF(AND(IB16=$NQ$4+1,$C$6<12,IB17<=$C$6,$NQ$4=10),VLOOKUP(IB18,Kurināmais!$A$4:$G$351,$NQ$8,FALSE)/9.3*$Q$6*$CQ$6,IF(AND(IB16=$NQ$4+1,$C$6<12,IB17<=$C$6),VLOOKUP(IB18,Kurināmais!$A$4:$G$351,$NQ$8,FALSE)/9.3*$AD$6*$CQ$6,\" \"))))","v":" "},{"$f":"IF(AND(IC15>=$B$5,IC15<$B$6),IF(IC16=1,IF(IC17>=$C$5,VLOOKUP(IC18,Kurināmais!$A$4:$G$351,$NQ$8,FALSE)/9.3*Biomasa!$Q$6*$CQ$6,\" \"),IF(AND(IC16>1,IC16<=10),VLOOKUP(IC18,Kurināmais!$A$4:$G$351,$NQ$8,FALSE)/9.3*Biomasa!$Q$6*$CQ$6,IF(IC16=11,IF(IC17<$C$5,VLOOKUP(IC18,Kurināmais!$A$4:$G$351,$NQ$8,FALSE)/9.3*Biomasa!$Q$6*$CQ$6,VLOOKUP(IC18,Kurināmais!$A$4:$G$351,$NQ$8,FALSE)/9.3*$AD$6*$CQ$6),IF(IC16>11,VLOOKUP(IC18,Kurināmais!$A$4:$G$351,$NQ$8,FALSE)/9.3*$AD$6*$CQ$6)))),IF(AND(IC16=$NQ$4,$C$6=12),VLOOKUP(IC18,Kurināmais!$A$4:$G$351,$NQ$8,FALSE)/9.3*$AD$6*$CQ$6,IF(AND(IC16=$NQ$4+1,$C$6<12,IC17<=$C$6,$NQ$4=10),VLOOKUP(IC18,Kurināmais!$A$4:$G$351,$NQ$8,FALSE)/9.3*$Q$6*$CQ$6,IF(AND(IC16=$NQ$4+1,$C$6<12,IC17<=$C$6),VLOOKUP(IC18,Kurināmais!$A$4:$G$351,$NQ$8,FALSE)/9.3*$AD$6*$CQ$6,\" \"))))","v":" "},{"$f":"IF(OR(ID$16=\" \",ID$16=0,ID21=0),\" \",SUMPRODUCT(IE21:IP21,IE22:IP22)/ID21)","v":" "},{"$f":"IF(AND(IE15>=$B$5,IE15<$B$6),IF(IE16=1,IF(IE17>=$C$5,VLOOKUP(IE18,Kurināmais!$A$4:$G$351,$NQ$8,FALSE)/9.3*Biomasa!$Q$6*$CQ$6,\" \"),IF(AND(IE16>1,IE16<=10),VLOOKUP(IE18,Kurināmais!$A$4:$G$351,$NQ$8,FALSE)/9.3*Biomasa!$Q$6*$CQ$6,IF(IE16=11,IF(IE17<$C$5,VLOOKUP(IE18,Kurināmais!$A$4:$G$351,$NQ$8,FALSE)/9.3*Biomasa!$Q$6*$CQ$6,VLOOKUP(IE18,Kurināmais!$A$4:$G$351,$NQ$8,FALSE)/9.3*$AD$6*$CQ$6),IF(IE16>11,VLOOKUP(IE18,Kurināmais!$A$4:$G$351,$NQ$8,FALSE)/9.3*$AD$6*$CQ$6)))),IF(AND(IE16=$NQ$4,$C$6=12),VLOOKUP(IE18,Kurināmais!$A$4:$G$351,$NQ$8,FALSE)/9.3*$AD$6*$CQ$6,IF(AND(IE16=$NQ$4+1,$C$6<12,IE17<=$C$6,$NQ$4=10),VLOOKUP(IE18,Kurināmais!$A$4:$G$351,$NQ$8,FALSE)/9.3*$Q$6*$CQ$6,IF(AND(IE16=$NQ$4+1,$C$6<12,IE17<=$C$6),VLOOKUP(IE18,Kurināmais!$A$4:$G$351,$NQ$8,FALSE)/9.3*$AD$6*$CQ$6,\" \"))))","v":" "},{"$f":"IF(AND(IF15>=$B$5,IF15<$B$6),IF(IF16=1,IF(IF17>=$C$5,VLOOKUP(IF18,Kurināmais!$A$4:$G$351,$NQ$8,FALSE)/9.3*Biomasa!$Q$6*$CQ$6,\" \"),IF(AND(IF16>1,IF16<=10),VLOOKUP(IF18,Kurināmais!$A$4:$G$351,$NQ$8,FALSE)/9.3*Biomasa!$Q$6*$CQ$6,IF(IF16=11,IF(IF17<$C$5,VLOOKUP(IF18,Kurināmais!$A$4:$G$351,$NQ$8,FALSE)/9.3*Biomasa!$Q$6*$CQ$6,VLOOKUP(IF18,Kurināmais!$A$4:$G$351,$NQ$8,FALSE)/9.3*$AD$6*$CQ$6),IF(IF16>11,VLOOKUP(IF18,Kurināmais!$A$4:$G$351,$NQ$8,FALSE)/9.3*$AD$6*$CQ$6)))),IF(AND(IF16=$NQ$4,$C$6=12),VLOOKUP(IF18,Kurināmais!$A$4:$G$351,$NQ$8,FALSE)/9.3*$AD$6*$CQ$6,IF(AND(IF16=$NQ$4+1,$C$6<12,IF17<=$C$6,$NQ$4=10),VLOOKUP(IF18,Kurināmais!$A$4:$G$351,$NQ$8,FALSE)/9.3*$Q$6*$CQ$6,IF(AND(IF16=$NQ$4+1,$C$6<12,IF17<=$C$6),VLOOKUP(IF18,Kurināmais!$A$4:$G$351,$NQ$8,FALSE)/9.3*$AD$6*$CQ$6,\" \"))))","v":" "},{"$f":"IF(AND(IG15>=$B$5,IG15<$B$6),IF(IG16=1,IF(IG17>=$C$5,VLOOKUP(IG18,Kurināmais!$A$4:$G$351,$NQ$8,FALSE)/9.3*Biomasa!$Q$6*$CQ$6,\" \"),IF(AND(IG16>1,IG16<=10),VLOOKUP(IG18,Kurināmais!$A$4:$G$351,$NQ$8,FALSE)/9.3*Biomasa!$Q$6*$CQ$6,IF(IG16=11,IF(IG17<$C$5,VLOOKUP(IG18,Kurināmais!$A$4:$G$351,$NQ$8,FALSE)/9.3*Biomasa!$Q$6*$CQ$6,VLOOKUP(IG18,Kurināmais!$A$4:$G$351,$NQ$8,FALSE)/9.3*$AD$6*$CQ$6),IF(IG16>11,VLOOKUP(IG18,Kurināmais!$A$4:$G$351,$NQ$8,FALSE)/9.3*$AD$6*$CQ$6)))),IF(AND(IG16=$NQ$4,$C$6=12),VLOOKUP(IG18,Kurināmais!$A$4:$G$351,$NQ$8,FALSE)/9.3*$AD$6*$CQ$6,IF(AND(IG16=$NQ$4+1,$C$6<12,IG17<=$C$6,$NQ$4=10),VLOOKUP(IG18,Kurināmais!$A$4:$G$351,$NQ$8,FALSE)/9.3*$Q$6*$CQ$6,IF(AND(IG16=$NQ$4+1,$C$6<12,IG17<=$C$6),VLOOKUP(IG18,Kurināmais!$A$4:$G$351,$NQ$8,FALSE)/9.3*$AD$6*$CQ$6,\" \"))))","v":" "},{"$f":"IF(AND(IH15>=$B$5,IH15<$B$6),IF(IH16=1,IF(IH17>=$C$5,VLOOKUP(IH18,Kurināmais!$A$4:$G$351,$NQ$8,FALSE)/9.3*Biomasa!$Q$6*$CQ$6,\" \"),IF(AND(IH16>1,IH16<=10),VLOOKUP(IH18,Kurināmais!$A$4:$G$351,$NQ$8,FALSE)/9.3*Biomasa!$Q$6*$CQ$6,IF(IH16=11,IF(IH17<$C$5,VLOOKUP(IH18,Kurināmais!$A$4:$G$351,$NQ$8,FALSE)/9.3*Biomasa!$Q$6*$CQ$6,VLOOKUP(IH18,Kurināmais!$A$4:$G$351,$NQ$8,FALSE)/9.3*$AD$6*$CQ$6),IF(IH16>11,VLOOKUP(IH18,Kurināmais!$A$4:$G$351,$NQ$8,FALSE)/9.3*$AD$6*$CQ$6)))),IF(AND(IH16=$NQ$4,$C$6=12),VLOOKUP(IH18,Kurināmais!$A$4:$G$351,$NQ$8,FALSE)/9.3*$AD$6*$CQ$6,IF(AND(IH16=$NQ$4+1,$C$6<12,IH17<=$C$6,$NQ$4=10),VLOOKUP(IH18,Kurināmais!$A$4:$G$351,$NQ$8,FALSE)/9.3*$Q$6*$CQ$6,IF(AND(IH16=$NQ$4+1,$C$6<12,IH17<=$C$6),VLOOKUP(IH18,Kurināmais!$A$4:$G$351,$NQ$8,FALSE)/9.3*$AD$6*$CQ$6,\" \"))))","v":" "},{"$f":"IF(AND(II15>=$B$5,II15<$B$6),IF(II16=1,IF(II17>=$C$5,VLOOKUP(II18,Kurināmais!$A$4:$G$351,$NQ$8,FALSE)/9.3*Biomasa!$Q$6*$CQ$6,\" \"),IF(AND(II16>1,II16<=10),VLOOKUP(II18,Kurināmais!$A$4:$G$351,$NQ$8,FALSE)/9.3*Biomasa!$Q$6*$CQ$6,IF(II16=11,IF(II17<$C$5,VLOOKUP(II18,Kurināmais!$A$4:$G$351,$NQ$8,FALSE)/9.3*Biomasa!$Q$6*$CQ$6,VLOOKUP(II18,Kurināmais!$A$4:$G$351,$NQ$8,FALSE)/9.3*$AD$6*$CQ$6),IF(II16>11,VLOOKUP(II18,Kurināmais!$A$4:$G$351,$NQ$8,FALSE)/9.3*$AD$6*$CQ$6)))),IF(AND(II16=$NQ$4,$C$6=12),VLOOKUP(II18,Kurināmais!$A$4:$G$351,$NQ$8,FALSE)/9.3*$AD$6*$CQ$6,IF(AND(II16=$NQ$4+1,$C$6<12,II17<=$C$6,$NQ$4=10),VLOOKUP(II18,Kurināmais!$A$4:$G$351,$NQ$8,FALSE)/9.3*$Q$6*$CQ$6,IF(AND(II16=$NQ$4+1,$C$6<12,II17<=$C$6),VLOOKUP(II18,Kurināmais!$A$4:$G$351,$NQ$8,FALSE)/9.3*$AD$6*$CQ$6,\" \"))))","v":" "},{"$f":"IF(AND(IJ15>=$B$5,IJ15<$B$6),IF(IJ16=1,IF(IJ17>=$C$5,VLOOKUP(IJ18,Kurināmais!$A$4:$G$351,$NQ$8,FALSE)/9.3*Biomasa!$Q$6*$CQ$6,\" \"),IF(AND(IJ16>1,IJ16<=10),VLOOKUP(IJ18,Kurināmais!$A$4:$G$351,$NQ$8,FALSE)/9.3*Biomasa!$Q$6*$CQ$6,IF(IJ16=11,IF(IJ17<$C$5,VLOOKUP(IJ18,Kurināmais!$A$4:$G$351,$NQ$8,FALSE)/9.3*Biomasa!$Q$6*$CQ$6,VLOOKUP(IJ18,Kurināmais!$A$4:$G$351,$NQ$8,FALSE)/9.3*$AD$6*$CQ$6),IF(IJ16>11,VLOOKUP(IJ18,Kurināmais!$A$4:$G$351,$NQ$8,FALSE)/9.3*$AD$6*$CQ$6)))),IF(AND(IJ16=$NQ$4,$C$6=12),VLOOKUP(IJ18,Kurināmais!$A$4:$G$351,$NQ$8,FALSE)/9.3*$AD$6*$CQ$6,IF(AND(IJ16=$NQ$4+1,$C$6<12,IJ17<=$C$6,$NQ$4=10),VLOOKUP(IJ18,Kurināmais!$A$4:$G$351,$NQ$8,FALSE)/9.3*$Q$6*$CQ$6,IF(AND(IJ16=$NQ$4+1,$C$6<12,IJ17<=$C$6),VLOOKUP(IJ18,Kurināmais!$A$4:$G$351,$NQ$8,FALSE)/9.3*$AD$6*$CQ$6,\" \"))))","v":" "},{"$f":"IF(AND(IK15>=$B$5,IK15<$B$6),IF(IK16=1,IF(IK17>=$C$5,VLOOKUP(IK18,Kurināmais!$A$4:$G$351,$NQ$8,FALSE)/9.3*Biomasa!$Q$6*$CQ$6,\" \"),IF(AND(IK16>1,IK16<=10),VLOOKUP(IK18,Kurināmais!$A$4:$G$351,$NQ$8,FALSE)/9.3*Biomasa!$Q$6*$CQ$6,IF(IK16=11,IF(IK17<$C$5,VLOOKUP(IK18,Kurināmais!$A$4:$G$351,$NQ$8,FALSE)/9.3*Biomasa!$Q$6*$CQ$6,VLOOKUP(IK18,Kurināmais!$A$4:$G$351,$NQ$8,FALSE)/9.3*$AD$6*$CQ$6),IF(IK16>11,VLOOKUP(IK18,Kurināmais!$A$4:$G$351,$NQ$8,FALSE)/9.3*$AD$6*$CQ$6)))),IF(AND(IK16=$NQ$4,$C$6=12),VLOOKUP(IK18,Kurināmais!$A$4:$G$351,$NQ$8,FALSE)/9.3*$AD$6*$CQ$6,IF(AND(IK16=$NQ$4+1,$C$6<12,IK17<=$C$6,$NQ$4=10),VLOOKUP(IK18,Kurināmais!$A$4:$G$351,$NQ$8,FALSE)/9.3*$Q$6*$CQ$6,IF(AND(IK16=$NQ$4+1,$C$6<12,IK17<=$C$6),VLOOKUP(IK18,Kurināmais!$A$4:$G$351,$NQ$8,FALSE)/9.3*$AD$6*$CQ$6,\" \"))))","v":" "},{"$f":"IF(AND(IL15>=$B$5,IL15<$B$6),IF(IL16=1,IF(IL17>=$C$5,VLOOKUP(IL18,Kurināmais!$A$4:$G$351,$NQ$8,FALSE)/9.3*Biomasa!$Q$6*$CQ$6,\" \"),IF(AND(IL16>1,IL16<=10),VLOOKUP(IL18,Kurināmais!$A$4:$G$351,$NQ$8,FALSE)/9.3*Biomasa!$Q$6*$CQ$6,IF(IL16=11,IF(IL17<$C$5,VLOOKUP(IL18,Kurināmais!$A$4:$G$351,$NQ$8,FALSE)/9.3*Biomasa!$Q$6*$CQ$6,VLOOKUP(IL18,Kurināmais!$A$4:$G$351,$NQ$8,FALSE)/9.3*$AD$6*$CQ$6),IF(IL16>11,VLOOKUP(IL18,Kurināmais!$A$4:$G$351,$NQ$8,FALSE)/9.3*$AD$6*$CQ$6)))),IF(AND(IL16=$NQ$4,$C$6=12),VLOOKUP(IL18,Kurināmais!$A$4:$G$351,$NQ$8,FALSE)/9.3*$AD$6*$CQ$6,IF(AND(IL16=$NQ$4+1,$C$6<12,IL17<=$C$6,$NQ$4=10),VLOOKUP(IL18,Kurināmais!$A$4:$G$351,$NQ$8,FALSE)/9.3*$Q$6*$CQ$6,IF(AND(IL16=$NQ$4+1,$C$6<12,IL17<=$C$6),VLOOKUP(IL18,Kurināmais!$A$4:$G$351,$NQ$8,FALSE)/9.3*$AD$6*$CQ$6,\" \"))))","v":" "},{"$f":"IF(AND(IM15>=$B$5,IM15<$B$6),IF(IM16=1,IF(IM17>=$C$5,VLOOKUP(IM18,Kurināmais!$A$4:$G$351,$NQ$8,FALSE)/9.3*Biomasa!$Q$6*$CQ$6,\" \"),IF(AND(IM16>1,IM16<=10),VLOOKUP(IM18,Kurināmais!$A$4:$G$351,$NQ$8,FALSE)/9.3*Biomasa!$Q$6*$CQ$6,IF(IM16=11,IF(IM17<$C$5,VLOOKUP(IM18,Kurināmais!$A$4:$G$351,$NQ$8,FALSE)/9.3*Biomasa!$Q$6*$CQ$6,VLOOKUP(IM18,Kurināmais!$A$4:$G$351,$NQ$8,FALSE)/9.3*$AD$6*$CQ$6),IF(IM16>11,VLOOKUP(IM18,Kurināmais!$A$4:$G$351,$NQ$8,FALSE)/9.3*$AD$6*$CQ$6)))),IF(AND(IM16=$NQ$4,$C$6=12),VLOOKUP(IM18,Kurināmais!$A$4:$G$351,$NQ$8,FALSE)/9.3*$AD$6*$CQ$6,IF(AND(IM16=$NQ$4+1,$C$6<12,IM17<=$C$6,$NQ$4=10),VLOOKUP(IM18,Kurināmais!$A$4:$G$351,$NQ$8,FALSE)/9.3*$Q$6*$CQ$6,IF(AND(IM16=$NQ$4+1,$C$6<12,IM17<=$C$6),VLOOKUP(IM18,Kurināmais!$A$4:$G$351,$NQ$8,FALSE)/9.3*$AD$6*$CQ$6,\" \"))))","v":" "},{"$f":"IF(AND(IN15>=$B$5,IN15<$B$6),IF(IN16=1,IF(IN17>=$C$5,VLOOKUP(IN18,Kurināmais!$A$4:$G$351,$NQ$8,FALSE)/9.3*Biomasa!$Q$6*$CQ$6,\" \"),IF(AND(IN16>1,IN16<=10),VLOOKUP(IN18,Kurināmais!$A$4:$G$351,$NQ$8,FALSE)/9.3*Biomasa!$Q$6*$CQ$6,IF(IN16=11,IF(IN17<$C$5,VLOOKUP(IN18,Kurināmais!$A$4:$G$351,$NQ$8,FALSE)/9.3*Biomasa!$Q$6*$CQ$6,VLOOKUP(IN18,Kurināmais!$A$4:$G$351,$NQ$8,FALSE)/9.3*$AD$6*$CQ$6),IF(IN16>11,VLOOKUP(IN18,Kurināmais!$A$4:$G$351,$NQ$8,FALSE)/9.3*$AD$6*$CQ$6)))),IF(AND(IN16=$NQ$4,$C$6=12),VLOOKUP(IN18,Kurināmais!$A$4:$G$351,$NQ$8,FALSE)/9.3*$AD$6*$CQ$6,IF(AND(IN16=$NQ$4+1,$C$6<12,IN17<=$C$6,$NQ$4=10),VLOOKUP(IN18,Kurināmais!$A$4:$G$351,$NQ$8,FALSE)/9.3*$Q$6*$CQ$6,IF(AND(IN16=$NQ$4+1,$C$6<12,IN17<=$C$6),VLOOKUP(IN18,Kurināmais!$A$4:$G$351,$NQ$8,FALSE)/9.3*$AD$6*$CQ$6,\" \"))))","v":" "},{"$f":"IF(AND(IO15>=$B$5,IO15<$B$6),IF(IO16=1,IF(IO17>=$C$5,VLOOKUP(IO18,Kurināmais!$A$4:$G$351,$NQ$8,FALSE)/9.3*Biomasa!$Q$6*$CQ$6,\" \"),IF(AND(IO16>1,IO16<=10),VLOOKUP(IO18,Kurināmais!$A$4:$G$351,$NQ$8,FALSE)/9.3*Biomasa!$Q$6*$CQ$6,IF(IO16=11,IF(IO17<$C$5,VLOOKUP(IO18,Kurināmais!$A$4:$G$351,$NQ$8,FALSE)/9.3*Biomasa!$Q$6*$CQ$6,VLOOKUP(IO18,Kurināmais!$A$4:$G$351,$NQ$8,FALSE)/9.3*$AD$6*$CQ$6),IF(IO16>11,VLOOKUP(IO18,Kurināmais!$A$4:$G$351,$NQ$8,FALSE)/9.3*$AD$6*$CQ$6)))),IF(AND(IO16=$NQ$4,$C$6=12),VLOOKUP(IO18,Kurināmais!$A$4:$G$351,$NQ$8,FALSE)/9.3*$AD$6*$CQ$6,IF(AND(IO16=$NQ$4+1,$C$6<12,IO17<=$C$6,$NQ$4=10),VLOOKUP(IO18,Kurināmais!$A$4:$G$351,$NQ$8,FALSE)/9.3*$Q$6*$CQ$6,IF(AND(IO16=$NQ$4+1,$C$6<12,IO17<=$C$6),VLOOKUP(IO18,Kurināmais!$A$4:$G$351,$NQ$8,FALSE)/9.3*$AD$6*$CQ$6,\" \"))))","v":" "},{"$f":"IF(AND(IP15>=$B$5,IP15<$B$6),IF(IP16=1,IF(IP17>=$C$5,VLOOKUP(IP18,Kurināmais!$A$4:$G$351,$NQ$8,FALSE)/9.3*Biomasa!$Q$6*$CQ$6,\" \"),IF(AND(IP16>1,IP16<=10),VLOOKUP(IP18,Kurināmais!$A$4:$G$351,$NQ$8,FALSE)/9.3*Biomasa!$Q$6*$CQ$6,IF(IP16=11,IF(IP17<$C$5,VLOOKUP(IP18,Kurināmais!$A$4:$G$351,$NQ$8,FALSE)/9.3*Biomasa!$Q$6*$CQ$6,VLOOKUP(IP18,Kurināmais!$A$4:$G$351,$NQ$8,FALSE)/9.3*$AD$6*$CQ$6),IF(IP16>11,VLOOKUP(IP18,Kurināmais!$A$4:$G$351,$NQ$8,FALSE)/9.3*$AD$6*$CQ$6)))),IF(AND(IP16=$NQ$4,$C$6=12),VLOOKUP(IP18,Kurināmais!$A$4:$G$351,$NQ$8,FALSE)/9.3*$AD$6*$CQ$6,IF(AND(IP16=$NQ$4+1,$C$6<12,IP17<=$C$6,$NQ$4=10),VLOOKUP(IP18,Kurināmais!$A$4:$G$351,$NQ$8,FALSE)/9.3*$Q$6*$CQ$6,IF(AND(IP16=$NQ$4+1,$C$6<12,IP17<=$C$6),VLOOKUP(IP18,Kurināmais!$A$4:$G$351,$NQ$8,FALSE)/9.3*$AD$6*$CQ$6,\" \"))))","v":" "},{"$f":"IF(OR(IQ$16=\" \",IQ$16=0,IQ21=0),\" \",SUMPRODUCT(IR21:JC21,IR22:JC22)/IQ21)","v":" "},{"$f":"IF(AND(IR15>=$B$5,IR15<$B$6),IF(IR16=1,IF(IR17>=$C$5,VLOOKUP(IR18,Kurināmais!$A$4:$G$351,$NQ$8,FALSE)/9.3*Biomasa!$Q$6*$CQ$6,\" \"),IF(AND(IR16>1,IR16<=10),VLOOKUP(IR18,Kurināmais!$A$4:$G$351,$NQ$8,FALSE)/9.3*Biomasa!$Q$6*$CQ$6,IF(IR16=11,IF(IR17<$C$5,VLOOKUP(IR18,Kurināmais!$A$4:$G$351,$NQ$8,FALSE)/9.3*Biomasa!$Q$6*$CQ$6,VLOOKUP(IR18,Kurināmais!$A$4:$G$351,$NQ$8,FALSE)/9.3*$AD$6*$CQ$6),IF(IR16>11,VLOOKUP(IR18,Kurināmais!$A$4:$G$351,$NQ$8,FALSE)/9.3*$AD$6*$CQ$6)))),IF(AND(IR16=$NQ$4,$C$6=12),VLOOKUP(IR18,Kurināmais!$A$4:$G$351,$NQ$8,FALSE)/9.3*$AD$6*$CQ$6,IF(AND(IR16=$NQ$4+1,$C$6<12,IR17<=$C$6,$NQ$4=10),VLOOKUP(IR18,Kurināmais!$A$4:$G$351,$NQ$8,FALSE)/9.3*$Q$6*$CQ$6,IF(AND(IR16=$NQ$4+1,$C$6<12,IR17<=$C$6),VLOOKUP(IR18,Kurināmais!$A$4:$G$351,$NQ$8,FALSE)/9.3*$AD$6*$CQ$6,\" \"))))","v":" "},{"$f":"IF(AND(IS15>=$B$5,IS15<$B$6),IF(IS16=1,IF(IS17>=$C$5,VLOOKUP(IS18,Kurināmais!$A$4:$G$351,$NQ$8,FALSE)/9.3*Biomasa!$Q$6*$CQ$6,\" \"),IF(AND(IS16>1,IS16<=10),VLOOKUP(IS18,Kurināmais!$A$4:$G$351,$NQ$8,FALSE)/9.3*Biomasa!$Q$6*$CQ$6,IF(IS16=11,IF(IS17<$C$5,VLOOKUP(IS18,Kurināmais!$A$4:$G$351,$NQ$8,FALSE)/9.3*Biomasa!$Q$6*$CQ$6,VLOOKUP(IS18,Kurināmais!$A$4:$G$351,$NQ$8,FALSE)/9.3*$AD$6*$CQ$6),IF(IS16>11,VLOOKUP(IS18,Kurināmais!$A$4:$G$351,$NQ$8,FALSE)/9.3*$AD$6*$CQ$6)))),IF(AND(IS16=$NQ$4,$C$6=12),VLOOKUP(IS18,Kurināmais!$A$4:$G$351,$NQ$8,FALSE)/9.3*$AD$6*$CQ$6,IF(AND(IS16=$NQ$4+1,$C$6<12,IS17<=$C$6,$NQ$4=10),VLOOKUP(IS18,Kurināmais!$A$4:$G$351,$NQ$8,FALSE)/9.3*$Q$6*$CQ$6,IF(AND(IS16=$NQ$4+1,$C$6<12,IS17<=$C$6),VLOOKUP(IS18,Kurināmais!$A$4:$G$351,$NQ$8,FALSE)/9.3*$AD$6*$CQ$6,\" \"))))","v":" "},{"$f":"IF(AND(IT15>=$B$5,IT15<$B$6),IF(IT16=1,IF(IT17>=$C$5,VLOOKUP(IT18,Kurināmais!$A$4:$G$351,$NQ$8,FALSE)/9.3*Biomasa!$Q$6*$CQ$6,\" \"),IF(AND(IT16>1,IT16<=10),VLOOKUP(IT18,Kurināmais!$A$4:$G$351,$NQ$8,FALSE)/9.3*Biomasa!$Q$6*$CQ$6,IF(IT16=11,IF(IT17<$C$5,VLOOKUP(IT18,Kurināmais!$A$4:$G$351,$NQ$8,FALSE)/9.3*Biomasa!$Q$6*$CQ$6,VLOOKUP(IT18,Kurināmais!$A$4:$G$351,$NQ$8,FALSE)/9.3*$AD$6*$CQ$6),IF(IT16>11,VLOOKUP(IT18,Kurināmais!$A$4:$G$351,$NQ$8,FALSE)/9.3*$AD$6*$CQ$6)))),IF(AND(IT16=$NQ$4,$C$6=12),VLOOKUP(IT18,Kurināmais!$A$4:$G$351,$NQ$8,FALSE)/9.3*$AD$6*$CQ$6,IF(AND(IT16=$NQ$4+1,$C$6<12,IT17<=$C$6,$NQ$4=10),VLOOKUP(IT18,Kurināmais!$A$4:$G$351,$NQ$8,FALSE)/9.3*$Q$6*$CQ$6,IF(AND(IT16=$NQ$4+1,$C$6<12,IT17<=$C$6),VLOOKUP(IT18,Kurināmais!$A$4:$G$351,$NQ$8,FALSE)/9.3*$AD$6*$CQ$6,\" \"))))","v":" "},{"$f":"IF(AND(IU15>=$B$5,IU15<$B$6),IF(IU16=1,IF(IU17>=$C$5,VLOOKUP(IU18,Kurināmais!$A$4:$G$351,$NQ$8,FALSE)/9.3*Biomasa!$Q$6*$CQ$6,\" \"),IF(AND(IU16>1,IU16<=10),VLOOKUP(IU18,Kurināmais!$A$4:$G$351,$NQ$8,FALSE)/9.3*Biomasa!$Q$6*$CQ$6,IF(IU16=11,IF(IU17<$C$5,VLOOKUP(IU18,Kurināmais!$A$4:$G$351,$NQ$8,FALSE)/9.3*Biomasa!$Q$6*$CQ$6,VLOOKUP(IU18,Kurināmais!$A$4:$G$351,$NQ$8,FALSE)/9.3*$AD$6*$CQ$6),IF(IU16>11,VLOOKUP(IU18,Kurināmais!$A$4:$G$351,$NQ$8,FALSE)/9.3*$AD$6*$CQ$6)))),IF(AND(IU16=$NQ$4,$C$6=12),VLOOKUP(IU18,Kurināmais!$A$4:$G$351,$NQ$8,FALSE)/9.3*$AD$6*$CQ$6,IF(AND(IU16=$NQ$4+1,$C$6<12,IU17<=$C$6,$NQ$4=10),VLOOKUP(IU18,Kurināmais!$A$4:$G$351,$NQ$8,FALSE)/9.3*$Q$6*$CQ$6,IF(AND(IU16=$NQ$4+1,$C$6<12,IU17<=$C$6),VLOOKUP(IU18,Kurināmais!$A$4:$G$351,$NQ$8,FALSE)/9.3*$AD$6*$CQ$6,\" \"))))","v":" "},{"$f":"IF(AND(IV15>=$B$5,IV15<$B$6),IF(IV16=1,IF(IV17>=$C$5,VLOOKUP(IV18,Kurināmais!$A$4:$G$351,$NQ$8,FALSE)/9.3*Biomasa!$Q$6*$CQ$6,\" \"),IF(AND(IV16>1,IV16<=10),VLOOKUP(IV18,Kurināmais!$A$4:$G$351,$NQ$8,FALSE)/9.3*Biomasa!$Q$6*$CQ$6,IF(IV16=11,IF(IV17<$C$5,VLOOKUP(IV18,Kurināmais!$A$4:$G$351,$NQ$8,FALSE)/9.3*Biomasa!$Q$6*$CQ$6,VLOOKUP(IV18,Kurināmais!$A$4:$G$351,$NQ$8,FALSE)/9.3*$AD$6*$CQ$6),IF(IV16>11,VLOOKUP(IV18,Kurināmais!$A$4:$G$351,$NQ$8,FALSE)/9.3*$AD$6*$CQ$6)))),IF(AND(IV16=$NQ$4,$C$6=12),VLOOKUP(IV18,Kurināmais!$A$4:$G$351,$NQ$8,FALSE)/9.3*$AD$6*$CQ$6,IF(AND(IV16=$NQ$4+1,$C$6<12,IV17<=$C$6,$NQ$4=10),VLOOKUP(IV18,Kurināmais!$A$4:$G$351,$NQ$8,FALSE)/9.3*$Q$6*$CQ$6,IF(AND(IV16=$NQ$4+1,$C$6<12,IV17<=$C$6),VLOOKUP(IV18,Kurināmais!$A$4:$G$351,$NQ$8,FALSE)/9.3*$AD$6*$CQ$6,\" \"))))","v":" "},{"$f":"IF(AND(IW15>=$B$5,IW15<$B$6),IF(IW16=1,IF(IW17>=$C$5,VLOOKUP(IW18,Kurināmais!$A$4:$G$351,$NQ$8,FALSE)/9.3*Biomasa!$Q$6*$CQ$6,\" \"),IF(AND(IW16>1,IW16<=10),VLOOKUP(IW18,Kurināmais!$A$4:$G$351,$NQ$8,FALSE)/9.3*Biomasa!$Q$6*$CQ$6,IF(IW16=11,IF(IW17<$C$5,VLOOKUP(IW18,Kurināmais!$A$4:$G$351,$NQ$8,FALSE)/9.3*Biomasa!$Q$6*$CQ$6,VLOOKUP(IW18,Kurināmais!$A$4:$G$351,$NQ$8,FALSE)/9.3*$AD$6*$CQ$6),IF(IW16>11,VLOOKUP(IW18,Kurināmais!$A$4:$G$351,$NQ$8,FALSE)/9.3*$AD$6*$CQ$6)))),IF(AND(IW16=$NQ$4,$C$6=12),VLOOKUP(IW18,Kurināmais!$A$4:$G$351,$NQ$8,FALSE)/9.3*$AD$6*$CQ$6,IF(AND(IW16=$NQ$4+1,$C$6<12,IW17<=$C$6,$NQ$4=10),VLOOKUP(IW18,Kurināmais!$A$4:$G$351,$NQ$8,FALSE)/9.3*$Q$6*$CQ$6,IF(AND(IW16=$NQ$4+1,$C$6<12,IW17<=$C$6),VLOOKUP(IW18,Kurināmais!$A$4:$G$351,$NQ$8,FALSE)/9.3*$AD$6*$CQ$6,\" \"))))","v":" "},{"$f":"IF(AND(IX15>=$B$5,IX15<$B$6),IF(IX16=1,IF(IX17>=$C$5,VLOOKUP(IX18,Kurināmais!$A$4:$G$351,$NQ$8,FALSE)/9.3*Biomasa!$Q$6*$CQ$6,\" \"),IF(AND(IX16>1,IX16<=10),VLOOKUP(IX18,Kurināmais!$A$4:$G$351,$NQ$8,FALSE)/9.3*Biomasa!$Q$6*$CQ$6,IF(IX16=11,IF(IX17<$C$5,VLOOKUP(IX18,Kurināmais!$A$4:$G$351,$NQ$8,FALSE)/9.3*Biomasa!$Q$6*$CQ$6,VLOOKUP(IX18,Kurināmais!$A$4:$G$351,$NQ$8,FALSE)/9.3*$AD$6*$CQ$6),IF(IX16>11,VLOOKUP(IX18,Kurināmais!$A$4:$G$351,$NQ$8,FALSE)/9.3*$AD$6*$CQ$6)))),IF(AND(IX16=$NQ$4,$C$6=12),VLOOKUP(IX18,Kurināmais!$A$4:$G$351,$NQ$8,FALSE)/9.3*$AD$6*$CQ$6,IF(AND(IX16=$NQ$4+1,$C$6<12,IX17<=$C$6,$NQ$4=10),VLOOKUP(IX18,Kurināmais!$A$4:$G$351,$NQ$8,FALSE)/9.3*$Q$6*$CQ$6,IF(AND(IX16=$NQ$4+1,$C$6<12,IX17<=$C$6),VLOOKUP(IX18,Kurināmais!$A$4:$G$351,$NQ$8,FALSE)/9.3*$AD$6*$CQ$6,\" \"))))","v":" "},{"$f":"IF(AND(IY15>=$B$5,IY15<$B$6),IF(IY16=1,IF(IY17>=$C$5,VLOOKUP(IY18,Kurināmais!$A$4:$G$351,$NQ$8,FALSE)/9.3*Biomasa!$Q$6*$CQ$6,\" \"),IF(AND(IY16>1,IY16<=10),VLOOKUP(IY18,Kurināmais!$A$4:$G$351,$NQ$8,FALSE)/9.3*Biomasa!$Q$6*$CQ$6,IF(IY16=11,IF(IY17<$C$5,VLOOKUP(IY18,Kurināmais!$A$4:$G$351,$NQ$8,FALSE)/9.3*Biomasa!$Q$6*$CQ$6,VLOOKUP(IY18,Kurināmais!$A$4:$G$351,$NQ$8,FALSE)/9.3*$AD$6*$CQ$6),IF(IY16>11,VLOOKUP(IY18,Kurināmais!$A$4:$G$351,$NQ$8,FALSE)/9.3*$AD$6*$CQ$6)))),IF(AND(IY16=$NQ$4,$C$6=12),VLOOKUP(IY18,Kurināmais!$A$4:$G$351,$NQ$8,FALSE)/9.3*$AD$6*$CQ$6,IF(AND(IY16=$NQ$4+1,$C$6<12,IY17<=$C$6,$NQ$4=10),VLOOKUP(IY18,Kurināmais!$A$4:$G$351,$NQ$8,FALSE)/9.3*$Q$6*$CQ$6,IF(AND(IY16=$NQ$4+1,$C$6<12,IY17<=$C$6),VLOOKUP(IY18,Kurināmais!$A$4:$G$351,$NQ$8,FALSE)/9.3*$AD$6*$CQ$6,\" \"))))","v":" "},{"$f":"IF(AND(IZ15>=$B$5,IZ15<$B$6),IF(IZ16=1,IF(IZ17>=$C$5,VLOOKUP(IZ18,Kurināmais!$A$4:$G$351,$NQ$8,FALSE)/9.3*Biomasa!$Q$6*$CQ$6,\" \"),IF(AND(IZ16>1,IZ16<=10),VLOOKUP(IZ18,Kurināmais!$A$4:$G$351,$NQ$8,FALSE)/9.3*Biomasa!$Q$6*$CQ$6,IF(IZ16=11,IF(IZ17<$C$5,VLOOKUP(IZ18,Kurināmais!$A$4:$G$351,$NQ$8,FALSE)/9.3*Biomasa!$Q$6*$CQ$6,VLOOKUP(IZ18,Kurināmais!$A$4:$G$351,$NQ$8,FALSE)/9.3*$AD$6*$CQ$6),IF(IZ16>11,VLOOKUP(IZ18,Kurināmais!$A$4:$G$351,$NQ$8,FALSE)/9.3*$AD$6*$CQ$6)))),IF(AND(IZ16=$NQ$4,$C$6=12),VLOOKUP(IZ18,Kurināmais!$A$4:$G$351,$NQ$8,FALSE)/9.3*$AD$6*$CQ$6,IF(AND(IZ16=$NQ$4+1,$C$6<12,IZ17<=$C$6,$NQ$4=10),VLOOKUP(IZ18,Kurināmais!$A$4:$G$351,$NQ$8,FALSE)/9.3*$Q$6*$CQ$6,IF(AND(IZ16=$NQ$4+1,$C$6<12,IZ17<=$C$6),VLOOKUP(IZ18,Kurināmais!$A$4:$G$351,$NQ$8,FALSE)/9.3*$AD$6*$CQ$6,\" \"))))","v":" "},{"$f":"IF(AND(JA15>=$B$5,JA15<$B$6),IF(JA16=1,IF(JA17>=$C$5,VLOOKUP(JA18,Kurināmais!$A$4:$G$351,$NQ$8,FALSE)/9.3*Biomasa!$Q$6*$CQ$6,\" \"),IF(AND(JA16>1,JA16<=10),VLOOKUP(JA18,Kurināmais!$A$4:$G$351,$NQ$8,FALSE)/9.3*Biomasa!$Q$6*$CQ$6,IF(JA16=11,IF(JA17<$C$5,VLOOKUP(JA18,Kurināmais!$A$4:$G$351,$NQ$8,FALSE)/9.3*Biomasa!$Q$6*$CQ$6,VLOOKUP(JA18,Kurināmais!$A$4:$G$351,$NQ$8,FALSE)/9.3*$AD$6*$CQ$6),IF(JA16>11,VLOOKUP(JA18,Kurināmais!$A$4:$G$351,$NQ$8,FALSE)/9.3*$AD$6*$CQ$6)))),IF(AND(JA16=$NQ$4,$C$6=12),VLOOKUP(JA18,Kurināmais!$A$4:$G$351,$NQ$8,FALSE)/9.3*$AD$6*$CQ$6,IF(AND(JA16=$NQ$4+1,$C$6<12,JA17<=$C$6,$NQ$4=10),VLOOKUP(JA18,Kurināmais!$A$4:$G$351,$NQ$8,FALSE)/9.3*$Q$6*$CQ$6,IF(AND(JA16=$NQ$4+1,$C$6<12,JA17<=$C$6),VLOOKUP(JA18,Kurināmais!$A$4:$G$351,$NQ$8,FALSE)/9.3*$AD$6*$CQ$6,\" \"))))","v":" "},{"$f":"IF(AND(JB15>=$B$5,JB15<$B$6),IF(JB16=1,IF(JB17>=$C$5,VLOOKUP(JB18,Kurināmais!$A$4:$G$351,$NQ$8,FALSE)/9.3*Biomasa!$Q$6*$CQ$6,\" \"),IF(AND(JB16>1,JB16<=10),VLOOKUP(JB18,Kurināmais!$A$4:$G$351,$NQ$8,FALSE)/9.3*Biomasa!$Q$6*$CQ$6,IF(JB16=11,IF(JB17<$C$5,VLOOKUP(JB18,Kurināmais!$A$4:$G$351,$NQ$8,FALSE)/9.3*Biomasa!$Q$6*$CQ$6,VLOOKUP(JB18,Kurināmais!$A$4:$G$351,$NQ$8,FALSE)/9.3*$AD$6*$CQ$6),IF(JB16>11,VLOOKUP(JB18,Kurināmais!$A$4:$G$351,$NQ$8,FALSE)/9.3*$AD$6*$CQ$6)))),IF(AND(JB16=$NQ$4,$C$6=12),VLOOKUP(JB18,Kurināmais!$A$4:$G$351,$NQ$8,FALSE)/9.3*$AD$6*$CQ$6,IF(AND(JB16=$NQ$4+1,$C$6<12,JB17<=$C$6,$NQ$4=10),VLOOKUP(JB18,Kurināmais!$A$4:$G$351,$NQ$8,FALSE)/9.3*$Q$6*$CQ$6,IF(AND(JB16=$NQ$4+1,$C$6<12,JB17<=$C$6),VLOOKUP(JB18,Kurināmais!$A$4:$G$351,$NQ$8,FALSE)/9.3*$AD$6*$CQ$6,\" \"))))","v":" "},{"$f":"IF(AND(JC15>=$B$5,JC15<$B$6),IF(JC16=1,IF(JC17>=$C$5,VLOOKUP(JC18,Kurināmais!$A$4:$G$351,$NQ$8,FALSE)/9.3*Biomasa!$Q$6*$CQ$6,\" \"),IF(AND(JC16>1,JC16<=10),VLOOKUP(JC18,Kurināmais!$A$4:$G$351,$NQ$8,FALSE)/9.3*Biomasa!$Q$6*$CQ$6,IF(JC16=11,IF(JC17<$C$5,VLOOKUP(JC18,Kurināmais!$A$4:$G$351,$NQ$8,FALSE)/9.3*Biomasa!$Q$6*$CQ$6,VLOOKUP(JC18,Kurināmais!$A$4:$G$351,$NQ$8,FALSE)/9.3*$AD$6*$CQ$6),IF(JC16>11,VLOOKUP(JC18,Kurināmais!$A$4:$G$351,$NQ$8,FALSE)/9.3*$AD$6*$CQ$6)))),IF(AND(JC16=$NQ$4,$C$6=12),VLOOKUP(JC18,Kurināmais!$A$4:$G$351,$NQ$8,FALSE)/9.3*$AD$6*$CQ$6,IF(AND(JC16=$NQ$4+1,$C$6<12,JC17<=$C$6,$NQ$4=10),VLOOKUP(JC18,Kurināmais!$A$4:$G$351,$NQ$8,FALSE)/9.3*$Q$6*$CQ$6,IF(AND(JC16=$NQ$4+1,$C$6<12,JC17<=$C$6),VLOOKUP(JC18,Kurināmais!$A$4:$G$351,$NQ$8,FALSE)/9.3*$AD$6*$CQ$6,\" \"))))","v":" "},{"$f":"IF(OR(JD$16=\" \",JD$16=0,JD21=0),\" \",SUMPRODUCT(JE21:JP21,JE22:JP22)/JD21)","v":" "},{"$f":"IF(AND(JE15>=$B$5,JE15<$B$6),IF(JE16=1,IF(JE17>=$C$5,VLOOKUP(JE18,Kurināmais!$A$4:$G$351,$NQ$8,FALSE)/9.3*Biomasa!$Q$6*$CQ$6,\" \"),IF(AND(JE16>1,JE16<=10),VLOOKUP(JE18,Kurināmais!$A$4:$G$351,$NQ$8,FALSE)/9.3*Biomasa!$Q$6*$CQ$6,IF(JE16=11,IF(JE17<$C$5,VLOOKUP(JE18,Kurināmais!$A$4:$G$351,$NQ$8,FALSE)/9.3*Biomasa!$Q$6*$CQ$6,VLOOKUP(JE18,Kurināmais!$A$4:$G$351,$NQ$8,FALSE)/9.3*$AD$6*$CQ$6),IF(JE16>11,VLOOKUP(JE18,Kurināmais!$A$4:$G$351,$NQ$8,FALSE)/9.3*$AD$6*$CQ$6)))),IF(AND(JE16=$NQ$4,$C$6=12),VLOOKUP(JE18,Kurināmais!$A$4:$G$351,$NQ$8,FALSE)/9.3*$AD$6*$CQ$6,IF(AND(JE16=$NQ$4+1,$C$6<12,JE17<=$C$6,$NQ$4=10),VLOOKUP(JE18,Kurināmais!$A$4:$G$351,$NQ$8,FALSE)/9.3*$Q$6*$CQ$6,IF(AND(JE16=$NQ$4+1,$C$6<12,JE17<=$C$6),VLOOKUP(JE18,Kurināmais!$A$4:$G$351,$NQ$8,FALSE)/9.3*$AD$6*$CQ$6,\" \"))))","v":" "},{"$f":"IF(AND(JF15>=$B$5,JF15<$B$6),IF(JF16=1,IF(JF17>=$C$5,VLOOKUP(JF18,Kurināmais!$A$4:$G$351,$NQ$8,FALSE)/9.3*Biomasa!$Q$6*$CQ$6,\" \"),IF(AND(JF16>1,JF16<=10),VLOOKUP(JF18,Kurināmais!$A$4:$G$351,$NQ$8,FALSE)/9.3*Biomasa!$Q$6*$CQ$6,IF(JF16=11,IF(JF17<$C$5,VLOOKUP(JF18,Kurināmais!$A$4:$G$351,$NQ$8,FALSE)/9.3*Biomasa!$Q$6*$CQ$6,VLOOKUP(JF18,Kurināmais!$A$4:$G$351,$NQ$8,FALSE)/9.3*$AD$6*$CQ$6),IF(JF16>11,VLOOKUP(JF18,Kurināmais!$A$4:$G$351,$NQ$8,FALSE)/9.3*$AD$6*$CQ$6)))),IF(AND(JF16=$NQ$4,$C$6=12),VLOOKUP(JF18,Kurināmais!$A$4:$G$351,$NQ$8,FALSE)/9.3*$AD$6*$CQ$6,IF(AND(JF16=$NQ$4+1,$C$6<12,JF17<=$C$6,$NQ$4=10),VLOOKUP(JF18,Kurināmais!$A$4:$G$351,$NQ$8,FALSE)/9.3*$Q$6*$CQ$6,IF(AND(JF16=$NQ$4+1,$C$6<12,JF17<=$C$6),VLOOKUP(JF18,Kurināmais!$A$4:$G$351,$NQ$8,FALSE)/9.3*$AD$6*$CQ$6,\" \"))))","v":" "},{"$f":"IF(AND(JG15>=$B$5,JG15<$B$6),IF(JG16=1,IF(JG17>=$C$5,VLOOKUP(JG18,Kurināmais!$A$4:$G$351,$NQ$8,FALSE)/9.3*Biomasa!$Q$6*$CQ$6,\" \"),IF(AND(JG16>1,JG16<=10),VLOOKUP(JG18,Kurināmais!$A$4:$G$351,$NQ$8,FALSE)/9.3*Biomasa!$Q$6*$CQ$6,IF(JG16=11,IF(JG17<$C$5,VLOOKUP(JG18,Kurināmais!$A$4:$G$351,$NQ$8,FALSE)/9.3*Biomasa!$Q$6*$CQ$6,VLOOKUP(JG18,Kurināmais!$A$4:$G$351,$NQ$8,FALSE)/9.3*$AD$6*$CQ$6),IF(JG16>11,VLOOKUP(JG18,Kurināmais!$A$4:$G$351,$NQ$8,FALSE)/9.3*$AD$6*$CQ$6)))),IF(AND(JG16=$NQ$4,$C$6=12),VLOOKUP(JG18,Kurināmais!$A$4:$G$351,$NQ$8,FALSE)/9.3*$AD$6*$CQ$6,IF(AND(JG16=$NQ$4+1,$C$6<12,JG17<=$C$6,$NQ$4=10),VLOOKUP(JG18,Kurināmais!$A$4:$G$351,$NQ$8,FALSE)/9.3*$Q$6*$CQ$6,IF(AND(JG16=$NQ$4+1,$C$6<12,JG17<=$C$6),VLOOKUP(JG18,Kurināmais!$A$4:$G$351,$NQ$8,FALSE)/9.3*$AD$6*$CQ$6,\" \"))))","v":" "},{"$f":"IF(AND(JH15>=$B$5,JH15<$B$6),IF(JH16=1,IF(JH17>=$C$5,VLOOKUP(JH18,Kurināmais!$A$4:$G$351,$NQ$8,FALSE)/9.3*Biomasa!$Q$6*$CQ$6,\" \"),IF(AND(JH16>1,JH16<=10),VLOOKUP(JH18,Kurināmais!$A$4:$G$351,$NQ$8,FALSE)/9.3*Biomasa!$Q$6*$CQ$6,IF(JH16=11,IF(JH17<$C$5,VLOOKUP(JH18,Kurināmais!$A$4:$G$351,$NQ$8,FALSE)/9.3*Biomasa!$Q$6*$CQ$6,VLOOKUP(JH18,Kurināmais!$A$4:$G$351,$NQ$8,FALSE)/9.3*$AD$6*$CQ$6),IF(JH16>11,VLOOKUP(JH18,Kurināmais!$A$4:$G$351,$NQ$8,FALSE)/9.3*$AD$6*$CQ$6)))),IF(AND(JH16=$NQ$4,$C$6=12),VLOOKUP(JH18,Kurināmais!$A$4:$G$351,$NQ$8,FALSE)/9.3*$AD$6*$CQ$6,IF(AND(JH16=$NQ$4+1,$C$6<12,JH17<=$C$6,$NQ$4=10),VLOOKUP(JH18,Kurināmais!$A$4:$G$351,$NQ$8,FALSE)/9.3*$Q$6*$CQ$6,IF(AND(JH16=$NQ$4+1,$C$6<12,JH17<=$C$6),VLOOKUP(JH18,Kurināmais!$A$4:$G$351,$NQ$8,FALSE)/9.3*$AD$6*$CQ$6,\" \"))))","v":" "},{"$f":"IF(AND(JI15>=$B$5,JI15<$B$6),IF(JI16=1,IF(JI17>=$C$5,VLOOKUP(JI18,Kurināmais!$A$4:$G$351,$NQ$8,FALSE)/9.3*Biomasa!$Q$6*$CQ$6,\" \"),IF(AND(JI16>1,JI16<=10),VLOOKUP(JI18,Kurināmais!$A$4:$G$351,$NQ$8,FALSE)/9.3*Biomasa!$Q$6*$CQ$6,IF(JI16=11,IF(JI17<$C$5,VLOOKUP(JI18,Kurināmais!$A$4:$G$351,$NQ$8,FALSE)/9.3*Biomasa!$Q$6*$CQ$6,VLOOKUP(JI18,Kurināmais!$A$4:$G$351,$NQ$8,FALSE)/9.3*$AD$6*$CQ$6),IF(JI16>11,VLOOKUP(JI18,Kurināmais!$A$4:$G$351,$NQ$8,FALSE)/9.3*$AD$6*$CQ$6)))),IF(AND(JI16=$NQ$4,$C$6=12),VLOOKUP(JI18,Kurināmais!$A$4:$G$351,$NQ$8,FALSE)/9.3*$AD$6*$CQ$6,IF(AND(JI16=$NQ$4+1,$C$6<12,JI17<=$C$6,$NQ$4=10),VLOOKUP(JI18,Kurināmais!$A$4:$G$351,$NQ$8,FALSE)/9.3*$Q$6*$CQ$6,IF(AND(JI16=$NQ$4+1,$C$6<12,JI17<=$C$6),VLOOKUP(JI18,Kurināmais!$A$4:$G$351,$NQ$8,FALSE)/9.3*$AD$6*$CQ$6,\" \"))))","v":" "},{"$f":"IF(AND(JJ15>=$B$5,JJ15<$B$6),IF(JJ16=1,IF(JJ17>=$C$5,VLOOKUP(JJ18,Kurināmais!$A$4:$G$351,$NQ$8,FALSE)/9.3*Biomasa!$Q$6*$CQ$6,\" \"),IF(AND(JJ16>1,JJ16<=10),VLOOKUP(JJ18,Kurināmais!$A$4:$G$351,$NQ$8,FALSE)/9.3*Biomasa!$Q$6*$CQ$6,IF(JJ16=11,IF(JJ17<$C$5,VLOOKUP(JJ18,Kurināmais!$A$4:$G$351,$NQ$8,FALSE)/9.3*Biomasa!$Q$6*$CQ$6,VLOOKUP(JJ18,Kurināmais!$A$4:$G$351,$NQ$8,FALSE)/9.3*$AD$6*$CQ$6),IF(JJ16>11,VLOOKUP(JJ18,Kurināmais!$A$4:$G$351,$NQ$8,FALSE)/9.3*$AD$6*$CQ$6)))),IF(AND(JJ16=$NQ$4,$C$6=12),VLOOKUP(JJ18,Kurināmais!$A$4:$G$351,$NQ$8,FALSE)/9.3*$AD$6*$CQ$6,IF(AND(JJ16=$NQ$4+1,$C$6<12,JJ17<=$C$6,$NQ$4=10),VLOOKUP(JJ18,Kurināmais!$A$4:$G$351,$NQ$8,FALSE)/9.3*$Q$6*$CQ$6,IF(AND(JJ16=$NQ$4+1,$C$6<12,JJ17<=$C$6),VLOOKUP(JJ18,Kurināmais!$A$4:$G$351,$NQ$8,FALSE)/9.3*$AD$6*$CQ$6,\" \"))))","v":" "},{"$f":"IF(AND(JK15>=$B$5,JK15<$B$6),IF(JK16=1,IF(JK17>=$C$5,VLOOKUP(JK18,Kurināmais!$A$4:$G$351,$NQ$8,FALSE)/9.3*Biomasa!$Q$6*$CQ$6,\" \"),IF(AND(JK16>1,JK16<=10),VLOOKUP(JK18,Kurināmais!$A$4:$G$351,$NQ$8,FALSE)/9.3*Biomasa!$Q$6*$CQ$6,IF(JK16=11,IF(JK17<$C$5,VLOOKUP(JK18,Kurināmais!$A$4:$G$351,$NQ$8,FALSE)/9.3*Biomasa!$Q$6*$CQ$6,VLOOKUP(JK18,Kurināmais!$A$4:$G$351,$NQ$8,FALSE)/9.3*$AD$6*$CQ$6),IF(JK16>11,VLOOKUP(JK18,Kurināmais!$A$4:$G$351,$NQ$8,FALSE)/9.3*$AD$6*$CQ$6)))),IF(AND(JK16=$NQ$4,$C$6=12),VLOOKUP(JK18,Kurināmais!$A$4:$G$351,$NQ$8,FALSE)/9.3*$AD$6*$CQ$6,IF(AND(JK16=$NQ$4+1,$C$6<12,JK17<=$C$6,$NQ$4=10),VLOOKUP(JK18,Kurināmais!$A$4:$G$351,$NQ$8,FALSE)/9.3*$Q$6*$CQ$6,IF(AND(JK16=$NQ$4+1,$C$6<12,JK17<=$C$6),VLOOKUP(JK18,Kurināmais!$A$4:$G$351,$NQ$8,FALSE)/9.3*$AD$6*$CQ$6,\" \"))))","v":" "},{"$f":"IF(AND(JL15>=$B$5,JL15<$B$6),IF(JL16=1,IF(JL17>=$C$5,VLOOKUP(JL18,Kurināmais!$A$4:$G$351,$NQ$8,FALSE)/9.3*Biomasa!$Q$6*$CQ$6,\" \"),IF(AND(JL16>1,JL16<=10),VLOOKUP(JL18,Kurināmais!$A$4:$G$351,$NQ$8,FALSE)/9.3*Biomasa!$Q$6*$CQ$6,IF(JL16=11,IF(JL17<$C$5,VLOOKUP(JL18,Kurināmais!$A$4:$G$351,$NQ$8,FALSE)/9.3*Biomasa!$Q$6*$CQ$6,VLOOKUP(JL18,Kurināmais!$A$4:$G$351,$NQ$8,FALSE)/9.3*$AD$6*$CQ$6),IF(JL16>11,VLOOKUP(JL18,Kurināmais!$A$4:$G$351,$NQ$8,FALSE)/9.3*$AD$6*$CQ$6)))),IF(AND(JL16=$NQ$4,$C$6=12),VLOOKUP(JL18,Kurināmais!$A$4:$G$351,$NQ$8,FALSE)/9.3*$AD$6*$CQ$6,IF(AND(JL16=$NQ$4+1,$C$6<12,JL17<=$C$6,$NQ$4=10),VLOOKUP(JL18,Kurināmais!$A$4:$G$351,$NQ$8,FALSE)/9.3*$Q$6*$CQ$6,IF(AND(JL16=$NQ$4+1,$C$6<12,JL17<=$C$6),VLOOKUP(JL18,Kurināmais!$A$4:$G$351,$NQ$8,FALSE)/9.3*$AD$6*$CQ$6,\" \"))))","v":" "},{"$f":"IF(AND(JM15>=$B$5,JM15<$B$6),IF(JM16=1,IF(JM17>=$C$5,VLOOKUP(JM18,Kurināmais!$A$4:$G$351,$NQ$8,FALSE)/9.3*Biomasa!$Q$6*$CQ$6,\" \"),IF(AND(JM16>1,JM16<=10),VLOOKUP(JM18,Kurināmais!$A$4:$G$351,$NQ$8,FALSE)/9.3*Biomasa!$Q$6*$CQ$6,IF(JM16=11,IF(JM17<$C$5,VLOOKUP(JM18,Kurināmais!$A$4:$G$351,$NQ$8,FALSE)/9.3*Biomasa!$Q$6*$CQ$6,VLOOKUP(JM18,Kurināmais!$A$4:$G$351,$NQ$8,FALSE)/9.3*$AD$6*$CQ$6),IF(JM16>11,VLOOKUP(JM18,Kurināmais!$A$4:$G$351,$NQ$8,FALSE)/9.3*$AD$6*$CQ$6)))),IF(AND(JM16=$NQ$4,$C$6=12),VLOOKUP(JM18,Kurināmais!$A$4:$G$351,$NQ$8,FALSE)/9.3*$AD$6*$CQ$6,IF(AND(JM16=$NQ$4+1,$C$6<12,JM17<=$C$6,$NQ$4=10),VLOOKUP(JM18,Kurināmais!$A$4:$G$351,$NQ$8,FALSE)/9.3*$Q$6*$CQ$6,IF(AND(JM16=$NQ$4+1,$C$6<12,JM17<=$C$6),VLOOKUP(JM18,Kurināmais!$A$4:$G$351,$NQ$8,FALSE)/9.3*$AD$6*$CQ$6,\" \"))))","v":" "},{"$f":"IF(AND(JN15>=$B$5,JN15<$B$6),IF(JN16=1,IF(JN17>=$C$5,VLOOKUP(JN18,Kurināmais!$A$4:$G$351,$NQ$8,FALSE)/9.3*Biomasa!$Q$6*$CQ$6,\" \"),IF(AND(JN16>1,JN16<=10),VLOOKUP(JN18,Kurināmais!$A$4:$G$351,$NQ$8,FALSE)/9.3*Biomasa!$Q$6*$CQ$6,IF(JN16=11,IF(JN17<$C$5,VLOOKUP(JN18,Kurināmais!$A$4:$G$351,$NQ$8,FALSE)/9.3*Biomasa!$Q$6*$CQ$6,VLOOKUP(JN18,Kurināmais!$A$4:$G$351,$NQ$8,FALSE)/9.3*$AD$6*$CQ$6),IF(JN16>11,VLOOKUP(JN18,Kurināmais!$A$4:$G$351,$NQ$8,FALSE)/9.3*$AD$6*$CQ$6)))),IF(AND(JN16=$NQ$4,$C$6=12),VLOOKUP(JN18,Kurināmais!$A$4:$G$351,$NQ$8,FALSE)/9.3*$AD$6*$CQ$6,IF(AND(JN16=$NQ$4+1,$C$6<12,JN17<=$C$6,$NQ$4=10),VLOOKUP(JN18,Kurināmais!$A$4:$G$351,$NQ$8,FALSE)/9.3*$Q$6*$CQ$6,IF(AND(JN16=$NQ$4+1,$C$6<12,JN17<=$C$6),VLOOKUP(JN18,Kurināmais!$A$4:$G$351,$NQ$8,FALSE)/9.3*$AD$6*$CQ$6,\" \"))))","v":" "},{"$f":"IF(AND(JO15>=$B$5,JO15<$B$6),IF(JO16=1,IF(JO17>=$C$5,VLOOKUP(JO18,Kurināmais!$A$4:$G$351,$NQ$8,FALSE)/9.3*Biomasa!$Q$6*$CQ$6,\" \"),IF(AND(JO16>1,JO16<=10),VLOOKUP(JO18,Kurināmais!$A$4:$G$351,$NQ$8,FALSE)/9.3*Biomasa!$Q$6*$CQ$6,IF(JO16=11,IF(JO17<$C$5,VLOOKUP(JO18,Kurināmais!$A$4:$G$351,$NQ$8,FALSE)/9.3*Biomasa!$Q$6*$CQ$6,VLOOKUP(JO18,Kurināmais!$A$4:$G$351,$NQ$8,FALSE)/9.3*$AD$6*$CQ$6),IF(JO16>11,VLOOKUP(JO18,Kurināmais!$A$4:$G$351,$NQ$8,FALSE)/9.3*$AD$6*$CQ$6)))),IF(AND(JO16=$NQ$4,$C$6=12),VLOOKUP(JO18,Kurināmais!$A$4:$G$351,$NQ$8,FALSE)/9.3*$AD$6*$CQ$6,IF(AND(JO16=$NQ$4+1,$C$6<12,JO17<=$C$6,$NQ$4=10),VLOOKUP(JO18,Kurināmais!$A$4:$G$351,$NQ$8,FALSE)/9.3*$Q$6*$CQ$6,IF(AND(JO16=$NQ$4+1,$C$6<12,JO17<=$C$6),VLOOKUP(JO18,Kurināmais!$A$4:$G$351,$NQ$8,FALSE)/9.3*$AD$6*$CQ$6,\" \"))))","v":" "},{"$f":"IF(AND(JP15>=$B$5,JP15<$B$6),IF(JP16=1,IF(JP17>=$C$5,VLOOKUP(JP18,Kurināmais!$A$4:$G$351,$NQ$8,FALSE)/9.3*Biomasa!$Q$6*$CQ$6,\" \"),IF(AND(JP16>1,JP16<=10),VLOOKUP(JP18,Kurināmais!$A$4:$G$351,$NQ$8,FALSE)/9.3*Biomasa!$Q$6*$CQ$6,IF(JP16=11,IF(JP17<$C$5,VLOOKUP(JP18,Kurināmais!$A$4:$G$351,$NQ$8,FALSE)/9.3*Biomasa!$Q$6*$CQ$6,VLOOKUP(JP18,Kurināmais!$A$4:$G$351,$NQ$8,FALSE)/9.3*$AD$6*$CQ$6),IF(JP16>11,VLOOKUP(JP18,Kurināmais!$A$4:$G$351,$NQ$8,FALSE)/9.3*$AD$6*$CQ$6)))),IF(AND(JP16=$NQ$4,$C$6=12),VLOOKUP(JP18,Kurināmais!$A$4:$G$351,$NQ$8,FALSE)/9.3*$AD$6*$CQ$6,IF(AND(JP16=$NQ$4+1,$C$6<12,JP17<=$C$6,$NQ$4=10),VLOOKUP(JP18,Kurināmais!$A$4:$G$351,$NQ$8,FALSE)/9.3*$Q$6*$CQ$6,IF(AND(JP16=$NQ$4+1,$C$6<12,JP17<=$C$6),VLOOKUP(JP18,Kurināmais!$A$4:$G$351,$NQ$8,FALSE)/9.3*$AD$6*$CQ$6,\" \"))))","v":" "},{"$f":"IF(OR(JQ$16=\" \",JQ$16=0,JQ21=0),\" \",SUMPRODUCT(JR21:KC21,JR22:KC22)/JQ21)","v":" "},{"$f":"IF(AND(JR15>=$B$5,JR15<$B$6),IF(JR16=1,IF(JR17>=$C$5,VLOOKUP(JR18,Kurināmais!$A$4:$G$351,$NQ$8,FALSE)/9.3*Biomasa!$Q$6*$CQ$6,\" \"),IF(AND(JR16>1,JR16<=10),VLOOKUP(JR18,Kurināmais!$A$4:$G$351,$NQ$8,FALSE)/9.3*Biomasa!$Q$6*$CQ$6,IF(JR16=11,IF(JR17<$C$5,VLOOKUP(JR18,Kurināmais!$A$4:$G$351,$NQ$8,FALSE)/9.3*Biomasa!$Q$6*$CQ$6,VLOOKUP(JR18,Kurināmais!$A$4:$G$351,$NQ$8,FALSE)/9.3*$AD$6*$CQ$6),IF(JR16>11,VLOOKUP(JR18,Kurināmais!$A$4:$G$351,$NQ$8,FALSE)/9.3*$AD$6*$CQ$6)))),IF(AND(JR16=$NQ$4,$C$6=12),VLOOKUP(JR18,Kurināmais!$A$4:$G$351,$NQ$8,FALSE)/9.3*$AD$6*$CQ$6,IF(AND(JR16=$NQ$4+1,$C$6<12,JR17<=$C$6,$NQ$4=10),VLOOKUP(JR18,Kurināmais!$A$4:$G$351,$NQ$8,FALSE)/9.3*$Q$6*$CQ$6,IF(AND(JR16=$NQ$4+1,$C$6<12,JR17<=$C$6),VLOOKUP(JR18,Kurināmais!$A$4:$G$351,$NQ$8,FALSE)/9.3*$AD$6*$CQ$6,\" \"))))","v":" "},{"$f":"IF(AND(JS15>=$B$5,JS15<$B$6),IF(JS16=1,IF(JS17>=$C$5,VLOOKUP(JS18,Kurināmais!$A$4:$G$351,$NQ$8,FALSE)/9.3*Biomasa!$Q$6*$CQ$6,\" \"),IF(AND(JS16>1,JS16<=10),VLOOKUP(JS18,Kurināmais!$A$4:$G$351,$NQ$8,FALSE)/9.3*Biomasa!$Q$6*$CQ$6,IF(JS16=11,IF(JS17<$C$5,VLOOKUP(JS18,Kurināmais!$A$4:$G$351,$NQ$8,FALSE)/9.3*Biomasa!$Q$6*$CQ$6,VLOOKUP(JS18,Kurināmais!$A$4:$G$351,$NQ$8,FALSE)/9.3*$AD$6*$CQ$6),IF(JS16>11,VLOOKUP(JS18,Kurināmais!$A$4:$G$351,$NQ$8,FALSE)/9.3*$AD$6*$CQ$6)))),IF(AND(JS16=$NQ$4,$C$6=12),VLOOKUP(JS18,Kurināmais!$A$4:$G$351,$NQ$8,FALSE)/9.3*$AD$6*$CQ$6,IF(AND(JS16=$NQ$4+1,$C$6<12,JS17<=$C$6,$NQ$4=10),VLOOKUP(JS18,Kurināmais!$A$4:$G$351,$NQ$8,FALSE)/9.3*$Q$6*$CQ$6,IF(AND(JS16=$NQ$4+1,$C$6<12,JS17<=$C$6),VLOOKUP(JS18,Kurināmais!$A$4:$G$351,$NQ$8,FALSE)/9.3*$AD$6*$CQ$6,\" \"))))","v":" "},{"$f":"IF(AND(JT15>=$B$5,JT15<$B$6),IF(JT16=1,IF(JT17>=$C$5,VLOOKUP(JT18,Kurināmais!$A$4:$G$351,$NQ$8,FALSE)/9.3*Biomasa!$Q$6*$CQ$6,\" \"),IF(AND(JT16>1,JT16<=10),VLOOKUP(JT18,Kurināmais!$A$4:$G$351,$NQ$8,FALSE)/9.3*Biomasa!$Q$6*$CQ$6,IF(JT16=11,IF(JT17<$C$5,VLOOKUP(JT18,Kurināmais!$A$4:$G$351,$NQ$8,FALSE)/9.3*Biomasa!$Q$6*$CQ$6,VLOOKUP(JT18,Kurināmais!$A$4:$G$351,$NQ$8,FALSE)/9.3*$AD$6*$CQ$6),IF(JT16>11,VLOOKUP(JT18,Kurināmais!$A$4:$G$351,$NQ$8,FALSE)/9.3*$AD$6*$CQ$6)))),IF(AND(JT16=$NQ$4,$C$6=12),VLOOKUP(JT18,Kurināmais!$A$4:$G$351,$NQ$8,FALSE)/9.3*$AD$6*$CQ$6,IF(AND(JT16=$NQ$4+1,$C$6<12,JT17<=$C$6,$NQ$4=10),VLOOKUP(JT18,Kurināmais!$A$4:$G$351,$NQ$8,FALSE)/9.3*$Q$6*$CQ$6,IF(AND(JT16=$NQ$4+1,$C$6<12,JT17<=$C$6),VLOOKUP(JT18,Kurināmais!$A$4:$G$351,$NQ$8,FALSE)/9.3*$AD$6*$CQ$6,\" \"))))","v":" "},{"$f":"IF(AND(JU15>=$B$5,JU15<$B$6),IF(JU16=1,IF(JU17>=$C$5,VLOOKUP(JU18,Kurināmais!$A$4:$G$351,$NQ$8,FALSE)/9.3*Biomasa!$Q$6*$CQ$6,\" \"),IF(AND(JU16>1,JU16<=10),VLOOKUP(JU18,Kurināmais!$A$4:$G$351,$NQ$8,FALSE)/9.3*Biomasa!$Q$6*$CQ$6,IF(JU16=11,IF(JU17<$C$5,VLOOKUP(JU18,Kurināmais!$A$4:$G$351,$NQ$8,FALSE)/9.3*Biomasa!$Q$6*$CQ$6,VLOOKUP(JU18,Kurināmais!$A$4:$G$351,$NQ$8,FALSE)/9.3*$AD$6*$CQ$6),IF(JU16>11,VLOOKUP(JU18,Kurināmais!$A$4:$G$351,$NQ$8,FALSE)/9.3*$AD$6*$CQ$6)))),IF(AND(JU16=$NQ$4,$C$6=12),VLOOKUP(JU18,Kurināmais!$A$4:$G$351,$NQ$8,FALSE)/9.3*$AD$6*$CQ$6,IF(AND(JU16=$NQ$4+1,$C$6<12,JU17<=$C$6,$NQ$4=10),VLOOKUP(JU18,Kurināmais!$A$4:$G$351,$NQ$8,FALSE)/9.3*$Q$6*$CQ$6,IF(AND(JU16=$NQ$4+1,$C$6<12,JU17<=$C$6),VLOOKUP(JU18,Kurināmais!$A$4:$G$351,$NQ$8,FALSE)/9.3*$AD$6*$CQ$6,\" \"))))","v":" "},{"$f":"IF(AND(JV15>=$B$5,JV15<$B$6),IF(JV16=1,IF(JV17>=$C$5,VLOOKUP(JV18,Kurināmais!$A$4:$G$351,$NQ$8,FALSE)/9.3*Biomasa!$Q$6*$CQ$6,\" \"),IF(AND(JV16>1,JV16<=10),VLOOKUP(JV18,Kurināmais!$A$4:$G$351,$NQ$8,FALSE)/9.3*Biomasa!$Q$6*$CQ$6,IF(JV16=11,IF(JV17<$C$5,VLOOKUP(JV18,Kurināmais!$A$4:$G$351,$NQ$8,FALSE)/9.3*Biomasa!$Q$6*$CQ$6,VLOOKUP(JV18,Kurināmais!$A$4:$G$351,$NQ$8,FALSE)/9.3*$AD$6*$CQ$6),IF(JV16>11,VLOOKUP(JV18,Kurināmais!$A$4:$G$351,$NQ$8,FALSE)/9.3*$AD$6*$CQ$6)))),IF(AND(JV16=$NQ$4,$C$6=12),VLOOKUP(JV18,Kurināmais!$A$4:$G$351,$NQ$8,FALSE)/9.3*$AD$6*$CQ$6,IF(AND(JV16=$NQ$4+1,$C$6<12,JV17<=$C$6,$NQ$4=10),VLOOKUP(JV18,Kurināmais!$A$4:$G$351,$NQ$8,FALSE)/9.3*$Q$6*$CQ$6,IF(AND(JV16=$NQ$4+1,$C$6<12,JV17<=$C$6),VLOOKUP(JV18,Kurināmais!$A$4:$G$351,$NQ$8,FALSE)/9.3*$AD$6*$CQ$6,\" \"))))","v":" "},{"$f":"IF(AND(JW15>=$B$5,JW15<$B$6),IF(JW16=1,IF(JW17>=$C$5,VLOOKUP(JW18,Kurināmais!$A$4:$G$351,$NQ$8,FALSE)/9.3*Biomasa!$Q$6*$CQ$6,\" \"),IF(AND(JW16>1,JW16<=10),VLOOKUP(JW18,Kurināmais!$A$4:$G$351,$NQ$8,FALSE)/9.3*Biomasa!$Q$6*$CQ$6,IF(JW16=11,IF(JW17<$C$5,VLOOKUP(JW18,Kurināmais!$A$4:$G$351,$NQ$8,FALSE)/9.3*Biomasa!$Q$6*$CQ$6,VLOOKUP(JW18,Kurināmais!$A$4:$G$351,$NQ$8,FALSE)/9.3*$AD$6*$CQ$6),IF(JW16>11,VLOOKUP(JW18,Kurināmais!$A$4:$G$351,$NQ$8,FALSE)/9.3*$AD$6*$CQ$6)))),IF(AND(JW16=$NQ$4,$C$6=12),VLOOKUP(JW18,Kurināmais!$A$4:$G$351,$NQ$8,FALSE)/9.3*$AD$6*$CQ$6,IF(AND(JW16=$NQ$4+1,$C$6<12,JW17<=$C$6,$NQ$4=10),VLOOKUP(JW18,Kurināmais!$A$4:$G$351,$NQ$8,FALSE)/9.3*$Q$6*$CQ$6,IF(AND(JW16=$NQ$4+1,$C$6<12,JW17<=$C$6),VLOOKUP(JW18,Kurināmais!$A$4:$G$351,$NQ$8,FALSE)/9.3*$AD$6*$CQ$6,\" \"))))","v":" "},{"$f":"IF(AND(JX15>=$B$5,JX15<$B$6),IF(JX16=1,IF(JX17>=$C$5,VLOOKUP(JX18,Kurināmais!$A$4:$G$351,$NQ$8,FALSE)/9.3*Biomasa!$Q$6*$CQ$6,\" \"),IF(AND(JX16>1,JX16<=10),VLOOKUP(JX18,Kurināmais!$A$4:$G$351,$NQ$8,FALSE)/9.3*Biomasa!$Q$6*$CQ$6,IF(JX16=11,IF(JX17<$C$5,VLOOKUP(JX18,Kurināmais!$A$4:$G$351,$NQ$8,FALSE)/9.3*Biomasa!$Q$6*$CQ$6,VLOOKUP(JX18,Kurināmais!$A$4:$G$351,$NQ$8,FALSE)/9.3*$AD$6*$CQ$6),IF(JX16>11,VLOOKUP(JX18,Kurināmais!$A$4:$G$351,$NQ$8,FALSE)/9.3*$AD$6*$CQ$6)))),IF(AND(JX16=$NQ$4,$C$6=12),VLOOKUP(JX18,Kurināmais!$A$4:$G$351,$NQ$8,FALSE)/9.3*$AD$6*$CQ$6,IF(AND(JX16=$NQ$4+1,$C$6<12,JX17<=$C$6,$NQ$4=10),VLOOKUP(JX18,Kurināmais!$A$4:$G$351,$NQ$8,FALSE)/9.3*$Q$6*$CQ$6,IF(AND(JX16=$NQ$4+1,$C$6<12,JX17<=$C$6),VLOOKUP(JX18,Kurināmais!$A$4:$G$351,$NQ$8,FALSE)/9.3*$AD$6*$CQ$6,\" \"))))","v":" "},{"$f":"IF(AND(JY15>=$B$5,JY15<$B$6),IF(JY16=1,IF(JY17>=$C$5,VLOOKUP(JY18,Kurināmais!$A$4:$G$351,$NQ$8,FALSE)/9.3*Biomasa!$Q$6*$CQ$6,\" \"),IF(AND(JY16>1,JY16<=10),VLOOKUP(JY18,Kurināmais!$A$4:$G$351,$NQ$8,FALSE)/9.3*Biomasa!$Q$6*$CQ$6,IF(JY16=11,IF(JY17<$C$5,VLOOKUP(JY18,Kurināmais!$A$4:$G$351,$NQ$8,FALSE)/9.3*Biomasa!$Q$6*$CQ$6,VLOOKUP(JY18,Kurināmais!$A$4:$G$351,$NQ$8,FALSE)/9.3*$AD$6*$CQ$6),IF(JY16>11,VLOOKUP(JY18,Kurināmais!$A$4:$G$351,$NQ$8,FALSE)/9.3*$AD$6*$CQ$6)))),IF(AND(JY16=$NQ$4,$C$6=12),VLOOKUP(JY18,Kurināmais!$A$4:$G$351,$NQ$8,FALSE)/9.3*$AD$6*$CQ$6,IF(AND(JY16=$NQ$4+1,$C$6<12,JY17<=$C$6,$NQ$4=10),VLOOKUP(JY18,Kurināmais!$A$4:$G$351,$NQ$8,FALSE)/9.3*$Q$6*$CQ$6,IF(AND(JY16=$NQ$4+1,$C$6<12,JY17<=$C$6),VLOOKUP(JY18,Kurināmais!$A$4:$G$351,$NQ$8,FALSE)/9.3*$AD$6*$CQ$6,\" \"))))","v":" "},{"$f":"IF(AND(JZ15>=$B$5,JZ15<$B$6),IF(JZ16=1,IF(JZ17>=$C$5,VLOOKUP(JZ18,Kurināmais!$A$4:$G$351,$NQ$8,FALSE)/9.3*Biomasa!$Q$6*$CQ$6,\" \"),IF(AND(JZ16>1,JZ16<=10),VLOOKUP(JZ18,Kurināmais!$A$4:$G$351,$NQ$8,FALSE)/9.3*Biomasa!$Q$6*$CQ$6,IF(JZ16=11,IF(JZ17<$C$5,VLOOKUP(JZ18,Kurināmais!$A$4:$G$351,$NQ$8,FALSE)/9.3*Biomasa!$Q$6*$CQ$6,VLOOKUP(JZ18,Kurināmais!$A$4:$G$351,$NQ$8,FALSE)/9.3*$AD$6*$CQ$6),IF(JZ16>11,VLOOKUP(JZ18,Kurināmais!$A$4:$G$351,$NQ$8,FALSE)/9.3*$AD$6*$CQ$6)))),IF(AND(JZ16=$NQ$4,$C$6=12),VLOOKUP(JZ18,Kurināmais!$A$4:$G$351,$NQ$8,FALSE)/9.3*$AD$6*$CQ$6,IF(AND(JZ16=$NQ$4+1,$C$6<12,JZ17<=$C$6,$NQ$4=10),VLOOKUP(JZ18,Kurināmais!$A$4:$G$351,$NQ$8,FALSE)/9.3*$Q$6*$CQ$6,IF(AND(JZ16=$NQ$4+1,$C$6<12,JZ17<=$C$6),VLOOKUP(JZ18,Kurināmais!$A$4:$G$351,$NQ$8,FALSE)/9.3*$AD$6*$CQ$6,\" \"))))","v":" "},{"$f":"IF(AND(KA15>=$B$5,KA15<$B$6),IF(KA16=1,IF(KA17>=$C$5,VLOOKUP(KA18,Kurināmais!$A$4:$G$351,$NQ$8,FALSE)/9.3*Biomasa!$Q$6*$CQ$6,\" \"),IF(AND(KA16>1,KA16<=10),VLOOKUP(KA18,Kurināmais!$A$4:$G$351,$NQ$8,FALSE)/9.3*Biomasa!$Q$6*$CQ$6,IF(KA16=11,IF(KA17<$C$5,VLOOKUP(KA18,Kurināmais!$A$4:$G$351,$NQ$8,FALSE)/9.3*Biomasa!$Q$6*$CQ$6,VLOOKUP(KA18,Kurināmais!$A$4:$G$351,$NQ$8,FALSE)/9.3*$AD$6*$CQ$6),IF(KA16>11,VLOOKUP(KA18,Kurināmais!$A$4:$G$351,$NQ$8,FALSE)/9.3*$AD$6*$CQ$6)))),IF(AND(KA16=$NQ$4,$C$6=12),VLOOKUP(KA18,Kurināmais!$A$4:$G$351,$NQ$8,FALSE)/9.3*$AD$6*$CQ$6,IF(AND(KA16=$NQ$4+1,$C$6<12,KA17<=$C$6,$NQ$4=10),VLOOKUP(KA18,Kurināmais!$A$4:$G$351,$NQ$8,FALSE)/9.3*$Q$6*$CQ$6,IF(AND(KA16=$NQ$4+1,$C$6<12,KA17<=$C$6),VLOOKUP(KA18,Kurināmais!$A$4:$G$351,$NQ$8,FALSE)/9.3*$AD$6*$CQ$6,\" \"))))","v":" "},{"$f":"IF(AND(KB15>=$B$5,KB15<$B$6),IF(KB16=1,IF(KB17>=$C$5,VLOOKUP(KB18,Kurināmais!$A$4:$G$351,$NQ$8,FALSE)/9.3*Biomasa!$Q$6*$CQ$6,\" \"),IF(AND(KB16>1,KB16<=10),VLOOKUP(KB18,Kurināmais!$A$4:$G$351,$NQ$8,FALSE)/9.3*Biomasa!$Q$6*$CQ$6,IF(KB16=11,IF(KB17<$C$5,VLOOKUP(KB18,Kurināmais!$A$4:$G$351,$NQ$8,FALSE)/9.3*Biomasa!$Q$6*$CQ$6,VLOOKUP(KB18,Kurināmais!$A$4:$G$351,$NQ$8,FALSE)/9.3*$AD$6*$CQ$6),IF(KB16>11,VLOOKUP(KB18,Kurināmais!$A$4:$G$351,$NQ$8,FALSE)/9.3*$AD$6*$CQ$6)))),IF(AND(KB16=$NQ$4,$C$6=12),VLOOKUP(KB18,Kurināmais!$A$4:$G$351,$NQ$8,FALSE)/9.3*$AD$6*$CQ$6,IF(AND(KB16=$NQ$4+1,$C$6<12,KB17<=$C$6,$NQ$4=10),VLOOKUP(KB18,Kurināmais!$A$4:$G$351,$NQ$8,FALSE)/9.3*$Q$6*$CQ$6,IF(AND(KB16=$NQ$4+1,$C$6<12,KB17<=$C$6),VLOOKUP(KB18,Kurināmais!$A$4:$G$351,$NQ$8,FALSE)/9.3*$AD$6*$CQ$6,\" \"))))","v":" "},{"$f":"IF(AND(KC15>=$B$5,KC15<$B$6),IF(KC16=1,IF(KC17>=$C$5,VLOOKUP(KC18,Kurināmais!$A$4:$G$351,$NQ$8,FALSE)/9.3*Biomasa!$Q$6*$CQ$6,\" \"),IF(AND(KC16>1,KC16<=10),VLOOKUP(KC18,Kurināmais!$A$4:$G$351,$NQ$8,FALSE)/9.3*Biomasa!$Q$6*$CQ$6,IF(KC16=11,IF(KC17<$C$5,VLOOKUP(KC18,Kurināmais!$A$4:$G$351,$NQ$8,FALSE)/9.3*Biomasa!$Q$6*$CQ$6,VLOOKUP(KC18,Kurināmais!$A$4:$G$351,$NQ$8,FALSE)/9.3*$AD$6*$CQ$6),IF(KC16>11,VLOOKUP(KC18,Kurināmais!$A$4:$G$351,$NQ$8,FALSE)/9.3*$AD$6*$CQ$6)))),IF(AND(KC16=$NQ$4,$C$6=12),VLOOKUP(KC18,Kurināmais!$A$4:$G$351,$NQ$8,FALSE)/9.3*$AD$6*$CQ$6,IF(AND(KC16=$NQ$4+1,$C$6<12,KC17<=$C$6,$NQ$4=10),VLOOKUP(KC18,Kurināmais!$A$4:$G$351,$NQ$8,FALSE)/9.3*$Q$6*$CQ$6,IF(AND(KC16=$NQ$4+1,$C$6<12,KC17<=$C$6),VLOOKUP(KC18,Kurināmais!$A$4:$G$351,$NQ$8,FALSE)/9.3*$AD$6*$CQ$6,\" \"))))","v":" "},{"$f":"IF(OR(KD$16=\" \",KD$16=0,KD21=0),\" \",SUMPRODUCT(KE21:KP21,KE22:KP22)/KD21)","v":" "},{"$f":"IF(AND(KE15>=$B$5,KE15<$B$6),IF(KE16=1,IF(KE17>=$C$5,VLOOKUP(KE18,Kurināmais!$A$4:$G$351,$NQ$8,FALSE)/9.3*Biomasa!$Q$6*$CQ$6,\" \"),IF(AND(KE16>1,KE16<=10),VLOOKUP(KE18,Kurināmais!$A$4:$G$351,$NQ$8,FALSE)/9.3*Biomasa!$Q$6*$CQ$6,IF(KE16=11,IF(KE17<$C$5,VLOOKUP(KE18,Kurināmais!$A$4:$G$351,$NQ$8,FALSE)/9.3*Biomasa!$Q$6*$CQ$6,VLOOKUP(KE18,Kurināmais!$A$4:$G$351,$NQ$8,FALSE)/9.3*$AD$6*$CQ$6),IF(KE16>11,VLOOKUP(KE18,Kurināmais!$A$4:$G$351,$NQ$8,FALSE)/9.3*$AD$6*$CQ$6)))),IF(AND(KE16=$NQ$4,$C$6=12),VLOOKUP(KE18,Kurināmais!$A$4:$G$351,$NQ$8,FALSE)/9.3*$AD$6*$CQ$6,IF(AND(KE16=$NQ$4+1,$C$6<12,KE17<=$C$6,$NQ$4=10),VLOOKUP(KE18,Kurināmais!$A$4:$G$351,$NQ$8,FALSE)/9.3*$Q$6*$CQ$6,IF(AND(KE16=$NQ$4+1,$C$6<12,KE17<=$C$6),VLOOKUP(KE18,Kurināmais!$A$4:$G$351,$NQ$8,FALSE)/9.3*$AD$6*$CQ$6,\" \"))))","v":" "},{"$f":"IF(AND(KF15>=$B$5,KF15<$B$6),IF(KF16=1,IF(KF17>=$C$5,VLOOKUP(KF18,Kurināmais!$A$4:$G$351,$NQ$8,FALSE)/9.3*Biomasa!$Q$6*$CQ$6,\" \"),IF(AND(KF16>1,KF16<=10),VLOOKUP(KF18,Kurināmais!$A$4:$G$351,$NQ$8,FALSE)/9.3*Biomasa!$Q$6*$CQ$6,IF(KF16=11,IF(KF17<$C$5,VLOOKUP(KF18,Kurināmais!$A$4:$G$351,$NQ$8,FALSE)/9.3*Biomasa!$Q$6*$CQ$6,VLOOKUP(KF18,Kurināmais!$A$4:$G$351,$NQ$8,FALSE)/9.3*$AD$6*$CQ$6),IF(KF16>11,VLOOKUP(KF18,Kurināmais!$A$4:$G$351,$NQ$8,FALSE)/9.3*$AD$6*$CQ$6)))),IF(AND(KF16=$NQ$4,$C$6=12),VLOOKUP(KF18,Kurināmais!$A$4:$G$351,$NQ$8,FALSE)/9.3*$AD$6*$CQ$6,IF(AND(KF16=$NQ$4+1,$C$6<12,KF17<=$C$6,$NQ$4=10),VLOOKUP(KF18,Kurināmais!$A$4:$G$351,$NQ$8,FALSE)/9.3*$Q$6*$CQ$6,IF(AND(KF16=$NQ$4+1,$C$6<12,KF17<=$C$6),VLOOKUP(KF18,Kurināmais!$A$4:$G$351,$NQ$8,FALSE)/9.3*$AD$6*$CQ$6,\" \"))))","v":" "},{"$f":"IF(AND(KG15>=$B$5,KG15<$B$6),IF(KG16=1,IF(KG17>=$C$5,VLOOKUP(KG18,Kurināmais!$A$4:$G$351,$NQ$8,FALSE)/9.3*Biomasa!$Q$6*$CQ$6,\" \"),IF(AND(KG16>1,KG16<=10),VLOOKUP(KG18,Kurināmais!$A$4:$G$351,$NQ$8,FALSE)/9.3*Biomasa!$Q$6*$CQ$6,IF(KG16=11,IF(KG17<$C$5,VLOOKUP(KG18,Kurināmais!$A$4:$G$351,$NQ$8,FALSE)/9.3*Biomasa!$Q$6*$CQ$6,VLOOKUP(KG18,Kurināmais!$A$4:$G$351,$NQ$8,FALSE)/9.3*$AD$6*$CQ$6),IF(KG16>11,VLOOKUP(KG18,Kurināmais!$A$4:$G$351,$NQ$8,FALSE)/9.3*$AD$6*$CQ$6)))),IF(AND(KG16=$NQ$4,$C$6=12),VLOOKUP(KG18,Kurināmais!$A$4:$G$351,$NQ$8,FALSE)/9.3*$AD$6*$CQ$6,IF(AND(KG16=$NQ$4+1,$C$6<12,KG17<=$C$6,$NQ$4=10),VLOOKUP(KG18,Kurināmais!$A$4:$G$351,$NQ$8,FALSE)/9.3*$Q$6*$CQ$6,IF(AND(KG16=$NQ$4+1,$C$6<12,KG17<=$C$6),VLOOKUP(KG18,Kurināmais!$A$4:$G$351,$NQ$8,FALSE)/9.3*$AD$6*$CQ$6,\" \"))))","v":" "},{"$f":"IF(AND(KH15>=$B$5,KH15<$B$6),IF(KH16=1,IF(KH17>=$C$5,VLOOKUP(KH18,Kurināmais!$A$4:$G$351,$NQ$8,FALSE)/9.3*Biomasa!$Q$6*$CQ$6,\" \"),IF(AND(KH16>1,KH16<=10),VLOOKUP(KH18,Kurināmais!$A$4:$G$351,$NQ$8,FALSE)/9.3*Biomasa!$Q$6*$CQ$6,IF(KH16=11,IF(KH17<$C$5,VLOOKUP(KH18,Kurināmais!$A$4:$G$351,$NQ$8,FALSE)/9.3*Biomasa!$Q$6*$CQ$6,VLOOKUP(KH18,Kurināmais!$A$4:$G$351,$NQ$8,FALSE)/9.3*$AD$6*$CQ$6),IF(KH16>11,VLOOKUP(KH18,Kurināmais!$A$4:$G$351,$NQ$8,FALSE)/9.3*$AD$6*$CQ$6)))),IF(AND(KH16=$NQ$4,$C$6=12),VLOOKUP(KH18,Kurināmais!$A$4:$G$351,$NQ$8,FALSE)/9.3*$AD$6*$CQ$6,IF(AND(KH16=$NQ$4+1,$C$6<12,KH17<=$C$6,$NQ$4=10),VLOOKUP(KH18,Kurināmais!$A$4:$G$351,$NQ$8,FALSE)/9.3*$Q$6*$CQ$6,IF(AND(KH16=$NQ$4+1,$C$6<12,KH17<=$C$6),VLOOKUP(KH18,Kurināmais!$A$4:$G$351,$NQ$8,FALSE)/9.3*$AD$6*$CQ$6,\" \"))))","v":" "},{"$f":"IF(AND(KI15>=$B$5,KI15<$B$6),IF(KI16=1,IF(KI17>=$C$5,VLOOKUP(KI18,Kurināmais!$A$4:$G$351,$NQ$8,FALSE)/9.3*Biomasa!$Q$6*$CQ$6,\" \"),IF(AND(KI16>1,KI16<=10),VLOOKUP(KI18,Kurināmais!$A$4:$G$351,$NQ$8,FALSE)/9.3*Biomasa!$Q$6*$CQ$6,IF(KI16=11,IF(KI17<$C$5,VLOOKUP(KI18,Kurināmais!$A$4:$G$351,$NQ$8,FALSE)/9.3*Biomasa!$Q$6*$CQ$6,VLOOKUP(KI18,Kurināmais!$A$4:$G$351,$NQ$8,FALSE)/9.3*$AD$6*$CQ$6),IF(KI16>11,VLOOKUP(KI18,Kurināmais!$A$4:$G$351,$NQ$8,FALSE)/9.3*$AD$6*$CQ$6)))),IF(AND(KI16=$NQ$4,$C$6=12),VLOOKUP(KI18,Kurināmais!$A$4:$G$351,$NQ$8,FALSE)/9.3*$AD$6*$CQ$6,IF(AND(KI16=$NQ$4+1,$C$6<12,KI17<=$C$6,$NQ$4=10),VLOOKUP(KI18,Kurināmais!$A$4:$G$351,$NQ$8,FALSE)/9.3*$Q$6*$CQ$6,IF(AND(KI16=$NQ$4+1,$C$6<12,KI17<=$C$6),VLOOKUP(KI18,Kurināmais!$A$4:$G$351,$NQ$8,FALSE)/9.3*$AD$6*$CQ$6,\" \"))))","v":" "},{"$f":"IF(AND(KJ15>=$B$5,KJ15<$B$6),IF(KJ16=1,IF(KJ17>=$C$5,VLOOKUP(KJ18,Kurināmais!$A$4:$G$351,$NQ$8,FALSE)/9.3*Biomasa!$Q$6*$CQ$6,\" \"),IF(AND(KJ16>1,KJ16<=10),VLOOKUP(KJ18,Kurināmais!$A$4:$G$351,$NQ$8,FALSE)/9.3*Biomasa!$Q$6*$CQ$6,IF(KJ16=11,IF(KJ17<$C$5,VLOOKUP(KJ18,Kurināmais!$A$4:$G$351,$NQ$8,FALSE)/9.3*Biomasa!$Q$6*$CQ$6,VLOOKUP(KJ18,Kurināmais!$A$4:$G$351,$NQ$8,FALSE)/9.3*$AD$6*$CQ$6),IF(KJ16>11,VLOOKUP(KJ18,Kurināmais!$A$4:$G$351,$NQ$8,FALSE)/9.3*$AD$6*$CQ$6)))),IF(AND(KJ16=$NQ$4,$C$6=12),VLOOKUP(KJ18,Kurināmais!$A$4:$G$351,$NQ$8,FALSE)/9.3*$AD$6*$CQ$6,IF(AND(KJ16=$NQ$4+1,$C$6<12,KJ17<=$C$6,$NQ$4=10),VLOOKUP(KJ18,Kurināmais!$A$4:$G$351,$NQ$8,FALSE)/9.3*$Q$6*$CQ$6,IF(AND(KJ16=$NQ$4+1,$C$6<12,KJ17<=$C$6),VLOOKUP(KJ18,Kurināmais!$A$4:$G$351,$NQ$8,FALSE)/9.3*$AD$6*$CQ$6,\" \"))))","v":" "},{"$f":"IF(AND(KK15>=$B$5,KK15<$B$6),IF(KK16=1,IF(KK17>=$C$5,VLOOKUP(KK18,Kurināmais!$A$4:$G$351,$NQ$8,FALSE)/9.3*Biomasa!$Q$6*$CQ$6,\" \"),IF(AND(KK16>1,KK16<=10),VLOOKUP(KK18,Kurināmais!$A$4:$G$351,$NQ$8,FALSE)/9.3*Biomasa!$Q$6*$CQ$6,IF(KK16=11,IF(KK17<$C$5,VLOOKUP(KK18,Kurināmais!$A$4:$G$351,$NQ$8,FALSE)/9.3*Biomasa!$Q$6*$CQ$6,VLOOKUP(KK18,Kurināmais!$A$4:$G$351,$NQ$8,FALSE)/9.3*$AD$6*$CQ$6),IF(KK16>11,VLOOKUP(KK18,Kurināmais!$A$4:$G$351,$NQ$8,FALSE)/9.3*$AD$6*$CQ$6)))),IF(AND(KK16=$NQ$4,$C$6=12),VLOOKUP(KK18,Kurināmais!$A$4:$G$351,$NQ$8,FALSE)/9.3*$AD$6*$CQ$6,IF(AND(KK16=$NQ$4+1,$C$6<12,KK17<=$C$6,$NQ$4=10),VLOOKUP(KK18,Kurināmais!$A$4:$G$351,$NQ$8,FALSE)/9.3*$Q$6*$CQ$6,IF(AND(KK16=$NQ$4+1,$C$6<12,KK17<=$C$6),VLOOKUP(KK18,Kurināmais!$A$4:$G$351,$NQ$8,FALSE)/9.3*$AD$6*$CQ$6,\" \"))))","v":" "},{"$f":"IF(AND(KL15>=$B$5,KL15<$B$6),IF(KL16=1,IF(KL17>=$C$5,VLOOKUP(KL18,Kurināmais!$A$4:$G$351,$NQ$8,FALSE)/9.3*Biomasa!$Q$6*$CQ$6,\" \"),IF(AND(KL16>1,KL16<=10),VLOOKUP(KL18,Kurināmais!$A$4:$G$351,$NQ$8,FALSE)/9.3*Biomasa!$Q$6*$CQ$6,IF(KL16=11,IF(KL17<$C$5,VLOOKUP(KL18,Kurināmais!$A$4:$G$351,$NQ$8,FALSE)/9.3*Biomasa!$Q$6*$CQ$6,VLOOKUP(KL18,Kurināmais!$A$4:$G$351,$NQ$8,FALSE)/9.3*$AD$6*$CQ$6),IF(KL16>11,VLOOKUP(KL18,Kurināmais!$A$4:$G$351,$NQ$8,FALSE)/9.3*$AD$6*$CQ$6)))),IF(AND(KL16=$NQ$4,$C$6=12),VLOOKUP(KL18,Kurināmais!$A$4:$G$351,$NQ$8,FALSE)/9.3*$AD$6*$CQ$6,IF(AND(KL16=$NQ$4+1,$C$6<12,KL17<=$C$6,$NQ$4=10),VLOOKUP(KL18,Kurināmais!$A$4:$G$351,$NQ$8,FALSE)/9.3*$Q$6*$CQ$6,IF(AND(KL16=$NQ$4+1,$C$6<12,KL17<=$C$6),VLOOKUP(KL18,Kurināmais!$A$4:$G$351,$NQ$8,FALSE)/9.3*$AD$6*$CQ$6,\" \"))))","v":" "},{"$f":"IF(AND(KM15>=$B$5,KM15<$B$6),IF(KM16=1,IF(KM17>=$C$5,VLOOKUP(KM18,Kurināmais!$A$4:$G$351,$NQ$8,FALSE)/9.3*Biomasa!$Q$6*$CQ$6,\" \"),IF(AND(KM16>1,KM16<=10),VLOOKUP(KM18,Kurināmais!$A$4:$G$351,$NQ$8,FALSE)/9.3*Biomasa!$Q$6*$CQ$6,IF(KM16=11,IF(KM17<$C$5,VLOOKUP(KM18,Kurināmais!$A$4:$G$351,$NQ$8,FALSE)/9.3*Biomasa!$Q$6*$CQ$6,VLOOKUP(KM18,Kurināmais!$A$4:$G$351,$NQ$8,FALSE)/9.3*$AD$6*$CQ$6),IF(KM16>11,VLOOKUP(KM18,Kurināmais!$A$4:$G$351,$NQ$8,FALSE)/9.3*$AD$6*$CQ$6)))),IF(AND(KM16=$NQ$4,$C$6=12),VLOOKUP(KM18,Kurināmais!$A$4:$G$351,$NQ$8,FALSE)/9.3*$AD$6*$CQ$6,IF(AND(KM16=$NQ$4+1,$C$6<12,KM17<=$C$6,$NQ$4=10),VLOOKUP(KM18,Kurināmais!$A$4:$G$351,$NQ$8,FALSE)/9.3*$Q$6*$CQ$6,IF(AND(KM16=$NQ$4+1,$C$6<12,KM17<=$C$6),VLOOKUP(KM18,Kurināmais!$A$4:$G$351,$NQ$8,FALSE)/9.3*$AD$6*$CQ$6,\" \"))))","v":" "},{"$f":"IF(AND(KN15>=$B$5,KN15<$B$6),IF(KN16=1,IF(KN17>=$C$5,VLOOKUP(KN18,Kurināmais!$A$4:$G$351,$NQ$8,FALSE)/9.3*Biomasa!$Q$6*$CQ$6,\" \"),IF(AND(KN16>1,KN16<=10),VLOOKUP(KN18,Kurināmais!$A$4:$G$351,$NQ$8,FALSE)/9.3*Biomasa!$Q$6*$CQ$6,IF(KN16=11,IF(KN17<$C$5,VLOOKUP(KN18,Kurināmais!$A$4:$G$351,$NQ$8,FALSE)/9.3*Biomasa!$Q$6*$CQ$6,VLOOKUP(KN18,Kurināmais!$A$4:$G$351,$NQ$8,FALSE)/9.3*$AD$6*$CQ$6),IF(KN16>11,VLOOKUP(KN18,Kurināmais!$A$4:$G$351,$NQ$8,FALSE)/9.3*$AD$6*$CQ$6)))),IF(AND(KN16=$NQ$4,$C$6=12),VLOOKUP(KN18,Kurināmais!$A$4:$G$351,$NQ$8,FALSE)/9.3*$AD$6*$CQ$6,IF(AND(KN16=$NQ$4+1,$C$6<12,KN17<=$C$6,$NQ$4=10),VLOOKUP(KN18,Kurināmais!$A$4:$G$351,$NQ$8,FALSE)/9.3*$Q$6*$CQ$6,IF(AND(KN16=$NQ$4+1,$C$6<12,KN17<=$C$6),VLOOKUP(KN18,Kurināmais!$A$4:$G$351,$NQ$8,FALSE)/9.3*$AD$6*$CQ$6,\" \"))))","v":" "},{"$f":"IF(AND(KO15>=$B$5,KO15<$B$6),IF(KO16=1,IF(KO17>=$C$5,VLOOKUP(KO18,Kurināmais!$A$4:$G$351,$NQ$8,FALSE)/9.3*Biomasa!$Q$6*$CQ$6,\" \"),IF(AND(KO16>1,KO16<=10),VLOOKUP(KO18,Kurināmais!$A$4:$G$351,$NQ$8,FALSE)/9.3*Biomasa!$Q$6*$CQ$6,IF(KO16=11,IF(KO17<$C$5,VLOOKUP(KO18,Kurināmais!$A$4:$G$351,$NQ$8,FALSE)/9.3*Biomasa!$Q$6*$CQ$6,VLOOKUP(KO18,Kurināmais!$A$4:$G$351,$NQ$8,FALSE)/9.3*$AD$6*$CQ$6),IF(KO16>11,VLOOKUP(KO18,Kurināmais!$A$4:$G$351,$NQ$8,FALSE)/9.3*$AD$6*$CQ$6)))),IF(AND(KO16=$NQ$4,$C$6=12),VLOOKUP(KO18,Kurināmais!$A$4:$G$351,$NQ$8,FALSE)/9.3*$AD$6*$CQ$6,IF(AND(KO16=$NQ$4+1,$C$6<12,KO17<=$C$6,$NQ$4=10),VLOOKUP(KO18,Kurināmais!$A$4:$G$351,$NQ$8,FALSE)/9.3*$Q$6*$CQ$6,IF(AND(KO16=$NQ$4+1,$C$6<12,KO17<=$C$6),VLOOKUP(KO18,Kurināmais!$A$4:$G$351,$NQ$8,FALSE)/9.3*$AD$6*$CQ$6,\" \"))))","v":" "},{"$f":"IF(AND(KP15>=$B$5,KP15<$B$6),IF(KP16=1,IF(KP17>=$C$5,VLOOKUP(KP18,Kurināmais!$A$4:$G$351,$NQ$8,FALSE)/9.3*Biomasa!$Q$6*$CQ$6,\" \"),IF(AND(KP16>1,KP16<=10),VLOOKUP(KP18,Kurināmais!$A$4:$G$351,$NQ$8,FALSE)/9.3*Biomasa!$Q$6*$CQ$6,IF(KP16=11,IF(KP17<$C$5,VLOOKUP(KP18,Kurināmais!$A$4:$G$351,$NQ$8,FALSE)/9.3*Biomasa!$Q$6*$CQ$6,VLOOKUP(KP18,Kurināmais!$A$4:$G$351,$NQ$8,FALSE)/9.3*$AD$6*$CQ$6),IF(KP16>11,VLOOKUP(KP18,Kurināmais!$A$4:$G$351,$NQ$8,FALSE)/9.3*$AD$6*$CQ$6)))),IF(AND(KP16=$NQ$4,$C$6=12),VLOOKUP(KP18,Kurināmais!$A$4:$G$351,$NQ$8,FALSE)/9.3*$AD$6*$CQ$6,IF(AND(KP16=$NQ$4+1,$C$6<12,KP17<=$C$6,$NQ$4=10),VLOOKUP(KP18,Kurināmais!$A$4:$G$351,$NQ$8,FALSE)/9.3*$Q$6*$CQ$6,IF(AND(KP16=$NQ$4+1,$C$6<12,KP17<=$C$6),VLOOKUP(KP18,Kurināmais!$A$4:$G$351,$NQ$8,FALSE)/9.3*$AD$6*$CQ$6,\" \"))))","v":" "},{"$f":"IF(OR(KQ$16=\" \",KQ$16=0,KQ21=0),\" \",SUMPRODUCT(KR21:LC21,KR22:LC22)/KQ21)","v":" "},{"$f":"IF(AND(KR15>=$B$5,KR15<$B$6),IF(KR16=1,IF(KR17>=$C$5,VLOOKUP(KR18,Kurināmais!$A$4:$G$351,$NQ$8,FALSE)/9.3*Biomasa!$Q$6*$CQ$6,\" \"),IF(AND(KR16>1,KR16<=10),VLOOKUP(KR18,Kurināmais!$A$4:$G$351,$NQ$8,FALSE)/9.3*Biomasa!$Q$6*$CQ$6,IF(KR16=11,IF(KR17<$C$5,VLOOKUP(KR18,Kurināmais!$A$4:$G$351,$NQ$8,FALSE)/9.3*Biomasa!$Q$6*$CQ$6,VLOOKUP(KR18,Kurināmais!$A$4:$G$351,$NQ$8,FALSE)/9.3*$AD$6*$CQ$6),IF(KR16>11,VLOOKUP(KR18,Kurināmais!$A$4:$G$351,$NQ$8,FALSE)/9.3*$AD$6*$CQ$6)))),IF(AND(KR16=$NQ$4,$C$6=12),VLOOKUP(KR18,Kurināmais!$A$4:$G$351,$NQ$8,FALSE)/9.3*$AD$6*$CQ$6,IF(AND(KR16=$NQ$4+1,$C$6<12,KR17<=$C$6,$NQ$4=10),VLOOKUP(KR18,Kurināmais!$A$4:$G$351,$NQ$8,FALSE)/9.3*$Q$6*$CQ$6,IF(AND(KR16=$NQ$4+1,$C$6<12,KR17<=$C$6),VLOOKUP(KR18,Kurināmais!$A$4:$G$351,$NQ$8,FALSE)/9.3*$AD$6*$CQ$6,\" \"))))","v":" "},{"$f":"IF(AND(KS15>=$B$5,KS15<$B$6),IF(KS16=1,IF(KS17>=$C$5,VLOOKUP(KS18,Kurināmais!$A$4:$G$351,$NQ$8,FALSE)/9.3*Biomasa!$Q$6*$CQ$6,\" \"),IF(AND(KS16>1,KS16<=10),VLOOKUP(KS18,Kurināmais!$A$4:$G$351,$NQ$8,FALSE)/9.3*Biomasa!$Q$6*$CQ$6,IF(KS16=11,IF(KS17<$C$5,VLOOKUP(KS18,Kurināmais!$A$4:$G$351,$NQ$8,FALSE)/9.3*Biomasa!$Q$6*$CQ$6,VLOOKUP(KS18,Kurināmais!$A$4:$G$351,$NQ$8,FALSE)/9.3*$AD$6*$CQ$6),IF(KS16>11,VLOOKUP(KS18,Kurināmais!$A$4:$G$351,$NQ$8,FALSE)/9.3*$AD$6*$CQ$6)))),IF(AND(KS16=$NQ$4,$C$6=12),VLOOKUP(KS18,Kurināmais!$A$4:$G$351,$NQ$8,FALSE)/9.3*$AD$6*$CQ$6,IF(AND(KS16=$NQ$4+1,$C$6<12,KS17<=$C$6,$NQ$4=10),VLOOKUP(KS18,Kurināmais!$A$4:$G$351,$NQ$8,FALSE)/9.3*$Q$6*$CQ$6,IF(AND(KS16=$NQ$4+1,$C$6<12,KS17<=$C$6),VLOOKUP(KS18,Kurināmais!$A$4:$G$351,$NQ$8,FALSE)/9.3*$AD$6*$CQ$6,\" \"))))","v":" "},{"$f":"IF(AND(KT15>=$B$5,KT15<$B$6),IF(KT16=1,IF(KT17>=$C$5,VLOOKUP(KT18,Kurināmais!$A$4:$G$351,$NQ$8,FALSE)/9.3*Biomasa!$Q$6*$CQ$6,\" \"),IF(AND(KT16>1,KT16<=10),VLOOKUP(KT18,Kurināmais!$A$4:$G$351,$NQ$8,FALSE)/9.3*Biomasa!$Q$6*$CQ$6,IF(KT16=11,IF(KT17<$C$5,VLOOKUP(KT18,Kurināmais!$A$4:$G$351,$NQ$8,FALSE)/9.3*Biomasa!$Q$6*$CQ$6,VLOOKUP(KT18,Kurināmais!$A$4:$G$351,$NQ$8,FALSE)/9.3*$AD$6*$CQ$6),IF(KT16>11,VLOOKUP(KT18,Kurināmais!$A$4:$G$351,$NQ$8,FALSE)/9.3*$AD$6*$CQ$6)))),IF(AND(KT16=$NQ$4,$C$6=12),VLOOKUP(KT18,Kurināmais!$A$4:$G$351,$NQ$8,FALSE)/9.3*$AD$6*$CQ$6,IF(AND(KT16=$NQ$4+1,$C$6<12,KT17<=$C$6,$NQ$4=10),VLOOKUP(KT18,Kurināmais!$A$4:$G$351,$NQ$8,FALSE)/9.3*$Q$6*$CQ$6,IF(AND(KT16=$NQ$4+1,$C$6<12,KT17<=$C$6),VLOOKUP(KT18,Kurināmais!$A$4:$G$351,$NQ$8,FALSE)/9.3*$AD$6*$CQ$6,\" \"))))","v":" "},{"$f":"IF(AND(KU15>=$B$5,KU15<$B$6),IF(KU16=1,IF(KU17>=$C$5,VLOOKUP(KU18,Kurināmais!$A$4:$G$351,$NQ$8,FALSE)/9.3*Biomasa!$Q$6*$CQ$6,\" \"),IF(AND(KU16>1,KU16<=10),VLOOKUP(KU18,Kurināmais!$A$4:$G$351,$NQ$8,FALSE)/9.3*Biomasa!$Q$6*$CQ$6,IF(KU16=11,IF(KU17<$C$5,VLOOKUP(KU18,Kurināmais!$A$4:$G$351,$NQ$8,FALSE)/9.3*Biomasa!$Q$6*$CQ$6,VLOOKUP(KU18,Kurināmais!$A$4:$G$351,$NQ$8,FALSE)/9.3*$AD$6*$CQ$6),IF(KU16>11,VLOOKUP(KU18,Kurināmais!$A$4:$G$351,$NQ$8,FALSE)/9.3*$AD$6*$CQ$6)))),IF(AND(KU16=$NQ$4,$C$6=12),VLOOKUP(KU18,Kurināmais!$A$4:$G$351,$NQ$8,FALSE)/9.3*$AD$6*$CQ$6,IF(AND(KU16=$NQ$4+1,$C$6<12,KU17<=$C$6,$NQ$4=10),VLOOKUP(KU18,Kurināmais!$A$4:$G$351,$NQ$8,FALSE)/9.3*$Q$6*$CQ$6,IF(AND(KU16=$NQ$4+1,$C$6<12,KU17<=$C$6),VLOOKUP(KU18,Kurināmais!$A$4:$G$351,$NQ$8,FALSE)/9.3*$AD$6*$CQ$6,\" \"))))","v":" "},{"$f":"IF(AND(KV15>=$B$5,KV15<$B$6),IF(KV16=1,IF(KV17>=$C$5,VLOOKUP(KV18,Kurināmais!$A$4:$G$351,$NQ$8,FALSE)/9.3*Biomasa!$Q$6*$CQ$6,\" \"),IF(AND(KV16>1,KV16<=10),VLOOKUP(KV18,Kurināmais!$A$4:$G$351,$NQ$8,FALSE)/9.3*Biomasa!$Q$6*$CQ$6,IF(KV16=11,IF(KV17<$C$5,VLOOKUP(KV18,Kurināmais!$A$4:$G$351,$NQ$8,FALSE)/9.3*Biomasa!$Q$6*$CQ$6,VLOOKUP(KV18,Kurināmais!$A$4:$G$351,$NQ$8,FALSE)/9.3*$AD$6*$CQ$6),IF(KV16>11,VLOOKUP(KV18,Kurināmais!$A$4:$G$351,$NQ$8,FALSE)/9.3*$AD$6*$CQ$6)))),IF(AND(KV16=$NQ$4,$C$6=12),VLOOKUP(KV18,Kurināmais!$A$4:$G$351,$NQ$8,FALSE)/9.3*$AD$6*$CQ$6,IF(AND(KV16=$NQ$4+1,$C$6<12,KV17<=$C$6,$NQ$4=10),VLOOKUP(KV18,Kurināmais!$A$4:$G$351,$NQ$8,FALSE)/9.3*$Q$6*$CQ$6,IF(AND(KV16=$NQ$4+1,$C$6<12,KV17<=$C$6),VLOOKUP(KV18,Kurināmais!$A$4:$G$351,$NQ$8,FALSE)/9.3*$AD$6*$CQ$6,\" \"))))","v":" "},{"$f":"IF(AND(KW15>=$B$5,KW15<$B$6),IF(KW16=1,IF(KW17>=$C$5,VLOOKUP(KW18,Kurināmais!$A$4:$G$351,$NQ$8,FALSE)/9.3*Biomasa!$Q$6*$CQ$6,\" \"),IF(AND(KW16>1,KW16<=10),VLOOKUP(KW18,Kurināmais!$A$4:$G$351,$NQ$8,FALSE)/9.3*Biomasa!$Q$6*$CQ$6,IF(KW16=11,IF(KW17<$C$5,VLOOKUP(KW18,Kurināmais!$A$4:$G$351,$NQ$8,FALSE)/9.3*Biomasa!$Q$6*$CQ$6,VLOOKUP(KW18,Kurināmais!$A$4:$G$351,$NQ$8,FALSE)/9.3*$AD$6*$CQ$6),IF(KW16>11,VLOOKUP(KW18,Kurināmais!$A$4:$G$351,$NQ$8,FALSE)/9.3*$AD$6*$CQ$6)))),IF(AND(KW16=$NQ$4,$C$6=12),VLOOKUP(KW18,Kurināmais!$A$4:$G$351,$NQ$8,FALSE)/9.3*$AD$6*$CQ$6,IF(AND(KW16=$NQ$4+1,$C$6<12,KW17<=$C$6,$NQ$4=10),VLOOKUP(KW18,Kurināmais!$A$4:$G$351,$NQ$8,FALSE)/9.3*$Q$6*$CQ$6,IF(AND(KW16=$NQ$4+1,$C$6<12,KW17<=$C$6),VLOOKUP(KW18,Kurināmais!$A$4:$G$351,$NQ$8,FALSE)/9.3*$AD$6*$CQ$6,\" \"))))","v":" "},{"$f":"IF(AND(KX15>=$B$5,KX15<$B$6),IF(KX16=1,IF(KX17>=$C$5,VLOOKUP(KX18,Kurināmais!$A$4:$G$351,$NQ$8,FALSE)/9.3*Biomasa!$Q$6*$CQ$6,\" \"),IF(AND(KX16>1,KX16<=10),VLOOKUP(KX18,Kurināmais!$A$4:$G$351,$NQ$8,FALSE)/9.3*Biomasa!$Q$6*$CQ$6,IF(KX16=11,IF(KX17<$C$5,VLOOKUP(KX18,Kurināmais!$A$4:$G$351,$NQ$8,FALSE)/9.3*Biomasa!$Q$6*$CQ$6,VLOOKUP(KX18,Kurināmais!$A$4:$G$351,$NQ$8,FALSE)/9.3*$AD$6*$CQ$6),IF(KX16>11,VLOOKUP(KX18,Kurināmais!$A$4:$G$351,$NQ$8,FALSE)/9.3*$AD$6*$CQ$6)))),IF(AND(KX16=$NQ$4,$C$6=12),VLOOKUP(KX18,Kurināmais!$A$4:$G$351,$NQ$8,FALSE)/9.3*$AD$6*$CQ$6,IF(AND(KX16=$NQ$4+1,$C$6<12,KX17<=$C$6,$NQ$4=10),VLOOKUP(KX18,Kurināmais!$A$4:$G$351,$NQ$8,FALSE)/9.3*$Q$6*$CQ$6,IF(AND(KX16=$NQ$4+1,$C$6<12,KX17<=$C$6),VLOOKUP(KX18,Kurināmais!$A$4:$G$351,$NQ$8,FALSE)/9.3*$AD$6*$CQ$6,\" \"))))","v":" "},{"$f":"IF(AND(KY15>=$B$5,KY15<$B$6),IF(KY16=1,IF(KY17>=$C$5,VLOOKUP(KY18,Kurināmais!$A$4:$G$351,$NQ$8,FALSE)/9.3*Biomasa!$Q$6*$CQ$6,\" \"),IF(AND(KY16>1,KY16<=10),VLOOKUP(KY18,Kurināmais!$A$4:$G$351,$NQ$8,FALSE)/9.3*Biomasa!$Q$6*$CQ$6,IF(KY16=11,IF(KY17<$C$5,VLOOKUP(KY18,Kurināmais!$A$4:$G$351,$NQ$8,FALSE)/9.3*Biomasa!$Q$6*$CQ$6,VLOOKUP(KY18,Kurināmais!$A$4:$G$351,$NQ$8,FALSE)/9.3*$AD$6*$CQ$6),IF(KY16>11,VLOOKUP(KY18,Kurināmais!$A$4:$G$351,$NQ$8,FALSE)/9.3*$AD$6*$CQ$6)))),IF(AND(KY16=$NQ$4,$C$6=12),VLOOKUP(KY18,Kurināmais!$A$4:$G$351,$NQ$8,FALSE)/9.3*$AD$6*$CQ$6,IF(AND(KY16=$NQ$4+1,$C$6<12,KY17<=$C$6,$NQ$4=10),VLOOKUP(KY18,Kurināmais!$A$4:$G$351,$NQ$8,FALSE)/9.3*$Q$6*$CQ$6,IF(AND(KY16=$NQ$4+1,$C$6<12,KY17<=$C$6),VLOOKUP(KY18,Kurināmais!$A$4:$G$351,$NQ$8,FALSE)/9.3*$AD$6*$CQ$6,\" \"))))","v":" "},{"$f":"IF(AND(KZ15>=$B$5,KZ15<$B$6),IF(KZ16=1,IF(KZ17>=$C$5,VLOOKUP(KZ18,Kurināmais!$A$4:$G$351,$NQ$8,FALSE)/9.3*Biomasa!$Q$6*$CQ$6,\" \"),IF(AND(KZ16>1,KZ16<=10),VLOOKUP(KZ18,Kurināmais!$A$4:$G$351,$NQ$8,FALSE)/9.3*Biomasa!$Q$6*$CQ$6,IF(KZ16=11,IF(KZ17<$C$5,VLOOKUP(KZ18,Kurināmais!$A$4:$G$351,$NQ$8,FALSE)/9.3*Biomasa!$Q$6*$CQ$6,VLOOKUP(KZ18,Kurināmais!$A$4:$G$351,$NQ$8,FALSE)/9.3*$AD$6*$CQ$6),IF(KZ16>11,VLOOKUP(KZ18,Kurināmais!$A$4:$G$351,$NQ$8,FALSE)/9.3*$AD$6*$CQ$6)))),IF(AND(KZ16=$NQ$4,$C$6=12),VLOOKUP(KZ18,Kurināmais!$A$4:$G$351,$NQ$8,FALSE)/9.3*$AD$6*$CQ$6,IF(AND(KZ16=$NQ$4+1,$C$6<12,KZ17<=$C$6,$NQ$4=10),VLOOKUP(KZ18,Kurināmais!$A$4:$G$351,$NQ$8,FALSE)/9.3*$Q$6*$CQ$6,IF(AND(KZ16=$NQ$4+1,$C$6<12,KZ17<=$C$6),VLOOKUP(KZ18,Kurināmais!$A$4:$G$351,$NQ$8,FALSE)/9.3*$AD$6*$CQ$6,\" \"))))","v":" "},{"$f":"IF(AND(LA15>=$B$5,LA15<$B$6),IF(LA16=1,IF(LA17>=$C$5,VLOOKUP(LA18,Kurināmais!$A$4:$G$351,$NQ$8,FALSE)/9.3*Biomasa!$Q$6*$CQ$6,\" \"),IF(AND(LA16>1,LA16<=10),VLOOKUP(LA18,Kurināmais!$A$4:$G$351,$NQ$8,FALSE)/9.3*Biomasa!$Q$6*$CQ$6,IF(LA16=11,IF(LA17<$C$5,VLOOKUP(LA18,Kurināmais!$A$4:$G$351,$NQ$8,FALSE)/9.3*Biomasa!$Q$6*$CQ$6,VLOOKUP(LA18,Kurināmais!$A$4:$G$351,$NQ$8,FALSE)/9.3*$AD$6*$CQ$6),IF(LA16>11,VLOOKUP(LA18,Kurināmais!$A$4:$G$351,$NQ$8,FALSE)/9.3*$AD$6*$CQ$6)))),IF(AND(LA16=$NQ$4,$C$6=12),VLOOKUP(LA18,Kurināmais!$A$4:$G$351,$NQ$8,FALSE)/9.3*$AD$6*$CQ$6,IF(AND(LA16=$NQ$4+1,$C$6<12,LA17<=$C$6,$NQ$4=10),VLOOKUP(LA18,Kurināmais!$A$4:$G$351,$NQ$8,FALSE)/9.3*$Q$6*$CQ$6,IF(AND(LA16=$NQ$4+1,$C$6<12,LA17<=$C$6),VLOOKUP(LA18,Kurināmais!$A$4:$G$351,$NQ$8,FALSE)/9.3*$AD$6*$CQ$6,\" \"))))","v":" "},{"$f":"IF(AND(LB15>=$B$5,LB15<$B$6),IF(LB16=1,IF(LB17>=$C$5,VLOOKUP(LB18,Kurināmais!$A$4:$G$351,$NQ$8,FALSE)/9.3*Biomasa!$Q$6*$CQ$6,\" \"),IF(AND(LB16>1,LB16<=10),VLOOKUP(LB18,Kurināmais!$A$4:$G$351,$NQ$8,FALSE)/9.3*Biomasa!$Q$6*$CQ$6,IF(LB16=11,IF(LB17<$C$5,VLOOKUP(LB18,Kurināmais!$A$4:$G$351,$NQ$8,FALSE)/9.3*Biomasa!$Q$6*$CQ$6,VLOOKUP(LB18,Kurināmais!$A$4:$G$351,$NQ$8,FALSE)/9.3*$AD$6*$CQ$6),IF(LB16>11,VLOOKUP(LB18,Kurināmais!$A$4:$G$351,$NQ$8,FALSE)/9.3*$AD$6*$CQ$6)))),IF(AND(LB16=$NQ$4,$C$6=12),VLOOKUP(LB18,Kurināmais!$A$4:$G$351,$NQ$8,FALSE)/9.3*$AD$6*$CQ$6,IF(AND(LB16=$NQ$4+1,$C$6<12,LB17<=$C$6,$NQ$4=10),VLOOKUP(LB18,Kurināmais!$A$4:$G$351,$NQ$8,FALSE)/9.3*$Q$6*$CQ$6,IF(AND(LB16=$NQ$4+1,$C$6<12,LB17<=$C$6),VLOOKUP(LB18,Kurināmais!$A$4:$G$351,$NQ$8,FALSE)/9.3*$AD$6*$CQ$6,\" \"))))","v":" "},{"$f":"IF(AND(LC15>=$B$5,LC15<$B$6),IF(LC16=1,IF(LC17>=$C$5,VLOOKUP(LC18,Kurināmais!$A$4:$G$351,$NQ$8,FALSE)/9.3*Biomasa!$Q$6*$CQ$6,\" \"),IF(AND(LC16>1,LC16<=10),VLOOKUP(LC18,Kurināmais!$A$4:$G$351,$NQ$8,FALSE)/9.3*Biomasa!$Q$6*$CQ$6,IF(LC16=11,IF(LC17<$C$5,VLOOKUP(LC18,Kurināmais!$A$4:$G$351,$NQ$8,FALSE)/9.3*Biomasa!$Q$6*$CQ$6,VLOOKUP(LC18,Kurināmais!$A$4:$G$351,$NQ$8,FALSE)/9.3*$AD$6*$CQ$6),IF(LC16>11,VLOOKUP(LC18,Kurināmais!$A$4:$G$351,$NQ$8,FALSE)/9.3*$AD$6*$CQ$6)))),IF(AND(LC16=$NQ$4,$C$6=12),VLOOKUP(LC18,Kurināmais!$A$4:$G$351,$NQ$8,FALSE)/9.3*$AD$6*$CQ$6,IF(AND(LC16=$NQ$4+1,$C$6<12,LC17<=$C$6,$NQ$4=10),VLOOKUP(LC18,Kurināmais!$A$4:$G$351,$NQ$8,FALSE)/9.3*$Q$6*$CQ$6,IF(AND(LC16=$NQ$4+1,$C$6<12,LC17<=$C$6),VLOOKUP(LC18,Kurināmais!$A$4:$G$351,$NQ$8,FALSE)/9.3*$AD$6*$CQ$6,\" \"))))","v":" "},{"$f":"IF(OR(LD$16=\" \",LD$16=0,LD21=0),\" \",SUMPRODUCT(LE21:LP21,LE22:LP22)/LD21)","v":" "},{"$f":"IF(AND(LE15>=$B$5,LE15<$B$6),IF(LE16=1,IF(LE17>=$C$5,VLOOKUP(LE18,Kurināmais!$A$4:$G$351,$NQ$8,FALSE)/9.3*Biomasa!$Q$6*$CQ$6,\" \"),IF(AND(LE16>1,LE16<=10),VLOOKUP(LE18,Kurināmais!$A$4:$G$351,$NQ$8,FALSE)/9.3*Biomasa!$Q$6*$CQ$6,IF(LE16=11,IF(LE17<$C$5,VLOOKUP(LE18,Kurināmais!$A$4:$G$351,$NQ$8,FALSE)/9.3*Biomasa!$Q$6*$CQ$6,VLOOKUP(LE18,Kurināmais!$A$4:$G$351,$NQ$8,FALSE)/9.3*$AD$6*$CQ$6),IF(LE16>11,VLOOKUP(LE18,Kurināmais!$A$4:$G$351,$NQ$8,FALSE)/9.3*$AD$6*$CQ$6)))),IF(AND(LE16=$NQ$4,$C$6=12),VLOOKUP(LE18,Kurināmais!$A$4:$G$351,$NQ$8,FALSE)/9.3*$AD$6*$CQ$6,IF(AND(LE16=$NQ$4+1,$C$6<12,LE17<=$C$6,$NQ$4=10),VLOOKUP(LE18,Kurināmais!$A$4:$G$351,$NQ$8,FALSE)/9.3*$Q$6*$CQ$6,IF(AND(LE16=$NQ$4+1,$C$6<12,LE17<=$C$6),VLOOKUP(LE18,Kurināmais!$A$4:$G$351,$NQ$8,FALSE)/9.3*$AD$6*$CQ$6,\" \"))))","v":" "},{"$f":"IF(AND(LF15>=$B$5,LF15<$B$6),IF(LF16=1,IF(LF17>=$C$5,VLOOKUP(LF18,Kurināmais!$A$4:$G$351,$NQ$8,FALSE)/9.3*Biomasa!$Q$6*$CQ$6,\" \"),IF(AND(LF16>1,LF16<=10),VLOOKUP(LF18,Kurināmais!$A$4:$G$351,$NQ$8,FALSE)/9.3*Biomasa!$Q$6*$CQ$6,IF(LF16=11,IF(LF17<$C$5,VLOOKUP(LF18,Kurināmais!$A$4:$G$351,$NQ$8,FALSE)/9.3*Biomasa!$Q$6*$CQ$6,VLOOKUP(LF18,Kurināmais!$A$4:$G$351,$NQ$8,FALSE)/9.3*$AD$6*$CQ$6),IF(LF16>11,VLOOKUP(LF18,Kurināmais!$A$4:$G$351,$NQ$8,FALSE)/9.3*$AD$6*$CQ$6)))),IF(AND(LF16=$NQ$4,$C$6=12),VLOOKUP(LF18,Kurināmais!$A$4:$G$351,$NQ$8,FALSE)/9.3*$AD$6*$CQ$6,IF(AND(LF16=$NQ$4+1,$C$6<12,LF17<=$C$6,$NQ$4=10),VLOOKUP(LF18,Kurināmais!$A$4:$G$351,$NQ$8,FALSE)/9.3*$Q$6*$CQ$6,IF(AND(LF16=$NQ$4+1,$C$6<12,LF17<=$C$6),VLOOKUP(LF18,Kurināmais!$A$4:$G$351,$NQ$8,FALSE)/9.3*$AD$6*$CQ$6,\" \"))))","v":" "},{"$f":"IF(AND(LG15>=$B$5,LG15<$B$6),IF(LG16=1,IF(LG17>=$C$5,VLOOKUP(LG18,Kurināmais!$A$4:$G$351,$NQ$8,FALSE)/9.3*Biomasa!$Q$6*$CQ$6,\" \"),IF(AND(LG16>1,LG16<=10),VLOOKUP(LG18,Kurināmais!$A$4:$G$351,$NQ$8,FALSE)/9.3*Biomasa!$Q$6*$CQ$6,IF(LG16=11,IF(LG17<$C$5,VLOOKUP(LG18,Kurināmais!$A$4:$G$351,$NQ$8,FALSE)/9.3*Biomasa!$Q$6*$CQ$6,VLOOKUP(LG18,Kurināmais!$A$4:$G$351,$NQ$8,FALSE)/9.3*$AD$6*$CQ$6),IF(LG16>11,VLOOKUP(LG18,Kurināmais!$A$4:$G$351,$NQ$8,FALSE)/9.3*$AD$6*$CQ$6)))),IF(AND(LG16=$NQ$4,$C$6=12),VLOOKUP(LG18,Kurināmais!$A$4:$G$351,$NQ$8,FALSE)/9.3*$AD$6*$CQ$6,IF(AND(LG16=$NQ$4+1,$C$6<12,LG17<=$C$6,$NQ$4=10),VLOOKUP(LG18,Kurināmais!$A$4:$G$351,$NQ$8,FALSE)/9.3*$Q$6*$CQ$6,IF(AND(LG16=$NQ$4+1,$C$6<12,LG17<=$C$6),VLOOKUP(LG18,Kurināmais!$A$4:$G$351,$NQ$8,FALSE)/9.3*$AD$6*$CQ$6,\" \"))))","v":" "},{"$f":"IF(AND(LH15>=$B$5,LH15<$B$6),IF(LH16=1,IF(LH17>=$C$5,VLOOKUP(LH18,Kurināmais!$A$4:$G$351,$NQ$8,FALSE)/9.3*Biomasa!$Q$6*$CQ$6,\" \"),IF(AND(LH16>1,LH16<=10),VLOOKUP(LH18,Kurināmais!$A$4:$G$351,$NQ$8,FALSE)/9.3*Biomasa!$Q$6*$CQ$6,IF(LH16=11,IF(LH17<$C$5,VLOOKUP(LH18,Kurināmais!$A$4:$G$351,$NQ$8,FALSE)/9.3*Biomasa!$Q$6*$CQ$6,VLOOKUP(LH18,Kurināmais!$A$4:$G$351,$NQ$8,FALSE)/9.3*$AD$6*$CQ$6),IF(LH16>11,VLOOKUP(LH18,Kurināmais!$A$4:$G$351,$NQ$8,FALSE)/9.3*$AD$6*$CQ$6)))),IF(AND(LH16=$NQ$4,$C$6=12),VLOOKUP(LH18,Kurināmais!$A$4:$G$351,$NQ$8,FALSE)/9.3*$AD$6*$CQ$6,IF(AND(LH16=$NQ$4+1,$C$6<12,LH17<=$C$6,$NQ$4=10),VLOOKUP(LH18,Kurināmais!$A$4:$G$351,$NQ$8,FALSE)/9.3*$Q$6*$CQ$6,IF(AND(LH16=$NQ$4+1,$C$6<12,LH17<=$C$6),VLOOKUP(LH18,Kurināmais!$A$4:$G$351,$NQ$8,FALSE)/9.3*$AD$6*$CQ$6,\" \"))))","v":" "},{"$f":"IF(AND(LI15>=$B$5,LI15<$B$6),IF(LI16=1,IF(LI17>=$C$5,VLOOKUP(LI18,Kurināmais!$A$4:$G$351,$NQ$8,FALSE)/9.3*Biomasa!$Q$6*$CQ$6,\" \"),IF(AND(LI16>1,LI16<=10),VLOOKUP(LI18,Kurināmais!$A$4:$G$351,$NQ$8,FALSE)/9.3*Biomasa!$Q$6*$CQ$6,IF(LI16=11,IF(LI17<$C$5,VLOOKUP(LI18,Kurināmais!$A$4:$G$351,$NQ$8,FALSE)/9.3*Biomasa!$Q$6*$CQ$6,VLOOKUP(LI18,Kurināmais!$A$4:$G$351,$NQ$8,FALSE)/9.3*$AD$6*$CQ$6),IF(LI16>11,VLOOKUP(LI18,Kurināmais!$A$4:$G$351,$NQ$8,FALSE)/9.3*$AD$6*$CQ$6)))),IF(AND(LI16=$NQ$4,$C$6=12),VLOOKUP(LI18,Kurināmais!$A$4:$G$351,$NQ$8,FALSE)/9.3*$AD$6*$CQ$6,IF(AND(LI16=$NQ$4+1,$C$6<12,LI17<=$C$6,$NQ$4=10),VLOOKUP(LI18,Kurināmais!$A$4:$G$351,$NQ$8,FALSE)/9.3*$Q$6*$CQ$6,IF(AND(LI16=$NQ$4+1,$C$6<12,LI17<=$C$6),VLOOKUP(LI18,Kurināmais!$A$4:$G$351,$NQ$8,FALSE)/9.3*$AD$6*$CQ$6,\" \"))))","v":" "},{"$f":"IF(AND(LJ15>=$B$5,LJ15<$B$6),IF(LJ16=1,IF(LJ17>=$C$5,VLOOKUP(LJ18,Kurināmais!$A$4:$G$351,$NQ$8,FALSE)/9.3*Biomasa!$Q$6*$CQ$6,\" \"),IF(AND(LJ16>1,LJ16<=10),VLOOKUP(LJ18,Kurināmais!$A$4:$G$351,$NQ$8,FALSE)/9.3*Biomasa!$Q$6*$CQ$6,IF(LJ16=11,IF(LJ17<$C$5,VLOOKUP(LJ18,Kurināmais!$A$4:$G$351,$NQ$8,FALSE)/9.3*Biomasa!$Q$6*$CQ$6,VLOOKUP(LJ18,Kurināmais!$A$4:$G$351,$NQ$8,FALSE)/9.3*$AD$6*$CQ$6),IF(LJ16>11,VLOOKUP(LJ18,Kurināmais!$A$4:$G$351,$NQ$8,FALSE)/9.3*$AD$6*$CQ$6)))),IF(AND(LJ16=$NQ$4,$C$6=12),VLOOKUP(LJ18,Kurināmais!$A$4:$G$351,$NQ$8,FALSE)/9.3*$AD$6*$CQ$6,IF(AND(LJ16=$NQ$4+1,$C$6<12,LJ17<=$C$6,$NQ$4=10),VLOOKUP(LJ18,Kurināmais!$A$4:$G$351,$NQ$8,FALSE)/9.3*$Q$6*$CQ$6,IF(AND(LJ16=$NQ$4+1,$C$6<12,LJ17<=$C$6),VLOOKUP(LJ18,Kurināmais!$A$4:$G$351,$NQ$8,FALSE)/9.3*$AD$6*$CQ$6,\" \"))))","v":" "},{"$f":"IF(AND(LK15>=$B$5,LK15<$B$6),IF(LK16=1,IF(LK17>=$C$5,VLOOKUP(LK18,Kurināmais!$A$4:$G$351,$NQ$8,FALSE)/9.3*Biomasa!$Q$6*$CQ$6,\" \"),IF(AND(LK16>1,LK16<=10),VLOOKUP(LK18,Kurināmais!$A$4:$G$351,$NQ$8,FALSE)/9.3*Biomasa!$Q$6*$CQ$6,IF(LK16=11,IF(LK17<$C$5,VLOOKUP(LK18,Kurināmais!$A$4:$G$351,$NQ$8,FALSE)/9.3*Biomasa!$Q$6*$CQ$6,VLOOKUP(LK18,Kurināmais!$A$4:$G$351,$NQ$8,FALSE)/9.3*$AD$6*$CQ$6),IF(LK16>11,VLOOKUP(LK18,Kurināmais!$A$4:$G$351,$NQ$8,FALSE)/9.3*$AD$6*$CQ$6)))),IF(AND(LK16=$NQ$4,$C$6=12),VLOOKUP(LK18,Kurināmais!$A$4:$G$351,$NQ$8,FALSE)/9.3*$AD$6*$CQ$6,IF(AND(LK16=$NQ$4+1,$C$6<12,LK17<=$C$6,$NQ$4=10),VLOOKUP(LK18,Kurināmais!$A$4:$G$351,$NQ$8,FALSE)/9.3*$Q$6*$CQ$6,IF(AND(LK16=$NQ$4+1,$C$6<12,LK17<=$C$6),VLOOKUP(LK18,Kurināmais!$A$4:$G$351,$NQ$8,FALSE)/9.3*$AD$6*$CQ$6,\" \"))))","v":" "},{"$f":"IF(AND(LL15>=$B$5,LL15<$B$6),IF(LL16=1,IF(LL17>=$C$5,VLOOKUP(LL18,Kurināmais!$A$4:$G$351,$NQ$8,FALSE)/9.3*Biomasa!$Q$6*$CQ$6,\" \"),IF(AND(LL16>1,LL16<=10),VLOOKUP(LL18,Kurināmais!$A$4:$G$351,$NQ$8,FALSE)/9.3*Biomasa!$Q$6*$CQ$6,IF(LL16=11,IF(LL17<$C$5,VLOOKUP(LL18,Kurināmais!$A$4:$G$351,$NQ$8,FALSE)/9.3*Biomasa!$Q$6*$CQ$6,VLOOKUP(LL18,Kurināmais!$A$4:$G$351,$NQ$8,FALSE)/9.3*$AD$6*$CQ$6),IF(LL16>11,VLOOKUP(LL18,Kurināmais!$A$4:$G$351,$NQ$8,FALSE)/9.3*$AD$6*$CQ$6)))),IF(AND(LL16=$NQ$4,$C$6=12),VLOOKUP(LL18,Kurināmais!$A$4:$G$351,$NQ$8,FALSE)/9.3*$AD$6*$CQ$6,IF(AND(LL16=$NQ$4+1,$C$6<12,LL17<=$C$6,$NQ$4=10),VLOOKUP(LL18,Kurināmais!$A$4:$G$351,$NQ$8,FALSE)/9.3*$Q$6*$CQ$6,IF(AND(LL16=$NQ$4+1,$C$6<12,LL17<=$C$6),VLOOKUP(LL18,Kurināmais!$A$4:$G$351,$NQ$8,FALSE)/9.3*$AD$6*$CQ$6,\" \"))))","v":" "},{"$f":"IF(AND(LM15>=$B$5,LM15<$B$6),IF(LM16=1,IF(LM17>=$C$5,VLOOKUP(LM18,Kurināmais!$A$4:$G$351,$NQ$8,FALSE)/9.3*Biomasa!$Q$6*$CQ$6,\" \"),IF(AND(LM16>1,LM16<=10),VLOOKUP(LM18,Kurināmais!$A$4:$G$351,$NQ$8,FALSE)/9.3*Biomasa!$Q$6*$CQ$6,IF(LM16=11,IF(LM17<$C$5,VLOOKUP(LM18,Kurināmais!$A$4:$G$351,$NQ$8,FALSE)/9.3*Biomasa!$Q$6*$CQ$6,VLOOKUP(LM18,Kurināmais!$A$4:$G$351,$NQ$8,FALSE)/9.3*$AD$6*$CQ$6),IF(LM16>11,VLOOKUP(LM18,Kurināmais!$A$4:$G$351,$NQ$8,FALSE)/9.3*$AD$6*$CQ$6)))),IF(AND(LM16=$NQ$4,$C$6=12),VLOOKUP(LM18,Kurināmais!$A$4:$G$351,$NQ$8,FALSE)/9.3*$AD$6*$CQ$6,IF(AND(LM16=$NQ$4+1,$C$6<12,LM17<=$C$6,$NQ$4=10),VLOOKUP(LM18,Kurināmais!$A$4:$G$351,$NQ$8,FALSE)/9.3*$Q$6*$CQ$6,IF(AND(LM16=$NQ$4+1,$C$6<12,LM17<=$C$6),VLOOKUP(LM18,Kurināmais!$A$4:$G$351,$NQ$8,FALSE)/9.3*$AD$6*$CQ$6,\" \"))))","v":" "},{"$f":"IF(AND(LN15>=$B$5,LN15<$B$6),IF(LN16=1,IF(LN17>=$C$5,VLOOKUP(LN18,Kurināmais!$A$4:$G$351,$NQ$8,FALSE)/9.3*Biomasa!$Q$6*$CQ$6,\" \"),IF(AND(LN16>1,LN16<=10),VLOOKUP(LN18,Kurināmais!$A$4:$G$351,$NQ$8,FALSE)/9.3*Biomasa!$Q$6*$CQ$6,IF(LN16=11,IF(LN17<$C$5,VLOOKUP(LN18,Kurināmais!$A$4:$G$351,$NQ$8,FALSE)/9.3*Biomasa!$Q$6*$CQ$6,VLOOKUP(LN18,Kurināmais!$A$4:$G$351,$NQ$8,FALSE)/9.3*$AD$6*$CQ$6),IF(LN16>11,VLOOKUP(LN18,Kurināmais!$A$4:$G$351,$NQ$8,FALSE)/9.3*$AD$6*$CQ$6)))),IF(AND(LN16=$NQ$4,$C$6=12),VLOOKUP(LN18,Kurināmais!$A$4:$G$351,$NQ$8,FALSE)/9.3*$AD$6*$CQ$6,IF(AND(LN16=$NQ$4+1,$C$6<12,LN17<=$C$6,$NQ$4=10),VLOOKUP(LN18,Kurināmais!$A$4:$G$351,$NQ$8,FALSE)/9.3*$Q$6*$CQ$6,IF(AND(LN16=$NQ$4+1,$C$6<12,LN17<=$C$6),VLOOKUP(LN18,Kurināmais!$A$4:$G$351,$NQ$8,FALSE)/9.3*$AD$6*$CQ$6,\" \"))))","v":" "},{"$f":"IF(AND(LO15>=$B$5,LO15<$B$6),IF(LO16=1,IF(LO17>=$C$5,VLOOKUP(LO18,Kurināmais!$A$4:$G$351,$NQ$8,FALSE)/9.3*Biomasa!$Q$6*$CQ$6,\" \"),IF(AND(LO16>1,LO16<=10),VLOOKUP(LO18,Kurināmais!$A$4:$G$351,$NQ$8,FALSE)/9.3*Biomasa!$Q$6*$CQ$6,IF(LO16=11,IF(LO17<$C$5,VLOOKUP(LO18,Kurināmais!$A$4:$G$351,$NQ$8,FALSE)/9.3*Biomasa!$Q$6*$CQ$6,VLOOKUP(LO18,Kurināmais!$A$4:$G$351,$NQ$8,FALSE)/9.3*$AD$6*$CQ$6),IF(LO16>11,VLOOKUP(LO18,Kurināmais!$A$4:$G$351,$NQ$8,FALSE)/9.3*$AD$6*$CQ$6)))),IF(AND(LO16=$NQ$4,$C$6=12),VLOOKUP(LO18,Kurināmais!$A$4:$G$351,$NQ$8,FALSE)/9.3*$AD$6*$CQ$6,IF(AND(LO16=$NQ$4+1,$C$6<12,LO17<=$C$6,$NQ$4=10),VLOOKUP(LO18,Kurināmais!$A$4:$G$351,$NQ$8,FALSE)/9.3*$Q$6*$CQ$6,IF(AND(LO16=$NQ$4+1,$C$6<12,LO17<=$C$6),VLOOKUP(LO18,Kurināmais!$A$4:$G$351,$NQ$8,FALSE)/9.3*$AD$6*$CQ$6,\" \"))))","v":" "},{"$f":"IF(AND(LP15>=$B$5,LP15<$B$6),IF(LP16=1,IF(LP17>=$C$5,VLOOKUP(LP18,Kurināmais!$A$4:$G$351,$NQ$8,FALSE)/9.3*Biomasa!$Q$6*$CQ$6,\" \"),IF(AND(LP16>1,LP16<=10),VLOOKUP(LP18,Kurināmais!$A$4:$G$351,$NQ$8,FALSE)/9.3*Biomasa!$Q$6*$CQ$6,IF(LP16=11,IF(LP17<$C$5,VLOOKUP(LP18,Kurināmais!$A$4:$G$351,$NQ$8,FALSE)/9.3*Biomasa!$Q$6*$CQ$6,VLOOKUP(LP18,Kurināmais!$A$4:$G$351,$NQ$8,FALSE)/9.3*$AD$6*$CQ$6),IF(LP16>11,VLOOKUP(LP18,Kurināmais!$A$4:$G$351,$NQ$8,FALSE)/9.3*$AD$6*$CQ$6)))),IF(AND(LP16=$NQ$4,$C$6=12),VLOOKUP(LP18,Kurināmais!$A$4:$G$351,$NQ$8,FALSE)/9.3*$AD$6*$CQ$6,IF(AND(LP16=$NQ$4+1,$C$6<12,LP17<=$C$6,$NQ$4=10),VLOOKUP(LP18,Kurināmais!$A$4:$G$351,$NQ$8,FALSE)/9.3*$Q$6*$CQ$6,IF(AND(LP16=$NQ$4+1,$C$6<12,LP17<=$C$6),VLOOKUP(LP18,Kurināmais!$A$4:$G$351,$NQ$8,FALSE)/9.3*$AD$6*$CQ$6,\" \"))))","v":" "},{"$f":"IF(OR(LQ$16=\" \",LQ$16=0,LQ21=0),\" \",SUMPRODUCT(LR21:MC21,LR22:MC22)/LQ21)","v":" "},{"$f":"IF(AND(LR15>=$B$5,LR15<$B$6),IF(LR16=1,IF(LR17>=$C$5,VLOOKUP(LR18,Kurināmais!$A$4:$G$351,$NQ$8,FALSE)/9.3*Biomasa!$Q$6*$CQ$6,\" \"),IF(AND(LR16>1,LR16<=10),VLOOKUP(LR18,Kurināmais!$A$4:$G$351,$NQ$8,FALSE)/9.3*Biomasa!$Q$6*$CQ$6,IF(LR16=11,IF(LR17<$C$5,VLOOKUP(LR18,Kurināmais!$A$4:$G$351,$NQ$8,FALSE)/9.3*Biomasa!$Q$6*$CQ$6,VLOOKUP(LR18,Kurināmais!$A$4:$G$351,$NQ$8,FALSE)/9.3*$AD$6*$CQ$6),IF(LR16>11,VLOOKUP(LR18,Kurināmais!$A$4:$G$351,$NQ$8,FALSE)/9.3*$AD$6*$CQ$6)))),IF(AND(LR16=$NQ$4,$C$6=12),VLOOKUP(LR18,Kurināmais!$A$4:$G$351,$NQ$8,FALSE)/9.3*$AD$6*$CQ$6,IF(AND(LR16=$NQ$4+1,$C$6<12,LR17<=$C$6,$NQ$4=10),VLOOKUP(LR18,Kurināmais!$A$4:$G$351,$NQ$8,FALSE)/9.3*$Q$6*$CQ$6,IF(AND(LR16=$NQ$4+1,$C$6<12,LR17<=$C$6),VLOOKUP(LR18,Kurināmais!$A$4:$G$351,$NQ$8,FALSE)/9.3*$AD$6*$CQ$6,\" \"))))","v":" "},{"$f":"IF(AND(LS15>=$B$5,LS15<$B$6),IF(LS16=1,IF(LS17>=$C$5,VLOOKUP(LS18,Kurināmais!$A$4:$G$351,$NQ$8,FALSE)/9.3*Biomasa!$Q$6*$CQ$6,\" \"),IF(AND(LS16>1,LS16<=10),VLOOKUP(LS18,Kurināmais!$A$4:$G$351,$NQ$8,FALSE)/9.3*Biomasa!$Q$6*$CQ$6,IF(LS16=11,IF(LS17<$C$5,VLOOKUP(LS18,Kurināmais!$A$4:$G$351,$NQ$8,FALSE)/9.3*Biomasa!$Q$6*$CQ$6,VLOOKUP(LS18,Kurināmais!$A$4:$G$351,$NQ$8,FALSE)/9.3*$AD$6*$CQ$6),IF(LS16>11,VLOOKUP(LS18,Kurināmais!$A$4:$G$351,$NQ$8,FALSE)/9.3*$AD$6*$CQ$6)))),IF(AND(LS16=$NQ$4,$C$6=12),VLOOKUP(LS18,Kurināmais!$A$4:$G$351,$NQ$8,FALSE)/9.3*$AD$6*$CQ$6,IF(AND(LS16=$NQ$4+1,$C$6<12,LS17<=$C$6,$NQ$4=10),VLOOKUP(LS18,Kurināmais!$A$4:$G$351,$NQ$8,FALSE)/9.3*$Q$6*$CQ$6,IF(AND(LS16=$NQ$4+1,$C$6<12,LS17<=$C$6),VLOOKUP(LS18,Kurināmais!$A$4:$G$351,$NQ$8,FALSE)/9.3*$AD$6*$CQ$6,\" \"))))","v":" "},{"$f":"IF(AND(LT15>=$B$5,LT15<$B$6),IF(LT16=1,IF(LT17>=$C$5,VLOOKUP(LT18,Kurināmais!$A$4:$G$351,$NQ$8,FALSE)/9.3*Biomasa!$Q$6*$CQ$6,\" \"),IF(AND(LT16>1,LT16<=10),VLOOKUP(LT18,Kurināmais!$A$4:$G$351,$NQ$8,FALSE)/9.3*Biomasa!$Q$6*$CQ$6,IF(LT16=11,IF(LT17<$C$5,VLOOKUP(LT18,Kurināmais!$A$4:$G$351,$NQ$8,FALSE)/9.3*Biomasa!$Q$6*$CQ$6,VLOOKUP(LT18,Kurināmais!$A$4:$G$351,$NQ$8,FALSE)/9.3*$AD$6*$CQ$6),IF(LT16>11,VLOOKUP(LT18,Kurināmais!$A$4:$G$351,$NQ$8,FALSE)/9.3*$AD$6*$CQ$6)))),IF(AND(LT16=$NQ$4,$C$6=12),VLOOKUP(LT18,Kurināmais!$A$4:$G$351,$NQ$8,FALSE)/9.3*$AD$6*$CQ$6,IF(AND(LT16=$NQ$4+1,$C$6<12,LT17<=$C$6,$NQ$4=10),VLOOKUP(LT18,Kurināmais!$A$4:$G$351,$NQ$8,FALSE)/9.3*$Q$6*$CQ$6,IF(AND(LT16=$NQ$4+1,$C$6<12,LT17<=$C$6),VLOOKUP(LT18,Kurināmais!$A$4:$G$351,$NQ$8,FALSE)/9.3*$AD$6*$CQ$6,\" \"))))","v":" "},{"$f":"IF(AND(LU15>=$B$5,LU15<$B$6),IF(LU16=1,IF(LU17>=$C$5,VLOOKUP(LU18,Kurināmais!$A$4:$G$351,$NQ$8,FALSE)/9.3*Biomasa!$Q$6*$CQ$6,\" \"),IF(AND(LU16>1,LU16<=10),VLOOKUP(LU18,Kurināmais!$A$4:$G$351,$NQ$8,FALSE)/9.3*Biomasa!$Q$6*$CQ$6,IF(LU16=11,IF(LU17<$C$5,VLOOKUP(LU18,Kurināmais!$A$4:$G$351,$NQ$8,FALSE)/9.3*Biomasa!$Q$6*$CQ$6,VLOOKUP(LU18,Kurināmais!$A$4:$G$351,$NQ$8,FALSE)/9.3*$AD$6*$CQ$6),IF(LU16>11,VLOOKUP(LU18,Kurināmais!$A$4:$G$351,$NQ$8,FALSE)/9.3*$AD$6*$CQ$6)))),IF(AND(LU16=$NQ$4,$C$6=12),VLOOKUP(LU18,Kurināmais!$A$4:$G$351,$NQ$8,FALSE)/9.3*$AD$6*$CQ$6,IF(AND(LU16=$NQ$4+1,$C$6<12,LU17<=$C$6,$NQ$4=10),VLOOKUP(LU18,Kurināmais!$A$4:$G$351,$NQ$8,FALSE)/9.3*$Q$6*$CQ$6,IF(AND(LU16=$NQ$4+1,$C$6<12,LU17<=$C$6),VLOOKUP(LU18,Kurināmais!$A$4:$G$351,$NQ$8,FALSE)/9.3*$AD$6*$CQ$6,\" \"))))","v":" "},{"$f":"IF(AND(LV15>=$B$5,LV15<$B$6),IF(LV16=1,IF(LV17>=$C$5,VLOOKUP(LV18,Kurināmais!$A$4:$G$351,$NQ$8,FALSE)/9.3*Biomasa!$Q$6*$CQ$6,\" \"),IF(AND(LV16>1,LV16<=10),VLOOKUP(LV18,Kurināmais!$A$4:$G$351,$NQ$8,FALSE)/9.3*Biomasa!$Q$6*$CQ$6,IF(LV16=11,IF(LV17<$C$5,VLOOKUP(LV18,Kurināmais!$A$4:$G$351,$NQ$8,FALSE)/9.3*Biomasa!$Q$6*$CQ$6,VLOOKUP(LV18,Kurināmais!$A$4:$G$351,$NQ$8,FALSE)/9.3*$AD$6*$CQ$6),IF(LV16>11,VLOOKUP(LV18,Kurināmais!$A$4:$G$351,$NQ$8,FALSE)/9.3*$AD$6*$CQ$6)))),IF(AND(LV16=$NQ$4,$C$6=12),VLOOKUP(LV18,Kurināmais!$A$4:$G$351,$NQ$8,FALSE)/9.3*$AD$6*$CQ$6,IF(AND(LV16=$NQ$4+1,$C$6<12,LV17<=$C$6,$NQ$4=10),VLOOKUP(LV18,Kurināmais!$A$4:$G$351,$NQ$8,FALSE)/9.3*$Q$6*$CQ$6,IF(AND(LV16=$NQ$4+1,$C$6<12,LV17<=$C$6),VLOOKUP(LV18,Kurināmais!$A$4:$G$351,$NQ$8,FALSE)/9.3*$AD$6*$CQ$6,\" \"))))","v":" "},{"$f":"IF(AND(LW15>=$B$5,LW15<$B$6),IF(LW16=1,IF(LW17>=$C$5,VLOOKUP(LW18,Kurināmais!$A$4:$G$351,$NQ$8,FALSE)/9.3*Biomasa!$Q$6*$CQ$6,\" \"),IF(AND(LW16>1,LW16<=10),VLOOKUP(LW18,Kurināmais!$A$4:$G$351,$NQ$8,FALSE)/9.3*Biomasa!$Q$6*$CQ$6,IF(LW16=11,IF(LW17<$C$5,VLOOKUP(LW18,Kurināmais!$A$4:$G$351,$NQ$8,FALSE)/9.3*Biomasa!$Q$6*$CQ$6,VLOOKUP(LW18,Kurināmais!$A$4:$G$351,$NQ$8,FALSE)/9.3*$AD$6*$CQ$6),IF(LW16>11,VLOOKUP(LW18,Kurināmais!$A$4:$G$351,$NQ$8,FALSE)/9.3*$AD$6*$CQ$6)))),IF(AND(LW16=$NQ$4,$C$6=12),VLOOKUP(LW18,Kurināmais!$A$4:$G$351,$NQ$8,FALSE)/9.3*$AD$6*$CQ$6,IF(AND(LW16=$NQ$4+1,$C$6<12,LW17<=$C$6,$NQ$4=10),VLOOKUP(LW18,Kurināmais!$A$4:$G$351,$NQ$8,FALSE)/9.3*$Q$6*$CQ$6,IF(AND(LW16=$NQ$4+1,$C$6<12,LW17<=$C$6),VLOOKUP(LW18,Kurināmais!$A$4:$G$351,$NQ$8,FALSE)/9.3*$AD$6*$CQ$6,\" \"))))","v":" "},{"$f":"IF(AND(LX15>=$B$5,LX15<$B$6),IF(LX16=1,IF(LX17>=$C$5,VLOOKUP(LX18,Kurināmais!$A$4:$G$351,$NQ$8,FALSE)/9.3*Biomasa!$Q$6*$CQ$6,\" \"),IF(AND(LX16>1,LX16<=10),VLOOKUP(LX18,Kurināmais!$A$4:$G$351,$NQ$8,FALSE)/9.3*Biomasa!$Q$6*$CQ$6,IF(LX16=11,IF(LX17<$C$5,VLOOKUP(LX18,Kurināmais!$A$4:$G$351,$NQ$8,FALSE)/9.3*Biomasa!$Q$6*$CQ$6,VLOOKUP(LX18,Kurināmais!$A$4:$G$351,$NQ$8,FALSE)/9.3*$AD$6*$CQ$6),IF(LX16>11,VLOOKUP(LX18,Kurināmais!$A$4:$G$351,$NQ$8,FALSE)/9.3*$AD$6*$CQ$6)))),IF(AND(LX16=$NQ$4,$C$6=12),VLOOKUP(LX18,Kurināmais!$A$4:$G$351,$NQ$8,FALSE)/9.3*$AD$6*$CQ$6,IF(AND(LX16=$NQ$4+1,$C$6<12,LX17<=$C$6,$NQ$4=10),VLOOKUP(LX18,Kurināmais!$A$4:$G$351,$NQ$8,FALSE)/9.3*$Q$6*$CQ$6,IF(AND(LX16=$NQ$4+1,$C$6<12,LX17<=$C$6),VLOOKUP(LX18,Kurināmais!$A$4:$G$351,$NQ$8,FALSE)/9.3*$AD$6*$CQ$6,\" \"))))","v":" "},{"$f":"IF(AND(LY15>=$B$5,LY15<$B$6),IF(LY16=1,IF(LY17>=$C$5,VLOOKUP(LY18,Kurināmais!$A$4:$G$351,$NQ$8,FALSE)/9.3*Biomasa!$Q$6*$CQ$6,\" \"),IF(AND(LY16>1,LY16<=10),VLOOKUP(LY18,Kurināmais!$A$4:$G$351,$NQ$8,FALSE)/9.3*Biomasa!$Q$6*$CQ$6,IF(LY16=11,IF(LY17<$C$5,VLOOKUP(LY18,Kurināmais!$A$4:$G$351,$NQ$8,FALSE)/9.3*Biomasa!$Q$6*$CQ$6,VLOOKUP(LY18,Kurināmais!$A$4:$G$351,$NQ$8,FALSE)/9.3*$AD$6*$CQ$6),IF(LY16>11,VLOOKUP(LY18,Kurināmais!$A$4:$G$351,$NQ$8,FALSE)/9.3*$AD$6*$CQ$6)))),IF(AND(LY16=$NQ$4,$C$6=12),VLOOKUP(LY18,Kurināmais!$A$4:$G$351,$NQ$8,FALSE)/9.3*$AD$6*$CQ$6,IF(AND(LY16=$NQ$4+1,$C$6<12,LY17<=$C$6,$NQ$4=10),VLOOKUP(LY18,Kurināmais!$A$4:$G$351,$NQ$8,FALSE)/9.3*$Q$6*$CQ$6,IF(AND(LY16=$NQ$4+1,$C$6<12,LY17<=$C$6),VLOOKUP(LY18,Kurināmais!$A$4:$G$351,$NQ$8,FALSE)/9.3*$AD$6*$CQ$6,\" \"))))","v":" "},{"$f":"IF(AND(LZ15>=$B$5,LZ15<$B$6),IF(LZ16=1,IF(LZ17>=$C$5,VLOOKUP(LZ18,Kurināmais!$A$4:$G$351,$NQ$8,FALSE)/9.3*Biomasa!$Q$6*$CQ$6,\" \"),IF(AND(LZ16>1,LZ16<=10),VLOOKUP(LZ18,Kurināmais!$A$4:$G$351,$NQ$8,FALSE)/9.3*Biomasa!$Q$6*$CQ$6,IF(LZ16=11,IF(LZ17<$C$5,VLOOKUP(LZ18,Kurināmais!$A$4:$G$351,$NQ$8,FALSE)/9.3*Biomasa!$Q$6*$CQ$6,VLOOKUP(LZ18,Kurināmais!$A$4:$G$351,$NQ$8,FALSE)/9.3*$AD$6*$CQ$6),IF(LZ16>11,VLOOKUP(LZ18,Kurināmais!$A$4:$G$351,$NQ$8,FALSE)/9.3*$AD$6*$CQ$6)))),IF(AND(LZ16=$NQ$4,$C$6=12),VLOOKUP(LZ18,Kurināmais!$A$4:$G$351,$NQ$8,FALSE)/9.3*$AD$6*$CQ$6,IF(AND(LZ16=$NQ$4+1,$C$6<12,LZ17<=$C$6,$NQ$4=10),VLOOKUP(LZ18,Kurināmais!$A$4:$G$351,$NQ$8,FALSE)/9.3*$Q$6*$CQ$6,IF(AND(LZ16=$NQ$4+1,$C$6<12,LZ17<=$C$6),VLOOKUP(LZ18,Kurināmais!$A$4:$G$351,$NQ$8,FALSE)/9.3*$AD$6*$CQ$6,\" \"))))","v":" "},{"$f":"IF(AND(MA15>=$B$5,MA15<$B$6),IF(MA16=1,IF(MA17>=$C$5,VLOOKUP(MA18,Kurināmais!$A$4:$G$351,$NQ$8,FALSE)/9.3*Biomasa!$Q$6*$CQ$6,\" \"),IF(AND(MA16>1,MA16<=10),VLOOKUP(MA18,Kurināmais!$A$4:$G$351,$NQ$8,FALSE)/9.3*Biomasa!$Q$6*$CQ$6,IF(MA16=11,IF(MA17<$C$5,VLOOKUP(MA18,Kurināmais!$A$4:$G$351,$NQ$8,FALSE)/9.3*Biomasa!$Q$6*$CQ$6,VLOOKUP(MA18,Kurināmais!$A$4:$G$351,$NQ$8,FALSE)/9.3*$AD$6*$CQ$6),IF(MA16>11,VLOOKUP(MA18,Kurināmais!$A$4:$G$351,$NQ$8,FALSE)/9.3*$AD$6*$CQ$6)))),IF(AND(MA16=$NQ$4,$C$6=12),VLOOKUP(MA18,Kurināmais!$A$4:$G$351,$NQ$8,FALSE)/9.3*$AD$6*$CQ$6,IF(AND(MA16=$NQ$4+1,$C$6<12,MA17<=$C$6,$NQ$4=10),VLOOKUP(MA18,Kurināmais!$A$4:$G$351,$NQ$8,FALSE)/9.3*$Q$6*$CQ$6,IF(AND(MA16=$NQ$4+1,$C$6<12,MA17<=$C$6),VLOOKUP(MA18,Kurināmais!$A$4:$G$351,$NQ$8,FALSE)/9.3*$AD$6*$CQ$6,\" \"))))","v":" "},{"$f":"IF(AND(MB15>=$B$5,MB15<$B$6),IF(MB16=1,IF(MB17>=$C$5,VLOOKUP(MB18,Kurināmais!$A$4:$G$351,$NQ$8,FALSE)/9.3*Biomasa!$Q$6*$CQ$6,\" \"),IF(AND(MB16>1,MB16<=10),VLOOKUP(MB18,Kurināmais!$A$4:$G$351,$NQ$8,FALSE)/9.3*Biomasa!$Q$6*$CQ$6,IF(MB16=11,IF(MB17<$C$5,VLOOKUP(MB18,Kurināmais!$A$4:$G$351,$NQ$8,FALSE)/9.3*Biomasa!$Q$6*$CQ$6,VLOOKUP(MB18,Kurināmais!$A$4:$G$351,$NQ$8,FALSE)/9.3*$AD$6*$CQ$6),IF(MB16>11,VLOOKUP(MB18,Kurināmais!$A$4:$G$351,$NQ$8,FALSE)/9.3*$AD$6*$CQ$6)))),IF(AND(MB16=$NQ$4,$C$6=12),VLOOKUP(MB18,Kurināmais!$A$4:$G$351,$NQ$8,FALSE)/9.3*$AD$6*$CQ$6,IF(AND(MB16=$NQ$4+1,$C$6<12,MB17<=$C$6,$NQ$4=10),VLOOKUP(MB18,Kurināmais!$A$4:$G$351,$NQ$8,FALSE)/9.3*$Q$6*$CQ$6,IF(AND(MB16=$NQ$4+1,$C$6<12,MB17<=$C$6),VLOOKUP(MB18,Kurināmais!$A$4:$G$351,$NQ$8,FALSE)/9.3*$AD$6*$CQ$6,\" \"))))","v":" "},{"$f":"IF(AND(MC15>=$B$5,MC15<$B$6),IF(MC16=1,IF(MC17>=$C$5,VLOOKUP(MC18,Kurināmais!$A$4:$G$351,$NQ$8,FALSE)/9.3*Biomasa!$Q$6*$CQ$6,\" \"),IF(AND(MC16>1,MC16<=10),VLOOKUP(MC18,Kurināmais!$A$4:$G$351,$NQ$8,FALSE)/9.3*Biomasa!$Q$6*$CQ$6,IF(MC16=11,IF(MC17<$C$5,VLOOKUP(MC18,Kurināmais!$A$4:$G$351,$NQ$8,FALSE)/9.3*Biomasa!$Q$6*$CQ$6,VLOOKUP(MC18,Kurināmais!$A$4:$G$351,$NQ$8,FALSE)/9.3*$AD$6*$CQ$6),IF(MC16>11,VLOOKUP(MC18,Kurināmais!$A$4:$G$351,$NQ$8,FALSE)/9.3*$AD$6*$CQ$6)))),IF(AND(MC16=$NQ$4,$C$6=12),VLOOKUP(MC18,Kurināmais!$A$4:$G$351,$NQ$8,FALSE)/9.3*$AD$6*$CQ$6,IF(AND(MC16=$NQ$4+1,$C$6<12,MC17<=$C$6,$NQ$4=10),VLOOKUP(MC18,Kurināmais!$A$4:$G$351,$NQ$8,FALSE)/9.3*$Q$6*$CQ$6,IF(AND(MC16=$NQ$4+1,$C$6<12,MC17<=$C$6),VLOOKUP(MC18,Kurināmais!$A$4:$G$351,$NQ$8,FALSE)/9.3*$AD$6*$CQ$6,\" \"))))","v":" "},{"$f":"IF(OR(MD$16=\" \",MD$16=0,MD21=0),\" \",SUMPRODUCT(ME21:MP21,ME22:MP22)/MD21)","v":" "},{"$f":"IF(AND(ME15>=$B$5,ME15<$B$6),IF(ME16=1,IF(ME17>=$C$5,VLOOKUP(ME18,Kurināmais!$A$4:$G$351,$NQ$8,FALSE)/9.3*Biomasa!$Q$6*$CQ$6,\" \"),IF(AND(ME16>1,ME16<=10),VLOOKUP(ME18,Kurināmais!$A$4:$G$351,$NQ$8,FALSE)/9.3*Biomasa!$Q$6*$CQ$6,IF(ME16=11,IF(ME17<$C$5,VLOOKUP(ME18,Kurināmais!$A$4:$G$351,$NQ$8,FALSE)/9.3*Biomasa!$Q$6*$CQ$6,VLOOKUP(ME18,Kurināmais!$A$4:$G$351,$NQ$8,FALSE)/9.3*$AD$6*$CQ$6),IF(ME16>11,VLOOKUP(ME18,Kurināmais!$A$4:$G$351,$NQ$8,FALSE)/9.3*$AD$6*$CQ$6)))),IF(AND(ME16=$NQ$4,$C$6=12),VLOOKUP(ME18,Kurināmais!$A$4:$G$351,$NQ$8,FALSE)/9.3*$AD$6*$CQ$6,IF(AND(ME16=$NQ$4+1,$C$6<12,ME17<=$C$6,$NQ$4=10),VLOOKUP(ME18,Kurināmais!$A$4:$G$351,$NQ$8,FALSE)/9.3*$Q$6*$CQ$6,IF(AND(ME16=$NQ$4+1,$C$6<12,ME17<=$C$6),VLOOKUP(ME18,Kurināmais!$A$4:$G$351,$NQ$8,FALSE)/9.3*$AD$6*$CQ$6,\" \"))))","v":" "},{"$f":"IF(AND(MF15>=$B$5,MF15<$B$6),IF(MF16=1,IF(MF17>=$C$5,VLOOKUP(MF18,Kurināmais!$A$4:$G$351,$NQ$8,FALSE)/9.3*Biomasa!$Q$6*$CQ$6,\" \"),IF(AND(MF16>1,MF16<=10),VLOOKUP(MF18,Kurināmais!$A$4:$G$351,$NQ$8,FALSE)/9.3*Biomasa!$Q$6*$CQ$6,IF(MF16=11,IF(MF17<$C$5,VLOOKUP(MF18,Kurināmais!$A$4:$G$351,$NQ$8,FALSE)/9.3*Biomasa!$Q$6*$CQ$6,VLOOKUP(MF18,Kurināmais!$A$4:$G$351,$NQ$8,FALSE)/9.3*$AD$6*$CQ$6),IF(MF16>11,VLOOKUP(MF18,Kurināmais!$A$4:$G$351,$NQ$8,FALSE)/9.3*$AD$6*$CQ$6)))),IF(AND(MF16=$NQ$4,$C$6=12),VLOOKUP(MF18,Kurināmais!$A$4:$G$351,$NQ$8,FALSE)/9.3*$AD$6*$CQ$6,IF(AND(MF16=$NQ$4+1,$C$6<12,MF17<=$C$6,$NQ$4=10),VLOOKUP(MF18,Kurināmais!$A$4:$G$351,$NQ$8,FALSE)/9.3*$Q$6*$CQ$6,IF(AND(MF16=$NQ$4+1,$C$6<12,MF17<=$C$6),VLOOKUP(MF18,Kurināmais!$A$4:$G$351,$NQ$8,FALSE)/9.3*$AD$6*$CQ$6,\" \"))))","v":" "},{"$f":"IF(AND(MG15>=$B$5,MG15<$B$6),IF(MG16=1,IF(MG17>=$C$5,VLOOKUP(MG18,Kurināmais!$A$4:$G$351,$NQ$8,FALSE)/9.3*Biomasa!$Q$6*$CQ$6,\" \"),IF(AND(MG16>1,MG16<=10),VLOOKUP(MG18,Kurināmais!$A$4:$G$351,$NQ$8,FALSE)/9.3*Biomasa!$Q$6*$CQ$6,IF(MG16=11,IF(MG17<$C$5,VLOOKUP(MG18,Kurināmais!$A$4:$G$351,$NQ$8,FALSE)/9.3*Biomasa!$Q$6*$CQ$6,VLOOKUP(MG18,Kurināmais!$A$4:$G$351,$NQ$8,FALSE)/9.3*$AD$6*$CQ$6),IF(MG16>11,VLOOKUP(MG18,Kurināmais!$A$4:$G$351,$NQ$8,FALSE)/9.3*$AD$6*$CQ$6)))),IF(AND(MG16=$NQ$4,$C$6=12),VLOOKUP(MG18,Kurināmais!$A$4:$G$351,$NQ$8,FALSE)/9.3*$AD$6*$CQ$6,IF(AND(MG16=$NQ$4+1,$C$6<12,MG17<=$C$6,$NQ$4=10),VLOOKUP(MG18,Kurināmais!$A$4:$G$351,$NQ$8,FALSE)/9.3*$Q$6*$CQ$6,IF(AND(MG16=$NQ$4+1,$C$6<12,MG17<=$C$6),VLOOKUP(MG18,Kurināmais!$A$4:$G$351,$NQ$8,FALSE)/9.3*$AD$6*$CQ$6,\" \"))))","v":" "},{"$f":"IF(AND(MH15>=$B$5,MH15<$B$6),IF(MH16=1,IF(MH17>=$C$5,VLOOKUP(MH18,Kurināmais!$A$4:$G$351,$NQ$8,FALSE)/9.3*Biomasa!$Q$6*$CQ$6,\" \"),IF(AND(MH16>1,MH16<=10),VLOOKUP(MH18,Kurināmais!$A$4:$G$351,$NQ$8,FALSE)/9.3*Biomasa!$Q$6*$CQ$6,IF(MH16=11,IF(MH17<$C$5,VLOOKUP(MH18,Kurināmais!$A$4:$G$351,$NQ$8,FALSE)/9.3*Biomasa!$Q$6*$CQ$6,VLOOKUP(MH18,Kurināmais!$A$4:$G$351,$NQ$8,FALSE)/9.3*$AD$6*$CQ$6),IF(MH16>11,VLOOKUP(MH18,Kurināmais!$A$4:$G$351,$NQ$8,FALSE)/9.3*$AD$6*$CQ$6)))),IF(AND(MH16=$NQ$4,$C$6=12),VLOOKUP(MH18,Kurināmais!$A$4:$G$351,$NQ$8,FALSE)/9.3*$AD$6*$CQ$6,IF(AND(MH16=$NQ$4+1,$C$6<12,MH17<=$C$6,$NQ$4=10),VLOOKUP(MH18,Kurināmais!$A$4:$G$351,$NQ$8,FALSE)/9.3*$Q$6*$CQ$6,IF(AND(MH16=$NQ$4+1,$C$6<12,MH17<=$C$6),VLOOKUP(MH18,Kurināmais!$A$4:$G$351,$NQ$8,FALSE)/9.3*$AD$6*$CQ$6,\" \"))))","v":" "},{"$f":"IF(AND(MI15>=$B$5,MI15<$B$6),IF(MI16=1,IF(MI17>=$C$5,VLOOKUP(MI18,Kurināmais!$A$4:$G$351,$NQ$8,FALSE)/9.3*Biomasa!$Q$6*$CQ$6,\" \"),IF(AND(MI16>1,MI16<=10),VLOOKUP(MI18,Kurināmais!$A$4:$G$351,$NQ$8,FALSE)/9.3*Biomasa!$Q$6*$CQ$6,IF(MI16=11,IF(MI17<$C$5,VLOOKUP(MI18,Kurināmais!$A$4:$G$351,$NQ$8,FALSE)/9.3*Biomasa!$Q$6*$CQ$6,VLOOKUP(MI18,Kurināmais!$A$4:$G$351,$NQ$8,FALSE)/9.3*$AD$6*$CQ$6),IF(MI16>11,VLOOKUP(MI18,Kurināmais!$A$4:$G$351,$NQ$8,FALSE)/9.3*$AD$6*$CQ$6)))),IF(AND(MI16=$NQ$4,$C$6=12),VLOOKUP(MI18,Kurināmais!$A$4:$G$351,$NQ$8,FALSE)/9.3*$AD$6*$CQ$6,IF(AND(MI16=$NQ$4+1,$C$6<12,MI17<=$C$6,$NQ$4=10),VLOOKUP(MI18,Kurināmais!$A$4:$G$351,$NQ$8,FALSE)/9.3*$Q$6*$CQ$6,IF(AND(MI16=$NQ$4+1,$C$6<12,MI17<=$C$6),VLOOKUP(MI18,Kurināmais!$A$4:$G$351,$NQ$8,FALSE)/9.3*$AD$6*$CQ$6,\" \"))))","v":" "},{"$f":"IF(AND(MJ15>=$B$5,MJ15<$B$6),IF(MJ16=1,IF(MJ17>=$C$5,VLOOKUP(MJ18,Kurināmais!$A$4:$G$351,$NQ$8,FALSE)/9.3*Biomasa!$Q$6*$CQ$6,\" \"),IF(AND(MJ16>1,MJ16<=10),VLOOKUP(MJ18,Kurināmais!$A$4:$G$351,$NQ$8,FALSE)/9.3*Biomasa!$Q$6*$CQ$6,IF(MJ16=11,IF(MJ17<$C$5,VLOOKUP(MJ18,Kurināmais!$A$4:$G$351,$NQ$8,FALSE)/9.3*Biomasa!$Q$6*$CQ$6,VLOOKUP(MJ18,Kurināmais!$A$4:$G$351,$NQ$8,FALSE)/9.3*$AD$6*$CQ$6),IF(MJ16>11,VLOOKUP(MJ18,Kurināmais!$A$4:$G$351,$NQ$8,FALSE)/9.3*$AD$6*$CQ$6)))),IF(AND(MJ16=$NQ$4,$C$6=12),VLOOKUP(MJ18,Kurināmais!$A$4:$G$351,$NQ$8,FALSE)/9.3*$AD$6*$CQ$6,IF(AND(MJ16=$NQ$4+1,$C$6<12,MJ17<=$C$6,$NQ$4=10),VLOOKUP(MJ18,Kurināmais!$A$4:$G$351,$NQ$8,FALSE)/9.3*$Q$6*$CQ$6,IF(AND(MJ16=$NQ$4+1,$C$6<12,MJ17<=$C$6),VLOOKUP(MJ18,Kurināmais!$A$4:$G$351,$NQ$8,FALSE)/9.3*$AD$6*$CQ$6,\" \"))))","v":" "},{"$f":"IF(AND(MK15>=$B$5,MK15<$B$6),IF(MK16=1,IF(MK17>=$C$5,VLOOKUP(MK18,Kurināmais!$A$4:$G$351,$NQ$8,FALSE)/9.3*Biomasa!$Q$6*$CQ$6,\" \"),IF(AND(MK16>1,MK16<=10),VLOOKUP(MK18,Kurināmais!$A$4:$G$351,$NQ$8,FALSE)/9.3*Biomasa!$Q$6*$CQ$6,IF(MK16=11,IF(MK17<$C$5,VLOOKUP(MK18,Kurināmais!$A$4:$G$351,$NQ$8,FALSE)/9.3*Biomasa!$Q$6*$CQ$6,VLOOKUP(MK18,Kurināmais!$A$4:$G$351,$NQ$8,FALSE)/9.3*$AD$6*$CQ$6),IF(MK16>11,VLOOKUP(MK18,Kurināmais!$A$4:$G$351,$NQ$8,FALSE)/9.3*$AD$6*$CQ$6)))),IF(AND(MK16=$NQ$4,$C$6=12),VLOOKUP(MK18,Kurināmais!$A$4:$G$351,$NQ$8,FALSE)/9.3*$AD$6*$CQ$6,IF(AND(MK16=$NQ$4+1,$C$6<12,MK17<=$C$6,$NQ$4=10),VLOOKUP(MK18,Kurināmais!$A$4:$G$351,$NQ$8,FALSE)/9.3*$Q$6*$CQ$6,IF(AND(MK16=$NQ$4+1,$C$6<12,MK17<=$C$6),VLOOKUP(MK18,Kurināmais!$A$4:$G$351,$NQ$8,FALSE)/9.3*$AD$6*$CQ$6,\" \"))))","v":" "},{"$f":"IF(AND(ML15>=$B$5,ML15<$B$6),IF(ML16=1,IF(ML17>=$C$5,VLOOKUP(ML18,Kurināmais!$A$4:$G$351,$NQ$8,FALSE)/9.3*Biomasa!$Q$6*$CQ$6,\" \"),IF(AND(ML16>1,ML16<=10),VLOOKUP(ML18,Kurināmais!$A$4:$G$351,$NQ$8,FALSE)/9.3*Biomasa!$Q$6*$CQ$6,IF(ML16=11,IF(ML17<$C$5,VLOOKUP(ML18,Kurināmais!$A$4:$G$351,$NQ$8,FALSE)/9.3*Biomasa!$Q$6*$CQ$6,VLOOKUP(ML18,Kurināmais!$A$4:$G$351,$NQ$8,FALSE)/9.3*$AD$6*$CQ$6),IF(ML16>11,VLOOKUP(ML18,Kurināmais!$A$4:$G$351,$NQ$8,FALSE)/9.3*$AD$6*$CQ$6)))),IF(AND(ML16=$NQ$4,$C$6=12),VLOOKUP(ML18,Kurināmais!$A$4:$G$351,$NQ$8,FALSE)/9.3*$AD$6*$CQ$6,IF(AND(ML16=$NQ$4+1,$C$6<12,ML17<=$C$6,$NQ$4=10),VLOOKUP(ML18,Kurināmais!$A$4:$G$351,$NQ$8,FALSE)/9.3*$Q$6*$CQ$6,IF(AND(ML16=$NQ$4+1,$C$6<12,ML17<=$C$6),VLOOKUP(ML18,Kurināmais!$A$4:$G$351,$NQ$8,FALSE)/9.3*$AD$6*$CQ$6,\" \"))))","v":" "},{"$f":"IF(AND(MM15>=$B$5,MM15<$B$6),IF(MM16=1,IF(MM17>=$C$5,VLOOKUP(MM18,Kurināmais!$A$4:$G$351,$NQ$8,FALSE)/9.3*Biomasa!$Q$6*$CQ$6,\" \"),IF(AND(MM16>1,MM16<=10),VLOOKUP(MM18,Kurināmais!$A$4:$G$351,$NQ$8,FALSE)/9.3*Biomasa!$Q$6*$CQ$6,IF(MM16=11,IF(MM17<$C$5,VLOOKUP(MM18,Kurināmais!$A$4:$G$351,$NQ$8,FALSE)/9.3*Biomasa!$Q$6*$CQ$6,VLOOKUP(MM18,Kurināmais!$A$4:$G$351,$NQ$8,FALSE)/9.3*$AD$6*$CQ$6),IF(MM16>11,VLOOKUP(MM18,Kurināmais!$A$4:$G$351,$NQ$8,FALSE)/9.3*$AD$6*$CQ$6)))),IF(AND(MM16=$NQ$4,$C$6=12),VLOOKUP(MM18,Kurināmais!$A$4:$G$351,$NQ$8,FALSE)/9.3*$AD$6*$CQ$6,IF(AND(MM16=$NQ$4+1,$C$6<12,MM17<=$C$6,$NQ$4=10),VLOOKUP(MM18,Kurināmais!$A$4:$G$351,$NQ$8,FALSE)/9.3*$Q$6*$CQ$6,IF(AND(MM16=$NQ$4+1,$C$6<12,MM17<=$C$6),VLOOKUP(MM18,Kurināmais!$A$4:$G$351,$NQ$8,FALSE)/9.3*$AD$6*$CQ$6,\" \"))))","v":" "},{"$f":"IF(AND(MN15>=$B$5,MN15<$B$6),IF(MN16=1,IF(MN17>=$C$5,VLOOKUP(MN18,Kurināmais!$A$4:$G$351,$NQ$8,FALSE)/9.3*Biomasa!$Q$6*$CQ$6,\" \"),IF(AND(MN16>1,MN16<=10),VLOOKUP(MN18,Kurināmais!$A$4:$G$351,$NQ$8,FALSE)/9.3*Biomasa!$Q$6*$CQ$6,IF(MN16=11,IF(MN17<$C$5,VLOOKUP(MN18,Kurināmais!$A$4:$G$351,$NQ$8,FALSE)/9.3*Biomasa!$Q$6*$CQ$6,VLOOKUP(MN18,Kurināmais!$A$4:$G$351,$NQ$8,FALSE)/9.3*$AD$6*$CQ$6),IF(MN16>11,VLOOKUP(MN18,Kurināmais!$A$4:$G$351,$NQ$8,FALSE)/9.3*$AD$6*$CQ$6)))),IF(AND(MN16=$NQ$4,$C$6=12),VLOOKUP(MN18,Kurināmais!$A$4:$G$351,$NQ$8,FALSE)/9.3*$AD$6*$CQ$6,IF(AND(MN16=$NQ$4+1,$C$6<12,MN17<=$C$6,$NQ$4=10),VLOOKUP(MN18,Kurināmais!$A$4:$G$351,$NQ$8,FALSE)/9.3*$Q$6*$CQ$6,IF(AND(MN16=$NQ$4+1,$C$6<12,MN17<=$C$6),VLOOKUP(MN18,Kurināmais!$A$4:$G$351,$NQ$8,FALSE)/9.3*$AD$6*$CQ$6,\" \"))))","v":" "},{"$f":"IF(AND(MO15>=$B$5,MO15<$B$6),IF(MO16=1,IF(MO17>=$C$5,VLOOKUP(MO18,Kurināmais!$A$4:$G$351,$NQ$8,FALSE)/9.3*Biomasa!$Q$6*$CQ$6,\" \"),IF(AND(MO16>1,MO16<=10),VLOOKUP(MO18,Kurināmais!$A$4:$G$351,$NQ$8,FALSE)/9.3*Biomasa!$Q$6*$CQ$6,IF(MO16=11,IF(MO17<$C$5,VLOOKUP(MO18,Kurināmais!$A$4:$G$351,$NQ$8,FALSE)/9.3*Biomasa!$Q$6*$CQ$6,VLOOKUP(MO18,Kurināmais!$A$4:$G$351,$NQ$8,FALSE)/9.3*$AD$6*$CQ$6),IF(MO16>11,VLOOKUP(MO18,Kurināmais!$A$4:$G$351,$NQ$8,FALSE)/9.3*$AD$6*$CQ$6)))),IF(AND(MO16=$NQ$4,$C$6=12),VLOOKUP(MO18,Kurināmais!$A$4:$G$351,$NQ$8,FALSE)/9.3*$AD$6*$CQ$6,IF(AND(MO16=$NQ$4+1,$C$6<12,MO17<=$C$6,$NQ$4=10),VLOOKUP(MO18,Kurināmais!$A$4:$G$351,$NQ$8,FALSE)/9.3*$Q$6*$CQ$6,IF(AND(MO16=$NQ$4+1,$C$6<12,MO17<=$C$6),VLOOKUP(MO18,Kurināmais!$A$4:$G$351,$NQ$8,FALSE)/9.3*$AD$6*$CQ$6,\" \"))))","v":" "},{"$f":"IF(AND(MP15>=$B$5,MP15<$B$6),IF(MP16=1,IF(MP17>=$C$5,VLOOKUP(MP18,Kurināmais!$A$4:$G$351,$NQ$8,FALSE)/9.3*Biomasa!$Q$6*$CQ$6,\" \"),IF(AND(MP16>1,MP16<=10),VLOOKUP(MP18,Kurināmais!$A$4:$G$351,$NQ$8,FALSE)/9.3*Biomasa!$Q$6*$CQ$6,IF(MP16=11,IF(MP17<$C$5,VLOOKUP(MP18,Kurināmais!$A$4:$G$351,$NQ$8,FALSE)/9.3*Biomasa!$Q$6*$CQ$6,VLOOKUP(MP18,Kurināmais!$A$4:$G$351,$NQ$8,FALSE)/9.3*$AD$6*$CQ$6),IF(MP16>11,VLOOKUP(MP18,Kurināmais!$A$4:$G$351,$NQ$8,FALSE)/9.3*$AD$6*$CQ$6)))),IF(AND(MP16=$NQ$4,$C$6=12),VLOOKUP(MP18,Kurināmais!$A$4:$G$351,$NQ$8,FALSE)/9.3*$AD$6*$CQ$6,IF(AND(MP16=$NQ$4+1,$C$6<12,MP17<=$C$6,$NQ$4=10),VLOOKUP(MP18,Kurināmais!$A$4:$G$351,$NQ$8,FALSE)/9.3*$Q$6*$CQ$6,IF(AND(MP16=$NQ$4+1,$C$6<12,MP17<=$C$6),VLOOKUP(MP18,Kurināmais!$A$4:$G$351,$NQ$8,FALSE)/9.3*$AD$6*$CQ$6,\" \"))))","v":" "},{"$f":"IF(OR(MQ$16=\" \",MQ$16=0,MQ21=0),\" \",SUMPRODUCT(MR21:NC21,MR22:NC22)/MQ21)","v":" "},{"$f":"IF(AND(MR15>=$B$5,MR15<$B$6),IF(MR16=1,IF(MR17>=$C$5,VLOOKUP(MR18,Kurināmais!$A$4:$G$351,$NQ$8,FALSE)/9.3*Biomasa!$Q$6*$CQ$6,\" \"),IF(AND(MR16>1,MR16<=10),VLOOKUP(MR18,Kurināmais!$A$4:$G$351,$NQ$8,FALSE)/9.3*Biomasa!$Q$6*$CQ$6,IF(MR16=11,IF(MR17<$C$5,VLOOKUP(MR18,Kurināmais!$A$4:$G$351,$NQ$8,FALSE)/9.3*Biomasa!$Q$6*$CQ$6,VLOOKUP(MR18,Kurināmais!$A$4:$G$351,$NQ$8,FALSE)/9.3*$AD$6*$CQ$6),IF(MR16>11,VLOOKUP(MR18,Kurināmais!$A$4:$G$351,$NQ$8,FALSE)/9.3*$AD$6*$CQ$6)))),IF(AND(MR16=$NQ$4,$C$6=12),VLOOKUP(MR18,Kurināmais!$A$4:$G$351,$NQ$8,FALSE)/9.3*$AD$6*$CQ$6,IF(AND(MR16=$NQ$4+1,$C$6<12,MR17<=$C$6,$NQ$4=10),VLOOKUP(MR18,Kurināmais!$A$4:$G$351,$NQ$8,FALSE)/9.3*$Q$6*$CQ$6,IF(AND(MR16=$NQ$4+1,$C$6<12,MR17<=$C$6),VLOOKUP(MR18,Kurināmais!$A$4:$G$351,$NQ$8,FALSE)/9.3*$AD$6*$CQ$6,\" \"))))","v":" "},{"$f":"IF(AND(MS15>=$B$5,MS15<$B$6),IF(MS16=1,IF(MS17>=$C$5,VLOOKUP(MS18,Kurināmais!$A$4:$G$351,$NQ$8,FALSE)/9.3*Biomasa!$Q$6*$CQ$6,\" \"),IF(AND(MS16>1,MS16<=10),VLOOKUP(MS18,Kurināmais!$A$4:$G$351,$NQ$8,FALSE)/9.3*Biomasa!$Q$6*$CQ$6,IF(MS16=11,IF(MS17<$C$5,VLOOKUP(MS18,Kurināmais!$A$4:$G$351,$NQ$8,FALSE)/9.3*Biomasa!$Q$6*$CQ$6,VLOOKUP(MS18,Kurināmais!$A$4:$G$351,$NQ$8,FALSE)/9.3*$AD$6*$CQ$6),IF(MS16>11,VLOOKUP(MS18,Kurināmais!$A$4:$G$351,$NQ$8,FALSE)/9.3*$AD$6*$CQ$6)))),IF(AND(MS16=$NQ$4,$C$6=12),VLOOKUP(MS18,Kurināmais!$A$4:$G$351,$NQ$8,FALSE)/9.3*$AD$6*$CQ$6,IF(AND(MS16=$NQ$4+1,$C$6<12,MS17<=$C$6,$NQ$4=10),VLOOKUP(MS18,Kurināmais!$A$4:$G$351,$NQ$8,FALSE)/9.3*$Q$6*$CQ$6,IF(AND(MS16=$NQ$4+1,$C$6<12,MS17<=$C$6),VLOOKUP(MS18,Kurināmais!$A$4:$G$351,$NQ$8,FALSE)/9.3*$AD$6*$CQ$6,\" \"))))","v":" "},{"$f":"IF(AND(MT15>=$B$5,MT15<$B$6),IF(MT16=1,IF(MT17>=$C$5,VLOOKUP(MT18,Kurināmais!$A$4:$G$351,$NQ$8,FALSE)/9.3*Biomasa!$Q$6*$CQ$6,\" \"),IF(AND(MT16>1,MT16<=10),VLOOKUP(MT18,Kurināmais!$A$4:$G$351,$NQ$8,FALSE)/9.3*Biomasa!$Q$6*$CQ$6,IF(MT16=11,IF(MT17<$C$5,VLOOKUP(MT18,Kurināmais!$A$4:$G$351,$NQ$8,FALSE)/9.3*Biomasa!$Q$6*$CQ$6,VLOOKUP(MT18,Kurināmais!$A$4:$G$351,$NQ$8,FALSE)/9.3*$AD$6*$CQ$6),IF(MT16>11,VLOOKUP(MT18,Kurināmais!$A$4:$G$351,$NQ$8,FALSE)/9.3*$AD$6*$CQ$6)))),IF(AND(MT16=$NQ$4,$C$6=12),VLOOKUP(MT18,Kurināmais!$A$4:$G$351,$NQ$8,FALSE)/9.3*$AD$6*$CQ$6,IF(AND(MT16=$NQ$4+1,$C$6<12,MT17<=$C$6,$NQ$4=10),VLOOKUP(MT18,Kurināmais!$A$4:$G$351,$NQ$8,FALSE)/9.3*$Q$6*$CQ$6,IF(AND(MT16=$NQ$4+1,$C$6<12,MT17<=$C$6),VLOOKUP(MT18,Kurināmais!$A$4:$G$351,$NQ$8,FALSE)/9.3*$AD$6*$CQ$6,\" \"))))","v":" "},{"$f":"IF(AND(MU15>=$B$5,MU15<$B$6),IF(MU16=1,IF(MU17>=$C$5,VLOOKUP(MU18,Kurināmais!$A$4:$G$351,$NQ$8,FALSE)/9.3*Biomasa!$Q$6*$CQ$6,\" \"),IF(AND(MU16>1,MU16<=10),VLOOKUP(MU18,Kurināmais!$A$4:$G$351,$NQ$8,FALSE)/9.3*Biomasa!$Q$6*$CQ$6,IF(MU16=11,IF(MU17<$C$5,VLOOKUP(MU18,Kurināmais!$A$4:$G$351,$NQ$8,FALSE)/9.3*Biomasa!$Q$6*$CQ$6,VLOOKUP(MU18,Kurināmais!$A$4:$G$351,$NQ$8,FALSE)/9.3*$AD$6*$CQ$6),IF(MU16>11,VLOOKUP(MU18,Kurināmais!$A$4:$G$351,$NQ$8,FALSE)/9.3*$AD$6*$CQ$6)))),IF(AND(MU16=$NQ$4,$C$6=12),VLOOKUP(MU18,Kurināmais!$A$4:$G$351,$NQ$8,FALSE)/9.3*$AD$6*$CQ$6,IF(AND(MU16=$NQ$4+1,$C$6<12,MU17<=$C$6,$NQ$4=10),VLOOKUP(MU18,Kurināmais!$A$4:$G$351,$NQ$8,FALSE)/9.3*$Q$6*$CQ$6,IF(AND(MU16=$NQ$4+1,$C$6<12,MU17<=$C$6),VLOOKUP(MU18,Kurināmais!$A$4:$G$351,$NQ$8,FALSE)/9.3*$AD$6*$CQ$6,\" \"))))","v":" "},{"$f":"IF(AND(MV15>=$B$5,MV15<$B$6),IF(MV16=1,IF(MV17>=$C$5,VLOOKUP(MV18,Kurināmais!$A$4:$G$351,$NQ$8,FALSE)/9.3*Biomasa!$Q$6*$CQ$6,\" \"),IF(AND(MV16>1,MV16<=10),VLOOKUP(MV18,Kurināmais!$A$4:$G$351,$NQ$8,FALSE)/9.3*Biomasa!$Q$6*$CQ$6,IF(MV16=11,IF(MV17<$C$5,VLOOKUP(MV18,Kurināmais!$A$4:$G$351,$NQ$8,FALSE)/9.3*Biomasa!$Q$6*$CQ$6,VLOOKUP(MV18,Kurināmais!$A$4:$G$351,$NQ$8,FALSE)/9.3*$AD$6*$CQ$6),IF(MV16>11,VLOOKUP(MV18,Kurināmais!$A$4:$G$351,$NQ$8,FALSE)/9.3*$AD$6*$CQ$6)))),IF(AND(MV16=$NQ$4,$C$6=12),VLOOKUP(MV18,Kurināmais!$A$4:$G$351,$NQ$8,FALSE)/9.3*$AD$6*$CQ$6,IF(AND(MV16=$NQ$4+1,$C$6<12,MV17<=$C$6,$NQ$4=10),VLOOKUP(MV18,Kurināmais!$A$4:$G$351,$NQ$8,FALSE)/9.3*$Q$6*$CQ$6,IF(AND(MV16=$NQ$4+1,$C$6<12,MV17<=$C$6),VLOOKUP(MV18,Kurināmais!$A$4:$G$351,$NQ$8,FALSE)/9.3*$AD$6*$CQ$6,\" \"))))","v":" "},{"$f":"IF(AND(MW15>=$B$5,MW15<$B$6),IF(MW16=1,IF(MW17>=$C$5,VLOOKUP(MW18,Kurināmais!$A$4:$G$351,$NQ$8,FALSE)/9.3*Biomasa!$Q$6*$CQ$6,\" \"),IF(AND(MW16>1,MW16<=10),VLOOKUP(MW18,Kurināmais!$A$4:$G$351,$NQ$8,FALSE)/9.3*Biomasa!$Q$6*$CQ$6,IF(MW16=11,IF(MW17<$C$5,VLOOKUP(MW18,Kurināmais!$A$4:$G$351,$NQ$8,FALSE)/9.3*Biomasa!$Q$6*$CQ$6,VLOOKUP(MW18,Kurināmais!$A$4:$G$351,$NQ$8,FALSE)/9.3*$AD$6*$CQ$6),IF(MW16>11,VLOOKUP(MW18,Kurināmais!$A$4:$G$351,$NQ$8,FALSE)/9.3*$AD$6*$CQ$6)))),IF(AND(MW16=$NQ$4,$C$6=12),VLOOKUP(MW18,Kurināmais!$A$4:$G$351,$NQ$8,FALSE)/9.3*$AD$6*$CQ$6,IF(AND(MW16=$NQ$4+1,$C$6<12,MW17<=$C$6,$NQ$4=10),VLOOKUP(MW18,Kurināmais!$A$4:$G$351,$NQ$8,FALSE)/9.3*$Q$6*$CQ$6,IF(AND(MW16=$NQ$4+1,$C$6<12,MW17<=$C$6),VLOOKUP(MW18,Kurināmais!$A$4:$G$351,$NQ$8,FALSE)/9.3*$AD$6*$CQ$6,\" \"))))","v":" "},{"$f":"IF(AND(MX15>=$B$5,MX15<$B$6),IF(MX16=1,IF(MX17>=$C$5,VLOOKUP(MX18,Kurināmais!$A$4:$G$351,$NQ$8,FALSE)/9.3*Biomasa!$Q$6*$CQ$6,\" \"),IF(AND(MX16>1,MX16<=10),VLOOKUP(MX18,Kurināmais!$A$4:$G$351,$NQ$8,FALSE)/9.3*Biomasa!$Q$6*$CQ$6,IF(MX16=11,IF(MX17<$C$5,VLOOKUP(MX18,Kurināmais!$A$4:$G$351,$NQ$8,FALSE)/9.3*Biomasa!$Q$6*$CQ$6,VLOOKUP(MX18,Kurināmais!$A$4:$G$351,$NQ$8,FALSE)/9.3*$AD$6*$CQ$6),IF(MX16>11,VLOOKUP(MX18,Kurināmais!$A$4:$G$351,$NQ$8,FALSE)/9.3*$AD$6*$CQ$6)))),IF(AND(MX16=$NQ$4,$C$6=12),VLOOKUP(MX18,Kurināmais!$A$4:$G$351,$NQ$8,FALSE)/9.3*$AD$6*$CQ$6,IF(AND(MX16=$NQ$4+1,$C$6<12,MX17<=$C$6,$NQ$4=10),VLOOKUP(MX18,Kurināmais!$A$4:$G$351,$NQ$8,FALSE)/9.3*$Q$6*$CQ$6,IF(AND(MX16=$NQ$4+1,$C$6<12,MX17<=$C$6),VLOOKUP(MX18,Kurināmais!$A$4:$G$351,$NQ$8,FALSE)/9.3*$AD$6*$CQ$6,\" \"))))","v":" "},{"$f":"IF(AND(MY15>=$B$5,MY15<$B$6),IF(MY16=1,IF(MY17>=$C$5,VLOOKUP(MY18,Kurināmais!$A$4:$G$351,$NQ$8,FALSE)/9.3*Biomasa!$Q$6*$CQ$6,\" \"),IF(AND(MY16>1,MY16<=10),VLOOKUP(MY18,Kurināmais!$A$4:$G$351,$NQ$8,FALSE)/9.3*Biomasa!$Q$6*$CQ$6,IF(MY16=11,IF(MY17<$C$5,VLOOKUP(MY18,Kurināmais!$A$4:$G$351,$NQ$8,FALSE)/9.3*Biomasa!$Q$6*$CQ$6,VLOOKUP(MY18,Kurināmais!$A$4:$G$351,$NQ$8,FALSE)/9.3*$AD$6*$CQ$6),IF(MY16>11,VLOOKUP(MY18,Kurināmais!$A$4:$G$351,$NQ$8,FALSE)/9.3*$AD$6*$CQ$6)))),IF(AND(MY16=$NQ$4,$C$6=12),VLOOKUP(MY18,Kurināmais!$A$4:$G$351,$NQ$8,FALSE)/9.3*$AD$6*$CQ$6,IF(AND(MY16=$NQ$4+1,$C$6<12,MY17<=$C$6,$NQ$4=10),VLOOKUP(MY18,Kurināmais!$A$4:$G$351,$NQ$8,FALSE)/9.3*$Q$6*$CQ$6,IF(AND(MY16=$NQ$4+1,$C$6<12,MY17<=$C$6),VLOOKUP(MY18,Kurināmais!$A$4:$G$351,$NQ$8,FALSE)/9.3*$AD$6*$CQ$6,\" \"))))","v":" "},{"$f":"IF(AND(MZ15>=$B$5,MZ15<$B$6),IF(MZ16=1,IF(MZ17>=$C$5,VLOOKUP(MZ18,Kurināmais!$A$4:$G$351,$NQ$8,FALSE)/9.3*Biomasa!$Q$6*$CQ$6,\" \"),IF(AND(MZ16>1,MZ16<=10),VLOOKUP(MZ18,Kurināmais!$A$4:$G$351,$NQ$8,FALSE)/9.3*Biomasa!$Q$6*$CQ$6,IF(MZ16=11,IF(MZ17<$C$5,VLOOKUP(MZ18,Kurināmais!$A$4:$G$351,$NQ$8,FALSE)/9.3*Biomasa!$Q$6*$CQ$6,VLOOKUP(MZ18,Kurināmais!$A$4:$G$351,$NQ$8,FALSE)/9.3*$AD$6*$CQ$6),IF(MZ16>11,VLOOKUP(MZ18,Kurināmais!$A$4:$G$351,$NQ$8,FALSE)/9.3*$AD$6*$CQ$6)))),IF(AND(MZ16=$NQ$4,$C$6=12),VLOOKUP(MZ18,Kurināmais!$A$4:$G$351,$NQ$8,FALSE)/9.3*$AD$6*$CQ$6,IF(AND(MZ16=$NQ$4+1,$C$6<12,MZ17<=$C$6,$NQ$4=10),VLOOKUP(MZ18,Kurināmais!$A$4:$G$351,$NQ$8,FALSE)/9.3*$Q$6*$CQ$6,IF(AND(MZ16=$NQ$4+1,$C$6<12,MZ17<=$C$6),VLOOKUP(MZ18,Kurināmais!$A$4:$G$351,$NQ$8,FALSE)/9.3*$AD$6*$CQ$6,\" \"))))","v":" "},{"$f":"IF(AND(NA15>=$B$5,NA15<$B$6),IF(NA16=1,IF(NA17>=$C$5,VLOOKUP(NA18,Kurināmais!$A$4:$G$351,$NQ$8,FALSE)/9.3*Biomasa!$Q$6*$CQ$6,\" \"),IF(AND(NA16>1,NA16<=10),VLOOKUP(NA18,Kurināmais!$A$4:$G$351,$NQ$8,FALSE)/9.3*Biomasa!$Q$6*$CQ$6,IF(NA16=11,IF(NA17<$C$5,VLOOKUP(NA18,Kurināmais!$A$4:$G$351,$NQ$8,FALSE)/9.3*Biomasa!$Q$6*$CQ$6,VLOOKUP(NA18,Kurināmais!$A$4:$G$351,$NQ$8,FALSE)/9.3*$AD$6*$CQ$6),IF(NA16>11,VLOOKUP(NA18,Kurināmais!$A$4:$G$351,$NQ$8,FALSE)/9.3*$AD$6*$CQ$6)))),IF(AND(NA16=$NQ$4,$C$6=12),VLOOKUP(NA18,Kurināmais!$A$4:$G$351,$NQ$8,FALSE)/9.3*$AD$6*$CQ$6,IF(AND(NA16=$NQ$4+1,$C$6<12,NA17<=$C$6,$NQ$4=10),VLOOKUP(NA18,Kurināmais!$A$4:$G$351,$NQ$8,FALSE)/9.3*$Q$6*$CQ$6,IF(AND(NA16=$NQ$4+1,$C$6<12,NA17<=$C$6),VLOOKUP(NA18,Kurināmais!$A$4:$G$351,$NQ$8,FALSE)/9.3*$AD$6*$CQ$6,\" \"))))","v":" "},{"$f":"IF(AND(NB15>=$B$5,NB15<$B$6),IF(NB16=1,IF(NB17>=$C$5,VLOOKUP(NB18,Kurināmais!$A$4:$G$351,$NQ$8,FALSE)/9.3*Biomasa!$Q$6*$CQ$6,\" \"),IF(AND(NB16>1,NB16<=10),VLOOKUP(NB18,Kurināmais!$A$4:$G$351,$NQ$8,FALSE)/9.3*Biomasa!$Q$6*$CQ$6,IF(NB16=11,IF(NB17<$C$5,VLOOKUP(NB18,Kurināmais!$A$4:$G$351,$NQ$8,FALSE)/9.3*Biomasa!$Q$6*$CQ$6,VLOOKUP(NB18,Kurināmais!$A$4:$G$351,$NQ$8,FALSE)/9.3*$AD$6*$CQ$6),IF(NB16>11,VLOOKUP(NB18,Kurināmais!$A$4:$G$351,$NQ$8,FALSE)/9.3*$AD$6*$CQ$6)))),IF(AND(NB16=$NQ$4,$C$6=12),VLOOKUP(NB18,Kurināmais!$A$4:$G$351,$NQ$8,FALSE)/9.3*$AD$6*$CQ$6,IF(AND(NB16=$NQ$4+1,$C$6<12,NB17<=$C$6,$NQ$4=10),VLOOKUP(NB18,Kurināmais!$A$4:$G$351,$NQ$8,FALSE)/9.3*$Q$6*$CQ$6,IF(AND(NB16=$NQ$4+1,$C$6<12,NB17<=$C$6),VLOOKUP(NB18,Kurināmais!$A$4:$G$351,$NQ$8,FALSE)/9.3*$AD$6*$CQ$6,\" \"))))","v":" "},{"$f":"IF(AND(NC15>=$B$5,NC15<$B$6),IF(NC16=1,IF(NC17>=$C$5,VLOOKUP(NC18,Kurināmais!$A$4:$G$351,$NQ$8,FALSE)/9.3*Biomasa!$Q$6*$CQ$6,\" \"),IF(AND(NC16>1,NC16<=10),VLOOKUP(NC18,Kurināmais!$A$4:$G$351,$NQ$8,FALSE)/9.3*Biomasa!$Q$6*$CQ$6,IF(NC16=11,IF(NC17<$C$5,VLOOKUP(NC18,Kurināmais!$A$4:$G$351,$NQ$8,FALSE)/9.3*Biomasa!$Q$6*$CQ$6,VLOOKUP(NC18,Kurināmais!$A$4:$G$351,$NQ$8,FALSE)/9.3*$AD$6*$CQ$6),IF(NC16>11,VLOOKUP(NC18,Kurināmais!$A$4:$G$351,$NQ$8,FALSE)/9.3*$AD$6*$CQ$6)))),IF(AND(NC16=$NQ$4,$C$6=12),VLOOKUP(NC18,Kurināmais!$A$4:$G$351,$NQ$8,FALSE)/9.3*$AD$6*$CQ$6,IF(AND(NC16=$NQ$4+1,$C$6<12,NC17<=$C$6,$NQ$4=10),VLOOKUP(NC18,Kurināmais!$A$4:$G$351,$NQ$8,FALSE)/9.3*$Q$6*$CQ$6,IF(AND(NC16=$NQ$4+1,$C$6<12,NC17<=$C$6),VLOOKUP(NC18,Kurināmais!$A$4:$G$351,$NQ$8,FALSE)/9.3*$AD$6*$CQ$6,\" \"))))","v":" "},{"$f":"IF(OR(ND$16=\" \",ND$16=0,ND21=0),\" \",SUMPRODUCT(NE21:NP21,NE22:NP22)/ND21)","v":" "},{"$f":"IF(AND(NE15>=$B$5,NE15<$B$6),IF(NE16=1,IF(NE17>=$C$5,VLOOKUP(NE18,Kurināmais!$A$4:$G$351,$NQ$8,FALSE)/9.3*Biomasa!$Q$6*$CQ$6,\" \"),IF(AND(NE16>1,NE16<=10),VLOOKUP(NE18,Kurināmais!$A$4:$G$351,$NQ$8,FALSE)/9.3*Biomasa!$Q$6*$CQ$6,IF(NE16=11,IF(NE17<$C$5,VLOOKUP(NE18,Kurināmais!$A$4:$G$351,$NQ$8,FALSE)/9.3*Biomasa!$Q$6*$CQ$6,VLOOKUP(NE18,Kurināmais!$A$4:$G$351,$NQ$8,FALSE)/9.3*$AD$6*$CQ$6),IF(NE16>11,VLOOKUP(NE18,Kurināmais!$A$4:$G$351,$NQ$8,FALSE)/9.3*$AD$6*$CQ$6)))),IF(AND(NE16=$NQ$4,$C$6=12),VLOOKUP(NE18,Kurināmais!$A$4:$G$351,$NQ$8,FALSE)/9.3*$AD$6*$CQ$6,IF(AND(NE16=$NQ$4+1,$C$6<12,NE17<=$C$6,$NQ$4=10),VLOOKUP(NE18,Kurināmais!$A$4:$G$351,$NQ$8,FALSE)/9.3*$Q$6*$CQ$6,IF(AND(NE16=$NQ$4+1,$C$6<12,NE17<=$C$6),VLOOKUP(NE18,Kurināmais!$A$4:$G$351,$NQ$8,FALSE)/9.3*$AD$6*$CQ$6,\" \"))))","v":" "},{"$f":"IF(AND(NF15>=$B$5,NF15<$B$6),IF(NF16=1,IF(NF17>=$C$5,VLOOKUP(NF18,Kurināmais!$A$4:$G$351,$NQ$8,FALSE)/9.3*Biomasa!$Q$6*$CQ$6,\" \"),IF(AND(NF16>1,NF16<=10),VLOOKUP(NF18,Kurināmais!$A$4:$G$351,$NQ$8,FALSE)/9.3*Biomasa!$Q$6*$CQ$6,IF(NF16=11,IF(NF17<$C$5,VLOOKUP(NF18,Kurināmais!$A$4:$G$351,$NQ$8,FALSE)/9.3*Biomasa!$Q$6*$CQ$6,VLOOKUP(NF18,Kurināmais!$A$4:$G$351,$NQ$8,FALSE)/9.3*$AD$6*$CQ$6),IF(NF16>11,VLOOKUP(NF18,Kurināmais!$A$4:$G$351,$NQ$8,FALSE)/9.3*$AD$6*$CQ$6)))),IF(AND(NF16=$NQ$4,$C$6=12),VLOOKUP(NF18,Kurināmais!$A$4:$G$351,$NQ$8,FALSE)/9.3*$AD$6*$CQ$6,IF(AND(NF16=$NQ$4+1,$C$6<12,NF17<=$C$6,$NQ$4=10),VLOOKUP(NF18,Kurināmais!$A$4:$G$351,$NQ$8,FALSE)/9.3*$Q$6*$CQ$6,IF(AND(NF16=$NQ$4+1,$C$6<12,NF17<=$C$6),VLOOKUP(NF18,Kurināmais!$A$4:$G$351,$NQ$8,FALSE)/9.3*$AD$6*$CQ$6,\" \"))))","v":" "},{"$f":"IF(AND(NG15>=$B$5,NG15<$B$6),IF(NG16=1,IF(NG17>=$C$5,VLOOKUP(NG18,Kurināmais!$A$4:$G$351,$NQ$8,FALSE)/9.3*Biomasa!$Q$6*$CQ$6,\" \"),IF(AND(NG16>1,NG16<=10),VLOOKUP(NG18,Kurināmais!$A$4:$G$351,$NQ$8,FALSE)/9.3*Biomasa!$Q$6*$CQ$6,IF(NG16=11,IF(NG17<$C$5,VLOOKUP(NG18,Kurināmais!$A$4:$G$351,$NQ$8,FALSE)/9.3*Biomasa!$Q$6*$CQ$6,VLOOKUP(NG18,Kurināmais!$A$4:$G$351,$NQ$8,FALSE)/9.3*$AD$6*$CQ$6),IF(NG16>11,VLOOKUP(NG18,Kurināmais!$A$4:$G$351,$NQ$8,FALSE)/9.3*$AD$6*$CQ$6)))),IF(AND(NG16=$NQ$4,$C$6=12),VLOOKUP(NG18,Kurināmais!$A$4:$G$351,$NQ$8,FALSE)/9.3*$AD$6*$CQ$6,IF(AND(NG16=$NQ$4+1,$C$6<12,NG17<=$C$6,$NQ$4=10),VLOOKUP(NG18,Kurināmais!$A$4:$G$351,$NQ$8,FALSE)/9.3*$Q$6*$CQ$6,IF(AND(NG16=$NQ$4+1,$C$6<12,NG17<=$C$6),VLOOKUP(NG18,Kurināmais!$A$4:$G$351,$NQ$8,FALSE)/9.3*$AD$6*$CQ$6,\" \"))))","v":" "},{"$f":"IF(AND(NH15>=$B$5,NH15<$B$6),IF(NH16=1,IF(NH17>=$C$5,VLOOKUP(NH18,Kurināmais!$A$4:$G$351,$NQ$8,FALSE)/9.3*Biomasa!$Q$6*$CQ$6,\" \"),IF(AND(NH16>1,NH16<=10),VLOOKUP(NH18,Kurināmais!$A$4:$G$351,$NQ$8,FALSE)/9.3*Biomasa!$Q$6*$CQ$6,IF(NH16=11,IF(NH17<$C$5,VLOOKUP(NH18,Kurināmais!$A$4:$G$351,$NQ$8,FALSE)/9.3*Biomasa!$Q$6*$CQ$6,VLOOKUP(NH18,Kurināmais!$A$4:$G$351,$NQ$8,FALSE)/9.3*$AD$6*$CQ$6),IF(NH16>11,VLOOKUP(NH18,Kurināmais!$A$4:$G$351,$NQ$8,FALSE)/9.3*$AD$6*$CQ$6)))),IF(AND(NH16=$NQ$4,$C$6=12),VLOOKUP(NH18,Kurināmais!$A$4:$G$351,$NQ$8,FALSE)/9.3*$AD$6*$CQ$6,IF(AND(NH16=$NQ$4+1,$C$6<12,NH17<=$C$6,$NQ$4=10),VLOOKUP(NH18,Kurināmais!$A$4:$G$351,$NQ$8,FALSE)/9.3*$Q$6*$CQ$6,IF(AND(NH16=$NQ$4+1,$C$6<12,NH17<=$C$6),VLOOKUP(NH18,Kurināmais!$A$4:$G$351,$NQ$8,FALSE)/9.3*$AD$6*$CQ$6,\" \"))))","v":" "},{"$f":"IF(AND(NI15>=$B$5,NI15<$B$6),IF(NI16=1,IF(NI17>=$C$5,VLOOKUP(NI18,Kurināmais!$A$4:$G$351,$NQ$8,FALSE)/9.3*Biomasa!$Q$6*$CQ$6,\" \"),IF(AND(NI16>1,NI16<=10),VLOOKUP(NI18,Kurināmais!$A$4:$G$351,$NQ$8,FALSE)/9.3*Biomasa!$Q$6*$CQ$6,IF(NI16=11,IF(NI17<$C$5,VLOOKUP(NI18,Kurināmais!$A$4:$G$351,$NQ$8,FALSE)/9.3*Biomasa!$Q$6*$CQ$6,VLOOKUP(NI18,Kurināmais!$A$4:$G$351,$NQ$8,FALSE)/9.3*$AD$6*$CQ$6),IF(NI16>11,VLOOKUP(NI18,Kurināmais!$A$4:$G$351,$NQ$8,FALSE)/9.3*$AD$6*$CQ$6)))),IF(AND(NI16=$NQ$4,$C$6=12),VLOOKUP(NI18,Kurināmais!$A$4:$G$351,$NQ$8,FALSE)/9.3*$AD$6*$CQ$6,IF(AND(NI16=$NQ$4+1,$C$6<12,NI17<=$C$6,$NQ$4=10),VLOOKUP(NI18,Kurināmais!$A$4:$G$351,$NQ$8,FALSE)/9.3*$Q$6*$CQ$6,IF(AND(NI16=$NQ$4+1,$C$6<12,NI17<=$C$6),VLOOKUP(NI18,Kurināmais!$A$4:$G$351,$NQ$8,FALSE)/9.3*$AD$6*$CQ$6,\" \"))))","v":" "},{"$f":"IF(AND(NJ15>=$B$5,NJ15<$B$6),IF(NJ16=1,IF(NJ17>=$C$5,VLOOKUP(NJ18,Kurināmais!$A$4:$G$351,$NQ$8,FALSE)/9.3*Biomasa!$Q$6*$CQ$6,\" \"),IF(AND(NJ16>1,NJ16<=10),VLOOKUP(NJ18,Kurināmais!$A$4:$G$351,$NQ$8,FALSE)/9.3*Biomasa!$Q$6*$CQ$6,IF(NJ16=11,IF(NJ17<$C$5,VLOOKUP(NJ18,Kurināmais!$A$4:$G$351,$NQ$8,FALSE)/9.3*Biomasa!$Q$6*$CQ$6,VLOOKUP(NJ18,Kurināmais!$A$4:$G$351,$NQ$8,FALSE)/9.3*$AD$6*$CQ$6),IF(NJ16>11,VLOOKUP(NJ18,Kurināmais!$A$4:$G$351,$NQ$8,FALSE)/9.3*$AD$6*$CQ$6)))),IF(AND(NJ16=$NQ$4,$C$6=12),VLOOKUP(NJ18,Kurināmais!$A$4:$G$351,$NQ$8,FALSE)/9.3*$AD$6*$CQ$6,IF(AND(NJ16=$NQ$4+1,$C$6<12,NJ17<=$C$6,$NQ$4=10),VLOOKUP(NJ18,Kurināmais!$A$4:$G$351,$NQ$8,FALSE)/9.3*$Q$6*$CQ$6,IF(AND(NJ16=$NQ$4+1,$C$6<12,NJ17<=$C$6),VLOOKUP(NJ18,Kurināmais!$A$4:$G$351,$NQ$8,FALSE)/9.3*$AD$6*$CQ$6,\" \"))))","v":" "},{"$f":"IF(AND(NK15>=$B$5,NK15<$B$6),IF(NK16=1,IF(NK17>=$C$5,VLOOKUP(NK18,Kurināmais!$A$4:$G$351,$NQ$8,FALSE)/9.3*Biomasa!$Q$6*$CQ$6,\" \"),IF(AND(NK16>1,NK16<=10),VLOOKUP(NK18,Kurināmais!$A$4:$G$351,$NQ$8,FALSE)/9.3*Biomasa!$Q$6*$CQ$6,IF(NK16=11,IF(NK17<$C$5,VLOOKUP(NK18,Kurināmais!$A$4:$G$351,$NQ$8,FALSE)/9.3*Biomasa!$Q$6*$CQ$6,VLOOKUP(NK18,Kurināmais!$A$4:$G$351,$NQ$8,FALSE)/9.3*$AD$6*$CQ$6),IF(NK16>11,VLOOKUP(NK18,Kurināmais!$A$4:$G$351,$NQ$8,FALSE)/9.3*$AD$6*$CQ$6)))),IF(AND(NK16=$NQ$4,$C$6=12),VLOOKUP(NK18,Kurināmais!$A$4:$G$351,$NQ$8,FALSE)/9.3*$AD$6*$CQ$6,IF(AND(NK16=$NQ$4+1,$C$6<12,NK17<=$C$6,$NQ$4=10),VLOOKUP(NK18,Kurināmais!$A$4:$G$351,$NQ$8,FALSE)/9.3*$Q$6*$CQ$6,IF(AND(NK16=$NQ$4+1,$C$6<12,NK17<=$C$6),VLOOKUP(NK18,Kurināmais!$A$4:$G$351,$NQ$8,FALSE)/9.3*$AD$6*$CQ$6,\" \"))))","v":" "},{"$f":"IF(AND(NL15>=$B$5,NL15<$B$6),IF(NL16=1,IF(NL17>=$C$5,VLOOKUP(NL18,Kurināmais!$A$4:$G$351,$NQ$8,FALSE)/9.3*Biomasa!$Q$6*$CQ$6,\" \"),IF(AND(NL16>1,NL16<=10),VLOOKUP(NL18,Kurināmais!$A$4:$G$351,$NQ$8,FALSE)/9.3*Biomasa!$Q$6*$CQ$6,IF(NL16=11,IF(NL17<$C$5,VLOOKUP(NL18,Kurināmais!$A$4:$G$351,$NQ$8,FALSE)/9.3*Biomasa!$Q$6*$CQ$6,VLOOKUP(NL18,Kurināmais!$A$4:$G$351,$NQ$8,FALSE)/9.3*$AD$6*$CQ$6),IF(NL16>11,VLOOKUP(NL18,Kurināmais!$A$4:$G$351,$NQ$8,FALSE)/9.3*$AD$6*$CQ$6)))),IF(AND(NL16=$NQ$4,$C$6=12),VLOOKUP(NL18,Kurināmais!$A$4:$G$351,$NQ$8,FALSE)/9.3*$AD$6*$CQ$6,IF(AND(NL16=$NQ$4+1,$C$6<12,NL17<=$C$6,$NQ$4=10),VLOOKUP(NL18,Kurināmais!$A$4:$G$351,$NQ$8,FALSE)/9.3*$Q$6*$CQ$6,IF(AND(NL16=$NQ$4+1,$C$6<12,NL17<=$C$6),VLOOKUP(NL18,Kurināmais!$A$4:$G$351,$NQ$8,FALSE)/9.3*$AD$6*$CQ$6,\" \"))))","v":" "},{"$f":"IF(AND(NM15>=$B$5,NM15<$B$6),IF(NM16=1,IF(NM17>=$C$5,VLOOKUP(NM18,Kurināmais!$A$4:$G$351,$NQ$8,FALSE)/9.3*Biomasa!$Q$6*$CQ$6,\" \"),IF(AND(NM16>1,NM16<=10),VLOOKUP(NM18,Kurināmais!$A$4:$G$351,$NQ$8,FALSE)/9.3*Biomasa!$Q$6*$CQ$6,IF(NM16=11,IF(NM17<$C$5,VLOOKUP(NM18,Kurināmais!$A$4:$G$351,$NQ$8,FALSE)/9.3*Biomasa!$Q$6*$CQ$6,VLOOKUP(NM18,Kurināmais!$A$4:$G$351,$NQ$8,FALSE)/9.3*$AD$6*$CQ$6),IF(NM16>11,VLOOKUP(NM18,Kurināmais!$A$4:$G$351,$NQ$8,FALSE)/9.3*$AD$6*$CQ$6)))),IF(AND(NM16=$NQ$4,$C$6=12),VLOOKUP(NM18,Kurināmais!$A$4:$G$351,$NQ$8,FALSE)/9.3*$AD$6*$CQ$6,IF(AND(NM16=$NQ$4+1,$C$6<12,NM17<=$C$6,$NQ$4=10),VLOOKUP(NM18,Kurināmais!$A$4:$G$351,$NQ$8,FALSE)/9.3*$Q$6*$CQ$6,IF(AND(NM16=$NQ$4+1,$C$6<12,NM17<=$C$6),VLOOKUP(NM18,Kurināmais!$A$4:$G$351,$NQ$8,FALSE)/9.3*$AD$6*$CQ$6,\" \"))))","v":" "},{"$f":"IF(AND(NN15>=$B$5,NN15<$B$6),IF(NN16=1,IF(NN17>=$C$5,VLOOKUP(NN18,Kurināmais!$A$4:$G$351,$NQ$8,FALSE)/9.3*Biomasa!$Q$6*$CQ$6,\" \"),IF(AND(NN16>1,NN16<=10),VLOOKUP(NN18,Kurināmais!$A$4:$G$351,$NQ$8,FALSE)/9.3*Biomasa!$Q$6*$CQ$6,IF(NN16=11,IF(NN17<$C$5,VLOOKUP(NN18,Kurināmais!$A$4:$G$351,$NQ$8,FALSE)/9.3*Biomasa!$Q$6*$CQ$6,VLOOKUP(NN18,Kurināmais!$A$4:$G$351,$NQ$8,FALSE)/9.3*$AD$6*$CQ$6),IF(NN16>11,VLOOKUP(NN18,Kurināmais!$A$4:$G$351,$NQ$8,FALSE)/9.3*$AD$6*$CQ$6)))),IF(AND(NN16=$NQ$4,$C$6=12),VLOOKUP(NN18,Kurināmais!$A$4:$G$351,$NQ$8,FALSE)/9.3*$AD$6*$CQ$6,IF(AND(NN16=$NQ$4+1,$C$6<12,NN17<=$C$6,$NQ$4=10),VLOOKUP(NN18,Kurināmais!$A$4:$G$351,$NQ$8,FALSE)/9.3*$Q$6*$CQ$6,IF(AND(NN16=$NQ$4+1,$C$6<12,NN17<=$C$6),VLOOKUP(NN18,Kurināmais!$A$4:$G$351,$NQ$8,FALSE)/9.3*$AD$6*$CQ$6,\" \"))))","v":" "},{"$f":"IF(AND(NO15>=$B$5,NO15<$B$6),IF(NO16=1,IF(NO17>=$C$5,VLOOKUP(NO18,Kurināmais!$A$4:$G$351,$NQ$8,FALSE)/9.3*Biomasa!$Q$6*$CQ$6,\" \"),IF(AND(NO16>1,NO16<=10),VLOOKUP(NO18,Kurināmais!$A$4:$G$351,$NQ$8,FALSE)/9.3*Biomasa!$Q$6*$CQ$6,IF(NO16=11,IF(NO17<$C$5,VLOOKUP(NO18,Kurināmais!$A$4:$G$351,$NQ$8,FALSE)/9.3*Biomasa!$Q$6*$CQ$6,VLOOKUP(NO18,Kurināmais!$A$4:$G$351,$NQ$8,FALSE)/9.3*$AD$6*$CQ$6),IF(NO16>11,VLOOKUP(NO18,Kurināmais!$A$4:$G$351,$NQ$8,FALSE)/9.3*$AD$6*$CQ$6)))),IF(AND(NO16=$NQ$4,$C$6=12),VLOOKUP(NO18,Kurināmais!$A$4:$G$351,$NQ$8,FALSE)/9.3*$AD$6*$CQ$6,IF(AND(NO16=$NQ$4+1,$C$6<12,NO17<=$C$6,$NQ$4=10),VLOOKUP(NO18,Kurināmais!$A$4:$G$351,$NQ$8,FALSE)/9.3*$Q$6*$CQ$6,IF(AND(NO16=$NQ$4+1,$C$6<12,NO17<=$C$6),VLOOKUP(NO18,Kurināmais!$A$4:$G$351,$NQ$8,FALSE)/9.3*$AD$6*$CQ$6,\" \"))))","v":" "},{"$f":"IF(AND(NP15>=$B$5,NP15<$B$6),IF(NP16=1,IF(NP17>=$C$5,VLOOKUP(NP18,Kurināmais!$A$4:$G$351,$NQ$8,FALSE)/9.3*Biomasa!$Q$6*$CQ$6,\" \"),IF(AND(NP16>1,NP16<=10),VLOOKUP(NP18,Kurināmais!$A$4:$G$351,$NQ$8,FALSE)/9.3*Biomasa!$Q$6*$CQ$6,IF(NP16=11,IF(NP17<$C$5,VLOOKUP(NP18,Kurināmais!$A$4:$G$351,$NQ$8,FALSE)/9.3*Biomasa!$Q$6*$CQ$6,VLOOKUP(NP18,Kurināmais!$A$4:$G$351,$NQ$8,FALSE)/9.3*$AD$6*$CQ$6),IF(NP16>11,VLOOKUP(NP18,Kurināmais!$A$4:$G$351,$NQ$8,FALSE)/9.3*$AD$6*$CQ$6)))),IF(AND(NP16=$NQ$4,$C$6=12),VLOOKUP(NP18,Kurināmais!$A$4:$G$351,$NQ$8,FALSE)/9.3*$AD$6*$CQ$6,IF(AND(NP16=$NQ$4+1,$C$6<12,NP17<=$C$6,$NQ$4=10),VLOOKUP(NP18,Kurināmais!$A$4:$G$351,$NQ$8,FALSE)/9.3*$Q$6*$CQ$6,IF(AND(NP16=$NQ$4+1,$C$6<12,NP17<=$C$6),VLOOKUP(NP18,Kurināmais!$A$4:$G$351,$NQ$8,FALSE)/9.3*$AD$6*$CQ$6,\" \"))))","v":" "}]
["SEN (jāaizpilda ar faktisko likmi pa mēnešiem)","%"]
["Ieņēmumi no siltumenerģijas pārdošanas","EUR",null,{"$f":"IF(OR(D$16=\" \",D$16=0),\" \",SUM(E24:P24))","v":" "},{"$f":"IF(E22=\" \",\" \",($C$11*$BD$6/12)*(E29/Līmeņatzīmes!$I$50))","v":" "},{"$f":"IF(F22=\" \",\" \",($C$11*$BD$6/12)*(F29/Līmeņatzīmes!$I$50))","v":" "},{"$f":"IF(G22=\" \",\" \",($C$11*$BD$6/12)*(G29/Līmeņatzīmes!$I$50))","v":" "},{"$f":"IF(H22=\" \",\" \",($C$11*$BD$6/12)*(H29/Līmeņatzīmes!$I$50))","v":" "},{"$f":"IF(I22=\" \",\" \",($C$11*$BD$6/12)*(I29/Līmeņatzīmes!$I$50))","v":" "},{"$f":"IF(J22=\" \",\" \",($C$11*$BD$6/12)*(J29/Līmeņatzīmes!$I$50))","v":" "},{"$f":"IF(K22=\" \",\" \",($C$11*$BD$6/12)*(K29/Līmeņatzīmes!$I$50))","v":" "},{"$f":"IF(L22=\" \",\" \",($C$11*$BD$6/12)*(L29/Līmeņatzīmes!$I$50))","v":" "},{"$f":"IF(M22=\" \",\" \",($C$11*$BD$6/12)*(M29/Līmeņatzīmes!$I$50))","v":" "},{"$f":"IF(N22=\" \",\" \",($C$11*$BD$6/12)*(N29/Līmeņatzīmes!$I$50))","v":" "},{"$f":"IF(O22=\" \",\" \",($C$11*$BD$6/12)*(O29/Līmeņatzīmes!$I$50))","v":" "},{"$f":"IF(P22=\" \",\" \",($C$11*$BD$6/12)*(P29/Līmeņatzīmes!$I$50))","v":" "},{"$f":"IF(OR(Q$16=\" \",Q$16=0),\" \",SUM(R24:AC24))","v":" "},{"$f":"IF(R22=\" \",\" \",($C$11*$BD$6/12)*(R29/Līmeņatzīmes!$I$50))","v":" "},{"$f":"IF(S22=\" \",\" \",($C$11*$BD$6/12)*(S29/Līmeņatzīmes!$I$50))","v":" "},{"$f":"IF(T22=\" \",\" \",($C$11*$BD$6/12)*(T29/Līmeņatzīmes!$I$50))","v":" "},{"$f":"IF(U22=\" \",\" \",($C$11*$BD$6/12)*(U29/Līmeņatzīmes!$I$50))","v":" "},{"$f":"IF(V22=\" \",\" \",($C$11*$BD$6/12)*(V29/Līmeņatzīmes!$I$50))","v":" "},{"$f":"IF(W22=\" \",\" \",($C$11*$BD$6/12)*(W29/Līmeņatzīmes!$I$50))","v":" "},{"$f":"IF(X22=\" \",\" \",($C$11*$BD$6/12)*(X29/Līmeņatzīmes!$I$50))","v":" "},{"$f":"IF(Y22=\" \",\" \",($C$11*$BD$6/12)*(Y29/Līmeņatzīmes!$I$50))","v":" "},{"$f":"IF(Z22=\" \",\" \",($C$11*$BD$6/12)*(Z29/Līmeņatzīmes!$I$50))","v":" "},{"$f":"IF(AA22=\" \",\" \",($C$11*$BD$6/12)*(AA29/Līmeņatzīmes!$I$50))","v":" "},{"$f":"IF(AB22=\" \",\" \",($C$11*$BD$6/12)*(AB29/Līmeņatzīmes!$I$50))","v":" "},{"$f":"IF(AC22=\" \",\" \",($C$11*$BD$6/12)*(AC29/Līmeņatzīmes!$I$50))","v":" "},{"$f":"IF(OR(AD$16=\" \",AD$16=0),\" \",SUM(AE24:AP24))","v":" "},{"$f":"IF(AE22=\" \",\" \",($C$11*$BD$6/12)*(AE29/Līmeņatzīmes!$I$50))","v":" "},{"$f":"IF(AF22=\" \",\" \",($C$11*$BD$6/12)*(AF29/Līmeņatzīmes!$I$50))","v":" "},{"$f":"IF(AG22=\" \",\" \",($C$11*$BD$6/12)*(AG29/Līmeņatzīmes!$I$50))","v":" "},{"$f":"IF(AH22=\" \",\" \",($C$11*$BD$6/12)*(AH29/Līmeņatzīmes!$I$50))","v":" "},{"$f":"IF(AI22=\" \",\" \",($C$11*$BD$6/12)*(AI29/Līmeņatzīmes!$I$50))","v":" "},{"$f":"IF(AJ22=\" \",\" \",($C$11*$BD$6/12)*(AJ29/Līmeņatzīmes!$I$50))","v":" "},{"$f":"IF(AK22=\" \",\" \",($C$11*$BD$6/12)*(AK29/Līmeņatzīmes!$I$50))","v":" "},{"$f":"IF(AL22=\" \",\" \",($C$11*$BD$6/12)*(AL29/Līmeņatzīmes!$I$50))","v":" "},{"$f":"IF(AM22=\" \",\" \",($C$11*$BD$6/12)*(AM29/Līmeņatzīmes!$I$50))","v":" "},{"$f":"IF(AN22=\" \",\" \",($C$11*$BD$6/12)*(AN29/Līmeņatzīmes!$I$50))","v":" "},{"$f":"IF(AO22=\" \",\" \",($C$11*$BD$6/12)*(AO29/Līmeņatzīmes!$I$50))","v":" "},{"$f":"IF(AP22=\" \",\" \",($C$11*$BD$6/12)*(AP29/Līmeņatzīmes!$I$50))","v":" "},{"$f":"IF(OR(AQ$16=\" \",AQ$16=0),\" \",SUM(AR24:BC24))","v":" "},{"$f":"IF(AR22=\" \",\" \",($C$11*$BD$6/12)*(AR29/Līmeņatzīmes!$I$50))","v":" "},{"$f":"IF(AS22=\" \",\" \",($C$11*$BD$6/12)*(AS29/Līmeņatzīmes!$I$50))","v":" "},{"$f":"IF(AT22=\" \",\" \",($C$11*$BD$6/12)*(AT29/Līmeņatzīmes!$I$50))","v":" "},{"$f":"IF(AU22=\" \",\" \",($C$11*$BD$6/12)*(AU29/Līmeņatzīmes!$I$50))","v":" "},{"$f":"IF(AV22=\" \",\" \",($C$11*$BD$6/12)*(AV29/Līmeņatzīmes!$I$50))","v":" "},{"$f":"IF(AW22=\" \",\" \",($C$11*$BD$6/12)*(AW29/Līmeņatzīmes!$I$50))","v":" "},{"$f":"IF(AX22=\" \",\" \",($C$11*$BD$6/12)*(AX29/Līmeņatzīmes!$I$50))","v":" "},{"$f":"IF(AY22=\" \",\" \",($C$11*$BD$6/12)*(AY29/Līmeņatzīmes!$I$50))","v":" "},{"$f":"IF(AZ22=\" \",\" \",($C$11*$BD$6/12)*(AZ29/Līmeņatzīmes!$I$50))","v":" "},{"$f":"IF(BA22=\" \",\" \",($C$11*$BD$6/12)*(BA29/Līmeņatzīmes!$I$50))","v":" "},{"$f":"IF(BB22=\" \",\" \",($C$11*$BD$6/12)*(BB29/Līmeņatzīmes!$I$50))","v":" "},{"$f":"IF(BC22=\" \",\" \",($C$11*$BD$6/12)*(BC29/Līmeņatzīmes!$I$50))","v":" "},{"$f":"IF(OR(BD$16=\" \",BD$16=0),\" \",SUM(BE24:BP24))","v":" "},{"$f":"IF(BE22=\" \",\" \",($C$11*$BD$6/12)*(BE29/Līmeņatzīmes!$I$50))","v":" "},{"$f":"IF(BF22=\" \",\" \",($C$11*$BD$6/12)*(BF29/Līmeņatzīmes!$I$50))","v":" "},{"$f":"IF(BG22=\" \",\" \",($C$11*$BD$6/12)*(BG29/Līmeņatzīmes!$I$50))","v":" "},{"$f":"IF(BH22=\" \",\" \",($C$11*$BD$6/12)*(BH29/Līmeņatzīmes!$I$50))","v":" "},{"$f":"IF(BI22=\" \",\" \",($C$11*$BD$6/12)*(BI29/Līmeņatzīmes!$I$50))","v":" "},{"$f":"IF(BJ22=\" \",\" \",($C$11*$BD$6/12)*(BJ29/Līmeņatzīmes!$I$50))","v":" "},{"$f":"IF(BK22=\" \",\" \",($C$11*$BD$6/12)*(BK29/Līmeņatzīmes!$I$50))","v":" "},{"$f":"IF(BL22=\" \",\" \",($C$11*$BD$6/12)*(BL29/Līmeņatzīmes!$I$50))","v":" "},{"$f":"IF(BM22=\" \",\" \",($C$11*$BD$6/12)*(BM29/Līmeņatzīmes!$I$50))","v":" "},{"$f":"IF(BN22=\" \",\" \",($C$11*$BD$6/12)*(BN29/Līmeņatzīmes!$I$50))","v":" "},{"$f":"IF(BO22=\" \",\" \",($C$11*$BD$6/12)*(BO29/Līmeņatzīmes!$I$50))","v":" "},{"$f":"IF(BP22=\" \",\" \",($C$11*$BD$6/12)*(BP29/Līmeņatzīmes!$I$50))","v":" "},{"$f":"IF(OR(BQ$16=\" \",BQ$16=0),\" \",SUM(BR24:CC24))","v":" "},{"$f":"IF(BR22=\" \",\" \",($C$11*$BD$6/12)*(BR29/Līmeņatzīmes!$I$50))","v":" "},{"$f":"IF(BS22=\" \",\" \",($C$11*$BD$6/12)*(BS29/Līmeņatzīmes!$I$50))","v":" "},{"$f":"IF(BT22=\" \",\" \",($C$11*$BD$6/12)*(BT29/Līmeņatzīmes!$I$50))","v":" "},{"$f":"IF(BU22=\" \",\" \",($C$11*$BD$6/12)*(BU29/Līmeņatzīmes!$I$50))","v":" "},{"$f":"IF(BV22=\" \",\" \",($C$11*$BD$6/12)*(BV29/Līmeņatzīmes!$I$50))","v":" "},{"$f":"IF(BW22=\" \",\" \",($C$11*$BD$6/12)*(BW29/Līmeņatzīmes!$I$50))","v":" "},{"$f":"IF(BX22=\" \",\" \",($C$11*$BD$6/12)*(BX29/Līmeņatzīmes!$I$50))","v":" "},{"$f":"IF(BY22=\" \",\" \",($C$11*$BD$6/12)*(BY29/Līmeņatzīmes!$I$50))","v":" "},{"$f":"IF(BZ22=\" \",\" \",($C$11*$BD$6/12)*(BZ29/Līmeņatzīmes!$I$50))","v":" "},{"$f":"IF(CA22=\" \",\" \",($C$11*$BD$6/12)*(CA29/Līmeņatzīmes!$I$50))","v":" "},{"$f":"IF(CB22=\" \",\" \",($C$11*$BD$6/12)*(CB29/Līmeņatzīmes!$I$50))","v":" "},{"$f":"IF(CC22=\" \",\" \",($C$11*$BD$6/12)*(CC29/Līmeņatzīmes!$I$50))","v":" "},{"$f":"IF(OR(CD$16=\" \",CD$16=0),\" \",SUM(CE24:CP24))","v":" "},{"$f":"IF(CE22=\" \",\" \",($C$11*$BD$6/12)*(CE29/Līmeņatzīmes!$I$50))","v":" "},{"$f":"IF(CF22=\" \",\" \",($C$11*$BD$6/12)*(CF29/Līmeņatzīmes!$I$50))","v":" "},{"$f":"IF(CG22=\" \",\" \",($C$11*$BD$6/12)*(CG29/Līmeņatzīmes!$I$50))","v":" "},{"$f":"IF(CH22=\" \",\" \",($C$11*$BD$6/12)*(CH29/Līmeņatzīmes!$I$50))","v":" "},{"$f":"IF(CI22=\" \",\" \",($C$11*$BD$6/12)*(CI29/Līmeņatzīmes!$I$50))","v":" "},{"$f":"IF(CJ22=\" \",\" \",($C$11*$BD$6/12)*(CJ29/Līmeņatzīmes!$I$50))","v":" "},{"$f":"IF(CK22=\" \",\" \",($C$11*$BD$6/12)*(CK29/Līmeņatzīmes!$I$50))","v":" "},{"$f":"IF(CL22=\" \",\" \",($C$11*$BD$6/12)*(CL29/Līmeņatzīmes!$I$50))","v":" "},{"$f":"IF(CM22=\" \",\" \",($C$11*$BD$6/12)*(CM29/Līmeņatzīmes!$I$50))","v":" "},{"$f":"IF(CN22=\" \",\" \",($C$11*$BD$6/12)*(CN29/Līmeņatzīmes!$I$50))","v":" "},{"$f":"IF(CO22=\" \",\" \",($C$11*$BD$6/12)*(CO29/Līmeņatzīmes!$I$50))","v":" "},{"$f":"IF(CP22=\" \",\" \",($C$11*$BD$6/12)*(CP29/Līmeņatzīmes!$I$50))","v":" "},{"$f":"IF(OR(CQ$16=\" \",CQ$16=0),\" \",SUM(CR24:DC24))","v":" "},{"$f":"IF(CR22=\" \",\" \",($C$11*$BD$6/12)*(CR29/Līmeņatzīmes!$I$50))","v":" "},{"$f":"IF(CS22=\" \",\" \",($C$11*$BD$6/12)*(CS29/Līmeņatzīmes!$I$50))","v":" "},{"$f":"IF(CT22=\" \",\" \",($C$11*$BD$6/12)*(CT29/Līmeņatzīmes!$I$50))","v":" "},{"$f":"IF(CU22=\" \",\" \",($C$11*$BD$6/12)*(CU29/Līmeņatzīmes!$I$50))","v":" "},{"$f":"IF(CV22=\" \",\" \",($C$11*$BD$6/12)*(CV29/Līmeņatzīmes!$I$50))","v":" "},{"$f":"IF(CW22=\" \",\" \",($C$11*$BD$6/12)*(CW29/Līmeņatzīmes!$I$50))","v":" "},{"$f":"IF(CX22=\" \",\" \",($C$11*$BD$6/12)*(CX29/Līmeņatzīmes!$I$50))","v":" "},{"$f":"IF(CY22=\" \",\" \",($C$11*$BD$6/12)*(CY29/Līmeņatzīmes!$I$50))","v":" "},{"$f":"IF(CZ22=\" \",\" \",($C$11*$BD$6/12)*(CZ29/Līmeņatzīmes!$I$50))","v":" "},{"$f":"IF(DA22=\" \",\" \",($C$11*$BD$6/12)*(DA29/Līmeņatzīmes!$I$50))","v":" "},{"$f":"IF(DB22=\" \",\" \",($C$11*$BD$6/12)*(DB29/Līmeņatzīmes!$I$50))","v":" "},{"$f":"IF(DC22=\" \",\" \",($C$11*$BD$6/12)*(DC29/Līmeņatzīmes!$I$50))","v":" "},{"$f":"IF(OR(DD$16=\" \",DD$16=0),\" \",SUM(DE24:DP24))","v":" "},{"$f":"IF(DE22=\" \",\" \",($C$11*$BD$6/12)*(DE29/Līmeņatzīmes!$I$50))","v":" "},{"$f":"IF(DF22=\" \",\" \",($C$11*$BD$6/12)*(DF29/Līmeņatzīmes!$I$50))","v":" "},{"$f":"IF(DG22=\" \",\" \",($C$11*$BD$6/12)*(DG29/Līmeņatzīmes!$I$50))","v":" "},{"$f":"IF(DH22=\" \",\" \",($C$11*$BD$6/12)*(DH29/Līmeņatzīmes!$I$50))","v":" "},{"$f":"IF(DI22=\" \",\" \",($C$11*$BD$6/12)*(DI29/Līmeņatzīmes!$I$50))","v":" "},{"$f":"IF(DJ22=\" \",\" \",($C$11*$BD$6/12)*(DJ29/Līmeņatzīmes!$I$50))","v":" "},{"$f":"IF(DK22=\" \",\" \",($C$11*$BD$6/12)*(DK29/Līmeņatzīmes!$I$50))","v":" "},{"$f":"IF(DL22=\" \",\" \",($C$11*$BD$6/12)*(DL29/Līmeņatzīmes!$I$50))","v":" "},{"$f":"IF(DM22=\" \",\" \",($C$11*$BD$6/12)*(DM29/Līmeņatzīmes!$I$50))","v":" "},{"$f":"IF(DN22=\" \",\" \",($C$11*$BD$6/12)*(DN29/Līmeņatzīmes!$I$50))","v":" "},{"$f":"IF(DO22=\" \",\" \",($C$11*$BD$6/12)*(DO29/Līmeņatzīmes!$I$50))","v":" "},{"$f":"IF(DP22=\" \",\" \",($C$11*$BD$6/12)*(DP29/Līmeņatzīmes!$I$50))","v":" "},{"$f":"IF(OR(DQ$16=\" \",DQ$16=0),\" \",SUM(DR24:EC24))","v":" "},{"$f":"IF(DR22=\" \",\" \",($C$11*$BD$6/12)*(DR29/Līmeņatzīmes!$I$50))","v":" "},{"$f":"IF(DS22=\" \",\" \",($C$11*$BD$6/12)*(DS29/Līmeņatzīmes!$I$50))","v":" "},{"$f":"IF(DT22=\" \",\" \",($C$11*$BD$6/12)*(DT29/Līmeņatzīmes!$I$50))","v":" "},{"$f":"IF(DU22=\" \",\" \",($C$11*$BD$6/12)*(DU29/Līmeņatzīmes!$I$50))","v":" "},{"$f":"IF(DV22=\" \",\" \",($C$11*$BD$6/12)*(DV29/Līmeņatzīmes!$I$50))","v":" "},{"$f":"IF(DW22=\" \",\" \",($C$11*$BD$6/12)*(DW29/Līmeņatzīmes!$I$50))","v":" "},{"$f":"IF(DX22=\" \",\" \",($C$11*$BD$6/12)*(DX29/Līmeņatzīmes!$I$50))","v":" "},{"$f":"IF(DY22=\" \",\" \",($C$11*$BD$6/12)*(DY29/Līmeņatzīmes!$I$50))","v":" "},{"$f":"IF(DZ22=\" \",\" \",($C$11*$BD$6/12)*(DZ29/Līmeņatzīmes!$I$50))","v":" "},{"$f":"IF(EA22=\" \",\" \",($C$11*$BD$6/12)*(EA29/Līmeņatzīmes!$I$50))","v":" "},{"$f":"IF(EB22=\" \",\" \",($C$11*$BD$6/12)*(EB29/Līmeņatzīmes!$I$50))","v":" "},{"$f":"IF(EC22=\" \",\" \",($C$11*$BD$6/12)*(EC29/Līmeņatzīmes!$I$50))","v":" "},{"$f":"IF(OR(ED$16=\" \",ED$16=0),\" \",SUM(EE24:EP24))","v":" "},{"$f":"IF(EE22=\" \",\" \",($C$11*$BD$6/12)*(EE29/Līmeņatzīmes!$I$50))","v":" "},{"$f":"IF(EF22=\" \",\" \",($C$11*$BD$6/12)*(EF29/Līmeņatzīmes!$I$50))","v":" "},{"$f":"IF(EG22=\" \",\" \",($C$11*$BD$6/12)*(EG29/Līmeņatzīmes!$I$50))","v":" "},{"$f":"IF(EH22=\" \",\" \",($C$11*$BD$6/12)*(EH29/Līmeņatzīmes!$I$50))","v":" "},{"$f":"IF(EI22=\" \",\" \",($C$11*$BD$6/12)*(EI29/Līmeņatzīmes!$I$50))","v":" "},{"$f":"IF(EJ22=\" \",\" \",($C$11*$BD$6/12)*(EJ29/Līmeņatzīmes!$I$50))","v":" "},{"$f":"IF(EK22=\" \",\" \",($C$11*$BD$6/12)*(EK29/Līmeņatzīmes!$I$50))","v":" "},{"$f":"IF(EL22=\" \",\" \",($C$11*$BD$6/12)*(EL29/Līmeņatzīmes!$I$50))","v":" "},{"$f":"IF(EM22=\" \",\" \",($C$11*$BD$6/12)*(EM29/Līmeņatzīmes!$I$50))","v":" "},{"$f":"IF(EN22=\" \",\" \",($C$11*$BD$6/12)*(EN29/Līmeņatzīmes!$I$50))","v":" "},{"$f":"IF(EO22=\" \",\" \",($C$11*$BD$6/12)*(EO29/Līmeņatzīmes!$I$50))","v":" "},{"$f":"IF(EP22=\" \",\" \",($C$11*$BD$6/12)*(EP29/Līmeņatzīmes!$I$50))","v":" "},{"$f":"IF(OR(EQ$16=\" \",EQ$16=0),\" \",SUM(ER24:FC24))","v":" "},{"$f":"IF(ER22=\" \",\" \",($C$11*$BD$6/12)*(ER29/Līmeņatzīmes!$I$50))","v":" "},{"$f":"IF(ES22=\" \",\" \",($C$11*$BD$6/12)*(ES29/Līmeņatzīmes!$I$50))","v":" "},{"$f":"IF(ET22=\" \",\" \",($C$11*$BD$6/12)*(ET29/Līmeņatzīmes!$I$50))","v":" "},{"$f":"IF(EU22=\" \",\" \",($C$11*$BD$6/12)*(EU29/Līmeņatzīmes!$I$50))","v":" "},{"$f":"IF(EV22=\" \",\" \",($C$11*$BD$6/12)*(EV29/Līmeņatzīmes!$I$50))","v":" "},{"$f":"IF(EW22=\" \",\" \",($C$11*$BD$6/12)*(EW29/Līmeņatzīmes!$I$50))","v":" "},{"$f":"IF(EX22=\" \",\" \",($C$11*$BD$6/12)*(EX29/Līmeņatzīmes!$I$50))","v":" "},{"$f":"IF(EY22=\" \",\" \",($C$11*$BD$6/12)*(EY29/Līmeņatzīmes!$I$50))","v":" "},{"$f":"IF(EZ22=\" \",\" \",($C$11*$BD$6/12)*(EZ29/Līmeņatzīmes!$I$50))","v":" "},{"$f":"IF(FA22=\" \",\" \",($C$11*$BD$6/12)*(FA29/Līmeņatzīmes!$I$50))","v":" "},{"$f":"IF(FB22=\" \",\" \",($C$11*$BD$6/12)*(FB29/Līmeņatzīmes!$I$50))","v":" "},{"$f":"IF(FC22=\" \",\" \",($C$11*$BD$6/12)*(FC29/Līmeņatzīmes!$I$50))","v":" "},{"$f":"IF(OR(FD$16=\" \",FD$16=0),\" \",SUM(FE24:FP24))","v":" "},{"$f":"IF(FE22=\" \",\" \",($C$11*$BD$6/12)*(FE29/Līmeņatzīmes!$I$50))","v":" "},{"$f":"IF(FF22=\" \",\" \",($C$11*$BD$6/12)*(FF29/Līmeņatzīmes!$I$50))","v":" "},{"$f":"IF(FG22=\" \",\" \",($C$11*$BD$6/12)*(FG29/Līmeņatzīmes!$I$50))","v":" "},{"$f":"IF(FH22=\" \",\" \",($C$11*$BD$6/12)*(FH29/Līmeņatzīmes!$I$50))","v":" "},{"$f":"IF(FI22=\" \",\" \",($C$11*$BD$6/12)*(FI29/Līmeņatzīmes!$I$50))","v":" "},{"$f":"IF(FJ22=\" \",\" \",($C$11*$BD$6/12)*(FJ29/Līmeņatzīmes!$I$50))","v":" "},{"$f":"IF(FK22=\" \",\" \",($C$11*$BD$6/12)*(FK29/Līmeņatzīmes!$I$50))","v":" "},{"$f":"IF(FL22=\" \",\" \",($C$11*$BD$6/12)*(FL29/Līmeņatzīmes!$I$50))","v":" "},{"$f":"IF(FM22=\" \",\" \",($C$11*$BD$6/12)*(FM29/Līmeņatzīmes!$I$50))","v":" "},{"$f":"IF(FN22=\" \",\" \",($C$11*$BD$6/12)*(FN29/Līmeņatzīmes!$I$50))","v":" "},{"$f":"IF(FO22=\" \",\" \",($C$11*$BD$6/12)*(FO29/Līmeņatzīmes!$I$50))","v":" "},{"$f":"IF(FP22=\" \",\" \",($C$11*$BD$6/12)*(FP29/Līmeņatzīmes!$I$50))","v":" "},{"$f":"IF(OR(FQ$16=\" \",FQ$16=0),\" \",SUM(FR24:GC24))","v":" "},{"$f":"IF(FR22=\" \",\" \",($C$11*$BD$6/12)*(FR29/Līmeņatzīmes!$I$50))","v":" "},{"$f":"IF(FS22=\" \",\" \",($C$11*$BD$6/12)*(FS29/Līmeņatzīmes!$I$50))","v":" "},{"$f":"IF(FT22=\" \",\" \",($C$11*$BD$6/12)*(FT29/Līmeņatzīmes!$I$50))","v":" "},{"$f":"IF(FU22=\" \",\" \",($C$11*$BD$6/12)*(FU29/Līmeņatzīmes!$I$50))","v":" "},{"$f":"IF(FV22=\" \",\" \",($C$11*$BD$6/12)*(FV29/Līmeņatzīmes!$I$50))","v":" "},{"$f":"IF(FW22=\" \",\" \",($C$11*$BD$6/12)*(FW29/Līmeņatzīmes!$I$50))","v":" "},{"$f":"IF(FX22=\" \",\" \",($C$11*$BD$6/12)*(FX29/Līmeņatzīmes!$I$50))","v":" "},{"$f":"IF(FY22=\" \",\" \",($C$11*$BD$6/12)*(FY29/Līmeņatzīmes!$I$50))","v":" "},{"$f":"IF(FZ22=\" \",\" \",($C$11*$BD$6/12)*(FZ29/Līmeņatzīmes!$I$50))","v":" "},{"$f":"IF(GA22=\" \",\" \",($C$11*$BD$6/12)*(GA29/Līmeņatzīmes!$I$50))","v":" "},{"$f":"IF(GB22=\" \",\" \",($C$11*$BD$6/12)*(GB29/Līmeņatzīmes!$I$50))","v":" "},{"$f":"IF(GC22=\" \",\" \",($C$11*$BD$6/12)*(GC29/Līmeņatzīmes!$I$50))","v":" "},{"$f":"IF(OR(GD$16=\" \",GD$16=0),\" \",SUM(GE24:GP24))","v":" "},{"$f":"IF(GE22=\" \",\" \",($C$11*$BD$6/12)*(GE29/Līmeņatzīmes!$I$50))","v":" "},{"$f":"IF(GF22=\" \",\" \",($C$11*$BD$6/12)*(GF29/Līmeņatzīmes!$I$50))","v":" "},{"$f":"IF(GG22=\" \",\" \",($C$11*$BD$6/12)*(GG29/Līmeņatzīmes!$I$50))","v":" "},{"$f":"IF(GH22=\" \",\" \",($C$11*$BD$6/12)*(GH29/Līmeņatzīmes!$I$50))","v":" "},{"$f":"IF(GI22=\" \",\" \",($C$11*$BD$6/12)*(GI29/Līmeņatzīmes!$I$50))","v":" "},{"$f":"IF(GJ22=\" \",\" \",($C$11*$BD$6/12)*(GJ29/Līmeņatzīmes!$I$50))","v":" "},{"$f":"IF(GK22=\" \",\" \",($C$11*$BD$6/12)*(GK29/Līmeņatzīmes!$I$50))","v":" "},{"$f":"IF(GL22=\" \",\" \",($C$11*$BD$6/12)*(GL29/Līmeņatzīmes!$I$50))","v":" "},{"$f":"IF(GM22=\" \",\" \",($C$11*$BD$6/12)*(GM29/Līmeņatzīmes!$I$50))","v":" "},{"$f":"IF(GN22=\" \",\" \",($C$11*$BD$6/12)*(GN29/Līmeņatzīmes!$I$50))","v":" "},{"$f":"IF(GO22=\" \",\" \",($C$11*$BD$6/12)*(GO29/Līmeņatzīmes!$I$50))","v":" "},{"$f":"IF(GP22=\" \",\" \",($C$11*$BD$6/12)*(GP29/Līmeņatzīmes!$I$50))","v":" "},{"$f":"IF(OR(GQ$16=\" \",GQ$16=0),\" \",SUM(GR24:HC24))","v":" "},{"$f":"IF(GR22=\" \",\" \",($C$11*$BD$6/12)*(GR29/Līmeņatzīmes!$I$50))","v":" "},{"$f":"IF(GS22=\" \",\" \",($C$11*$BD$6/12)*(GS29/Līmeņatzīmes!$I$50))","v":" "},{"$f":"IF(GT22=\" \",\" \",($C$11*$BD$6/12)*(GT29/Līmeņatzīmes!$I$50))","v":" "},{"$f":"IF(GU22=\" \",\" \",($C$11*$BD$6/12)*(GU29/Līmeņatzīmes!$I$50))","v":" "},{"$f":"IF(GV22=\" \",\" \",($C$11*$BD$6/12)*(GV29/Līmeņatzīmes!$I$50))","v":" "},{"$f":"IF(GW22=\" \",\" \",($C$11*$BD$6/12)*(GW29/Līmeņatzīmes!$I$50))","v":" "},{"$f":"IF(GX22=\" \",\" \",($C$11*$BD$6/12)*(GX29/Līmeņatzīmes!$I$50))","v":" "},{"$f":"IF(GY22=\" \",\" \",($C$11*$BD$6/12)*(GY29/Līmeņatzīmes!$I$50))","v":" "},{"$f":"IF(GZ22=\" \",\" \",($C$11*$BD$6/12)*(GZ29/Līmeņatzīmes!$I$50))","v":" "},{"$f":"IF(HA22=\" \",\" \",($C$11*$BD$6/12)*(HA29/Līmeņatzīmes!$I$50))","v":" "},{"$f":"IF(HB22=\" \",\" \",($C$11*$BD$6/12)*(HB29/Līmeņatzīmes!$I$50))","v":" "},{"$f":"IF(HC22=\" \",\" \",($C$11*$BD$6/12)*(HC29/Līmeņatzīmes!$I$50))","v":" "},{"$f":"IF(OR(HD$16=\" \",HD$16=0),\" \",SUM(HE24:HP24))","v":" "},{"$f":"IF(HE22=\" \",\" \",($C$11*$BD$6/12)*(HE29/Līmeņatzīmes!$I$50))","v":" "},{"$f":"IF(HF22=\" \",\" \",($C$11*$BD$6/12)*(HF29/Līmeņatzīmes!$I$50))","v":" "},{"$f":"IF(HG22=\" \",\" \",($C$11*$BD$6/12)*(HG29/Līmeņatzīmes!$I$50))","v":" "},{"$f":"IF(HH22=\" \",\" \",($C$11*$BD$6/12)*(HH29/Līmeņatzīmes!$I$50))","v":" "},{"$f":"IF(HI22=\" \",\" \",($C$11*$BD$6/12)*(HI29/Līmeņatzīmes!$I$50))","v":" "},{"$f":"IF(HJ22=\" \",\" \",($C$11*$BD$6/12)*(HJ29/Līmeņatzīmes!$I$50))","v":" "},{"$f":"IF(HK22=\" \",\" \",($C$11*$BD$6/12)*(HK29/Līmeņatzīmes!$I$50))","v":" "},{"$f":"IF(HL22=\" \",\" \",($C$11*$BD$6/12)*(HL29/Līmeņatzīmes!$I$50))","v":" "},{"$f":"IF(HM22=\" \",\" \",($C$11*$BD$6/12)*(HM29/Līmeņatzīmes!$I$50))","v":" "},{"$f":"IF(HN22=\" \",\" \",($C$11*$BD$6/12)*(HN29/Līmeņatzīmes!$I$50))","v":" "},{"$f":"IF(HO22=\" \",\" \",($C$11*$BD$6/12)*(HO29/Līmeņatzīmes!$I$50))","v":" "},{"$f":"IF(HP22=\" \",\" \",($C$11*$BD$6/12)*(HP29/Līmeņatzīmes!$I$50))","v":" "},{"$f":"IF(OR(HQ$16=\" \",HQ$16=0),\" \",SUM(HR24:IC24))","v":" "},{"$f":"IF(HR22=\" \",\" \",($C$11*$BD$6/12)*(HR29/Līmeņatzīmes!$I$50))","v":" "},{"$f":"IF(HS22=\" \",\" \",($C$11*$BD$6/12)*(HS29/Līmeņatzīmes!$I$50))","v":" "},{"$f":"IF(HT22=\" \",\" \",($C$11*$BD$6/12)*(HT29/Līmeņatzīmes!$I$50))","v":" "},{"$f":"IF(HU22=\" \",\" \",($C$11*$BD$6/12)*(HU29/Līmeņatzīmes!$I$50))","v":" "},{"$f":"IF(HV22=\" \",\" \",($C$11*$BD$6/12)*(HV29/Līmeņatzīmes!$I$50))","v":" "},{"$f":"IF(HW22=\" \",\" \",($C$11*$BD$6/12)*(HW29/Līmeņatzīmes!$I$50))","v":" "},{"$f":"IF(HX22=\" \",\" \",($C$11*$BD$6/12)*(HX29/Līmeņatzīmes!$I$50))","v":" "},{"$f":"IF(HY22=\" \",\" \",($C$11*$BD$6/12)*(HY29/Līmeņatzīmes!$I$50))","v":" "},{"$f":"IF(HZ22=\" \",\" \",($C$11*$BD$6/12)*(HZ29/Līmeņatzīmes!$I$50))","v":" "},{"$f":"IF(IA22=\" \",\" \",($C$11*$BD$6/12)*(IA29/Līmeņatzīmes!$I$50))","v":" "},{"$f":"IF(IB22=\" \",\" \",($C$11*$BD$6/12)*(IB29/Līmeņatzīmes!$I$50))","v":" "},{"$f":"IF(IC22=\" \",\" \",($C$11*$BD$6/12)*(IC29/Līmeņatzīmes!$I$50))","v":" "},{"$f":"IF(OR(ID$16=\" \",ID$16=0),\" \",SUM(IE24:IP24))","v":" "},{"$f":"IF(IE22=\" \",\" \",($C$11*$BD$6/12)*(IE29/Līmeņatzīmes!$I$50))","v":" "},{"$f":"IF(IF22=\" \",\" \",($C$11*$BD$6/12)*(IF29/Līmeņatzīmes!$I$50))","v":" "},{"$f":"IF(IG22=\" \",\" \",($C$11*$BD$6/12)*(IG29/Līmeņatzīmes!$I$50))","v":" "},{"$f":"IF(IH22=\" \",\" \",($C$11*$BD$6/12)*(IH29/Līmeņatzīmes!$I$50))","v":" "},{"$f":"IF(II22=\" \",\" \",($C$11*$BD$6/12)*(II29/Līmeņatzīmes!$I$50))","v":" "},{"$f":"IF(IJ22=\" \",\" \",($C$11*$BD$6/12)*(IJ29/Līmeņatzīmes!$I$50))","v":" "},{"$f":"IF(IK22=\" \",\" \",($C$11*$BD$6/12)*(IK29/Līmeņatzīmes!$I$50))","v":" "},{"$f":"IF(IL22=\" \",\" \",($C$11*$BD$6/12)*(IL29/Līmeņatzīmes!$I$50))","v":" "},{"$f":"IF(IM22=\" \",\" \",($C$11*$BD$6/12)*(IM29/Līmeņatzīmes!$I$50))","v":" "},{"$f":"IF(IN22=\" \",\" \",($C$11*$BD$6/12)*(IN29/Līmeņatzīmes!$I$50))","v":" "},{"$f":"IF(IO22=\" \",\" \",($C$11*$BD$6/12)*(IO29/Līmeņatzīmes!$I$50))","v":" "},{"$f":"IF(IP22=\" \",\" \",($C$11*$BD$6/12)*(IP29/Līmeņatzīmes!$I$50))","v":" "},{"$f":"IF(OR(IQ$16=\" \",IQ$16=0),\" \",SUM(IR24:JC24))","v":" "},{"$f":"IF(IR22=\" \",\" \",($C$11*$BD$6/12)*(IR29/Līmeņatzīmes!$I$50))","v":" "},{"$f":"IF(IS22=\" \",\" \",($C$11*$BD$6/12)*(IS29/Līmeņatzīmes!$I$50))","v":" "},{"$f":"IF(IT22=\" \",\" \",($C$11*$BD$6/12)*(IT29/Līmeņatzīmes!$I$50))","v":" "},{"$f":"IF(IU22=\" \",\" \",($C$11*$BD$6/12)*(IU29/Līmeņatzīmes!$I$50))","v":" "},{"$f":"IF(IV22=\" \",\" \",($C$11*$BD$6/12)*(IV29/Līmeņatzīmes!$I$50))","v":" "},{"$f":"IF(IW22=\" \",\" \",($C$11*$BD$6/12)*(IW29/Līmeņatzīmes!$I$50))","v":" "},{"$f":"IF(IX22=\" \",\" \",($C$11*$BD$6/12)*(IX29/Līmeņatzīmes!$I$50))","v":" "},{"$f":"IF(IY22=\" \",\" \",($C$11*$BD$6/12)*(IY29/Līmeņatzīmes!$I$50))","v":" "},{"$f":"IF(IZ22=\" \",\" \",($C$11*$BD$6/12)*(IZ29/Līmeņatzīmes!$I$50))","v":" "},{"$f":"IF(JA22=\" \",\" \",($C$11*$BD$6/12)*(JA29/Līmeņatzīmes!$I$50))","v":" "},{"$f":"IF(JB22=\" \",\" \",($C$11*$BD$6/12)*(JB29/Līmeņatzīmes!$I$50))","v":" "},{"$f":"IF(JC22=\" \",\" \",($C$11*$BD$6/12)*(JC29/Līmeņatzīmes!$I$50))","v":" "},{"$f":"IF(OR(JD$16=\" \",JD$16=0),\" \",SUM(JE24:JP24))","v":" "},{"$f":"IF(JE22=\" \",\" \",($C$11*$BD$6/12)*(JE29/Līmeņatzīmes!$I$50))","v":" "},{"$f":"IF(JF22=\" \",\" \",($C$11*$BD$6/12)*(JF29/Līmeņatzīmes!$I$50))","v":" "},{"$f":"IF(JG22=\" \",\" \",($C$11*$BD$6/12)*(JG29/Līmeņatzīmes!$I$50))","v":" "},{"$f":"IF(JH22=\" \",\" \",($C$11*$BD$6/12)*(JH29/Līmeņatzīmes!$I$50))","v":" "},{"$f":"IF(JI22=\" \",\" \",($C$11*$BD$6/12)*(JI29/Līmeņatzīmes!$I$50))","v":" "},{"$f":"IF(JJ22=\" \",\" \",($C$11*$BD$6/12)*(JJ29/Līmeņatzīmes!$I$50))","v":" "},{"$f":"IF(JK22=\" \",\" \",($C$11*$BD$6/12)*(JK29/Līmeņatzīmes!$I$50))","v":" "},{"$f":"IF(JL22=\" \",\" \",($C$11*$BD$6/12)*(JL29/Līmeņatzīmes!$I$50))","v":" "},{"$f":"IF(JM22=\" \",\" \",($C$11*$BD$6/12)*(JM29/Līmeņatzīmes!$I$50))","v":" "},{"$f":"IF(JN22=\" \",\" \",($C$11*$BD$6/12)*(JN29/Līmeņatzīmes!$I$50))","v":" "},{"$f":"IF(JO22=\" \",\" \",($C$11*$BD$6/12)*(JO29/Līmeņatzīmes!$I$50))","v":" "},{"$f":"IF(JP22=\" \",\" \",($C$11*$BD$6/12)*(JP29/Līmeņatzīmes!$I$50))","v":" "},{"$f":"IF(OR(JQ$16=\" \",JQ$16=0),\" \",SUM(JR24:KC24))","v":" "},{"$f":"IF(JR22=\" \",\" \",($C$11*$BD$6/12)*(JR29/Līmeņatzīmes!$I$50))","v":" "},{"$f":"IF(JS22=\" \",\" \",($C$11*$BD$6/12)*(JS29/Līmeņatzīmes!$I$50))","v":" "},{"$f":"IF(JT22=\" \",\" \",($C$11*$BD$6/12)*(JT29/Līmeņatzīmes!$I$50))","v":" "},{"$f":"IF(JU22=\" \",\" \",($C$11*$BD$6/12)*(JU29/Līmeņatzīmes!$I$50))","v":" "},{"$f":"IF(JV22=\" \",\" \",($C$11*$BD$6/12)*(JV29/Līmeņatzīmes!$I$50))","v":" "},{"$f":"IF(JW22=\" \",\" \",($C$11*$BD$6/12)*(JW29/Līmeņatzīmes!$I$50))","v":" "},{"$f":"IF(JX22=\" \",\" \",($C$11*$BD$6/12)*(JX29/Līmeņatzīmes!$I$50))","v":" "},{"$f":"IF(JY22=\" \",\" \",($C$11*$BD$6/12)*(JY29/Līmeņatzīmes!$I$50))","v":" "},{"$f":"IF(JZ22=\" \",\" \",($C$11*$BD$6/12)*(JZ29/Līmeņatzīmes!$I$50))","v":" "},{"$f":"IF(KA22=\" \",\" \",($C$11*$BD$6/12)*(KA29/Līmeņatzīmes!$I$50))","v":" "},{"$f":"IF(KB22=\" \",\" \",($C$11*$BD$6/12)*(KB29/Līmeņatzīmes!$I$50))","v":" "},{"$f":"IF(KC22=\" \",\" \",($C$11*$BD$6/12)*(KC29/Līmeņatzīmes!$I$50))","v":" "},{"$f":"IF(OR(KD$16=\" \",KD$16=0),\" \",SUM(KE24:KP24))","v":" "},{"$f":"IF(KE22=\" \",\" \",($C$11*$BD$6/12)*(KE29/Līmeņatzīmes!$I$50))","v":" "},{"$f":"IF(KF22=\" \",\" \",($C$11*$BD$6/12)*(KF29/Līmeņatzīmes!$I$50))","v":" "},{"$f":"IF(KG22=\" \",\" \",($C$11*$BD$6/12)*(KG29/Līmeņatzīmes!$I$50))","v":" "},{"$f":"IF(KH22=\" \",\" \",($C$11*$BD$6/12)*(KH29/Līmeņatzīmes!$I$50))","v":" "},{"$f":"IF(KI22=\" \",\" \",($C$11*$BD$6/12)*(KI29/Līmeņatzīmes!$I$50))","v":" "},{"$f":"IF(KJ22=\" \",\" \",($C$11*$BD$6/12)*(KJ29/Līmeņatzīmes!$I$50))","v":" "},{"$f":"IF(KK22=\" \",\" \",($C$11*$BD$6/12)*(KK29/Līmeņatzīmes!$I$50))","v":" "},{"$f":"IF(KL22=\" \",\" \",($C$11*$BD$6/12)*(KL29/Līmeņatzīmes!$I$50))","v":" "},{"$f":"IF(KM22=\" \",\" \",($C$11*$BD$6/12)*(KM29/Līmeņatzīmes!$I$50))","v":" "},{"$f":"IF(KN22=\" \",\" \",($C$11*$BD$6/12)*(KN29/Līmeņatzīmes!$I$50))","v":" "},{"$f":"IF(KO22=\" \",\" \",($C$11*$BD$6/12)*(KO29/Līmeņatzīmes!$I$50))","v":" "},{"$f":"IF(KP22=\" \",\" \",($C$11*$BD$6/12)*(KP29/Līmeņatzīmes!$I$50))","v":" "},{"$f":"IF(OR(KQ$16=\" \",KQ$16=0),\" \",SUM(KR24:LC24))","v":" "},{"$f":"IF(KR22=\" \",\" \",($C$11*$BD$6/12)*(KR29/Līmeņatzīmes!$I$50))","v":" "},{"$f":"IF(KS22=\" \",\" \",($C$11*$BD$6/12)*(KS29/Līmeņatzīmes!$I$50))","v":" "},{"$f":"IF(KT22=\" \",\" \",($C$11*$BD$6/12)*(KT29/Līmeņatzīmes!$I$50))","v":" "},{"$f":"IF(KU22=\" \",\" \",($C$11*$BD$6/12)*(KU29/Līmeņatzīmes!$I$50))","v":" "},{"$f":"IF(KV22=\" \",\" \",($C$11*$BD$6/12)*(KV29/Līmeņatzīmes!$I$50))","v":" "},{"$f":"IF(KW22=\" \",\" \",($C$11*$BD$6/12)*(KW29/Līmeņatzīmes!$I$50))","v":" "},{"$f":"IF(KX22=\" \",\" \",($C$11*$BD$6/12)*(KX29/Līmeņatzīmes!$I$50))","v":" "},{"$f":"IF(KY22=\" \",\" \",($C$11*$BD$6/12)*(KY29/Līmeņatzīmes!$I$50))","v":" "},{"$f":"IF(KZ22=\" \",\" \",($C$11*$BD$6/12)*(KZ29/Līmeņatzīmes!$I$50))","v":" "},{"$f":"IF(LA22=\" \",\" \",($C$11*$BD$6/12)*(LA29/Līmeņatzīmes!$I$50))","v":" "},{"$f":"IF(LB22=\" \",\" \",($C$11*$BD$6/12)*(LB29/Līmeņatzīmes!$I$50))","v":" "},{"$f":"IF(LC22=\" \",\" \",($C$11*$BD$6/12)*(LC29/Līmeņatzīmes!$I$50))","v":" "},{"$f":"IF(OR(LD$16=\" \",LD$16=0),\" \",SUM(LE24:LP24))","v":" "},{"$f":"IF(LE22=\" \",\" \",($C$11*$BD$6/12)*(LE29/Līmeņatzīmes!$I$50))","v":" "},{"$f":"IF(LF22=\" \",\" \",($C$11*$BD$6/12)*(LF29/Līmeņatzīmes!$I$50))","v":" "},{"$f":"IF(LG22=\" \",\" \",($C$11*$BD$6/12)*(LG29/Līmeņatzīmes!$I$50))","v":" "},{"$f":"IF(LH22=\" \",\" \",($C$11*$BD$6/12)*(LH29/Līmeņatzīmes!$I$50))","v":" "},{"$f":"IF(LI22=\" \",\" \",($C$11*$BD$6/12)*(LI29/Līmeņatzīmes!$I$50))","v":" "},{"$f":"IF(LJ22=\" \",\" \",($C$11*$BD$6/12)*(LJ29/Līmeņatzīmes!$I$50))","v":" "},{"$f":"IF(LK22=\" \",\" \",($C$11*$BD$6/12)*(LK29/Līmeņatzīmes!$I$50))","v":" "},{"$f":"IF(LL22=\" \",\" \",($C$11*$BD$6/12)*(LL29/Līmeņatzīmes!$I$50))","v":" "},{"$f":"IF(LM22=\" \",\" \",($C$11*$BD$6/12)*(LM29/Līmeņatzīmes!$I$50))","v":" "},{"$f":"IF(LN22=\" \",\" \",($C$11*$BD$6/12)*(LN29/Līmeņatzīmes!$I$50))","v":" "},{"$f":"IF(LO22=\" \",\" \",($C$11*$BD$6/12)*(LO29/Līmeņatzīmes!$I$50))","v":" "},{"$f":"IF(LP22=\" \",\" \",($C$11*$BD$6/12)*(LP29/Līmeņatzīmes!$I$50))","v":" "},{"$f":"IF(OR(LQ$16=\" \",LQ$16=0),\" \",SUM(LR24:MC24))","v":" "},{"$f":"IF(LR22=\" \",\" \",($C$11*$BD$6/12)*(LR29/Līmeņatzīmes!$I$50))","v":" "},{"$f":"IF(LS22=\" \",\" \",($C$11*$BD$6/12)*(LS29/Līmeņatzīmes!$I$50))","v":" "},{"$f":"IF(LT22=\" \",\" \",($C$11*$BD$6/12)*(LT29/Līmeņatzīmes!$I$50))","v":" "},{"$f":"IF(LU22=\" \",\" \",($C$11*$BD$6/12)*(LU29/Līmeņatzīmes!$I$50))","v":" "},{"$f":"IF(LV22=\" \",\" \",($C$11*$BD$6/12)*(LV29/Līmeņatzīmes!$I$50))","v":" "},{"$f":"IF(LW22=\" \",\" \",($C$11*$BD$6/12)*(LW29/Līmeņatzīmes!$I$50))","v":" "},{"$f":"IF(LX22=\" \",\" \",($C$11*$BD$6/12)*(LX29/Līmeņatzīmes!$I$50))","v":" "},{"$f":"IF(LY22=\" \",\" \",($C$11*$BD$6/12)*(LY29/Līmeņatzīmes!$I$50))","v":" "},{"$f":"IF(LZ22=\" \",\" \",($C$11*$BD$6/12)*(LZ29/Līmeņatzīmes!$I$50))","v":" "},{"$f":"IF(MA22=\" \",\" \",($C$11*$BD$6/12)*(MA29/Līmeņatzīmes!$I$50))","v":" "},{"$f":"IF(MB22=\" \",\" \",($C$11*$BD$6/12)*(MB29/Līmeņatzīmes!$I$50))","v":" "},{"$f":"IF(MC22=\" \",\" \",($C$11*$BD$6/12)*(MC29/Līmeņatzīmes!$I$50))","v":" "},{"$f":"IF(OR(MD$16=\" \",MD$16=0),\" \",SUM(ME24:MP24))","v":" "},{"$f":"IF(ME22=\" \",\" \",($C$11*$BD$6/12)*(ME29/Līmeņatzīmes!$I$50))","v":" "},{"$f":"IF(MF22=\" \",\" \",($C$11*$BD$6/12)*(MF29/Līmeņatzīmes!$I$50))","v":" "},{"$f":"IF(MG22=\" \",\" \",($C$11*$BD$6/12)*(MG29/Līmeņatzīmes!$I$50))","v":" "},{"$f":"IF(MH22=\" \",\" \",($C$11*$BD$6/12)*(MH29/Līmeņatzīmes!$I$50))","v":" "},{"$f":"IF(MI22=\" \",\" \",($C$11*$BD$6/12)*(MI29/Līmeņatzīmes!$I$50))","v":" "},{"$f":"IF(MJ22=\" \",\" \",($C$11*$BD$6/12)*(MJ29/Līmeņatzīmes!$I$50))","v":" "},{"$f":"IF(MK22=\" \",\" \",($C$11*$BD$6/12)*(MK29/Līmeņatzīmes!$I$50))","v":" "},{"$f":"IF(ML22=\" \",\" \",($C$11*$BD$6/12)*(ML29/Līmeņatzīmes!$I$50))","v":" "},{"$f":"IF(MM22=\" \",\" \",($C$11*$BD$6/12)*(MM29/Līmeņatzīmes!$I$50))","v":" "},{"$f":"IF(MN22=\" \",\" \",($C$11*$BD$6/12)*(MN29/Līmeņatzīmes!$I$50))","v":" "},{"$f":"IF(MO22=\" \",\" \",($C$11*$BD$6/12)*(MO29/Līmeņatzīmes!$I$50))","v":" "},{"$f":"IF(MP22=\" \",\" \",($C$11*$BD$6/12)*(MP29/Līmeņatzīmes!$I$50))","v":" "},{"$f":"IF(OR(MQ$16=\" \",MQ$16=0),\" \",SUM(MR24:NC24))","v":" "},{"$f":"IF(MR22=\" \",\" \",($C$11*$BD$6/12)*(MR29/Līmeņatzīmes!$I$50))","v":" "},{"$f":"IF(MS22=\" \",\" \",($C$11*$BD$6/12)*(MS29/Līmeņatzīmes!$I$50))","v":" "},{"$f":"IF(MT22=\" \",\" \",($C$11*$BD$6/12)*(MT29/Līmeņatzīmes!$I$50))","v":" "},{"$f":"IF(MU22=\" \",\" \",($C$11*$BD$6/12)*(MU29/Līmeņatzīmes!$I$50))","v":" "},{"$f":"IF(MV22=\" \",\" \",($C$11*$BD$6/12)*(MV29/Līmeņatzīmes!$I$50))","v":" "},{"$f":"IF(MW22=\" \",\" \",($C$11*$BD$6/12)*(MW29/Līmeņatzīmes!$I$50))","v":" "},{"$f":"IF(MX22=\" \",\" \",($C$11*$BD$6/12)*(MX29/Līmeņatzīmes!$I$50))","v":" "},{"$f":"IF(MY22=\" \",\" \",($C$11*$BD$6/12)*(MY29/Līmeņatzīmes!$I$50))","v":" "},{"$f":"IF(MZ22=\" \",\" \",($C$11*$BD$6/12)*(MZ29/Līmeņatzīmes!$I$50))","v":" "},{"$f":"IF(NA22=\" \",\" \",($C$11*$BD$6/12)*(NA29/Līmeņatzīmes!$I$50))","v":" "},{"$f":"IF(NB22=\" \",\" \",($C$11*$BD$6/12)*(NB29/Līmeņatzīmes!$I$50))","v":" "},{"$f":"IF(NC22=\" \",\" \",($C$11*$BD$6/12)*(NC29/Līmeņatzīmes!$I$50))","v":" "},{"$f":"IF(OR(ND$16=\" \",ND$16=0),\" \",SUM(NE24:NP24))","v":" "},{"$f":"IF(NE22=\" \",\" \",($C$11*$BD$6/12)*(NE29/Līmeņatzīmes!$I$50))","v":" "},{"$f":"IF(NF22=\" \",\" \",($C$11*$BD$6/12)*(NF29/Līmeņatzīmes!$I$50))","v":" "},{"$f":"IF(NG22=\" \",\" \",($C$11*$BD$6/12)*(NG29/Līmeņatzīmes!$I$50))","v":" "},{"$f":"IF(NH22=\" \",\" \",($C$11*$BD$6/12)*(NH29/Līmeņatzīmes!$I$50))","v":" "},{"$f":"IF(NI22=\" \",\" \",($C$11*$BD$6/12)*(NI29/Līmeņatzīmes!$I$50))","v":" "},{"$f":"IF(NJ22=\" \",\" \",($C$11*$BD$6/12)*(NJ29/Līmeņatzīmes!$I$50))","v":" "},{"$f":"IF(NK22=\" \",\" \",($C$11*$BD$6/12)*(NK29/Līmeņatzīmes!$I$50))","v":" "},{"$f":"IF(NL22=\" \",\" \",($C$11*$BD$6/12)*(NL29/Līmeņatzīmes!$I$50))","v":" "},{"$f":"IF(NM22=\" \",\" \",($C$11*$BD$6/12)*(NM29/Līmeņatzīmes!$I$50))","v":" "},{"$f":"IF(NN22=\" \",\" \",($C$11*$BD$6/12)*(NN29/Līmeņatzīmes!$I$50))","v":" "},{"$f":"IF(NO22=\" \",\" \",($C$11*$BD$6/12)*(NO29/Līmeņatzīmes!$I$50))","v":" "},{"$f":"IF(NP22=\" \",\" \",($C$11*$BD$6/12)*(NP29/Līmeņatzīmes!$I$50))","v":" "}]
["Subsīdijas no fondiem","EUR",{"$f":"IF(C$16=\" \",\" \",IF(C$16=0,IF(Datu_ievade!$C$17<=C15,Datu_ievade!$C$16,0)+IF(Datu_ievade!$C$20<=C15,Datu_ievade!$C$19,0)+IF(Datu_ievade!$C$23<=C15,Datu_ievade!$C$22,0)+IF(Datu_ievade!$C$26<=C15,Datu_ievade!$C$25,0)+IF(Datu_ievade!$C$29<=C15,Datu_ievade!$C$28,0),IF(Datu_ievade!$C$17=C15,Datu_ievade!$C$16,0)+IF(Datu_ievade!$C$20=C15,Datu_ievade!$C$19,0)+IF(Datu_ievade!$C$23=C15,Datu_ievade!$C$22,0)+IF(Datu_ievade!$C$26=C15,Datu_ievade!$C$25,0)+IF(Datu_ievade!$C$29=C15,Datu_ievade!$C$28,0)))","v":" "},{"$f":"IF(D$16=\" \",\" \",IF(D$16=0,IF(Datu_ievade!$C$17<=D15,Datu_ievade!$C$16,0)+IF(Datu_ievade!$C$20<=D15,Datu_ievade!$C$19,0)+IF(Datu_ievade!$C$23<=D15,Datu_ievade!$C$22,0)+IF(Datu_ievade!$C$26<=D15,Datu_ievade!$C$25,0)+IF(Datu_ievade!$C$29<=D15,Datu_ievade!$C$28,0),IF(Datu_ievade!$C$17=D15,Datu_ievade!$C$16,0)+IF(Datu_ievade!$C$20=D15,Datu_ievade!$C$19,0)+IF(Datu_ievade!$C$23=D15,Datu_ievade!$C$22,0)+IF(Datu_ievade!$C$26=D15,Datu_ievade!$C$25,0)+IF(Datu_ievade!$C$29=D15,Datu_ievade!$C$28,0)))","v":" "},null,null,null,null,null,null,null,null,null,null,null,null,{"$f":"IF(Q$16=\" \",\" \",IF(Q$16=0,IF(Datu_ievade!$C$17<=Q15,Datu_ievade!$C$16,0)+IF(Datu_ievade!$C$20<=Q15,Datu_ievade!$C$19,0)+IF(Datu_ievade!$C$23<=Q15,Datu_ievade!$C$22,0)+IF(Datu_ievade!$C$26<=Q15,Datu_ievade!$C$25,0)+IF(Datu_ievade!$C$29<=Q15,Datu_ievade!$C$28,0),IF(Datu_ievade!$C$17=Q15,Datu_ievade!$C$16,0)+IF(Datu_ievade!$C$20=Q15,Datu_ievade!$C$19,0)+IF(Datu_ievade!$C$23=Q15,Datu_ievade!$C$22,0)+IF(Datu_ievade!$C$26=Q15,Datu_ievade!$C$25,0)+IF(Datu_ievade!$C$29=Q15,Datu_ievade!$C$28,0)))","v":" "},null,null,null,null,null,null,null,null,null,null,null,null,{"$f":"IF(AD$16=\" \",\" \",IF(AD$16=0,IF(Datu_ievade!$C$17<=AD15,Datu_ievade!$C$16,0)+IF(Datu_ievade!$C$20<=AD15,Datu_ievade!$C$19,0)+IF(Datu_ievade!$C$23<=AD15,Datu_ievade!$C$22,0)+IF(Datu_ievade!$C$26<=AD15,Datu_ievade!$C$25,0)+IF(Datu_ievade!$C$29<=AD15,Datu_ievade!$C$28,0),IF(Datu_ievade!$C$17=AD15,Datu_ievade!$C$16,0)+IF(Datu_ievade!$C$20=AD15,Datu_ievade!$C$19,0)+IF(Datu_ievade!$C$23=AD15,Datu_ievade!$C$22,0)+IF(Datu_ievade!$C$26=AD15,Datu_ievade!$C$25,0)+IF(Datu_ievade!$C$29=AD15,Datu_ievade!$C$28,0)))","v":" "},null,null,null,null,null,null,null,null,null,null,null,null,{"$f":"IF(AQ$16=\" \",\" \",IF(AQ$16=0,IF(Datu_ievade!$C$17<=AQ15,Datu_ievade!$C$16,0)+IF(Datu_ievade!$C$20<=AQ15,Datu_ievade!$C$19,0)+IF(Datu_ievade!$C$23<=AQ15,Datu_ievade!$C$22,0)+IF(Datu_ievade!$C$26<=AQ15,Datu_ievade!$C$25,0)+IF(Datu_ievade!$C$29<=AQ15,Datu_ievade!$C$28,0),IF(Datu_ievade!$C$17=AQ15,Datu_ievade!$C$16,0)+IF(Datu_ievade!$C$20=AQ15,Datu_ievade!$C$19,0)+IF(Datu_ievade!$C$23=AQ15,Datu_ievade!$C$22,0)+IF(Datu_ievade!$C$26=AQ15,Datu_ievade!$C$25,0)+IF(Datu_ievade!$C$29=AQ15,Datu_ievade!$C$28,0)))","v":" "},null,null,null,null,null,null,null,null,null,null,null,null,{"$f":"IF(BD$16=\" \",\" \",IF(BD$16=0,IF(Datu_ievade!$C$17<=BD15,Datu_ievade!$C$16,0)+IF(Datu_ievade!$C$20<=BD15,Datu_ievade!$C$19,0)+IF(Datu_ievade!$C$23<=BD15,Datu_ievade!$C$22,0)+IF(Datu_ievade!$C$26<=BD15,Datu_ievade!$C$25,0)+IF(Datu_ievade!$C$29<=BD15,Datu_ievade!$C$28,0),IF(Datu_ievade!$C$17=BD15,Datu_ievade!$C$16,0)+IF(Datu_ievade!$C$20=BD15,Datu_ievade!$C$19,0)+IF(Datu_ievade!$C$23=BD15,Datu_ievade!$C$22,0)+IF(Datu_ievade!$C$26=BD15,Datu_ievade!$C$25,0)+IF(Datu_ievade!$C$29=BD15,Datu_ievade!$C$28,0)))","v":" "},null,null,null,null,null,null,null,null,null,null,null,null,{"$f":"IF(BQ$16=\" \",\" \",IF(BQ$16=0,IF(Datu_ievade!$C$17<=BQ15,Datu_ievade!$C$16,0)+IF(Datu_ievade!$C$20<=BQ15,Datu_ievade!$C$19,0)+IF(Datu_ievade!$C$23<=BQ15,Datu_ievade!$C$22,0)+IF(Datu_ievade!$C$26<=BQ15,Datu_ievade!$C$25,0)+IF(Datu_ievade!$C$29<=BQ15,Datu_ievade!$C$28,0),IF(Datu_ievade!$C$17=BQ15,Datu_ievade!$C$16,0)+IF(Datu_ievade!$C$20=BQ15,Datu_ievade!$C$19,0)+IF(Datu_ievade!$C$23=BQ15,Datu_ievade!$C$22,0)+IF(Datu_ievade!$C$26=BQ15,Datu_ievade!$C$25,0)+IF(Datu_ievade!$C$29=BQ15,Datu_ievade!$C$28,0)))","v":" "},null,null,null,null,null,null,null,null,null,null,null,null,{"$f":"IF(CD$16=\" \",\" \",IF(CD$16=0,IF(Datu_ievade!$C$17<=CD15,Datu_ievade!$C$16,0)+IF(Datu_ievade!$C$20<=CD15,Datu_ievade!$C$19,0)+IF(Datu_ievade!$C$23<=CD15,Datu_ievade!$C$22,0)+IF(Datu_ievade!$C$26<=CD15,Datu_ievade!$C$25,0)+IF(Datu_ievade!$C$29<=CD15,Datu_ievade!$C$28,0),IF(Datu_ievade!$C$17=CD15,Datu_ievade!$C$16,0)+IF(Datu_ievade!$C$20=CD15,Datu_ievade!$C$19,0)+IF(Datu_ievade!$C$23=CD15,Datu_ievade!$C$22,0)+IF(Datu_ievade!$C$26=CD15,Datu_ievade!$C$25,0)+IF(Datu_ievade!$C$29=CD15,Datu_ievade!$C$28,0)))","v":" "},null,null,null,null,null,null,null,null,null,null,null,null,{"$f":"IF(CQ$16=\" \",\" \",IF(CQ$16=0,IF(Datu_ievade!$C$17<=CQ15,Datu_ievade!$C$16,0)+IF(Datu_ievade!$C$20<=CQ15,Datu_ievade!$C$19,0)+IF(Datu_ievade!$C$23<=CQ15,Datu_ievade!$C$22,0)+IF(Datu_ievade!$C$26<=CQ15,Datu_ievade!$C$25,0)+IF(Datu_ievade!$C$29<=CQ15,Datu_ievade!$C$28,0),IF(Datu_ievade!$C$17=CQ15,Datu_ievade!$C$16,0)+IF(Datu_ievade!$C$20=CQ15,Datu_ievade!$C$19,0)+IF(Datu_ievade!$C$23=CQ15,Datu_ievade!$C$22,0)+IF(Datu_ievade!$C$26=CQ15,Datu_ievade!$C$25,0)+IF(Datu_ievade!$C$29=CQ15,Datu_ievade!$C$28,0)))","v":" "},null,null,null,null,null,null,null,null,null,null,null,null,{"$f":"IF(DD$16=\" \",\" \",IF(DD$16=0,IF(Datu_ievade!$C$17<=DD15,Datu_ievade!$C$16,0)+IF(Datu_ievade!$C$20<=DD15,Datu_ievade!$C$19,0)+IF(Datu_ievade!$C$23<=DD15,Datu_ievade!$C$22,0)+IF(Datu_ievade!$C$26<=DD15,Datu_ievade!$C$25,0)+IF(Datu_ievade!$C$29<=DD15,Datu_ievade!$C$28,0),IF(Datu_ievade!$C$17=DD15,Datu_ievade!$C$16,0)+IF(Datu_ievade!$C$20=DD15,Datu_ievade!$C$19,0)+IF(Datu_ievade!$C$23=DD15,Datu_ievade!$C$22,0)+IF(Datu_ievade!$C$26=DD15,Datu_ievade!$C$25,0)+IF(Datu_ievade!$C$29=DD15,Datu_ievade!$C$28,0)))","v":" "},null,null,null,null,null,null,null,null,null,null,null,null,{"$f":"IF(DQ$16=\" \",\" \",IF(DQ$16=0,IF(Datu_ievade!$C$17<=DQ15,Datu_ievade!$C$16,0)+IF(Datu_ievade!$C$20<=DQ15,Datu_ievade!$C$19,0)+IF(Datu_ievade!$C$23<=DQ15,Datu_ievade!$C$22,0)+IF(Datu_ievade!$C$26<=DQ15,Datu_ievade!$C$25,0)+IF(Datu_ievade!$C$29<=DQ15,Datu_ievade!$C$28,0),IF(Datu_ievade!$C$17=DQ15,Datu_ievade!$C$16,0)+IF(Datu_ievade!$C$20=DQ15,Datu_ievade!$C$19,0)+IF(Datu_ievade!$C$23=DQ15,Datu_ievade!$C$22,0)+IF(Datu_ievade!$C$26=DQ15,Datu_ievade!$C$25,0)+IF(Datu_ievade!$C$29=DQ15,Datu_ievade!$C$28,0)))","v":" "},null,null,null,null,null,null,null,null,null,null,null,null,{"$f":"IF(ED$16=\" \",\" \",IF(ED$16=0,IF(Datu_ievade!$C$17<=ED15,Datu_ievade!$C$16,0)+IF(Datu_ievade!$C$20<=ED15,Datu_ievade!$C$19,0)+IF(Datu_ievade!$C$23<=ED15,Datu_ievade!$C$22,0)+IF(Datu_ievade!$C$26<=ED15,Datu_ievade!$C$25,0)+IF(Datu_ievade!$C$29<=ED15,Datu_ievade!$C$28,0),IF(Datu_ievade!$C$17=ED15,Datu_ievade!$C$16,0)+IF(Datu_ievade!$C$20=ED15,Datu_ievade!$C$19,0)+IF(Datu_ievade!$C$23=ED15,Datu_ievade!$C$22,0)+IF(Datu_ievade!$C$26=ED15,Datu_ievade!$C$25,0)+IF(Datu_ievade!$C$29=ED15,Datu_ievade!$C$28,0)))","v":" "},null,null,null,null,null,null,null,null,null,null,null,null,{"$f":"IF(EQ$16=\" \",\" \",IF(EQ$16=0,IF(Datu_ievade!$C$17<=EQ15,Datu_ievade!$C$16,0)+IF(Datu_ievade!$C$20<=EQ15,Datu_ievade!$C$19,0)+IF(Datu_ievade!$C$23<=EQ15,Datu_ievade!$C$22,0)+IF(Datu_ievade!$C$26<=EQ15,Datu_ievade!$C$25,0)+IF(Datu_ievade!$C$29<=EQ15,Datu_ievade!$C$28,0),IF(Datu_ievade!$C$17=EQ15,Datu_ievade!$C$16,0)+IF(Datu_ievade!$C$20=EQ15,Datu_ievade!$C$19,0)+IF(Datu_ievade!$C$23=EQ15,Datu_ievade!$C$22,0)+IF(Datu_ievade!$C$26=EQ15,Datu_ievade!$C$25,0)+IF(Datu_ievade!$C$29=EQ15,Datu_ievade!$C$28,0)))","v":" "},null,null,null,null,null,null,null,null,null,null,null,null,{"$f":"IF(FD$16=\" \",\" \",IF(FD$16=0,IF(Datu_ievade!$C$17<=FD15,Datu_ievade!$C$16,0)+IF(Datu_ievade!$C$20<=FD15,Datu_ievade!$C$19,0)+IF(Datu_ievade!$C$23<=FD15,Datu_ievade!$C$22,0)+IF(Datu_ievade!$C$26<=FD15,Datu_ievade!$C$25,0)+IF(Datu_ievade!$C$29<=FD15,Datu_ievade!$C$28,0),IF(Datu_ievade!$C$17=FD15,Datu_ievade!$C$16,0)+IF(Datu_ievade!$C$20=FD15,Datu_ievade!$C$19,0)+IF(Datu_ievade!$C$23=FD15,Datu_ievade!$C$22,0)+IF(Datu_ievade!$C$26=FD15,Datu_ievade!$C$25,0)+IF(Datu_ievade!$C$29=FD15,Datu_ievade!$C$28,0)))","v":" "},null,null,null,null,null,null,null,null,null,null,null,null,{"$f":"IF(FQ$16=\" \",\" \",IF(FQ$16=0,IF(Datu_ievade!$C$17<=FQ15,Datu_ievade!$C$16,0)+IF(Datu_ievade!$C$20<=FQ15,Datu_ievade!$C$19,0)+IF(Datu_ievade!$C$23<=FQ15,Datu_ievade!$C$22,0)+IF(Datu_ievade!$C$26<=FQ15,Datu_ievade!$C$25,0)+IF(Datu_ievade!$C$29<=FQ15,Datu_ievade!$C$28,0),IF(Datu_ievade!$C$17=FQ15,Datu_ievade!$C$16,0)+IF(Datu_ievade!$C$20=FQ15,Datu_ievade!$C$19,0)+IF(Datu_ievade!$C$23=FQ15,Datu_ievade!$C$22,0)+IF(Datu_ievade!$C$26=FQ15,Datu_ievade!$C$25,0)+IF(Datu_ievade!$C$29=FQ15,Datu_ievade!$C$28,0)))","v":" "},null,null,null,null,null,null,null,null,null,null,null,null,{"$f":"IF(GD$16=\" \",\" \",IF(GD$16=0,IF(Datu_ievade!$C$17<=GD15,Datu_ievade!$C$16,0)+IF(Datu_ievade!$C$20<=GD15,Datu_ievade!$C$19,0)+IF(Datu_ievade!$C$23<=GD15,Datu_ievade!$C$22,0)+IF(Datu_ievade!$C$26<=GD15,Datu_ievade!$C$25,0)+IF(Datu_ievade!$C$29<=GD15,Datu_ievade!$C$28,0),IF(Datu_ievade!$C$17=GD15,Datu_ievade!$C$16,0)+IF(Datu_ievade!$C$20=GD15,Datu_ievade!$C$19,0)+IF(Datu_ievade!$C$23=GD15,Datu_ievade!$C$22,0)+IF(Datu_ievade!$C$26=GD15,Datu_ievade!$C$25,0)+IF(Datu_ievade!$C$29=GD15,Datu_ievade!$C$28,0)))","v":" "},null,null,null,null,null,null,null,null,null,null,null,null,{"$f":"IF(GQ$16=\" \",\" \",IF(GQ$16=0,IF(Datu_ievade!$C$17<=GQ15,Datu_ievade!$C$16,0)+IF(Datu_ievade!$C$20<=GQ15,Datu_ievade!$C$19,0)+IF(Datu_ievade!$C$23<=GQ15,Datu_ievade!$C$22,0)+IF(Datu_ievade!$C$26<=GQ15,Datu_ievade!$C$25,0)+IF(Datu_ievade!$C$29<=GQ15,Datu_ievade!$C$28,0),IF(Datu_ievade!$C$17=GQ15,Datu_ievade!$C$16,0)+IF(Datu_ievade!$C$20=GQ15,Datu_ievade!$C$19,0)+IF(Datu_ievade!$C$23=GQ15,Datu_ievade!$C$22,0)+IF(Datu_ievade!$C$26=GQ15,Datu_ievade!$C$25,0)+IF(Datu_ievade!$C$29=GQ15,Datu_ievade!$C$28,0)))","v":" "},null,null,null,null,null,null,null,null,null,null,null,null,{"$f":"IF(HD$16=\" \",\" \",IF(HD$16=0,IF(Datu_ievade!$C$17<=HD15,Datu_ievade!$C$16,0)+IF(Datu_ievade!$C$20<=HD15,Datu_ievade!$C$19,0)+IF(Datu_ievade!$C$23<=HD15,Datu_ievade!$C$22,0)+IF(Datu_ievade!$C$26<=HD15,Datu_ievade!$C$25,0)+IF(Datu_ievade!$C$29<=HD15,Datu_ievade!$C$28,0),IF(Datu_ievade!$C$17=HD15,Datu_ievade!$C$16,0)+IF(Datu_ievade!$C$20=HD15,Datu_ievade!$C$19,0)+IF(Datu_ievade!$C$23=HD15,Datu_ievade!$C$22,0)+IF(Datu_ievade!$C$26=HD15,Datu_ievade!$C$25,0)+IF(Datu_ievade!$C$29=HD15,Datu_ievade!$C$28,0)))","v":" "},null,null,null,null,null,null,null,null,null,null,null,null,{"$f":"IF(HQ$16=\" \",\" \",IF(HQ$16=0,IF(Datu_ievade!$C$17<=HQ15,Datu_ievade!$C$16,0)+IF(Datu_ievade!$C$20<=HQ15,Datu_ievade!$C$19,0)+IF(Datu_ievade!$C$23<=HQ15,Datu_ievade!$C$22,0)+IF(Datu_ievade!$C$26<=HQ15,Datu_ievade!$C$25,0)+IF(Datu_ievade!$C$29<=HQ15,Datu_ievade!$C$28,0),IF(Datu_ievade!$C$17=HQ15,Datu_ievade!$C$16,0)+IF(Datu_ievade!$C$20=HQ15,Datu_ievade!$C$19,0)+IF(Datu_ievade!$C$23=HQ15,Datu_ievade!$C$22,0)+IF(Datu_ievade!$C$26=HQ15,Datu_ievade!$C$25,0)+IF(Datu_ievade!$C$29=HQ15,Datu_ievade!$C$28,0)))","v":" "},null,null,null,null,null,null,null,null,null,null,null,null,{"$f":"IF(ID$16=\" \",\" \",IF(ID$16=0,IF(Datu_ievade!$C$17<=ID15,Datu_ievade!$C$16,0)+IF(Datu_ievade!$C$20<=ID15,Datu_ievade!$C$19,0)+IF(Datu_ievade!$C$23<=ID15,Datu_ievade!$C$22,0)+IF(Datu_ievade!$C$26<=ID15,Datu_ievade!$C$25,0)+IF(Datu_ievade!$C$29<=ID15,Datu_ievade!$C$28,0),IF(Datu_ievade!$C$17=ID15,Datu_ievade!$C$16,0)+IF(Datu_ievade!$C$20=ID15,Datu_ievade!$C$19,0)+IF(Datu_ievade!$C$23=ID15,Datu_ievade!$C$22,0)+IF(Datu_ievade!$C$26=ID15,Datu_ievade!$C$25,0)+IF(Datu_ievade!$C$29=ID15,Datu_ievade!$C$28,0)))","v":" "},null,null,null,null,null,null,null,null,null,null,null,null,{"$f":"IF(IQ$16=\" \",\" \",IF(IQ$16=0,IF(Datu_ievade!$C$17<=IQ15,Datu_ievade!$C$16,0)+IF(Datu_ievade!$C$20<=IQ15,Datu_ievade!$C$19,0)+IF(Datu_ievade!$C$23<=IQ15,Datu_ievade!$C$22,0)+IF(Datu_ievade!$C$26<=IQ15,Datu_ievade!$C$25,0)+IF(Datu_ievade!$C$29<=IQ15,Datu_ievade!$C$28,0),IF(Datu_ievade!$C$17=IQ15,Datu_ievade!$C$16,0)+IF(Datu_ievade!$C$20=IQ15,Datu_ievade!$C$19,0)+IF(Datu_ievade!$C$23=IQ15,Datu_ievade!$C$22,0)+IF(Datu_ievade!$C$26=IQ15,Datu_ievade!$C$25,0)+IF(Datu_ievade!$C$29=IQ15,Datu_ievade!$C$28,0)))","v":" "},null,null,null,null,null,null,null,null,null,null,null,null,{"$f":"IF(JD$16=\" \",\" \",IF(JD$16=0,IF(Datu_ievade!$C$17<=JD15,Datu_ievade!$C$16,0)+IF(Datu_ievade!$C$20<=JD15,Datu_ievade!$C$19,0)+IF(Datu_ievade!$C$23<=JD15,Datu_ievade!$C$22,0)+IF(Datu_ievade!$C$26<=JD15,Datu_ievade!$C$25,0)+IF(Datu_ievade!$C$29<=JD15,Datu_ievade!$C$28,0),IF(Datu_ievade!$C$17=JD15,Datu_ievade!$C$16,0)+IF(Datu_ievade!$C$20=JD15,Datu_ievade!$C$19,0)+IF(Datu_ievade!$C$23=JD15,Datu_ievade!$C$22,0)+IF(Datu_ievade!$C$26=JD15,Datu_ievade!$C$25,0)+IF(Datu_ievade!$C$29=JD15,Datu_ievade!$C$28,0)))","v":" "},null,null,null,null,null,null,null,null,null,null,null,null,{"$f":"IF(JQ$16=\" \",\" \",IF(JQ$16=0,IF(Datu_ievade!$C$17<=JQ15,Datu_ievade!$C$16,0)+IF(Datu_ievade!$C$20<=JQ15,Datu_ievade!$C$19,0)+IF(Datu_ievade!$C$23<=JQ15,Datu_ievade!$C$22,0)+IF(Datu_ievade!$C$26<=JQ15,Datu_ievade!$C$25,0)+IF(Datu_ievade!$C$29<=JQ15,Datu_ievade!$C$28,0),IF(Datu_ievade!$C$17=JQ15,Datu_ievade!$C$16,0)+IF(Datu_ievade!$C$20=JQ15,Datu_ievade!$C$19,0)+IF(Datu_ievade!$C$23=JQ15,Datu_ievade!$C$22,0)+IF(Datu_ievade!$C$26=JQ15,Datu_ievade!$C$25,0)+IF(Datu_ievade!$C$29=JQ15,Datu_ievade!$C$28,0)))","v":" "},null,null,null,null,null,null,null,null,null,null,null,null,{"$f":"IF(KD$16=\" \",\" \",IF(KD$16=0,IF(Datu_ievade!$C$17<=KD15,Datu_ievade!$C$16,0)+IF(Datu_ievade!$C$20<=KD15,Datu_ievade!$C$19,0)+IF(Datu_ievade!$C$23<=KD15,Datu_ievade!$C$22,0)+IF(Datu_ievade!$C$26<=KD15,Datu_ievade!$C$25,0)+IF(Datu_ievade!$C$29<=KD15,Datu_ievade!$C$28,0),IF(Datu_ievade!$C$17=KD15,Datu_ievade!$C$16,0)+IF(Datu_ievade!$C$20=KD15,Datu_ievade!$C$19,0)+IF(Datu_ievade!$C$23=KD15,Datu_ievade!$C$22,0)+IF(Datu_ievade!$C$26=KD15,Datu_ievade!$C$25,0)+IF(Datu_ievade!$C$29=KD15,Datu_ievade!$C$28,0)))","v":" "},null,null,null,null,null,null,null,null,null,null,null,null,{"$f":"IF(KQ$16=\" \",\" \",IF(KQ$16=0,IF(Datu_ievade!$C$17<=KQ15,Datu_ievade!$C$16,0)+IF(Datu_ievade!$C$20<=KQ15,Datu_ievade!$C$19,0)+IF(Datu_ievade!$C$23<=KQ15,Datu_ievade!$C$22,0)+IF(Datu_ievade!$C$26<=KQ15,Datu_ievade!$C$25,0)+IF(Datu_ievade!$C$29<=KQ15,Datu_ievade!$C$28,0),IF(Datu_ievade!$C$17=KQ15,Datu_ievade!$C$16,0)+IF(Datu_ievade!$C$20=KQ15,Datu_ievade!$C$19,0)+IF(Datu_ievade!$C$23=KQ15,Datu_ievade!$C$22,0)+IF(Datu_ievade!$C$26=KQ15,Datu_ievade!$C$25,0)+IF(Datu_ievade!$C$29=KQ15,Datu_ievade!$C$28,0)))","v":" "},null,null,null,null,null,null,null,null,null,null,null,null,{"$f":"IF(LD$16=\" \",\" \",IF(LD$16=0,IF(Datu_ievade!$C$17<=LD15,Datu_ievade!$C$16,0)+IF(Datu_ievade!$C$20<=LD15,Datu_ievade!$C$19,0)+IF(Datu_ievade!$C$23<=LD15,Datu_ievade!$C$22,0)+IF(Datu_ievade!$C$26<=LD15,Datu_ievade!$C$25,0)+IF(Datu_ievade!$C$29<=LD15,Datu_ievade!$C$28,0),IF(Datu_ievade!$C$17=LD15,Datu_ievade!$C$16,0)+IF(Datu_ievade!$C$20=LD15,Datu_ievade!$C$19,0)+IF(Datu_ievade!$C$23=LD15,Datu_ievade!$C$22,0)+IF(Datu_ievade!$C$26=LD15,Datu_ievade!$C$25,0)+IF(Datu_ievade!$C$29=LD15,Datu_ievade!$C$28,0)))","v":" "},null,null,null,null,null,null,null,null,null,null,null,null,{"$f":"IF(LQ$16=\" \",\" \",IF(LQ$16=0,IF(Datu_ievade!$C$17<=LQ15,Datu_ievade!$C$16,0)+IF(Datu_ievade!$C$20<=LQ15,Datu_ievade!$C$19,0)+IF(Datu_ievade!$C$23<=LQ15,Datu_ievade!$C$22,0)+IF(Datu_ievade!$C$26<=LQ15,Datu_ievade!$C$25,0)+IF(Datu_ievade!$C$29<=LQ15,Datu_ievade!$C$28,0),IF(Datu_ievade!$C$17=LQ15,Datu_ievade!$C$16,0)+IF(Datu_ievade!$C$20=LQ15,Datu_ievade!$C$19,0)+IF(Datu_ievade!$C$23=LQ15,Datu_ievade!$C$22,0)+IF(Datu_ievade!$C$26=LQ15,Datu_ievade!$C$25,0)+IF(Datu_ievade!$C$29=LQ15,Datu_ievade!$C$28,0)))","v":" "},null,null,null,null,null,null,null,null,null,null,null,null,{"$f":"IF(MD$16=\" \",\" \",IF(MD$16=0,IF(Datu_ievade!$C$17<=MD15,Datu_ievade!$C$16,0)+IF(Datu_ievade!$C$20<=MD15,Datu_ievade!$C$19,0)+IF(Datu_ievade!$C$23<=MD15,Datu_ievade!$C$22,0)+IF(Datu_ievade!$C$26<=MD15,Datu_ievade!$C$25,0)+IF(Datu_ievade!$C$29<=MD15,Datu_ievade!$C$28,0),IF(Datu_ievade!$C$17=MD15,Datu_ievade!$C$16,0)+IF(Datu_ievade!$C$20=MD15,Datu_ievade!$C$19,0)+IF(Datu_ievade!$C$23=MD15,Datu_ievade!$C$22,0)+IF(Datu_ievade!$C$26=MD15,Datu_ievade!$C$25,0)+IF(Datu_ievade!$C$29=MD15,Datu_ievade!$C$28,0)))","v":" "},null,null,null,null,null,null,null,null,null,null,null,null,{"$f":"IF(MQ$16=\" \",\" \",IF(MQ$16=0,IF(Datu_ievade!$C$17<=MQ15,Datu_ievade!$C$16,0)+IF(Datu_ievade!$C$20<=MQ15,Datu_ievade!$C$19,0)+IF(Datu_ievade!$C$23<=MQ15,Datu_ievade!$C$22,0)+IF(Datu_ievade!$C$26<=MQ15,Datu_ievade!$C$25,0)+IF(Datu_ievade!$C$29<=MQ15,Datu_ievade!$C$28,0),IF(Datu_ievade!$C$17=MQ15,Datu_ievade!$C$16,0)+IF(Datu_ievade!$C$20=MQ15,Datu_ievade!$C$19,0)+IF(Datu_ievade!$C$23=MQ15,Datu_ievade!$C$22,0)+IF(Datu_ievade!$C$26=MQ15,Datu_ievade!$C$25,0)+IF(Datu_ievade!$C$29=MQ15,Datu_ievade!$C$28,0)))","v":" "},null,null,null,null,null,null,null,null,null,null,null,null,{"$f":"IF(ND$16=\" \",\" \",IF(ND$16=0,IF(Datu_ievade!$C$17<=ND15,Datu_ievade!$C$16,0)+IF(Datu_ievade!$C$20<=ND15,Datu_ievade!$C$19,0)+IF(Datu_ievade!$C$23<=ND15,Datu_ievade!$C$22,0)+IF(Datu_ievade!$C$26<=ND15,Datu_ievade!$C$25,0)+IF(Datu_ievade!$C$29<=ND15,Datu_ievade!$C$28,0),IF(Datu_ievade!$C$17=ND15,Datu_ievade!$C$16,0)+IF(Datu_ievade!$C$20=ND15,Datu_ievade!$C$19,0)+IF(Datu_ievade!$C$23=ND15,Datu_ievade!$C$22,0)+IF(Datu_ievade!$C$26=ND15,Datu_ievade!$C$25,0)+IF(Datu_ievade!$C$29=ND15,Datu_ievade!$C$28,0)))","v":" "}]
["Izdevumi kopā","EUR",null,{"$f":"IF(D22=\" \",\" \",D27+D28+D30)","v":" "}," "," "," "," "," "," "," "," "," "," "," "," "," "," "," "," "," "," "," "," "," "," "," "," "," "," "," "," "," "," "," "," "," "," "," "," "," "," "," "," "," "," "," "," "," "," "," "," "," "," "," "," "," "," "," "," "," "," "," "," "," "," "," ",{"$f":"IF(BP22=\" \",\" \",BP27+BP28+BP30)","v":" "}," "," "," "," "," "," "," "," "," "," "," "," "," "," "," "," "," "," "," "," "," "," "," "," "," "," "," "," "," "," "," "," "," "," "," "," "," "," "," "," "," "," "," "," "," "," "," "," "," "," "," "," "," "," "," "," "," "," "," "," "," "," "," ",{"$f":"IF(EB22=\" \",\" \",EB27+EB28+EB30)","v":" "}," "," "," "," "," "," "," "," "," "," "," "," "," "," "," "," "," "," "," "," "," "," "," "," "," "," "," "," "," "," "," "," "," "," "," "," "," "," "," "," "," "," "," "," "," "," "," "," "," "," "," "," "," "," "," "," "," "," "," "," "," "," "," ",{"$f":"IF(GN22=\" \",\" \",GN27+GN28+GN30)","v":" "}," "," "," "," "," "," "," "," "," "," "," "," "," "," "," "," "," "," "," "," "," "," "," "," "," "," "," "," "," "," "," "," "," "," "," "," "," "," "," "," "," "," "," "," "," "," "," "," "," "," "," "," "," "," "," "," "," "," "," "," "," "," "," ",{"$f":"IF(IZ22=\" \",\" \",IZ27+IZ28+IZ30)","v":" "}," "," "," "," "," "," "," "," "," "," "," "," "," "," "," "," "," "," "," "," "," "," "," "," "," "," "," "," "," "," "," "," "," "," "," "," "," "," "," "," "," "," "," "," "," "," "," "," "," "," "," "," "," "," "," "," "," "," "," "," "," "," "," ",{"$f":"IF(LL22=\" \",\" \",LL27+LL28+LL30)","v":" "}," "," "," "," "," "," "," "," "," "," "," "," "," "," "," "," "," "," "," "," "," "," "," "," "," "," "," "," "," "," "," "," "," "," "," "," "," "," "," "," "," "," "," "," "," "," "," "," "," "," "," "," "," "," "," "," "]
["Personālizmaksas","EUR"," ",{"$f":"IF(OR(D$16=\" \",D$16=0),\" \",SUM(E27:P27))","v":" "},{"$f":"IF(E22=\" \",\" \",$BQ$6*HLOOKUP($D$15,Līmeņatzīmes!$B$6:$AI$7,2,FALSE))","v":" "},{"$f":"IF(F22=\" \",\" \",$BQ$6*HLOOKUP($D$15,Līmeņatzīmes!$B$6:$AI$7,2,FALSE))","v":" "},{"$f":"IF(G22=\" \",\" \",$BQ$6*HLOOKUP($D$15,Līmeņatzīmes!$B$6:$AI$7,2,FALSE))","v":" "},{"$f":"IF(H22=\" \",\" \",$BQ$6*HLOOKUP($D$15,Līmeņatzīmes!$B$6:$AI$7,2,FALSE))","v":" "},{"$f":"IF(I22=\" \",\" \",$BQ$6*HLOOKUP($D$15,Līmeņatzīmes!$B$6:$AI$7,2,FALSE))","v":" "},{"$f":"IF(J22=\" \",\" \",$BQ$6*HLOOKUP($D$15,Līmeņatzīmes!$B$6:$AI$7,2,FALSE))","v":" "},{"$f":"IF(K22=\" \",\" \",$BQ$6*HLOOKUP($D$15,Līmeņatzīmes!$B$6:$AI$7,2,FALSE))","v":" "},{"$f":"IF(L22=\" \",\" \",$BQ$6*HLOOKUP($D$15,Līmeņatzīmes!$B$6:$AI$7,2,FALSE))","v":" "},{"$f":"IF(M22=\" \",\" \",$BQ$6*HLOOKUP($D$15,Līmeņatzīmes!$B$6:$AI$7,2,FALSE))","v":" "},{"$f":"IF(N22=\" \",\" \",$BQ$6*HLOOKUP($D$15,Līmeņatzīmes!$B$6:$AI$7,2,FALSE))","v":" "},{"$f":"IF(O22=\" \",\" \",$BQ$6*HLOOKUP($D$15,Līmeņatzīmes!$B$6:$AI$7,2,FALSE))","v":" "},{"$f":"IF(P22=\" \",\" \",$BQ$6*HLOOKUP($D$15,Līmeņatzīmes!$B$6:$AI$7,2,FALSE))","v":" "},{"$f":"IF(OR(Q$16=\" \",Q$16=0),\" \",SUM(R27:AC27))","v":" "},{"$f":"IF(R22=\" \",\" \",$BQ$6*HLOOKUP($Q$15,Līmeņatzīmes!$B$6:$AI$7,2,FALSE))","v":" "},{"$f":"IF(S22=\" \",\" \",$BQ$6*HLOOKUP($Q$15,Līmeņatzīmes!$B$6:$AI$7,2,FALSE))","v":" "},{"$f":"IF(T22=\" \",\" \",$BQ$6*HLOOKUP($Q$15,Līmeņatzīmes!$B$6:$AI$7,2,FALSE))","v":" "},{"$f":"IF(U22=\" \",\" \",$BQ$6*HLOOKUP($Q$15,Līmeņatzīmes!$B$6:$AI$7,2,FALSE))","v":" "},{"$f":"IF(V22=\" \",\" \",$BQ$6*HLOOKUP($Q$15,Līmeņatzīmes!$B$6:$AI$7,2,FALSE))","v":" "},{"$f":"IF(W22=\" \",\" \",$BQ$6*HLOOKUP($Q$15,Līmeņatzīmes!$B$6:$AI$7,2,FALSE))","v":" "},{"$f":"IF(X22=\" \",\" \",$BQ$6*HLOOKUP($Q$15,Līmeņatzīmes!$B$6:$AI$7,2,FALSE))","v":" "},{"$f":"IF(Y22=\" \",\" \",$BQ$6*HLOOKUP($Q$15,Līmeņatzīmes!$B$6:$AI$7,2,FALSE))","v":" "},{"$f":"IF(Z22=\" \",\" \",$BQ$6*HLOOKUP($Q$15,Līmeņatzīmes!$B$6:$AI$7,2,FALSE))","v":" "},{"$f":"IF(AA22=\" \",\" \",$BQ$6*HLOOKUP($Q$15,Līmeņatzīmes!$B$6:$AI$7,2,FALSE))","v":" "},{"$f":"IF(AB22=\" \",\" \",$BQ$6*HLOOKUP($Q$15,Līmeņatzīmes!$B$6:$AI$7,2,FALSE))","v":" "},{"$f":"IF(AC22=\" \",\" \",$BQ$6*HLOOKUP($Q$15,Līmeņatzīmes!$B$6:$AI$7,2,FALSE))","v":" "},{"$f":"IF(OR(AD$16=\" \",AD$16=0),\" \",SUM(AE27:AP27))","v":" "},{"$f":"IF(AE22=\" \",\" \",$BQ$6*HLOOKUP($AD$15,Līmeņatzīmes!$B$6:$AI$7,2,FALSE))","v":" "},{"$f":"IF(AF22=\" \",\" \",$BQ$6*HLOOKUP($AD$15,Līmeņatzīmes!$B$6:$AI$7,2,FALSE))","v":" "},{"$f":"IF(AG22=\" \",\" \",$BQ$6*HLOOKUP($AD$15,Līmeņatzīmes!$B$6:$AI$7,2,FALSE))","v":" "},{"$f":"IF(AH22=\" \",\" \",$BQ$6*HLOOKUP($AD$15,Līmeņatzīmes!$B$6:$AI$7,2,FALSE))","v":" "},{"$f":"IF(AI22=\" \",\" \",$BQ$6*HLOOKUP($AD$15,Līmeņatzīmes!$B$6:$AI$7,2,FALSE))","v":" "},{"$f":"IF(AJ22=\" \",\" \",$BQ$6*HLOOKUP($AD$15,Līmeņatzīmes!$B$6:$AI$7,2,FALSE))","v":" "},{"$f":"IF(AK22=\" \",\" \",$BQ$6*HLOOKUP($AD$15,Līmeņatzīmes!$B$6:$AI$7,2,FALSE))","v":" "},{"$f":"IF(AL22=\" \",\" \",$BQ$6*HLOOKUP($AD$15,Līmeņatzīmes!$B$6:$AI$7,2,FALSE))","v":" "},{"$f":"IF(AM22=\" \",\" \",$BQ$6*HLOOKUP($AD$15,Līmeņatzīmes!$B$6:$AI$7,2,FALSE))","v":" "},{"$f":"IF(AN22=\" \",\" \",$BQ$6*HLOOKUP($AD$15,Līmeņatzīmes!$B$6:$AI$7,2,FALSE))","v":" "},{"$f":"IF(AO22=\" \",\" \",$BQ$6*HLOOKUP($AD$15,Līmeņatzīmes!$B$6:$AI$7,2,FALSE))","v":" "},{"$f":"IF(AP22=\" \",\" \",$BQ$6*HLOOKUP($AD$15,Līmeņatzīmes!$B$6:$AI$7,2,FALSE))","v":" "},{"$f":"IF(OR(AQ$16=\" \",AQ$16=0),\" \",SUM(AR27:BC27))","v":" "},{"$f":"IF(AR22=\" \",\" \",$BQ$6*HLOOKUP($AQ$15,Līmeņatzīmes!$B$6:$AI$7,2,FALSE))","v":" "},{"$f":"IF(AS22=\" \",\" \",$BQ$6*HLOOKUP($AQ$15,Līmeņatzīmes!$B$6:$AI$7,2,FALSE))","v":" "},{"$f":"IF(AT22=\" \",\" \",$BQ$6*HLOOKUP($AQ$15,Līmeņatzīmes!$B$6:$AI$7,2,FALSE))","v":" "},{"$f":"IF(AU22=\" \",\" \",$BQ$6*HLOOKUP($AQ$15,Līmeņatzīmes!$B$6:$AI$7,2,FALSE))","v":" "},{"$f":"IF(AV22=\" \",\" \",$BQ$6*HLOOKUP($AQ$15,Līmeņatzīmes!$B$6:$AI$7,2,FALSE))","v":" "},{"$f":"IF(AW22=\" \",\" \",$BQ$6*HLOOKUP($AQ$15,Līmeņatzīmes!$B$6:$AI$7,2,FALSE))","v":" "},{"$f":"IF(AX22=\" \",\" \",$BQ$6*HLOOKUP($AQ$15,Līmeņatzīmes!$B$6:$AI$7,2,FALSE))","v":" "},{"$f":"IF(AY22=\" \",\" \",$BQ$6*HLOOKUP($AQ$15,Līmeņatzīmes!$B$6:$AI$7,2,FALSE))","v":" "},{"$f":"IF(AZ22=\" \",\" \",$BQ$6*HLOOKUP($AQ$15,Līmeņatzīmes!$B$6:$AI$7,2,FALSE))","v":" "},{"$f":"IF(BA22=\" \",\" \",$BQ$6*HLOOKUP($AQ$15,Līmeņatzīmes!$B$6:$AI$7,2,FALSE))","v":" "},{"$f":"IF(BB22=\" \",\" \",$BQ$6*HLOOKUP($AQ$15,Līmeņatzīmes!$B$6:$AI$7,2,FALSE))","v":" "},{"$f":"IF(BC22=\" \",\" \",$BQ$6*HLOOKUP($AQ$15,Līmeņatzīmes!$B$6:$AI$7,2,FALSE))","v":" "},{"$f":"IF(OR(BD$16=\" \",BD$16=0),\" \",SUM(BE27:BP27))","v":" "},{"$f":"IF(BE22=\" \",\" \",$BQ$6*HLOOKUP($BD$15,Līmeņatzīmes!$B$6:$AI$7,2,FALSE))","v":" "},{"$f":"IF(BF22=\" \",\" \",$BQ$6*HLOOKUP($BD$15,Līmeņatzīmes!$B$6:$AI$7,2,FALSE))","v":" "},{"$f":"IF(BG22=\" \",\" \",$BQ$6*HLOOKUP($BD$15,Līmeņatzīmes!$B$6:$AI$7,2,FALSE))","v":" "},{"$f":"IF(BH22=\" \",\" \",$BQ$6*HLOOKUP($BD$15,Līmeņatzīmes!$B$6:$AI$7,2,FALSE))","v":" "},{"$f":"IF(BI22=\" \",\" \",$BQ$6*HLOOKUP($BD$15,Līmeņatzīmes!$B$6:$AI$7,2,FALSE))","v":" "},{"$f":"IF(BJ22=\" \",\" \",$BQ$6*HLOOKUP($BD$15,Līmeņatzīmes!$B$6:$AI$7,2,FALSE))","v":" "},{"$f":"IF(BK22=\" \",\" \",$BQ$6*HLOOKUP($BD$15,Līmeņatzīmes!$B$6:$AI$7,2,FALSE))","v":" "},{"$f":"IF(BL22=\" \",\" \",$BQ$6*HLOOKUP($BD$15,Līmeņatzīmes!$B$6:$AI$7,2,FALSE))","v":" "},{"$f":"IF(BM22=\" \",\" \",$BQ$6*HLOOKUP($BD$15,Līmeņatzīmes!$B$6:$AI$7,2,FALSE))","v":" "},{"$f":"IF(BN22=\" \",\" \",$BQ$6*HLOOKUP($BD$15,Līmeņatzīmes!$B$6:$AI$7,2,FALSE))","v":" "},{"$f":"IF(BO22=\" \",\" \",$BQ$6*HLOOKUP($BD$15,Līmeņatzīmes!$B$6:$AI$7,2,FALSE))","v":" "},{"$f":"IF(BP22=\" \",\" \",$BQ$6*HLOOKUP($BD$15,Līmeņatzīmes!$B$6:$AI$7,2,FALSE))","v":" "},{"$f":"IF(OR(BQ$16=\" \",BQ$16=0),\" \",SUM(BR27:CC27))","v":" "},{"$f":"IF(BR22=\" \",\" \",$BQ$6*HLOOKUP($BQ$15,Līmeņatzīmes!$B$6:$AI$7,2,FALSE))","v":" "},{"$f":"IF(BS22=\" \",\" \",$BQ$6*HLOOKUP($BQ$15,Līmeņatzīmes!$B$6:$AI$7,2,FALSE))","v":" "},{"$f":"IF(BT22=\" \",\" \",$BQ$6*HLOOKUP($BQ$15,Līmeņatzīmes!$B$6:$AI$7,2,FALSE))","v":" "},{"$f":"IF(BU22=\" \",\" \",$BQ$6*HLOOKUP($BQ$15,Līmeņatzīmes!$B$6:$AI$7,2,FALSE))","v":" "},{"$f":"IF(BV22=\" \",\" \",$BQ$6*HLOOKUP($BQ$15,Līmeņatzīmes!$B$6:$AI$7,2,FALSE))","v":" "},{"$f":"IF(BW22=\" \",\" \",$BQ$6*HLOOKUP($BQ$15,Līmeņatzīmes!$B$6:$AI$7,2,FALSE))","v":" "},{"$f":"IF(BX22=\" \",\" \",$BQ$6*HLOOKUP($BQ$15,Līmeņatzīmes!$B$6:$AI$7,2,FALSE))","v":" "},{"$f":"IF(BY22=\" \",\" \",$BQ$6*HLOOKUP($BQ$15,Līmeņatzīmes!$B$6:$AI$7,2,FALSE))","v":" "},{"$f":"IF(BZ22=\" \",\" \",$BQ$6*HLOOKUP($BQ$15,Līmeņatzīmes!$B$6:$AI$7,2,FALSE))","v":" "},{"$f":"IF(CA22=\" \",\" \",$BQ$6*HLOOKUP($BQ$15,Līmeņatzīmes!$B$6:$AI$7,2,FALSE))","v":" "},{"$f":"IF(CB22=\" \",\" \",$BQ$6*HLOOKUP($BQ$15,Līmeņatzīmes!$B$6:$AI$7,2,FALSE))","v":" "},{"$f":"IF(CC22=\" \",\" \",$BQ$6*HLOOKUP($BQ$15,Līmeņatzīmes!$B$6:$AI$7,2,FALSE))","v":" "},{"$f":"IF(OR(CD$16=\" \",CD$16=0),\" \",SUM(CE27:CP27))","v":" "},{"$f":"IF(CE22=\" \",\" \",$BQ$6*HLOOKUP($CD$15,Līmeņatzīmes!$B$6:$AI$7,2,FALSE))","v":" "},{"$f":"IF(CF22=\" \",\" \",$BQ$6*HLOOKUP($CD$15,Līmeņatzīmes!$B$6:$AI$7,2,FALSE))","v":" "},{"$f":"IF(CG22=\" \",\" \",$BQ$6*HLOOKUP($CD$15,Līmeņatzīmes!$B$6:$AI$7,2,FALSE))","v":" "},{"$f":"IF(CH22=\" \",\" \",$BQ$6*HLOOKUP($CD$15,Līmeņatzīmes!$B$6:$AI$7,2,FALSE))","v":" "},{"$f":"IF(CI22=\" \",\" \",$BQ$6*HLOOKUP($CD$15,Līmeņatzīmes!$B$6:$AI$7,2,FALSE))","v":" "},{"$f":"IF(CJ22=\" \",\" \",$BQ$6*HLOOKUP($CD$15,Līmeņatzīmes!$B$6:$AI$7,2,FALSE))","v":" "},{"$f":"IF(CK22=\" \",\" \",$BQ$6*HLOOKUP($CD$15,Līmeņatzīmes!$B$6:$AI$7,2,FALSE))","v":" "},{"$f":"IF(CL22=\" \",\" \",$BQ$6*HLOOKUP($CD$15,Līmeņatzīmes!$B$6:$AI$7,2,FALSE))","v":" "},{"$f":"IF(CM22=\" \",\" \",$BQ$6*HLOOKUP($CD$15,Līmeņatzīmes!$B$6:$AI$7,2,FALSE))","v":" "},{"$f":"IF(CN22=\" \",\" \",$BQ$6*HLOOKUP($CD$15,Līmeņatzīmes!$B$6:$AI$7,2,FALSE))","v":" "},{"$f":"IF(CO22=\" \",\" \",$BQ$6*HLOOKUP($CD$15,Līmeņatzīmes!$B$6:$AI$7,2,FALSE))","v":" "},{"$f":"IF(CP22=\" \",\" \",$BQ$6*HLOOKUP($CD$15,Līmeņatzīmes!$B$6:$AI$7,2,FALSE))","v":" "},{"$f":"IF(OR(CQ$16=\" \",CQ$16=0),\" \",SUM(CR27:DC27))","v":" "},{"$f":"IF(CR22=\" \",\" \",$BQ$6*HLOOKUP($CQ$15,Līmeņatzīmes!$B$6:$AI$7,2,FALSE))","v":" "},{"$f":"IF(CS22=\" \",\" \",$BQ$6*HLOOKUP($CQ$15,Līmeņatzīmes!$B$6:$AI$7,2,FALSE))","v":" "},{"$f":"IF(CT22=\" \",\" \",$BQ$6*HLOOKUP($CQ$15,Līmeņatzīmes!$B$6:$AI$7,2,FALSE))","v":" "},{"$f":"IF(CU22=\" \",\" \",$BQ$6*HLOOKUP($CQ$15,Līmeņatzīmes!$B$6:$AI$7,2,FALSE))","v":" "},{"$f":"IF(CV22=\" \",\" \",$BQ$6*HLOOKUP($CQ$15,Līmeņatzīmes!$B$6:$AI$7,2,FALSE))","v":" "},{"$f":"IF(CW22=\" \",\" \",$BQ$6*HLOOKUP($CQ$15,Līmeņatzīmes!$B$6:$AI$7,2,FALSE))","v":" "},{"$f":"IF(CX22=\" \",\" \",$BQ$6*HLOOKUP($CQ$15,Līmeņatzīmes!$B$6:$AI$7,2,FALSE))","v":" "},{"$f":"IF(CY22=\" \",\" \",$BQ$6*HLOOKUP($CQ$15,Līmeņatzīmes!$B$6:$AI$7,2,FALSE))","v":" "},{"$f":"IF(CZ22=\" \",\" \",$BQ$6*HLOOKUP($CQ$15,Līmeņatzīmes!$B$6:$AI$7,2,FALSE))","v":" "},{"$f":"IF(DA22=\" \",\" \",$BQ$6*HLOOKUP($CQ$15,Līmeņatzīmes!$B$6:$AI$7,2,FALSE))","v":" "},{"$f":"IF(DB22=\" \",\" \",$BQ$6*HLOOKUP($CQ$15,Līmeņatzīmes!$B$6:$AI$7,2,FALSE))","v":" "},{"$f":"IF(DC22=\" \",\" \",$BQ$6*HLOOKUP($CQ$15,Līmeņatzīmes!$B$6:$AI$7,2,FALSE))","v":" "},{"$f":"IF(OR(DD$16=\" \",DD$16=0),\" \",SUM(DE27:DP27))","v":" "},{"$f":"IF(DE22=\" \",\" \",$BQ$6*HLOOKUP($DD$15,Līmeņatzīmes!$B$6:$AI$7,2,FALSE))","v":" "},{"$f":"IF(DF22=\" \",\" \",$BQ$6*HLOOKUP($DD$15,Līmeņatzīmes!$B$6:$AI$7,2,FALSE))","v":" "},{"$f":"IF(DG22=\" \",\" \",$BQ$6*HLOOKUP($DD$15,Līmeņatzīmes!$B$6:$AI$7,2,FALSE))","v":" "},{"$f":"IF(DH22=\" \",\" \",$BQ$6*HLOOKUP($DD$15,Līmeņatzīmes!$B$6:$AI$7,2,FALSE))","v":" "},{"$f":"IF(DI22=\" \",\" \",$BQ$6*HLOOKUP($DD$15,Līmeņatzīmes!$B$6:$AI$7,2,FALSE))","v":" "},{"$f":"IF(DJ22=\" \",\" \",$BQ$6*HLOOKUP($DD$15,Līmeņatzīmes!$B$6:$AI$7,2,FALSE))","v":" "},{"$f":"IF(DK22=\" \",\" \",$BQ$6*HLOOKUP($DD$15,Līmeņatzīmes!$B$6:$AI$7,2,FALSE))","v":" "},{"$f":"IF(DL22=\" \",\" \",$BQ$6*HLOOKUP($DD$15,Līmeņatzīmes!$B$6:$AI$7,2,FALSE))","v":" "},{"$f":"IF(DM22=\" \",\" \",$BQ$6*HLOOKUP($DD$15,Līmeņatzīmes!$B$6:$AI$7,2,FALSE))","v":" "},{"$f":"IF(DN22=\" \",\" \",$BQ$6*HLOOKUP($DD$15,Līmeņatzīmes!$B$6:$AI$7,2,FALSE))","v":" "},{"$f":"IF(DO22=\" \",\" \",$BQ$6*HLOOKUP($DD$15,Līmeņatzīmes!$B$6:$AI$7,2,FALSE))","v":" "},{"$f":"IF(DP22=\" \",\" \",$BQ$6*HLOOKUP($DD$15,Līmeņatzīmes!$B$6:$AI$7,2,FALSE))","v":" "},{"$f":"IF(OR(DQ$16=\" \",DQ$16=0),\" \",SUM(DR27:EC27))","v":" "},{"$f":"IF(DR22=\" \",\" \",$BQ$6*HLOOKUP($DQ$15,Līmeņatzīmes!$B$6:$AI$7,2,FALSE))","v":" "},{"$f":"IF(DS22=\" \",\" \",$BQ$6*HLOOKUP($DQ$15,Līmeņatzīmes!$B$6:$AI$7,2,FALSE))","v":" "},{"$f":"IF(DT22=\" \",\" \",$BQ$6*HLOOKUP($DQ$15,Līmeņatzīmes!$B$6:$AI$7,2,FALSE))","v":" "},{"$f":"IF(DU22=\" \",\" \",$BQ$6*HLOOKUP($DQ$15,Līmeņatzīmes!$B$6:$AI$7,2,FALSE))","v":" "},{"$f":"IF(DV22=\" \",\" \",$BQ$6*HLOOKUP($DQ$15,Līmeņatzīmes!$B$6:$AI$7,2,FALSE))","v":" "},{"$f":"IF(DW22=\" \",\" \",$BQ$6*HLOOKUP($DQ$15,Līmeņatzīmes!$B$6:$AI$7,2,FALSE))","v":" "},{"$f":"IF(DX22=\" \",\" \",$BQ$6*HLOOKUP($DQ$15,Līmeņatzīmes!$B$6:$AI$7,2,FALSE))","v":" "},{"$f":"IF(DY22=\" \",\" \",$BQ$6*HLOOKUP($DQ$15,Līmeņatzīmes!$B$6:$AI$7,2,FALSE))","v":" "},{"$f":"IF(DZ22=\" \",\" \",$BQ$6*HLOOKUP($DQ$15,Līmeņatzīmes!$B$6:$AI$7,2,FALSE))","v":" "},{"$f":"IF(EA22=\" \",\" \",$BQ$6*HLOOKUP($DQ$15,Līmeņatzīmes!$B$6:$AI$7,2,FALSE))","v":" "},{"$f":"IF(EB22=\" \",\" \",$BQ$6*HLOOKUP($DQ$15,Līmeņatzīmes!$B$6:$AI$7,2,FALSE))","v":" "},{"$f":"IF(EC22=\" \",\" \",$BQ$6*HLOOKUP($DQ$15,Līmeņatzīmes!$B$6:$AI$7,2,FALSE))","v":" "},{"$f":"IF(OR(ED$16=\" \",ED$16=0),\" \",SUM(EE27:EP27))","v":" "},{"$f":"IF(EE22=\" \",\" \",$BQ$6*HLOOKUP($ED$15,Līmeņatzīmes!$B$6:$AI$7,2,FALSE))","v":" "},{"$f":"IF(EF22=\" \",\" \",$BQ$6*HLOOKUP($ED$15,Līmeņatzīmes!$B$6:$AI$7,2,FALSE))","v":" "},{"$f":"IF(EG22=\" \",\" \",$BQ$6*HLOOKUP($ED$15,Līmeņatzīmes!$B$6:$AI$7,2,FALSE))","v":" "},{"$f":"IF(EH22=\" \",\" \",$BQ$6*HLOOKUP($ED$15,Līmeņatzīmes!$B$6:$AI$7,2,FALSE))","v":" "},{"$f":"IF(EI22=\" \",\" \",$BQ$6*HLOOKUP($ED$15,Līmeņatzīmes!$B$6:$AI$7,2,FALSE))","v":" "},{"$f":"IF(EJ22=\" \",\" \",$BQ$6*HLOOKUP($ED$15,Līmeņatzīmes!$B$6:$AI$7,2,FALSE))","v":" "},{"$f":"IF(EK22=\" \",\" \",$BQ$6*HLOOKUP($ED$15,Līmeņatzīmes!$B$6:$AI$7,2,FALSE))","v":" "},{"$f":"IF(EL22=\" \",\" \",$BQ$6*HLOOKUP($ED$15,Līmeņatzīmes!$B$6:$AI$7,2,FALSE))","v":" "},{"$f":"IF(EM22=\" \",\" \",$BQ$6*HLOOKUP($ED$15,Līmeņatzīmes!$B$6:$AI$7,2,FALSE))","v":" "},{"$f":"IF(EN22=\" \",\" \",$BQ$6*HLOOKUP($ED$15,Līmeņatzīmes!$B$6:$AI$7,2,FALSE))","v":" "},{"$f":"IF(EO22=\" \",\" \",$BQ$6*HLOOKUP($ED$15,Līmeņatzīmes!$B$6:$AI$7,2,FALSE))","v":" "},{"$f":"IF(EP22=\" \",\" \",$BQ$6*HLOOKUP($ED$15,Līmeņatzīmes!$B$6:$AI$7,2,FALSE))","v":" "},{"$f":"IF(OR(EQ$16=\" \",EQ$16=0),\" \",SUM(ER27:FC27))","v":" "},{"$f":"IF(ER22=\" \",\" \",$BQ$6*HLOOKUP($EQ$15,Līmeņatzīmes!$B$6:$AI$7,2,FALSE))","v":" "},{"$f":"IF(ES22=\" \",\" \",$BQ$6*HLOOKUP($EQ$15,Līmeņatzīmes!$B$6:$AI$7,2,FALSE))","v":" "},{"$f":"IF(ET22=\" \",\" \",$BQ$6*HLOOKUP($EQ$15,Līmeņatzīmes!$B$6:$AI$7,2,FALSE))","v":" "},{"$f":"IF(EU22=\" \",\" \",$BQ$6*HLOOKUP($EQ$15,Līmeņatzīmes!$B$6:$AI$7,2,FALSE))","v":" "},{"$f":"IF(EV22=\" \",\" \",$BQ$6*HLOOKUP($EQ$15,Līmeņatzīmes!$B$6:$AI$7,2,FALSE))","v":" "},{"$f":"IF(EW22=\" \",\" \",$BQ$6*HLOOKUP($EQ$15,Līmeņatzīmes!$B$6:$AI$7,2,FALSE))","v":" "},{"$f":"IF(EX22=\" \",\" \",$BQ$6*HLOOKUP($EQ$15,Līmeņatzīmes!$B$6:$AI$7,2,FALSE))","v":" "},{"$f":"IF(EY22=\" \",\" \",$BQ$6*HLOOKUP($EQ$15,Līmeņatzīmes!$B$6:$AI$7,2,FALSE))","v":" "},{"$f":"IF(EZ22=\" \",\" \",$BQ$6*HLOOKUP($EQ$15,Līmeņatzīmes!$B$6:$AI$7,2,FALSE))","v":" "},{"$f":"IF(FA22=\" \",\" \",$BQ$6*HLOOKUP($EQ$15,Līmeņatzīmes!$B$6:$AI$7,2,FALSE))","v":" "},{"$f":"IF(FB22=\" \",\" \",$BQ$6*HLOOKUP($EQ$15,Līmeņatzīmes!$B$6:$AI$7,2,FALSE))","v":" "},{"$f":"IF(FC22=\" \",\" \",$BQ$6*HLOOKUP($EQ$15,Līmeņatzīmes!$B$6:$AI$7,2,FALSE))","v":" "},{"$f":"IF(OR(FD$16=\" \",FD$16=0),\" \",SUM(FE27:FP27))","v":" "},{"$f":"IF(FE22=\" \",\" \",$BQ$6*HLOOKUP($FD$15,Līmeņatzīmes!$B$6:$AI$7,2,FALSE))","v":" "},{"$f":"IF(FF22=\" \",\" \",$BQ$6*HLOOKUP($FD$15,Līmeņatzīmes!$B$6:$AI$7,2,FALSE))","v":" "},{"$f":"IF(FG22=\" \",\" \",$BQ$6*HLOOKUP($FD$15,Līmeņatzīmes!$B$6:$AI$7,2,FALSE))","v":" "},{"$f":"IF(FH22=\" \",\" \",$BQ$6*HLOOKUP($FD$15,Līmeņatzīmes!$B$6:$AI$7,2,FALSE))","v":" "},{"$f":"IF(FI22=\" \",\" \",$BQ$6*HLOOKUP($FD$15,Līmeņatzīmes!$B$6:$AI$7,2,FALSE))","v":" "},{"$f":"IF(FJ22=\" \",\" \",$BQ$6*HLOOKUP($FD$15,Līmeņatzīmes!$B$6:$AI$7,2,FALSE))","v":" "},{"$f":"IF(FK22=\" \",\" \",$BQ$6*HLOOKUP($FD$15,Līmeņatzīmes!$B$6:$AI$7,2,FALSE))","v":" "},{"$f":"IF(FL22=\" \",\" \",$BQ$6*HLOOKUP($FD$15,Līmeņatzīmes!$B$6:$AI$7,2,FALSE))","v":" "},{"$f":"IF(FM22=\" \",\" \",$BQ$6*HLOOKUP($FD$15,Līmeņatzīmes!$B$6:$AI$7,2,FALSE))","v":" "},{"$f":"IF(FN22=\" \",\" \",$BQ$6*HLOOKUP($FD$15,Līmeņatzīmes!$B$6:$AI$7,2,FALSE))","v":" "},{"$f":"IF(FO22=\" \",\" \",$BQ$6*HLOOKUP($FD$15,Līmeņatzīmes!$B$6:$AI$7,2,FALSE))","v":" "},{"$f":"IF(FP22=\" \",\" \",$BQ$6*HLOOKUP($FD$15,Līmeņatzīmes!$B$6:$AI$7,2,FALSE))","v":" "},{"$f":"IF(OR(FQ$16=\" \",FQ$16=0),\" \",SUM(FR27:GC27))","v":" "},{"$f":"IF(FR22=\" \",\" \",$BQ$6*HLOOKUP($FQ$15,Līmeņatzīmes!$B$6:$AI$7,2,FALSE))","v":" "},{"$f":"IF(FS22=\" \",\" \",$BQ$6*HLOOKUP($FQ$15,Līmeņatzīmes!$B$6:$AI$7,2,FALSE))","v":" "},{"$f":"IF(FT22=\" \",\" \",$BQ$6*HLOOKUP($FQ$15,Līmeņatzīmes!$B$6:$AI$7,2,FALSE))","v":" "},{"$f":"IF(FU22=\" \",\" \",$BQ$6*HLOOKUP($FQ$15,Līmeņatzīmes!$B$6:$AI$7,2,FALSE))","v":" "},{"$f":"IF(FV22=\" \",\" \",$BQ$6*HLOOKUP($FQ$15,Līmeņatzīmes!$B$6:$AI$7,2,FALSE))","v":" "},{"$f":"IF(FW22=\" \",\" \",$BQ$6*HLOOKUP($FQ$15,Līmeņatzīmes!$B$6:$AI$7,2,FALSE))","v":" "},{"$f":"IF(FX22=\" \",\" \",$BQ$6*HLOOKUP($FQ$15,Līmeņatzīmes!$B$6:$AI$7,2,FALSE))","v":" "},{"$f":"IF(FY22=\" \",\" \",$BQ$6*HLOOKUP($FQ$15,Līmeņatzīmes!$B$6:$AI$7,2,FALSE))","v":" "},{"$f":"IF(FZ22=\" \",\" \",$BQ$6*HLOOKUP($FQ$15,Līmeņatzīmes!$B$6:$AI$7,2,FALSE))","v":" "},{"$f":"IF(GA22=\" \",\" \",$BQ$6*HLOOKUP($FQ$15,Līmeņatzīmes!$B$6:$AI$7,2,FALSE))","v":" "},{"$f":"IF(GB22=\" \",\" \",$BQ$6*HLOOKUP($FQ$15,Līmeņatzīmes!$B$6:$AI$7,2,FALSE))","v":" "},{"$f":"IF(GC22=\" \",\" \",$BQ$6*HLOOKUP($FQ$15,Līmeņatzīmes!$B$6:$AI$7,2,FALSE))","v":" "},{"$f":"IF(OR(GD$16=\" \",GD$16=0),\" \",SUM(GE27:GP27))","v":" "},{"$f":"IF(GE22=\" \",\" \",$BQ$6*HLOOKUP($GD$15,Līmeņatzīmes!$B$6:$AI$7,2,FALSE))","v":" "},{"$f":"IF(GF22=\" \",\" \",$BQ$6*HLOOKUP($GD$15,Līmeņatzīmes!$B$6:$AI$7,2,FALSE))","v":" "},{"$f":"IF(GG22=\" \",\" \",$BQ$6*HLOOKUP($GD$15,Līmeņatzīmes!$B$6:$AI$7,2,FALSE))","v":" "},{"$f":"IF(GH22=\" \",\" \",$BQ$6*HLOOKUP($GD$15,Līmeņatzīmes!$B$6:$AI$7,2,FALSE))","v":" "},{"$f":"IF(GI22=\" \",\" \",$BQ$6*HLOOKUP($GD$15,Līmeņatzīmes!$B$6:$AI$7,2,FALSE))","v":" "},{"$f":"IF(GJ22=\" \",\" \",$BQ$6*HLOOKUP($GD$15,Līmeņatzīmes!$B$6:$AI$7,2,FALSE))","v":" "},{"$f":"IF(GK22=\" \",\" \",$BQ$6*HLOOKUP($GD$15,Līmeņatzīmes!$B$6:$AI$7,2,FALSE))","v":" "},{"$f":"IF(GL22=\" \",\" \",$BQ$6*HLOOKUP($GD$15,Līmeņatzīmes!$B$6:$AI$7,2,FALSE))","v":" "},{"$f":"IF(GM22=\" \",\" \",$BQ$6*HLOOKUP($GD$15,Līmeņatzīmes!$B$6:$AI$7,2,FALSE))","v":" "},{"$f":"IF(GN22=\" \",\" \",$BQ$6*HLOOKUP($GD$15,Līmeņatzīmes!$B$6:$AI$7,2,FALSE))","v":" "},{"$f":"IF(GO22=\" \",\" \",$BQ$6*HLOOKUP($GD$15,Līmeņatzīmes!$B$6:$AI$7,2,FALSE))","v":" "},{"$f":"IF(GP22=\" \",\" \",$BQ$6*HLOOKUP($GD$15,Līmeņatzīmes!$B$6:$AI$7,2,FALSE))","v":" "},{"$f":"IF(OR(GQ$16=\" \",GQ$16=0),\" \",SUM(GR27:HC27))","v":" "},{"$f":"IF(GR22=\" \",\" \",$BQ$6*HLOOKUP($GQ$15,Līmeņatzīmes!$B$6:$AI$7,2,FALSE))","v":" "},{"$f":"IF(GS22=\" \",\" \",$BQ$6*HLOOKUP($GQ$15,Līmeņatzīmes!$B$6:$AI$7,2,FALSE))","v":" "},{"$f":"IF(GT22=\" \",\" \",$BQ$6*HLOOKUP($GQ$15,Līmeņatzīmes!$B$6:$AI$7,2,FALSE))","v":" "},{"$f":"IF(GU22=\" \",\" \",$BQ$6*HLOOKUP($GQ$15,Līmeņatzīmes!$B$6:$AI$7,2,FALSE))","v":" "},{"$f":"IF(GV22=\" \",\" \",$BQ$6*HLOOKUP($GQ$15,Līmeņatzīmes!$B$6:$AI$7,2,FALSE))","v":" "},{"$f":"IF(GW22=\" \",\" \",$BQ$6*HLOOKUP($GQ$15,Līmeņatzīmes!$B$6:$AI$7,2,FALSE))","v":" "},{"$f":"IF(GX22=\" \",\" \",$BQ$6*HLOOKUP($GQ$15,Līmeņatzīmes!$B$6:$AI$7,2,FALSE))","v":" "},{"$f":"IF(GY22=\" \",\" \",$BQ$6*HLOOKUP($GQ$15,Līmeņatzīmes!$B$6:$AI$7,2,FALSE))","v":" "},{"$f":"IF(GZ22=\" \",\" \",$BQ$6*HLOOKUP($GQ$15,Līmeņatzīmes!$B$6:$AI$7,2,FALSE))","v":" "},{"$f":"IF(HA22=\" \",\" \",$BQ$6*HLOOKUP($GQ$15,Līmeņatzīmes!$B$6:$AI$7,2,FALSE))","v":" "},{"$f":"IF(HB22=\" \",\" \",$BQ$6*HLOOKUP($GQ$15,Līmeņatzīmes!$B$6:$AI$7,2,FALSE))","v":" "},{"$f":"IF(HC22=\" \",\" \",$BQ$6*HLOOKUP($GQ$15,Līmeņatzīmes!$B$6:$AI$7,2,FALSE))","v":" "},{"$f":"IF(OR(HD$16=\" \",HD$16=0),\" \",SUM(HE27:HP27))","v":" "},{"$f":"IF(HE22=\" \",\" \",$BQ$6*HLOOKUP($HD$15,Līmeņatzīmes!$B$6:$AI$7,2,FALSE))","v":" "},{"$f":"IF(HF22=\" \",\" \",$BQ$6*HLOOKUP($HD$15,Līmeņatzīmes!$B$6:$AI$7,2,FALSE))","v":" "},{"$f":"IF(HG22=\" \",\" \",$BQ$6*HLOOKUP($HD$15,Līmeņatzīmes!$B$6:$AI$7,2,FALSE))","v":" "},{"$f":"IF(HH22=\" \",\" \",$BQ$6*HLOOKUP($HD$15,Līmeņatzīmes!$B$6:$AI$7,2,FALSE))","v":" "},{"$f":"IF(HI22=\" \",\" \",$BQ$6*HLOOKUP($HD$15,Līmeņatzīmes!$B$6:$AI$7,2,FALSE))","v":" "},{"$f":"IF(HJ22=\" \",\" \",$BQ$6*HLOOKUP($HD$15,Līmeņatzīmes!$B$6:$AI$7,2,FALSE))","v":" "},{"$f":"IF(HK22=\" \",\" \",$BQ$6*HLOOKUP($HD$15,Līmeņatzīmes!$B$6:$AI$7,2,FALSE))","v":" "},{"$f":"IF(HL22=\" \",\" \",$BQ$6*HLOOKUP($HD$15,Līmeņatzīmes!$B$6:$AI$7,2,FALSE))","v":" "},{"$f":"IF(HM22=\" \",\" \",$BQ$6*HLOOKUP($HD$15,Līmeņatzīmes!$B$6:$AI$7,2,FALSE))","v":" "},{"$f":"IF(HN22=\" \",\" \",$BQ$6*HLOOKUP($HD$15,Līmeņatzīmes!$B$6:$AI$7,2,FALSE))","v":" "},{"$f":"IF(HO22=\" \",\" \",$BQ$6*HLOOKUP($HD$15,Līmeņatzīmes!$B$6:$AI$7,2,FALSE))","v":" "},{"$f":"IF(HP22=\" \",\" \",$BQ$6*HLOOKUP($HD$15,Līmeņatzīmes!$B$6:$AI$7,2,FALSE))","v":" "},{"$f":"IF(OR(HQ$16=\" \",HQ$16=0),\" \",SUM(HR27:IC27))","v":" "},{"$f":"IF(HR22=\" \",\" \",$BQ$6*HLOOKUP($HQ$15,Līmeņatzīmes!$B$6:$AI$7,2,FALSE))","v":" "},{"$f":"IF(HS22=\" \",\" \",$BQ$6*HLOOKUP($HQ$15,Līmeņatzīmes!$B$6:$AI$7,2,FALSE))","v":" "},{"$f":"IF(HT22=\" \",\" \",$BQ$6*HLOOKUP($HQ$15,Līmeņatzīmes!$B$6:$AI$7,2,FALSE))","v":" "},{"$f":"IF(HU22=\" \",\" \",$BQ$6*HLOOKUP($HQ$15,Līmeņatzīmes!$B$6:$AI$7,2,FALSE))","v":" "},{"$f":"IF(HV22=\" \",\" \",$BQ$6*HLOOKUP($HQ$15,Līmeņatzīmes!$B$6:$AI$7,2,FALSE))","v":" "},{"$f":"IF(HW22=\" \",\" \",$BQ$6*HLOOKUP($HQ$15,Līmeņatzīmes!$B$6:$AI$7,2,FALSE))","v":" "},{"$f":"IF(HX22=\" \",\" \",$BQ$6*HLOOKUP($HQ$15,Līmeņatzīmes!$B$6:$AI$7,2,FALSE))","v":" "},{"$f":"IF(HY22=\" \",\" \",$BQ$6*HLOOKUP($HQ$15,Līmeņatzīmes!$B$6:$AI$7,2,FALSE))","v":" "},{"$f":"IF(HZ22=\" \",\" \",$BQ$6*HLOOKUP($HQ$15,Līmeņatzīmes!$B$6:$AI$7,2,FALSE))","v":" "},{"$f":"IF(IA22=\" \",\" \",$BQ$6*HLOOKUP($HQ$15,Līmeņatzīmes!$B$6:$AI$7,2,FALSE))","v":" "},{"$f":"IF(IB22=\" \",\" \",$BQ$6*HLOOKUP($HQ$15,Līmeņatzīmes!$B$6:$AI$7,2,FALSE))","v":" "},{"$f":"IF(IC22=\" \",\" \",$BQ$6*HLOOKUP($HQ$15,Līmeņatzīmes!$B$6:$AI$7,2,FALSE))","v":" "},{"$f":"IF(OR(ID$16=\" \",ID$16=0),\" \",SUM(IE27:IP27))","v":" "},{"$f":"IF(IE22=\" \",\" \",$BQ$6*HLOOKUP($ID$15,Līmeņatzīmes!$B$6:$AI$7,2,FALSE))","v":" "},{"$f":"IF(IF22=\" \",\" \",$BQ$6*HLOOKUP($ID$15,Līmeņatzīmes!$B$6:$AI$7,2,FALSE))","v":" "},{"$f":"IF(IG22=\" \",\" \",$BQ$6*HLOOKUP($ID$15,Līmeņatzīmes!$B$6:$AI$7,2,FALSE))","v":" "},{"$f":"IF(IH22=\" \",\" \",$BQ$6*HLOOKUP($ID$15,Līmeņatzīmes!$B$6:$AI$7,2,FALSE))","v":" "},{"$f":"IF(II22=\" \",\" \",$BQ$6*HLOOKUP($ID$15,Līmeņatzīmes!$B$6:$AI$7,2,FALSE))","v":" "},{"$f":"IF(IJ22=\" \",\" \",$BQ$6*HLOOKUP($ID$15,Līmeņatzīmes!$B$6:$AI$7,2,FALSE))","v":" "},{"$f":"IF(IK22=\" \",\" \",$BQ$6*HLOOKUP($ID$15,Līmeņatzīmes!$B$6:$AI$7,2,FALSE))","v":" "},{"$f":"IF(IL22=\" \",\" \",$BQ$6*HLOOKUP($ID$15,Līmeņatzīmes!$B$6:$AI$7,2,FALSE))","v":" "},{"$f":"IF(IM22=\" \",\" \",$BQ$6*HLOOKUP($ID$15,Līmeņatzīmes!$B$6:$AI$7,2,FALSE))","v":" "},{"$f":"IF(IN22=\" \",\" \",$BQ$6*HLOOKUP($ID$15,Līmeņatzīmes!$B$6:$AI$7,2,FALSE))","v":" "},{"$f":"IF(IO22=\" \",\" \",$BQ$6*HLOOKUP($ID$15,Līmeņatzīmes!$B$6:$AI$7,2,FALSE))","v":" "},{"$f":"IF(IP22=\" \",\" \",$BQ$6*HLOOKUP($ID$15,Līmeņatzīmes!$B$6:$AI$7,2,FALSE))","v":" "},{"$f":"IF(OR(IQ$16=\" \",IQ$16=0),\" \",SUM(IR27:JC27))","v":" "},{"$f":"IF(IR22=\" \",\" \",$BQ$6*HLOOKUP($IQ$15,Līmeņatzīmes!$B$6:$AI$7,2,FALSE))","v":" "},{"$f":"IF(IS22=\" \",\" \",$BQ$6*HLOOKUP($IQ$15,Līmeņatzīmes!$B$6:$AI$7,2,FALSE))","v":" "},{"$f":"IF(IT22=\" \",\" \",$BQ$6*HLOOKUP($IQ$15,Līmeņatzīmes!$B$6:$AI$7,2,FALSE))","v":" "},{"$f":"IF(IU22=\" \",\" \",$BQ$6*HLOOKUP($IQ$15,Līmeņatzīmes!$B$6:$AI$7,2,FALSE))","v":" "},{"$f":"IF(IV22=\" \",\" \",$BQ$6*HLOOKUP($IQ$15,Līmeņatzīmes!$B$6:$AI$7,2,FALSE))","v":" "},{"$f":"IF(IW22=\" \",\" \",$BQ$6*HLOOKUP($IQ$15,Līmeņatzīmes!$B$6:$AI$7,2,FALSE))","v":" "},{"$f":"IF(IX22=\" \",\" \",$BQ$6*HLOOKUP($IQ$15,Līmeņatzīmes!$B$6:$AI$7,2,FALSE))","v":" "},{"$f":"IF(IY22=\" \",\" \",$BQ$6*HLOOKUP($IQ$15,Līmeņatzīmes!$B$6:$AI$7,2,FALSE))","v":" "},{"$f":"IF(IZ22=\" \",\" \",$BQ$6*HLOOKUP($IQ$15,Līmeņatzīmes!$B$6:$AI$7,2,FALSE))","v":" "},{"$f":"IF(JA22=\" \",\" \",$BQ$6*HLOOKUP($IQ$15,Līmeņatzīmes!$B$6:$AI$7,2,FALSE))","v":" "},{"$f":"IF(JB22=\" \",\" \",$BQ$6*HLOOKUP($IQ$15,Līmeņatzīmes!$B$6:$AI$7,2,FALSE))","v":" "},{"$f":"IF(JC22=\" \",\" \",$BQ$6*HLOOKUP($IQ$15,Līmeņatzīmes!$B$6:$AI$7,2,FALSE))","v":" "},{"$f":"IF(OR(JD$16=\" \",JD$16=0),\" \",SUM(JE27:JP27))","v":" "},{"$f":"IF(JE22=\" \",\" \",$BQ$6*HLOOKUP($JD$15,Līmeņatzīmes!$B$6:$AI$7,2,FALSE))","v":" "},{"$f":"IF(JF22=\" \",\" \",$BQ$6*HLOOKUP($JD$15,Līmeņatzīmes!$B$6:$AI$7,2,FALSE))","v":" "},{"$f":"IF(JG22=\" \",\" \",$BQ$6*HLOOKUP($JD$15,Līmeņatzīmes!$B$6:$AI$7,2,FALSE))","v":" "},{"$f":"IF(JH22=\" \",\" \",$BQ$6*HLOOKUP($JD$15,Līmeņatzīmes!$B$6:$AI$7,2,FALSE))","v":" "},{"$f":"IF(JI22=\" \",\" \",$BQ$6*HLOOKUP($JD$15,Līmeņatzīmes!$B$6:$AI$7,2,FALSE))","v":" "},{"$f":"IF(JJ22=\" \",\" \",$BQ$6*HLOOKUP($JD$15,Līmeņatzīmes!$B$6:$AI$7,2,FALSE))","v":" "},{"$f":"IF(JK22=\" \",\" \",$BQ$6*HLOOKUP($JD$15,Līmeņatzīmes!$B$6:$AI$7,2,FALSE))","v":" "},{"$f":"IF(JL22=\" \",\" \",$BQ$6*HLOOKUP($JD$15,Līmeņatzīmes!$B$6:$AI$7,2,FALSE))","v":" "},{"$f":"IF(JM22=\" \",\" \",$BQ$6*HLOOKUP($JD$15,Līmeņatzīmes!$B$6:$AI$7,2,FALSE))","v":" "},{"$f":"IF(JN22=\" \",\" \",$BQ$6*HLOOKUP($JD$15,Līmeņatzīmes!$B$6:$AI$7,2,FALSE))","v":" "},{"$f":"IF(JO22=\" \",\" \",$BQ$6*HLOOKUP($JD$15,Līmeņatzīmes!$B$6:$AI$7,2,FALSE))","v":" "},{"$f":"IF(JP22=\" \",\" \",$BQ$6*HLOOKUP($JD$15,Līmeņatzīmes!$B$6:$AI$7,2,FALSE))","v":" "},{"$f":"IF(OR(JQ$16=\" \",JQ$16=0),\" \",SUM(JR27:KC27))","v":" "},{"$f":"IF(JR22=\" \",\" \",$BQ$6*HLOOKUP($JQ$15,Līmeņatzīmes!$B$6:$AI$7,2,FALSE))","v":" "},{"$f":"IF(JS22=\" \",\" \",$BQ$6*HLOOKUP($JQ$15,Līmeņatzīmes!$B$6:$AI$7,2,FALSE))","v":" "},{"$f":"IF(JT22=\" \",\" \",$BQ$6*HLOOKUP($JQ$15,Līmeņatzīmes!$B$6:$AI$7,2,FALSE))","v":" "},{"$f":"IF(JU22=\" \",\" \",$BQ$6*HLOOKUP($JQ$15,Līmeņatzīmes!$B$6:$AI$7,2,FALSE))","v":" "},{"$f":"IF(JV22=\" \",\" \",$BQ$6*HLOOKUP($JQ$15,Līmeņatzīmes!$B$6:$AI$7,2,FALSE))","v":" "},{"$f":"IF(JW22=\" \",\" \",$BQ$6*HLOOKUP($JQ$15,Līmeņatzīmes!$B$6:$AI$7,2,FALSE))","v":" "},{"$f":"IF(JX22=\" \",\" \",$BQ$6*HLOOKUP($JQ$15,Līmeņatzīmes!$B$6:$AI$7,2,FALSE))","v":" "},{"$f":"IF(JY22=\" \",\" \",$BQ$6*HLOOKUP($JQ$15,Līmeņatzīmes!$B$6:$AI$7,2,FALSE))","v":" "},{"$f":"IF(JZ22=\" \",\" \",$BQ$6*HLOOKUP($JQ$15,Līmeņatzīmes!$B$6:$AI$7,2,FALSE))","v":" "},{"$f":"IF(KA22=\" \",\" \",$BQ$6*HLOOKUP($JQ$15,Līmeņatzīmes!$B$6:$AI$7,2,FALSE))","v":" "},{"$f":"IF(KB22=\" \",\" \",$BQ$6*HLOOKUP($JQ$15,Līmeņatzīmes!$B$6:$AI$7,2,FALSE))","v":" "},{"$f":"IF(KC22=\" \",\" \",$BQ$6*HLOOKUP($JQ$15,Līmeņatzīmes!$B$6:$AI$7,2,FALSE))","v":" "},{"$f":"IF(OR(KD$16=\" \",KD$16=0),\" \",SUM(KE27:KP27))","v":" "},{"$f":"IF(KE22=\" \",\" \",$BQ$6*HLOOKUP($KD$15,Līmeņatzīmes!$B$6:$AI$7,2,FALSE))","v":" "},{"$f":"IF(KF22=\" \",\" \",$BQ$6*HLOOKUP($KD$15,Līmeņatzīmes!$B$6:$AI$7,2,FALSE))","v":" "},{"$f":"IF(KG22=\" \",\" \",$BQ$6*HLOOKUP($KD$15,Līmeņatzīmes!$B$6:$AI$7,2,FALSE))","v":" "},{"$f":"IF(KH22=\" \",\" \",$BQ$6*HLOOKUP($KD$15,Līmeņatzīmes!$B$6:$AI$7,2,FALSE))","v":" "},{"$f":"IF(KI22=\" \",\" \",$BQ$6*HLOOKUP($KD$15,Līmeņatzīmes!$B$6:$AI$7,2,FALSE))","v":" "},{"$f":"IF(KJ22=\" \",\" \",$BQ$6*HLOOKUP($KD$15,Līmeņatzīmes!$B$6:$AI$7,2,FALSE))","v":" "},{"$f":"IF(KK22=\" \",\" \",$BQ$6*HLOOKUP($KD$15,Līmeņatzīmes!$B$6:$AI$7,2,FALSE))","v":" "},{"$f":"IF(KL22=\" \",\" \",$BQ$6*HLOOKUP($KD$15,Līmeņatzīmes!$B$6:$AI$7,2,FALSE))","v":" "},{"$f":"IF(KM22=\" \",\" \",$BQ$6*HLOOKUP($KD$15,Līmeņatzīmes!$B$6:$AI$7,2,FALSE))","v":" "},{"$f":"IF(KN22=\" \",\" \",$BQ$6*HLOOKUP($KD$15,Līmeņatzīmes!$B$6:$AI$7,2,FALSE))","v":" "},{"$f":"IF(KO22=\" \",\" \",$BQ$6*HLOOKUP($KD$15,Līmeņatzīmes!$B$6:$AI$7,2,FALSE))","v":" "},{"$f":"IF(KP22=\" \",\" \",$BQ$6*HLOOKUP($KD$15,Līmeņatzīmes!$B$6:$AI$7,2,FALSE))","v":" "},{"$f":"IF(OR(KQ$16=\" \",KQ$16=0),\" \",SUM(KR27:LC27))","v":" "},{"$f":"IF(KR22=\" \",\" \",$BQ$6*HLOOKUP($KQ$15,Līmeņatzīmes!$B$6:$AI$7,2,FALSE))","v":" "},{"$f":"IF(KS22=\" \",\" \",$BQ$6*HLOOKUP($KQ$15,Līmeņatzīmes!$B$6:$AI$7,2,FALSE))","v":" "},{"$f":"IF(KT22=\" \",\" \",$BQ$6*HLOOKUP($KQ$15,Līmeņatzīmes!$B$6:$AI$7,2,FALSE))","v":" "},{"$f":"IF(KU22=\" \",\" \",$BQ$6*HLOOKUP($KQ$15,Līmeņatzīmes!$B$6:$AI$7,2,FALSE))","v":" "},{"$f":"IF(KV22=\" \",\" \",$BQ$6*HLOOKUP($KQ$15,Līmeņatzīmes!$B$6:$AI$7,2,FALSE))","v":" "},{"$f":"IF(KW22=\" \",\" \",$BQ$6*HLOOKUP($KQ$15,Līmeņatzīmes!$B$6:$AI$7,2,FALSE))","v":" "},{"$f":"IF(KX22=\" \",\" \",$BQ$6*HLOOKUP($KQ$15,Līmeņatzīmes!$B$6:$AI$7,2,FALSE))","v":" "},{"$f":"IF(KY22=\" \",\" \",$BQ$6*HLOOKUP($KQ$15,Līmeņatzīmes!$B$6:$AI$7,2,FALSE))","v":" "},{"$f":"IF(KZ22=\" \",\" \",$BQ$6*HLOOKUP($KQ$15,Līmeņatzīmes!$B$6:$AI$7,2,FALSE))","v":" "},{"$f":"IF(LA22=\" \",\" \",$BQ$6*HLOOKUP($KQ$15,Līmeņatzīmes!$B$6:$AI$7,2,FALSE))","v":" "},{"$f":"IF(LB22=\" \",\" \",$BQ$6*HLOOKUP($KQ$15,Līmeņatzīmes!$B$6:$AI$7,2,FALSE))","v":" "},{"$f":"IF(LC22=\" \",\" \",$BQ$6*HLOOKUP($KQ$15,Līmeņatzīmes!$B$6:$AI$7,2,FALSE))","v":" "},{"$f":"IF(OR(LD$16=\" \",LD$16=0),\" \",SUM(LE27:LP27))","v":" "},{"$f":"IF(LE22=\" \",\" \",$BQ$6*HLOOKUP($LD$15,Līmeņatzīmes!$B$6:$AI$7,2,FALSE))","v":" "},{"$f":"IF(LF22=\" \",\" \",$BQ$6*HLOOKUP($LD$15,Līmeņatzīmes!$B$6:$AI$7,2,FALSE))","v":" "},{"$f":"IF(LG22=\" \",\" \",$BQ$6*HLOOKUP($LD$15,Līmeņatzīmes!$B$6:$AI$7,2,FALSE))","v":" "},{"$f":"IF(LH22=\" \",\" \",$BQ$6*HLOOKUP($LD$15,Līmeņatzīmes!$B$6:$AI$7,2,FALSE))","v":" "},{"$f":"IF(LI22=\" \",\" \",$BQ$6*HLOOKUP($LD$15,Līmeņatzīmes!$B$6:$AI$7,2,FALSE))","v":" "},{"$f":"IF(LJ22=\" \",\" \",$BQ$6*HLOOKUP($LD$15,Līmeņatzīmes!$B$6:$AI$7,2,FALSE))","v":" "},{"$f":"IF(LK22=\" \",\" \",$BQ$6*HLOOKUP($LD$15,Līmeņatzīmes!$B$6:$AI$7,2,FALSE))","v":" "},{"$f":"IF(LL22=\" \",\" \",$BQ$6*HLOOKUP($LD$15,Līmeņatzīmes!$B$6:$AI$7,2,FALSE))","v":" "},{"$f":"IF(LM22=\" \",\" \",$BQ$6*HLOOKUP($LD$15,Līmeņatzīmes!$B$6:$AI$7,2,FALSE))","v":" "},{"$f":"IF(LN22=\" \",\" \",$BQ$6*HLOOKUP($LD$15,Līmeņatzīmes!$B$6:$AI$7,2,FALSE))","v":" "},{"$f":"IF(LO22=\" \",\" \",$BQ$6*HLOOKUP($LD$15,Līmeņatzīmes!$B$6:$AI$7,2,FALSE))","v":" "},{"$f":"IF(LP22=\" \",\" \",$BQ$6*HLOOKUP($LD$15,Līmeņatzīmes!$B$6:$AI$7,2,FALSE))","v":" "},{"$f":"IF(OR(LQ$16=\" \",LQ$16=0),\" \",SUM(LR27:MC27))","v":" "},{"$f":"IF(LR22=\" \",\" \",$BQ$6*HLOOKUP($LQ$15,Līmeņatzīmes!$B$6:$AI$7,2,FALSE))","v":" "},{"$f":"IF(LS22=\" \",\" \",$BQ$6*HLOOKUP($LQ$15,Līmeņatzīmes!$B$6:$AI$7,2,FALSE))","v":" "},{"$f":"IF(LT22=\" \",\" \",$BQ$6*HLOOKUP($LQ$15,Līmeņatzīmes!$B$6:$AI$7,2,FALSE))","v":" "},{"$f":"IF(LU22=\" \",\" \",$BQ$6*HLOOKUP($LQ$15,Līmeņatzīmes!$B$6:$AI$7,2,FALSE))","v":" "},{"$f":"IF(LV22=\" \",\" \",$BQ$6*HLOOKUP($LQ$15,Līmeņatzīmes!$B$6:$AI$7,2,FALSE))","v":" "},{"$f":"IF(LW22=\" \",\" \",$BQ$6*HLOOKUP($LQ$15,Līmeņatzīmes!$B$6:$AI$7,2,FALSE))","v":" "},{"$f":"IF(LX22=\" \",\" \",$BQ$6*HLOOKUP($LQ$15,Līmeņatzīmes!$B$6:$AI$7,2,FALSE))","v":" "},{"$f":"IF(LY22=\" \",\" \",$BQ$6*HLOOKUP($LQ$15,Līmeņatzīmes!$B$6:$AI$7,2,FALSE))","v":" "},{"$f":"IF(LZ22=\" \",\" \",$BQ$6*HLOOKUP($LQ$15,Līmeņatzīmes!$B$6:$AI$7,2,FALSE))","v":" "},{"$f":"IF(MA22=\" \",\" \",$BQ$6*HLOOKUP($LQ$15,Līmeņatzīmes!$B$6:$AI$7,2,FALSE))","v":" "},{"$f":"IF(MB22=\" \",\" \",$BQ$6*HLOOKUP($LQ$15,Līmeņatzīmes!$B$6:$AI$7,2,FALSE))","v":" "},{"$f":"IF(MC22=\" \",\" \",$BQ$6*HLOOKUP($LQ$15,Līmeņatzīmes!$B$6:$AI$7,2,FALSE))","v":" "},{"$f":"IF(OR(MD$16=\" \",MD$16=0),\" \",SUM(ME27:MP27))","v":" "},{"$f":"IF(ME22=\" \",\" \",$BQ$6*HLOOKUP($MD$15,Līmeņatzīmes!$B$6:$AI$7,2,FALSE))","v":" "},{"$f":"IF(MF22=\" \",\" \",$BQ$6*HLOOKUP($MD$15,Līmeņatzīmes!$B$6:$AI$7,2,FALSE))","v":" "},{"$f":"IF(MG22=\" \",\" \",$BQ$6*HLOOKUP($MD$15,Līmeņatzīmes!$B$6:$AI$7,2,FALSE))","v":" "},{"$f":"IF(MH22=\" \",\" \",$BQ$6*HLOOKUP($MD$15,Līmeņatzīmes!$B$6:$AI$7,2,FALSE))","v":" "},{"$f":"IF(MI22=\" \",\" \",$BQ$6*HLOOKUP($MD$15,Līmeņatzīmes!$B$6:$AI$7,2,FALSE))","v":" "},{"$f":"IF(MJ22=\" \",\" \",$BQ$6*HLOOKUP($MD$15,Līmeņatzīmes!$B$6:$AI$7,2,FALSE))","v":" "},{"$f":"IF(MK22=\" \",\" \",$BQ$6*HLOOKUP($MD$15,Līmeņatzīmes!$B$6:$AI$7,2,FALSE))","v":" "},{"$f":"IF(ML22=\" \",\" \",$BQ$6*HLOOKUP($MD$15,Līmeņatzīmes!$B$6:$AI$7,2,FALSE))","v":" "},{"$f":"IF(MM22=\" \",\" \",$BQ$6*HLOOKUP($MD$15,Līmeņatzīmes!$B$6:$AI$7,2,FALSE))","v":" "},{"$f":"IF(MN22=\" \",\" \",$BQ$6*HLOOKUP($MD$15,Līmeņatzīmes!$B$6:$AI$7,2,FALSE))","v":" "},{"$f":"IF(MO22=\" \",\" \",$BQ$6*HLOOKUP($MD$15,Līmeņatzīmes!$B$6:$AI$7,2,FALSE))","v":" "},{"$f":"IF(MP22=\" \",\" \",$BQ$6*HLOOKUP($MD$15,Līmeņatzīmes!$B$6:$AI$7,2,FALSE))","v":" "},{"$f":"IF(OR(MQ$16=\" \",MQ$16=0),\" \",SUM(MR27:NC27))","v":" "},{"$f":"IF(MR22=\" \",\" \",$BQ$6*HLOOKUP($MQ$15,Līmeņatzīmes!$B$6:$AI$7,2,FALSE))","v":" "},{"$f":"IF(MS22=\" \",\" \",$BQ$6*HLOOKUP($MQ$15,Līmeņatzīmes!$B$6:$AI$7,2,FALSE))","v":" "},{"$f":"IF(MT22=\" \",\" \",$BQ$6*HLOOKUP($MQ$15,Līmeņatzīmes!$B$6:$AI$7,2,FALSE))","v":" "},{"$f":"IF(MU22=\" \",\" \",$BQ$6*HLOOKUP($MQ$15,Līmeņatzīmes!$B$6:$AI$7,2,FALSE))","v":" "},{"$f":"IF(MV22=\" \",\" \",$BQ$6*HLOOKUP($MQ$15,Līmeņatzīmes!$B$6:$AI$7,2,FALSE))","v":" "},{"$f":"IF(MW22=\" \",\" \",$BQ$6*HLOOKUP($MQ$15,Līmeņatzīmes!$B$6:$AI$7,2,FALSE))","v":" "},{"$f":"IF(MX22=\" \",\" \",$BQ$6*HLOOKUP($MQ$15,Līmeņatzīmes!$B$6:$AI$7,2,FALSE))","v":" "},{"$f":"IF(MY22=\" \",\" \",$BQ$6*HLOOKUP($MQ$15,Līmeņatzīmes!$B$6:$AI$7,2,FALSE))","v":" "},{"$f":"IF(MZ22=\" \",\" \",$BQ$6*HLOOKUP($MQ$15,Līmeņatzīmes!$B$6:$AI$7,2,FALSE))","v":" "},{"$f":"IF(NA22=\" \",\" \",$BQ$6*HLOOKUP($MQ$15,Līmeņatzīmes!$B$6:$AI$7,2,FALSE))","v":" "},{"$f":"IF(NB22=\" \",\" \",$BQ$6*HLOOKUP($MQ$15,Līmeņatzīmes!$B$6:$AI$7,2,FALSE))","v":" "},{"$f":"IF(NC22=\" \",\" \",$BQ$6*HLOOKUP($MQ$15,Līmeņatzīmes!$B$6:$AI$7,2,FALSE))","v":" "},{"$f":"IF(OR(ND$16=\" \",ND$16=0),\" \",SUM(NE27:NP27))","v":" "},{"$f":"IF(NE22=\" \",\" \",$BQ$6*HLOOKUP($ND$15,Līmeņatzīmes!$B$6:$AI$7,2,FALSE))","v":" "},{"$f":"IF(NF22=\" \",\" \",$BQ$6*HLOOKUP($ND$15,Līmeņatzīmes!$B$6:$AI$7,2,FALSE))","v":" "},{"$f":"IF(NG22=\" \",\" \",$BQ$6*HLOOKUP($ND$15,Līmeņatzīmes!$B$6:$AI$7,2,FALSE))","v":" "},{"$f":"IF(NH22=\" \",\" \",$BQ$6*HLOOKUP($ND$15,Līmeņatzīmes!$B$6:$AI$7,2,FALSE))","v":" "},{"$f":"IF(NI22=\" \",\" \",$BQ$6*HLOOKUP($ND$15,Līmeņatzīmes!$B$6:$AI$7,2,FALSE))","v":" "},{"$f":"IF(NJ22=\" \",\" \",$BQ$6*HLOOKUP($ND$15,Līmeņatzīmes!$B$6:$AI$7,2,FALSE))","v":" "},{"$f":"IF(NK22=\" \",\" \",$BQ$6*HLOOKUP($ND$15,Līmeņatzīmes!$B$6:$AI$7,2,FALSE))","v":" "},{"$f":"IF(NL22=\" \",\" \",$BQ$6*HLOOKUP($ND$15,Līmeņatzīmes!$B$6:$AI$7,2,FALSE))","v":" "},{"$f":"IF(NM22=\" \",\" \",$BQ$6*HLOOKUP($ND$15,Līmeņatzīmes!$B$6:$AI$7,2,FALSE))","v":" "},{"$f":"IF(NN22=\" \",\" \",$BQ$6*HLOOKUP($ND$15,Līmeņatzīmes!$B$6:$AI$7,2,FALSE))","v":" "},{"$f":"IF(NO22=\" \",\" \",$BQ$6*HLOOKUP($ND$15,Līmeņatzīmes!$B$6:$AI$7,2,FALSE))","v":" "},{"$f":"IF(NP22=\" \",\" \",$BQ$6*HLOOKUP($ND$15,Līmeņatzīmes!$B$6:$AI$7,2,FALSE))","v":" "}]
["Ekspluatācijas un pārējās darbības izmaksas","EUR"," ",{"$f":"IF(OR(D$16=\" \",D$16=0),\" \",SUM(E28:P28))","v":" "},{"$f":"IF(E22=\" \",\" \",IF($C$28=\" \",$CD$6*$C$8/12,$C$28*(1+HLOOKUP($D$15,Līmeņatzīmes!$B$3:$AI$4,2,FALSE))))","v":" "},{"$f":"IF(F22=\" \",\" \",IF($C$28=\" \",$CD$6*$C$8/12,$C$28*(1+HLOOKUP($D$15,Līmeņatzīmes!$B$3:$AI$4,2,FALSE))))","v":" "},{"$f":"IF(G22=\" \",\" \",IF($C$28=\" \",$CD$6*$C$8/12,$C$28*(1+HLOOKUP($D$15,Līmeņatzīmes!$B$3:$AI$4,2,FALSE))))","v":" "},{"$f":"IF(H22=\" \",\" \",IF($C$28=\" \",$CD$6*$C$8/12,$C$28*(1+HLOOKUP($D$15,Līmeņatzīmes!$B$3:$AI$4,2,FALSE))))","v":" "},{"$f":"IF(I22=\" \",\" \",IF($C$28=\" \",$CD$6*$C$8/12,$C$28*(1+HLOOKUP($D$15,Līmeņatzīmes!$B$3:$AI$4,2,FALSE))))","v":" "},{"$f":"IF(J22=\" \",\" \",IF($C$28=\" \",$CD$6*$C$8/12,$C$28*(1+HLOOKUP($D$15,Līmeņatzīmes!$B$3:$AI$4,2,FALSE))))","v":" "},{"$f":"IF(K22=\" \",\" \",IF($C$28=\" \",$CD$6*$C$8/12,$C$28*(1+HLOOKUP($D$15,Līmeņatzīmes!$B$3:$AI$4,2,FALSE))))","v":" "},{"$f":"IF(L22=\" \",\" \",IF($C$28=\" \",$CD$6*$C$8/12,$C$28*(1+HLOOKUP($D$15,Līmeņatzīmes!$B$3:$AI$4,2,FALSE))))","v":" "},{"$f":"IF(M22=\" \",\" \",IF($C$28=\" \",$CD$6*$C$8/12,$C$28*(1+HLOOKUP($D$15,Līmeņatzīmes!$B$3:$AI$4,2,FALSE))))","v":" "},{"$f":"IF(N22=\" \",\" \",IF($C$28=\" \",$CD$6*$C$8/12,$C$28*(1+HLOOKUP($D$15,Līmeņatzīmes!$B$3:$AI$4,2,FALSE))))","v":" "},{"$f":"IF(O22=\" \",\" \",IF($C$28=\" \",$CD$6*$C$8/12,$C$28*(1+HLOOKUP($D$15,Līmeņatzīmes!$B$3:$AI$4,2,FALSE))))","v":" "},{"$f":"IF(P22=\" \",\" \",IF($C$28=\" \",$CD$6*$C$8/12,$C$28*(1+HLOOKUP($D$15,Līmeņatzīmes!$B$3:$AI$4,2,FALSE))))","v":" "},{"$f":"IF(OR(Q$16=\" \",Q$16=0),\" \",SUM(R28:AC28))","v":" "},{"$f":"IF(R22=\" \",\" \",IF($P$28=\" \",$CD$6*$C$8/12,$P$28*(1+HLOOKUP($Q$15,Līmeņatzīmes!$B$3:$AI$4,2,FALSE))))","v":" "},{"$f":"IF(S22=\" \",\" \",IF($P$28=\" \",$CD$6*$C$8/12,$P$28*(1+HLOOKUP($Q$15,Līmeņatzīmes!$B$3:$AI$4,2,FALSE))))","v":" "},{"$f":"IF(T22=\" \",\" \",IF($P$28=\" \",$CD$6*$C$8/12,$P$28*(1+HLOOKUP($Q$15,Līmeņatzīmes!$B$3:$AI$4,2,FALSE))))","v":" "},{"$f":"IF(U22=\" \",\" \",IF($P$28=\" \",$CD$6*$C$8/12,$P$28*(1+HLOOKUP($Q$15,Līmeņatzīmes!$B$3:$AI$4,2,FALSE))))","v":" "},{"$f":"IF(V22=\" \",\" \",IF($P$28=\" \",$CD$6*$C$8/12,$P$28*(1+HLOOKUP($Q$15,Līmeņatzīmes!$B$3:$AI$4,2,FALSE))))","v":" "},{"$f":"IF(W22=\" \",\" \",IF($P$28=\" \",$CD$6*$C$8/12,$P$28*(1+HLOOKUP($Q$15,Līmeņatzīmes!$B$3:$AI$4,2,FALSE))))","v":" "},{"$f":"IF(X22=\" \",\" \",IF($P$28=\" \",$CD$6*$C$8/12,$P$28*(1+HLOOKUP($Q$15,Līmeņatzīmes!$B$3:$AI$4,2,FALSE))))","v":" "},{"$f":"IF(Y22=\" \",\" \",IF($P$28=\" \",$CD$6*$C$8/12,$P$28*(1+HLOOKUP($Q$15,Līmeņatzīmes!$B$3:$AI$4,2,FALSE))))","v":" "},{"$f":"IF(Z22=\" \",\" \",IF($P$28=\" \",$CD$6*$C$8/12,$P$28*(1+HLOOKUP($Q$15,Līmeņatzīmes!$B$3:$AI$4,2,FALSE))))","v":" "},{"$f":"IF(AA22=\" \",\" \",IF($P$28=\" \",$CD$6*$C$8/12,$P$28*(1+HLOOKUP($Q$15,Līmeņatzīmes!$B$3:$AI$4,2,FALSE))))","v":" "},{"$f":"IF(AB22=\" \",\" \",IF($P$28=\" \",$CD$6*$C$8/12,$P$28*(1+HLOOKUP($Q$15,Līmeņatzīmes!$B$3:$AI$4,2,FALSE))))","v":" "},{"$f":"IF(AC22=\" \",\" \",IF($P$28=\" \",$CD$6*$C$8/12,$P$28*(1+HLOOKUP($Q$15,Līmeņatzīmes!$B$3:$AI$4,2,FALSE))))","v":" "},{"$f":"IF(OR(AD$16=\" \",AD$16=0),\" \",SUM(AE28:AP28))","v":" "},{"$f":"IF(AE22=\" \",\" \",IF($AC$28=\" \",$CD$6*$C$8/12,$AC$28*(1+HLOOKUP($AD$15,Līmeņatzīmes!$B$3:$AI$4,2,FALSE))))","v":" "},{"$f":"IF(AF22=\" \",\" \",IF($AC$28=\" \",$CD$6*$C$8/12,$AC$28*(1+HLOOKUP($AD$15,Līmeņatzīmes!$B$3:$AI$4,2,FALSE))))","v":" "},{"$f":"IF(AG22=\" \",\" \",IF($AC$28=\" \",$CD$6*$C$8/12,$AC$28*(1+HLOOKUP($AD$15,Līmeņatzīmes!$B$3:$AI$4,2,FALSE))))","v":" "},{"$f":"IF(AH22=\" \",\" \",IF($AC$28=\" \",$CD$6*$C$8/12,$AC$28*(1+HLOOKUP($AD$15,Līmeņatzīmes!$B$3:$AI$4,2,FALSE))))","v":" "},{"$f":"IF(AI22=\" \",\" \",IF($AC$28=\" \",$CD$6*$C$8/12,$AC$28*(1+HLOOKUP($AD$15,Līmeņatzīmes!$B$3:$AI$4,2,FALSE))))","v":" "},{"$f":"IF(AJ22=\" \",\" \",IF($AC$28=\" \",$CD$6*$C$8/12,$AC$28*(1+HLOOKUP($AD$15,Līmeņatzīmes!$B$3:$AI$4,2,FALSE))))","v":" "},{"$f":"IF(AK22=\" \",\" \",IF($AC$28=\" \",$CD$6*$C$8/12,$AC$28*(1+HLOOKUP($AD$15,Līmeņatzīmes!$B$3:$AI$4,2,FALSE))))","v":" "},{"$f":"IF(AL22=\" \",\" \",IF($AC$28=\" \",$CD$6*$C$8/12,$AC$28*(1+HLOOKUP($AD$15,Līmeņatzīmes!$B$3:$AI$4,2,FALSE))))","v":" "},{"$f":"IF(AM22=\" \",\" \",IF($AC$28=\" \",$CD$6*$C$8/12,$AC$28*(1+HLOOKUP($AD$15,Līmeņatzīmes!$B$3:$AI$4,2,FALSE))))","v":" "},{"$f":"IF(AN22=\" \",\" \",IF($AC$28=\" \",$CD$6*$C$8/12,$AC$28*(1+HLOOKUP($AD$15,Līmeņatzīmes!$B$3:$AI$4,2,FALSE))))","v":" "},{"$f":"IF(AO22=\" \",\" \",IF($AC$28=\" \",$CD$6*$C$8/12,$AC$28*(1+HLOOKUP($AD$15,Līmeņatzīmes!$B$3:$AI$4,2,FALSE))))","v":" "},{"$f":"IF(AP22=\" \",\" \",IF($AC$28=\" \",$CD$6*$C$8/12,$AC$28*(1+HLOOKUP($AD$15,Līmeņatzīmes!$B$3:$AI$4,2,FALSE))))","v":" "},{"$f":"IF(OR(AQ$16=\" \",AQ$16=0),\" \",SUM(AR28:BC28))","v":" "},{"$f":"IF(AR22=\" \",\" \",IF($AP$28=\" \",$CD$6*$C$8/12,$AP$28*(1+HLOOKUP($AQ$15,Līmeņatzīmes!$B$3:$AI$4,2,FALSE))))","v":" "},{"$f":"IF(AS22=\" \",\" \",IF($AP$28=\" \",$CD$6*$C$8/12,$AP$28*(1+HLOOKUP($AQ$15,Līmeņatzīmes!$B$3:$AI$4,2,FALSE))))","v":" "},{"$f":"IF(AT22=\" \",\" \",IF($AP$28=\" \",$CD$6*$C$8/12,$AP$28*(1+HLOOKUP($AQ$15,Līmeņatzīmes!$B$3:$AI$4,2,FALSE))))","v":" "},{"$f":"IF(AU22=\" \",\" \",IF($AP$28=\" \",$CD$6*$C$8/12,$AP$28*(1+HLOOKUP($AQ$15,Līmeņatzīmes!$B$3:$AI$4,2,FALSE))))","v":" "},{"$f":"IF(AV22=\" \",\" \",IF($AP$28=\" \",$CD$6*$C$8/12,$AP$28*(1+HLOOKUP($AQ$15,Līmeņatzīmes!$B$3:$AI$4,2,FALSE))))","v":" "},{"$f":"IF(AW22=\" \",\" \",IF($AP$28=\" \",$CD$6*$C$8/12,$AP$28*(1+HLOOKUP($AQ$15,Līmeņatzīmes!$B$3:$AI$4,2,FALSE))))","v":" "},{"$f":"IF(AX22=\" \",\" \",IF($AP$28=\" \",$CD$6*$C$8/12,$AP$28*(1+HLOOKUP($AQ$15,Līmeņatzīmes!$B$3:$AI$4,2,FALSE))))","v":" "},{"$f":"IF(AY22=\" \",\" \",IF($AP$28=\" \",$CD$6*$C$8/12,$AP$28*(1+HLOOKUP($AQ$15,Līmeņatzīmes!$B$3:$AI$4,2,FALSE))))","v":" "},{"$f":"IF(AZ22=\" \",\" \",IF($AP$28=\" \",$CD$6*$C$8/12,$AP$28*(1+HLOOKUP($AQ$15,Līmeņatzīmes!$B$3:$AI$4,2,FALSE))))","v":" "},{"$f":"IF(BA22=\" \",\" \",IF($AP$28=\" \",$CD$6*$C$8/12,$AP$28*(1+HLOOKUP($AQ$15,Līmeņatzīmes!$B$3:$AI$4,2,FALSE))))","v":" "},{"$f":"IF(BB22=\" \",\" \",IF($AP$28=\" \",$CD$6*$C$8/12,$AP$28*(1+HLOOKUP($AQ$15,Līmeņatzīmes!$B$3:$AI$4,2,FALSE))))","v":" "},{"$f":"IF(BC22=\" \",\" \",IF($AP$28=\" \",$CD$6*$C$8/12,$AP$28*(1+HLOOKUP($AQ$15,Līmeņatzīmes!$B$3:$AI$4,2,FALSE))))","v":" "},{"$f":"IF(OR(BD$16=\" \",BD$16=0),\" \",SUM(BE28:BP28))","v":" "},{"$f":"IF(BE22=\" \",\" \",IF($BC$28=\" \",$CD$6*$C$8/12,$BC$28*(1+HLOOKUP($BD$15,Līmeņatzīmes!$B$3:$AI$4,2,FALSE))))","v":" "},{"$f":"IF(BF22=\" \",\" \",IF($BC$28=\" \",$CD$6*$C$8/12,$BC$28*(1+HLOOKUP($BD$15,Līmeņatzīmes!$B$3:$AI$4,2,FALSE))))","v":" "},{"$f":"IF(BG22=\" \",\" \",IF($BC$28=\" \",$CD$6*$C$8/12,$BC$28*(1+HLOOKUP($BD$15,Līmeņatzīmes!$B$3:$AI$4,2,FALSE))))","v":" "},{"$f":"IF(BH22=\" \",\" \",IF($BC$28=\" \",$CD$6*$C$8/12,$BC$28*(1+HLOOKUP($BD$15,Līmeņatzīmes!$B$3:$AI$4,2,FALSE))))","v":" "},{"$f":"IF(BI22=\" \",\" \",IF($BC$28=\" \",$CD$6*$C$8/12,$BC$28*(1+HLOOKUP($BD$15,Līmeņatzīmes!$B$3:$AI$4,2,FALSE))))","v":" "},{"$f":"IF(BJ22=\" \",\" \",IF($BC$28=\" \",$CD$6*$C$8/12,$BC$28*(1+HLOOKUP($BD$15,Līmeņatzīmes!$B$3:$AI$4,2,FALSE))))","v":" "},{"$f":"IF(BK22=\" \",\" \",IF($BC$28=\" \",$CD$6*$C$8/12,$BC$28*(1+HLOOKUP($BD$15,Līmeņatzīmes!$B$3:$AI$4,2,FALSE))))","v":" "},{"$f":"IF(BL22=\" \",\" \",IF($BC$28=\" \",$CD$6*$C$8/12,$BC$28*(1+HLOOKUP($BD$15,Līmeņatzīmes!$B$3:$AI$4,2,FALSE))))","v":" "},{"$f":"IF(BM22=\" \",\" \",IF($BC$28=\" \",$CD$6*$C$8/12,$BC$28*(1+HLOOKUP($BD$15,Līmeņatzīmes!$B$3:$AI$4,2,FALSE))))","v":" "},{"$f":"IF(BN22=\" \",\" \",IF($BC$28=\" \",$CD$6*$C$8/12,$BC$28*(1+HLOOKUP($BD$15,Līmeņatzīmes!$B$3:$AI$4,2,FALSE))))","v":" "},{"$f":"IF(BO22=\" \",\" \",IF($BC$28=\" \",$CD$6*$C$8/12,$BC$28*(1+HLOOKUP($BD$15,Līmeņatzīmes!$B$3:$AI$4,2,FALSE))))","v":" "},{"$f":"IF(BP22=\" \",\" \",IF($BC$28=\" \",$CD$6*$C$8/12,$BC$28*(1+HLOOKUP($BD$15,Līmeņatzīmes!$B$3:$AI$4,2,FALSE))))","v":" "},{"$f":"IF(OR(BQ$16=\" \",BQ$16=0),\" \",SUM(BR28:CC28))","v":" "},{"$f":"IF(BR22=\" \",\" \",IF($BP$28=\" \",$CD$6*$C$8/12,$BP$28*(1+HLOOKUP($BQ$15,Līmeņatzīmes!$B$3:$AI$4,2,FALSE))))","v":" "},{"$f":"IF(BS22=\" \",\" \",IF($BP$28=\" \",$CD$6*$C$8/12,$BP$28*(1+HLOOKUP($BQ$15,Līmeņatzīmes!$B$3:$AI$4,2,FALSE))))","v":" "},{"$f":"IF(BT22=\" \",\" \",IF($BP$28=\" \",$CD$6*$C$8/12,$BP$28*(1+HLOOKUP($BQ$15,Līmeņatzīmes!$B$3:$AI$4,2,FALSE))))","v":" "},{"$f":"IF(BU22=\" \",\" \",IF($BP$28=\" \",$CD$6*$C$8/12,$BP$28*(1+HLOOKUP($BQ$15,Līmeņatzīmes!$B$3:$AI$4,2,FALSE))))","v":" "},{"$f":"IF(BV22=\" \",\" \",IF($BP$28=\" \",$CD$6*$C$8/12,$BP$28*(1+HLOOKUP($BQ$15,Līmeņatzīmes!$B$3:$AI$4,2,FALSE))))","v":" "},{"$f":"IF(BW22=\" \",\" \",IF($BP$28=\" \",$CD$6*$C$8/12,$BP$28*(1+HLOOKUP($BQ$15,Līmeņatzīmes!$B$3:$AI$4,2,FALSE))))","v":" "},{"$f":"IF(BX22=\" \",\" \",IF($BP$28=\" \",$CD$6*$C$8/12,$BP$28*(1+HLOOKUP($BQ$15,Līmeņatzīmes!$B$3:$AI$4,2,FALSE))))","v":" "},{"$f":"IF(BY22=\" \",\" \",IF($BP$28=\" \",$CD$6*$C$8/12,$BP$28*(1+HLOOKUP($BQ$15,Līmeņatzīmes!$B$3:$AI$4,2,FALSE))))","v":" "},{"$f":"IF(BZ22=\" \",\" \",IF($BP$28=\" \",$CD$6*$C$8/12,$BP$28*(1+HLOOKUP($BQ$15,Līmeņatzīmes!$B$3:$AI$4,2,FALSE))))","v":" "},{"$f":"IF(CA22=\" \",\" \",IF($BP$28=\" \",$CD$6*$C$8/12,$BP$28*(1+HLOOKUP($BQ$15,Līmeņatzīmes!$B$3:$AI$4,2,FALSE))))","v":" "},{"$f":"IF(CB22=\" \",\" \",IF($BP$28=\" \",$CD$6*$C$8/12,$BP$28*(1+HLOOKUP($BQ$15,Līmeņatzīmes!$B$3:$AI$4,2,FALSE))))","v":" "},{"$f":"IF(CC22=\" \",\" \",IF($BP$28=\" \",$CD$6*$C$8/12,$BP$28*(1+HLOOKUP($BQ$15,Līmeņatzīmes!$B$3:$AI$4,2,FALSE))))","v":" "},{"$f":"IF(OR(CD$16=\" \",CD$16=0),\" \",SUM(CE28:CP28))","v":" "},{"$f":"IF(CE22=\" \",\" \",IF($CC$28=\" \",$CD$6*$C$8/12,$CC$28*(1+HLOOKUP($CD$15,Līmeņatzīmes!$B$3:$AI$4,2,FALSE))))","v":" "},{"$f":"IF(CF22=\" \",\" \",IF($CC$28=\" \",$CD$6*$C$8/12,$CC$28*(1+HLOOKUP($CD$15,Līmeņatzīmes!$B$3:$AI$4,2,FALSE))))","v":" "},{"$f":"IF(CG22=\" \",\" \",IF($CC$28=\" \",$CD$6*$C$8/12,$CC$28*(1+HLOOKUP($CD$15,Līmeņatzīmes!$B$3:$AI$4,2,FALSE))))","v":" "},{"$f":"IF(CH22=\" \",\" \",IF($CC$28=\" \",$CD$6*$C$8/12,$CC$28*(1+HLOOKUP($CD$15,Līmeņatzīmes!$B$3:$AI$4,2,FALSE))))","v":" "},{"$f":"IF(CI22=\" \",\" \",IF($CC$28=\" \",$CD$6*$C$8/12,$CC$28*(1+HLOOKUP($CD$15,Līmeņatzīmes!$B$3:$AI$4,2,FALSE))))","v":" "},{"$f":"IF(CJ22=\" \",\" \",IF($CC$28=\" \",$CD$6*$C$8/12,$CC$28*(1+HLOOKUP($CD$15,Līmeņatzīmes!$B$3:$AI$4,2,FALSE))))","v":" "},{"$f":"IF(CK22=\" \",\" \",IF($CC$28=\" \",$CD$6*$C$8/12,$CC$28*(1+HLOOKUP($CD$15,Līmeņatzīmes!$B$3:$AI$4,2,FALSE))))","v":" "},{"$f":"IF(CL22=\" \",\" \",IF($CC$28=\" \",$CD$6*$C$8/12,$CC$28*(1+HLOOKUP($CD$15,Līmeņatzīmes!$B$3:$AI$4,2,FALSE))))","v":" "},{"$f":"IF(CM22=\" \",\" \",IF($CC$28=\" \",$CD$6*$C$8/12,$CC$28*(1+HLOOKUP($CD$15,Līmeņatzīmes!$B$3:$AI$4,2,FALSE))))","v":" "},{"$f":"IF(CN22=\" \",\" \",IF($CC$28=\" \",$CD$6*$C$8/12,$CC$28*(1+HLOOKUP($CD$15,Līmeņatzīmes!$B$3:$AI$4,2,FALSE))))","v":" "},{"$f":"IF(CO22=\" \",\" \",IF($CC$28=\" \",$CD$6*$C$8/12,$CC$28*(1+HLOOKUP($CD$15,Līmeņatzīmes!$B$3:$AI$4,2,FALSE))))","v":" "},{"$f":"IF(CP22=\" \",\" \",IF($CC$28=\" \",$CD$6*$C$8/12,$CC$28*(1+HLOOKUP($CD$15,Līmeņatzīmes!$B$3:$AI$4,2,FALSE))))","v":" "},{"$f":"IF(OR(CQ$16=\" \",CQ$16=0),\" \",SUM(CR28:DC28))","v":" "},{"$f":"IF(CR22=\" \",\" \",IF($CP$28=\" \",$CD$6*$C$8/12,$CP$28*(1+HLOOKUP($CQ$15,Līmeņatzīmes!$B$3:$AI$4,2,FALSE))))","v":" "},{"$f":"IF(CS22=\" \",\" \",IF($CP$28=\" \",$CD$6*$C$8/12,$CP$28*(1+HLOOKUP($CQ$15,Līmeņatzīmes!$B$3:$AI$4,2,FALSE))))","v":" "},{"$f":"IF(CT22=\" \",\" \",IF($CP$28=\" \",$CD$6*$C$8/12,$CP$28*(1+HLOOKUP($CQ$15,Līmeņatzīmes!$B$3:$AI$4,2,FALSE))))","v":" "},{"$f":"IF(CU22=\" \",\" \",IF($CP$28=\" \",$CD$6*$C$8/12,$CP$28*(1+HLOOKUP($CQ$15,Līmeņatzīmes!$B$3:$AI$4,2,FALSE))))","v":" "},{"$f":"IF(CV22=\" \",\" \",IF($CP$28=\" \",$CD$6*$C$8/12,$CP$28*(1+HLOOKUP($CQ$15,Līmeņatzīmes!$B$3:$AI$4,2,FALSE))))","v":" "},{"$f":"IF(CW22=\" \",\" \",IF($CP$28=\" \",$CD$6*$C$8/12,$CP$28*(1+HLOOKUP($CQ$15,Līmeņatzīmes!$B$3:$AI$4,2,FALSE))))","v":" "},{"$f":"IF(CX22=\" \",\" \",IF($CP$28=\" \",$CD$6*$C$8/12,$CP$28*(1+HLOOKUP($CQ$15,Līmeņatzīmes!$B$3:$AI$4,2,FALSE))))","v":" "},{"$f":"IF(CY22=\" \",\" \",IF($CP$28=\" \",$CD$6*$C$8/12,$CP$28*(1+HLOOKUP($CQ$15,Līmeņatzīmes!$B$3:$AI$4,2,FALSE))))","v":" "},{"$f":"IF(CZ22=\" \",\" \",IF($CP$28=\" \",$CD$6*$C$8/12,$CP$28*(1+HLOOKUP($CQ$15,Līmeņatzīmes!$B$3:$AI$4,2,FALSE))))","v":" "},{"$f":"IF(DA22=\" \",\" \",IF($CP$28=\" \",$CD$6*$C$8/12,$CP$28*(1+HLOOKUP($CQ$15,Līmeņatzīmes!$B$3:$AI$4,2,FALSE))))","v":" "},{"$f":"IF(DB22=\" \",\" \",IF($CP$28=\" \",$CD$6*$C$8/12,$CP$28*(1+HLOOKUP($CQ$15,Līmeņatzīmes!$B$3:$AI$4,2,FALSE))))","v":" "},{"$f":"IF(DC22=\" \",\" \",IF($CP$28=\" \",$CD$6*$C$8/12,$CP$28*(1+HLOOKUP($CQ$15,Līmeņatzīmes!$B$3:$AI$4,2,FALSE))))","v":" "},{"$f":"IF(OR(DD$16=\" \",DD$16=0),\" \",SUM(DE28:DP28))","v":" "},{"$f":"IF(DE22=\" \",\" \",IF($DC$28=\" \",$CD$6*$C$8/12,$DC$28*(1+HLOOKUP($DD$15,Līmeņatzīmes!$B$3:$AI$4,2,FALSE))))","v":" "},{"$f":"IF(DF22=\" \",\" \",IF($DC$28=\" \",$CD$6*$C$8/12,$DC$28*(1+HLOOKUP($DD$15,Līmeņatzīmes!$B$3:$AI$4,2,FALSE))))","v":" "},{"$f":"IF(DG22=\" \",\" \",IF($DC$28=\" \",$CD$6*$C$8/12,$DC$28*(1+HLOOKUP($DD$15,Līmeņatzīmes!$B$3:$AI$4,2,FALSE))))","v":" "},{"$f":"IF(DH22=\" \",\" \",IF($DC$28=\" \",$CD$6*$C$8/12,$DC$28*(1+HLOOKUP($DD$15,Līmeņatzīmes!$B$3:$AI$4,2,FALSE))))","v":" "},{"$f":"IF(DI22=\" \",\" \",IF($DC$28=\" \",$CD$6*$C$8/12,$DC$28*(1+HLOOKUP($DD$15,Līmeņatzīmes!$B$3:$AI$4,2,FALSE))))","v":" "},{"$f":"IF(DJ22=\" \",\" \",IF($DC$28=\" \",$CD$6*$C$8/12,$DC$28*(1+HLOOKUP($DD$15,Līmeņatzīmes!$B$3:$AI$4,2,FALSE))))","v":" "},{"$f":"IF(DK22=\" \",\" \",IF($DC$28=\" \",$CD$6*$C$8/12,$DC$28*(1+HLOOKUP($DD$15,Līmeņatzīmes!$B$3:$AI$4,2,FALSE))))","v":" "},{"$f":"IF(DL22=\" \",\" \",IF($DC$28=\" \",$CD$6*$C$8/12,$DC$28*(1+HLOOKUP($DD$15,Līmeņatzīmes!$B$3:$AI$4,2,FALSE))))","v":" "},{"$f":"IF(DM22=\" \",\" \",IF($DC$28=\" \",$CD$6*$C$8/12,$DC$28*(1+HLOOKUP($DD$15,Līmeņatzīmes!$B$3:$AI$4,2,FALSE))))","v":" "},{"$f":"IF(DN22=\" \",\" \",IF($DC$28=\" \",$CD$6*$C$8/12,$DC$28*(1+HLOOKUP($DD$15,Līmeņatzīmes!$B$3:$AI$4,2,FALSE))))","v":" "},{"$f":"IF(DO22=\" \",\" \",IF($DC$28=\" \",$CD$6*$C$8/12,$DC$28*(1+HLOOKUP($DD$15,Līmeņatzīmes!$B$3:$AI$4,2,FALSE))))","v":" "},{"$f":"IF(DP22=\" \",\" \",IF($DC$28=\" \",$CD$6*$C$8/12,$DC$28*(1+HLOOKUP($DD$15,Līmeņatzīmes!$B$3:$AI$4,2,FALSE))))","v":" "},{"$f":"IF(OR(DQ$16=\" \",DQ$16=0),\" \",SUM(DR28:EC28))","v":" "},{"$f":"IF(DR22=\" \",\" \",IF($DP$28=\" \",$CD$6*$C$8/12,$DP$28*(1+HLOOKUP($DQ$15,Līmeņatzīmes!$B$3:$AI$4,2,FALSE))))","v":" "},{"$f":"IF(DS22=\" \",\" \",IF($DP$28=\" \",$CD$6*$C$8/12,$DP$28*(1+HLOOKUP($DQ$15,Līmeņatzīmes!$B$3:$AI$4,2,FALSE))))","v":" "},{"$f":"IF(DT22=\" \",\" \",IF($DP$28=\" \",$CD$6*$C$8/12,$DP$28*(1+HLOOKUP($DQ$15,Līmeņatzīmes!$B$3:$AI$4,2,FALSE))))","v":" "},{"$f":"IF(DU22=\" \",\" \",IF($DP$28=\" \",$CD$6*$C$8/12,$DP$28*(1+HLOOKUP($DQ$15,Līmeņatzīmes!$B$3:$AI$4,2,FALSE))))","v":" "},{"$f":"IF(DV22=\" \",\" \",IF($DP$28=\" \",$CD$6*$C$8/12,$DP$28*(1+HLOOKUP($DQ$15,Līmeņatzīmes!$B$3:$AI$4,2,FALSE))))","v":" "},{"$f":"IF(DW22=\" \",\" \",IF($DP$28=\" \",$CD$6*$C$8/12,$DP$28*(1+HLOOKUP($DQ$15,Līmeņatzīmes!$B$3:$AI$4,2,FALSE))))","v":" "},{"$f":"IF(DX22=\" \",\" \",IF($DP$28=\" \",$CD$6*$C$8/12,$DP$28*(1+HLOOKUP($DQ$15,Līmeņatzīmes!$B$3:$AI$4,2,FALSE))))","v":" "},{"$f":"IF(DY22=\" \",\" \",IF($DP$28=\" \",$CD$6*$C$8/12,$DP$28*(1+HLOOKUP($DQ$15,Līmeņatzīmes!$B$3:$AI$4,2,FALSE))))","v":" "},{"$f":"IF(DZ22=\" \",\" \",IF($DP$28=\" \",$CD$6*$C$8/12,$DP$28*(1+HLOOKUP($DQ$15,Līmeņatzīmes!$B$3:$AI$4,2,FALSE))))","v":" "},{"$f":"IF(EA22=\" \",\" \",IF($DP$28=\" \",$CD$6*$C$8/12,$DP$28*(1+HLOOKUP($DQ$15,Līmeņatzīmes!$B$3:$AI$4,2,FALSE))))","v":" "},{"$f":"IF(EB22=\" \",\" \",IF($DP$28=\" \",$CD$6*$C$8/12,$DP$28*(1+HLOOKUP($DQ$15,Līmeņatzīmes!$B$3:$AI$4,2,FALSE))))","v":" "},{"$f":"IF(EC22=\" \",\" \",IF($DP$28=\" \",$CD$6*$C$8/12,$DP$28*(1+HLOOKUP($DQ$15,Līmeņatzīmes!$B$3:$AI$4,2,FALSE))))","v":" "},{"$f":"IF(OR(ED$16=\" \",ED$16=0),\" \",SUM(EE28:EP28))","v":" "},{"$f":"IF(EE22=\" \",\" \",IF($EC$28=\" \",$CD$6*$C$8/12,$EC$28*(1+HLOOKUP($ED$15,Līmeņatzīmes!$B$3:$AI$4,2,FALSE))))","v":" "},{"$f":"IF(EF22=\" \",\" \",IF($EC$28=\" \",$CD$6*$C$8/12,$EC$28*(1+HLOOKUP($ED$15,Līmeņatzīmes!$B$3:$AI$4,2,FALSE))))","v":" "},{"$f":"IF(EG22=\" \",\" \",IF($EC$28=\" \",$CD$6*$C$8/12,$EC$28*(1+HLOOKUP($ED$15,Līmeņatzīmes!$B$3:$AI$4,2,FALSE))))","v":" "},{"$f":"IF(EH22=\" \",\" \",IF($EC$28=\" \",$CD$6*$C$8/12,$EC$28*(1+HLOOKUP($ED$15,Līmeņatzīmes!$B$3:$AI$4,2,FALSE))))","v":" "},{"$f":"IF(EI22=\" \",\" \",IF($EC$28=\" \",$CD$6*$C$8/12,$EC$28*(1+HLOOKUP($ED$15,Līmeņatzīmes!$B$3:$AI$4,2,FALSE))))","v":" "},{"$f":"IF(EJ22=\" \",\" \",IF($EC$28=\" \",$CD$6*$C$8/12,$EC$28*(1+HLOOKUP($ED$15,Līmeņatzīmes!$B$3:$AI$4,2,FALSE))))","v":" "},{"$f":"IF(EK22=\" \",\" \",IF($EC$28=\" \",$CD$6*$C$8/12,$EC$28*(1+HLOOKUP($ED$15,Līmeņatzīmes!$B$3:$AI$4,2,FALSE))))","v":" "},{"$f":"IF(EL22=\" \",\" \",IF($EC$28=\" \",$CD$6*$C$8/12,$EC$28*(1+HLOOKUP($ED$15,Līmeņatzīmes!$B$3:$AI$4,2,FALSE))))","v":" "},{"$f":"IF(EM22=\" \",\" \",IF($EC$28=\" \",$CD$6*$C$8/12,$EC$28*(1+HLOOKUP($ED$15,Līmeņatzīmes!$B$3:$AI$4,2,FALSE))))","v":" "},{"$f":"IF(EN22=\" \",\" \",IF($EC$28=\" \",$CD$6*$C$8/12,$EC$28*(1+HLOOKUP($ED$15,Līmeņatzīmes!$B$3:$AI$4,2,FALSE))))","v":" "},{"$f":"IF(EO22=\" \",\" \",IF($EC$28=\" \",$CD$6*$C$8/12,$EC$28*(1+HLOOKUP($ED$15,Līmeņatzīmes!$B$3:$AI$4,2,FALSE))))","v":" "},{"$f":"IF(EP22=\" \",\" \",IF($EC$28=\" \",$CD$6*$C$8/12,$EC$28*(1+HLOOKUP($ED$15,Līmeņatzīmes!$B$3:$AI$4,2,FALSE))))","v":" "},{"$f":"IF(OR(EQ$16=\" \",EQ$16=0),\" \",SUM(ER28:FC28))","v":" "},{"$f":"IF(ER22=\" \",\" \",IF($EP$28=\" \",$CD$6*$C$8/12,$EP$28*(1+HLOOKUP($EQ$15,Līmeņatzīmes!$B$3:$AI$4,2,FALSE))))","v":" "},{"$f":"IF(ES22=\" \",\" \",IF($EP$28=\" \",$CD$6*$C$8/12,$EP$28*(1+HLOOKUP($EQ$15,Līmeņatzīmes!$B$3:$AI$4,2,FALSE))))","v":" "},{"$f":"IF(ET22=\" \",\" \",IF($EP$28=\" \",$CD$6*$C$8/12,$EP$28*(1+HLOOKUP($EQ$15,Līmeņatzīmes!$B$3:$AI$4,2,FALSE))))","v":" "},{"$f":"IF(EU22=\" \",\" \",IF($EP$28=\" \",$CD$6*$C$8/12,$EP$28*(1+HLOOKUP($EQ$15,Līmeņatzīmes!$B$3:$AI$4,2,FALSE))))","v":" "},{"$f":"IF(EV22=\" \",\" \",IF($EP$28=\" \",$CD$6*$C$8/12,$EP$28*(1+HLOOKUP($EQ$15,Līmeņatzīmes!$B$3:$AI$4,2,FALSE))))","v":" "},{"$f":"IF(EW22=\" \",\" \",IF($EP$28=\" \",$CD$6*$C$8/12,$EP$28*(1+HLOOKUP($EQ$15,Līmeņatzīmes!$B$3:$AI$4,2,FALSE))))","v":" "},{"$f":"IF(EX22=\" \",\" \",IF($EP$28=\" \",$CD$6*$C$8/12,$EP$28*(1+HLOOKUP($EQ$15,Līmeņatzīmes!$B$3:$AI$4,2,FALSE))))","v":" "},{"$f":"IF(EY22=\" \",\" \",IF($EP$28=\" \",$CD$6*$C$8/12,$EP$28*(1+HLOOKUP($EQ$15,Līmeņatzīmes!$B$3:$AI$4,2,FALSE))))","v":" "},{"$f":"IF(EZ22=\" \",\" \",IF($EP$28=\" \",$CD$6*$C$8/12,$EP$28*(1+HLOOKUP($EQ$15,Līmeņatzīmes!$B$3:$AI$4,2,FALSE))))","v":" "},{"$f":"IF(FA22=\" \",\" \",IF($EP$28=\" \",$CD$6*$C$8/12,$EP$28*(1+HLOOKUP($EQ$15,Līmeņatzīmes!$B$3:$AI$4,2,FALSE))))","v":" "},{"$f":"IF(FB22=\" \",\" \",IF($EP$28=\" \",$CD$6*$C$8/12,$EP$28*(1+HLOOKUP($EQ$15,Līmeņatzīmes!$B$3:$AI$4,2,FALSE))))","v":" "},{"$f":"IF(FC22=\" \",\" \",IF($EP$28=\" \",$CD$6*$C$8/12,$EP$28*(1+HLOOKUP($EQ$15,Līmeņatzīmes!$B$3:$AI$4,2,FALSE))))","v":" "},{"$f":"IF(OR(FD$16=\" \",FD$16=0),\" \",SUM(FE28:FP28))","v":" "},{"$f":"IF(FE22=\" \",\" \",IF($FC$28=\" \",$CD$6*$C$8/12,$FC$28*(1+HLOOKUP($FD$15,Līmeņatzīmes!$B$3:$AI$4,2,FALSE))))","v":" "},{"$f":"IF(FF22=\" \",\" \",IF($FC$28=\" \",$CD$6*$C$8/12,$FC$28*(1+HLOOKUP($FD$15,Līmeņatzīmes!$B$3:$AI$4,2,FALSE))))","v":" "},{"$f":"IF(FG22=\" \",\" \",IF($FC$28=\" \",$CD$6*$C$8/12,$FC$28*(1+HLOOKUP($FD$15,Līmeņatzīmes!$B$3:$AI$4,2,FALSE))))","v":" "},{"$f":"IF(FH22=\" \",\" \",IF($FC$28=\" \",$CD$6*$C$8/12,$FC$28*(1+HLOOKUP($FD$15,Līmeņatzīmes!$B$3:$AI$4,2,FALSE))))","v":" "},{"$f":"IF(FI22=\" \",\" \",IF($FC$28=\" \",$CD$6*$C$8/12,$FC$28*(1+HLOOKUP($FD$15,Līmeņatzīmes!$B$3:$AI$4,2,FALSE))))","v":" "},{"$f":"IF(FJ22=\" \",\" \",IF($FC$28=\" \",$CD$6*$C$8/12,$FC$28*(1+HLOOKUP($FD$15,Līmeņatzīmes!$B$3:$AI$4,2,FALSE))))","v":" "},{"$f":"IF(FK22=\" \",\" \",IF($FC$28=\" \",$CD$6*$C$8/12,$FC$28*(1+HLOOKUP($FD$15,Līmeņatzīmes!$B$3:$AI$4,2,FALSE))))","v":" "},{"$f":"IF(FL22=\" \",\" \",IF($FC$28=\" \",$CD$6*$C$8/12,$FC$28*(1+HLOOKUP($FD$15,Līmeņatzīmes!$B$3:$AI$4,2,FALSE))))","v":" "},{"$f":"IF(FM22=\" \",\" \",IF($FC$28=\" \",$CD$6*$C$8/12,$FC$28*(1+HLOOKUP($FD$15,Līmeņatzīmes!$B$3:$AI$4,2,FALSE))))","v":" "},{"$f":"IF(FN22=\" \",\" \",IF($FC$28=\" \",$CD$6*$C$8/12,$FC$28*(1+HLOOKUP($FD$15,Līmeņatzīmes!$B$3:$AI$4,2,FALSE))))","v":" "},{"$f":"IF(FO22=\" \",\" \",IF($FC$28=\" \",$CD$6*$C$8/12,$FC$28*(1+HLOOKUP($FD$15,Līmeņatzīmes!$B$3:$AI$4,2,FALSE))))","v":" "},{"$f":"IF(FP22=\" \",\" \",IF($FC$28=\" \",$CD$6*$C$8/12,$FC$28*(1+HLOOKUP($FD$15,Līmeņatzīmes!$B$3:$AI$4,2,FALSE))))","v":" "},{"$f":"IF(OR(FQ$16=\" \",FQ$16=0),\" \",SUM(FR28:GC28))","v":" "},{"$f":"IF(FR22=\" \",\" \",IF($FP$28=\" \",$CD$6*$C$8/12,$FP$28*(1+HLOOKUP($FQ$15,Līmeņatzīmes!$B$3:$AI$4,2,FALSE))))","v":" "},{"$f":"IF(FS22=\" \",\" \",IF($FP$28=\" \",$CD$6*$C$8/12,$FP$28*(1+HLOOKUP($FQ$15,Līmeņatzīmes!$B$3:$AI$4,2,FALSE))))","v":" "},{"$f":"IF(FT22=\" \",\" \",IF($FP$28=\" \",$CD$6*$C$8/12,$FP$28*(1+HLOOKUP($FQ$15,Līmeņatzīmes!$B$3:$AI$4,2,FALSE))))","v":" "},{"$f":"IF(FU22=\" \",\" \",IF($FP$28=\" \",$CD$6*$C$8/12,$FP$28*(1+HLOOKUP($FQ$15,Līmeņatzīmes!$B$3:$AI$4,2,FALSE))))","v":" "},{"$f":"IF(FV22=\" \",\" \",IF($FP$28=\" \",$CD$6*$C$8/12,$FP$28*(1+HLOOKUP($FQ$15,Līmeņatzīmes!$B$3:$AI$4,2,FALSE))))","v":" "},{"$f":"IF(FW22=\" \",\" \",IF($FP$28=\" \",$CD$6*$C$8/12,$FP$28*(1+HLOOKUP($FQ$15,Līmeņatzīmes!$B$3:$AI$4,2,FALSE))))","v":" "},{"$f":"IF(FX22=\" \",\" \",IF($FP$28=\" \",$CD$6*$C$8/12,$FP$28*(1+HLOOKUP($FQ$15,Līmeņatzīmes!$B$3:$AI$4,2,FALSE))))","v":" "},{"$f":"IF(FY22=\" \",\" \",IF($FP$28=\" \",$CD$6*$C$8/12,$FP$28*(1+HLOOKUP($FQ$15,Līmeņatzīmes!$B$3:$AI$4,2,FALSE))))","v":" "},{"$f":"IF(FZ22=\" \",\" \",IF($FP$28=\" \",$CD$6*$C$8/12,$FP$28*(1+HLOOKUP($FQ$15,Līmeņatzīmes!$B$3:$AI$4,2,FALSE))))","v":" "},{"$f":"IF(GA22=\" \",\" \",IF($FP$28=\" \",$CD$6*$C$8/12,$FP$28*(1+HLOOKUP($FQ$15,Līmeņatzīmes!$B$3:$AI$4,2,FALSE))))","v":" "},{"$f":"IF(GB22=\" \",\" \",IF($FP$28=\" \",$CD$6*$C$8/12,$FP$28*(1+HLOOKUP($FQ$15,Līmeņatzīmes!$B$3:$AI$4,2,FALSE))))","v":" "},{"$f":"IF(GC22=\" \",\" \",IF($FP$28=\" \",$CD$6*$C$8/12,$FP$28*(1+HLOOKUP($FQ$15,Līmeņatzīmes!$B$3:$AI$4,2,FALSE))))","v":" "},{"$f":"IF(OR(GD$16=\" \",GD$16=0),\" \",SUM(GE28:GP28))","v":" "},{"$f":"IF(GE22=\" \",\" \",IF($GC$28=\" \",$CD$6*$C$8/12,$GC$28*(1+HLOOKUP($GD$15,Līmeņatzīmes!$B$3:$AI$4,2,FALSE))))","v":" "},{"$f":"IF(GF22=\" \",\" \",IF($GC$28=\" \",$CD$6*$C$8/12,$GC$28*(1+HLOOKUP($GD$15,Līmeņatzīmes!$B$3:$AI$4,2,FALSE))))","v":" "},{"$f":"IF(GG22=\" \",\" \",IF($GC$28=\" \",$CD$6*$C$8/12,$GC$28*(1+HLOOKUP($GD$15,Līmeņatzīmes!$B$3:$AI$4,2,FALSE))))","v":" "},{"$f":"IF(GH22=\" \",\" \",IF($GC$28=\" \",$CD$6*$C$8/12,$GC$28*(1+HLOOKUP($GD$15,Līmeņatzīmes!$B$3:$AI$4,2,FALSE))))","v":" "},{"$f":"IF(GI22=\" \",\" \",IF($GC$28=\" \",$CD$6*$C$8/12,$GC$28*(1+HLOOKUP($GD$15,Līmeņatzīmes!$B$3:$AI$4,2,FALSE))))","v":" "},{"$f":"IF(GJ22=\" \",\" \",IF($GC$28=\" \",$CD$6*$C$8/12,$GC$28*(1+HLOOKUP($GD$15,Līmeņatzīmes!$B$3:$AI$4,2,FALSE))))","v":" "},{"$f":"IF(GK22=\" \",\" \",IF($GC$28=\" \",$CD$6*$C$8/12,$GC$28*(1+HLOOKUP($GD$15,Līmeņatzīmes!$B$3:$AI$4,2,FALSE))))","v":" "},{"$f":"IF(GL22=\" \",\" \",IF($GC$28=\" \",$CD$6*$C$8/12,$GC$28*(1+HLOOKUP($GD$15,Līmeņatzīmes!$B$3:$AI$4,2,FALSE))))","v":" "},{"$f":"IF(GM22=\" \",\" \",IF($GC$28=\" \",$CD$6*$C$8/12,$GC$28*(1+HLOOKUP($GD$15,Līmeņatzīmes!$B$3:$AI$4,2,FALSE))))","v":" "},{"$f":"IF(GN22=\" \",\" \",IF($GC$28=\" \",$CD$6*$C$8/12,$GC$28*(1+HLOOKUP($GD$15,Līmeņatzīmes!$B$3:$AI$4,2,FALSE))))","v":" "},{"$f":"IF(GO22=\" \",\" \",IF($GC$28=\" \",$CD$6*$C$8/12,$GC$28*(1+HLOOKUP($GD$15,Līmeņatzīmes!$B$3:$AI$4,2,FALSE))))","v":" "},{"$f":"IF(GP22=\" \",\" \",IF($GC$28=\" \",$CD$6*$C$8/12,$GC$28*(1+HLOOKUP($GD$15,Līmeņatzīmes!$B$3:$AI$4,2,FALSE))))","v":" "},{"$f":"IF(OR(GQ$16=\" \",GQ$16=0),\" \",SUM(GR28:HC28))","v":" "},{"$f":"IF(GR22=\" \",\" \",IF($GP$28=\" \",$CD$6*$C$8/12,$GP$28*(1+HLOOKUP($GQ$15,Līmeņatzīmes!$B$3:$AI$4,2,FALSE))))","v":" "},{"$f":"IF(GS22=\" \",\" \",IF($GP$28=\" \",$CD$6*$C$8/12,$GP$28*(1+HLOOKUP($GQ$15,Līmeņatzīmes!$B$3:$AI$4,2,FALSE))))","v":" "},{"$f":"IF(GT22=\" \",\" \",IF($GP$28=\" \",$CD$6*$C$8/12,$GP$28*(1+HLOOKUP($GQ$15,Līmeņatzīmes!$B$3:$AI$4,2,FALSE))))","v":" "},{"$f":"IF(GU22=\" \",\" \",IF($GP$28=\" \",$CD$6*$C$8/12,$GP$28*(1+HLOOKUP($GQ$15,Līmeņatzīmes!$B$3:$AI$4,2,FALSE))))","v":" "},{"$f":"IF(GV22=\" \",\" \",IF($GP$28=\" \",$CD$6*$C$8/12,$GP$28*(1+HLOOKUP($GQ$15,Līmeņatzīmes!$B$3:$AI$4,2,FALSE))))","v":" "},{"$f":"IF(GW22=\" \",\" \",IF($GP$28=\" \",$CD$6*$C$8/12,$GP$28*(1+HLOOKUP($GQ$15,Līmeņatzīmes!$B$3:$AI$4,2,FALSE))))","v":" "},{"$f":"IF(GX22=\" \",\" \",IF($GP$28=\" \",$CD$6*$C$8/12,$GP$28*(1+HLOOKUP($GQ$15,Līmeņatzīmes!$B$3:$AI$4,2,FALSE))))","v":" "},{"$f":"IF(GY22=\" \",\" \",IF($GP$28=\" \",$CD$6*$C$8/12,$GP$28*(1+HLOOKUP($GQ$15,Līmeņatzīmes!$B$3:$AI$4,2,FALSE))))","v":" "},{"$f":"IF(GZ22=\" \",\" \",IF($GP$28=\" \",$CD$6*$C$8/12,$GP$28*(1+HLOOKUP($GQ$15,Līmeņatzīmes!$B$3:$AI$4,2,FALSE))))","v":" "},{"$f":"IF(HA22=\" \",\" \",IF($GP$28=\" \",$CD$6*$C$8/12,$GP$28*(1+HLOOKUP($GQ$15,Līmeņatzīmes!$B$3:$AI$4,2,FALSE))))","v":" "},{"$f":"IF(HB22=\" \",\" \",IF($GP$28=\" \",$CD$6*$C$8/12,$GP$28*(1+HLOOKUP($GQ$15,Līmeņatzīmes!$B$3:$AI$4,2,FALSE))))","v":" "},{"$f":"IF(HC22=\" \",\" \",IF($GP$28=\" \",$CD$6*$C$8/12,$GP$28*(1+HLOOKUP($GQ$15,Līmeņatzīmes!$B$3:$AI$4,2,FALSE))))","v":" "},{"$f":"IF(OR(HD$16=\" \",HD$16=0),\" \",SUM(HE28:HP28))","v":" "},{"$f":"IF(HE22=\" \",\" \",IF($HC$28=\" \",$CD$6*$C$8/12,$HC$28*(1+HLOOKUP($HD$15,Līmeņatzīmes!$B$3:$AI$4,2,FALSE))))","v":" "},{"$f":"IF(HF22=\" \",\" \",IF($HC$28=\" \",$CD$6*$C$8/12,$HC$28*(1+HLOOKUP($HD$15,Līmeņatzīmes!$B$3:$AI$4,2,FALSE))))","v":" "},{"$f":"IF(HG22=\" \",\" \",IF($HC$28=\" \",$CD$6*$C$8/12,$HC$28*(1+HLOOKUP($HD$15,Līmeņatzīmes!$B$3:$AI$4,2,FALSE))))","v":" "},{"$f":"IF(HH22=\" \",\" \",IF($HC$28=\" \",$CD$6*$C$8/12,$HC$28*(1+HLOOKUP($HD$15,Līmeņatzīmes!$B$3:$AI$4,2,FALSE))))","v":" "},{"$f":"IF(HI22=\" \",\" \",IF($HC$28=\" \",$CD$6*$C$8/12,$HC$28*(1+HLOOKUP($HD$15,Līmeņatzīmes!$B$3:$AI$4,2,FALSE))))","v":" "},{"$f":"IF(HJ22=\" \",\" \",IF($HC$28=\" \",$CD$6*$C$8/12,$HC$28*(1+HLOOKUP($HD$15,Līmeņatzīmes!$B$3:$AI$4,2,FALSE))))","v":" "},{"$f":"IF(HK22=\" \",\" \",IF($HC$28=\" \",$CD$6*$C$8/12,$HC$28*(1+HLOOKUP($HD$15,Līmeņatzīmes!$B$3:$AI$4,2,FALSE))))","v":" "},{"$f":"IF(HL22=\" \",\" \",IF($HC$28=\" \",$CD$6*$C$8/12,$HC$28*(1+HLOOKUP($HD$15,Līmeņatzīmes!$B$3:$AI$4,2,FALSE))))","v":" "},{"$f":"IF(HM22=\" \",\" \",IF($HC$28=\" \",$CD$6*$C$8/12,$HC$28*(1+HLOOKUP($HD$15,Līmeņatzīmes!$B$3:$AI$4,2,FALSE))))","v":" "},{"$f":"IF(HN22=\" \",\" \",IF($HC$28=\" \",$CD$6*$C$8/12,$HC$28*(1+HLOOKUP($HD$15,Līmeņatzīmes!$B$3:$AI$4,2,FALSE))))","v":" "},{"$f":"IF(HO22=\" \",\" \",IF($HC$28=\" \",$CD$6*$C$8/12,$HC$28*(1+HLOOKUP($HD$15,Līmeņatzīmes!$B$3:$AI$4,2,FALSE))))","v":" "},{"$f":"IF(HP22=\" \",\" \",IF($HC$28=\" \",$CD$6*$C$8/12,$HC$28*(1+HLOOKUP($HD$15,Līmeņatzīmes!$B$3:$AI$4,2,FALSE))))","v":" "},{"$f":"IF(OR(HQ$16=\" \",HQ$16=0),\" \",SUM(HR28:IC28))","v":" "},{"$f":"IF(HR22=\" \",\" \",IF($HP$28=\" \",$CD$6*$C$8/12,$HP$28*(1+HLOOKUP($HQ$15,Līmeņatzīmes!$B$3:$AI$4,2,FALSE))))","v":" "},{"$f":"IF(HS22=\" \",\" \",IF($HP$28=\" \",$CD$6*$C$8/12,$HP$28*(1+HLOOKUP($HQ$15,Līmeņatzīmes!$B$3:$AI$4,2,FALSE))))","v":" "},{"$f":"IF(HT22=\" \",\" \",IF($HP$28=\" \",$CD$6*$C$8/12,$HP$28*(1+HLOOKUP($HQ$15,Līmeņatzīmes!$B$3:$AI$4,2,FALSE))))","v":" "},{"$f":"IF(HU22=\" \",\" \",IF($HP$28=\" \",$CD$6*$C$8/12,$HP$28*(1+HLOOKUP($HQ$15,Līmeņatzīmes!$B$3:$AI$4,2,FALSE))))","v":" "},{"$f":"IF(HV22=\" \",\" \",IF($HP$28=\" \",$CD$6*$C$8/12,$HP$28*(1+HLOOKUP($HQ$15,Līmeņatzīmes!$B$3:$AI$4,2,FALSE))))","v":" "},{"$f":"IF(HW22=\" \",\" \",IF($HP$28=\" \",$CD$6*$C$8/12,$HP$28*(1+HLOOKUP($HQ$15,Līmeņatzīmes!$B$3:$AI$4,2,FALSE))))","v":" "},{"$f":"IF(HX22=\" \",\" \",IF($HP$28=\" \",$CD$6*$C$8/12,$HP$28*(1+HLOOKUP($HQ$15,Līmeņatzīmes!$B$3:$AI$4,2,FALSE))))","v":" "},{"$f":"IF(HY22=\" \",\" \",IF($HP$28=\" \",$CD$6*$C$8/12,$HP$28*(1+HLOOKUP($HQ$15,Līmeņatzīmes!$B$3:$AI$4,2,FALSE))))","v":" "},{"$f":"IF(HZ22=\" \",\" \",IF($HP$28=\" \",$CD$6*$C$8/12,$HP$28*(1+HLOOKUP($HQ$15,Līmeņatzīmes!$B$3:$AI$4,2,FALSE))))","v":" "},{"$f":"IF(IA22=\" \",\" \",IF($HP$28=\" \",$CD$6*$C$8/12,$HP$28*(1+HLOOKUP($HQ$15,Līmeņatzīmes!$B$3:$AI$4,2,FALSE))))","v":" "},{"$f":"IF(IB22=\" \",\" \",IF($HP$28=\" \",$CD$6*$C$8/12,$HP$28*(1+HLOOKUP($HQ$15,Līmeņatzīmes!$B$3:$AI$4,2,FALSE))))","v":" "},{"$f":"IF(IC22=\" \",\" \",IF($HP$28=\" \",$CD$6*$C$8/12,$HP$28*(1+HLOOKUP($HQ$15,Līmeņatzīmes!$B$3:$AI$4,2,FALSE))))","v":" "},{"$f":"IF(OR(ID$16=\" \",ID$16=0),\" \",SUM(IE28:IP28))","v":" "},{"$f":"IF(IE22=\" \",\" \",IF($IC$28=\" \",$CD$6*$C$8/12,$IC$28*(1+HLOOKUP($ID$15,Līmeņatzīmes!$B$3:$AI$4,2,FALSE))))","v":" "},{"$f":"IF(IF22=\" \",\" \",IF($IC$28=\" \",$CD$6*$C$8/12,$IC$28*(1+HLOOKUP($ID$15,Līmeņatzīmes!$B$3:$AI$4,2,FALSE))))","v":" "},{"$f":"IF(IG22=\" \",\" \",IF($IC$28=\" \",$CD$6*$C$8/12,$IC$28*(1+HLOOKUP($ID$15,Līmeņatzīmes!$B$3:$AI$4,2,FALSE))))","v":" "},{"$f":"IF(IH22=\" \",\" \",IF($IC$28=\" \",$CD$6*$C$8/12,$IC$28*(1+HLOOKUP($ID$15,Līmeņatzīmes!$B$3:$AI$4,2,FALSE))))","v":" "},{"$f":"IF(II22=\" \",\" \",IF($IC$28=\" \",$CD$6*$C$8/12,$IC$28*(1+HLOOKUP($ID$15,Līmeņatzīmes!$B$3:$AI$4,2,FALSE))))","v":" "},{"$f":"IF(IJ22=\" \",\" \",IF($IC$28=\" \",$CD$6*$C$8/12,$IC$28*(1+HLOOKUP($ID$15,Līmeņatzīmes!$B$3:$AI$4,2,FALSE))))","v":" "},{"$f":"IF(IK22=\" \",\" \",IF($IC$28=\" \",$CD$6*$C$8/12,$IC$28*(1+HLOOKUP($ID$15,Līmeņatzīmes!$B$3:$AI$4,2,FALSE))))","v":" "},{"$f":"IF(IL22=\" \",\" \",IF($IC$28=\" \",$CD$6*$C$8/12,$IC$28*(1+HLOOKUP($ID$15,Līmeņatzīmes!$B$3:$AI$4,2,FALSE))))","v":" "},{"$f":"IF(IM22=\" \",\" \",IF($IC$28=\" \",$CD$6*$C$8/12,$IC$28*(1+HLOOKUP($ID$15,Līmeņatzīmes!$B$3:$AI$4,2,FALSE))))","v":" "},{"$f":"IF(IN22=\" \",\" \",IF($IC$28=\" \",$CD$6*$C$8/12,$IC$28*(1+HLOOKUP($ID$15,Līmeņatzīmes!$B$3:$AI$4,2,FALSE))))","v":" "},{"$f":"IF(IO22=\" \",\" \",IF($IC$28=\" \",$CD$6*$C$8/12,$IC$28*(1+HLOOKUP($ID$15,Līmeņatzīmes!$B$3:$AI$4,2,FALSE))))","v":" "},{"$f":"IF(IP22=\" \",\" \",IF($IC$28=\" \",$CD$6*$C$8/12,$IC$28*(1+HLOOKUP($ID$15,Līmeņatzīmes!$B$3:$AI$4,2,FALSE))))","v":" "},{"$f":"IF(OR(IQ$16=\" \",IQ$16=0),\" \",SUM(IR28:JC28))","v":" "},{"$f":"IF(IR22=\" \",\" \",IF($IP$28=\" \",$CD$6*$C$8/12,$IP$28*(1+HLOOKUP($IQ$15,Līmeņatzīmes!$B$3:$AI$4,2,FALSE))))","v":" "},{"$f":"IF(IS22=\" \",\" \",IF($IP$28=\" \",$CD$6*$C$8/12,$IP$28*(1+HLOOKUP($IQ$15,Līmeņatzīmes!$B$3:$AI$4,2,FALSE))))","v":" "},{"$f":"IF(IT22=\" \",\" \",IF($IP$28=\" \",$CD$6*$C$8/12,$IP$28*(1+HLOOKUP($IQ$15,Līmeņatzīmes!$B$3:$AI$4,2,FALSE))))","v":" "},{"$f":"IF(IU22=\" \",\" \",IF($IP$28=\" \",$CD$6*$C$8/12,$IP$28*(1+HLOOKUP($IQ$15,Līmeņatzīmes!$B$3:$AI$4,2,FALSE))))","v":" "},{"$f":"IF(IV22=\" \",\" \",IF($IP$28=\" \",$CD$6*$C$8/12,$IP$28*(1+HLOOKUP($IQ$15,Līmeņatzīmes!$B$3:$AI$4,2,FALSE))))","v":" "},{"$f":"IF(IW22=\" \",\" \",IF($IP$28=\" \",$CD$6*$C$8/12,$IP$28*(1+HLOOKUP($IQ$15,Līmeņatzīmes!$B$3:$AI$4,2,FALSE))))","v":" "},{"$f":"IF(IX22=\" \",\" \",IF($IP$28=\" \",$CD$6*$C$8/12,$IP$28*(1+HLOOKUP($IQ$15,Līmeņatzīmes!$B$3:$AI$4,2,FALSE))))","v":" "},{"$f":"IF(IY22=\" \",\" \",IF($IP$28=\" \",$CD$6*$C$8/12,$IP$28*(1+HLOOKUP($IQ$15,Līmeņatzīmes!$B$3:$AI$4,2,FALSE))))","v":" "},{"$f":"IF(IZ22=\" \",\" \",IF($IP$28=\" \",$CD$6*$C$8/12,$IP$28*(1+HLOOKUP($IQ$15,Līmeņatzīmes!$B$3:$AI$4,2,FALSE))))","v":" "},{"$f":"IF(JA22=\" \",\" \",IF($IP$28=\" \",$CD$6*$C$8/12,$IP$28*(1+HLOOKUP($IQ$15,Līmeņatzīmes!$B$3:$AI$4,2,FALSE))))","v":" "},{"$f":"IF(JB22=\" \",\" \",IF($IP$28=\" \",$CD$6*$C$8/12,$IP$28*(1+HLOOKUP($IQ$15,Līmeņatzīmes!$B$3:$AI$4,2,FALSE))))","v":" "},{"$f":"IF(JC22=\" \",\" \",IF($IP$28=\" \",$CD$6*$C$8/12,$IP$28*(1+HLOOKUP($IQ$15,Līmeņatzīmes!$B$3:$AI$4,2,FALSE))))","v":" "},{"$f":"IF(OR(JD$16=\" \",JD$16=0),\" \",SUM(JE28:JP28))","v":" "},{"$f":"IF(JE22=\" \",\" \",IF($JC$28=\" \",$CD$6*$C$8/12,$JC$28*(1+HLOOKUP($JD$15,Līmeņatzīmes!$B$3:$AI$4,2,FALSE))))","v":" "},{"$f":"IF(JF22=\" \",\" \",IF($JC$28=\" \",$CD$6*$C$8/12,$JC$28*(1+HLOOKUP($JD$15,Līmeņatzīmes!$B$3:$AI$4,2,FALSE))))","v":" "},{"$f":"IF(JG22=\" \",\" \",IF($JC$28=\" \",$CD$6*$C$8/12,$JC$28*(1+HLOOKUP($JD$15,Līmeņatzīmes!$B$3:$AI$4,2,FALSE))))","v":" "},{"$f":"IF(JH22=\" \",\" \",IF($JC$28=\" \",$CD$6*$C$8/12,$JC$28*(1+HLOOKUP($JD$15,Līmeņatzīmes!$B$3:$AI$4,2,FALSE))))","v":" "},{"$f":"IF(JI22=\" \",\" \",IF($JC$28=\" \",$CD$6*$C$8/12,$JC$28*(1+HLOOKUP($JD$15,Līmeņatzīmes!$B$3:$AI$4,2,FALSE))))","v":" "},{"$f":"IF(JJ22=\" \",\" \",IF($JC$28=\" \",$CD$6*$C$8/12,$JC$28*(1+HLOOKUP($JD$15,Līmeņatzīmes!$B$3:$AI$4,2,FALSE))))","v":" "},{"$f":"IF(JK22=\" \",\" \",IF($JC$28=\" \",$CD$6*$C$8/12,$JC$28*(1+HLOOKUP($JD$15,Līmeņatzīmes!$B$3:$AI$4,2,FALSE))))","v":" "},{"$f":"IF(JL22=\" \",\" \",IF($JC$28=\" \",$CD$6*$C$8/12,$JC$28*(1+HLOOKUP($JD$15,Līmeņatzīmes!$B$3:$AI$4,2,FALSE))))","v":" "},{"$f":"IF(JM22=\" \",\" \",IF($JC$28=\" \",$CD$6*$C$8/12,$JC$28*(1+HLOOKUP($JD$15,Līmeņatzīmes!$B$3:$AI$4,2,FALSE))))","v":" "},{"$f":"IF(JN22=\" \",\" \",IF($JC$28=\" \",$CD$6*$C$8/12,$JC$28*(1+HLOOKUP($JD$15,Līmeņatzīmes!$B$3:$AI$4,2,FALSE))))","v":" "},{"$f":"IF(JO22=\" \",\" \",IF($JC$28=\" \",$CD$6*$C$8/12,$JC$28*(1+HLOOKUP($JD$15,Līmeņatzīmes!$B$3:$AI$4,2,FALSE))))","v":" "},{"$f":"IF(JP22=\" \",\" \",IF($JC$28=\" \",$CD$6*$C$8/12,$JC$28*(1+HLOOKUP($JD$15,Līmeņatzīmes!$B$3:$AI$4,2,FALSE))))","v":" "},{"$f":"IF(OR(JQ$16=\" \",JQ$16=0),\" \",SUM(JR28:KC28))","v":" "},{"$f":"IF(JR22=\" \",\" \",IF($JP$28=\" \",$CD$6*$C$8/12,$JP$28*(1+HLOOKUP($JQ$15,Līmeņatzīmes!$B$3:$AI$4,2,FALSE))))","v":" "},{"$f":"IF(JS22=\" \",\" \",IF($JP$28=\" \",$CD$6*$C$8/12,$JP$28*(1+HLOOKUP($JQ$15,Līmeņatzīmes!$B$3:$AI$4,2,FALSE))))","v":" "},{"$f":"IF(JT22=\" \",\" \",IF($JP$28=\" \",$CD$6*$C$8/12,$JP$28*(1+HLOOKUP($JQ$15,Līmeņatzīmes!$B$3:$AI$4,2,FALSE))))","v":" "},{"$f":"IF(JU22=\" \",\" \",IF($JP$28=\" \",$CD$6*$C$8/12,$JP$28*(1+HLOOKUP($JQ$15,Līmeņatzīmes!$B$3:$AI$4,2,FALSE))))","v":" "},{"$f":"IF(JV22=\" \",\" \",IF($JP$28=\" \",$CD$6*$C$8/12,$JP$28*(1+HLOOKUP($JQ$15,Līmeņatzīmes!$B$3:$AI$4,2,FALSE))))","v":" "},{"$f":"IF(JW22=\" \",\" \",IF($JP$28=\" \",$CD$6*$C$8/12,$JP$28*(1+HLOOKUP($JQ$15,Līmeņatzīmes!$B$3:$AI$4,2,FALSE))))","v":" "},{"$f":"IF(JX22=\" \",\" \",IF($JP$28=\" \",$CD$6*$C$8/12,$JP$28*(1+HLOOKUP($JQ$15,Līmeņatzīmes!$B$3:$AI$4,2,FALSE))))","v":" "},{"$f":"IF(JY22=\" \",\" \",IF($JP$28=\" \",$CD$6*$C$8/12,$JP$28*(1+HLOOKUP($JQ$15,Līmeņatzīmes!$B$3:$AI$4,2,FALSE))))","v":" "},{"$f":"IF(JZ22=\" \",\" \",IF($JP$28=\" \",$CD$6*$C$8/12,$JP$28*(1+HLOOKUP($JQ$15,Līmeņatzīmes!$B$3:$AI$4,2,FALSE))))","v":" "},{"$f":"IF(KA22=\" \",\" \",IF($JP$28=\" \",$CD$6*$C$8/12,$JP$28*(1+HLOOKUP($JQ$15,Līmeņatzīmes!$B$3:$AI$4,2,FALSE))))","v":" "},{"$f":"IF(KB22=\" \",\" \",IF($JP$28=\" \",$CD$6*$C$8/12,$JP$28*(1+HLOOKUP($JQ$15,Līmeņatzīmes!$B$3:$AI$4,2,FALSE))))","v":" "},{"$f":"IF(KC22=\" \",\" \",IF($JP$28=\" \",$CD$6*$C$8/12,$JP$28*(1+HLOOKUP($JQ$15,Līmeņatzīmes!$B$3:$AI$4,2,FALSE))))","v":" "},{"$f":"IF(OR(KD$16=\" \",KD$16=0),\" \",SUM(KE28:KP28))","v":" "},{"$f":"IF(KE22=\" \",\" \",IF($KC$28=\" \",$CD$6*$C$8/12,$KC$28*(1+HLOOKUP($KD$15,Līmeņatzīmes!$B$3:$AI$4,2,FALSE))))","v":" "},{"$f":"IF(KF22=\" \",\" \",IF($KC$28=\" \",$CD$6*$C$8/12,$KC$28*(1+HLOOKUP($KD$15,Līmeņatzīmes!$B$3:$AI$4,2,FALSE))))","v":" "},{"$f":"IF(KG22=\" \",\" \",IF($KC$28=\" \",$CD$6*$C$8/12,$KC$28*(1+HLOOKUP($KD$15,Līmeņatzīmes!$B$3:$AI$4,2,FALSE))))","v":" "},{"$f":"IF(KH22=\" \",\" \",IF($KC$28=\" \",$CD$6*$C$8/12,$KC$28*(1+HLOOKUP($KD$15,Līmeņatzīmes!$B$3:$AI$4,2,FALSE))))","v":" "},{"$f":"IF(KI22=\" \",\" \",IF($KC$28=\" \",$CD$6*$C$8/12,$KC$28*(1+HLOOKUP($KD$15,Līmeņatzīmes!$B$3:$AI$4,2,FALSE))))","v":" "},{"$f":"IF(KJ22=\" \",\" \",IF($KC$28=\" \",$CD$6*$C$8/12,$KC$28*(1+HLOOKUP($KD$15,Līmeņatzīmes!$B$3:$AI$4,2,FALSE))))","v":" "},{"$f":"IF(KK22=\" \",\" \",IF($KC$28=\" \",$CD$6*$C$8/12,$KC$28*(1+HLOOKUP($KD$15,Līmeņatzīmes!$B$3:$AI$4,2,FALSE))))","v":" "},{"$f":"IF(KL22=\" \",\" \",IF($KC$28=\" \",$CD$6*$C$8/12,$KC$28*(1+HLOOKUP($KD$15,Līmeņatzīmes!$B$3:$AI$4,2,FALSE))))","v":" "},{"$f":"IF(KM22=\" \",\" \",IF($KC$28=\" \",$CD$6*$C$8/12,$KC$28*(1+HLOOKUP($KD$15,Līmeņatzīmes!$B$3:$AI$4,2,FALSE))))","v":" "},{"$f":"IF(KN22=\" \",\" \",IF($KC$28=\" \",$CD$6*$C$8/12,$KC$28*(1+HLOOKUP($KD$15,Līmeņatzīmes!$B$3:$AI$4,2,FALSE))))","v":" "},{"$f":"IF(KO22=\" \",\" \",IF($KC$28=\" \",$CD$6*$C$8/12,$KC$28*(1+HLOOKUP($KD$15,Līmeņatzīmes!$B$3:$AI$4,2,FALSE))))","v":" "},{"$f":"IF(KP22=\" \",\" \",IF($KC$28=\" \",$CD$6*$C$8/12,$KC$28*(1+HLOOKUP($KD$15,Līmeņatzīmes!$B$3:$AI$4,2,FALSE))))","v":" "},{"$f":"IF(OR(KQ$16=\" \",KQ$16=0),\" \",SUM(KR28:LC28))","v":" "},{"$f":"IF(KR22=\" \",\" \",IF($KP$28=\" \",$CD$6*$C$8/12,$KP$28*(1+HLOOKUP($KQ$15,Līmeņatzīmes!$B$3:$AI$4,2,FALSE))))","v":" "},{"$f":"IF(KS22=\" \",\" \",IF($KP$28=\" \",$CD$6*$C$8/12,$KP$28*(1+HLOOKUP($KQ$15,Līmeņatzīmes!$B$3:$AI$4,2,FALSE))))","v":" "},{"$f":"IF(KT22=\" \",\" \",IF($KP$28=\" \",$CD$6*$C$8/12,$KP$28*(1+HLOOKUP($KQ$15,Līmeņatzīmes!$B$3:$AI$4,2,FALSE))))","v":" "},{"$f":"IF(KU22=\" \",\" \",IF($KP$28=\" \",$CD$6*$C$8/12,$KP$28*(1+HLOOKUP($KQ$15,Līmeņatzīmes!$B$3:$AI$4,2,FALSE))))","v":" "},{"$f":"IF(KV22=\" \",\" \",IF($KP$28=\" \",$CD$6*$C$8/12,$KP$28*(1+HLOOKUP($KQ$15,Līmeņatzīmes!$B$3:$AI$4,2,FALSE))))","v":" "},{"$f":"IF(KW22=\" \",\" \",IF($KP$28=\" \",$CD$6*$C$8/12,$KP$28*(1+HLOOKUP($KQ$15,Līmeņatzīmes!$B$3:$AI$4,2,FALSE))))","v":" "},{"$f":"IF(KX22=\" \",\" \",IF($KP$28=\" \",$CD$6*$C$8/12,$KP$28*(1+HLOOKUP($KQ$15,Līmeņatzīmes!$B$3:$AI$4,2,FALSE))))","v":" "},{"$f":"IF(KY22=\" \",\" \",IF($KP$28=\" \",$CD$6*$C$8/12,$KP$28*(1+HLOOKUP($KQ$15,Līmeņatzīmes!$B$3:$AI$4,2,FALSE))))","v":" "},{"$f":"IF(KZ22=\" \",\" \",IF($KP$28=\" \",$CD$6*$C$8/12,$KP$28*(1+HLOOKUP($KQ$15,Līmeņatzīmes!$B$3:$AI$4,2,FALSE))))","v":" "},{"$f":"IF(LA22=\" \",\" \",IF($KP$28=\" \",$CD$6*$C$8/12,$KP$28*(1+HLOOKUP($KQ$15,Līmeņatzīmes!$B$3:$AI$4,2,FALSE))))","v":" "},{"$f":"IF(LB22=\" \",\" \",IF($KP$28=\" \",$CD$6*$C$8/12,$KP$28*(1+HLOOKUP($KQ$15,Līmeņatzīmes!$B$3:$AI$4,2,FALSE))))","v":" "},{"$f":"IF(LC22=\" \",\" \",IF($KP$28=\" \",$CD$6*$C$8/12,$KP$28*(1+HLOOKUP($KQ$15,Līmeņatzīmes!$B$3:$AI$4,2,FALSE))))","v":" "},{"$f":"IF(OR(LD$16=\" \",LD$16=0),\" \",SUM(LE28:LP28))","v":" "},{"$f":"IF(LE22=\" \",\" \",IF($LC$28=\" \",$CD$6*$C$8/12,$LC$28*(1+HLOOKUP($LD$15,Līmeņatzīmes!$B$3:$AI$4,2,FALSE))))","v":" "},{"$f":"IF(LF22=\" \",\" \",IF($LC$28=\" \",$CD$6*$C$8/12,$LC$28*(1+HLOOKUP($LD$15,Līmeņatzīmes!$B$3:$AI$4,2,FALSE))))","v":" "},{"$f":"IF(LG22=\" \",\" \",IF($LC$28=\" \",$CD$6*$C$8/12,$LC$28*(1+HLOOKUP($LD$15,Līmeņatzīmes!$B$3:$AI$4,2,FALSE))))","v":" "},{"$f":"IF(LH22=\" \",\" \",IF($LC$28=\" \",$CD$6*$C$8/12,$LC$28*(1+HLOOKUP($LD$15,Līmeņatzīmes!$B$3:$AI$4,2,FALSE))))","v":" "},{"$f":"IF(LI22=\" \",\" \",IF($LC$28=\" \",$CD$6*$C$8/12,$LC$28*(1+HLOOKUP($LD$15,Līmeņatzīmes!$B$3:$AI$4,2,FALSE))))","v":" "},{"$f":"IF(LJ22=\" \",\" \",IF($LC$28=\" \",$CD$6*$C$8/12,$LC$28*(1+HLOOKUP($LD$15,Līmeņatzīmes!$B$3:$AI$4,2,FALSE))))","v":" "},{"$f":"IF(LK22=\" \",\" \",IF($LC$28=\" \",$CD$6*$C$8/12,$LC$28*(1+HLOOKUP($LD$15,Līmeņatzīmes!$B$3:$AI$4,2,FALSE))))","v":" "},{"$f":"IF(LL22=\" \",\" \",IF($LC$28=\" \",$CD$6*$C$8/12,$LC$28*(1+HLOOKUP($LD$15,Līmeņatzīmes!$B$3:$AI$4,2,FALSE))))","v":" "},{"$f":"IF(LM22=\" \",\" \",IF($LC$28=\" \",$CD$6*$C$8/12,$LC$28*(1+HLOOKUP($LD$15,Līmeņatzīmes!$B$3:$AI$4,2,FALSE))))","v":" "},{"$f":"IF(LN22=\" \",\" \",IF($LC$28=\" \",$CD$6*$C$8/12,$LC$28*(1+HLOOKUP($LD$15,Līmeņatzīmes!$B$3:$AI$4,2,FALSE))))","v":" "},{"$f":"IF(LO22=\" \",\" \",IF($LC$28=\" \",$CD$6*$C$8/12,$LC$28*(1+HLOOKUP($LD$15,Līmeņatzīmes!$B$3:$AI$4,2,FALSE))))","v":" "},{"$f":"IF(LP22=\" \",\" \",IF($LC$28=\" \",$CD$6*$C$8/12,$LC$28*(1+HLOOKUP($LD$15,Līmeņatzīmes!$B$3:$AI$4,2,FALSE))))","v":" "},{"$f":"IF(OR(LQ$16=\" \",LQ$16=0),\" \",SUM(LR28:MC28))","v":" "},{"$f":"IF(LR22=\" \",\" \",IF($LP$28=\" \",$CD$6*$C$8/12,$LP$28*(1+HLOOKUP($LQ$15,Līmeņatzīmes!$B$3:$AI$4,2,FALSE))))","v":" "},{"$f":"IF(LS22=\" \",\" \",IF($LP$28=\" \",$CD$6*$C$8/12,$LP$28*(1+HLOOKUP($LQ$15,Līmeņatzīmes!$B$3:$AI$4,2,FALSE))))","v":" "},{"$f":"IF(LT22=\" \",\" \",IF($LP$28=\" \",$CD$6*$C$8/12,$LP$28*(1+HLOOKUP($LQ$15,Līmeņatzīmes!$B$3:$AI$4,2,FALSE))))","v":" "},{"$f":"IF(LU22=\" \",\" \",IF($LP$28=\" \",$CD$6*$C$8/12,$LP$28*(1+HLOOKUP($LQ$15,Līmeņatzīmes!$B$3:$AI$4,2,FALSE))))","v":" "},{"$f":"IF(LV22=\" \",\" \",IF($LP$28=\" \",$CD$6*$C$8/12,$LP$28*(1+HLOOKUP($LQ$15,Līmeņatzīmes!$B$3:$AI$4,2,FALSE))))","v":" "},{"$f":"IF(LW22=\" \",\" \",IF($LP$28=\" \",$CD$6*$C$8/12,$LP$28*(1+HLOOKUP($LQ$15,Līmeņatzīmes!$B$3:$AI$4,2,FALSE))))","v":" "},{"$f":"IF(LX22=\" \",\" \",IF($LP$28=\" \",$CD$6*$C$8/12,$LP$28*(1+HLOOKUP($LQ$15,Līmeņatzīmes!$B$3:$AI$4,2,FALSE))))","v":" "},{"$f":"IF(LY22=\" \",\" \",IF($LP$28=\" \",$CD$6*$C$8/12,$LP$28*(1+HLOOKUP($LQ$15,Līmeņatzīmes!$B$3:$AI$4,2,FALSE))))","v":" "},{"$f":"IF(LZ22=\" \",\" \",IF($LP$28=\" \",$CD$6*$C$8/12,$LP$28*(1+HLOOKUP($LQ$15,Līmeņatzīmes!$B$3:$AI$4,2,FALSE))))","v":" "},{"$f":"IF(MA22=\" \",\" \",IF($LP$28=\" \",$CD$6*$C$8/12,$LP$28*(1+HLOOKUP($LQ$15,Līmeņatzīmes!$B$3:$AI$4,2,FALSE))))","v":" "},{"$f":"IF(MB22=\" \",\" \",IF($LP$28=\" \",$CD$6*$C$8/12,$LP$28*(1+HLOOKUP($LQ$15,Līmeņatzīmes!$B$3:$AI$4,2,FALSE))))","v":" "},{"$f":"IF(MC22=\" \",\" \",IF($LP$28=\" \",$CD$6*$C$8/12,$LP$28*(1+HLOOKUP($LQ$15,Līmeņatzīmes!$B$3:$AI$4,2,FALSE))))","v":" "},{"$f":"IF(OR(MD$16=\" \",MD$16=0),\" \",SUM(ME28:MP28))","v":" "},{"$f":"IF(ME22=\" \",\" \",IF($MC$28=\" \",$CD$6*$C$8/12,$MC$28*(1+HLOOKUP($MD$15,Līmeņatzīmes!$B$3:$AI$4,2,FALSE))))","v":" "},{"$f":"IF(MF22=\" \",\" \",IF($MC$28=\" \",$CD$6*$C$8/12,$MC$28*(1+HLOOKUP($MD$15,Līmeņatzīmes!$B$3:$AI$4,2,FALSE))))","v":" "},{"$f":"IF(MG22=\" \",\" \",IF($MC$28=\" \",$CD$6*$C$8/12,$MC$28*(1+HLOOKUP($MD$15,Līmeņatzīmes!$B$3:$AI$4,2,FALSE))))","v":" "},{"$f":"IF(MH22=\" \",\" \",IF($MC$28=\" \",$CD$6*$C$8/12,$MC$28*(1+HLOOKUP($MD$15,Līmeņatzīmes!$B$3:$AI$4,2,FALSE))))","v":" "},{"$f":"IF(MI22=\" \",\" \",IF($MC$28=\" \",$CD$6*$C$8/12,$MC$28*(1+HLOOKUP($MD$15,Līmeņatzīmes!$B$3:$AI$4,2,FALSE))))","v":" "},{"$f":"IF(MJ22=\" \",\" \",IF($MC$28=\" \",$CD$6*$C$8/12,$MC$28*(1+HLOOKUP($MD$15,Līmeņatzīmes!$B$3:$AI$4,2,FALSE))))","v":" "},{"$f":"IF(MK22=\" \",\" \",IF($MC$28=\" \",$CD$6*$C$8/12,$MC$28*(1+HLOOKUP($MD$15,Līmeņatzīmes!$B$3:$AI$4,2,FALSE))))","v":" "},{"$f":"IF(ML22=\" \",\" \",IF($MC$28=\" \",$CD$6*$C$8/12,$MC$28*(1+HLOOKUP($MD$15,Līmeņatzīmes!$B$3:$AI$4,2,FALSE))))","v":" "},{"$f":"IF(MM22=\" \",\" \",IF($MC$28=\" \",$CD$6*$C$8/12,$MC$28*(1+HLOOKUP($MD$15,Līmeņatzīmes!$B$3:$AI$4,2,FALSE))))","v":" "},{"$f":"IF(MN22=\" \",\" \",IF($MC$28=\" \",$CD$6*$C$8/12,$MC$28*(1+HLOOKUP($MD$15,Līmeņatzīmes!$B$3:$AI$4,2,FALSE))))","v":" "},{"$f":"IF(MO22=\" \",\" \",IF($MC$28=\" \",$CD$6*$C$8/12,$MC$28*(1+HLOOKUP($MD$15,Līmeņatzīmes!$B$3:$AI$4,2,FALSE))))","v":" "},{"$f":"IF(MP22=\" \",\" \",IF($MC$28=\" \",$CD$6*$C$8/12,$MC$28*(1+HLOOKUP($MD$15,Līmeņatzīmes!$B$3:$AI$4,2,FALSE))))","v":" "},{"$f":"IF(OR(MQ$16=\" \",MQ$16=0),\" \",SUM(MR28:NC28))","v":" "},{"$f":"IF(MR22=\" \",\" \",IF($MP$28=\" \",$CD$6*$C$8/12,$MP$28*(1+HLOOKUP($MQ$15,Līmeņatzīmes!$B$3:$AI$4,2,FALSE))))","v":" "},{"$f":"IF(MS22=\" \",\" \",IF($MP$28=\" \",$CD$6*$C$8/12,$MP$28*(1+HLOOKUP($MQ$15,Līmeņatzīmes!$B$3:$AI$4,2,FALSE))))","v":" "},{"$f":"IF(MT22=\" \",\" \",IF($MP$28=\" \",$CD$6*$C$8/12,$MP$28*(1+HLOOKUP($MQ$15,Līmeņatzīmes!$B$3:$AI$4,2,FALSE))))","v":" "},{"$f":"IF(MU22=\" \",\" \",IF($MP$28=\" \",$CD$6*$C$8/12,$MP$28*(1+HLOOKUP($MQ$15,Līmeņatzīmes!$B$3:$AI$4,2,FALSE))))","v":" "},{"$f":"IF(MV22=\" \",\" \",IF($MP$28=\" \",$CD$6*$C$8/12,$MP$28*(1+HLOOKUP($MQ$15,Līmeņatzīmes!$B$3:$AI$4,2,FALSE))))","v":" "},{"$f":"IF(MW22=\" \",\" \",IF($MP$28=\" \",$CD$6*$C$8/12,$MP$28*(1+HLOOKUP($MQ$15,Līmeņatzīmes!$B$3:$AI$4,2,FALSE))))","v":" "},{"$f":"IF(MX22=\" \",\" \",IF($MP$28=\" \",$CD$6*$C$8/12,$MP$28*(1+HLOOKUP($MQ$15,Līmeņatzīmes!$B$3:$AI$4,2,FALSE))))","v":" "},{"$f":"IF(MY22=\" \",\" \",IF($MP$28=\" \",$CD$6*$C$8/12,$MP$28*(1+HLOOKUP($MQ$15,Līmeņatzīmes!$B$3:$AI$4,2,FALSE))))","v":" "},{"$f":"IF(MZ22=\" \",\" \",IF($MP$28=\" \",$CD$6*$C$8/12,$MP$28*(1+HLOOKUP($MQ$15,Līmeņatzīmes!$B$3:$AI$4,2,FALSE))))","v":" "},{"$f":"IF(NA22=\" \",\" \",IF($MP$28=\" \",$CD$6*$C$8/12,$MP$28*(1+HLOOKUP($MQ$15,Līmeņatzīmes!$B$3:$AI$4,2,FALSE))))","v":" "},{"$f":"IF(NB22=\" \",\" \",IF($MP$28=\" \",$CD$6*$C$8/12,$MP$28*(1+HLOOKUP($MQ$15,Līmeņatzīmes!$B$3:$AI$4,2,FALSE))))","v":" "},{"$f":"IF(NC22=\" \",\" \",IF($MP$28=\" \",$CD$6*$C$8/12,$MP$28*(1+HLOOKUP($MQ$15,Līmeņatzīmes!$B$3:$AI$4,2,FALSE))))","v":" "},{"$f":"IF(OR(ND$16=\" \",ND$16=0),\" \",SUM(NE28:NP28))","v":" "},{"$f":"IF(NE22=\" \",\" \",IF($NC$28=\" \",$CD$6*$C$8/12,$NC$28*(1+HLOOKUP($ND$15,Līmeņatzīmes!$B$3:$AI$4,2,FALSE))))","v":" "},{"$f":"IF(NF22=\" \",\" \",IF($NC$28=\" \",$CD$6*$C$8/12,$NC$28*(1+HLOOKUP($ND$15,Līmeņatzīmes!$B$3:$AI$4,2,FALSE))))","v":" "},{"$f":"IF(NG22=\" \",\" \",IF($NC$28=\" \",$CD$6*$C$8/12,$NC$28*(1+HLOOKUP($ND$15,Līmeņatzīmes!$B$3:$AI$4,2,FALSE))))","v":" "},{"$f":"IF(NH22=\" \",\" \",IF($NC$28=\" \",$CD$6*$C$8/12,$NC$28*(1+HLOOKUP($ND$15,Līmeņatzīmes!$B$3:$AI$4,2,FALSE))))","v":" "},{"$f":"IF(NI22=\" \",\" \",IF($NC$28=\" \",$CD$6*$C$8/12,$NC$28*(1+HLOOKUP($ND$15,Līmeņatzīmes!$B$3:$AI$4,2,FALSE))))","v":" "},{"$f":"IF(NJ22=\" \",\" \",IF($NC$28=\" \",$CD$6*$C$8/12,$NC$28*(1+HLOOKUP($ND$15,Līmeņatzīmes!$B$3:$AI$4,2,FALSE))))","v":" "},{"$f":"IF(NK22=\" \",\" \",IF($NC$28=\" \",$CD$6*$C$8/12,$NC$28*(1+HLOOKUP($ND$15,Līmeņatzīmes!$B$3:$AI$4,2,FALSE))))","v":" "},{"$f":"IF(NL22=\" \",\" \",IF($NC$28=\" \",$CD$6*$C$8/12,$NC$28*(1+HLOOKUP($ND$15,Līmeņatzīmes!$B$3:$AI$4,2,FALSE))))","v":" "},{"$f":"IF(NM22=\" \",\" \",IF($NC$28=\" \",$CD$6*$C$8/12,$NC$28*(1+HLOOKUP($ND$15,Līmeņatzīmes!$B$3:$AI$4,2,FALSE))))","v":" "},{"$f":"IF(NN22=\" \",\" \",IF($NC$28=\" \",$CD$6*$C$8/12,$NC$28*(1+HLOOKUP($ND$15,Līmeņatzīmes!$B$3:$AI$4,2,FALSE))))","v":" "},{"$f":"IF(NO22=\" \",\" \",IF($NC$28=\" \",$CD$6*$C$8/12,$NC$28*(1+HLOOKUP($ND$15,Līmeņatzīmes!$B$3:$AI$4,2,FALSE))))","v":" "},{"$f":"IF(NP22=\" \",\" \",IF($NC$28=\" \",$CD$6*$C$8/12,$NC$28*(1+HLOOKUP($ND$15,Līmeņatzīmes!$B$3:$AI$4,2,FALSE))))","v":" "}]
["Kurināmā cena","EUR/MWh",null,{"$f":"IF(OR(D$16=\" \",D$16=0,D21=0),\" \",SUMPRODUCT(E21:P21,E29:P29)/D21)","v":" "},{"$f":"IF(E22=\" \",\" \",ROUND(VLOOKUP(E18,Kurināmais!$A$4:$I$351,9,FALSE),2))","v":" "},{"$f":"IF(F22=\" \",\" \",ROUND(VLOOKUP(F18,Kurināmais!$A$4:$I$351,9,FALSE),2))","v":" "},{"$f":"IF(G22=\" \",\" \",ROUND(VLOOKUP(G18,Kurināmais!$A$4:$I$351,9,FALSE),2))","v":" "},{"$f":"IF(H22=\" \",\" \",ROUND(VLOOKUP(H18,Kurināmais!$A$4:$I$351,9,FALSE),2))","v":" "},{"$f":"IF(I22=\" \",\" \",ROUND(VLOOKUP(I18,Kurināmais!$A$4:$I$351,9,FALSE),2))","v":" "},{"$f":"IF(J22=\" \",\" \",ROUND(VLOOKUP(J18,Kurināmais!$A$4:$I$351,9,FALSE),2))","v":" "},{"$f":"IF(K22=\" \",\" \",ROUND(VLOOKUP(K18,Kurināmais!$A$4:$I$351,9,FALSE),2))","v":" "},{"$f":"IF(L22=\" \",\" \",ROUND(VLOOKUP(L18,Kurināmais!$A$4:$I$351,9,FALSE),2))","v":" "},{"$f":"IF(M22=\" \",\" \",ROUND(VLOOKUP(M18,Kurināmais!$A$4:$I$351,9,FALSE),2))","v":" "},{"$f":"IF(N22=\" \",\" \",ROUND(VLOOKUP(N18,Kurināmais!$A$4:$I$351,9,FALSE),2))","v":" "},{"$f":"IF(O22=\" \",\" \",ROUND(VLOOKUP(O18,Kurināmais!$A$4:$I$351,9,FALSE),2))","v":" "},{"$f":"IF(P22=\" \",\" \",ROUND(VLOOKUP(P18,Kurināmais!$A$4:$I$351,9,FALSE),2))","v":" "},{"$f":"IF(OR(Q$16=\" \",Q$16=0,Q21=0),\" \",SUMPRODUCT(R21:AC21,R29:AC29)/Q21)","v":" "},{"$f":"IF(R22=\" \",\" \",ROUND(VLOOKUP(R18,Kurināmais!$A$4:$I$351,9,FALSE),2))","v":" "},{"$f":"IF(S22=\" \",\" \",ROUND(VLOOKUP(S18,Kurināmais!$A$4:$I$351,9,FALSE),2))","v":" "},{"$f":"IF(T22=\" \",\" \",ROUND(VLOOKUP(T18,Kurināmais!$A$4:$I$351,9,FALSE),2))","v":" "},{"$f":"IF(U22=\" \",\" \",ROUND(VLOOKUP(U18,Kurināmais!$A$4:$I$351,9,FALSE),2))","v":" "},{"$f":"IF(V22=\" \",\" \",ROUND(VLOOKUP(V18,Kurināmais!$A$4:$I$351,9,FALSE),2))","v":" "},{"$f":"IF(W22=\" \",\" \",ROUND(VLOOKUP(W18,Kurināmais!$A$4:$I$351,9,FALSE),2))","v":" "},{"$f":"IF(X22=\" \",\" \",ROUND(VLOOKUP(X18,Kurināmais!$A$4:$I$351,9,FALSE),2))","v":" "},{"$f":"IF(Y22=\" \",\" \",ROUND(VLOOKUP(Y18,Kurināmais!$A$4:$I$351,9,FALSE),2))","v":" "},{"$f":"IF(Z22=\" \",\" \",ROUND(VLOOKUP(Z18,Kurināmais!$A$4:$I$351,9,FALSE),2))","v":" "},{"$f":"IF(AA22=\" \",\" \",ROUND(VLOOKUP(AA18,Kurināmais!$A$4:$I$351,9,FALSE),2))","v":" "},{"$f":"IF(AB22=\" \",\" \",ROUND(VLOOKUP(AB18,Kurināmais!$A$4:$I$351,9,FALSE),2))","v":" "},{"$f":"IF(AC22=\" \",\" \",ROUND(VLOOKUP(AC18,Kurināmais!$A$4:$I$351,9,FALSE),2))","v":" "},{"$f":"IF(OR(AD$16=\" \",AD$16=0,AD21=0),\" \",SUMPRODUCT(AE21:AP21,AE29:AP29)/AD21)","v":" "},{"$f":"IF(AE22=\" \",\" \",ROUND(VLOOKUP(AE18,Kurināmais!$A$4:$I$351,9,FALSE),2))","v":" "},{"$f":"IF(AF22=\" \",\" \",ROUND(VLOOKUP(AF18,Kurināmais!$A$4:$I$351,9,FALSE),2))","v":" "},{"$f":"IF(AG22=\" \",\" \",ROUND(VLOOKUP(AG18,Kurināmais!$A$4:$I$351,9,FALSE),2))","v":" "},{"$f":"IF(AH22=\" \",\" \",ROUND(VLOOKUP(AH18,Kurināmais!$A$4:$I$351,9,FALSE),2))","v":" "},{"$f":"IF(AI22=\" \",\" \",ROUND(VLOOKUP(AI18,Kurināmais!$A$4:$I$351,9,FALSE),2))","v":" "},{"$f":"IF(AJ22=\" \",\" \",ROUND(VLOOKUP(AJ18,Kurināmais!$A$4:$I$351,9,FALSE),2))","v":" "},{"$f":"IF(AK22=\" \",\" \",ROUND(VLOOKUP(AK18,Kurināmais!$A$4:$I$351,9,FALSE),2))","v":" "},{"$f":"IF(AL22=\" \",\" \",ROUND(VLOOKUP(AL18,Kurināmais!$A$4:$I$351,9,FALSE),2))","v":" "},{"$f":"IF(AM22=\" \",\" \",ROUND(VLOOKUP(AM18,Kurināmais!$A$4:$I$351,9,FALSE),2))","v":" "},{"$f":"IF(AN22=\" \",\" \",ROUND(VLOOKUP(AN18,Kurināmais!$A$4:$I$351,9,FALSE),2))","v":" "},{"$f":"IF(AO22=\" \",\" \",ROUND(VLOOKUP(AO18,Kurināmais!$A$4:$I$351,9,FALSE),2))","v":" "},{"$f":"IF(AP22=\" \",\" \",ROUND(VLOOKUP(AP18,Kurināmais!$A$4:$I$351,9,FALSE),2))","v":" "},{"$f":"IF(OR(AQ$16=\" \",AQ$16=0,AQ21=0),\" \",SUMPRODUCT(AR21:BC21,AR29:BC29)/AQ21)","v":" "},{"$f":"IF(AR22=\" \",\" \",ROUND(VLOOKUP(AR18,Kurināmais!$A$4:$I$351,9,FALSE),2))","v":" "},{"$f":"IF(AS22=\" \",\" \",ROUND(VLOOKUP(AS18,Kurināmais!$A$4:$I$351,9,FALSE),2))","v":" "},{"$f":"IF(AT22=\" \",\" \",ROUND(VLOOKUP(AT18,Kurināmais!$A$4:$I$351,9,FALSE),2))","v":" "},{"$f":"IF(AU22=\" \",\" \",ROUND(VLOOKUP(AU18,Kurināmais!$A$4:$I$351,9,FALSE),2))","v":" "},{"$f":"IF(AV22=\" \",\" \",ROUND(VLOOKUP(AV18,Kurināmais!$A$4:$I$351,9,FALSE),2))","v":" "},{"$f":"IF(AW22=\" \",\" \",ROUND(VLOOKUP(AW18,Kurināmais!$A$4:$I$351,9,FALSE),2))","v":" "},{"$f":"IF(AX22=\" \",\" \",ROUND(VLOOKUP(AX18,Kurināmais!$A$4:$I$351,9,FALSE),2))","v":" "},{"$f":"IF(AY22=\" \",\" \",ROUND(VLOOKUP(AY18,Kurināmais!$A$4:$I$351,9,FALSE),2))","v":" "},{"$f":"IF(AZ22=\" \",\" \",ROUND(VLOOKUP(AZ18,Kurināmais!$A$4:$I$351,9,FALSE),2))","v":" "},{"$f":"IF(BA22=\" \",\" \",ROUND(VLOOKUP(BA18,Kurināmais!$A$4:$I$351,9,FALSE),2))","v":" "},{"$f":"IF(BB22=\" \",\" \",ROUND(VLOOKUP(BB18,Kurināmais!$A$4:$I$351,9,FALSE),2))","v":" "},{"$f":"IF(BC22=\" \",\" \",ROUND(VLOOKUP(BC18,Kurināmais!$A$4:$I$351,9,FALSE),2))","v":" "},{"$f":"IF(OR(BD$16=\" \",BD$16=0,BD21=0),\" \",SUMPRODUCT(BE21:BP21,BE29:BP29)/BD21)","v":" "},{"$f":"IF(BE22=\" \",\" \",ROUND(VLOOKUP(BE18,Kurināmais!$A$4:$I$351,9,FALSE),2))","v":" "},{"$f":"IF(BF22=\" \",\" \",ROUND(VLOOKUP(BF18,Kurināmais!$A$4:$I$351,9,FALSE),2))","v":" "},{"$f":"IF(BG22=\" \",\" \",ROUND(VLOOKUP(BG18,Kurināmais!$A$4:$I$351,9,FALSE),2))","v":" "},{"$f":"IF(BH22=\" \",\" \",ROUND(VLOOKUP(BH18,Kurināmais!$A$4:$I$351,9,FALSE),2))","v":" "},{"$f":"IF(BI22=\" \",\" \",ROUND(VLOOKUP(BI18,Kurināmais!$A$4:$I$351,9,FALSE),2))","v":" "},{"$f":"IF(BJ22=\" \",\" \",ROUND(VLOOKUP(BJ18,Kurināmais!$A$4:$I$351,9,FALSE),2))","v":" "},{"$f":"IF(BK22=\" \",\" \",ROUND(VLOOKUP(BK18,Kurināmais!$A$4:$I$351,9,FALSE),2))","v":" "},{"$f":"IF(BL22=\" \",\" \",ROUND(VLOOKUP(BL18,Kurināmais!$A$4:$I$351,9,FALSE),2))","v":" "},{"$f":"IF(BM22=\" \",\" \",ROUND(VLOOKUP(BM18,Kurināmais!$A$4:$I$351,9,FALSE),2))","v":" "},{"$f":"IF(BN22=\" \",\" \",ROUND(VLOOKUP(BN18,Kurināmais!$A$4:$I$351,9,FALSE),2))","v":" "},{"$f":"IF(BO22=\" \",\" \",ROUND(VLOOKUP(BO18,Kurināmais!$A$4:$I$351,9,FALSE),2))","v":" "},{"$f":"IF(BP22=\" \",\" \",ROUND(VLOOKUP(BP18,Kurināmais!$A$4:$I$351,9,FALSE),2))","v":" "},{"$f":"IF(OR(BQ$16=\" \",BQ$16=0,BQ21=0),\" \",SUMPRODUCT(BR21:CC21,BR29:CC29)/BQ21)","v":" "},{"$f":"IF(BR22=\" \",\" \",ROUND(VLOOKUP(BR18,Kurināmais!$A$4:$I$351,9,FALSE),2))","v":" "},{"$f":"IF(BS22=\" \",\" \",ROUND(VLOOKUP(BS18,Kurināmais!$A$4:$I$351,9,FALSE),2))","v":" "},{"$f":"IF(BT22=\" \",\" \",ROUND(VLOOKUP(BT18,Kurināmais!$A$4:$I$351,9,FALSE),2))","v":" "},{"$f":"IF(BU22=\" \",\" \",ROUND(VLOOKUP(BU18,Kurināmais!$A$4:$I$351,9,FALSE),2))","v":" "},{"$f":"IF(BV22=\" \",\" \",ROUND(VLOOKUP(BV18,Kurināmais!$A$4:$I$351,9,FALSE),2))","v":" "},{"$f":"IF(BW22=\" \",\" \",ROUND(VLOOKUP(BW18,Kurināmais!$A$4:$I$351,9,FALSE),2))","v":" "},{"$f":"IF(BX22=\" \",\" \",ROUND(VLOOKUP(BX18,Kurināmais!$A$4:$I$351,9,FALSE),2))","v":" "},{"$f":"IF(BY22=\" \",\" \",ROUND(VLOOKUP(BY18,Kurināmais!$A$4:$I$351,9,FALSE),2))","v":" "},{"$f":"IF(BZ22=\" \",\" \",ROUND(VLOOKUP(BZ18,Kurināmais!$A$4:$I$351,9,FALSE),2))","v":" "},{"$f":"IF(CA22=\" \",\" \",ROUND(VLOOKUP(CA18,Kurināmais!$A$4:$I$351,9,FALSE),2))","v":" "},{"$f":"IF(CB22=\" \",\" \",ROUND(VLOOKUP(CB18,Kurināmais!$A$4:$I$351,9,FALSE),2))","v":" "},{"$f":"IF(CC22=\" \",\" \",ROUND(VLOOKUP(CC18,Kurināmais!$A$4:$I$351,9,FALSE),2))","v":" "},{"$f":"IF(OR(CD$16=\" \",CD$16=0,CD21=0),\" \",SUMPRODUCT(CE21:CP21,CE29:CP29)/CD21)","v":" "},{"$f":"IF(CE22=\" \",\" \",ROUND(VLOOKUP(CE18,Kurināmais!$A$4:$I$351,9,FALSE),2))","v":" "},{"$f":"IF(CF22=\" \",\" \",ROUND(VLOOKUP(CF18,Kurināmais!$A$4:$I$351,9,FALSE),2))","v":" "},{"$f":"IF(CG22=\" \",\" \",ROUND(VLOOKUP(CG18,Kurināmais!$A$4:$I$351,9,FALSE),2))","v":" "},{"$f":"IF(CH22=\" \",\" \",ROUND(VLOOKUP(CH18,Kurināmais!$A$4:$I$351,9,FALSE),2))","v":" "},{"$f":"IF(CI22=\" \",\" \",ROUND(VLOOKUP(CI18,Kurināmais!$A$4:$I$351,9,FALSE),2))","v":" "},{"$f":"IF(CJ22=\" \",\" \",ROUND(VLOOKUP(CJ18,Kurināmais!$A$4:$I$351,9,FALSE),2))","v":" "},{"$f":"IF(CK22=\" \",\" \",ROUND(VLOOKUP(CK18,Kurināmais!$A$4:$I$351,9,FALSE),2))","v":" "},{"$f":"IF(CL22=\" \",\" \",ROUND(VLOOKUP(CL18,Kurināmais!$A$4:$I$351,9,FALSE),2))","v":" "},{"$f":"IF(CM22=\" \",\" \",ROUND(VLOOKUP(CM18,Kurināmais!$A$4:$I$351,9,FALSE),2))","v":" "},{"$f":"IF(CN22=\" \",\" \",ROUND(VLOOKUP(CN18,Kurināmais!$A$4:$I$351,9,FALSE),2))","v":" "},{"$f":"IF(CO22=\" \",\" \",ROUND(VLOOKUP(CO18,Kurināmais!$A$4:$I$351,9,FALSE),2))","v":" "},{"$f":"IF(CP22=\" \",\" \",ROUND(VLOOKUP(CP18,Kurināmais!$A$4:$I$351,9,FALSE),2))","v":" "},{"$f":"IF(OR(CQ$16=\" \",CQ$16=0,CQ21=0),\" \",SUMPRODUCT(CR21:DC21,CR29:DC29)/CQ21)","v":" "},{"$f":"IF(CR22=\" \",\" \",ROUND(VLOOKUP(CR18,Kurināmais!$A$4:$I$351,9,FALSE),2))","v":" "},{"$f":"IF(CS22=\" \",\" \",ROUND(VLOOKUP(CS18,Kurināmais!$A$4:$I$351,9,FALSE),2))","v":" "},{"$f":"IF(CT22=\" \",\" \",ROUND(VLOOKUP(CT18,Kurināmais!$A$4:$I$351,9,FALSE),2))","v":" "},{"$f":"IF(CU22=\" \",\" \",ROUND(VLOOKUP(CU18,Kurināmais!$A$4:$I$351,9,FALSE),2))","v":" "},{"$f":"IF(CV22=\" \",\" \",ROUND(VLOOKUP(CV18,Kurināmais!$A$4:$I$351,9,FALSE),2))","v":" "},{"$f":"IF(CW22=\" \",\" \",ROUND(VLOOKUP(CW18,Kurināmais!$A$4:$I$351,9,FALSE),2))","v":" "},{"$f":"IF(CX22=\" \",\" \",ROUND(VLOOKUP(CX18,Kurināmais!$A$4:$I$351,9,FALSE),2))","v":" "},{"$f":"IF(CY22=\" \",\" \",ROUND(VLOOKUP(CY18,Kurināmais!$A$4:$I$351,9,FALSE),2))","v":" "},{"$f":"IF(CZ22=\" \",\" \",ROUND(VLOOKUP(CZ18,Kurināmais!$A$4:$I$351,9,FALSE),2))","v":" "},{"$f":"IF(DA22=\" \",\" \",ROUND(VLOOKUP(DA18,Kurināmais!$A$4:$I$351,9,FALSE),2))","v":" "},{"$f":"IF(DB22=\" \",\" \",ROUND(VLOOKUP(DB18,Kurināmais!$A$4:$I$351,9,FALSE),2))","v":" "},{"$f":"IF(DC22=\" \",\" \",ROUND(VLOOKUP(DC18,Kurināmais!$A$4:$I$351,9,FALSE),2))","v":" "},{"$f":"IF(OR(DD$16=\" \",DD$16=0,DD21=0),\" \",SUMPRODUCT(DE21:DP21,DE29:DP29)/DD21)","v":" "},{"$f":"IF(DE22=\" \",\" \",ROUND(VLOOKUP(DE18,Kurināmais!$A$4:$I$351,9,FALSE),2))","v":" "},{"$f":"IF(DF22=\" \",\" \",ROUND(VLOOKUP(DF18,Kurināmais!$A$4:$I$351,9,FALSE),2))","v":" "},{"$f":"IF(DG22=\" \",\" \",ROUND(VLOOKUP(DG18,Kurināmais!$A$4:$I$351,9,FALSE),2))","v":" "},{"$f":"IF(DH22=\" \",\" \",ROUND(VLOOKUP(DH18,Kurināmais!$A$4:$I$351,9,FALSE),2))","v":" "},{"$f":"IF(DI22=\" \",\" \",ROUND(VLOOKUP(DI18,Kurināmais!$A$4:$I$351,9,FALSE),2))","v":" "},{"$f":"IF(DJ22=\" \",\" \",ROUND(VLOOKUP(DJ18,Kurināmais!$A$4:$I$351,9,FALSE),2))","v":" "},{"$f":"IF(DK22=\" \",\" \",ROUND(VLOOKUP(DK18,Kurināmais!$A$4:$I$351,9,FALSE),2))","v":" "},{"$f":"IF(DL22=\" \",\" \",ROUND(VLOOKUP(DL18,Kurināmais!$A$4:$I$351,9,FALSE),2))","v":" "},{"$f":"IF(DM22=\" \",\" \",ROUND(VLOOKUP(DM18,Kurināmais!$A$4:$I$351,9,FALSE),2))","v":" "},{"$f":"IF(DN22=\" \",\" \",ROUND(VLOOKUP(DN18,Kurināmais!$A$4:$I$351,9,FALSE),2))","v":" "},{"$f":"IF(DO22=\" \",\" \",ROUND(VLOOKUP(DO18,Kurināmais!$A$4:$I$351,9,FALSE),2))","v":" "},{"$f":"IF(DP22=\" \",\" \",ROUND(VLOOKUP(DP18,Kurināmais!$A$4:$I$351,9,FALSE),2))","v":" "},{"$f":"IF(OR(DQ$16=\" \",DQ$16=0,DQ21=0),\" \",SUMPRODUCT(DR21:EC21,DR29:EC29)/DQ21)","v":" "},{"$f":"IF(DR22=\" \",\" \",ROUND(VLOOKUP(DR18,Kurināmais!$A$4:$I$351,9,FALSE),2))","v":" "},{"$f":"IF(DS22=\" \",\" \",ROUND(VLOOKUP(DS18,Kurināmais!$A$4:$I$351,9,FALSE),2))","v":" "},{"$f":"IF(DT22=\" \",\" \",ROUND(VLOOKUP(DT18,Kurināmais!$A$4:$I$351,9,FALSE),2))","v":" "},{"$f":"IF(DU22=\" \",\" \",ROUND(VLOOKUP(DU18,Kurināmais!$A$4:$I$351,9,FALSE),2))","v":" "},{"$f":"IF(DV22=\" \",\" \",ROUND(VLOOKUP(DV18,Kurināmais!$A$4:$I$351,9,FALSE),2))","v":" "},{"$f":"IF(DW22=\" \",\" \",ROUND(VLOOKUP(DW18,Kurināmais!$A$4:$I$351,9,FALSE),2))","v":" "},{"$f":"IF(DX22=\" \",\" \",ROUND(VLOOKUP(DX18,Kurināmais!$A$4:$I$351,9,FALSE),2))","v":" "},{"$f":"IF(DY22=\" \",\" \",ROUND(VLOOKUP(DY18,Kurināmais!$A$4:$I$351,9,FALSE),2))","v":" "},{"$f":"IF(DZ22=\" \",\" \",ROUND(VLOOKUP(DZ18,Kurināmais!$A$4:$I$351,9,FALSE),2))","v":" "},{"$f":"IF(EA22=\" \",\" \",ROUND(VLOOKUP(EA18,Kurināmais!$A$4:$I$351,9,FALSE),2))","v":" "},{"$f":"IF(EB22=\" \",\" \",ROUND(VLOOKUP(EB18,Kurināmais!$A$4:$I$351,9,FALSE),2))","v":" "},{"$f":"IF(EC22=\" \",\" \",ROUND(VLOOKUP(EC18,Kurināmais!$A$4:$I$351,9,FALSE),2))","v":" "},{"$f":"IF(OR(ED$16=\" \",ED$16=0,ED21=0),\" \",SUMPRODUCT(EE21:EP21,EE29:EP29)/ED21)","v":" "},{"$f":"IF(EE22=\" \",\" \",ROUND(VLOOKUP(EE18,Kurināmais!$A$4:$I$351,9,FALSE),2))","v":" "},{"$f":"IF(EF22=\" \",\" \",ROUND(VLOOKUP(EF18,Kurināmais!$A$4:$I$351,9,FALSE),2))","v":" "},{"$f":"IF(EG22=\" \",\" \",ROUND(VLOOKUP(EG18,Kurināmais!$A$4:$I$351,9,FALSE),2))","v":" "},{"$f":"IF(EH22=\" \",\" \",ROUND(VLOOKUP(EH18,Kurināmais!$A$4:$I$351,9,FALSE),2))","v":" "},{"$f":"IF(EI22=\" \",\" \",ROUND(VLOOKUP(EI18,Kurināmais!$A$4:$I$351,9,FALSE),2))","v":" "},{"$f":"IF(EJ22=\" \",\" \",ROUND(VLOOKUP(EJ18,Kurināmais!$A$4:$I$351,9,FALSE),2))","v":" "},{"$f":"IF(EK22=\" \",\" \",ROUND(VLOOKUP(EK18,Kurināmais!$A$4:$I$351,9,FALSE),2))","v":" "},{"$f":"IF(EL22=\" \",\" \",ROUND(VLOOKUP(EL18,Kurināmais!$A$4:$I$351,9,FALSE),2))","v":" "},{"$f":"IF(EM22=\" \",\" \",ROUND(VLOOKUP(EM18,Kurināmais!$A$4:$I$351,9,FALSE),2))","v":" "},{"$f":"IF(EN22=\" \",\" \",ROUND(VLOOKUP(EN18,Kurināmais!$A$4:$I$351,9,FALSE),2))","v":" "},{"$f":"IF(EO22=\" \",\" \",ROUND(VLOOKUP(EO18,Kurināmais!$A$4:$I$351,9,FALSE),2))","v":" "},{"$f":"IF(EP22=\" \",\" \",ROUND(VLOOKUP(EP18,Kurināmais!$A$4:$I$351,9,FALSE),2))","v":" "},{"$f":"IF(OR(EQ$16=\" \",EQ$16=0,EQ21=0),\" \",SUMPRODUCT(ER21:FC21,ER29:FC29)/EQ21)","v":" "},{"$f":"IF(ER22=\" \",\" \",ROUND(VLOOKUP(ER18,Kurināmais!$A$4:$I$351,9,FALSE),2))","v":" "},{"$f":"IF(ES22=\" \",\" \",ROUND(VLOOKUP(ES18,Kurināmais!$A$4:$I$351,9,FALSE),2))","v":" "},{"$f":"IF(ET22=\" \",\" \",ROUND(VLOOKUP(ET18,Kurināmais!$A$4:$I$351,9,FALSE),2))","v":" "},{"$f":"IF(EU22=\" \",\" \",ROUND(VLOOKUP(EU18,Kurināmais!$A$4:$I$351,9,FALSE),2))","v":" "},{"$f":"IF(EV22=\" \",\" \",ROUND(VLOOKUP(EV18,Kurināmais!$A$4:$I$351,9,FALSE),2))","v":" "},{"$f":"IF(EW22=\" \",\" \",ROUND(VLOOKUP(EW18,Kurināmais!$A$4:$I$351,9,FALSE),2))","v":" "},{"$f":"IF(EX22=\" \",\" \",ROUND(VLOOKUP(EX18,Kurināmais!$A$4:$I$351,9,FALSE),2))","v":" "},{"$f":"IF(EY22=\" \",\" \",ROUND(VLOOKUP(EY18,Kurināmais!$A$4:$I$351,9,FALSE),2))","v":" "},{"$f":"IF(EZ22=\" \",\" \",ROUND(VLOOKUP(EZ18,Kurināmais!$A$4:$I$351,9,FALSE),2))","v":" "},{"$f":"IF(FA22=\" \",\" \",ROUND(VLOOKUP(FA18,Kurināmais!$A$4:$I$351,9,FALSE),2))","v":" "},{"$f":"IF(FB22=\" \",\" \",ROUND(VLOOKUP(FB18,Kurināmais!$A$4:$I$351,9,FALSE),2))","v":" "},{"$f":"IF(FC22=\" \",\" \",ROUND(VLOOKUP(FC18,Kurināmais!$A$4:$I$351,9,FALSE),2))","v":" "},{"$f":"IF(OR(FD$16=\" \",FD$16=0,FD21=0),\" \",SUMPRODUCT(FE21:FP21,FE29:FP29)/FD21)","v":" "},{"$f":"IF(FE22=\" \",\" \",ROUND(VLOOKUP(FE18,Kurināmais!$A$4:$I$351,9,FALSE),2))","v":" "},{"$f":"IF(FF22=\" \",\" \",ROUND(VLOOKUP(FF18,Kurināmais!$A$4:$I$351,9,FALSE),2))","v":" "},{"$f":"IF(FG22=\" \",\" \",ROUND(VLOOKUP(FG18,Kurināmais!$A$4:$I$351,9,FALSE),2))","v":" "},{"$f":"IF(FH22=\" \",\" \",ROUND(VLOOKUP(FH18,Kurināmais!$A$4:$I$351,9,FALSE),2))","v":" "},{"$f":"IF(FI22=\" \",\" \",ROUND(VLOOKUP(FI18,Kurināmais!$A$4:$I$351,9,FALSE),2))","v":" "},{"$f":"IF(FJ22=\" \",\" \",ROUND(VLOOKUP(FJ18,Kurināmais!$A$4:$I$351,9,FALSE),2))","v":" "},{"$f":"IF(FK22=\" \",\" \",ROUND(VLOOKUP(FK18,Kurināmais!$A$4:$I$351,9,FALSE),2))","v":" "},{"$f":"IF(FL22=\" \",\" \",ROUND(VLOOKUP(FL18,Kurināmais!$A$4:$I$351,9,FALSE),2))","v":" "},{"$f":"IF(FM22=\" \",\" \",ROUND(VLOOKUP(FM18,Kurināmais!$A$4:$I$351,9,FALSE),2))","v":" "},{"$f":"IF(FN22=\" \",\" \",ROUND(VLOOKUP(FN18,Kurināmais!$A$4:$I$351,9,FALSE),2))","v":" "},{"$f":"IF(FO22=\" \",\" \",ROUND(VLOOKUP(FO18,Kurināmais!$A$4:$I$351,9,FALSE),2))","v":" "},{"$f":"IF(FP22=\" \",\" \",ROUND(VLOOKUP(FP18,Kurināmais!$A$4:$I$351,9,FALSE),2))","v":" "},{"$f":"IF(OR(FQ$16=\" \",FQ$16=0,FQ21=0),\" \",SUMPRODUCT(FR21:GC21,FR29:GC29)/FQ21)","v":" "},{"$f":"IF(FR22=\" \",\" \",ROUND(VLOOKUP(FR18,Kurināmais!$A$4:$I$351,9,FALSE),2))","v":" "},{"$f":"IF(FS22=\" \",\" \",ROUND(VLOOKUP(FS18,Kurināmais!$A$4:$I$351,9,FALSE),2))","v":" "},{"$f":"IF(FT22=\" \",\" \",ROUND(VLOOKUP(FT18,Kurināmais!$A$4:$I$351,9,FALSE),2))","v":" "},{"$f":"IF(FU22=\" \",\" \",ROUND(VLOOKUP(FU18,Kurināmais!$A$4:$I$351,9,FALSE),2))","v":" "},{"$f":"IF(FV22=\" \",\" \",ROUND(VLOOKUP(FV18,Kurināmais!$A$4:$I$351,9,FALSE),2))","v":" "},{"$f":"IF(FW22=\" \",\" \",ROUND(VLOOKUP(FW18,Kurināmais!$A$4:$I$351,9,FALSE),2))","v":" "},{"$f":"IF(FX22=\" \",\" \",ROUND(VLOOKUP(FX18,Kurināmais!$A$4:$I$351,9,FALSE),2))","v":" "},{"$f":"IF(FY22=\" \",\" \",ROUND(VLOOKUP(FY18,Kurināmais!$A$4:$I$351,9,FALSE),2))","v":" "},{"$f":"IF(FZ22=\" \",\" \",ROUND(VLOOKUP(FZ18,Kurināmais!$A$4:$I$351,9,FALSE),2))","v":" "},{"$f":"IF(GA22=\" \",\" \",ROUND(VLOOKUP(GA18,Kurināmais!$A$4:$I$351,9,FALSE),2))","v":" "},{"$f":"IF(GB22=\" \",\" \",ROUND(VLOOKUP(GB18,Kurināmais!$A$4:$I$351,9,FALSE),2))","v":" "},{"$f":"IF(GC22=\" \",\" \",ROUND(VLOOKUP(GC18,Kurināmais!$A$4:$I$351,9,FALSE),2))","v":" "},{"$f":"IF(OR(GD$16=\" \",GD$16=0,GD21=0),\" \",SUMPRODUCT(GE21:GP21,GE29:GP29)/GD21)","v":" "},{"$f":"IF(GE22=\" \",\" \",ROUND(VLOOKUP(GE18,Kurināmais!$A$4:$I$351,9,FALSE),2))","v":" "},{"$f":"IF(GF22=\" \",\" \",ROUND(VLOOKUP(GF18,Kurināmais!$A$4:$I$351,9,FALSE),2))","v":" "},{"$f":"IF(GG22=\" \",\" \",ROUND(VLOOKUP(GG18,Kurināmais!$A$4:$I$351,9,FALSE),2))","v":" "},{"$f":"IF(GH22=\" \",\" \",ROUND(VLOOKUP(GH18,Kurināmais!$A$4:$I$351,9,FALSE),2))","v":" "},{"$f":"IF(GI22=\" \",\" \",ROUND(VLOOKUP(GI18,Kurināmais!$A$4:$I$351,9,FALSE),2))","v":" "},{"$f":"IF(GJ22=\" \",\" \",ROUND(VLOOKUP(GJ18,Kurināmais!$A$4:$I$351,9,FALSE),2))","v":" "},{"$f":"IF(GK22=\" \",\" \",ROUND(VLOOKUP(GK18,Kurināmais!$A$4:$I$351,9,FALSE),2))","v":" "},{"$f":"IF(GL22=\" \",\" \",ROUND(VLOOKUP(GL18,Kurināmais!$A$4:$I$351,9,FALSE),2))","v":" "},{"$f":"IF(GM22=\" \",\" \",ROUND(VLOOKUP(GM18,Kurināmais!$A$4:$I$351,9,FALSE),2))","v":" "},{"$f":"IF(GN22=\" \",\" \",ROUND(VLOOKUP(GN18,Kurināmais!$A$4:$I$351,9,FALSE),2))","v":" "},{"$f":"IF(GO22=\" \",\" \",ROUND(VLOOKUP(GO18,Kurināmais!$A$4:$I$351,9,FALSE),2))","v":" "},{"$f":"IF(GP22=\" \",\" \",ROUND(VLOOKUP(GP18,Kurināmais!$A$4:$I$351,9,FALSE),2))","v":" "},{"$f":"IF(OR(GQ$16=\" \",GQ$16=0,GQ21=0),\" \",SUMPRODUCT(GR21:HC21,GR29:HC29)/GQ21)","v":" "},{"$f":"IF(GR22=\" \",\" \",ROUND(VLOOKUP(GR18,Kurināmais!$A$4:$I$351,9,FALSE),2))","v":" "},{"$f":"IF(GS22=\" \",\" \",ROUND(VLOOKUP(GS18,Kurināmais!$A$4:$I$351,9,FALSE),2))","v":" "},{"$f":"IF(GT22=\" \",\" \",ROUND(VLOOKUP(GT18,Kurināmais!$A$4:$I$351,9,FALSE),2))","v":" "},{"$f":"IF(GU22=\" \",\" \",ROUND(VLOOKUP(GU18,Kurināmais!$A$4:$I$351,9,FALSE),2))","v":" "},{"$f":"IF(GV22=\" \",\" \",ROUND(VLOOKUP(GV18,Kurināmais!$A$4:$I$351,9,FALSE),2))","v":" "},{"$f":"IF(GW22=\" \",\" \",ROUND(VLOOKUP(GW18,Kurināmais!$A$4:$I$351,9,FALSE),2))","v":" "},{"$f":"IF(GX22=\" \",\" \",ROUND(VLOOKUP(GX18,Kurināmais!$A$4:$I$351,9,FALSE),2))","v":" "},{"$f":"IF(GY22=\" \",\" \",ROUND(VLOOKUP(GY18,Kurināmais!$A$4:$I$351,9,FALSE),2))","v":" "},{"$f":"IF(GZ22=\" \",\" \",ROUND(VLOOKUP(GZ18,Kurināmais!$A$4:$I$351,9,FALSE),2))","v":" "},{"$f":"IF(HA22=\" \",\" \",ROUND(VLOOKUP(HA18,Kurināmais!$A$4:$I$351,9,FALSE),2))","v":" "},{"$f":"IF(HB22=\" \",\" \",ROUND(VLOOKUP(HB18,Kurināmais!$A$4:$I$351,9,FALSE),2))","v":" "},{"$f":"IF(HC22=\" \",\" \",ROUND(VLOOKUP(HC18,Kurināmais!$A$4:$I$351,9,FALSE),2))","v":" "},{"$f":"IF(OR(HD$16=\" \",HD$16=0,HD21=0),\" \",SUMPRODUCT(HE21:HP21,HE29:HP29)/HD21)","v":" "},{"$f":"IF(HE22=\" \",\" \",ROUND(VLOOKUP(HE18,Kurināmais!$A$4:$I$351,9,FALSE),2))","v":" "},{"$f":"IF(HF22=\" \",\" \",ROUND(VLOOKUP(HF18,Kurināmais!$A$4:$I$351,9,FALSE),2))","v":" "},{"$f":"IF(HG22=\" \",\" \",ROUND(VLOOKUP(HG18,Kurināmais!$A$4:$I$351,9,FALSE),2))","v":" "},{"$f":"IF(HH22=\" \",\" \",ROUND(VLOOKUP(HH18,Kurināmais!$A$4:$I$351,9,FALSE),2))","v":" "},{"$f":"IF(HI22=\" \",\" \",ROUND(VLOOKUP(HI18,Kurināmais!$A$4:$I$351,9,FALSE),2))","v":" "},{"$f":"IF(HJ22=\" \",\" \",ROUND(VLOOKUP(HJ18,Kurināmais!$A$4:$I$351,9,FALSE),2))","v":" "},{"$f":"IF(HK22=\" \",\" \",ROUND(VLOOKUP(HK18,Kurināmais!$A$4:$I$351,9,FALSE),2))","v":" "},{"$f":"IF(HL22=\" \",\" \",ROUND(VLOOKUP(HL18,Kurināmais!$A$4:$I$351,9,FALSE),2))","v":" "},{"$f":"IF(HM22=\" \",\" \",ROUND(VLOOKUP(HM18,Kurināmais!$A$4:$I$351,9,FALSE),2))","v":" "},{"$f":"IF(HN22=\" \",\" \",ROUND(VLOOKUP(HN18,Kurināmais!$A$4:$I$351,9,FALSE),2))","v":" "},{"$f":"IF(HO22=\" \",\" \",ROUND(VLOOKUP(HO18,Kurināmais!$A$4:$I$351,9,FALSE),2))","v":" "},{"$f":"IF(HP22=\" \",\" \",ROUND(VLOOKUP(HP18,Kurināmais!$A$4:$I$351,9,FALSE),2))","v":" "},{"$f":"IF(OR(HQ$16=\" \",HQ$16=0,HQ21=0),\" \",SUMPRODUCT(HR21:IC21,HR29:IC29)/HQ21)","v":" "},{"$f":"IF(HR22=\" \",\" \",ROUND(VLOOKUP(HR18,Kurināmais!$A$4:$I$351,9,FALSE),2))","v":" "},{"$f":"IF(HS22=\" \",\" \",ROUND(VLOOKUP(HS18,Kurināmais!$A$4:$I$351,9,FALSE),2))","v":" "},{"$f":"IF(HT22=\" \",\" \",ROUND(VLOOKUP(HT18,Kurināmais!$A$4:$I$351,9,FALSE),2))","v":" "},{"$f":"IF(HU22=\" \",\" \",ROUND(VLOOKUP(HU18,Kurināmais!$A$4:$I$351,9,FALSE),2))","v":" "},{"$f":"IF(HV22=\" \",\" \",ROUND(VLOOKUP(HV18,Kurināmais!$A$4:$I$351,9,FALSE),2))","v":" "},{"$f":"IF(HW22=\" \",\" \",ROUND(VLOOKUP(HW18,Kurināmais!$A$4:$I$351,9,FALSE),2))","v":" "},{"$f":"IF(HX22=\" \",\" \",ROUND(VLOOKUP(HX18,Kurināmais!$A$4:$I$351,9,FALSE),2))","v":" "},{"$f":"IF(HY22=\" \",\" \",ROUND(VLOOKUP(HY18,Kurināmais!$A$4:$I$351,9,FALSE),2))","v":" "},{"$f":"IF(HZ22=\" \",\" \",ROUND(VLOOKUP(HZ18,Kurināmais!$A$4:$I$351,9,FALSE),2))","v":" "},{"$f":"IF(IA22=\" \",\" \",ROUND(VLOOKUP(IA18,Kurināmais!$A$4:$I$351,9,FALSE),2))","v":" "},{"$f":"IF(IB22=\" \",\" \",ROUND(VLOOKUP(IB18,Kurināmais!$A$4:$I$351,9,FALSE),2))","v":" "},{"$f":"IF(IC22=\" \",\" \",ROUND(VLOOKUP(IC18,Kurināmais!$A$4:$I$351,9,FALSE),2))","v":" "},{"$f":"IF(OR(ID$16=\" \",ID$16=0,ID21=0),\" \",SUMPRODUCT(IE21:IP21,IE29:IP29)/ID21)","v":" "},{"$f":"IF(IE22=\" \",\" \",ROUND(VLOOKUP(IE18,Kurināmais!$A$4:$I$351,9,FALSE),2))","v":" "},{"$f":"IF(IF22=\" \",\" \",ROUND(VLOOKUP(IF18,Kurināmais!$A$4:$I$351,9,FALSE),2))","v":" "},{"$f":"IF(IG22=\" \",\" \",ROUND(VLOOKUP(IG18,Kurināmais!$A$4:$I$351,9,FALSE),2))","v":" "},{"$f":"IF(IH22=\" \",\" \",ROUND(VLOOKUP(IH18,Kurināmais!$A$4:$I$351,9,FALSE),2))","v":" "},{"$f":"IF(II22=\" \",\" \",ROUND(VLOOKUP(II18,Kurināmais!$A$4:$I$351,9,FALSE),2))","v":" "},{"$f":"IF(IJ22=\" \",\" \",ROUND(VLOOKUP(IJ18,Kurināmais!$A$4:$I$351,9,FALSE),2))","v":" "},{"$f":"IF(IK22=\" \",\" \",ROUND(VLOOKUP(IK18,Kurināmais!$A$4:$I$351,9,FALSE),2))","v":" "},{"$f":"IF(IL22=\" \",\" \",ROUND(VLOOKUP(IL18,Kurināmais!$A$4:$I$351,9,FALSE),2))","v":" "},{"$f":"IF(IM22=\" \",\" \",ROUND(VLOOKUP(IM18,Kurināmais!$A$4:$I$351,9,FALSE),2))","v":" "},{"$f":"IF(IN22=\" \",\" \",ROUND(VLOOKUP(IN18,Kurināmais!$A$4:$I$351,9,FALSE),2))","v":" "},{"$f":"IF(IO22=\" \",\" \",ROUND(VLOOKUP(IO18,Kurināmais!$A$4:$I$351,9,FALSE),2))","v":" "},{"$f":"IF(IP22=\" \",\" \",ROUND(VLOOKUP(IP18,Kurināmais!$A$4:$I$351,9,FALSE),2))","v":" "},{"$f":"IF(OR(IQ$16=\" \",IQ$16=0,IQ21=0),\" \",SUMPRODUCT(IR21:JC21,IR29:JC29)/IQ21)","v":" "},{"$f":"IF(IR22=\" \",\" \",ROUND(VLOOKUP(IR18,Kurināmais!$A$4:$I$351,9,FALSE),2))","v":" "},{"$f":"IF(IS22=\" \",\" \",ROUND(VLOOKUP(IS18,Kurināmais!$A$4:$I$351,9,FALSE),2))","v":" "},{"$f":"IF(IT22=\" \",\" \",ROUND(VLOOKUP(IT18,Kurināmais!$A$4:$I$351,9,FALSE),2))","v":" "},{"$f":"IF(IU22=\" \",\" \",ROUND(VLOOKUP(IU18,Kurināmais!$A$4:$I$351,9,FALSE),2))","v":" "},{"$f":"IF(IV22=\" \",\" \",ROUND(VLOOKUP(IV18,Kurināmais!$A$4:$I$351,9,FALSE),2))","v":" "},{"$f":"IF(IW22=\" \",\" \",ROUND(VLOOKUP(IW18,Kurināmais!$A$4:$I$351,9,FALSE),2))","v":" "},{"$f":"IF(IX22=\" \",\" \",ROUND(VLOOKUP(IX18,Kurināmais!$A$4:$I$351,9,FALSE),2))","v":" "},{"$f":"IF(IY22=\" \",\" \",ROUND(VLOOKUP(IY18,Kurināmais!$A$4:$I$351,9,FALSE),2))","v":" "},{"$f":"IF(IZ22=\" \",\" \",ROUND(VLOOKUP(IZ18,Kurināmais!$A$4:$I$351,9,FALSE),2))","v":" "},{"$f":"IF(JA22=\" \",\" \",ROUND(VLOOKUP(JA18,Kurināmais!$A$4:$I$351,9,FALSE),2))","v":" "},{"$f":"IF(JB22=\" \",\" \",ROUND(VLOOKUP(JB18,Kurināmais!$A$4:$I$351,9,FALSE),2))","v":" "},{"$f":"IF(JC22=\" \",\" \",ROUND(VLOOKUP(JC18,Kurināmais!$A$4:$I$351,9,FALSE),2))","v":" "},{"$f":"IF(OR(JD$16=\" \",JD$16=0,JD21=0),\" \",SUMPRODUCT(JE21:JP21,JE29:JP29)/JD21)","v":" "},{"$f":"IF(JE22=\" \",\" \",ROUND(VLOOKUP(JE18,Kurināmais!$A$4:$I$351,9,FALSE),2))","v":" "},{"$f":"IF(JF22=\" \",\" \",ROUND(VLOOKUP(JF18,Kurināmais!$A$4:$I$351,9,FALSE),2))","v":" "},{"$f":"IF(JG22=\" \",\" \",ROUND(VLOOKUP(JG18,Kurināmais!$A$4:$I$351,9,FALSE),2))","v":" "},{"$f":"IF(JH22=\" \",\" \",ROUND(VLOOKUP(JH18,Kurināmais!$A$4:$I$351,9,FALSE),2))","v":" "},{"$f":"IF(JI22=\" \",\" \",ROUND(VLOOKUP(JI18,Kurināmais!$A$4:$I$351,9,FALSE),2))","v":" "},{"$f":"IF(JJ22=\" \",\" \",ROUND(VLOOKUP(JJ18,Kurināmais!$A$4:$I$351,9,FALSE),2))","v":" "},{"$f":"IF(JK22=\" \",\" \",ROUND(VLOOKUP(JK18,Kurināmais!$A$4:$I$351,9,FALSE),2))","v":" "},{"$f":"IF(JL22=\" \",\" \",ROUND(VLOOKUP(JL18,Kurināmais!$A$4:$I$351,9,FALSE),2))","v":" "},{"$f":"IF(JM22=\" \",\" \",ROUND(VLOOKUP(JM18,Kurināmais!$A$4:$I$351,9,FALSE),2))","v":" "},{"$f":"IF(JN22=\" \",\" \",ROUND(VLOOKUP(JN18,Kurināmais!$A$4:$I$351,9,FALSE),2))","v":" "},{"$f":"IF(JO22=\" \",\" \",ROUND(VLOOKUP(JO18,Kurināmais!$A$4:$I$351,9,FALSE),2))","v":" "},{"$f":"IF(JP22=\" \",\" \",ROUND(VLOOKUP(JP18,Kurināmais!$A$4:$I$351,9,FALSE),2))","v":" "},{"$f":"IF(OR(JQ$16=\" \",JQ$16=0,JQ21=0),\" \",SUMPRODUCT(JR21:KC21,JR29:KC29)/JQ21)","v":" "},{"$f":"IF(JR22=\" \",\" \",ROUND(VLOOKUP(JR18,Kurināmais!$A$4:$I$351,9,FALSE),2))","v":" "},{"$f":"IF(JS22=\" \",\" \",ROUND(VLOOKUP(JS18,Kurināmais!$A$4:$I$351,9,FALSE),2))","v":" "},{"$f":"IF(JT22=\" \",\" \",ROUND(VLOOKUP(JT18,Kurināmais!$A$4:$I$351,9,FALSE),2))","v":" "},{"$f":"IF(JU22=\" \",\" \",ROUND(VLOOKUP(JU18,Kurināmais!$A$4:$I$351,9,FALSE),2))","v":" "},{"$f":"IF(JV22=\" \",\" \",ROUND(VLOOKUP(JV18,Kurināmais!$A$4:$I$351,9,FALSE),2))","v":" "},{"$f":"IF(JW22=\" \",\" \",ROUND(VLOOKUP(JW18,Kurināmais!$A$4:$I$351,9,FALSE),2))","v":" "},{"$f":"IF(JX22=\" \",\" \",ROUND(VLOOKUP(JX18,Kurināmais!$A$4:$I$351,9,FALSE),2))","v":" "},{"$f":"IF(JY22=\" \",\" \",ROUND(VLOOKUP(JY18,Kurināmais!$A$4:$I$351,9,FALSE),2))","v":" "},{"$f":"IF(JZ22=\" \",\" \",ROUND(VLOOKUP(JZ18,Kurināmais!$A$4:$I$351,9,FALSE),2))","v":" "},{"$f":"IF(KA22=\" \",\" \",ROUND(VLOOKUP(KA18,Kurināmais!$A$4:$I$351,9,FALSE),2))","v":" "},{"$f":"IF(KB22=\" \",\" \",ROUND(VLOOKUP(KB18,Kurināmais!$A$4:$I$351,9,FALSE),2))","v":" "},{"$f":"IF(KC22=\" \",\" \",ROUND(VLOOKUP(KC18,Kurināmais!$A$4:$I$351,9,FALSE),2))","v":" "},{"$f":"IF(OR(KD$16=\" \",KD$16=0,KD21=0),\" \",SUMPRODUCT(KE21:KP21,KE29:KP29)/KD21)","v":" "},{"$f":"IF(KE22=\" \",\" \",ROUND(VLOOKUP(KE18,Kurināmais!$A$4:$I$351,9,FALSE),2))","v":" "},{"$f":"IF(KF22=\" \",\" \",ROUND(VLOOKUP(KF18,Kurināmais!$A$4:$I$351,9,FALSE),2))","v":" "},{"$f":"IF(KG22=\" \",\" \",ROUND(VLOOKUP(KG18,Kurināmais!$A$4:$I$351,9,FALSE),2))","v":" "},{"$f":"IF(KH22=\" \",\" \",ROUND(VLOOKUP(KH18,Kurināmais!$A$4:$I$351,9,FALSE),2))","v":" "},{"$f":"IF(KI22=\" \",\" \",ROUND(VLOOKUP(KI18,Kurināmais!$A$4:$I$351,9,FALSE),2))","v":" "},{"$f":"IF(KJ22=\" \",\" \",ROUND(VLOOKUP(KJ18,Kurināmais!$A$4:$I$351,9,FALSE),2))","v":" "},{"$f":"IF(KK22=\" \",\" \",ROUND(VLOOKUP(KK18,Kurināmais!$A$4:$I$351,9,FALSE),2))","v":" "},{"$f":"IF(KL22=\" \",\" \",ROUND(VLOOKUP(KL18,Kurināmais!$A$4:$I$351,9,FALSE),2))","v":" "},{"$f":"IF(KM22=\" \",\" \",ROUND(VLOOKUP(KM18,Kurināmais!$A$4:$I$351,9,FALSE),2))","v":" "},{"$f":"IF(KN22=\" \",\" \",ROUND(VLOOKUP(KN18,Kurināmais!$A$4:$I$351,9,FALSE),2))","v":" "},{"$f":"IF(KO22=\" \",\" \",ROUND(VLOOKUP(KO18,Kurināmais!$A$4:$I$351,9,FALSE),2))","v":" "},{"$f":"IF(KP22=\" \",\" \",ROUND(VLOOKUP(KP18,Kurināmais!$A$4:$I$351,9,FALSE),2))","v":" "},{"$f":"IF(OR(KQ$16=\" \",KQ$16=0,KQ21=0),\" \",SUMPRODUCT(KR21:LC21,KR29:LC29)/KQ21)","v":" "},{"$f":"IF(KR22=\" \",\" \",ROUND(VLOOKUP(KR18,Kurināmais!$A$4:$I$351,9,FALSE),2))","v":" "},{"$f":"IF(KS22=\" \",\" \",ROUND(VLOOKUP(KS18,Kurināmais!$A$4:$I$351,9,FALSE),2))","v":" "},{"$f":"IF(KT22=\" \",\" \",ROUND(VLOOKUP(KT18,Kurināmais!$A$4:$I$351,9,FALSE),2))","v":" "},{"$f":"IF(KU22=\" \",\" \",ROUND(VLOOKUP(KU18,Kurināmais!$A$4:$I$351,9,FALSE),2))","v":" "},{"$f":"IF(KV22=\" \",\" \",ROUND(VLOOKUP(KV18,Kurināmais!$A$4:$I$351,9,FALSE),2))","v":" "},{"$f":"IF(KW22=\" \",\" \",ROUND(VLOOKUP(KW18,Kurināmais!$A$4:$I$351,9,FALSE),2))","v":" "},{"$f":"IF(KX22=\" \",\" \",ROUND(VLOOKUP(KX18,Kurināmais!$A$4:$I$351,9,FALSE),2))","v":" "},{"$f":"IF(KY22=\" \",\" \",ROUND(VLOOKUP(KY18,Kurināmais!$A$4:$I$351,9,FALSE),2))","v":" "},{"$f":"IF(KZ22=\" \",\" \",ROUND(VLOOKUP(KZ18,Kurināmais!$A$4:$I$351,9,FALSE),2))","v":" "},{"$f":"IF(LA22=\" \",\" \",ROUND(VLOOKUP(LA18,Kurināmais!$A$4:$I$351,9,FALSE),2))","v":" "},{"$f":"IF(LB22=\" \",\" \",ROUND(VLOOKUP(LB18,Kurināmais!$A$4:$I$351,9,FALSE),2))","v":" "},{"$f":"IF(LC22=\" \",\" \",ROUND(VLOOKUP(LC18,Kurināmais!$A$4:$I$351,9,FALSE),2))","v":" "},{"$f":"IF(OR(LD$16=\" \",LD$16=0,LD21=0),\" \",SUMPRODUCT(LE21:LP21,LE29:LP29)/LD21)","v":" "},{"$f":"IF(LE22=\" \",\" \",ROUND(VLOOKUP(LE18,Kurināmais!$A$4:$I$351,9,FALSE),2))","v":" "},{"$f":"IF(LF22=\" \",\" \",ROUND(VLOOKUP(LF18,Kurināmais!$A$4:$I$351,9,FALSE),2))","v":" "},{"$f":"IF(LG22=\" \",\" \",ROUND(VLOOKUP(LG18,Kurināmais!$A$4:$I$351,9,FALSE),2))","v":" "},{"$f":"IF(LH22=\" \",\" \",ROUND(VLOOKUP(LH18,Kurināmais!$A$4:$I$351,9,FALSE),2))","v":" "},{"$f":"IF(LI22=\" \",\" \",ROUND(VLOOKUP(LI18,Kurināmais!$A$4:$I$351,9,FALSE),2))","v":" "},{"$f":"IF(LJ22=\" \",\" \",ROUND(VLOOKUP(LJ18,Kurināmais!$A$4:$I$351,9,FALSE),2))","v":" "},{"$f":"IF(LK22=\" \",\" \",ROUND(VLOOKUP(LK18,Kurināmais!$A$4:$I$351,9,FALSE),2))","v":" "},{"$f":"IF(LL22=\" \",\" \",ROUND(VLOOKUP(LL18,Kurināmais!$A$4:$I$351,9,FALSE),2))","v":" "},{"$f":"IF(LM22=\" \",\" \",ROUND(VLOOKUP(LM18,Kurināmais!$A$4:$I$351,9,FALSE),2))","v":" "},{"$f":"IF(LN22=\" \",\" \",ROUND(VLOOKUP(LN18,Kurināmais!$A$4:$I$351,9,FALSE),2))","v":" "},{"$f":"IF(LO22=\" \",\" \",ROUND(VLOOKUP(LO18,Kurināmais!$A$4:$I$351,9,FALSE),2))","v":" "},{"$f":"IF(LP22=\" \",\" \",ROUND(VLOOKUP(LP18,Kurināmais!$A$4:$I$351,9,FALSE),2))","v":" "},{"$f":"IF(OR(LQ$16=\" \",LQ$16=0,LQ21=0),\" \",SUMPRODUCT(LR21:MC21,LR29:MC29)/LQ21)","v":" "},{"$f":"IF(LR22=\" \",\" \",ROUND(VLOOKUP(LR18,Kurināmais!$A$4:$I$351,9,FALSE),2))","v":" "},{"$f":"IF(LS22=\" \",\" \",ROUND(VLOOKUP(LS18,Kurināmais!$A$4:$I$351,9,FALSE),2))","v":" "},{"$f":"IF(LT22=\" \",\" \",ROUND(VLOOKUP(LT18,Kurināmais!$A$4:$I$351,9,FALSE),2))","v":" "},{"$f":"IF(LU22=\" \",\" \",ROUND(VLOOKUP(LU18,Kurināmais!$A$4:$I$351,9,FALSE),2))","v":" "},{"$f":"IF(LV22=\" \",\" \",ROUND(VLOOKUP(LV18,Kurināmais!$A$4:$I$351,9,FALSE),2))","v":" "},{"$f":"IF(LW22=\" \",\" \",ROUND(VLOOKUP(LW18,Kurināmais!$A$4:$I$351,9,FALSE),2))","v":" "},{"$f":"IF(LX22=\" \",\" \",ROUND(VLOOKUP(LX18,Kurināmais!$A$4:$I$351,9,FALSE),2))","v":" "},{"$f":"IF(LY22=\" \",\" \",ROUND(VLOOKUP(LY18,Kurināmais!$A$4:$I$351,9,FALSE),2))","v":" "},{"$f":"IF(LZ22=\" \",\" \",ROUND(VLOOKUP(LZ18,Kurināmais!$A$4:$I$351,9,FALSE),2))","v":" "},{"$f":"IF(MA22=\" \",\" \",ROUND(VLOOKUP(MA18,Kurināmais!$A$4:$I$351,9,FALSE),2))","v":" "},{"$f":"IF(MB22=\" \",\" \",ROUND(VLOOKUP(MB18,Kurināmais!$A$4:$I$351,9,FALSE),2))","v":" "},{"$f":"IF(MC22=\" \",\" \",ROUND(VLOOKUP(MC18,Kurināmais!$A$4:$I$351,9,FALSE),2))","v":" "},{"$f":"IF(OR(MD$16=\" \",MD$16=0,MD21=0),\" \",SUMPRODUCT(ME21:MP21,ME29:MP29)/MD21)","v":" "},{"$f":"IF(ME22=\" \",\" \",ROUND(VLOOKUP(ME18,Kurināmais!$A$4:$I$351,9,FALSE),2))","v":" "},{"$f":"IF(MF22=\" \",\" \",ROUND(VLOOKUP(MF18,Kurināmais!$A$4:$I$351,9,FALSE),2))","v":" "},{"$f":"IF(MG22=\" \",\" \",ROUND(VLOOKUP(MG18,Kurināmais!$A$4:$I$351,9,FALSE),2))","v":" "},{"$f":"IF(MH22=\" \",\" \",ROUND(VLOOKUP(MH18,Kurināmais!$A$4:$I$351,9,FALSE),2))","v":" "},{"$f":"IF(MI22=\" \",\" \",ROUND(VLOOKUP(MI18,Kurināmais!$A$4:$I$351,9,FALSE),2))","v":" "},{"$f":"IF(MJ22=\" \",\" \",ROUND(VLOOKUP(MJ18,Kurināmais!$A$4:$I$351,9,FALSE),2))","v":" "},{"$f":"IF(MK22=\" \",\" \",ROUND(VLOOKUP(MK18,Kurināmais!$A$4:$I$351,9,FALSE),2))","v":" "},{"$f":"IF(ML22=\" \",\" \",ROUND(VLOOKUP(ML18,Kurināmais!$A$4:$I$351,9,FALSE),2))","v":" "},{"$f":"IF(MM22=\" \",\" \",ROUND(VLOOKUP(MM18,Kurināmais!$A$4:$I$351,9,FALSE),2))","v":" "},{"$f":"IF(MN22=\" \",\" \",ROUND(VLOOKUP(MN18,Kurināmais!$A$4:$I$351,9,FALSE),2))","v":" "},{"$f":"IF(MO22=\" \",\" \",ROUND(VLOOKUP(MO18,Kurināmais!$A$4:$I$351,9,FALSE),2))","v":" "},{"$f":"IF(MP22=\" \",\" \",ROUND(VLOOKUP(MP18,Kurināmais!$A$4:$I$351,9,FALSE),2))","v":" "},{"$f":"IF(OR(MQ$16=\" \",MQ$16=0,MQ21=0),\" \",SUMPRODUCT(MR21:NC21,MR29:NC29)/MQ21)","v":" "},{"$f":"IF(MR22=\" \",\" \",ROUND(VLOOKUP(MR18,Kurināmais!$A$4:$I$351,9,FALSE),2))","v":" "},{"$f":"IF(MS22=\" \",\" \",ROUND(VLOOKUP(MS18,Kurināmais!$A$4:$I$351,9,FALSE),2))","v":" "},{"$f":"IF(MT22=\" \",\" \",ROUND(VLOOKUP(MT18,Kurināmais!$A$4:$I$351,9,FALSE),2))","v":" "},{"$f":"IF(MU22=\" \",\" \",ROUND(VLOOKUP(MU18,Kurināmais!$A$4:$I$351,9,FALSE),2))","v":" "},{"$f":"IF(MV22=\" \",\" \",ROUND(VLOOKUP(MV18,Kurināmais!$A$4:$I$351,9,FALSE),2))","v":" "},{"$f":"IF(MW22=\" \",\" \",ROUND(VLOOKUP(MW18,Kurināmais!$A$4:$I$351,9,FALSE),2))","v":" "},{"$f":"IF(MX22=\" \",\" \",ROUND(VLOOKUP(MX18,Kurināmais!$A$4:$I$351,9,FALSE),2))","v":" "},{"$f":"IF(MY22=\" \",\" \",ROUND(VLOOKUP(MY18,Kurināmais!$A$4:$I$351,9,FALSE),2))","v":" "},{"$f":"IF(MZ22=\" \",\" \",ROUND(VLOOKUP(MZ18,Kurināmais!$A$4:$I$351,9,FALSE),2))","v":" "},{"$f":"IF(NA22=\" \",\" \",ROUND(VLOOKUP(NA18,Kurināmais!$A$4:$I$351,9,FALSE),2))","v":" "},{"$f":"IF(NB22=\" \",\" \",ROUND(VLOOKUP(NB18,Kurināmais!$A$4:$I$351,9,FALSE),2))","v":" "},{"$f":"IF(NC22=\" \",\" \",ROUND(VLOOKUP(NC18,Kurināmais!$A$4:$I$351,9,FALSE),2))","v":" "},{"$f":"IF(OR(ND$16=\" \",ND$16=0,ND21=0),\" \",SUMPRODUCT(NE21:NP21,NE29:NP29)/ND21)","v":" "},{"$f":"IF(NE22=\" \",\" \",ROUND(VLOOKUP(NE18,Kurināmais!$A$4:$I$351,9,FALSE),2))","v":" "},{"$f":"IF(NF22=\" \",\" \",ROUND(VLOOKUP(NF18,Kurināmais!$A$4:$I$351,9,FALSE),2))","v":" "},{"$f":"IF(NG22=\" \",\" \",ROUND(VLOOKUP(NG18,Kurināmais!$A$4:$I$351,9,FALSE),2))","v":" "},{"$f":"IF(NH22=\" \",\" \",ROUND(VLOOKUP(NH18,Kurināmais!$A$4:$I$351,9,FALSE),2))","v":" "},{"$f":"IF(NI22=\" \",\" \",ROUND(VLOOKUP(NI18,Kurināmais!$A$4:$I$351,9,FALSE),2))","v":" "},{"$f":"IF(NJ22=\" \",\" \",ROUND(VLOOKUP(NJ18,Kurināmais!$A$4:$I$351,9,FALSE),2))","v":" "},{"$f":"IF(NK22=\" \",\" \",ROUND(VLOOKUP(NK18,Kurināmais!$A$4:$I$351,9,FALSE),2))","v":" "},{"$f":"IF(NL22=\" \",\" \",ROUND(VLOOKUP(NL18,Kurināmais!$A$4:$I$351,9,FALSE),2))","v":" "},{"$f":"IF(NM22=\" \",\" \",ROUND(VLOOKUP(NM18,Kurināmais!$A$4:$I$351,9,FALSE),2))","v":" "},{"$f":"IF(NN22=\" \",\" \",ROUND(VLOOKUP(NN18,Kurināmais!$A$4:$I$351,9,FALSE),2))","v":" "},{"$f":"IF(NO22=\" \",\" \",ROUND(VLOOKUP(NO18,Kurināmais!$A$4:$I$351,9,FALSE),2))","v":" "},{"$f":"IF(NP22=\" \",\" \",ROUND(VLOOKUP(NP18,Kurināmais!$A$4:$I$351,9,FALSE),2))","v":" "}]
["Kurināmā izdevumi","EUR"," ",{"$f":"IF(OR(D$16=\" \",D$16=0),\" \",SUM(E30:P30))","v":" "},{"$f":"IF(E22=\" \",\" \",((($C$7+$C$11)*$BD$6)/$C$12)/12*E29)","v":" "}," "," "," "," "," "," "," "," "," "," "," ",{"$f":"IF(OR(Q$16=\" \",Q$16=0),\" \",SUM(R30:AC30))","v":" "},{"$f":"IF(R22=\" \",\" \",((($C$7+$C$11)*$BD$6)/$C$12)/12*R29)","v":" "}," "," "," "," "," "," "," "," "," "," "," ",{"$f":"IF(OR(AD$16=\" \",AD$16=0),\" \",SUM(AE30:AP30))","v":" "},{"$f":"IF(AE22=\" \",\" \",((($C$7+$C$11)*$BD$6)/$C$12)/12*AE29)","v":" "}," "," "," "," "," "," "," "," "," "," "," ",{"$f":"IF(OR(AQ$16=\" \",AQ$16=0),\" \",SUM(AR30:BC30))","v":" "},{"$f":"IF(AR22=\" \",\" \",((($C$7+$C$11)*$BD$6)/$C$12)/12*AR29)","v":" "}," "," "," "," "," "," "," "," "," "," "," ",{"$f":"IF(OR(BD$16=\" \",BD$16=0),\" \",SUM(BE30:BP30))","v":" "},{"$f":"IF(BE22=\" \",\" \",((($C$7+$C$11)*$BD$6)/$C$12)/12*BE29)","v":" "}," "," "," "," "," "," "," "," "," "," "," ",{"$f":"IF(OR(BQ$16=\" \",BQ$16=0),\" \",SUM(BR30:CC30))","v":" "},{"$f":"IF(BR22=\" \",\" \",((($C$7+$C$11)*$BD$6)/$C$12)/12*BR29)","v":" "}," "," "," "," "," "," "," "," "," "," "," ",{"$f":"IF(OR(CD$16=\" \",CD$16=0),\" \",SUM(CE30:CP30))","v":" "},{"$f":"IF(CE22=\" \",\" \",((($C$7+$C$11)*$BD$6)/$C$12)/12*CE29)","v":" "}," "," "," "," "," "," "," "," "," "," "," ",{"$f":"IF(OR(CQ$16=\" \",CQ$16=0),\" \",SUM(CR30:DC30))","v":" "},{"$f":"IF(CR22=\" \",\" \",((($C$7+$C$11)*$BD$6)/$C$12)/12*CR29)","v":" "}," "," "," "," "," "," "," "," "," "," "," ",{"$f":"IF(OR(DD$16=\" \",DD$16=0),\" \",SUM(DE30:DP30))","v":" "},{"$f":"IF(DE22=\" \",\" \",((($C$7+$C$11)*$BD$6)/$C$12)/12*DE29)","v":" "}," "," "," "," "," "," "," "," "," "," "," ",{"$f":"IF(OR(DQ$16=\" \",DQ$16=0),\" \",SUM(DR30:EC30))","v":" "},{"$f":"IF(DR22=\" \",\" \",((($C$7+$C$11)*$BD$6)/$C$12)/12*DR29)","v":" "}," "," "," "," "," "," "," "," "," "," "," ",{"$f":"IF(OR(ED$16=\" \",ED$16=0),\" \",SUM(EE30:EP30))","v":" "},{"$f":"IF(EE22=\" \",\" \",((($C$7+$C$11)*$BD$6)/$C$12)/12*EE29)","v":" "}," "," "," "," "," "," "," "," "," "," "," ",{"$f":"IF(OR(EQ$16=\" \",EQ$16=0),\" \",SUM(ER30:FC30))","v":" "},{"$f":"IF(ER22=\" \",\" \",((($C$7+$C$11)*$BD$6)/$C$12)/12*ER29)","v":" "}," "," "," "," "," "," "," "," "," "," "," ",{"$f":"IF(OR(FD$16=\" \",FD$16=0),\" \",SUM(FE30:FP30))","v":" "},{"$f":"IF(FE22=\" \",\" \",((($C$7+$C$11)*$BD$6)/$C$12)/12*FE29)","v":" "}," "," "," "," "," "," "," "," "," "," "," ",{"$f":"IF(OR(FQ$16=\" \",FQ$16=0),\" \",SUM(FR30:GC30))","v":" "},{"$f":"IF(FR22=\" \",\" \",((($C$7+$C$11)*$BD$6)/$C$12)/12*FR29)","v":" "}," "," "," "," "," "," "," "," "," "," "," ",{"$f":"IF(OR(GD$16=\" \",GD$16=0),\" \",SUM(GE30:GP30))","v":" "},{"$f":"IF(GE22=\" \",\" \",((($C$7+$C$11)*$BD$6)/$C$12)/12*GE29)","v":" "}," "," "," "," "," "," "," "," "," "," "," ",{"$f":"IF(OR(GQ$16=\" \",GQ$16=0),\" \",SUM(GR30:HC30))","v":" "},{"$f":"IF(GR22=\" \",\" \",((($C$7+$C$11)*$BD$6)/$C$12)/12*GR29)","v":" "}," "," "," "," "," "," "," "," "," "," "," ",{"$f":"IF(OR(HD$16=\" \",HD$16=0),\" \",SUM(HE30:HP30))","v":" "},{"$f":"IF(HE22=\" \",\" \",((($C$7+$C$11)*$BD$6)/$C$12)/12*HE29)","v":" "}," "," "," "," "," "," "," "," "," "," "," ",{"$f":"IF(OR(HQ$16=\" \",HQ$16=0),\" \",SUM(HR30:IC30))","v":" "},{"$f":"IF(HR22=\" \",\" \",((($C$7+$C$11)*$BD$6)/$C$12)/12*HR29)","v":" "}," "," "," "," "," "," "," "," "," "," "," ",{"$f":"IF(OR(ID$16=\" \",ID$16=0),\" \",SUM(IE30:IP30))","v":" "},{"$f":"IF(IE22=\" \",\" \",((($C$7+$C$11)*$BD$6)/$C$12)/12*IE29)","v":" "}," "," "," "," "," "," "," "," "," "," "," ",{"$f":"IF(OR(IQ$16=\" \",IQ$16=0),\" \",SUM(IR30:JC30))","v":" "},{"$f":"IF(IR22=\" \",\" \",((($C$7+$C$11)*$BD$6)/$C$12)/12*IR29)","v":" "}," "," "," "," "," "," "," "," "," "," "," ",{"$f":"IF(OR(JD$16=\" \",JD$16=0),\" \",SUM(JE30:JP30))","v":" "},{"$f":"IF(JE22=\" \",\" \",((($C$7+$C$11)*$BD$6)/$C$12)/12*JE29)","v":" "}," "," "," "," "," "," "," "," "," "," "," ",{"$f":"IF(OR(JQ$16=\" \",JQ$16=0),\" \",SUM(JR30:KC30))","v":" "},{"$f":"IF(JR22=\" \",\" \",((($C$7+$C$11)*$BD$6)/$C$12)/12*JR29)","v":" "}," "," "," "," "," "," "," "," "," "," "," ",{"$f":"IF(OR(KD$16=\" \",KD$16=0),\" \",SUM(KE30:KP30))","v":" "},{"$f":"IF(KE22=\" \",\" \",((($C$7+$C$11)*$BD$6)/$C$12)/12*KE29)","v":" "}," "," "," "," "," "," "," "," "," "," "," ",{"$f":"IF(OR(KQ$16=\" \",KQ$16=0),\" \",SUM(KR30:LC30))","v":" "},{"$f":"IF(KR22=\" \",\" \",((($C$7+$C$11)*$BD$6)/$C$12)/12*KR29)","v":" "}," "," "," "," "," "," "," "," "," "," "," ",{"$f":"IF(OR(LD$16=\" \",LD$16=0),\" \",SUM(LE30:LP30))","v":" "},{"$f":"IF(LE22=\" \",\" \",((($C$7+$C$11)*$BD$6)/$C$12)/12*LE29)","v":" "}," "," "," "," "," "," "," "," "," "," "," ",{"$f":"IF(OR(LQ$16=\" \",LQ$16=0),\" \",SUM(LR30:MC30))","v":" "},{"$f":"IF(LR22=\" \",\" \",((($C$7+$C$11)*$BD$6)/$C$12)/12*LR29)","v":" "}," "," "," "," "," "," "," "," "," "," "," ",{"$f":"IF(OR(MD$16=\" \",MD$16=0),\" \",SUM(ME30:MP30))","v":" "},{"$f":"IF(ME22=\" \",\" \",((($C$7+$C$11)*$BD$6)/$C$12)/12*ME29)","v":" "}," "," "," "," "," "," "," "," "," "," "," ",{"$f":"IF(OR(MQ$16=\" \",MQ$16=0),\" \",SUM(MR30:NC30))","v":" "},{"$f":"IF(MR22=\" \",\" \",((($C$7+$C$11)*$BD$6)/$C$12)/12*MR29)","v":" "}," "," "," "," "," "," "," "," "," "," "," ",{"$f":"IF(OR(ND$16=\" \",ND$16=0),\" \",SUM(NE30:NP30))","v":" "},{"$f":"IF(NE22=\" \",\" \",((($C$7+$C$11)*$BD$6)/$C$12)/12*NE29)","v":" "}," "," "," "," "," "," "," "," "," "," "," "]
["Tīrā Naudas Plūsma","EUR",null,{"$f":"IF(D22=\" \",\" \",SUM(E31:P31)+D25)","v":" "},{"$f":"IF(OR(E22=\" \",E22=0),\" \",E19-E26)","v":" "}," "," "," "," "," "," "," "," "," "," "," ",{"$f":"IF(Q22=\" \",\" \",SUM(R31:AC31)+Q25)","v":" "},{"$f":"IF(OR(R22=\" \",R22=0),\" \",R19-R26)","v":" "}," "," "," "," "," "," "," "," "," "," "," ",{"$f":"IF(AD22=\" \",\" \",SUM(AE31:AP31)+AD25)","v":" "},{"$f":"IF(OR(AE22=\" \",AE22=0),\" \",AE19-AE26)","v":" "}," "," "," "," "," "," "," "," "," "," "," ",{"$f":"IF(AQ22=\" \",\" \",SUM(AR31:BC31)+AQ25)","v":" "},{"$f":"IF(OR(AR22=\" \",AR22=0),\" \",AR19-AR26)","v":" "}," "," "," "," "," "," "," "," "," "," "," ",{"$f":"IF(BD22=\" \",\" \",SUM(BE31:BP31)+BD25)","v":" "},{"$f":"IF(OR(BE22=\" \",BE22=0),\" \",BE19-BE26)","v":" "}," "," "," "," "," "," "," "," "," "," "," ",{"$f":"IF(BQ22=\" \",\" \",SUM(BR31:CC31)+BQ25)","v":" "},{"$f":"IF(OR(BR22=\" \",BR22=0),\" \",BR19-BR26)","v":" "}," "," "," "," "," "," "," "," "," "," "," ",{"$f":"IF(CD22=\" \",\" \",SUM(CE31:CP31)+CD25)","v":" "},{"$f":"IF(OR(CE22=\" \",CE22=0),\" \",CE19-CE26)","v":" "}," "," "," "," "," "," "," "," "," "," "," ",{"$f":"IF(CQ22=\" \",\" \",SUM(CR31:DC31)+CQ25)","v":" "},{"$f":"IF(OR(CR22=\" \",CR22=0),\" \",CR19-CR26)","v":" "}," "," "," "," "," "," "," "," "," "," "," ",{"$f":"IF(DD22=\" \",\" \",SUM(DE31:DP31)+DD25)","v":" "},{"$f":"IF(OR(DE22=\" \",DE22=0),\" \",DE19-DE26)","v":" "}," "," "," "," "," "," "," "," "," "," "," ",{"$f":"IF(DQ22=\" \",\" \",SUM(DR31:EC31)+DQ25)","v":" "},{"$f":"IF(OR(DR22=\" \",DR22=0),\" \",DR19-DR26)","v":" "}," "," "," "," "," "," "," "," "," "," "," ",{"$f":"IF(ED22=\" \",\" \",SUM(EE31:EP31)+ED25)","v":" "},{"$f":"IF(OR(EE22=\" \",EE22=0),\" \",EE19-EE26)","v":" "}," "," "," "," "," "," "," "," "," "," "," ",{"$f":"IF(EQ22=\" \",\" \",SUM(ER31:FC31)+EQ25)","v":" "},{"$f":"IF(OR(ER22=\" \",ER22=0),\" \",ER19-ER26)","v":" "}," "," "," "," "," "," "," "," "," "," "," ",{"$f":"IF(FD22=\" \",\" \",SUM(FE31:FP31)+FD25)","v":" "},{"$f":"IF(OR(FE22=\" \",FE22=0),\" \",FE19-FE26)","v":" "}," "," "," "," "," "," "," "," "," "," "," ",{"$f":"IF(FQ22=\" \",\" \",SUM(FR31:GC31)+FQ25)","v":" "},{"$f":"IF(OR(FR22=\" \",FR22=0),\" \",FR19-FR26)","v":" "}," "," "," "," "," "," "," "," "," "," "," ",{"$f":"IF(GD22=\" \",\" \",SUM(GE31:GP31)+GD25)","v":" "},{"$f":"IF(OR(GE22=\" \",GE22=0),\" \",GE19-GE26)","v":" "}," "," "," "," "," "," "," "," "," "," "," ",{"$f":"IF(GQ22=\" \",\" \",SUM(GR31:HC31)+GQ25)","v":" "},{"$f":"IF(OR(GR22=\" \",GR22=0),\" \",GR19-GR26)","v":" "}," "," "," "," "," "," "," "," "," "," "," ",{"$f":"IF(HD22=\" \",\" \",SUM(HE31:HP31)+HD25)","v":" "},{"$f":"IF(OR(HE22=\" \",HE22=0),\" \",HE19-HE26)","v":" "}," "," "," "," "," "," "," "," "," "," "," ",{"$f":"IF(HQ22=\" \",\" \",SUM(HR31:IC31)+HQ25)","v":" "},{"$f":"IF(OR(HR22=\" \",HR22=0),\" \",HR19-HR26)","v":" "}," "," "," "," "," "," "," "," "," "," "," ",{"$f":"IF(ID22=\" \",\" \",SUM(IE31:IP31)+ID25)","v":" "},{"$f":"IF(OR(IE22=\" \",IE22=0),\" \",IE19-IE26)","v":" "}," "," "," "," "," "," "," "," "," "," "," ",{"$f":"IF(IQ22=\" \",\" \",SUM(IR31:JC31)+IQ25)","v":" "},{"$f":"IF(OR(IR22=\" \",IR22=0),\" \",IR19-IR26)","v":" "}," "," "," "," "," "," "," "," "," "," "," ",{"$f":"IF(JD22=\" \",\" \",SUM(JE31:JP31)+JD25)","v":" "},{"$f":"IF(OR(JE22=\" \",JE22=0),\" \",JE19-JE26)","v":" "}," "," "," "," "," "," "," "," "," "," "," ",{"$f":"IF(JQ22=\" \",\" \",SUM(JR31:KC31)+JQ25)","v":" "},{"$f":"IF(OR(JR22=\" \",JR22=0),\" \",JR19-JR26)","v":" "}," "," "," "," "," "," "," "," "," "," "," ",{"$f":"IF(KD22=\" \",\" \",SUM(KE31:KP31)+KD25)","v":" "},{"$f":"IF(OR(KE22=\" \",KE22=0),\" \",KE19-KE26)","v":" "}," "," "," "," "," "," "," "," "," "," "," ",{"$f":"IF(KQ22=\" \",\" \",SUM(KR31:LC31)+KQ25)","v":" "},{"$f":"IF(OR(KR22=\" \",KR22=0),\" \",KR19-KR26)","v":" "}," "," "," "," "," "," "," "," "," "," "," ",{"$f":"IF(LD22=\" \",\" \",SUM(LE31:LP31)+LD25)","v":" "},{"$f":"IF(OR(LE22=\" \",LE22=0),\" \",LE19-LE26)","v":" "}," "," "," "," "," "," "," "," "," "," "," ",{"$f":"IF(LQ22=\" \",\" \",SUM(LR31:MC31)+LQ25)","v":" "},{"$f":"IF(OR(LR22=\" \",LR22=0),\" \",LR19-LR26)","v":" "}," "," "," "," "," "," "," "," "," "," "," ",{"$f":"IF(MD22=\" \",\" \",SUM(ME31:MP31)+MD25)","v":" "},{"$f":"IF(OR(ME22=\" \",ME22=0),\" \",ME19-ME26)","v":" "}," "," "," "," "," "," "," "," "," "," "," ",{"$f":"IF(MQ22=\" \",\" \",SUM(MR31:NC31)+MQ25)","v":" "},{"$f":"IF(OR(MR22=\" \",MR22=0),\" \",MR19-MR26)","v":" "}," "," "," "," "," "," "," "," "," "," "," ",{"$f":"IF(ND22=\" \",\" \",SUM(NE31:NP31)+ND25)","v":" "},{"$f":"IF(OR(NE22=\" \",NE22=0),\" \",NE19-NE26)","v":" "}," "," "," "," "," "," "," "," "," "," "," "]
["Tīrā Naudas Plūsma un investīcijas",null,{"$f":"IF(AND(C$16>=0,C$16<=$NQ$4+1),IF(C$16=0,-$C$8-$C$9+C25,C31),\" \")","v":" "},{"$f":"IF(AND(D$16>=0,D$16<=$NQ$4+1),IF(D$16=0,-$C$8-$C$9+D25,D31),\" \")","v":" "},null,null,null,null,null,null,null,null,null,null,null,null,{"$f":"IF(AND(Q$16>=0,Q$16<=$NQ$4+1),IF(Q$16=0,-$C$8-$C$9+Q25,Q31),\" \")","v":" "},null,null,null,null,null,null,null,null,null,null,null,null,{"$f":"IF(AND(AD$16>=0,AD$16<=$NQ$4+1),IF(AD$16=0,-$C$8-$C$9+AD25,AD31),\" \")","v":" "},null,null,null,null,null,null,null,null,null,null,null,null,{"$f":"IF(AND(AQ$16>=0,AQ$16<=$NQ$4+1),IF(AQ$16=0,-$C$8-$C$9+AQ25,AQ31),\" \")","v":" "},null,null,null,null,null,null,null,null,null,null,null,null,{"$f":"IF(AND(BD$16>=0,BD$16<=$NQ$4+1),IF(BD$16=0,-$C$8-$C$9+BD25,BD31),\" \")","v":" "},null,null,null,null,null,null,null,null,null,null,null,null,{"$f":"IF(AND(BQ$16>=0,BQ$16<=$NQ$4+1),IF(BQ$16=0,-$C$8-$C$9+BQ25,BQ31),\" \")","v":" "},null,null,null,null,null,null,null,null,null,null,null,null,{"$f":"IF(AND(CD$16>=0,CD$16<=$NQ$4+1),IF(CD$16=0,-$C$8-$C$9+CD25,CD31),\" \")","v":" "},null,null,null,null,null,null,null,null,null,null,null,null,{"$f":"IF(AND(CQ$16>=0,CQ$16<=$NQ$4+1),IF(CQ$16=0,-$C$8-$C$9+CQ25,CQ31),\" \")","v":" "},null,null,null,null,null,null,null,null,null,null,null,null,{"$f":"IF(AND(DD$16>=0,DD$16<=$NQ$4+1),IF(DD$16=0,-$C$8-$C$9+DD25,DD31),\" \")","v":" "},null,null,null,null,null,null,null,null,null,null,null,null,{"$f":"IF(AND(DQ$16>=0,DQ$16<=$NQ$4+1),IF(DQ$16=0,-$C$8-$C$9+DQ25,DQ31),\" \")","v":" "},null,null,null,null,null,null,null,null,null,null,null,null,{"$f":"IF(AND(ED$16>=0,ED$16<=$NQ$4+1),IF(ED$16=0,-$C$8-$C$9+ED25,ED31),\" \")","v":" "},null,null,null,null,null,null,null,null,null,null,null,null,{"$f":"IF(AND(EQ$16>=0,EQ$16<=$NQ$4+1),IF(EQ$16=0,-$C$8-$C$9+EQ25,EQ31),\" \")","v":" "},null,null,null,null,null,null,null,null,null,null,null,null,{"$f":"IF(AND(FD$16>=0,FD$16<=$NQ$4+1),IF(FD$16=0,-$C$8-$C$9+FD25,FD31),\" \")","v":" "},null,null,null,null,null,null,null,null,null,null,null,null,{"$f":"IF(AND(FQ$16>=0,FQ$16<=$NQ$4+1),IF(FQ$16=0,-$C$8-$C$9+FQ25,FQ31),\" \")","v":" "},null,null,null,null,null,null,null,null,null,null,null,null,{"$f":"IF(AND(GD$16>=0,GD$16<=$NQ$4+1),IF(GD$16=0,-$C$8-$C$9+GD25,GD31),\" \")","v":" "},null,null,null,null,null,null,null,null,null,null,null,null,{"$f":"IF(AND(GQ$16>=0,GQ$16<=$NQ$4+1),IF(GQ$16=0,-$C$8-$C$9+GQ25,GQ31),\" \")","v":" "},null,null,null,null,null,null,null,null,null,null,null,null,{"$f":"IF(AND(HD$16>=0,HD$16<=$NQ$4+1),IF(HD$16=0,-$C$8-$C$9+HD25,HD31),\" \")","v":" "},null,null,null,null,null,null,null,null,null,null,null,null,{"$f":"IF(AND(HQ$16>=0,HQ$16<=$NQ$4+1),IF(HQ$16=0,-$C$8-$C$9+HQ25,HQ31),\" \")","v":" "},null,null,null,null,null,null,null,null,null,null,null,null,{"$f":"IF(AND(ID$16>=0,ID$16<=$NQ$4+1),IF(ID$16=0,-$C$8-$C$9+ID25,ID31),\" \")","v":" "},null,null,null,null,null,null,null,null,null,null,null,null,{"$f":"IF(AND(IQ$16>=0,IQ$16<=$NQ$4+1),IF(IQ$16=0,-$C$8-$C$9+IQ25,IQ31),\" \")","v":" "},null,null,null,null,null,null,null,null,null,null,null,null,{"$f":"IF(AND(JD$16>=0,JD$16<=$NQ$4+1),IF(JD$16=0,-$C$8-$C$9+JD25,JD31),\" \")","v":" "},null,null,null,null,null,null,null,null,null,null,null,null,{"$f":"IF(AND(JQ$16>=0,JQ$16<=$NQ$4+1),IF(JQ$16=0,-$C$8-$C$9+JQ25,JQ31),\" \")","v":" "},null,null,null,null,null,null,null,null,null,null,null,null,{"$f":"IF(AND(KD$16>=0,KD$16<=$NQ$4+1),IF(KD$16=0,-$C$8-$C$9+KD25,KD31),\" \")","v":" "},null,null,null,null,null,null,null,null,null,null,null,null,{"$f":"IF(AND(KQ$16>=0,KQ$16<=$NQ$4+1),IF(KQ$16=0,-$C$8-$C$9+KQ25,KQ31),\" \")","v":" "},null,null,null,null,null,null,null,null,null,null,null,null,{"$f":"IF(AND(LD$16>=0,LD$16<=$NQ$4+1),IF(LD$16=0,-$C$8-$C$9+LD25,LD31),\" \")","v":" "},null,null,null,null,null,null,null,null,null,null,null,null,{"$f":"IF(AND(LQ$16>=0,LQ$16<=$NQ$4+1),IF(LQ$16=0,-$C$8-$C$9+LQ25,LQ31),\" \")","v":" "},null,null,null,null,null,null,null,null,null,null,null,null,{"$f":"IF(AND(MD$16>=0,MD$16<=$NQ$4+1),IF(MD$16=0,-$C$8-$C$9+MD25,MD31),\" \")","v":" "},null,null,null,null,null,null,null,null,null,null,null,null,{"$f":"IF(AND(MQ$16>=0,MQ$16<=$NQ$4+1),IF(MQ$16=0,-$C$8-$C$9+MQ25,MQ31),\" \")","v":" "},null,null,null,null,null,null,null,null,null,null,null,null,{"$f":"IF(AND(ND$16>=0,ND$16<=$NQ$4+1),IF(ND$16=0,-$C$8-$C$9+ND25,ND31),\" \")","v":" "}]
["IRR",null,null,{"$f":"IF(OR(D32=\" \",D$16<=0),\" \",IRR($C$32:D$32))","v":" "},null,null,null,null,null,null,null,null,null,null,null,null,{"$f":"IF(OR(Q32=\" \",Q$16<=0),\" \",IRR($C$32:Q$32))","v":" "},null,null,null,null,null,null,null,null,null,null,null,null,{"$f":"IF(OR(AD32=\" \",AD$16<=0),\" \",IRR($C$32:AD$32))","v":" "},null,null,null,null,null,null,null,null,null,null,null,null,{"$f":"IF(OR(AQ32=\" \",AQ$16<=0),\" \",IRR($C$32:AQ$32))","v":" "},null,null,null,null,null,null,null,null,null,null,null,null,{"$f":"IF(OR(BD32=\" \",BD$16<=0),\" \",IRR($C$32:BD$32))","v":" "},null,null,null,null,null,null,null,null,null,null,null,null,{"$f":"IF(OR(BQ32=\" \",BQ$16<=0),\" \",IRR($C$32:BQ$32))","v":" "},null,null,null,null,null,null,null,null,null,null,null,null,{"$f":"IF(OR(CD32=\" \",CD$16<=0),\" \",IRR($C$32:CD$32))","v":" "},null,null,null,null,null,null,null,null,null,null,null,null,{"$f":"IF(OR(CQ32=\" \",CQ$16<=0),\" \",IRR($C$32:CQ$32))","v":" "},null,null,null,null,null,null,null,null,null,null,null,null,{"$f":"IF(OR(DD32=\" \",DD$16<=0),\" \",IRR($C$32:DD$32))","v":" "},null,null,null,null,null,null,null,null,null,null,null,null,{"$f":"IF(OR(DQ32=\" \",DQ$16<=0),\" \",IRR($C$32:DQ$32))","v":" "},null,null,null,null,null,null,null,null,null,null,null,null,{"$f":"IF(OR(ED32=\" \",ED$16<=0),\" \",IRR($C$32:ED$32))","v":" "},null,null,null,null,null,null,null,null,null,null,null,null,{"$f":"IF(OR(EQ32=\" \",EQ$16<=0),\" \",IRR($C$32:EQ$32))","v":" "},null,null,null,null,null,null,null,null,null,null,null,null,{"$f":"IF(OR(FD32=\" \",FD$16<=0),\" \",IRR($C$32:FD$32))","v":" "},null,null,null,null,null,null,null,null,null,null,null,null,{"$f":"IF(OR(FQ32=\" \",FQ$16<=0),\" \",IRR($C$32:FQ$32))","v":" "},null,null,null,null,null,null,null,null,null,null,null,null,{"$f":"IF(OR(GD32=\" \",GD$16<=0),\" \",IRR($C$32:GD$32))","v":" "},null,null,null,null,null,null,null,null,null,null,null,null,{"$f":"IF(OR(GQ32=\" \",GQ$16<=0),\" \",IRR($C$32:GQ$32))","v":" "},null,null,null,null,null,null,null,null,null,null,null,null,{"$f":"IF(OR(HD32=\" \",HD$16<=0),\" \",IRR($C$32:HD$32))","v":" "},null,null,null,null,null,null,null,null,null,null,null,null,{"$f":"IF(OR(HQ32=\" \",HQ$16<=0),\" \",IRR($C$32:HQ$32))","v":" "},null,null,null,null,null,null,null,null,null,null,null,null,{"$f":"IF(OR(ID32=\" \",ID$16<=0),\" \",IRR($C$32:ID$32))","v":" "},null,null,null,null,null,null,null,null,null,null,null,null,{"$f":"IF(OR(IQ32=\" \",IQ$16<=0),\" \",IRR($C$32:IQ$32))","v":" "},null,null,null,null,null,null,null,null,null,null,null,null,{"$f":"IF(OR(JD32=\" \",JD$16<=0),\" \",IRR($C$32:JD$32))","v":" "},null,null,null,null,null,null,null,null,null,null,null,null,{"$f":"IF(OR(JQ32=\" \",JQ$16<=0),\" \",IRR($C$32:JQ$32))","v":" "},null,null,null,null,null,null,null,null,null,null,null,null,{"$f":"IF(OR(KD32=\" \",KD$16<=0),\" \",IRR($C$32:KD$32))","v":" "},null,null,null,null,null,null,null,null,null,null,null,null,{"$f":"IF(OR(KQ32=\" \",KQ$16<=0),\" \",IRR($C$32:KQ$32))","v":" "},null,null,null,null,null,null,null,null,null,null,null,null,{"$f":"IF(OR(LD32=\" \",LD$16<=0),\" \",IRR($C$32:LD$32))","v":" "},null,null,null,null,null,null,null,null,null,null,null,null,{"$f":"IF(OR(LQ32=\" \",LQ$16<=0),\" \",IRR($C$32:LQ$32))","v":" "},null,null,null,null,null,null,null,null,null,null,null,null,{"$f":"IF(OR(MD32=\" \",MD$16<=0),\" \",IRR($C$32:MD$32))","v":" "},null,null,null,null,null,null,null,null,null,null,null,null,{"$f":"IF(OR(MQ32=\" \",MQ$16<=0),\" \",IRR($C$32:MQ$32))","v":" "},null,null,null,null,null,null,null,null,null,null,null,null,{"$f":"IF(OR(ND32=\" \",ND$16<=0),\" \",IRR($C$32:ND$32))","v":" "}]
["Pārkompensācijas koeficients",1]
["Pārkompensācijas koeficients spēkā no",2017,7]
["IRR pirms pārkompen.koeficienta piemērošanas",{"$f":"IF($C$6=12,HLOOKUP(NQ4,A16:NP33,18,FALSE),HLOOKUP(NQ6,A16:NP33,18,FALSE))","v":{"$error":"#N/A"}}]
["IRR pēc pārkompen.koeficienta piemērošanas",{"$f":"IF($C$6=12,HLOOKUP(NQ4,A42:NP59,18,FALSE),HLOOKUP(NQ6,A42:NP59,18,FALSE))","v":{"$error":"#N/A"}}]
[]
[]
["IRR aprēķins (pēc pārkompensācijas koeficienta)"]
["Gads",null,2006,{"$f":"C41+1","v":2007},2007,null,null,null,null,null,null,null,null,null,null,null,{"$f":"D41+1","v":2008},2008,null,null,null,null,null,null,null,null,null,null,null,{"$f":"Q41+1","v":2009},2009,null,null,null,null,null,null,null,null,null,null,null,{"$f":"AD41+1","v":2010},2010,null,null,null,null,null,null,null,null,null,null,null,{"$f":"AQ41+1","v":2011},2011,null,null,null,null,null,null,null,null,null,null,null,2012,2012,null,null,null,null,null,null,null,null,null,null,null,2013,2013,null,null,null,null,null,null,null,null,null,null,null,2014,2014,null,null,null,null,null,null,null,null,null,null,null,2015,2015,null,null,null,null,null,null,null,null,null,null,null,2016,2016,null,null,null,null,null,null,null,null,null,null,null,2017,2017,null,null,null,null,null,null,null,null,null,null,null,2018,2018,null,null,null,null,null,null,null,null,null,null,null,2019,2019,null,null,null,null,null,null,null,null,null,null,null,2020,2020,null,null,null,null,null,null,null,null,null,null,null,2021,2021,null,null,null,null,null,null,null,null,null,null,null,2022,2022,null,null,null,null,null,null,null,null,null,null,null,2023,2023,null,null,null,null,null,null,null,null,null,null,null,2024,2024,null,null,null,null,null,null,null,null,null,null,null,2025,2024,null,null,null,null,null,null,null,null,null,null,null,2026,2026,null,null,null,null,null,null,null,null,null,null,null,2027,2027,null,null,null,null,null,null,null,null,null,null,null,2028,2028,null,null,null,null,null,null,null,null,null,null,null,2029,2029,null,null,null,null,null,null,null,null,null,null,null,2030,2030,null,null,null,null,null,null,null,null,null,null,null,2031,2031,null,null,null,null,null,null,null,null,null,null,null,2032,2032,null,null,null,null,null,null,null,null,null,null,null,2033,2033,null,null,null,null,null,null,null,null,null,null,null,2034,2034,null,null,null,null,null,null,null,null,null,null,null,2035,2035]
["Projekta gads",null,{"$f":"IF(C41-$B$5<-1,\" \",IF(C41-$B$5=-1,0,IF(B42=0,B42+1,IF(B42=$NQ$4,21,\" \"))))","v":1},{"$f":"IF(D41-$B$5<-1,\" \",IF(D41-$B$5=-1,0,IF(AND(D41>=$B$5,D41<$B$6),C42+1,IF(D41=$B$6,IF($C$6=12,$NQ$4,IF($C$6<12,$NQ$6,\" \")),\" \"))))","v":" "},{"$f":"D42","v":" "},{"$f":"E42","v":" "}," "," "," "," "," "," "," "," "," "," ",{"$f":"IF(Q41-$B$5<-1,\" \",IF(Q41-$B$5=-1,0,IF(AND(Q41>=$B$5,Q41<$B$6),D42+1,IF(Q41=$B$6,IF($C$6=12,$NQ$4,IF($C$6<12,$NQ$6,\" \")),\" \"))))","v":" "},{"$f":"Q42","v":" "},{"$f":"R42","v":" "}," "," "," "," "," "," "," "," "," "," ",{"$f":"IF(AD41-$B$5<-1,\" \",IF(AD41-$B$5=-1,0,IF(AND(AD41>=$B$5,AD41<$B$6),Q42+1,IF(AD41=$B$6,IF($C$6=12,$NQ$4,IF($C$6<12,$NQ$6,\" \")),\" \"))))","v":" "},{"$f":"AD42","v":" "},{"$f":"AE42","v":" "}," "," "," "," "," "," "," "," "," "," ",{"$f":"IF(AQ41-$B$5<-1,\" \",IF(AQ41-$B$5=-1,0,IF(AND(AQ41>=$B$5,AQ41<$B$6),AD42+1,IF(AQ41=$B$6,IF($C$6=12,$NQ$4,IF($C$6<12,$NQ$6,\" \")),\" \"))))","v":" "},{"$f":"$AQ$16","v":" "},{"$f":"$AQ$16","v":" "}," "," "," "," "," "," "," "," "," "," ",{"$f":"IF(BD41-$B$5<-1,\" \",IF(BD41-$B$5=-1,0,IF(AND(BD41>=$B$5,BD41<$B$6),AQ42+1,IF(BD41=$B$6,IF($C$6=12,$NQ$4,IF($C$6<12,$NQ$6,\" \")),\" \"))))","v":" "},{"$f":"$BD$16","v":" "},{"$f":"$BD$16","v":" "}," "," "," "," "," "," "," "," "," "," ",{"$f":"IF(BQ41-$B$5<-1,\" \",IF(BQ41-$B$5=-1,0,IF(AND(BQ41>=$B$5,BQ41<$B$6),BD42+1,IF(BQ41=$B$6,IF($C$6=12,$NQ$4,IF($C$6<12,$NQ$6,\" \")),\" \"))))","v":" "},{"$f":"$BQ$16","v":" "},{"$f":"$BQ$16","v":" "}," "," "," "," "," "," "," "," "," "," ",{"$f":"IF(CD41-$B$5<-1,\" \",IF(CD41-$B$5=-1,0,IF(AND(CD41>=$B$5,CD41<$B$6),BQ42+1,IF(CD41=$B$6,IF($C$6=12,$NQ$4,IF($C$6<12,$NQ$6,\" \")),\" \"))))","v":" "},{"$f":"$CD$16","v":" "},{"$f":"$CD$16","v":" "}," "," "," "," "," "," "," "," "," "," ",{"$f":"IF(CQ41-$B$5<-1,\" \",IF(CQ41-$B$5=-1,0,IF(AND(CQ41>=$B$5,CQ41<$B$6),CD42+1,IF(CQ41=$B$6,IF($C$6=12,$NQ$4,IF($C$6<12,$NQ$6,\" \")),\" \"))))","v":" "},{"$f":"$CQ$16","v":" "},{"$f":"$CQ$16","v":" "}," "," "," "," "," "," "," "," "," "," ",{"$f":"IF(DD41-$B$5<-1,\" \",IF(DD41-$B$5=-1,0,IF(AND(DD41>=$B$5,DD41<$B$6),CQ42+1,IF(DD41=$B$6,IF($C$6=12,$NQ$4,IF($C$6<12,$NQ$6,\" \")),\" \"))))","v":" "},{"$f":"$DD$16","v":" "},{"$f":"$DD$16","v":" "}," "," "," "," "," "," "," "," "," "," ",{"$f":"IF(DQ41-$B$5<-1,\" \",IF(DQ41-$B$5=-1,0,IF(AND(DQ41>=$B$5,DQ41<$B$6),DD42+1,IF(DQ41=$B$6,IF($C$6=12,$NQ$4,IF($C$6<12,$NQ$6,\" \")),\" \"))))","v":" "},{"$f":"$DQ$16","v":" "},{"$f":"$DQ$16","v":" "}," "," "," "," "," "," "," "," "," "," ",{"$f":"IF(ED41-$B$5<-1,\" \",IF(ED41-$B$5=-1,0,IF(AND(ED41>=$B$5,ED41<$B$6),DQ42+1,IF(ED41=$B$6,IF($C$6=12,$NQ$4,IF($C$6<12,$NQ$6,\" \")),\" \"))))","v":" "},{"$f":"$ED$16","v":" "},{"$f":"$ED$16","v":" "}," "," "," "," "," "," "," "," "," "," ",{"$f":"IF(EQ41-$B$5<-1,\" \",IF(EQ41-$B$5=-1,0,IF(AND(EQ41>=$B$5,EQ41<$B$6),ED42+1,IF(EQ41=$B$6,IF($C$6=12,$NQ$4,IF($C$6<12,$NQ$6,\" \")),\" \"))))","v":" "},{"$f":"$EQ$16","v":" "},{"$f":"$EQ$16","v":" "}," "," "," "," "," "," "," "," "," "," ",{"$f":"IF(FD41-$B$5<-1,\" \",IF(FD41-$B$5=-1,0,IF(AND(FD41>=$B$5,FD41<$B$6),EQ42+1,IF(FD41=$B$6,IF($C$6=12,$NQ$4,IF($C$6<12,$NQ$6,\" \")),\" \"))))","v":" "},{"$f":"$FD$16","v":" "},{"$f":"$FD$16","v":" "}," "," "," "," "," "," "," "," "," "," ",{"$f":"IF(FQ41-$B$5<-1,\" \",IF(FQ41-$B$5=-1,0,IF(AND(FQ41>=$B$5,FQ41<$B$6),FD42+1,IF(FQ41=$B$6,IF($C$6=12,$NQ$4,IF($C$6<12,$NQ$6,\" \")),\" \"))))","v":" "},{"$f":"$FQ$16","v":" "},{"$f":"$FQ$16","v":" "}," "," "," "," "," "," "," "," "," "," ",{"$f":"IF(GD41-$B$5<-1,\" \",IF(GD41-$B$5=-1,0,IF(AND(GD41>=$B$5,GD41<$B$6),FQ42+1,IF(GD41=$B$6,IF($C$6=12,$NQ$4,IF($C$6<12,$NQ$6,\" \")),\" \"))))","v":" "},{"$f":"$GD$16","v":" "},{"$f":"$GD$16","v":" "}," "," "," "," "," "," "," "," "," "," ",{"$f":"IF(GQ41-$B$5<-1,\" \",IF(GQ41-$B$5=-1,0,IF(AND(GQ41>=$B$5,GQ41<$B$6),GD42+1,IF(GQ41=$B$6,IF($C$6=12,$NQ$4,IF($C$6<12,$NQ$6,\" \")),\" \"))))","v":" "},{"$f":"$GQ$16","v":" "},{"$f":"$GQ$16","v":" "}," "," "," "," "," "," "," "," "," "," ",{"$f":"IF(HD41-$B$5<-1,\" \",IF(HD41-$B$5=-1,0,IF(AND(HD41>=$B$5,HD41<$B$6),GQ42+1,IF(HD41=$B$6,IF($C$6=12,$NQ$4,IF($C$6<12,$NQ$6,\" \")),\" \"))))","v":" "},{"$f":"HD42","v":" "},{"$f":"HE42","v":" "}," "," "," "," "," "," "," "," "," "," ",{"$f":"IF(HQ41-$B$5<-1,\" \",IF(HQ41-$B$5=-1,0,IF(AND(HQ41>=$B$5,HQ41<$B$6),HD42+1,IF(HQ41=$B$6,IF($C$6=12,$NQ$4,IF($C$6<12,$NQ$6,\" \")),\" \"))))","v":" "},{"$f":"$HQ$16","v":" "},{"$f":"$HQ$16","v":" "}," "," "," "," "," "," "," "," "," "," ",{"$f":"IF(ID41-$B$5<-1,\" \",IF(ID41-$B$5=-1,0,IF(AND(ID41>=$B$5,ID41<$B$6),HQ42+1,IF(ID41=$B$6,IF($C$6=12,$NQ$4,IF($C$6<12,$NQ$6,\" \")),\" \"))))","v":" "},{"$f":"$ID$16","v":" "},{"$f":"$ID$16","v":" "}," "," "," "," "," "," "," "," "," "," ",{"$f":"IF(IQ41-$B$5<-1,\" \",IF(IQ41-$B$5=-1,0,IF(AND(IQ41>=$B$5,IQ41<$B$6),ID42+1,IF(IQ41=$B$6,IF($C$6=12,$NQ$4,IF($C$6<12,$NQ$6,\" \")),\" \"))))","v":" "},{"$f":"$IQ$16","v":" "},{"$f":"$IQ$16","v":" "}," "," "," "," "," "," "," "," "," "," ",{"$f":"IF(JD41-$B$5<-1,\" \",IF(JD41-$B$5=-1,0,IF(AND(JD41>=$B$5,JD41<$B$6),IQ42+1,IF(JD41=$B$6,IF($C$6=12,$NQ$4,IF($C$6<12,$NQ$6,\" \")),\" \"))))","v":" "},{"$f":"$JD$16","v":" "},{"$f":"$JD$16","v":" "}," "," "," "," "," "," "," "," "," "," ",{"$f":"IF(JQ41-$B$5<-1,\" \",IF(JQ41-$B$5=-1,0,IF(AND(JQ41>=$B$5,JQ41<$B$6),JD42+1,IF(JQ41=$B$6,IF($C$6=12,$NQ$4,IF($C$6<12,$NQ$6,\" \")),\" \"))))","v":" "},{"$f":"JQ42","v":" "},{"$f":"JR42","v":" "}," "," "," "," "," "," "," "," "," "," ",{"$f":"IF(KD41-$B$5<-1,\" \",IF(KD41-$B$5=-1,0,IF(AND(KD41>=$B$5,KD41<$B$6),JQ42+1,IF(KD41=$B$6,IF($C$6=12,$NQ$4,IF($C$6<12,$NQ$6,\" \")),\" \"))))","v":" "},{"$f":"KD42","v":" "},{"$f":"KE42","v":" "}," "," "," "," "," "," "," "," "," "," ",{"$f":"IF(KQ41-$B$5<-1,\" \",IF(KQ41-$B$5=-1,0,IF(AND(KQ41>=$B$5,KQ41<$B$6),KD42+1,IF(KQ41=$B$6,IF($C$6=12,$NQ$4,IF($C$6<12,$NQ$6,\" \")),\" \"))))","v":" "},{"$f":"$KQ$16","v":" "},{"$f":"$KQ$16","v":" "}," "," "," "," "," "," "," "," "," "," ",{"$f":"IF(LD41-$B$5<-1,\" \",IF(LD41-$B$5=-1,0,IF(AND(LD41>=$B$5,LD41<$B$6),KQ42+1,IF(LD41=$B$6,IF($C$6=12,$NQ$4,IF($C$6<12,$NQ$6,\" \")),\" \"))))","v":" "},{"$f":"LD42","v":" "},{"$f":"LE42","v":" "}," "," "," "," "," "," "," "," "," "," ",{"$f":"IF(LQ41-$B$5<-1,\" \",IF(LQ41-$B$5=-1,0,IF(AND(LQ41>=$B$5,LQ41<$B$6),LD42+1,IF(LQ41=$B$6,IF($C$6=12,$NQ$4,IF($C$6<12,$NQ$6,\" \")),\" \"))))","v":" "},{"$f":"LQ42","v":" "},{"$f":"LR42","v":" "}," "," "," "," "," "," "," "," "," "," ",{"$f":"IF(MD41-$B$5<-1,\" \",IF(MD41-$B$5=-1,0,IF(AND(MD41>=$B$5,MD41<$B$6),LQ42+1,IF(MD41=$B$6,IF($C$6=12,$NQ$4,IF($C$6<12,$NQ$6,\" \")),\" \"))))","v":" "},{"$f":"MD42","v":" "},{"$f":"ME42","v":" "}," "," "," "," "," "," "," "," "," "," ",{"$f":"IF(MQ41-$B$5<-1,\" \",IF(MQ41-$B$5=-1,0,IF(AND(MQ41>=$B$5,MQ41<$B$6),MD42+1,IF(MQ41=$B$6,IF($C$6=12,$NQ$4,IF($C$6<12,$NQ$6,\" \")),\" \"))))","v":" "},{"$f":"MQ42","v":" "},{"$f":"MR42","v":" "}," "," "," "," "," "," "," "," "," "," ",{"$f":"IF(ND41-$B$5<-1,\" \",IF(ND41-$B$5=-1,0,IF(AND(ND41>=$B$5,ND41<$B$6),MQ42+1,IF(ND41=$B$6,IF($C$6=12,$NQ$4,IF($C$6<12,$NQ$6,\" \")),\" \"))))","v":" "}]
["Mēnesis",null,{"$f":"IF(C42=1,0,\" \")","v":0},{"$f":"IF(Q42=1,0,\" \")","v":" "},1,2,3,4,5,6,7,8,9,10,11,12,null,1,2,3,4,5,6,7,8,9,10,11,12,null,1,2,3,4,5,6,7,8,9,10,11,12,null,1,2,3,4,5,6,7,8,9,10,11,12,null,1,2,3,4,5,6,7,8,9,10,11,12,null,1,2,3,4,5,6,7,8,9,10,11,12,null,1,2,3,4,5,6,7,8,9,10,11,12,null,1,2,3,4,5,6,7,8,9,10,11,12,null,1,2,3,4,5,6,7,8,9,10,11,12,null,1,2,3,4,5,6,7,8,9,10,11,12,null,1,2,3,4,5,6,7,8,9,10,11,12,null,1,2,3,4,5,6,7,8,9,10,11,12,null,1,2,3,4,5,6,7,8,9,10,11,12,null,1,2,3,4,5,6,7,8,9,10,11,12,null,1,2,3,4,5,6,7,8,9,10,11,12,null,1,2,3,4,5,6,7,8,9,10,11,12,null,1,2,3,4,5,6,7,8,9,10,11,12,null,1,2,3,4,5,6,7,8,9,10,11,12,null,1,2,3,4,5,6,7,8,9,10,11,12,null,1,2,3,4,5,6,7,8,9,10,11,12,null,1,2,3,4,5,6,7,8,9,10,11,12,null,1,2,3,4,5,6,7,8,9,10,11,12,null,1,2,3,4,5,6,7,8,9,10,11,12,null,1,2,3,4,5,6,7,8,9,10,11,12,null,1,2,3,4,5,6,7,8,9,10,11,12,null,1,2,3,4,5,6,7,8,9,10,11,12,null,1,2,3,4,5,6,7,8,9,10,11,12,null,1,2,3,4,5,6,7,8,9,10,11,12,null,1,2,3,4,5,6,7,8,9,10,11,12]
[null,null,null,null,{"$f":"$D$15&E43","v":"20071"},{"$f":"$D$15&F43","v":"20072"},"20073","20074","20075","20076","20077","20078","20079","200710","200711","200712",null,{"$f":"$Q$15&R43","v":"20081"},{"$f":"$Q$15&S43","v":"20082"},"20083","20084","20085","20086","20087","20088","20089","200810","200811","200812",null,{"$f":"$AD$15&AE43","v":"20091"},{"$f":"$AD$15&AF43","v":"20092"},"20093","20094","20095","20096","20097","20098","20099","200910","200911","200912",null,{"$f":"$AQ$15&AR43","v":"20101"},{"$f":"$AQ$15&AS43","v":"20102"},"20103","20104","20105","20106","20107","20108","20109","201010","201011","201012",null,{"$f":"$BD$15&BE43","v":"20111"},{"$f":"$BD$15&BF43","v":"20112"},"20113","20114","20115","20116","20117","20118","20119","201110","201111","201112",null,{"$f":"$BQ$15&BR43","v":"20121"},{"$f":"$BQ$15&BS43","v":"20122"},"20123","20124","20125","20126","20127","20128","20129","201210","201211","201212",null,{"$f":"$CD$15&CE43","v":"20131"},{"$f":"$CD$15&CF43","v":"20132"},"20133","20134","20135","20136","20137","20138","20139","201310","201311","201312",null,{"$f":"$CQ$15&CR43","v":"20141"},{"$f":"$CQ$15&CS43","v":"20142"},"20143","20144","20145","20146","20147","20148","20149","201410","201411","201412",null,{"$f":"$DD$15&DE43","v":"20151"},{"$f":"$DD$15&DF43","v":"20152"},"20153","20154","20155","20156","20157","20158","20159","201510","201511","201512",null,{"$f":"$DQ$15&DR43","v":"20161"},{"$f":"$DQ$15&DS43","v":"20162"},"20163","20164","20165","20166","20167","20168","20169","201610","201611","201612",null,{"$f":"$ED$15&EE43","v":"20171"},{"$f":"$ED$15&EF43","v":"20172"},"20173","20174","20175","20176","20177","20178","20179","201710","201711","201712",null,{"$f":"$EQ$15&ER43","v":"20181"},{"$f":"$EQ$15&ES43","v":"20182"},"20183","20184","20185","20186","20187","20188","20189","201810","201811","201812",null,{"$f":"$FD$15&FE43","v":"20191"},{"$f":"$FD$15&FF43","v":"20192"},"20193","20194","20195","20196","20197","20198","20199","201910","201911","201912",null,{"$f":"$FQ$15&FR43","v":"20201"},{"$f":"$FQ$15&FS43","v":"20202"},"20203","20204","20205","20206","20207","20208","20209","202010","202011","202012",null,{"$f":"$GD$15&GE43","v":"20211"},{"$f":"$GD$15&GF43","v":"20212"},"20213","20214","20215","20216","20217","20218","20219","202110","202111","202112",null,{"$f":"$GQ$15&GR43","v":"20221"},{"$f":"$GQ$15&GS43","v":"20222"},"20223","20224","20225","20226","20227","20228","20229","202210","202211","202212",null,{"$f":"$HD$15&HE43","v":"20231"},{"$f":"$HD$15&HF43","v":"20232"},"20233","20234","20235","20236","20237","20238","20239","202310","202311","202312",null,{"$f":"$HQ$15&HR43","v":"20241"},{"$f":"$HQ$15&HS43","v":"20242"},"20243","20244","20245","20246","20247","20248","20249","202410","202411","202412",null,{"$f":"$ID$15&IE43","v":"20251"},{"$f":"$ID$15&IF43","v":"20252"},"20253","20254","20255","20256","20257","20258","20259","202510","202511","202512",null,{"$f":"$IQ$15&IR43","v":"20261"},{"$f":"$IQ$15&IS43","v":"20262"},"20263","20264","20265","20266","20267","20268","20269","202610","202611","202612",null,{"$f":"$JD$15&JE43","v":"20271"},{"$f":"$JD$15&JF43","v":"20272"},"20273","20274","20275","20276","20277","20278","20279","202710","202711","202712",null,{"$f":"$JQ$15&JR43","v":"20281"},{"$f":"$JQ$15&JS43","v":"20282"},"20283","20284","20285","20286","20287","20288","20289","202810","202811","202812",null,{"$f":"$KD$15&KE43","v":"20291"},{"$f":"$KD$15&KF43","v":"20292"},"20293","20294","20295","20296","20297","20298","20299","202910","202911","202912",null,{"$f":"$KQ$15&KR43","v":"20301"},{"$f":"$KQ$15&KS43","v":"20302"},"20303","20304","20305","20306","20307","20308","20309","203010","203011","203012",null,{"$f":"$LD$15&LE43","v":"20311"},{"$f":"$LD$15&LF43","v":"20312"},"20313","20314","20315","20316","20317","20318","20319","203110","203111","203112",null,{"$f":"$LQ$15&LR43","v":"20321"},{"$f":"$LQ$15&LS43","v":"20322"},"20323","20324","20325","20326","20327","20328","20329","203210","203211","203212",null,{"$f":"$MD$15&ME43","v":"20331"},{"$f":"$MD$15&MF43","v":"20332"},"20333","20334","20335","20336","20337","20338","20339","203310","203311","203312",null,{"$f":"$MQ$15&MR43","v":"20341"},{"$f":"$MQ$15&MS43","v":"20342"},"20343","20344","20345","20346","20347","20348","20349","203410","203411","203412",null,{"$f":"$ND$15&NE43","v":"20351"},{"$f":"$ND$15&NF43","v":"20352"},"20353","20354","20355","20356","20357","20358","20359","203510","203511","203512"]
["Ieņēmumi kopā",null,null,{"$f":"IF(D48=\" \",\" \",SUM(E45:P45))","v":" "},{"$f":"IF(E48=\" \",\" \",(E46*(1-E49)+E50))","v":" "}," "," "," "," "," "," "," "," "," "," "," ",{"$f":"IF(Q48=\" \",\" \",SUM(R45:AC45))","v":" "},{"$f":"IF(R48=\" \",\" \",(R46*(1-R49)+R50))","v":" "}," "," "," "," "," "," "," "," "," "," "," ",{"$f":"IF(AD48=\" \",\" \",SUM(AE45:AP45))","v":" "},{"$f":"IF(AE48=\" \",\" \",(AE46*(1-AE49)+AE50))","v":" "}," "," "," "," "," "," "," "," "," "," "," ",{"$f":"IF(AQ48=\" \",\" \",SUM(AR45:BC45))","v":" "},{"$f":"IF(AR48=\" \",\" \",(AR46*(1-AR49)+AR50))","v":" "}," "," "," "," "," "," "," "," "," "," "," ",{"$f":"IF(BD48=\" \",\" \",SUM(BE45:BP45))","v":" "},{"$f":"IF(BE48=\" \",\" \",(BE46*(1-BE49)+BE50))","v":" "}," "," "," "," "," "," "," "," "," "," "," ",{"$f":"IF(BQ48=\" \",\" \",SUM(BR45:CC45))","v":" "},{"$f":"IF(BR48=\" \",\" \",(BR46*(1-BR49)+BR50))","v":" "}," "," "," "," "," "," "," "," "," "," "," ",{"$f":"IF(CD48=\" \",\" \",(CD46*(1-CD49)))","v":" "},{"$f":"IF(CE48=\" \",\" \",(CE46*(1-CE49)+CE50))","v":" "}," "," "," "," "," "," "," "," "," "," "," ",{"$f":"IF(CQ48=\" \",\" \",SUM(CR45:DC45))","v":" "},{"$f":"IF(CR48=\" \",\" \",(CR46*(1-CR49)+CR50))","v":" "}," "," "," "," "," "," "," "," "," "," "," ",{"$f":"IF(DD48=\" \",\" \",SUM(DE45:DP45))","v":" "},{"$f":"IF(DE48=\" \",\" \",(DE46*(1-DE49)+DE50))","v":" "}," "," "," "," "," "," "," "," "," "," "," ",{"$f":"IF(DQ48=\" \",\" \",SUM(DR45:EC45))","v":" "},{"$f":"IF(DR48=\" \",\" \",(DR46*(1-DR49)+DR50))","v":" "}," "," "," "," "," "," "," "," "," "," "," ",{"$f":"IF(ED48=\" \",\" \",SUM(EE45:EP45))","v":" "},{"$f":"IF(EE48=\" \",\" \",(EE46*(1-EE49)+EE50))","v":" "}," "," "," "," "," "," "," "," "," "," "," ",{"$f":"IF(EQ48=\" \",\" \",SUM(ER45:FC45))","v":" "},{"$f":"IF(ER48=\" \",\" \",(ER46*(1-ER49)+ER50))","v":" "}," "," "," "," "," "," "," "," "," "," "," ",{"$f":"IF(FD48=\" \",\" \",SUM(FE45:FP45))","v":" "},{"$f":"IF(FE48=\" \",\" \",(FE46*(1-FE49)+FE50))","v":" "}," "," "," "," "," "," "," "," "," "," "," ",{"$f":"IF(FQ48=\" \",\" \",SUM(FR45:GC45))","v":" "},{"$f":"IF(FR48=\" \",\" \",(FR46*(1-FR49)+FR50))","v":" "}," "," "," "," "," "," "," "," "," "," "," ",{"$f":"IF(GD48=\" \",\" \",SUM(GE45:GP45))","v":" "},{"$f":"IF(GE48=\" \",\" \",(GE46*(1-GE49)+GE50))","v":" "}," "," "," "," "," "," "," "," "," "," "," ",{"$f":"IF(GQ48=\" \",\" \",SUM(GR45:HC45))","v":" "},{"$f":"IF(GR48=\" \",\" \",(GR46*(1-GR49)+GR50))","v":" "}," "," "," "," "," "," "," "," "," "," "," ",{"$f":"IF(HD48=\" \",\" \",SUM(HE45:HP45))","v":" "},{"$f":"IF(HE48=\" \",\" \",(HE46*(1-HE49)+HE50))","v":" "}," "," "," "," "," "," "," "," "," "," "," ",{"$f":"IF(HQ48=\" \",\" \",SUM(HR45:IC45))","v":" "},{"$f":"IF(HR48=\" \",\" \",(HR46*(1-HR49)+HR50))","v":" "}," "," "," "," "," "," "," "," "," "," "," ",{"$f":"IF(ID48=\" \",\" \",SUM(IE45:IP45))","v":" "},{"$f":"IF(IE48=\" \",\" \",(IE46*(1-IE49)+IE50))","v":" "}," "," "," "," "," "," "," "," "," "," "," ",{"$f":"IF(IQ48=\" \",\" \",SUM(IR45:JC45))","v":" "},{"$f":"IF(IR48=\" \",\" \",(IR46*(1-IR49)+IR50))","v":" "}," "," "," "," "," "," "," "," "," "," "," ",{"$f":"IF(JD48=\" \",\" \",SUM(JE45:JP45))","v":" "},{"$f":"IF(JE48=\" \",\" \",(JE46*(1-JE49)+JE50))","v":" "}," "," "," "," "," "," "," "," "," "," "," ",{"$f":"IF(JQ48=\" \",\" \",(JQ46*(1-JQ49)))","v":" "},{"$f":"IF(JR48=\" \",\" \",(JR46*(1-JR49)+JR50))","v":" "}," "," "," "," "," "," "," "," "," "," "," "," ",{"$f":"IF(KE48=\" \",\" \",(KE46*(1-KE49)+KE50))","v":" "}," "," "," "," "," "," "," "," "," "," "," "," ",{"$f":"IF(KR48=\" \",\" \",(KR46*(1-KR49)+KR50))","v":" "}," "," "," "," "," "," "," "," "," "," "," "," ",{"$f":"IF(LE48=\" \",\" \",(LE46*(1-LE49)+LE50))","v":" "}," "," "," "," "," "," "," "," "," "," "," ",{"$f":"IF(LQ48=\" \",\" \",(LQ46*(1-LQ49)))","v":" "},{"$f":"IF(LR48=\" \",\" \",(LR46*(1-LR49)+LR50))","v":" "}," "," "," "," "," "," "," "," "," "," "," "," ",{"$f":"IF(ME48=\" \",\" \",(ME46*(1-ME49)+ME50))","v":" "}," "," "," "," "," "," "," "," "," "," "," "," ",{"$f":"IF(MR48=\" \",\" \",(MR46*(1-MR49)+MR50))","v":" "}," "," "," "," "," "," "," "," "," "," "," "," ",{"$f":"IF(NE48=\" \",\" \",(NE46*(1-NE49)))","v":" "}," "," "," "," "," "," "," "," "," "," "," "]
["Ieņēmumi no elektroenerģijas pārdošanas OI ietvaros","EUR"," ",{"$f":"IF(OR(D$16=\" \",D$16=0),\" \",SUM(E46:P46))","v":" "},{"$f":"IF(OR(E48=\" \",E48=0),\" \",E47*ROUND(E48,2))","v":" "},{"$f":"IF(OR(F48=\" \",F48=0),\" \",F47*ROUND(F48,2))","v":" "},{"$f":"IF(OR(G48=\" \",G48=0),\" \",G47*ROUND(G48,2))","v":" "},{"$f":"IF(OR(H48=\" \",H48=0),\" \",H47*ROUND(H48,2))","v":" "},{"$f":"IF(OR(I48=\" \",I48=0),\" \",I47*ROUND(I48,2))","v":" "},{"$f":"IF(OR(J48=\" \",J48=0),\" \",J47*ROUND(J48,2))","v":" "},{"$f":"IF(OR(K48=\" \",K48=0),\" \",K47*ROUND(K48,2))","v":" "},{"$f":"IF(OR(L48=\" \",L48=0),\" \",L47*ROUND(L48,2))","v":" "},{"$f":"IF(OR(M48=\" \",M48=0),\" \",M47*ROUND(M48,2))","v":" "},{"$f":"IF(OR(N48=\" \",N48=0),\" \",N47*ROUND(N48,2))","v":" "},{"$f":"IF(OR(O48=\" \",O48=0),\" \",O47*ROUND(O48,2))","v":" "},{"$f":"IF(OR(P48=\" \",P48=0),\" \",P47*ROUND(P48,2))","v":" "},{"$f":"IF(OR(Q$16=\" \",Q$16=0),\" \",SUM(R46:AC46))","v":" "},{"$f":"IF(OR(R48=\" \",R48=0),\" \",R47*ROUND(R48,2))","v":" "},{"$f":"IF(OR(S48=\" \",S48=0),\" \",S47*ROUND(S48,2))","v":" "},{"$f":"IF(OR(T48=\" \",T48=0),\" \",T47*ROUND(T48,2))","v":" "},{"$f":"IF(OR(U48=\" \",U48=0),\" \",U47*ROUND(U48,2))","v":" "},{"$f":"IF(OR(V48=\" \",V48=0),\" \",V47*ROUND(V48,2))","v":" "},{"$f":"IF(OR(W48=\" \",W48=0),\" \",W47*ROUND(W48,2))","v":" "},{"$f":"IF(OR(X48=\" \",X48=0),\" \",X47*ROUND(X48,2))","v":" "},{"$f":"IF(OR(Y48=\" \",Y48=0),\" \",Y47*ROUND(Y48,2))","v":" "},{"$f":"IF(OR(Z48=\" \",Z48=0),\" \",Z47*ROUND(Z48,2))","v":" "},{"$f":"IF(OR(AA48=\" \",AA48=0),\" \",AA47*ROUND(AA48,2))","v":" "},{"$f":"IF(OR(AB48=\" \",AB48=0),\" \",AB47*ROUND(AB48,2))","v":" "},{"$f":"IF(OR(AC48=\" \",AC48=0),\" \",AC47*ROUND(AC48,2))","v":" "},{"$f":"IF(OR(AD$16=\" \",AD$16=0),\" \",SUM(AE46:AP46))","v":" "},{"$f":"IF(OR(AE48=\" \",AE48=0),\" \",AE47*ROUND(AE48,2))","v":" "},{"$f":"IF(OR(AF48=\" \",AF48=0),\" \",AF47*ROUND(AF48,2))","v":" "},{"$f":"IF(OR(AG48=\" \",AG48=0),\" \",AG47*ROUND(AG48,2))","v":" "},{"$f":"IF(OR(AH48=\" \",AH48=0),\" \",AH47*ROUND(AH48,2))","v":" "},{"$f":"IF(OR(AI48=\" \",AI48=0),\" \",AI47*ROUND(AI48,2))","v":" "},{"$f":"IF(OR(AJ48=\" \",AJ48=0),\" \",AJ47*ROUND(AJ48,2))","v":" "},{"$f":"IF(OR(AK48=\" \",AK48=0),\" \",AK47*ROUND(AK48,2))","v":" "},{"$f":"IF(OR(AL48=\" \",AL48=0),\" \",AL47*ROUND(AL48,2))","v":" "},{"$f":"IF(OR(AM48=\" \",AM48=0),\" \",AM47*ROUND(AM48,2))","v":" "},{"$f":"IF(OR(AN48=\" \",AN48=0),\" \",AN47*ROUND(AN48,2))","v":" "},{"$f":"IF(OR(AO48=\" \",AO48=0),\" \",AO47*ROUND(AO48,2))","v":" "},{"$f":"IF(OR(AP48=\" \",AP48=0),\" \",AP47*ROUND(AP48,2))","v":" "},{"$f":"IF(OR(AQ$16=\" \",AQ$16=0),\" \",SUM(AR46:BC46))","v":" "},{"$f":"IF(OR(AR48=\" \",AR48=0),\" \",AR47*ROUND(AR48,2))","v":" "},{"$f":"IF(OR(AS48=\" \",AS48=0),\" \",AS47*ROUND(AS48,2))","v":" "},{"$f":"IF(OR(AT48=\" \",AT48=0),\" \",AT47*ROUND(AT48,2))","v":" "},{"$f":"IF(OR(AU48=\" \",AU48=0),\" \",AU47*ROUND(AU48,2))","v":" "},{"$f":"IF(OR(AV48=\" \",AV48=0),\" \",AV47*ROUND(AV48,2))","v":" "},{"$f":"IF(OR(AW48=\" \",AW48=0),\" \",AW47*ROUND(AW48,2))","v":" "},{"$f":"IF(OR(AX48=\" \",AX48=0),\" \",AX47*ROUND(AX48,2))","v":" "},{"$f":"IF(OR(AY48=\" \",AY48=0),\" \",AY47*ROUND(AY48,2))","v":" "},{"$f":"IF(OR(AZ48=\" \",AZ48=0),\" \",AZ47*ROUND(AZ48,2))","v":" "},{"$f":"IF(OR(BA48=\" \",BA48=0),\" \",BA47*ROUND(BA48,2))","v":" "},{"$f":"IF(OR(BB48=\" \",BB48=0),\" \",BB47*ROUND(BB48,2))","v":" "},{"$f":"IF(OR(BC48=\" \",BC48=0),\" \",BC47*ROUND(BC48,2))","v":" "},{"$f":"IF(OR(BD$16=\" \",BD$16=0),\" \",SUM(BE46:BP46))","v":" "},{"$f":"IF(OR(BE48=\" \",BE48=0),\" \",BE47*ROUND(BE48,2))","v":" "},{"$f":"IF(OR(BF48=\" \",BF48=0),\" \",BF47*ROUND(BF48,2))","v":" "},{"$f":"IF(OR(BG48=\" \",BG48=0),\" \",BG47*ROUND(BG48,2))","v":" "},{"$f":"IF(OR(BH48=\" \",BH48=0),\" \",BH47*ROUND(BH48,2))","v":" "},{"$f":"IF(OR(BI48=\" \",BI48=0),\" \",BI47*ROUND(BI48,2))","v":" "},{"$f":"IF(OR(BJ48=\" \",BJ48=0),\" \",BJ47*ROUND(BJ48,2))","v":" "},{"$f":"IF(OR(BK48=\" \",BK48=0),\" \",BK47*ROUND(BK48,2))","v":" "},{"$f":"IF(OR(BL48=\" \",BL48=0),\" \",BL47*ROUND(BL48,2))","v":" "},{"$f":"IF(OR(BM48=\" \",BM48=0),\" \",BM47*ROUND(BM48,2))","v":" "},{"$f":"IF(OR(BN48=\" \",BN48=0),\" \",BN47*ROUND(BN48,2))","v":" "},{"$f":"IF(OR(BO48=\" \",BO48=0),\" \",BO47*ROUND(BO48,2))","v":" "},{"$f":"IF(OR(BP48=\" \",BP48=0),\" \",BP47*ROUND(BP48,2))","v":" "},{"$f":"IF(OR(BQ$16=\" \",BQ$16=0),\" \",SUM(BR46:CC46))","v":" "},{"$f":"IF(OR(BR48=\" \",BR48=0),\" \",BR47*ROUND(BR48,2))","v":" "},{"$f":"IF(OR(BS48=\" \",BS48=0),\" \",BS47*ROUND(BS48,2))","v":" "},{"$f":"IF(OR(BT48=\" \",BT48=0),\" \",BT47*ROUND(BT48,2))","v":" "},{"$f":"IF(OR(BU48=\" \",BU48=0),\" \",BU47*ROUND(BU48,2))","v":" "},{"$f":"IF(OR(BV48=\" \",BV48=0),\" \",BV47*ROUND(BV48,2))","v":" "},{"$f":"IF(OR(BW48=\" \",BW48=0),\" \",BW47*ROUND(BW48,2))","v":" "},{"$f":"IF(OR(BX48=\" \",BX48=0),\" \",BX47*ROUND(BX48,2))","v":" "},{"$f":"IF(OR(BY48=\" \",BY48=0),\" \",BY47*ROUND(BY48,2))","v":" "},{"$f":"IF(OR(BZ48=\" \",BZ48=0),\" \",BZ47*ROUND(BZ48,2))","v":" "},{"$f":"IF(OR(CA48=\" \",CA48=0),\" \",CA47*ROUND(CA48,2))","v":" "},{"$f":"IF(OR(CB48=\" \",CB48=0),\" \",CB47*ROUND(CB48,2))","v":" "},{"$f":"IF(OR(CC48=\" \",CC48=0),\" \",CC47*ROUND(CC48,2))","v":" "},{"$f":"IF(OR(CD$16=\" \",CD$16=0),\" \",SUM(CE46:CP46))","v":" "},{"$f":"IF(OR(CE48=\" \",CE48=0),\" \",CE47*ROUND(CE48,2))","v":" "},{"$f":"IF(OR(CF48=\" \",CF48=0),\" \",CF47*ROUND(CF48,2))","v":" "},{"$f":"IF(OR(CG48=\" \",CG48=0),\" \",CG47*ROUND(CG48,2))","v":" "},{"$f":"IF(OR(CH48=\" \",CH48=0),\" \",CH47*ROUND(CH48,2))","v":" "},{"$f":"IF(OR(CI48=\" \",CI48=0),\" \",CI47*ROUND(CI48,2))","v":" "},{"$f":"IF(OR(CJ48=\" \",CJ48=0),\" \",CJ47*ROUND(CJ48,2))","v":" "},{"$f":"IF(OR(CK48=\" \",CK48=0),\" \",CK47*ROUND(CK48,2))","v":" "},{"$f":"IF(OR(CL48=\" \",CL48=0),\" \",CL47*ROUND(CL48,2))","v":" "},{"$f":"IF(OR(CM48=\" \",CM48=0),\" \",CM47*ROUND(CM48,2))","v":" "},{"$f":"IF(OR(CN48=\" \",CN48=0),\" \",CN47*ROUND(CN48,2))","v":" "},{"$f":"IF(OR(CO48=\" \",CO48=0),\" \",CO47*ROUND(CO48,2))","v":" "},{"$f":"IF(OR(CP48=\" \",CP48=0),\" \",CP47*ROUND(CP48,2))","v":" "},{"$f":"IF(OR(CQ$16=\" \",CQ$16=0),\" \",SUM(CR46:DC46))","v":" "},{"$f":"IF(OR(CR48=\" \",CR48=0),\" \",CR47*ROUND(CR48,2))","v":" "},{"$f":"IF(OR(CS48=\" \",CS48=0),\" \",CS47*ROUND(CS48,2))","v":" "},{"$f":"IF(OR(CT48=\" \",CT48=0),\" \",CT47*ROUND(CT48,2))","v":" "},{"$f":"IF(OR(CU48=\" \",CU48=0),\" \",CU47*ROUND(CU48,2))","v":" "},{"$f":"IF(OR(CV48=\" \",CV48=0),\" \",CV47*ROUND(CV48,2))","v":" "},{"$f":"IF(OR(CW48=\" \",CW48=0),\" \",CW47*ROUND(CW48,2))","v":" "},{"$f":"IF(OR(CX48=\" \",CX48=0),\" \",CX47*ROUND(CX48,2))","v":" "},{"$f":"IF(OR(CY48=\" \",CY48=0),\" \",CY47*ROUND(CY48,2))","v":" "},{"$f":"IF(OR(CZ48=\" \",CZ48=0),\" \",CZ47*ROUND(CZ48,2))","v":" "},{"$f":"IF(OR(DA48=\" \",DA48=0),\" \",DA47*ROUND(DA48,2))","v":" "},{"$f":"IF(OR(DB48=\" \",DB48=0),\" \",DB47*ROUND(DB48,2))","v":" "},{"$f":"IF(OR(DC48=\" \",DC48=0),\" \",DC47*ROUND(DC48,2))","v":" "},{"$f":"IF(OR(DD$16=\" \",DD$16=0),\" \",SUM(DE46:DP46))","v":" "},{"$f":"IF(OR(DE48=\" \",DE48=0),\" \",DE47*ROUND(DE48,2))","v":" "},{"$f":"IF(OR(DF48=\" \",DF48=0),\" \",DF47*ROUND(DF48,2))","v":" "},{"$f":"IF(OR(DG48=\" \",DG48=0),\" \",DG47*ROUND(DG48,2))","v":" "},{"$f":"IF(OR(DH48=\" \",DH48=0),\" \",DH47*ROUND(DH48,2))","v":" "},{"$f":"IF(OR(DI48=\" \",DI48=0),\" \",DI47*ROUND(DI48,2))","v":" "},{"$f":"IF(OR(DJ48=\" \",DJ48=0),\" \",DJ47*ROUND(DJ48,2))","v":" "},{"$f":"IF(OR(DK48=\" \",DK48=0),\" \",DK47*ROUND(DK48,2))","v":" "},{"$f":"IF(OR(DL48=\" \",DL48=0),\" \",DL47*ROUND(DL48,2))","v":" "},{"$f":"IF(OR(DM48=\" \",DM48=0),\" \",DM47*ROUND(DM48,2))","v":" "},{"$f":"IF(OR(DN48=\" \",DN48=0),\" \",DN47*ROUND(DN48,2))","v":" "},{"$f":"IF(OR(DO48=\" \",DO48=0),\" \",DO47*ROUND(DO48,2))","v":" "},{"$f":"IF(OR(DP48=\" \",DP48=0),\" \",DP47*ROUND(DP48,2))","v":" "},{"$f":"IF(OR(DQ$16=\" \",DQ$16=0),\" \",SUM(DR46:EC46))","v":" "},{"$f":"IF(OR(DR48=\" \",DR48=0),\" \",DR47*ROUND(DR48,2))","v":" "},{"$f":"IF(OR(DS48=\" \",DS48=0),\" \",DS47*ROUND(DS48,2))","v":" "},{"$f":"IF(OR(DT48=\" \",DT48=0),\" \",DT47*ROUND(DT48,2))","v":" "},{"$f":"IF(OR(DU48=\" \",DU48=0),\" \",DU47*ROUND(DU48,2))","v":" "},{"$f":"IF(OR(DV48=\" \",DV48=0),\" \",DV47*ROUND(DV48,2))","v":" "},{"$f":"IF(OR(DW48=\" \",DW48=0),\" \",DW47*ROUND(DW48,2))","v":" "},{"$f":"IF(OR(DX48=\" \",DX48=0),\" \",DX47*ROUND(DX48,2))","v":" "},{"$f":"IF(OR(DY48=\" \",DY48=0),\" \",DY47*ROUND(DY48,2))","v":" "},{"$f":"IF(OR(DZ48=\" \",DZ48=0),\" \",DZ47*ROUND(DZ48,2))","v":" "},{"$f":"IF(OR(EA48=\" \",EA48=0),\" \",EA47*ROUND(EA48,2))","v":" "},{"$f":"IF(OR(EB48=\" \",EB48=0),\" \",EB47*ROUND(EB48,2))","v":" "},{"$f":"IF(OR(EC48=\" \",EC48=0),\" \",EC47*ROUND(EC48,2))","v":" "},{"$f":"IF(OR(ED$16=\" \",ED$16=0),\" \",SUM(EE46:EP46))","v":" "},{"$f":"IF(OR(EE48=\" \",EE48=0),\" \",EE47*ROUND(EE48,2))","v":" "},{"$f":"IF(OR(EF48=\" \",EF48=0),\" \",EF47*ROUND(EF48,2))","v":" "},{"$f":"IF(OR(EG48=\" \",EG48=0),\" \",EG47*ROUND(EG48,2))","v":" "},{"$f":"IF(OR(EH48=\" \",EH48=0),\" \",EH47*ROUND(EH48,2))","v":" "},{"$f":"IF(OR(EI48=\" \",EI48=0),\" \",EI47*ROUND(EI48,2))","v":" "},{"$f":"IF(OR(EJ48=\" \",EJ48=0),\" \",EJ47*ROUND(EJ48,2))","v":" "},{"$f":"IF(OR(EK48=\" \",EK48=0),\" \",EK47*ROUND(EK48,2))","v":" "},{"$f":"IF(OR(EL48=\" \",EL48=0),\" \",EL47*ROUND(EL48,2))","v":" "},{"$f":"IF(OR(EM48=\" \",EM48=0),\" \",EM47*ROUND(EM48,2))","v":" "},{"$f":"IF(OR(EN48=\" \",EN48=0),\" \",EN47*ROUND(EN48,2))","v":" "},{"$f":"IF(OR(EO48=\" \",EO48=0),\" \",EO47*ROUND(EO48,2))","v":" "},{"$f":"IF(OR(EP48=\" \",EP48=0),\" \",EP47*ROUND(EP48,2))","v":" "},{"$f":"IF(OR(EQ$16=\" \",EQ$16=0),\" \",SUM(ER46:FC46))","v":" "},{"$f":"IF(OR(ER48=\" \",ER48=0),\" \",ER47*ROUND(ER48,2))","v":" "},{"$f":"IF(OR(ES48=\" \",ES48=0),\" \",ES47*ROUND(ES48,2))","v":" "},{"$f":"IF(OR(ET48=\" \",ET48=0),\" \",ET47*ROUND(ET48,2))","v":" "},{"$f":"IF(OR(EU48=\" \",EU48=0),\" \",EU47*ROUND(EU48,2))","v":" "},{"$f":"IF(OR(EV48=\" \",EV48=0),\" \",EV47*ROUND(EV48,2))","v":" "},{"$f":"IF(OR(EW48=\" \",EW48=0),\" \",EW47*ROUND(EW48,2))","v":" "},{"$f":"IF(OR(EX48=\" \",EX48=0),\" \",EX47*ROUND(EX48,2))","v":" "},{"$f":"IF(OR(EY48=\" \",EY48=0),\" \",EY47*ROUND(EY48,2))","v":" "},{"$f":"IF(OR(EZ48=\" \",EZ48=0),\" \",EZ47*ROUND(EZ48,2))","v":" "},{"$f":"IF(OR(FA48=\" \",FA48=0),\" \",FA47*ROUND(FA48,2))","v":" "},{"$f":"IF(OR(FB48=\" \",FB48=0),\" \",FB47*ROUND(FB48,2))","v":" "},{"$f":"IF(OR(FC48=\" \",FC48=0),\" \",FC47*ROUND(FC48,2))","v":" "},{"$f":"IF(OR(FD$16=\" \",FD$16=0),\" \",SUM(FE46:FP46))","v":" "},{"$f":"IF(OR(FE48=\" \",FE48=0),\" \",FE47*ROUND(FE48,2))","v":" "},{"$f":"IF(OR(FF48=\" \",FF48=0),\" \",FF47*ROUND(FF48,2))","v":" "},{"$f":"IF(OR(FG48=\" \",FG48=0),\" \",FG47*ROUND(FG48,2))","v":" "},{"$f":"IF(OR(FH48=\" \",FH48=0),\" \",FH47*ROUND(FH48,2))","v":" "},{"$f":"IF(OR(FI48=\" \",FI48=0),\" \",FI47*ROUND(FI48,2))","v":" "},{"$f":"IF(OR(FJ48=\" \",FJ48=0),\" \",FJ47*ROUND(FJ48,2))","v":" "},{"$f":"IF(OR(FK48=\" \",FK48=0),\" \",FK47*ROUND(FK48,2))","v":" "},{"$f":"IF(OR(FL48=\" \",FL48=0),\" \",FL47*ROUND(FL48,2))","v":" "},{"$f":"IF(OR(FM48=\" \",FM48=0),\" \",FM47*ROUND(FM48,2))","v":" "},{"$f":"IF(OR(FN48=\" \",FN48=0),\" \",FN47*ROUND(FN48,2))","v":" "},{"$f":"IF(OR(FO48=\" \",FO48=0),\" \",FO47*ROUND(FO48,2))","v":" "},{"$f":"IF(OR(FP48=\" \",FP48=0),\" \",FP47*ROUND(FP48,2))","v":" "},{"$f":"IF(OR(FQ$16=\" \",FQ$16=0),\" \",SUM(FR46:GC46))","v":" "},{"$f":"IF(OR(FR48=\" \",FR48=0),\" \",FR47*ROUND(FR48,2))","v":" "},{"$f":"IF(OR(FS48=\" \",FS48=0),\" \",FS47*ROUND(FS48,2))","v":" "},{"$f":"IF(OR(FT48=\" \",FT48=0),\" \",FT47*ROUND(FT48,2))","v":" "},{"$f":"IF(OR(FU48=\" \",FU48=0),\" \",FU47*ROUND(FU48,2))","v":" "},{"$f":"IF(OR(FV48=\" \",FV48=0),\" \",FV47*ROUND(FV48,2))","v":" "},{"$f":"IF(OR(FW48=\" \",FW48=0),\" \",FW47*ROUND(FW48,2))","v":" "},{"$f":"IF(OR(FX48=\" \",FX48=0),\" \",FX47*ROUND(FX48,2))","v":" "},{"$f":"IF(OR(FY48=\" \",FY48=0),\" \",FY47*ROUND(FY48,2))","v":" "},{"$f":"IF(OR(FZ48=\" \",FZ48=0),\" \",FZ47*ROUND(FZ48,2))","v":" "},{"$f":"IF(OR(GA48=\" \",GA48=0),\" \",GA47*ROUND(GA48,2))","v":" "},{"$f":"IF(OR(GB48=\" \",GB48=0),\" \",GB47*ROUND(GB48,2))","v":" "},{"$f":"IF(OR(GC48=\" \",GC48=0),\" \",GC47*ROUND(GC48,2))","v":" "},{"$f":"IF(OR(GD$16=\" \",GD$16=0),\" \",SUM(GE46:GP46))","v":" "},{"$f":"IF(OR(GE48=\" \",GE48=0),\" \",GE47*ROUND(GE48,2))","v":" "},{"$f":"IF(OR(GF48=\" \",GF48=0),\" \",GF47*ROUND(GF48,2))","v":" "},{"$f":"IF(OR(GG48=\" \",GG48=0),\" \",GG47*ROUND(GG48,2))","v":" "},{"$f":"IF(OR(GH48=\" \",GH48=0),\" \",GH47*ROUND(GH48,2))","v":" "},{"$f":"IF(OR(GI48=\" \",GI48=0),\" \",GI47*ROUND(GI48,2))","v":" "},{"$f":"IF(OR(GJ48=\" \",GJ48=0),\" \",GJ47*ROUND(GJ48,2))","v":" "},{"$f":"IF(OR(GK48=\" \",GK48=0),\" \",GK47*ROUND(GK48,2))","v":" "},{"$f":"IF(OR(GL48=\" \",GL48=0),\" \",GL47*ROUND(GL48,2))","v":" "},{"$f":"IF(OR(GM48=\" \",GM48=0),\" \",GM47*ROUND(GM48,2))","v":" "},{"$f":"IF(OR(GN48=\" \",GN48=0),\" \",GN47*ROUND(GN48,2))","v":" "},{"$f":"IF(OR(GO48=\" \",GO48=0),\" \",GO47*ROUND(GO48,2))","v":" "},{"$f":"IF(OR(GP48=\" \",GP48=0),\" \",GP47*ROUND(GP48,2))","v":" "},{"$f":"IF(OR(GQ$16=\" \",GQ$16=0),\" \",SUM(GR46:HC46))","v":" "},{"$f":"IF(OR(GR48=\" \",GR48=0),\" \",GR47*ROUND(GR48,2))","v":" "},{"$f":"IF(OR(GS48=\" \",GS48=0),\" \",GS47*ROUND(GS48,2))","v":" "},{"$f":"IF(OR(GT48=\" \",GT48=0),\" \",GT47*ROUND(GT48,2))","v":" "},{"$f":"IF(OR(GU48=\" \",GU48=0),\" \",GU47*ROUND(GU48,2))","v":" "},{"$f":"IF(OR(GV48=\" \",GV48=0),\" \",GV47*ROUND(GV48,2))","v":" "},{"$f":"IF(OR(GW48=\" \",GW48=0),\" \",GW47*ROUND(GW48,2))","v":" "},{"$f":"IF(OR(GX48=\" \",GX48=0),\" \",GX47*ROUND(GX48,2))","v":" "},{"$f":"IF(OR(GY48=\" \",GY48=0),\" \",GY47*ROUND(GY48,2))","v":" "},{"$f":"IF(OR(GZ48=\" \",GZ48=0),\" \",GZ47*ROUND(GZ48,2))","v":" "},{"$f":"IF(OR(HA48=\" \",HA48=0),\" \",HA47*ROUND(HA48,2))","v":" "},{"$f":"IF(OR(HB48=\" \",HB48=0),\" \",HB47*ROUND(HB48,2))","v":" "},{"$f":"IF(OR(HC48=\" \",HC48=0),\" \",HC47*ROUND(HC48,2))","v":" "},{"$f":"IF(OR(HD$16=\" \",HD$16=0),\" \",SUM(HE46:HP46))","v":" "},{"$f":"IF(OR(HE48=\" \",HE48=0),\" \",HE47*ROUND(HE48,2))","v":" "},{"$f":"IF(OR(HF48=\" \",HF48=0),\" \",HF47*ROUND(HF48,2))","v":" "},{"$f":"IF(OR(HG48=\" \",HG48=0),\" \",HG47*ROUND(HG48,2))","v":" "},{"$f":"IF(OR(HH48=\" \",HH48=0),\" \",HH47*ROUND(HH48,2))","v":" "},{"$f":"IF(OR(HI48=\" \",HI48=0),\" \",HI47*ROUND(HI48,2))","v":" "},{"$f":"IF(OR(HJ48=\" \",HJ48=0),\" \",HJ47*ROUND(HJ48,2))","v":" "},{"$f":"IF(OR(HK48=\" \",HK48=0),\" \",HK47*ROUND(HK48,2))","v":" "},{"$f":"IF(OR(HL48=\" \",HL48=0),\" \",HL47*ROUND(HL48,2))","v":" "},{"$f":"IF(OR(HM48=\" \",HM48=0),\" \",HM47*ROUND(HM48,2))","v":" "},{"$f":"IF(OR(HN48=\" \",HN48=0),\" \",HN47*ROUND(HN48,2))","v":" "},{"$f":"IF(OR(HO48=\" \",HO48=0),\" \",HO47*ROUND(HO48,2))","v":" "},{"$f":"IF(OR(HP48=\" \",HP48=0),\" \",HP47*ROUND(HP48,2))","v":" "},{"$f":"IF(OR(HQ$16=\" \",HQ$16=0),\" \",SUM(HR46:IC46))","v":" "},{"$f":"IF(OR(HR48=\" \",HR48=0),\" \",HR47*ROUND(HR48,2))","v":" "},{"$f":"IF(OR(HS48=\" \",HS48=0),\" \",HS47*ROUND(HS48,2))","v":" "},{"$f":"IF(OR(HT48=\" \",HT48=0),\" \",HT47*ROUND(HT48,2))","v":" "},{"$f":"IF(OR(HU48=\" \",HU48=0),\" \",HU47*ROUND(HU48,2))","v":" "},{"$f":"IF(OR(HV48=\" \",HV48=0),\" \",HV47*ROUND(HV48,2))","v":" "},{"$f":"IF(OR(HW48=\" \",HW48=0),\" \",HW47*ROUND(HW48,2))","v":" "},{"$f":"IF(OR(HX48=\" \",HX48=0),\" \",HX47*ROUND(HX48,2))","v":" "},{"$f":"IF(OR(HY48=\" \",HY48=0),\" \",HY47*ROUND(HY48,2))","v":" "},{"$f":"IF(OR(HZ48=\" \",HZ48=0),\" \",HZ47*ROUND(HZ48,2))","v":" "},{"$f":"IF(OR(IA48=\" \",IA48=0),\" \",IA47*ROUND(IA48,2))","v":" "},{"$f":"IF(OR(IB48=\" \",IB48=0),\" \",IB47*ROUND(IB48,2))","v":" "},{"$f":"IF(OR(IC48=\" \",IC48=0),\" \",IC47*ROUND(IC48,2))","v":" "},{"$f":"IF(OR(ID$16=\" \",ID$16=0),\" \",SUM(IE46:IP46))","v":" "},{"$f":"IF(OR(IE48=\" \",IE48=0),\" \",IE47*ROUND(IE48,2))","v":" "},{"$f":"IF(OR(IF48=\" \",IF48=0),\" \",IF47*ROUND(IF48,2))","v":" "},{"$f":"IF(OR(IG48=\" \",IG48=0),\" \",IG47*ROUND(IG48,2))","v":" "},{"$f":"IF(OR(IH48=\" \",IH48=0),\" \",IH47*ROUND(IH48,2))","v":" "},{"$f":"IF(OR(II48=\" \",II48=0),\" \",II47*ROUND(II48,2))","v":" "},{"$f":"IF(OR(IJ48=\" \",IJ48=0),\" \",IJ47*ROUND(IJ48,2))","v":" "},{"$f":"IF(OR(IK48=\" \",IK48=0),\" \",IK47*ROUND(IK48,2))","v":" "},{"$f":"IF(OR(IL48=\" \",IL48=0),\" \",IL47*ROUND(IL48,2))","v":" "},{"$f":"IF(OR(IM48=\" \",IM48=0),\" \",IM47*ROUND(IM48,2))","v":" "},{"$f":"IF(OR(IN48=\" \",IN48=0),\" \",IN47*ROUND(IN48,2))","v":" "},{"$f":"IF(OR(IO48=\" \",IO48=0),\" \",IO47*ROUND(IO48,2))","v":" "},{"$f":"IF(OR(IP48=\" \",IP48=0),\" \",IP47*ROUND(IP48,2))","v":" "},{"$f":"IF(OR(IQ$16=\" \",IQ$16=0),\" \",SUM(IR46:JC46))","v":" "},{"$f":"IF(OR(IR48=\" \",IR48=0),\" \",IR47*ROUND(IR48,2))","v":" "},{"$f":"IF(OR(IS48=\" \",IS48=0),\" \",IS47*ROUND(IS48,2))","v":" "},{"$f":"IF(OR(IT48=\" \",IT48=0),\" \",IT47*ROUND(IT48,2))","v":" "},{"$f":"IF(OR(IU48=\" \",IU48=0),\" \",IU47*ROUND(IU48,2))","v":" "},{"$f":"IF(OR(IV48=\" \",IV48=0),\" \",IV47*ROUND(IV48,2))","v":" "},{"$f":"IF(OR(IW48=\" \",IW48=0),\" \",IW47*ROUND(IW48,2))","v":" "},{"$f":"IF(OR(IX48=\" \",IX48=0),\" \",IX47*ROUND(IX48,2))","v":" "},{"$f":"IF(OR(IY48=\" \",IY48=0),\" \",IY47*ROUND(IY48,2))","v":" "},{"$f":"IF(OR(IZ48=\" \",IZ48=0),\" \",IZ47*ROUND(IZ48,2))","v":" "},{"$f":"IF(OR(JA48=\" \",JA48=0),\" \",JA47*ROUND(JA48,2))","v":" "},{"$f":"IF(OR(JB48=\" \",JB48=0),\" \",JB47*ROUND(JB48,2))","v":" "},{"$f":"IF(OR(JC48=\" \",JC48=0),\" \",JC47*ROUND(JC48,2))","v":" "},{"$f":"IF(OR(JD$16=\" \",JD$16=0),\" \",SUM(JE46:JP46))","v":" "},{"$f":"IF(OR(JE48=\" \",JE48=0),\" \",JE47*ROUND(JE48,2))","v":" "},{"$f":"IF(OR(JF48=\" \",JF48=0),\" \",JF47*ROUND(JF48,2))","v":" "},{"$f":"IF(OR(JG48=\" \",JG48=0),\" \",JG47*ROUND(JG48,2))","v":" "},{"$f":"IF(OR(JH48=\" \",JH48=0),\" \",JH47*ROUND(JH48,2))","v":" "},{"$f":"IF(OR(JI48=\" \",JI48=0),\" \",JI47*ROUND(JI48,2))","v":" "},{"$f":"IF(OR(JJ48=\" \",JJ48=0),\" \",JJ47*ROUND(JJ48,2))","v":" "},{"$f":"IF(OR(JK48=\" \",JK48=0),\" \",JK47*ROUND(JK48,2))","v":" "},{"$f":"IF(OR(JL48=\" \",JL48=0),\" \",JL47*ROUND(JL48,2))","v":" "},{"$f":"IF(OR(JM48=\" \",JM48=0),\" \",JM47*ROUND(JM48,2))","v":" "},{"$f":"IF(OR(JN48=\" \",JN48=0),\" \",JN47*ROUND(JN48,2))","v":" "},{"$f":"IF(OR(JO48=\" \",JO48=0),\" \",JO47*ROUND(JO48,2))","v":" "},{"$f":"IF(OR(JP48=\" \",JP48=0),\" \",JP47*ROUND(JP48,2))","v":" "},{"$f":"IF(OR(JQ$16=\" \",JQ$16=0),\" \",SUM(JR46:KC46))","v":" "},{"$f":"IF(OR(JR48=\" \",JR48=0),\" \",JR47*ROUND(JR48,2))","v":" "},{"$f":"IF(OR(JS48=\" \",JS48=0),\" \",JS47*ROUND(JS48,2))","v":" "},{"$f":"IF(OR(JT48=\" \",JT48=0),\" \",JT47*ROUND(JT48,2))","v":" "},{"$f":"IF(OR(JU48=\" \",JU48=0),\" \",JU47*ROUND(JU48,2))","v":" "},{"$f":"IF(OR(JV48=\" \",JV48=0),\" \",JV47*ROUND(JV48,2))","v":" "},{"$f":"IF(OR(JW48=\" \",JW48=0),\" \",JW47*ROUND(JW48,2))","v":" "},{"$f":"IF(OR(JX48=\" \",JX48=0),\" \",JX47*ROUND(JX48,2))","v":" "},{"$f":"IF(OR(JY48=\" \",JY48=0),\" \",JY47*ROUND(JY48,2))","v":" "},{"$f":"IF(OR(JZ48=\" \",JZ48=0),\" \",JZ47*ROUND(JZ48,2))","v":" "},{"$f":"IF(OR(KA48=\" \",KA48=0),\" \",KA47*ROUND(KA48,2))","v":" "},{"$f":"IF(OR(KB48=\" \",KB48=0),\" \",KB47*ROUND(KB48,2))","v":" "},{"$f":"IF(OR(KC48=\" \",KC48=0),\" \",KC47*ROUND(KC48,2))","v":" "},{"$f":"IF(OR(KD$16=\" \",KD$16=0),\" \",SUM(KE46:KP46))","v":" "},{"$f":"IF(OR(KE48=\" \",KE48=0),\" \",KE47*ROUND(KE48,2))","v":" "},{"$f":"IF(OR(KF48=\" \",KF48=0),\" \",KF47*ROUND(KF48,2))","v":" "},{"$f":"IF(OR(KG48=\" \",KG48=0),\" \",KG47*ROUND(KG48,2))","v":" "},{"$f":"IF(OR(KH48=\" \",KH48=0),\" \",KH47*ROUND(KH48,2))","v":" "},{"$f":"IF(OR(KI48=\" \",KI48=0),\" \",KI47*ROUND(KI48,2))","v":" "},{"$f":"IF(OR(KJ48=\" \",KJ48=0),\" \",KJ47*ROUND(KJ48,2))","v":" "},{"$f":"IF(OR(KK48=\" \",KK48=0),\" \",KK47*ROUND(KK48,2))","v":" "},{"$f":"IF(OR(KL48=\" \",KL48=0),\" \",KL47*ROUND(KL48,2))","v":" "},{"$f":"IF(OR(KM48=\" \",KM48=0),\" \",KM47*ROUND(KM48,2))","v":" "},{"$f":"IF(OR(KN48=\" \",KN48=0),\" \",KN47*ROUND(KN48,2))","v":" "},{"$f":"IF(OR(KO48=\" \",KO48=0),\" \",KO47*ROUND(KO48,2))","v":" "},{"$f":"IF(OR(KP48=\" \",KP48=0),\" \",KP47*ROUND(KP48,2))","v":" "},{"$f":"IF(OR(KQ$16=\" \",KQ$16=0),\" \",SUM(KR46:LC46))","v":" "},{"$f":"IF(OR(KR48=\" \",KR48=0),\" \",KR47*ROUND(KR48,2))","v":" "},{"$f":"IF(OR(KS48=\" \",KS48=0),\" \",KS47*ROUND(KS48,2))","v":" "},{"$f":"IF(OR(KT48=\" \",KT48=0),\" \",KT47*ROUND(KT48,2))","v":" "},{"$f":"IF(OR(KU48=\" \",KU48=0),\" \",KU47*ROUND(KU48,2))","v":" "},{"$f":"IF(OR(KV48=\" \",KV48=0),\" \",KV47*ROUND(KV48,2))","v":" "},{"$f":"IF(OR(KW48=\" \",KW48=0),\" \",KW47*ROUND(KW48,2))","v":" "},{"$f":"IF(OR(KX48=\" \",KX48=0),\" \",KX47*ROUND(KX48,2))","v":" "},{"$f":"IF(OR(KY48=\" \",KY48=0),\" \",KY47*ROUND(KY48,2))","v":" "},{"$f":"IF(OR(KZ48=\" \",KZ48=0),\" \",KZ47*ROUND(KZ48,2))","v":" "},{"$f":"IF(OR(LA48=\" \",LA48=0),\" \",LA47*ROUND(LA48,2))","v":" "},{"$f":"IF(OR(LB48=\" \",LB48=0),\" \",LB47*ROUND(LB48,2))","v":" "},{"$f":"IF(OR(LC48=\" \",LC48=0),\" \",LC47*ROUND(LC48,2))","v":" "},{"$f":"IF(OR(LD$16=\" \",LD$16=0),\" \",SUM(LE46:LP46))","v":" "},{"$f":"IF(OR(LE48=\" \",LE48=0),\" \",LE47*ROUND(LE48,2))","v":" "},{"$f":"IF(OR(LF48=\" \",LF48=0),\" \",LF47*ROUND(LF48,2))","v":" "},{"$f":"IF(OR(LG48=\" \",LG48=0),\" \",LG47*ROUND(LG48,2))","v":" "},{"$f":"IF(OR(LH48=\" \",LH48=0),\" \",LH47*ROUND(LH48,2))","v":" "},{"$f":"IF(OR(LI48=\" \",LI48=0),\" \",LI47*ROUND(LI48,2))","v":" "},{"$f":"IF(OR(LJ48=\" \",LJ48=0),\" \",LJ47*ROUND(LJ48,2))","v":" "},{"$f":"IF(OR(LK48=\" \",LK48=0),\" \",LK47*ROUND(LK48,2))","v":" "},{"$f":"IF(OR(LL48=\" \",LL48=0),\" \",LL47*ROUND(LL48,2))","v":" "},{"$f":"IF(OR(LM48=\" \",LM48=0),\" \",LM47*ROUND(LM48,2))","v":" "},{"$f":"IF(OR(LN48=\" \",LN48=0),\" \",LN47*ROUND(LN48,2))","v":" "},{"$f":"IF(OR(LO48=\" \",LO48=0),\" \",LO47*ROUND(LO48,2))","v":" "},{"$f":"IF(OR(LP48=\" \",LP48=0),\" \",LP47*ROUND(LP48,2))","v":" "},{"$f":"IF(OR(LQ$16=\" \",LQ$16=0),\" \",SUM(LR46:MC46))","v":" "},{"$f":"IF(OR(LR48=\" \",LR48=0),\" \",LR47*ROUND(LR48,2))","v":" "},{"$f":"IF(OR(LS48=\" \",LS48=0),\" \",LS47*ROUND(LS48,2))","v":" "},{"$f":"IF(OR(LT48=\" \",LT48=0),\" \",LT47*ROUND(LT48,2))","v":" "},{"$f":"IF(OR(LU48=\" \",LU48=0),\" \",LU47*ROUND(LU48,2))","v":" "},{"$f":"IF(OR(LV48=\" \",LV48=0),\" \",LV47*ROUND(LV48,2))","v":" "},{"$f":"IF(OR(LW48=\" \",LW48=0),\" \",LW47*ROUND(LW48,2))","v":" "},{"$f":"IF(OR(LX48=\" \",LX48=0),\" \",LX47*ROUND(LX48,2))","v":" "},{"$f":"IF(OR(LY48=\" \",LY48=0),\" \",LY47*ROUND(LY48,2))","v":" "},{"$f":"IF(OR(LZ48=\" \",LZ48=0),\" \",LZ47*ROUND(LZ48,2))","v":" "},{"$f":"IF(OR(MA48=\" \",MA48=0),\" \",MA47*ROUND(MA48,2))","v":" "},{"$f":"IF(OR(MB48=\" \",MB48=0),\" \",MB47*ROUND(MB48,2))","v":" "},{"$f":"IF(OR(MC48=\" \",MC48=0),\" \",MC47*ROUND(MC48,2))","v":" "},{"$f":"IF(OR(MD$16=\" \",MD$16=0),\" \",SUM(ME46:MP46))","v":" "},{"$f":"IF(OR(ME48=\" \",ME48=0),\" \",ME47*ROUND(ME48,2))","v":" "},{"$f":"IF(OR(MF48=\" \",MF48=0),\" \",MF47*ROUND(MF48,2))","v":" "},{"$f":"IF(OR(MG48=\" \",MG48=0),\" \",MG47*ROUND(MG48,2))","v":" "},{"$f":"IF(OR(MH48=\" \",MH48=0),\" \",MH47*ROUND(MH48,2))","v":" "},{"$f":"IF(OR(MI48=\" \",MI48=0),\" \",MI47*ROUND(MI48,2))","v":" "},{"$f":"IF(OR(MJ48=\" \",MJ48=0),\" \",MJ47*ROUND(MJ48,2))","v":" "},{"$f":"IF(OR(MK48=\" \",MK48=0),\" \",MK47*ROUND(MK48,2))","v":" "},{"$f":"IF(OR(ML48=\" \",ML48=0),\" \",ML47*ROUND(ML48,2))","v":" "},{"$f":"IF(OR(MM48=\" \",MM48=0),\" \",MM47*ROUND(MM48,2))","v":" "},{"$f":"IF(OR(MN48=\" \",MN48=0),\" \",MN47*ROUND(MN48,2))","v":" "},{"$f":"IF(OR(MO48=\" \",MO48=0),\" \",MO47*ROUND(MO48,2))","v":" "},{"$f":"IF(OR(MP48=\" \",MP48=0),\" \",MP47*ROUND(MP48,2))","v":" "},{"$f":"IF(OR(MQ$16=\" \",MQ$16=0),\" \",SUM(MR46:NC46))","v":" "},{"$f":"IF(OR(MR48=\" \",MR48=0),\" \",MR47*ROUND(MR48,2))","v":" "},{"$f":"IF(OR(MS48=\" \",MS48=0),\" \",MS47*ROUND(MS48,2))","v":" "},{"$f":"IF(OR(MT48=\" \",MT48=0),\" \",MT47*ROUND(MT48,2))","v":" "},{"$f":"IF(OR(MU48=\" \",MU48=0),\" \",MU47*ROUND(MU48,2))","v":" "},{"$f":"IF(OR(MV48=\" \",MV48=0),\" \",MV47*ROUND(MV48,2))","v":" "},{"$f":"IF(OR(MW48=\" \",MW48=0),\" \",MW47*ROUND(MW48,2))","v":" "},{"$f":"IF(OR(MX48=\" \",MX48=0),\" \",MX47*ROUND(MX48,2))","v":" "},{"$f":"IF(OR(MY48=\" \",MY48=0),\" \",MY47*ROUND(MY48,2))","v":" "},{"$f":"IF(OR(MZ48=\" \",MZ48=0),\" \",MZ47*ROUND(MZ48,2))","v":" "},{"$f":"IF(OR(NA48=\" \",NA48=0),\" \",NA47*ROUND(NA48,2))","v":" "},{"$f":"IF(OR(NB48=\" \",NB48=0),\" \",NB47*ROUND(NB48,2))","v":" "},{"$f":"IF(OR(NC48=\" \",NC48=0),\" \",NC47*ROUND(NC48,2))","v":" "},{"$f":"IF(OR(ND$16=\" \",ND$16=0),\" \",SUM(NE46:NP46))","v":" "},{"$f":"IF(OR(NE48=\" \",NE48=0),\" \",NE47*ROUND(NE48,2))","v":" "},{"$f":"IF(OR(NF48=\" \",NF48=0),\" \",NF47*ROUND(NF48,2))","v":" "},{"$f":"IF(OR(NG48=\" \",NG48=0),\" \",NG47*ROUND(NG48,2))","v":" "},{"$f":"IF(OR(NH48=\" \",NH48=0),\" \",NH47*ROUND(NH48,2))","v":" "},{"$f":"IF(OR(NI48=\" \",NI48=0),\" \",NI47*ROUND(NI48,2))","v":" "},{"$f":"IF(OR(NJ48=\" \",NJ48=0),\" \",NJ47*ROUND(NJ48,2))","v":" "},{"$f":"IF(OR(NK48=\" \",NK48=0),\" \",NK47*ROUND(NK48,2))","v":" "},{"$f":"IF(OR(NL48=\" \",NL48=0),\" \",NL47*ROUND(NL48,2))","v":" "},{"$f":"IF(OR(NM48=\" \",NM48=0),\" \",NM47*ROUND(NM48,2))","v":" "},{"$f":"IF(OR(NN48=\" \",NN48=0),\" \",NN47*ROUND(NN48,2))","v":" "},{"$f":"IF(OR(NO48=\" \",NO48=0),\" \",NO47*ROUND(NO48,2))","v":" "},{"$f":"IF(OR(NP48=\" \",NP48=0),\" \",NP47*ROUND(NP48,2))","v":" "}]
["Pārdotais elektroenerģijas apjoms","MWh"," ",{"$f":"IF(OR(D$16=\" \",D$16=0),\" \",SUM(E47:P47))","v":" "},{"$f":"IF(OR(E48=\" \",E48=0),\" \",$BD$6*$C$7/12)","v":" "},{"$f":"IF(OR(F48=\" \",F48=0),\" \",$BD$6*$C$7/12)","v":" "}," "," "," "," "," "," "," "," "," "," ",{"$f":"IF(OR(Q$16=\" \",Q$16=0),\" \",SUM(R47:AC47))","v":" "},{"$f":"IF(OR(R48=\" \",R48=0),\" \",$BD$6*$C$7/12)","v":" "}," "," "," "," "," "," "," "," "," "," "," ",{"$f":"IF(OR(AD$16=\" \",AD$16=0),\" \",SUM(AE47:AP47))","v":" "},{"$f":"IF(OR(AE48=\" \",AE48=0),\" \",$BD$6*$C$7/12)","v":" "}," "," "," "," "," "," "," "," "," "," "," ",{"$f":"IF(OR(AQ$16=\" \",AQ$16=0),\" \",SUM(AR47:BC47))","v":" "},{"$f":"IF(OR(AR48=\" \",AR48=0),\" \",$BD$6*$C$7/12)","v":" "}," "," "," "," "," "," "," "," "," "," "," ",{"$f":"IF(OR(BD$16=\" \",BD$16=0),\" \",SUM(BE47:BP47))","v":" "},{"$f":"IF(OR(BE48=\" \",BE48=0),\" \",$BD$6*$C$7/12)","v":" "}," "," "," "," "," "," "," "," "," "," "," ",{"$f":"IF(OR(BQ$16=\" \",BQ$16=0),\" \",SUM(BR47:CC47))","v":" "},{"$f":"IF(OR(BR48=\" \",BR48=0),\" \",$BD$6*$C$7/12)","v":" "}," "," "," "," "," "," "," "," "," "," "," ",{"$f":"IF(OR(CD$16=\" \",CD$16=0),\" \",SUM(CE47:CP47))","v":" "},{"$f":"IF(OR(CE48=\" \",CE48=0),\" \",$BD$6*$C$7/12)","v":" "}," "," "," "," "," "," "," "," "," "," "," ",{"$f":"IF(OR(CQ$16=\" \",CQ$16=0),\" \",SUM(CR47:DC47))","v":" "},{"$f":"IF(OR(CR48=\" \",CR48=0),\" \",$BD$6*$C$7/12)","v":" "}," "," "," "," "," "," "," "," "," "," "," ",{"$f":"IF(OR(DD$16=\" \",DD$16=0),\" \",SUM(DE47:DP47))","v":" "},{"$f":"IF(OR(DE48=\" \",DE48=0),\" \",$BD$6*$C$7/12)","v":" "},{"$f":"IF(OR(DF48=\" \",DF48=0),\" \",$BD$6*$C$7/12)","v":" "}," "," "," "," "," "," "," "," "," "," ",{"$f":"IF(OR(DQ$16=\" \",DQ$16=0),\" \",SUM(DR47:EC47))","v":" "},{"$f":"IF(OR(DR48=\" \",DR48=0),\" \",$BD$6*$C$7/12)","v":" "},{"$f":"IF(OR(DS48=\" \",DS48=0),\" \",$BD$6*$C$7/12)","v":" "}," "," "," "," "," "," "," "," "," "," ",{"$f":"IF(OR(ED$16=\" \",ED$16=0),\" \",SUM(EE47:EP47))","v":" "},{"$f":"IF(OR(EE48=\" \",EE48=0),\" \",$BD$6*$C$7/12)","v":" "},{"$f":"IF(OR(EF48=\" \",EF48=0),\" \",$BD$6*$C$7/12)","v":" "}," "," "," "," "," "," "," "," "," "," ",{"$f":"IF(OR(EQ$16=\" \",EQ$16=0),\" \",SUM(ER47:FC47))","v":" "},{"$f":"IF(OR(ER48=\" \",ER48=0),\" \",$BD$6*$C$7/12)","v":" "},{"$f":"IF(OR(ES48=\" \",ES48=0),\" \",$BD$6*$C$7/12)","v":" "}," "," "," "," "," "," "," "," "," "," ",{"$f":"IF(OR(FD$16=\" \",FD$16=0),\" \",SUM(FE47:FP47))","v":" "},{"$f":"IF(OR(FE48=\" \",FE48=0),\" \",$BD$6*$C$7/12)","v":" "},{"$f":"IF(OR(FF48=\" \",FF48=0),\" \",$BD$6*$C$7/12)","v":" "}," "," "," "," "," "," "," "," "," "," ",{"$f":"IF(OR(FQ$16=\" \",FQ$16=0),\" \",SUM(FR47:GC47))","v":" "},{"$f":"IF(OR(FR48=\" \",FR48=0),\" \",$BD$6*$C$7/12)","v":" "},{"$f":"IF(OR(FS48=\" \",FS48=0),\" \",$BD$6*$C$7/12)","v":" "}," "," "," "," "," "," "," "," "," "," ",{"$f":"IF(OR(GD$16=\" \",GD$16=0),\" \",SUM(GE47:GP47))","v":" "},{"$f":"IF(OR(GE48=\" \",GE48=0),\" \",$BD$6*$C$7/12)","v":" "},{"$f":"IF(OR(GF48=\" \",GF48=0),\" \",$BD$6*$C$7/12)","v":" "}," "," "," "," "," "," "," "," "," "," ",{"$f":"IF(OR(GQ$16=\" \",GQ$16=0),\" \",SUM(GR47:HC47))","v":" "},{"$f":"IF(OR(GR48=\" \",GR48=0),\" \",$BD$6*$C$7/12)","v":" "},{"$f":"IF(OR(GS48=\" \",GS48=0),\" \",$BD$6*$C$7/12)","v":" "}," "," "," "," "," "," "," "," "," "," ",{"$f":"IF(OR(HD$16=\" \",HD$16=0),\" \",SUM(HE47:HP47))","v":" "},{"$f":"IF(OR(HE48=\" \",HE48=0),\" \",$BD$6*$C$7/12)","v":" "},{"$f":"IF(OR(HF48=\" \",HF48=0),\" \",$BD$6*$C$7/12)","v":" "}," "," "," "," "," "," "," "," "," "," ",{"$f":"IF(OR(HQ$16=\" \",HQ$16=0),\" \",SUM(HR47:IC47))","v":" "},{"$f":"IF(OR(HR48=\" \",HR48=0),\" \",$BD$6*$C$7/12)","v":" "},{"$f":"IF(OR(HS48=\" \",HS48=0),\" \",$BD$6*$C$7/12)","v":" "}," "," "," "," "," "," "," "," "," "," ",{"$f":"IF(OR(ID$16=\" \",ID$16=0),\" \",SUM(IE47:IP47))","v":" "},{"$f":"IF(OR(IE48=\" \",IE48=0),\" \",$BD$6*$C$7/12)","v":" "},{"$f":"IF(OR(IF48=\" \",IF48=0),\" \",$BD$6*$C$7/12)","v":" "}," "," "," "," "," "," "," "," "," "," ",{"$f":"IF(OR(IQ$16=\" \",IQ$16=0),\" \",SUM(IR47:JC47))","v":" "},{"$f":"IF(OR(IR48=\" \",IR48=0),\" \",$BD$6*$C$7/12)","v":" "},{"$f":"IF(OR(IS48=\" \",IS48=0),\" \",$BD$6*$C$7/12)","v":" "}," "," "," "," "," "," "," "," "," "," ",{"$f":"IF(OR(JD$16=\" \",JD$16=0),\" \",SUM(JE47:JP47))","v":" "},{"$f":"IF(OR(JE48=\" \",JE48=0),\" \",$BD$6*$C$7/12)","v":" "},{"$f":"IF(OR(JF48=\" \",JF48=0),\" \",$BD$6*$C$7/12)","v":" "}," "," "," "," "," "," "," "," "," "," ",{"$f":"IF(OR(JQ$16=\" \",JQ$16=0),\" \",SUM(JR47:KC47))","v":" "},{"$f":"IF(OR(JR48=\" \",JR48=0),\" \",$BD$6*$C$7/12)","v":" "},{"$f":"IF(OR(JS48=\" \",JS48=0),\" \",$BD$6*$C$7/12)","v":" "}," "," "," "," "," "," "," "," "," "," ",{"$f":"IF(OR(KD$16=\" \",KD$16=0),\" \",SUM(KE47:KP47))","v":" "},{"$f":"IF(OR(KE48=\" \",KE48=0),\" \",$BD$6*$C$7/12)","v":" "},{"$f":"IF(OR(KF48=\" \",KF48=0),\" \",$BD$6*$C$7/12)","v":" "}," "," "," "," "," "," "," "," "," "," ",{"$f":"IF(OR(KQ$16=\" \",KQ$16=0),\" \",SUM(KR47:LC47))","v":" "},{"$f":"IF(OR(KR48=\" \",KR48=0),\" \",$BD$6*$C$7/12)","v":" "},{"$f":"IF(OR(KS48=\" \",KS48=0),\" \",$BD$6*$C$7/12)","v":" "}," "," "," "," "," "," "," "," "," "," ",{"$f":"IF(OR(LD$16=\" \",LD$16=0),\" \",SUM(LE47:LP47))","v":" "},{"$f":"IF(OR(LE48=\" \",LE48=0),\" \",$BD$6*$C$7/12)","v":" "},{"$f":"IF(OR(LF48=\" \",LF48=0),\" \",$BD$6*$C$7/12)","v":" "}," "," "," "," "," "," "," "," "," "," ",{"$f":"IF(OR(LQ$16=\" \",LQ$16=0),\" \",SUM(LR47:MC47))","v":" "},{"$f":"IF(OR(LR48=\" \",LR48=0),\" \",$BD$6*$C$7/12)","v":" "},{"$f":"IF(OR(LS48=\" \",LS48=0),\" \",$BD$6*$C$7/12)","v":" "}," "," "," "," "," "," "," "," "," "," ",{"$f":"IF(OR(MD$16=\" \",MD$16=0),\" \",SUM(ME47:MP47))","v":" "},{"$f":"IF(OR(ME48=\" \",ME48=0),\" \",$BD$6*$C$7/12)","v":" "},{"$f":"IF(OR(MF48=\" \",MF48=0),\" \",$BD$6*$C$7/12)","v":" "}," "," "," "," "," "," "," "," "," "," ",{"$f":"IF(OR(MQ$16=\" \",MQ$16=0),\" \",SUM(MR47:NC47))","v":" "},{"$f":"IF(OR(MR48=\" \",MR48=0),\" \",$BD$6*$C$7/12)","v":" "},{"$f":"IF(OR(MS48=\" \",MS48=0),\" \",$BD$6*$C$7/12)","v":" "}," "," "," "," "," "," "," "," "," "," ",{"$f":"IF(OR(ND$16=\" \",ND$16=0),\" \",SUM(NE47:NP47))","v":" "},{"$f":"IF(OR(NE48=\" \",NE48=0),\" \",$BD$6*$C$7/12)","v":" "},{"$f":"IF(OR(NF48=\" \",NF48=0),\" \",$BD$6*$C$7/12)","v":" "}," "," "," "," "," "," "," "," "," "," "]
["Elektroenerģijas cena","EUR/MWh"," ",{"$f":"IF(OR(D$16=\" \",D$16=0,D47=0),\" \",SUMPRODUCT(E47:P47,E48:P48)/D47)","v":" "},{"$f":"IF(E22=\" \",\" \",IF($D$41=$B$35,IF(E43>=$C$35,$B$34*E22,E22),IF($D$41>$B$35,$B$34*E22,E22)))","v":" "}," "," "," "," "," "," "," "," "," "," "," ",{"$f":"IF(OR(Q$16=\" \",Q$16=0,Q47=0),\" \",SUMPRODUCT(R47:AC47,R48:AC48)/Q47)","v":" "},{"$f":"IF(R22=\" \",\" \",IF($Q$41=$B$35,IF(R43>=$C$35,$B$34*R22,R22),IF($Q$41>$B$35,$B$34*R22,R22)))","v":" "}," "," "," "," "," "," "," "," "," "," "," ",{"$f":"IF(OR(AD$16=\" \",AD$16=0,AD47=0),\" \",SUMPRODUCT(AE47:AP47,AE48:AP48)/AD47)","v":" "},{"$f":"IF(AE22=\" \",\" \",IF($AD$41=$B$35,IF(AE43>=$C$35,$B$34*AE22,AE22),IF($AD$41>$B$35,$B$34*AE22,AE22)))","v":" "}," "," "," "," "," "," "," "," "," "," "," ",{"$f":"IF(OR(AQ$16=\" \",AQ$16=0,AQ47=0),\" \",SUMPRODUCT(AR47:BC47,AR48:BC48)/AQ47)","v":" "},{"$f":"IF(AR22=\" \",\" \",IF($AQ$41=$B$35,IF(AR43>=$C$35,$B$34*AR22,AR22),IF($AQ$41>$B$35,$B$34*AR22,AR22)))","v":" "}," "," "," "," "," "," "," "," "," "," "," ",{"$f":"IF(OR(BD$16=\" \",BD$16=0,BD47=0),\" \",SUMPRODUCT(BE47:BP47,BE48:BP48)/BD47)","v":" "},{"$f":"IF(BE22=\" \",\" \",IF($BD$41=$B$35,IF(BE43>=$C$35,$B$34*BE22,BE22),IF($BD$41>$B$35,$B$34*BE22,BE22)))","v":" "}," "," "," "," "," "," "," "," "," "," "," ",{"$f":"IF(OR(BQ$16=\" \",BQ$16=0,BQ47=0),\" \",SUMPRODUCT(BR47:CC47,BR48:CC48)/BQ47)","v":" "},{"$f":"IF(BR22=\" \",\" \",IF($BQ$41=$B$35,IF(BR43>=$C$35,$B$34*BR22,BR22),IF($BQ$41>$B$35,$B$34*BR22,BR22)))","v":" "}," "," "," "," "," "," "," "," "," "," "," ",{"$f":"IF(OR(CD$16=\" \",CD$16=0,CD47=0),\" \",SUMPRODUCT(CE47:CP47,CE48:CP48)/CD47)","v":" "},{"$f":"IF(CE22=\" \",\" \",IF($CD$41=$B$35,IF(CE43>=$C$35,$B$34*CE22,CE22),IF($CD$41>$B$35,$B$34*CE22,CE22)))","v":" "}," "," "," "," "," "," "," "," "," "," "," ",{"$f":"IF(OR(CQ$16=\" \",CQ$16=0,CQ47=0),\" \",SUMPRODUCT(CR47:DC47,CR48:DC48)/CQ47)","v":" "},{"$f":"IF(CR22=\" \",\" \",IF($CQ$41=$B$35,IF(CR43>=$C$35,$B$34*CR22,CR22),IF($CQ$41>$B$35,$B$34*CR22,CR22)))","v":" "}," "," "," "," "," "," "," "," "," "," "," ",{"$f":"IF(OR(DD$16=\" \",DD$16=0,DD47=0),\" \",SUMPRODUCT(DE47:DP47,DE48:DP48)/DD47)","v":" "},{"$f":"IF(DE22=\" \",\" \",IF($DD$41=$B$35,IF(DE43>=$C$35,$B$34*DE22,DE22),IF($DD$41>$B$35,$B$34*DE22,DE22)))","v":" "}," "," "," "," "," "," "," "," "," "," "," ",{"$f":"IF(OR(DQ$16=\" \",DQ$16=0,DQ47=0),\" \",SUMPRODUCT(DR47:EC47,DR48:EC48)/DQ47)","v":" "},{"$f":"IF(DR22=\" \",\" \",IF($DQ$41=$B$35,IF(DR43>=$C$35,$B$34*DR22,DR22),IF($DQ$41>$B$35,$B$34*DR22,DR22)))","v":" "}," "," "," "," "," "," "," "," "," "," "," ",{"$f":"IF(OR(ED$16=\" \",ED$16=0,ED47=0),\" \",SUMPRODUCT(EE47:EP47,EE48:EP48)/ED47)","v":" "},{"$f":"IF(EE22=\" \",\" \",IF($ED$41=$B$35,IF(EE43>=$C$35,$B$34*EE22,EE22),IF($ED$41>$B$35,$B$34*EE22,EE22)))","v":" "}," "," "," "," "," "," "," "," "," "," "," ",{"$f":"IF(OR(EQ$16=\" \",EQ$16=0,EQ47=0),\" \",SUMPRODUCT(ER47:FC47,ER48:FC48)/EQ47)","v":" "},{"$f":"IF(ER22=\" \",\" \",IF($EQ$41=$B$35,IF(ER43>=$C$35,$B$34*ER22,ER22),IF($EQ$41>$B$35,$B$34*ER22,ER22)))","v":" "}," "," "," "," "," "," "," "," "," "," "," ",{"$f":"IF(OR(FD$16=\" \",FD$16=0,FD47=0),\" \",SUMPRODUCT(FE47:FP47,FE48:FP48)/FD47)","v":" "},{"$f":"IF(FE22=\" \",\" \",IF($FD$41=$B$35,IF(FE43>=$C$35,$B$34*FE22,FE22),IF($FD$41>$B$35,$B$34*FE22,FE22)))","v":" "}," "," "," "," "," "," "," "," "," "," "," ",{"$f":"IF(OR(FQ$16=\" \",FQ$16=0,FQ47=0),\" \",SUMPRODUCT(FR47:GC47,FR48:GC48)/FQ47)","v":" "},{"$f":"IF(FR22=\" \",\" \",IF($FQ$41=$B$35,IF(FR43>=$C$35,$B$34*FR22,FR22),IF($FQ$41>$B$35,$B$34*FR22,FR22)))","v":" "}," "," "," "," "," "," "," "," "," "," "," ",{"$f":"IF(OR(GD$16=\" \",GD$16=0,GD47=0),\" \",SUMPRODUCT(GE47:GP47,GE48:GP48)/GD47)","v":" "},{"$f":"IF(GE22=\" \",\" \",IF($GD$41=$B$35,IF(GE43>=$C$35,$B$34*GE22,GE22),IF($GD$41>$B$35,$B$34*GE22,GE22)))","v":" "}," "," "," "," "," "," "," "," "," "," "," ",{"$f":"IF(OR(GQ$16=\" \",GQ$16=0,GQ47=0),\" \",SUMPRODUCT(GR47:HC47,GR48:HC48)/GQ47)","v":" "},{"$f":"IF(GR22=\" \",\" \",IF($GQ$41=$B$35,IF(GR43>=$C$35,$B$34*GR22,GR22),IF($GQ$41>$B$35,$B$34*GR22,GR22)))","v":" "}," "," "," "," "," "," "," "," "," "," "," ",{"$f":"IF(OR(HD$16=\" \",HD$16=0,HD47=0),\" \",SUMPRODUCT(HE47:HP47,HE48:HP48)/HD47)","v":" "},{"$f":"IF(HE22=\" \",\" \",IF($HD$41=$B$35,IF(HE43>=$C$35,$B$34*HE22,HE22),IF($HD$41>$B$35,$B$34*HE22,HE22)))","v":" "}," "," "," "," "," "," "," "," "," "," "," ",{"$f":"IF(OR(HQ$16=\" \",HQ$16=0,HQ47=0),\" \",SUMPRODUCT(HR47:IC47,HR48:IC48)/HQ47)","v":" "},{"$f":"IF(HR22=\" \",\" \",IF($HQ$41=$B$35,IF(HR43>=$C$35,$B$34*HR22,HR22),IF($HQ$41>$B$35,$B$34*HR22,HR22)))","v":" "}," "," "," "," "," "," "," "," "," "," "," ",{"$f":"IF(OR(ID$16=\" \",ID$16=0,ID47=0),\" \",SUMPRODUCT(IE47:IP47,IE48:IP48)/ID47)","v":" "},{"$f":"IF(IE22=\" \",\" \",IF($ID$41=$B$35,IF(IE43>=$C$35,$B$34*IE22,IE22),IF($ID$41>$B$35,$B$34*IE22,IE22)))","v":" "}," "," "," "," "," "," "," "," "," "," "," ",{"$f":"IF(OR(IQ$16=\" \",IQ$16=0,IQ47=0),\" \",SUMPRODUCT(IR47:JC47,IR48:JC48)/IQ47)","v":" "},{"$f":"IF(IR22=\" \",\" \",IF($IQ$41=$B$35,IF(IR43>=$C$35,$B$34*IR22,IR22),IF($IQ$41>$B$35,$B$34*IR22,IR22)))","v":" "}," "," "," "," "," "," "," "," "," "," "," ",{"$f":"IF(OR(JD$16=\" \",JD$16=0,JD47=0),\" \",SUMPRODUCT(JE47:JP47,JE48:JP48)/JD47)","v":" "},{"$f":"IF(JE22=\" \",\" \",IF($JD$41=$B$35,IF(JE43>=$C$35,$B$34*JE22,JE22),IF($JD$41>$B$35,$B$34*JE22,JE22)))","v":" "}," "," "," "," "," "," "," "," "," "," "," ",{"$f":"IF(OR(JQ$16=\" \",JQ$16=0,JQ47=0),\" \",SUMPRODUCT(JR47:KC47,JR48:KC48)/JQ47)","v":" "},{"$f":"IF(JR22=\" \",\" \",IF($JQ$41=$B$35,IF(JR43>=$C$35,$B$34*JR22,JR22),IF($JQ$41>$B$35,$B$34*JR22,JR22)))","v":" "}," "," "," "," "," "," "," "," "," "," "," ",{"$f":"IF(OR(KD$16=\" \",KD$16=0,KD47=0),\" \",SUMPRODUCT(KE47:KP47,KE48:KP48)/KD47)","v":" "},{"$f":"IF(KE22=\" \",\" \",IF($KD$41=$B$35,IF(KE43>=$C$35,$B$34*KE22,KE22),IF($KD$41>$B$35,$B$34*KE22,KE22)))","v":" "}," "," "," "," "," "," "," "," "," "," "," ",{"$f":"IF(OR(KQ$16=\" \",KQ$16=0,KQ47=0),\" \",SUMPRODUCT(KR47:LC47,KR48:LC48)/KQ47)","v":" "},{"$f":"IF(KR22=\" \",\" \",IF($KQ$41=$B$35,IF(KR43>=$C$35,$B$34*KR22,KR22),IF($KQ$41>$B$35,$B$34*KR22,KR22)))","v":" "}," "," "," "," "," "," "," "," "," "," "," ",{"$f":"IF(OR(LD$16=\" \",LD$16=0,LD47=0),\" \",SUMPRODUCT(LE47:LP47,LE48:LP48)/LD47)","v":" "},{"$f":"IF(LE22=\" \",\" \",IF($LD$41=$B$35,IF(LE43>=$C$35,$B$34*LE22,LE22),IF($LD$41>$B$35,$B$34*LE22,LE22)))","v":" "}," "," "," "," "," "," "," "," "," "," "," ",{"$f":"IF(OR(LQ$16=\" \",LQ$16=0,LQ47=0),\" \",SUMPRODUCT(LR47:MC47,LR48:MC48)/LQ47)","v":" "},{"$f":"IF(LR22=\" \",\" \",IF($LQ$41=$B$35,IF(LR43>=$C$35,$B$34*LR22,LR22),IF($LQ$41>$B$35,$B$34*LR22,LR22)))","v":" "}," "," "," "," "," "," "," "," "," "," "," ",{"$f":"IF(OR(MD$16=\" \",MD$16=0,MD47=0),\" \",SUMPRODUCT(ME47:MP47,ME48:MP48)/MD47)","v":" "},{"$f":"IF(ME22=\" \",\" \",IF($MD$41=$B$35,IF(ME43>=$C$35,$B$34*ME22,ME22),IF($MD$41>$B$35,$B$34*ME22,ME22)))","v":" "}," "," "," "," "," "," "," "," "," "," "," ",{"$f":"IF(OR(MQ$16=\" \",MQ$16=0,MQ47=0),\" \",SUMPRODUCT(MR47:NC47,MR48:NC48)/MQ47)","v":" "},{"$f":"IF(MR22=\" \",\" \",IF($MQ$41=$B$35,IF(MR43>=$C$35,$B$34*MR22,MR22),IF($MQ$41>$B$35,$B$34*MR22,MR22)))","v":" "}," "," "," "," "," "," "," "," "," "," "," ",{"$f":"IF(OR(ND$16=\" \",ND$16=0,ND47=0),\" \",SUMPRODUCT(NE47:NP47,NE48:NP48)/ND47)","v":" "},{"$f":"IF(NE22=\" \",\" \",IF($ND$41=$B$35,IF(NE43>=$C$35,$B$34*NE22,NE22),IF($ND$41>$B$35,$B$34*NE22,NE22)))","v":" "}," "," "," "," "," "," "," "," "," "," "," "]
["SEN","%",null,null,null,null,null,null,null,null,null,null,null,null,null,null,null,null,null,null,null,null,null,null,null,null,null,null,null,null,null,null,null,null,null,null,null,null,null,null,null,null,null,null,null,null,null,null,null,null,null,null,null,null,null,null,null,null,null,null,null,null,null,null,null,null,null,null,null,null,null,null,null,null,null,null,null,null,null,null,null,null,null,null,null,null,null,null,null,null,null,null,null,null,null,{"$f":"CR23","v":0},0,0,0,0,0,0,0,0,0,0,0,null,{"$f":"DE23","v":0},0,0,0,0,0,0,0,0,0,0,0,null,{"$f":"DR23","v":0},0,0,0,0,0,0,0,0,0,0,0,null,{"$f":"EE23","v":0},0,0,0,0,0,0,0,0,0,0,0]
["Ieņēmumi no siltumenerģijas pārdošanas","EUR",null,{"$f":"IF(OR(D$16=\" \",D$16=0),\" \",SUM(E50:P50))","v":" "},{"$f":"IF(E48=\" \",\" \",($C$11*$BD$6/12)*(E55/Līmeņatzīmes!$I$50))","v":" "},{"$f":"IF(F48=\" \",\" \",($C$11*$BD$6/12)*(F55/Līmeņatzīmes!$I$50))","v":" "},{"$f":"IF(G48=\" \",\" \",($C$11*$BD$6/12)*(G55/Līmeņatzīmes!$I$50))","v":" "},{"$f":"IF(H48=\" \",\" \",($C$11*$BD$6/12)*(H55/Līmeņatzīmes!$I$50))","v":" "},{"$f":"IF(I48=\" \",\" \",($C$11*$BD$6/12)*(I55/Līmeņatzīmes!$I$50))","v":" "},{"$f":"IF(J48=\" \",\" \",($C$11*$BD$6/12)*(J55/Līmeņatzīmes!$I$50))","v":" "},{"$f":"IF(K48=\" \",\" \",($C$11*$BD$6/12)*(K55/Līmeņatzīmes!$I$50))","v":" "},{"$f":"IF(L48=\" \",\" \",($C$11*$BD$6/12)*(L55/Līmeņatzīmes!$I$50))","v":" "},{"$f":"IF(M48=\" \",\" \",($C$11*$BD$6/12)*(M55/Līmeņatzīmes!$I$50))","v":" "},{"$f":"IF(N48=\" \",\" \",($C$11*$BD$6/12)*(N55/Līmeņatzīmes!$I$50))","v":" "},{"$f":"IF(O48=\" \",\" \",($C$11*$BD$6/12)*(O55/Līmeņatzīmes!$I$50))","v":" "},{"$f":"IF(P48=\" \",\" \",($C$11*$BD$6/12)*(P55/Līmeņatzīmes!$I$50))","v":" "},{"$f":"IF(OR(Q$16=\" \",Q$16=0),\" \",SUM(R50:AC50))","v":" "},{"$f":"IF(R48=\" \",\" \",($C$11*$BD$6/12)*(R55/Līmeņatzīmes!$I$50))","v":" "},{"$f":"IF(S48=\" \",\" \",($C$11*$BD$6/12)*(S55/Līmeņatzīmes!$I$50))","v":" "},{"$f":"IF(T48=\" \",\" \",($C$11*$BD$6/12)*(T55/Līmeņatzīmes!$I$50))","v":" "},{"$f":"IF(U48=\" \",\" \",($C$11*$BD$6/12)*(U55/Līmeņatzīmes!$I$50))","v":" "},{"$f":"IF(V48=\" \",\" \",($C$11*$BD$6/12)*(V55/Līmeņatzīmes!$I$50))","v":" "},{"$f":"IF(W48=\" \",\" \",($C$11*$BD$6/12)*(W55/Līmeņatzīmes!$I$50))","v":" "},{"$f":"IF(X48=\" \",\" \",($C$11*$BD$6/12)*(X55/Līmeņatzīmes!$I$50))","v":" "},{"$f":"IF(Y48=\" \",\" \",($C$11*$BD$6/12)*(Y55/Līmeņatzīmes!$I$50))","v":" "},{"$f":"IF(Z48=\" \",\" \",($C$11*$BD$6/12)*(Z55/Līmeņatzīmes!$I$50))","v":" "},{"$f":"IF(AA48=\" \",\" \",($C$11*$BD$6/12)*(AA55/Līmeņatzīmes!$I$50))","v":" "},{"$f":"IF(AB48=\" \",\" \",($C$11*$BD$6/12)*(AB55/Līmeņatzīmes!$I$50))","v":" "},{"$f":"IF(AC48=\" \",\" \",($C$11*$BD$6/12)*(AC55/Līmeņatzīmes!$I$50))","v":" "},{"$f":"IF(OR(AD$16=\" \",AD$16=0),\" \",SUM(AE50:AP50))","v":" "},{"$f":"IF(AE48=\" \",\" \",($C$11*$BD$6/12)*(AE55/Līmeņatzīmes!$I$50))","v":" "},{"$f":"IF(AF48=\" \",\" \",($C$11*$BD$6/12)*(AF55/Līmeņatzīmes!$I$50))","v":" "},{"$f":"IF(AG48=\" \",\" \",($C$11*$BD$6/12)*(AG55/Līmeņatzīmes!$I$50))","v":" "},{"$f":"IF(AH48=\" \",\" \",($C$11*$BD$6/12)*(AH55/Līmeņatzīmes!$I$50))","v":" "},{"$f":"IF(AI48=\" \",\" \",($C$11*$BD$6/12)*(AI55/Līmeņatzīmes!$I$50))","v":" "},{"$f":"IF(AJ48=\" \",\" \",($C$11*$BD$6/12)*(AJ55/Līmeņatzīmes!$I$50))","v":" "},{"$f":"IF(AK48=\" \",\" \",($C$11*$BD$6/12)*(AK55/Līmeņatzīmes!$I$50))","v":" "},{"$f":"IF(AL48=\" \",\" \",($C$11*$BD$6/12)*(AL55/Līmeņatzīmes!$I$50))","v":" "},{"$f":"IF(AM48=\" \",\" \",($C$11*$BD$6/12)*(AM55/Līmeņatzīmes!$I$50))","v":" "},{"$f":"IF(AN48=\" \",\" \",($C$11*$BD$6/12)*(AN55/Līmeņatzīmes!$I$50))","v":" "},{"$f":"IF(AO48=\" \",\" \",($C$11*$BD$6/12)*(AO55/Līmeņatzīmes!$I$50))","v":" "},{"$f":"IF(AP48=\" \",\" \",($C$11*$BD$6/12)*(AP55/Līmeņatzīmes!$I$50))","v":" "},{"$f":"IF(OR(AQ$16=\" \",AQ$16=0),\" \",SUM(AR50:BC50))","v":" "},{"$f":"IF(AR48=\" \",\" \",($C$11*$BD$6/12)*(AR55/Līmeņatzīmes!$I$50))","v":" "},{"$f":"IF(AS48=\" \",\" \",($C$11*$BD$6/12)*(AS55/Līmeņatzīmes!$I$50))","v":" "},{"$f":"IF(AT48=\" \",\" \",($C$11*$BD$6/12)*(AT55/Līmeņatzīmes!$I$50))","v":" "},{"$f":"IF(AU48=\" \",\" \",($C$11*$BD$6/12)*(AU55/Līmeņatzīmes!$I$50))","v":" "},{"$f":"IF(AV48=\" \",\" \",($C$11*$BD$6/12)*(AV55/Līmeņatzīmes!$I$50))","v":" "},{"$f":"IF(AW48=\" \",\" \",($C$11*$BD$6/12)*(AW55/Līmeņatzīmes!$I$50))","v":" "},{"$f":"IF(AX48=\" \",\" \",($C$11*$BD$6/12)*(AX55/Līmeņatzīmes!$I$50))","v":" "},{"$f":"IF(AY48=\" \",\" \",($C$11*$BD$6/12)*(AY55/Līmeņatzīmes!$I$50))","v":" "},{"$f":"IF(AZ48=\" \",\" \",($C$11*$BD$6/12)*(AZ55/Līmeņatzīmes!$I$50))","v":" "},{"$f":"IF(BA48=\" \",\" \",($C$11*$BD$6/12)*(BA55/Līmeņatzīmes!$I$50))","v":" "},{"$f":"IF(BB48=\" \",\" \",($C$11*$BD$6/12)*(BB55/Līmeņatzīmes!$I$50))","v":" "},{"$f":"IF(BC48=\" \",\" \",($C$11*$BD$6/12)*(BC55/Līmeņatzīmes!$I$50))","v":" "},{"$f":"IF(OR(BD$16=\" \",BD$16=0),\" \",SUM(BE50:BP50))","v":" "},{"$f":"IF(BE48=\" \",\" \",($C$11*$BD$6/12)*(BE55/Līmeņatzīmes!$I$50))","v":" "},{"$f":"IF(BF48=\" \",\" \",($C$11*$BD$6/12)*(BF55/Līmeņatzīmes!$I$50))","v":" "},{"$f":"IF(BG48=\" \",\" \",($C$11*$BD$6/12)*(BG55/Līmeņatzīmes!$I$50))","v":" "},{"$f":"IF(BH48=\" \",\" \",($C$11*$BD$6/12)*(BH55/Līmeņatzīmes!$I$50))","v":" "},{"$f":"IF(BI48=\" \",\" \",($C$11*$BD$6/12)*(BI55/Līmeņatzīmes!$I$50))","v":" "},{"$f":"IF(BJ48=\" \",\" \",($C$11*$BD$6/12)*(BJ55/Līmeņatzīmes!$I$50))","v":" "},{"$f":"IF(BK48=\" \",\" \",($C$11*$BD$6/12)*(BK55/Līmeņatzīmes!$I$50))","v":" "},{"$f":"IF(BL48=\" \",\" \",($C$11*$BD$6/12)*(BL55/Līmeņatzīmes!$I$50))","v":" "},{"$f":"IF(BM48=\" \",\" \",($C$11*$BD$6/12)*(BM55/Līmeņatzīmes!$I$50))","v":" "},{"$f":"IF(BN48=\" \",\" \",($C$11*$BD$6/12)*(BN55/Līmeņatzīmes!$I$50))","v":" "},{"$f":"IF(BO48=\" \",\" \",($C$11*$BD$6/12)*(BO55/Līmeņatzīmes!$I$50))","v":" "},{"$f":"IF(BP48=\" \",\" \",($C$11*$BD$6/12)*(BP55/Līmeņatzīmes!$I$50))","v":" "},{"$f":"IF(OR(BQ$16=\" \",BQ$16=0),\" \",SUM(BR50:CC50))","v":" "},{"$f":"IF(BR48=\" \",\" \",($C$11*$BD$6/12)*(BR55/Līmeņatzīmes!$I$50))","v":" "},{"$f":"IF(BS48=\" \",\" \",($C$11*$BD$6/12)*(BS55/Līmeņatzīmes!$I$50))","v":" "},{"$f":"IF(BT48=\" \",\" \",($C$11*$BD$6/12)*(BT55/Līmeņatzīmes!$I$50))","v":" "},{"$f":"IF(BU48=\" \",\" \",($C$11*$BD$6/12)*(BU55/Līmeņatzīmes!$I$50))","v":" "},{"$f":"IF(BV48=\" \",\" \",($C$11*$BD$6/12)*(BV55/Līmeņatzīmes!$I$50))","v":" "},{"$f":"IF(BW48=\" \",\" \",($C$11*$BD$6/12)*(BW55/Līmeņatzīmes!$I$50))","v":" "},{"$f":"IF(BX48=\" \",\" \",($C$11*$BD$6/12)*(BX55/Līmeņatzīmes!$I$50))","v":" "},{"$f":"IF(BY48=\" \",\" \",($C$11*$BD$6/12)*(BY55/Līmeņatzīmes!$I$50))","v":" "},{"$f":"IF(BZ48=\" \",\" \",($C$11*$BD$6/12)*(BZ55/Līmeņatzīmes!$I$50))","v":" "},{"$f":"IF(CA48=\" \",\" \",($C$11*$BD$6/12)*(CA55/Līmeņatzīmes!$I$50))","v":" "},{"$f":"IF(CB48=\" \",\" \",($C$11*$BD$6/12)*(CB55/Līmeņatzīmes!$I$50))","v":" "},{"$f":"IF(CC48=\" \",\" \",($C$11*$BD$6/12)*(CC55/Līmeņatzīmes!$I$50))","v":" "},{"$f":"IF(OR(CD$16=\" \",CD$16=0),\" \",SUM(CE50:CP50))","v":" "},{"$f":"IF(CE48=\" \",\" \",($C$11*$BD$6/12)*(CE55/Līmeņatzīmes!$I$50))","v":" "},{"$f":"IF(CF48=\" \",\" \",($C$11*$BD$6/12)*(CF55/Līmeņatzīmes!$I$50))","v":" "},{"$f":"IF(CG48=\" \",\" \",($C$11*$BD$6/12)*(CG55/Līmeņatzīmes!$I$50))","v":" "},{"$f":"IF(CH48=\" \",\" \",($C$11*$BD$6/12)*(CH55/Līmeņatzīmes!$I$50))","v":" "},{"$f":"IF(CI48=\" \",\" \",($C$11*$BD$6/12)*(CI55/Līmeņatzīmes!$I$50))","v":" "},{"$f":"IF(CJ48=\" \",\" \",($C$11*$BD$6/12)*(CJ55/Līmeņatzīmes!$I$50))","v":" "},{"$f":"IF(CK48=\" \",\" \",($C$11*$BD$6/12)*(CK55/Līmeņatzīmes!$I$50))","v":" "},{"$f":"IF(CL48=\" \",\" \",($C$11*$BD$6/12)*(CL55/Līmeņatzīmes!$I$50))","v":" "},{"$f":"IF(CM48=\" \",\" \",($C$11*$BD$6/12)*(CM55/Līmeņatzīmes!$I$50))","v":" "},{"$f":"IF(CN48=\" \",\" \",($C$11*$BD$6/12)*(CN55/Līmeņatzīmes!$I$50))","v":" "},{"$f":"IF(CO48=\" \",\" \",($C$11*$BD$6/12)*(CO55/Līmeņatzīmes!$I$50))","v":" "},{"$f":"IF(CP48=\" \",\" \",($C$11*$BD$6/12)*(CP55/Līmeņatzīmes!$I$50))","v":" "},{"$f":"IF(OR(CQ$16=\" \",CQ$16=0),\" \",SUM(CR50:DC50))","v":" "},{"$f":"IF(CR48=\" \",\" \",($C$11*$BD$6/12)*(CR55/Līmeņatzīmes!$I$50))","v":" "},{"$f":"IF(CS48=\" \",\" \",($C$11*$BD$6/12)*(CS55/Līmeņatzīmes!$I$50))","v":" "},{"$f":"IF(CT48=\" \",\" \",($C$11*$BD$6/12)*(CT55/Līmeņatzīmes!$I$50))","v":" "},{"$f":"IF(CU48=\" \",\" \",($C$11*$BD$6/12)*(CU55/Līmeņatzīmes!$I$50))","v":" "},{"$f":"IF(CV48=\" \",\" \",($C$11*$BD$6/12)*(CV55/Līmeņatzīmes!$I$50))","v":" "},{"$f":"IF(CW48=\" \",\" \",($C$11*$BD$6/12)*(CW55/Līmeņatzīmes!$I$50))","v":" "},{"$f":"IF(CX48=\" \",\" \",($C$11*$BD$6/12)*(CX55/Līmeņatzīmes!$I$50))","v":" "},{"$f":"IF(CY48=\" \",\" \",($C$11*$BD$6/12)*(CY55/Līmeņatzīmes!$I$50))","v":" "},{"$f":"IF(CZ48=\" \",\" \",($C$11*$BD$6/12)*(CZ55/Līmeņatzīmes!$I$50))","v":" "},{"$f":"IF(DA48=\" \",\" \",($C$11*$BD$6/12)*(DA55/Līmeņatzīmes!$I$50))","v":" "},{"$f":"IF(DB48=\" \",\" \",($C$11*$BD$6/12)*(DB55/Līmeņatzīmes!$I$50))","v":" "},{"$f":"IF(DC48=\" \",\" \",($C$11*$BD$6/12)*(DC55/Līmeņatzīmes!$I$50))","v":" "},{"$f":"IF(OR(DD$16=\" \",DD$16=0),\" \",SUM(DE50:DP50))","v":" "},{"$f":"IF(DE48=\" \",\" \",($C$11*$BD$6/12)*(DE55/Līmeņatzīmes!$I$50))","v":" "},{"$f":"IF(DF48=\" \",\" \",($C$11*$BD$6/12)*(DF55/Līmeņatzīmes!$I$50))","v":" "},{"$f":"IF(DG48=\" \",\" \",($C$11*$BD$6/12)*(DG55/Līmeņatzīmes!$I$50))","v":" "},{"$f":"IF(DH48=\" \",\" \",($C$11*$BD$6/12)*(DH55/Līmeņatzīmes!$I$50))","v":" "},{"$f":"IF(DI48=\" \",\" \",($C$11*$BD$6/12)*(DI55/Līmeņatzīmes!$I$50))","v":" "},{"$f":"IF(DJ48=\" \",\" \",($C$11*$BD$6/12)*(DJ55/Līmeņatzīmes!$I$50))","v":" "},{"$f":"IF(DK48=\" \",\" \",($C$11*$BD$6/12)*(DK55/Līmeņatzīmes!$I$50))","v":" "},{"$f":"IF(DL48=\" \",\" \",($C$11*$BD$6/12)*(DL55/Līmeņatzīmes!$I$50))","v":" "},{"$f":"IF(DM48=\" \",\" \",($C$11*$BD$6/12)*(DM55/Līmeņatzīmes!$I$50))","v":" "},{"$f":"IF(DN48=\" \",\" \",($C$11*$BD$6/12)*(DN55/Līmeņatzīmes!$I$50))","v":" "},{"$f":"IF(DO48=\" \",\" \",($C$11*$BD$6/12)*(DO55/Līmeņatzīmes!$I$50))","v":" "},{"$f":"IF(DP48=\" \",\" \",($C$11*$BD$6/12)*(DP55/Līmeņatzīmes!$I$50))","v":" "},{"$f":"IF(OR(DQ$16=\" \",DQ$16=0),\" \",SUM(DR50:EC50))","v":" "},{"$f":"IF(DR48=\" \",\" \",($C$11*$BD$6/12)*(DR55/Līmeņatzīmes!$I$50))","v":" "},{"$f":"IF(DS48=\" \",\" \",($C$11*$BD$6/12)*(DS55/Līmeņatzīmes!$I$50))","v":" "},{"$f":"IF(DT48=\" \",\" \",($C$11*$BD$6/12)*(DT55/Līmeņatzīmes!$I$50))","v":" "},{"$f":"IF(DU48=\" \",\" \",($C$11*$BD$6/12)*(DU55/Līmeņatzīmes!$I$50))","v":" "},{"$f":"IF(DV48=\" \",\" \",($C$11*$BD$6/12)*(DV55/Līmeņatzīmes!$I$50))","v":" "},{"$f":"IF(DW48=\" \",\" \",($C$11*$BD$6/12)*(DW55/Līmeņatzīmes!$I$50))","v":" "},{"$f":"IF(DX48=\" \",\" \",($C$11*$BD$6/12)*(DX55/Līmeņatzīmes!$I$50))","v":" "},{"$f":"IF(DY48=\" \",\" \",($C$11*$BD$6/12)*(DY55/Līmeņatzīmes!$I$50))","v":" "},{"$f":"IF(DZ48=\" \",\" \",($C$11*$BD$6/12)*(DZ55/Līmeņatzīmes!$I$50))","v":" "},{"$f":"IF(EA48=\" \",\" \",($C$11*$BD$6/12)*(EA55/Līmeņatzīmes!$I$50))","v":" "},{"$f":"IF(EB48=\" \",\" \",($C$11*$BD$6/12)*(EB55/Līmeņatzīmes!$I$50))","v":" "},{"$f":"IF(EC48=\" \",\" \",($C$11*$BD$6/12)*(EC55/Līmeņatzīmes!$I$50))","v":" "},{"$f":"IF(OR(ED$16=\" \",ED$16=0),\" \",SUM(EE50:EP50))","v":" "},{"$f":"IF(EE48=\" \",\" \",($C$11*$BD$6/12)*(EE55/Līmeņatzīmes!$I$50))","v":" "},{"$f":"IF(EF48=\" \",\" \",($C$11*$BD$6/12)*(EF55/Līmeņatzīmes!$I$50))","v":" "},{"$f":"IF(EG48=\" \",\" \",($C$11*$BD$6/12)*(EG55/Līmeņatzīmes!$I$50))","v":" "},{"$f":"IF(EH48=\" \",\" \",($C$11*$BD$6/12)*(EH55/Līmeņatzīmes!$I$50))","v":" "},{"$f":"IF(EI48=\" \",\" \",($C$11*$BD$6/12)*(EI55/Līmeņatzīmes!$I$50))","v":" "},{"$f":"IF(EJ48=\" \",\" \",($C$11*$BD$6/12)*(EJ55/Līmeņatzīmes!$I$50))","v":" "},{"$f":"IF(EK48=\" \",\" \",($C$11*$BD$6/12)*(EK55/Līmeņatzīmes!$I$50))","v":" "},{"$f":"IF(EL48=\" \",\" \",($C$11*$BD$6/12)*(EL55/Līmeņatzīmes!$I$50))","v":" "},{"$f":"IF(EM48=\" \",\" \",($C$11*$BD$6/12)*(EM55/Līmeņatzīmes!$I$50))","v":" "},{"$f":"IF(EN48=\" \",\" \",($C$11*$BD$6/12)*(EN55/Līmeņatzīmes!$I$50))","v":" "},{"$f":"IF(EO48=\" \",\" \",($C$11*$BD$6/12)*(EO55/Līmeņatzīmes!$I$50))","v":" "},{"$f":"IF(EP48=\" \",\" \",($C$11*$BD$6/12)*(EP55/Līmeņatzīmes!$I$50))","v":" "},{"$f":"IF(OR(EQ$16=\" \",EQ$16=0),\" \",SUM(ER50:FC50))","v":" "},{"$f":"IF(ER48=\" \",\" \",($C$11*$BD$6/12)*(ER55/Līmeņatzīmes!$I$50))","v":" "},{"$f":"IF(ES48=\" \",\" \",($C$11*$BD$6/12)*(ES55/Līmeņatzīmes!$I$50))","v":" "},{"$f":"IF(ET48=\" \",\" \",($C$11*$BD$6/12)*(ET55/Līmeņatzīmes!$I$50))","v":" "},{"$f":"IF(EU48=\" \",\" \",($C$11*$BD$6/12)*(EU55/Līmeņatzīmes!$I$50))","v":" "},{"$f":"IF(EV48=\" \",\" \",($C$11*$BD$6/12)*(EV55/Līmeņatzīmes!$I$50))","v":" "},{"$f":"IF(EW48=\" \",\" \",($C$11*$BD$6/12)*(EW55/Līmeņatzīmes!$I$50))","v":" "},{"$f":"IF(EX48=\" \",\" \",($C$11*$BD$6/12)*(EX55/Līmeņatzīmes!$I$50))","v":" "},{"$f":"IF(EY48=\" \",\" \",($C$11*$BD$6/12)*(EY55/Līmeņatzīmes!$I$50))","v":" "},{"$f":"IF(EZ48=\" \",\" \",($C$11*$BD$6/12)*(EZ55/Līmeņatzīmes!$I$50))","v":" "},{"$f":"IF(FA48=\" \",\" \",($C$11*$BD$6/12)*(FA55/Līmeņatzīmes!$I$50))","v":" "},{"$f":"IF(FB48=\" \",\" \",($C$11*$BD$6/12)*(FB55/Līmeņatzīmes!$I$50))","v":" "},{"$f":"IF(FC48=\" \",\" \",($C$11*$BD$6/12)*(FC55/Līmeņatzīmes!$I$50))","v":" "},{"$f":"IF(OR(FD$16=\" \",FD$16=0),\" \",SUM(FE50:FP50))","v":" "},{"$f":"IF(FE48=\" \",\" \",($C$11*$BD$6/12)*(FE55/Līmeņatzīmes!$I$50))","v":" "},{"$f":"IF(FF48=\" \",\" \",($C$11*$BD$6/12)*(FF55/Līmeņatzīmes!$I$50))","v":" "},{"$f":"IF(FG48=\" \",\" \",($C$11*$BD$6/12)*(FG55/Līmeņatzīmes!$I$50))","v":" "},{"$f":"IF(FH48=\" \",\" \",($C$11*$BD$6/12)*(FH55/Līmeņatzīmes!$I$50))","v":" "},{"$f":"IF(FI48=\" \",\" \",($C$11*$BD$6/12)*(FI55/Līmeņatzīmes!$I$50))","v":" "},{"$f":"IF(FJ48=\" \",\" \",($C$11*$BD$6/12)*(FJ55/Līmeņatzīmes!$I$50))","v":" "},{"$f":"IF(FK48=\" \",\" \",($C$11*$BD$6/12)*(FK55/Līmeņatzīmes!$I$50))","v":" "},{"$f":"IF(FL48=\" \",\" \",($C$11*$BD$6/12)*(FL55/Līmeņatzīmes!$I$50))","v":" "},{"$f":"IF(FM48=\" \",\" \",($C$11*$BD$6/12)*(FM55/Līmeņatzīmes!$I$50))","v":" "},{"$f":"IF(FN48=\" \",\" \",($C$11*$BD$6/12)*(FN55/Līmeņatzīmes!$I$50))","v":" "},{"$f":"IF(FO48=\" \",\" \",($C$11*$BD$6/12)*(FO55/Līmeņatzīmes!$I$50))","v":" "},{"$f":"IF(FP48=\" \",\" \",($C$11*$BD$6/12)*(FP55/Līmeņatzīmes!$I$50))","v":" "},{"$f":"IF(OR(FQ$16=\" \",FQ$16=0),\" \",SUM(FR50:GC50))","v":" "},{"$f":"IF(FR48=\" \",\" \",($C$11*$BD$6/12)*(FR55/Līmeņatzīmes!$I$50))","v":" "},{"$f":"IF(FS48=\" \",\" \",($C$11*$BD$6/12)*(FS55/Līmeņatzīmes!$I$50))","v":" "},{"$f":"IF(FT48=\" \",\" \",($C$11*$BD$6/12)*(FT55/Līmeņatzīmes!$I$50))","v":" "},{"$f":"IF(FU48=\" \",\" \",($C$11*$BD$6/12)*(FU55/Līmeņatzīmes!$I$50))","v":" "},{"$f":"IF(FV48=\" \",\" \",($C$11*$BD$6/12)*(FV55/Līmeņatzīmes!$I$50))","v":" "},{"$f":"IF(FW48=\" \",\" \",($C$11*$BD$6/12)*(FW55/Līmeņatzīmes!$I$50))","v":" "},{"$f":"IF(FX48=\" \",\" \",($C$11*$BD$6/12)*(FX55/Līmeņatzīmes!$I$50))","v":" "},{"$f":"IF(FY48=\" \",\" \",($C$11*$BD$6/12)*(FY55/Līmeņatzīmes!$I$50))","v":" "},{"$f":"IF(FZ48=\" \",\" \",($C$11*$BD$6/12)*(FZ55/Līmeņatzīmes!$I$50))","v":" "},{"$f":"IF(GA48=\" \",\" \",($C$11*$BD$6/12)*(GA55/Līmeņatzīmes!$I$50))","v":" "},{"$f":"IF(GB48=\" \",\" \",($C$11*$BD$6/12)*(GB55/Līmeņatzīmes!$I$50))","v":" "},{"$f":"IF(GC48=\" \",\" \",($C$11*$BD$6/12)*(GC55/Līmeņatzīmes!$I$50))","v":" "},{"$f":"IF(OR(GD$16=\" \",GD$16=0),\" \",SUM(GE50:GP50))","v":" "},{"$f":"IF(GE48=\" \",\" \",($C$11*$BD$6/12)*(GE55/Līmeņatzīmes!$I$50))","v":" "},{"$f":"IF(GF48=\" \",\" \",($C$11*$BD$6/12)*(GF55/Līmeņatzīmes!$I$50))","v":" "},{"$f":"IF(GG48=\" \",\" \",($C$11*$BD$6/12)*(GG55/Līmeņatzīmes!$I$50))","v":" "},{"$f":"IF(GH48=\" \",\" \",($C$11*$BD$6/12)*(GH55/Līmeņatzīmes!$I$50))","v":" "},{"$f":"IF(GI48=\" \",\" \",($C$11*$BD$6/12)*(GI55/Līmeņatzīmes!$I$50))","v":" "},{"$f":"IF(GJ48=\" \",\" \",($C$11*$BD$6/12)*(GJ55/Līmeņatzīmes!$I$50))","v":" "},{"$f":"IF(GK48=\" \",\" \",($C$11*$BD$6/12)*(GK55/Līmeņatzīmes!$I$50))","v":" "},{"$f":"IF(GL48=\" \",\" \",($C$11*$BD$6/12)*(GL55/Līmeņatzīmes!$I$50))","v":" "},{"$f":"IF(GM48=\" \",\" \",($C$11*$BD$6/12)*(GM55/Līmeņatzīmes!$I$50))","v":" "},{"$f":"IF(GN48=\" \",\" \",($C$11*$BD$6/12)*(GN55/Līmeņatzīmes!$I$50))","v":" "},{"$f":"IF(GO48=\" \",\" \",($C$11*$BD$6/12)*(GO55/Līmeņatzīmes!$I$50))","v":" "},{"$f":"IF(GP48=\" \",\" \",($C$11*$BD$6/12)*(GP55/Līmeņatzīmes!$I$50))","v":" "},{"$f":"IF(OR(GQ$16=\" \",GQ$16=0),\" \",SUM(GR50:HC50))","v":" "},{"$f":"IF(GR48=\" \",\" \",($C$11*$BD$6/12)*(GR55/Līmeņatzīmes!$I$50))","v":" "},{"$f":"IF(GS48=\" \",\" \",($C$11*$BD$6/12)*(GS55/Līmeņatzīmes!$I$50))","v":" "},{"$f":"IF(GT48=\" \",\" \",($C$11*$BD$6/12)*(GT55/Līmeņatzīmes!$I$50))","v":" "},{"$f":"IF(GU48=\" \",\" \",($C$11*$BD$6/12)*(GU55/Līmeņatzīmes!$I$50))","v":" "},{"$f":"IF(GV48=\" \",\" \",($C$11*$BD$6/12)*(GV55/Līmeņatzīmes!$I$50))","v":" "},{"$f":"IF(GW48=\" \",\" \",($C$11*$BD$6/12)*(GW55/Līmeņatzīmes!$I$50))","v":" "},{"$f":"IF(GX48=\" \",\" \",($C$11*$BD$6/12)*(GX55/Līmeņatzīmes!$I$50))","v":" "},{"$f":"IF(GY48=\" \",\" \",($C$11*$BD$6/12)*(GY55/Līmeņatzīmes!$I$50))","v":" "},{"$f":"IF(GZ48=\" \",\" \",($C$11*$BD$6/12)*(GZ55/Līmeņatzīmes!$I$50))","v":" "},{"$f":"IF(HA48=\" \",\" \",($C$11*$BD$6/12)*(HA55/Līmeņatzīmes!$I$50))","v":" "},{"$f":"IF(HB48=\" \",\" \",($C$11*$BD$6/12)*(HB55/Līmeņatzīmes!$I$50))","v":" "},{"$f":"IF(HC48=\" \",\" \",($C$11*$BD$6/12)*(HC55/Līmeņatzīmes!$I$50))","v":" "},{"$f":"IF(OR(HD$16=\" \",HD$16=0),\" \",SUM(HE50:HP50))","v":" "},{"$f":"IF(HE48=\" \",\" \",($C$11*$BD$6/12)*(HE55/Līmeņatzīmes!$I$50))","v":" "},{"$f":"IF(HF48=\" \",\" \",($C$11*$BD$6/12)*(HF55/Līmeņatzīmes!$I$50))","v":" "},{"$f":"IF(HG48=\" \",\" \",($C$11*$BD$6/12)*(HG55/Līmeņatzīmes!$I$50))","v":" "},{"$f":"IF(HH48=\" \",\" \",($C$11*$BD$6/12)*(HH55/Līmeņatzīmes!$I$50))","v":" "},{"$f":"IF(HI48=\" \",\" \",($C$11*$BD$6/12)*(HI55/Līmeņatzīmes!$I$50))","v":" "},{"$f":"IF(HJ48=\" \",\" \",($C$11*$BD$6/12)*(HJ55/Līmeņatzīmes!$I$50))","v":" "},{"$f":"IF(HK48=\" \",\" \",($C$11*$BD$6/12)*(HK55/Līmeņatzīmes!$I$50))","v":" "},{"$f":"IF(HL48=\" \",\" \",($C$11*$BD$6/12)*(HL55/Līmeņatzīmes!$I$50))","v":" "},{"$f":"IF(HM48=\" \",\" \",($C$11*$BD$6/12)*(HM55/Līmeņatzīmes!$I$50))","v":" "},{"$f":"IF(HN48=\" \",\" \",($C$11*$BD$6/12)*(HN55/Līmeņatzīmes!$I$50))","v":" "},{"$f":"IF(HO48=\" \",\" \",($C$11*$BD$6/12)*(HO55/Līmeņatzīmes!$I$50))","v":" "},{"$f":"IF(HP48=\" \",\" \",($C$11*$BD$6/12)*(HP55/Līmeņatzīmes!$I$50))","v":" "},{"$f":"IF(OR(HQ$16=\" \",HQ$16=0),\" \",SUM(HR50:IC50))","v":" "},{"$f":"IF(HR48=\" \",\" \",($C$11*$BD$6/12)*(HR55/Līmeņatzīmes!$I$50))","v":" "},{"$f":"IF(HS48=\" \",\" \",($C$11*$BD$6/12)*(HS55/Līmeņatzīmes!$I$50))","v":" "},{"$f":"IF(HT48=\" \",\" \",($C$11*$BD$6/12)*(HT55/Līmeņatzīmes!$I$50))","v":" "},{"$f":"IF(HU48=\" \",\" \",($C$11*$BD$6/12)*(HU55/Līmeņatzīmes!$I$50))","v":" "},{"$f":"IF(HV48=\" \",\" \",($C$11*$BD$6/12)*(HV55/Līmeņatzīmes!$I$50))","v":" "},{"$f":"IF(HW48=\" \",\" \",($C$11*$BD$6/12)*(HW55/Līmeņatzīmes!$I$50))","v":" "},{"$f":"IF(HX48=\" \",\" \",($C$11*$BD$6/12)*(HX55/Līmeņatzīmes!$I$50))","v":" "},{"$f":"IF(HY48=\" \",\" \",($C$11*$BD$6/12)*(HY55/Līmeņatzīmes!$I$50))","v":" "},{"$f":"IF(HZ48=\" \",\" \",($C$11*$BD$6/12)*(HZ55/Līmeņatzīmes!$I$50))","v":" "},{"$f":"IF(IA48=\" \",\" \",($C$11*$BD$6/12)*(IA55/Līmeņatzīmes!$I$50))","v":" "},{"$f":"IF(IB48=\" \",\" \",($C$11*$BD$6/12)*(IB55/Līmeņatzīmes!$I$50))","v":" "},{"$f":"IF(IC48=\" \",\" \",($C$11*$BD$6/12)*(IC55/Līmeņatzīmes!$I$50))","v":" "},{"$f":"IF(OR(ID$16=\" \",ID$16=0),\" \",SUM(IE50:IP50))","v":" "},{"$f":"IF(IE48=\" \",\" \",($C$11*$BD$6/12)*(IE55/Līmeņatzīmes!$I$50))","v":" "},{"$f":"IF(IF48=\" \",\" \",($C$11*$BD$6/12)*(IF55/Līmeņatzīmes!$I$50))","v":" "},{"$f":"IF(IG48=\" \",\" \",($C$11*$BD$6/12)*(IG55/Līmeņatzīmes!$I$50))","v":" "},{"$f":"IF(IH48=\" \",\" \",($C$11*$BD$6/12)*(IH55/Līmeņatzīmes!$I$50))","v":" "},{"$f":"IF(II48=\" \",\" \",($C$11*$BD$6/12)*(II55/Līmeņatzīmes!$I$50))","v":" "},{"$f":"IF(IJ48=\" \",\" \",($C$11*$BD$6/12)*(IJ55/Līmeņatzīmes!$I$50))","v":" "},{"$f":"IF(IK48=\" \",\" \",($C$11*$BD$6/12)*(IK55/Līmeņatzīmes!$I$50))","v":" "},{"$f":"IF(IL48=\" \",\" \",($C$11*$BD$6/12)*(IL55/Līmeņatzīmes!$I$50))","v":" "},{"$f":"IF(IM48=\" \",\" \",($C$11*$BD$6/12)*(IM55/Līmeņatzīmes!$I$50))","v":" "},{"$f":"IF(IN48=\" \",\" \",($C$11*$BD$6/12)*(IN55/Līmeņatzīmes!$I$50))","v":" "},{"$f":"IF(IO48=\" \",\" \",($C$11*$BD$6/12)*(IO55/Līmeņatzīmes!$I$50))","v":" "},{"$f":"IF(IP48=\" \",\" \",($C$11*$BD$6/12)*(IP55/Līmeņatzīmes!$I$50))","v":" "},{"$f":"IF(OR(IQ$16=\" \",IQ$16=0),\" \",SUM(IR50:JC50))","v":" "},{"$f":"IF(IR48=\" \",\" \",($C$11*$BD$6/12)*(IR55/Līmeņatzīmes!$I$50))","v":" "},{"$f":"IF(IS48=\" \",\" \",($C$11*$BD$6/12)*(IS55/Līmeņatzīmes!$I$50))","v":" "},{"$f":"IF(IT48=\" \",\" \",($C$11*$BD$6/12)*(IT55/Līmeņatzīmes!$I$50))","v":" "},{"$f":"IF(IU48=\" \",\" \",($C$11*$BD$6/12)*(IU55/Līmeņatzīmes!$I$50))","v":" "},{"$f":"IF(IV48=\" \",\" \",($C$11*$BD$6/12)*(IV55/Līmeņatzīmes!$I$50))","v":" "},{"$f":"IF(IW48=\" \",\" \",($C$11*$BD$6/12)*(IW55/Līmeņatzīmes!$I$50))","v":" "},{"$f":"IF(IX48=\" \",\" \",($C$11*$BD$6/12)*(IX55/Līmeņatzīmes!$I$50))","v":" "},{"$f":"IF(IY48=\" \",\" \",($C$11*$BD$6/12)*(IY55/Līmeņatzīmes!$I$50))","v":" "},{"$f":"IF(IZ48=\" \",\" \",($C$11*$BD$6/12)*(IZ55/Līmeņatzīmes!$I$50))","v":" "},{"$f":"IF(JA48=\" \",\" \",($C$11*$BD$6/12)*(JA55/Līmeņatzīmes!$I$50))","v":" "},{"$f":"IF(JB48=\" \",\" \",($C$11*$BD$6/12)*(JB55/Līmeņatzīmes!$I$50))","v":" "},{"$f":"IF(JC48=\" \",\" \",($C$11*$BD$6/12)*(JC55/Līmeņatzīmes!$I$50))","v":" "},{"$f":"IF(OR(JD$16=\" \",JD$16=0),\" \",SUM(JE50:JP50))","v":" "},{"$f":"IF(JE48=\" \",\" \",($C$11*$BD$6/12)*(JE55/Līmeņatzīmes!$I$50))","v":" "},{"$f":"IF(JF48=\" \",\" \",($C$11*$BD$6/12)*(JF55/Līmeņatzīmes!$I$50))","v":" "},{"$f":"IF(JG48=\" \",\" \",($C$11*$BD$6/12)*(JG55/Līmeņatzīmes!$I$50))","v":" "},{"$f":"IF(JH48=\" \",\" \",($C$11*$BD$6/12)*(JH55/Līmeņatzīmes!$I$50))","v":" "},{"$f":"IF(JI48=\" \",\" \",($C$11*$BD$6/12)*(JI55/Līmeņatzīmes!$I$50))","v":" "},{"$f":"IF(JJ48=\" \",\" \",($C$11*$BD$6/12)*(JJ55/Līmeņatzīmes!$I$50))","v":" "},{"$f":"IF(JK48=\" \",\" \",($C$11*$BD$6/12)*(JK55/Līmeņatzīmes!$I$50))","v":" "},{"$f":"IF(JL48=\" \",\" \",($C$11*$BD$6/12)*(JL55/Līmeņatzīmes!$I$50))","v":" "},{"$f":"IF(JM48=\" \",\" \",($C$11*$BD$6/12)*(JM55/Līmeņatzīmes!$I$50))","v":" "},{"$f":"IF(JN48=\" \",\" \",($C$11*$BD$6/12)*(JN55/Līmeņatzīmes!$I$50))","v":" "},{"$f":"IF(JO48=\" \",\" \",($C$11*$BD$6/12)*(JO55/Līmeņatzīmes!$I$50))","v":" "},{"$f":"IF(JP48=\" \",\" \",($C$11*$BD$6/12)*(JP55/Līmeņatzīmes!$I$50))","v":" "},{"$f":"IF(OR(JQ$16=\" \",JQ$16=0),\" \",SUM(JR50:KC50))","v":" "},{"$f":"IF(JR48=\" \",\" \",($C$11*$BD$6/12)*(JR55/Līmeņatzīmes!$I$50))","v":" "},{"$f":"IF(JS48=\" \",\" \",($C$11*$BD$6/12)*(JS55/Līmeņatzīmes!$I$50))","v":" "},{"$f":"IF(JT48=\" \",\" \",($C$11*$BD$6/12)*(JT55/Līmeņatzīmes!$I$50))","v":" "},{"$f":"IF(JU48=\" \",\" \",($C$11*$BD$6/12)*(JU55/Līmeņatzīmes!$I$50))","v":" "},{"$f":"IF(JV48=\" \",\" \",($C$11*$BD$6/12)*(JV55/Līmeņatzīmes!$I$50))","v":" "},{"$f":"IF(JW48=\" \",\" \",($C$11*$BD$6/12)*(JW55/Līmeņatzīmes!$I$50))","v":" "},{"$f":"IF(JX48=\" \",\" \",($C$11*$BD$6/12)*(JX55/Līmeņatzīmes!$I$50))","v":" "},{"$f":"IF(JY48=\" \",\" \",($C$11*$BD$6/12)*(JY55/Līmeņatzīmes!$I$50))","v":" "},{"$f":"IF(JZ48=\" \",\" \",($C$11*$BD$6/12)*(JZ55/Līmeņatzīmes!$I$50))","v":" "},{"$f":"IF(KA48=\" \",\" \",($C$11*$BD$6/12)*(KA55/Līmeņatzīmes!$I$50))","v":" "},{"$f":"IF(KB48=\" \",\" \",($C$11*$BD$6/12)*(KB55/Līmeņatzīmes!$I$50))","v":" "},{"$f":"IF(KC48=\" \",\" \",($C$11*$BD$6/12)*(KC55/Līmeņatzīmes!$I$50))","v":" "},{"$f":"IF(OR(KD$16=\" \",KD$16=0),\" \",SUM(KE50:KP50))","v":" "},{"$f":"IF(KE48=\" \",\" \",($C$11*$BD$6/12)*(KE55/Līmeņatzīmes!$I$50))","v":" "},{"$f":"IF(KF48=\" \",\" \",($C$11*$BD$6/12)*(KF55/Līmeņatzīmes!$I$50))","v":" "},{"$f":"IF(KG48=\" \",\" \",($C$11*$BD$6/12)*(KG55/Līmeņatzīmes!$I$50))","v":" "},{"$f":"IF(KH48=\" \",\" \",($C$11*$BD$6/12)*(KH55/Līmeņatzīmes!$I$50))","v":" "},{"$f":"IF(KI48=\" \",\" \",($C$11*$BD$6/12)*(KI55/Līmeņatzīmes!$I$50))","v":" "},{"$f":"IF(KJ48=\" \",\" \",($C$11*$BD$6/12)*(KJ55/Līmeņatzīmes!$I$50))","v":" "},{"$f":"IF(KK48=\" \",\" \",($C$11*$BD$6/12)*(KK55/Līmeņatzīmes!$I$50))","v":" "},{"$f":"IF(KL48=\" \",\" \",($C$11*$BD$6/12)*(KL55/Līmeņatzīmes!$I$50))","v":" "},{"$f":"IF(KM48=\" \",\" \",($C$11*$BD$6/12)*(KM55/Līmeņatzīmes!$I$50))","v":" "},{"$f":"IF(KN48=\" \",\" \",($C$11*$BD$6/12)*(KN55/Līmeņatzīmes!$I$50))","v":" "},{"$f":"IF(KO48=\" \",\" \",($C$11*$BD$6/12)*(KO55/Līmeņatzīmes!$I$50))","v":" "},{"$f":"IF(KP48=\" \",\" \",($C$11*$BD$6/12)*(KP55/Līmeņatzīmes!$I$50))","v":" "},{"$f":"IF(OR(KQ$16=\" \",KQ$16=0),\" \",SUM(KR50:LC50))","v":" "},{"$f":"IF(KR48=\" \",\" \",($C$11*$BD$6/12)*(KR55/Līmeņatzīmes!$I$50))","v":" "},{"$f":"IF(KS48=\" \",\" \",($C$11*$BD$6/12)*(KS55/Līmeņatzīmes!$I$50))","v":" "},{"$f":"IF(KT48=\" \",\" \",($C$11*$BD$6/12)*(KT55/Līmeņatzīmes!$I$50))","v":" "},{"$f":"IF(KU48=\" \",\" \",($C$11*$BD$6/12)*(KU55/Līmeņatzīmes!$I$50))","v":" "},{"$f":"IF(KV48=\" \",\" \",($C$11*$BD$6/12)*(KV55/Līmeņatzīmes!$I$50))","v":" "},{"$f":"IF(KW48=\" \",\" \",($C$11*$BD$6/12)*(KW55/Līmeņatzīmes!$I$50))","v":" "},{"$f":"IF(KX48=\" \",\" \",($C$11*$BD$6/12)*(KX55/Līmeņatzīmes!$I$50))","v":" "},{"$f":"IF(KY48=\" \",\" \",($C$11*$BD$6/12)*(KY55/Līmeņatzīmes!$I$50))","v":" "},{"$f":"IF(KZ48=\" \",\" \",($C$11*$BD$6/12)*(KZ55/Līmeņatzīmes!$I$50))","v":" "},{"$f":"IF(LA48=\" \",\" \",($C$11*$BD$6/12)*(LA55/Līmeņatzīmes!$I$50))","v":" "},{"$f":"IF(LB48=\" \",\" \",($C$11*$BD$6/12)*(LB55/Līmeņatzīmes!$I$50))","v":" "},{"$f":"IF(LC48=\" \",\" \",($C$11*$BD$6/12)*(LC55/Līmeņatzīmes!$I$50))","v":" "},{"$f":"IF(OR(LD$16=\" \",LD$16=0),\" \",SUM(LE50:LP50))","v":" "},{"$f":"IF(LE48=\" \",\" \",($C$11*$BD$6/12)*(LE55/Līmeņatzīmes!$I$50))","v":" "},{"$f":"IF(LF48=\" \",\" \",($C$11*$BD$6/12)*(LF55/Līmeņatzīmes!$I$50))","v":" "},{"$f":"IF(LG48=\" \",\" \",($C$11*$BD$6/12)*(LG55/Līmeņatzīmes!$I$50))","v":" "},{"$f":"IF(LH48=\" \",\" \",($C$11*$BD$6/12)*(LH55/Līmeņatzīmes!$I$50))","v":" "},{"$f":"IF(LI48=\" \",\" \",($C$11*$BD$6/12)*(LI55/Līmeņatzīmes!$I$50))","v":" "},{"$f":"IF(LJ48=\" \",\" \",($C$11*$BD$6/12)*(LJ55/Līmeņatzīmes!$I$50))","v":" "},{"$f":"IF(LK48=\" \",\" \",($C$11*$BD$6/12)*(LK55/Līmeņatzīmes!$I$50))","v":" "},{"$f":"IF(LL48=\" \",\" \",($C$11*$BD$6/12)*(LL55/Līmeņatzīmes!$I$50))","v":" "},{"$f":"IF(LM48=\" \",\" \",($C$11*$BD$6/12)*(LM55/Līmeņatzīmes!$I$50))","v":" "},{"$f":"IF(LN48=\" \",\" \",($C$11*$BD$6/12)*(LN55/Līmeņatzīmes!$I$50))","v":" "},{"$f":"IF(LO48=\" \",\" \",($C$11*$BD$6/12)*(LO55/Līmeņatzīmes!$I$50))","v":" "},{"$f":"IF(LP48=\" \",\" \",($C$11*$BD$6/12)*(LP55/Līmeņatzīmes!$I$50))","v":" "},{"$f":"IF(OR(LQ$16=\" \",LQ$16=0),\" \",SUM(LR50:MC50))","v":" "},{"$f":"IF(LR48=\" \",\" \",($C$11*$BD$6/12)*(LR55/Līmeņatzīmes!$I$50))","v":" "},{"$f":"IF(LS48=\" \",\" \",($C$11*$BD$6/12)*(LS55/Līmeņatzīmes!$I$50))","v":" "},{"$f":"IF(LT48=\" \",\" \",($C$11*$BD$6/12)*(LT55/Līmeņatzīmes!$I$50))","v":" "},{"$f":"IF(LU48=\" \",\" \",($C$11*$BD$6/12)*(LU55/Līmeņatzīmes!$I$50))","v":" "},{"$f":"IF(LV48=\" \",\" \",($C$11*$BD$6/12)*(LV55/Līmeņatzīmes!$I$50))","v":" "},{"$f":"IF(LW48=\" \",\" \",($C$11*$BD$6/12)*(LW55/Līmeņatzīmes!$I$50))","v":" "},{"$f":"IF(LX48=\" \",\" \",($C$11*$BD$6/12)*(LX55/Līmeņatzīmes!$I$50))","v":" "},{"$f":"IF(LY48=\" \",\" \",($C$11*$BD$6/12)*(LY55/Līmeņatzīmes!$I$50))","v":" "},{"$f":"IF(LZ48=\" \",\" \",($C$11*$BD$6/12)*(LZ55/Līmeņatzīmes!$I$50))","v":" "},{"$f":"IF(MA48=\" \",\" \",($C$11*$BD$6/12)*(MA55/Līmeņatzīmes!$I$50))","v":" "},{"$f":"IF(MB48=\" \",\" \",($C$11*$BD$6/12)*(MB55/Līmeņatzīmes!$I$50))","v":" "},{"$f":"IF(MC48=\" \",\" \",($C$11*$BD$6/12)*(MC55/Līmeņatzīmes!$I$50))","v":" "},{"$f":"IF(OR(MD$16=\" \",MD$16=0),\" \",SUM(ME50:MP50))","v":" "},{"$f":"IF(ME48=\" \",\" \",($C$11*$BD$6/12)*(ME55/Līmeņatzīmes!$I$50))","v":" "},{"$f":"IF(MF48=\" \",\" \",($C$11*$BD$6/12)*(MF55/Līmeņatzīmes!$I$50))","v":" "},{"$f":"IF(MG48=\" \",\" \",($C$11*$BD$6/12)*(MG55/Līmeņatzīmes!$I$50))","v":" "},{"$f":"IF(MH48=\" \",\" \",($C$11*$BD$6/12)*(MH55/Līmeņatzīmes!$I$50))","v":" "},{"$f":"IF(MI48=\" \",\" \",($C$11*$BD$6/12)*(MI55/Līmeņatzīmes!$I$50))","v":" "},{"$f":"IF(MJ48=\" \",\" \",($C$11*$BD$6/12)*(MJ55/Līmeņatzīmes!$I$50))","v":" "},{"$f":"IF(MK48=\" \",\" \",($C$11*$BD$6/12)*(MK55/Līmeņatzīmes!$I$50))","v":" "},{"$f":"IF(ML48=\" \",\" \",($C$11*$BD$6/12)*(ML55/Līmeņatzīmes!$I$50))","v":" "},{"$f":"IF(MM48=\" \",\" \",($C$11*$BD$6/12)*(MM55/Līmeņatzīmes!$I$50))","v":" "},{"$f":"IF(MN48=\" \",\" \",($C$11*$BD$6/12)*(MN55/Līmeņatzīmes!$I$50))","v":" "},{"$f":"IF(MO48=\" \",\" \",($C$11*$BD$6/12)*(MO55/Līmeņatzīmes!$I$50))","v":" "},{"$f":"IF(MP48=\" \",\" \",($C$11*$BD$6/12)*(MP55/Līmeņatzīmes!$I$50))","v":" "},{"$f":"IF(OR(MQ$16=\" \",MQ$16=0),\" \",SUM(MR50:NC50))","v":" "},{"$f":"IF(MR48=\" \",\" \",($C$11*$BD$6/12)*(MR55/Līmeņatzīmes!$I$50))","v":" "},{"$f":"IF(MS48=\" \",\" \",($C$11*$BD$6/12)*(MS55/Līmeņatzīmes!$I$50))","v":" "},{"$f":"IF(MT48=\" \",\" \",($C$11*$BD$6/12)*(MT55/Līmeņatzīmes!$I$50))","v":" "},{"$f":"IF(MU48=\" \",\" \",($C$11*$BD$6/12)*(MU55/Līmeņatzīmes!$I$50))","v":" "},{"$f":"IF(MV48=\" \",\" \",($C$11*$BD$6/12)*(MV55/Līmeņatzīmes!$I$50))","v":" "},{"$f":"IF(MW48=\" \",\" \",($C$11*$BD$6/12)*(MW55/Līmeņatzīmes!$I$50))","v":" "},{"$f":"IF(MX48=\" \",\" \",($C$11*$BD$6/12)*(MX55/Līmeņatzīmes!$I$50))","v":" "},{"$f":"IF(MY48=\" \",\" \",($C$11*$BD$6/12)*(MY55/Līmeņatzīmes!$I$50))","v":" "},{"$f":"IF(MZ48=\" \",\" \",($C$11*$BD$6/12)*(MZ55/Līmeņatzīmes!$I$50))","v":" "},{"$f":"IF(NA48=\" \",\" \",($C$11*$BD$6/12)*(NA55/Līmeņatzīmes!$I$50))","v":" "},{"$f":"IF(NB48=\" \",\" \",($C$11*$BD$6/12)*(NB55/Līmeņatzīmes!$I$50))","v":" "},{"$f":"IF(NC48=\" \",\" \",($C$11*$BD$6/12)*(NC55/Līmeņatzīmes!$I$50))","v":" "},{"$f":"IF(OR(ND$16=\" \",ND$16=0),\" \",SUM(NE50:NP50))","v":" "}]
["Subsīdijas no fondiem","EUR",{"$f":"IF(C$16=\" \",\" \",IF(C$16=0,IF(Datu_ievade!$C$17<=C41,Datu_ievade!$C$16,0)+IF(Datu_ievade!$C$20<=C41,Datu_ievade!$C$19,0)+IF(Datu_ievade!$C$23<=C41,Datu_ievade!$C$22,0)+IF(Datu_ievade!$C$26<=C41,Datu_ievade!$C$25,0)+IF(Datu_ievade!$C$29<=C41,Datu_ievade!$C$28,0),IF(Datu_ievade!$C$17=C41,Datu_ievade!$C$16,0)+IF(Datu_ievade!$C$20=C41,Datu_ievade!$C$19,0)+IF(Datu_ievade!$C$23=C41,Datu_ievade!$C$22,0)+IF(Datu_ievade!$C$26=C41,Datu_ievade!$C$25,0)+IF(Datu_ievade!$C$29=C41,Datu_ievade!$C$28,0)))","v":" "},{"$f":"IF(D$16=\" \",\" \",IF(D$16=0,IF(Datu_ievade!$C$17<=D41,Datu_ievade!$C$16,0)+IF(Datu_ievade!$C$20<=D41,Datu_ievade!$C$19,0)+IF(Datu_ievade!$C$23<=D41,Datu_ievade!$C$22,0)+IF(Datu_ievade!$C$26<=D41,Datu_ievade!$C$25,0)+IF(Datu_ievade!$C$29<=D41,Datu_ievade!$C$28,0),IF(Datu_ievade!$C$17=D41,Datu_ievade!$C$16,0)+IF(Datu_ievade!$C$20=D41,Datu_ievade!$C$19,0)+IF(Datu_ievade!$C$23=D41,Datu_ievade!$C$22,0)+IF(Datu_ievade!$C$26=D41,Datu_ievade!$C$25,0)+IF(Datu_ievade!$C$29=D41,Datu_ievade!$C$28,0)))","v":" "},null,null,null,null,null,null,null,null,null,null,null,null,{"$f":"IF(Q$16=\" \",\" \",IF(Q$16=0,IF(Datu_ievade!$C$17<=Q41,Datu_ievade!$C$16,0)+IF(Datu_ievade!$C$20<=Q41,Datu_ievade!$C$19,0)+IF(Datu_ievade!$C$23<=Q41,Datu_ievade!$C$22,0)+IF(Datu_ievade!$C$26<=Q41,Datu_ievade!$C$25,0)+IF(Datu_ievade!$C$29<=Q41,Datu_ievade!$C$28,0),IF(Datu_ievade!$C$17=Q41,Datu_ievade!$C$16,0)+IF(Datu_ievade!$C$20=Q41,Datu_ievade!$C$19,0)+IF(Datu_ievade!$C$23=Q41,Datu_ievade!$C$22,0)+IF(Datu_ievade!$C$26=Q41,Datu_ievade!$C$25,0)+IF(Datu_ievade!$C$29=Q41,Datu_ievade!$C$28,0)))","v":" "},null,null,null,null,null,null,null,null,null,null,null,null,{"$f":"IF(AD$16=\" \",\" \",IF(AD$16=0,IF(Datu_ievade!$C$17<=AD41,Datu_ievade!$C$16,0)+IF(Datu_ievade!$C$20<=AD41,Datu_ievade!$C$19,0)+IF(Datu_ievade!$C$23<=AD41,Datu_ievade!$C$22,0)+IF(Datu_ievade!$C$26<=AD41,Datu_ievade!$C$25,0)+IF(Datu_ievade!$C$29<=AD41,Datu_ievade!$C$28,0),IF(Datu_ievade!$C$17=AD41,Datu_ievade!$C$16,0)+IF(Datu_ievade!$C$20=AD41,Datu_ievade!$C$19,0)+IF(Datu_ievade!$C$23=AD41,Datu_ievade!$C$22,0)+IF(Datu_ievade!$C$26=AD41,Datu_ievade!$C$25,0)+IF(Datu_ievade!$C$29=AD41,Datu_ievade!$C$28,0)))","v":" "},null,null,null,null,null,null,null,null,null,null,null,null,{"$f":"IF(AQ$16=\" \",\" \",IF(AQ$16=0,IF(Datu_ievade!$C$17<=AQ41,Datu_ievade!$C$16,0)+IF(Datu_ievade!$C$20<=AQ41,Datu_ievade!$C$19,0)+IF(Datu_ievade!$C$23<=AQ41,Datu_ievade!$C$22,0)+IF(Datu_ievade!$C$26<=AQ41,Datu_ievade!$C$25,0)+IF(Datu_ievade!$C$29<=AQ41,Datu_ievade!$C$28,0),IF(Datu_ievade!$C$17=AQ41,Datu_ievade!$C$16,0)+IF(Datu_ievade!$C$20=AQ41,Datu_ievade!$C$19,0)+IF(Datu_ievade!$C$23=AQ41,Datu_ievade!$C$22,0)+IF(Datu_ievade!$C$26=AQ41,Datu_ievade!$C$25,0)+IF(Datu_ievade!$C$29=AQ41,Datu_ievade!$C$28,0)))","v":" "},null,null,null,null,null,null,null,null,null,null,null,null,{"$f":"IF(BD$16=\" \",\" \",IF(BD$16=0,IF(Datu_ievade!$C$17<=BD41,Datu_ievade!$C$16,0)+IF(Datu_ievade!$C$20<=BD41,Datu_ievade!$C$19,0)+IF(Datu_ievade!$C$23<=BD41,Datu_ievade!$C$22,0)+IF(Datu_ievade!$C$26<=BD41,Datu_ievade!$C$25,0)+IF(Datu_ievade!$C$29<=BD41,Datu_ievade!$C$28,0),IF(Datu_ievade!$C$17=BD41,Datu_ievade!$C$16,0)+IF(Datu_ievade!$C$20=BD41,Datu_ievade!$C$19,0)+IF(Datu_ievade!$C$23=BD41,Datu_ievade!$C$22,0)+IF(Datu_ievade!$C$26=BD41,Datu_ievade!$C$25,0)+IF(Datu_ievade!$C$29=BD41,Datu_ievade!$C$28,0)))","v":" "},null,null,null,null,null,null,null,null,null,null,null,null,{"$f":"IF(BQ$16=\" \",\" \",IF(BQ$16=0,IF(Datu_ievade!$C$17<=BQ41,Datu_ievade!$C$16,0)+IF(Datu_ievade!$C$20<=BQ41,Datu_ievade!$C$19,0)+IF(Datu_ievade!$C$23<=BQ41,Datu_ievade!$C$22,0)+IF(Datu_ievade!$C$26<=BQ41,Datu_ievade!$C$25,0)+IF(Datu_ievade!$C$29<=BQ41,Datu_ievade!$C$28,0),IF(Datu_ievade!$C$17=BQ41,Datu_ievade!$C$16,0)+IF(Datu_ievade!$C$20=BQ41,Datu_ievade!$C$19,0)+IF(Datu_ievade!$C$23=BQ41,Datu_ievade!$C$22,0)+IF(Datu_ievade!$C$26=BQ41,Datu_ievade!$C$25,0)+IF(Datu_ievade!$C$29=BQ41,Datu_ievade!$C$28,0)))","v":" "},null,null,null,null,null,null,null,null,null,null,null,null,{"$f":"IF(CD$16=\" \",\" \",IF(CD$16=0,IF(Datu_ievade!$C$17<=CD41,Datu_ievade!$C$16,0)+IF(Datu_ievade!$C$20<=CD41,Datu_ievade!$C$19,0)+IF(Datu_ievade!$C$23<=CD41,Datu_ievade!$C$22,0)+IF(Datu_ievade!$C$26<=CD41,Datu_ievade!$C$25,0)+IF(Datu_ievade!$C$29<=CD41,Datu_ievade!$C$28,0),IF(Datu_ievade!$C$17=CD41,Datu_ievade!$C$16,0)+IF(Datu_ievade!$C$20=CD41,Datu_ievade!$C$19,0)+IF(Datu_ievade!$C$23=CD41,Datu_ievade!$C$22,0)+IF(Datu_ievade!$C$26=CD41,Datu_ievade!$C$25,0)+IF(Datu_ievade!$C$29=CD41,Datu_ievade!$C$28,0)))","v":" "},null,null,null,null,null,null,null,null,null,null,null,null,{"$f":"IF(CQ$16=\" \",\" \",IF(CQ$16=0,IF(Datu_ievade!$C$17<=CQ41,Datu_ievade!$C$16,0)+IF(Datu_ievade!$C$20<=CQ41,Datu_ievade!$C$19,0)+IF(Datu_ievade!$C$23<=CQ41,Datu_ievade!$C$22,0)+IF(Datu_ievade!$C$26<=CQ41,Datu_ievade!$C$25,0)+IF(Datu_ievade!$C$29<=CQ41,Datu_ievade!$C$28,0),IF(Datu_ievade!$C$17=CQ41,Datu_ievade!$C$16,0)+IF(Datu_ievade!$C$20=CQ41,Datu_ievade!$C$19,0)+IF(Datu_ievade!$C$23=CQ41,Datu_ievade!$C$22,0)+IF(Datu_ievade!$C$26=CQ41,Datu_ievade!$C$25,0)+IF(Datu_ievade!$C$29=CQ41,Datu_ievade!$C$28,0)))","v":" "},null,null,null,null,null,null,null,null,null,null,null,null,{"$f":"IF(DD$16=\" \",\" \",IF(DD$16=0,IF(Datu_ievade!$C$17<=DD41,Datu_ievade!$C$16,0)+IF(Datu_ievade!$C$20<=DD41,Datu_ievade!$C$19,0)+IF(Datu_ievade!$C$23<=DD41,Datu_ievade!$C$22,0)+IF(Datu_ievade!$C$26<=DD41,Datu_ievade!$C$25,0)+IF(Datu_ievade!$C$29<=DD41,Datu_ievade!$C$28,0),IF(Datu_ievade!$C$17=DD41,Datu_ievade!$C$16,0)+IF(Datu_ievade!$C$20=DD41,Datu_ievade!$C$19,0)+IF(Datu_ievade!$C$23=DD41,Datu_ievade!$C$22,0)+IF(Datu_ievade!$C$26=DD41,Datu_ievade!$C$25,0)+IF(Datu_ievade!$C$29=DD41,Datu_ievade!$C$28,0)))","v":" "},null,null,null,null,null,null,null,null,null,null,null,null,{"$f":"IF(DQ$16=\" \",\" \",IF(DQ$16=0,IF(Datu_ievade!$C$17<=DQ41,Datu_ievade!$C$16,0)+IF(Datu_ievade!$C$20<=DQ41,Datu_ievade!$C$19,0)+IF(Datu_ievade!$C$23<=DQ41,Datu_ievade!$C$22,0)+IF(Datu_ievade!$C$26<=DQ41,Datu_ievade!$C$25,0)+IF(Datu_ievade!$C$29<=DQ41,Datu_ievade!$C$28,0),IF(Datu_ievade!$C$17=DQ41,Datu_ievade!$C$16,0)+IF(Datu_ievade!$C$20=DQ41,Datu_ievade!$C$19,0)+IF(Datu_ievade!$C$23=DQ41,Datu_ievade!$C$22,0)+IF(Datu_ievade!$C$26=DQ41,Datu_ievade!$C$25,0)+IF(Datu_ievade!$C$29=DQ41,Datu_ievade!$C$28,0)))","v":" "},null,null,null,null,null,null,null,null,null,null,null,null,{"$f":"IF(ED$16=\" \",\" \",IF(ED$16=0,IF(Datu_ievade!$C$17<=ED41,Datu_ievade!$C$16,0)+IF(Datu_ievade!$C$20<=ED41,Datu_ievade!$C$19,0)+IF(Datu_ievade!$C$23<=ED41,Datu_ievade!$C$22,0)+IF(Datu_ievade!$C$26<=ED41,Datu_ievade!$C$25,0)+IF(Datu_ievade!$C$29<=ED41,Datu_ievade!$C$28,0),IF(Datu_ievade!$C$17=ED41,Datu_ievade!$C$16,0)+IF(Datu_ievade!$C$20=ED41,Datu_ievade!$C$19,0)+IF(Datu_ievade!$C$23=ED41,Datu_ievade!$C$22,0)+IF(Datu_ievade!$C$26=ED41,Datu_ievade!$C$25,0)+IF(Datu_ievade!$C$29=ED41,Datu_ievade!$C$28,0)))","v":" "},null,null,null,null,null,null,null,null,null,null,null,null,{"$f":"IF(EQ$16=\" \",\" \",IF(EQ$16=0,IF(Datu_ievade!$C$17<=EQ41,Datu_ievade!$C$16,0)+IF(Datu_ievade!$C$20<=EQ41,Datu_ievade!$C$19,0)+IF(Datu_ievade!$C$23<=EQ41,Datu_ievade!$C$22,0)+IF(Datu_ievade!$C$26<=EQ41,Datu_ievade!$C$25,0)+IF(Datu_ievade!$C$29<=EQ41,Datu_ievade!$C$28,0),IF(Datu_ievade!$C$17=EQ41,Datu_ievade!$C$16,0)+IF(Datu_ievade!$C$20=EQ41,Datu_ievade!$C$19,0)+IF(Datu_ievade!$C$23=EQ41,Datu_ievade!$C$22,0)+IF(Datu_ievade!$C$26=EQ41,Datu_ievade!$C$25,0)+IF(Datu_ievade!$C$29=EQ41,Datu_ievade!$C$28,0)))","v":" "},null,null,null,null,null,null,null,null,null,null,null,null,{"$f":"IF(FD$16=\" \",\" \",IF(FD$16=0,IF(Datu_ievade!$C$17<=FD41,Datu_ievade!$C$16,0)+IF(Datu_ievade!$C$20<=FD41,Datu_ievade!$C$19,0)+IF(Datu_ievade!$C$23<=FD41,Datu_ievade!$C$22,0)+IF(Datu_ievade!$C$26<=FD41,Datu_ievade!$C$25,0)+IF(Datu_ievade!$C$29<=FD41,Datu_ievade!$C$28,0),IF(Datu_ievade!$C$17=FD41,Datu_ievade!$C$16,0)+IF(Datu_ievade!$C$20=FD41,Datu_ievade!$C$19,0)+IF(Datu_ievade!$C$23=FD41,Datu_ievade!$C$22,0)+IF(Datu_ievade!$C$26=FD41,Datu_ievade!$C$25,0)+IF(Datu_ievade!$C$29=FD41,Datu_ievade!$C$28,0)))","v":" "},null,null,null,null,null,null,null,null,null,null,null,null,{"$f":"IF(FQ$16=\" \",\" \",IF(FQ$16=0,IF(Datu_ievade!$C$17<=FQ41,Datu_ievade!$C$16,0)+IF(Datu_ievade!$C$20<=FQ41,Datu_ievade!$C$19,0)+IF(Datu_ievade!$C$23<=FQ41,Datu_ievade!$C$22,0)+IF(Datu_ievade!$C$26<=FQ41,Datu_ievade!$C$25,0)+IF(Datu_ievade!$C$29<=FQ41,Datu_ievade!$C$28,0),IF(Datu_ievade!$C$17=FQ41,Datu_ievade!$C$16,0)+IF(Datu_ievade!$C$20=FQ41,Datu_ievade!$C$19,0)+IF(Datu_ievade!$C$23=FQ41,Datu_ievade!$C$22,0)+IF(Datu_ievade!$C$26=FQ41,Datu_ievade!$C$25,0)+IF(Datu_ievade!$C$29=FQ41,Datu_ievade!$C$28,0)))","v":" "},null,null,null,null,null,null,null,null,null,null,null,null,{"$f":"IF(GD$16=\" \",\" \",IF(GD$16=0,IF(Datu_ievade!$C$17<=GD41,Datu_ievade!$C$16,0)+IF(Datu_ievade!$C$20<=GD41,Datu_ievade!$C$19,0)+IF(Datu_ievade!$C$23<=GD41,Datu_ievade!$C$22,0)+IF(Datu_ievade!$C$26<=GD41,Datu_ievade!$C$25,0)+IF(Datu_ievade!$C$29<=GD41,Datu_ievade!$C$28,0),IF(Datu_ievade!$C$17=GD41,Datu_ievade!$C$16,0)+IF(Datu_ievade!$C$20=GD41,Datu_ievade!$C$19,0)+IF(Datu_ievade!$C$23=GD41,Datu_ievade!$C$22,0)+IF(Datu_ievade!$C$26=GD41,Datu_ievade!$C$25,0)+IF(Datu_ievade!$C$29=GD41,Datu_ievade!$C$28,0)))","v":" "},null,null,null,null,null,null,null,null,null,null,null,null,{"$f":"IF(GQ$16=\" \",\" \",IF(GQ$16=0,IF(Datu_ievade!$C$17<=GQ41,Datu_ievade!$C$16,0)+IF(Datu_ievade!$C$20<=GQ41,Datu_ievade!$C$19,0)+IF(Datu_ievade!$C$23<=GQ41,Datu_ievade!$C$22,0)+IF(Datu_ievade!$C$26<=GQ41,Datu_ievade!$C$25,0)+IF(Datu_ievade!$C$29<=GQ41,Datu_ievade!$C$28,0),IF(Datu_ievade!$C$17=GQ41,Datu_ievade!$C$16,0)+IF(Datu_ievade!$C$20=GQ41,Datu_ievade!$C$19,0)+IF(Datu_ievade!$C$23=GQ41,Datu_ievade!$C$22,0)+IF(Datu_ievade!$C$26=GQ41,Datu_ievade!$C$25,0)+IF(Datu_ievade!$C$29=GQ41,Datu_ievade!$C$28,0)))","v":" "},null,null,null,null,null,null,null,null,null,null,null,null,{"$f":"IF(HD$16=\" \",\" \",IF(HD$16=0,IF(Datu_ievade!$C$17<=HD41,Datu_ievade!$C$16,0)+IF(Datu_ievade!$C$20<=HD41,Datu_ievade!$C$19,0)+IF(Datu_ievade!$C$23<=HD41,Datu_ievade!$C$22,0)+IF(Datu_ievade!$C$26<=HD41,Datu_ievade!$C$25,0)+IF(Datu_ievade!$C$29<=HD41,Datu_ievade!$C$28,0),IF(Datu_ievade!$C$17=HD41,Datu_ievade!$C$16,0)+IF(Datu_ievade!$C$20=HD41,Datu_ievade!$C$19,0)+IF(Datu_ievade!$C$23=HD41,Datu_ievade!$C$22,0)+IF(Datu_ievade!$C$26=HD41,Datu_ievade!$C$25,0)+IF(Datu_ievade!$C$29=HD41,Datu_ievade!$C$28,0)))","v":" "},null,null,null,null,null,null,null,null,null,null,null,null,{"$f":"IF(HQ$16=\" \",\" \",IF(HQ$16=0,IF(Datu_ievade!$C$17<=HQ41,Datu_ievade!$C$16,0)+IF(Datu_ievade!$C$20<=HQ41,Datu_ievade!$C$19,0)+IF(Datu_ievade!$C$23<=HQ41,Datu_ievade!$C$22,0)+IF(Datu_ievade!$C$26<=HQ41,Datu_ievade!$C$25,0)+IF(Datu_ievade!$C$29<=HQ41,Datu_ievade!$C$28,0),IF(Datu_ievade!$C$17=HQ41,Datu_ievade!$C$16,0)+IF(Datu_ievade!$C$20=HQ41,Datu_ievade!$C$19,0)+IF(Datu_ievade!$C$23=HQ41,Datu_ievade!$C$22,0)+IF(Datu_ievade!$C$26=HQ41,Datu_ievade!$C$25,0)+IF(Datu_ievade!$C$29=HQ41,Datu_ievade!$C$28,0)))","v":" "},null,null,null,null,null,null,null,null,null,null,null,null,{"$f":"IF(ID$16=\" \",\" \",IF(ID$16=0,IF(Datu_ievade!$C$17<=ID41,Datu_ievade!$C$16,0)+IF(Datu_ievade!$C$20<=ID41,Datu_ievade!$C$19,0)+IF(Datu_ievade!$C$23<=ID41,Datu_ievade!$C$22,0)+IF(Datu_ievade!$C$26<=ID41,Datu_ievade!$C$25,0)+IF(Datu_ievade!$C$29<=ID41,Datu_ievade!$C$28,0),IF(Datu_ievade!$C$17=ID41,Datu_ievade!$C$16,0)+IF(Datu_ievade!$C$20=ID41,Datu_ievade!$C$19,0)+IF(Datu_ievade!$C$23=ID41,Datu_ievade!$C$22,0)+IF(Datu_ievade!$C$26=ID41,Datu_ievade!$C$25,0)+IF(Datu_ievade!$C$29=ID41,Datu_ievade!$C$28,0)))","v":" "},null,null,null,null,null,null,null,null,null,null,null,null,{"$f":"IF(IQ$16=\" \",\" \",IF(IQ$16=0,IF(Datu_ievade!$C$17<=IQ41,Datu_ievade!$C$16,0)+IF(Datu_ievade!$C$20<=IQ41,Datu_ievade!$C$19,0)+IF(Datu_ievade!$C$23<=IQ41,Datu_ievade!$C$22,0)+IF(Datu_ievade!$C$26<=IQ41,Datu_ievade!$C$25,0)+IF(Datu_ievade!$C$29<=IQ41,Datu_ievade!$C$28,0),IF(Datu_ievade!$C$17=IQ41,Datu_ievade!$C$16,0)+IF(Datu_ievade!$C$20=IQ41,Datu_ievade!$C$19,0)+IF(Datu_ievade!$C$23=IQ41,Datu_ievade!$C$22,0)+IF(Datu_ievade!$C$26=IQ41,Datu_ievade!$C$25,0)+IF(Datu_ievade!$C$29=IQ41,Datu_ievade!$C$28,0)))","v":" "},null,null,null,null,null,null,null,null,null,null,null,null,{"$f":"IF(JD$16=\" \",\" \",IF(JD$16=0,IF(Datu_ievade!$C$17<=JD41,Datu_ievade!$C$16,0)+IF(Datu_ievade!$C$20<=JD41,Datu_ievade!$C$19,0)+IF(Datu_ievade!$C$23<=JD41,Datu_ievade!$C$22,0)+IF(Datu_ievade!$C$26<=JD41,Datu_ievade!$C$25,0)+IF(Datu_ievade!$C$29<=JD41,Datu_ievade!$C$28,0),IF(Datu_ievade!$C$17=JD41,Datu_ievade!$C$16,0)+IF(Datu_ievade!$C$20=JD41,Datu_ievade!$C$19,0)+IF(Datu_ievade!$C$23=JD41,Datu_ievade!$C$22,0)+IF(Datu_ievade!$C$26=JD41,Datu_ievade!$C$25,0)+IF(Datu_ievade!$C$29=JD41,Datu_ievade!$C$28,0)))","v":" "},null,null,null,null,null,null,null,null,null,null,null,null,{"$f":"IF(JQ$16=\" \",\" \",IF(JQ$16=0,IF(Datu_ievade!$C$17<=JQ41,Datu_ievade!$C$16,0)+IF(Datu_ievade!$C$20<=JQ41,Datu_ievade!$C$19,0)+IF(Datu_ievade!$C$23<=JQ41,Datu_ievade!$C$22,0)+IF(Datu_ievade!$C$26<=JQ41,Datu_ievade!$C$25,0)+IF(Datu_ievade!$C$29<=JQ41,Datu_ievade!$C$28,0),IF(Datu_ievade!$C$17=JQ41,Datu_ievade!$C$16,0)+IF(Datu_ievade!$C$20=JQ41,Datu_ievade!$C$19,0)+IF(Datu_ievade!$C$23=JQ41,Datu_ievade!$C$22,0)+IF(Datu_ievade!$C$26=JQ41,Datu_ievade!$C$25,0)+IF(Datu_ievade!$C$29=JQ41,Datu_ievade!$C$28,0)))","v":" "},null,null,null,null,null,null,null,null,null,null,null,null,{"$f":"IF(KD$16=\" \",\" \",IF(KD$16=0,IF(Datu_ievade!$C$17<=KD41,Datu_ievade!$C$16,0)+IF(Datu_ievade!$C$20<=KD41,Datu_ievade!$C$19,0)+IF(Datu_ievade!$C$23<=KD41,Datu_ievade!$C$22,0)+IF(Datu_ievade!$C$26<=KD41,Datu_ievade!$C$25,0)+IF(Datu_ievade!$C$29<=KD41,Datu_ievade!$C$28,0),IF(Datu_ievade!$C$17=KD41,Datu_ievade!$C$16,0)+IF(Datu_ievade!$C$20=KD41,Datu_ievade!$C$19,0)+IF(Datu_ievade!$C$23=KD41,Datu_ievade!$C$22,0)+IF(Datu_ievade!$C$26=KD41,Datu_ievade!$C$25,0)+IF(Datu_ievade!$C$29=KD41,Datu_ievade!$C$28,0)))","v":" "},null,null,null,null,null,null,null,null,null,null,null,null,{"$f":"IF(KQ$16=\" \",\" \",IF(KQ$16=0,IF(Datu_ievade!$C$17<=KQ41,Datu_ievade!$C$16,0)+IF(Datu_ievade!$C$20<=KQ41,Datu_ievade!$C$19,0)+IF(Datu_ievade!$C$23<=KQ41,Datu_ievade!$C$22,0)+IF(Datu_ievade!$C$26<=KQ41,Datu_ievade!$C$25,0)+IF(Datu_ievade!$C$29<=KQ41,Datu_ievade!$C$28,0),IF(Datu_ievade!$C$17=KQ41,Datu_ievade!$C$16,0)+IF(Datu_ievade!$C$20=KQ41,Datu_ievade!$C$19,0)+IF(Datu_ievade!$C$23=KQ41,Datu_ievade!$C$22,0)+IF(Datu_ievade!$C$26=KQ41,Datu_ievade!$C$25,0)+IF(Datu_ievade!$C$29=KQ41,Datu_ievade!$C$28,0)))","v":" "},null,null,null,null,null,null,null,null,null,null,null,null,{"$f":"IF(LD$16=\" \",\" \",IF(LD$16=0,IF(Datu_ievade!$C$17<=LD41,Datu_ievade!$C$16,0)+IF(Datu_ievade!$C$20<=LD41,Datu_ievade!$C$19,0)+IF(Datu_ievade!$C$23<=LD41,Datu_ievade!$C$22,0)+IF(Datu_ievade!$C$26<=LD41,Datu_ievade!$C$25,0)+IF(Datu_ievade!$C$29<=LD41,Datu_ievade!$C$28,0),IF(Datu_ievade!$C$17=LD41,Datu_ievade!$C$16,0)+IF(Datu_ievade!$C$20=LD41,Datu_ievade!$C$19,0)+IF(Datu_ievade!$C$23=LD41,Datu_ievade!$C$22,0)+IF(Datu_ievade!$C$26=LD41,Datu_ievade!$C$25,0)+IF(Datu_ievade!$C$29=LD41,Datu_ievade!$C$28,0)))","v":" "},null,null,null,null,null,null,null,null,null,null,null,null,{"$f":"IF(LQ$16=\" \",\" \",IF(LQ$16=0,IF(Datu_ievade!$C$17<=LQ41,Datu_ievade!$C$16,0)+IF(Datu_ievade!$C$20<=LQ41,Datu_ievade!$C$19,0)+IF(Datu_ievade!$C$23<=LQ41,Datu_ievade!$C$22,0)+IF(Datu_ievade!$C$26<=LQ41,Datu_ievade!$C$25,0)+IF(Datu_ievade!$C$29<=LQ41,Datu_ievade!$C$28,0),IF(Datu_ievade!$C$17=LQ41,Datu_ievade!$C$16,0)+IF(Datu_ievade!$C$20=LQ41,Datu_ievade!$C$19,0)+IF(Datu_ievade!$C$23=LQ41,Datu_ievade!$C$22,0)+IF(Datu_ievade!$C$26=LQ41,Datu_ievade!$C$25,0)+IF(Datu_ievade!$C$29=LQ41,Datu_ievade!$C$28,0)))","v":" "},null,null,null,null,null,null,null,null,null,null,null,null,{"$f":"IF(MD$16=\" \",\" \",IF(MD$16=0,IF(Datu_ievade!$C$17<=MD41,Datu_ievade!$C$16,0)+IF(Datu_ievade!$C$20<=MD41,Datu_ievade!$C$19,0)+IF(Datu_ievade!$C$23<=MD41,Datu_ievade!$C$22,0)+IF(Datu_ievade!$C$26<=MD41,Datu_ievade!$C$25,0)+IF(Datu_ievade!$C$29<=MD41,Datu_ievade!$C$28,0),IF(Datu_ievade!$C$17=MD41,Datu_ievade!$C$16,0)+IF(Datu_ievade!$C$20=MD41,Datu_ievade!$C$19,0)+IF(Datu_ievade!$C$23=MD41,Datu_ievade!$C$22,0)+IF(Datu_ievade!$C$26=MD41,Datu_ievade!$C$25,0)+IF(Datu_ievade!$C$29=MD41,Datu_ievade!$C$28,0)))","v":" "},null,null,null,null,null,null,null,null,null,null,null,null,{"$f":"IF(MQ$16=\" \",\" \",IF(MQ$16=0,IF(Datu_ievade!$C$17<=MQ41,Datu_ievade!$C$16,0)+IF(Datu_ievade!$C$20<=MQ41,Datu_ievade!$C$19,0)+IF(Datu_ievade!$C$23<=MQ41,Datu_ievade!$C$22,0)+IF(Datu_ievade!$C$26<=MQ41,Datu_ievade!$C$25,0)+IF(Datu_ievade!$C$29<=MQ41,Datu_ievade!$C$28,0),IF(Datu_ievade!$C$17=MQ41,Datu_ievade!$C$16,0)+IF(Datu_ievade!$C$20=MQ41,Datu_ievade!$C$19,0)+IF(Datu_ievade!$C$23=MQ41,Datu_ievade!$C$22,0)+IF(Datu_ievade!$C$26=MQ41,Datu_ievade!$C$25,0)+IF(Datu_ievade!$C$29=MQ41,Datu_ievade!$C$28,0)))","v":" "},null,null,null,null,null,null,null,null,null,null,null,null,{"$f":"IF(ND$16=\" \",\" \",IF(ND$16=0,IF(Datu_ievade!$C$17<=ND41,Datu_ievade!$C$16,0)+IF(Datu_ievade!$C$20<=ND41,Datu_ievade!$C$19,0)+IF(Datu_ievade!$C$23<=ND41,Datu_ievade!$C$22,0)+IF(Datu_ievade!$C$26<=ND41,Datu_ievade!$C$25,0)+IF(Datu_ievade!$C$29<=ND41,Datu_ievade!$C$28,0),IF(Datu_ievade!$C$17=ND41,Datu_ievade!$C$16,0)+IF(Datu_ievade!$C$20=ND41,Datu_ievade!$C$19,0)+IF(Datu_ievade!$C$23=ND41,Datu_ievade!$C$22,0)+IF(Datu_ievade!$C$26=ND41,Datu_ievade!$C$25,0)+IF(Datu_ievade!$C$29=ND41,Datu_ievade!$C$28,0)))","v":" "}]
["Izdevumi kopā","EUR",null,{"$f":"IF(D48=\" \",\" \",D53+D54+D56)","v":" "}," "," "," "," "," "," "," "," "," "," "," "," "," "," "," "," "," "," "," "," "," "," "," "," "," "," "," "," "," "," "," "," "," "," "," "," "," "," "," "," "," "," "," "," "," "," "," "," "," "," "," "," "," "," "," "," "," "," "," "," "," "," "," ",{"$f":"IF(BP48=\" \",\" \",BP53+BP54+BP56)","v":" "}," "," "," "," "," "," "," "," "," "," "," "," "," "," "," "," "," "," "," "," "," "," "," "," "," "," "," "," "," "," "," "," "," "," "," "," "," "," "," "," "," "," "," "," "," "," "," "," "," "," "," "," "," "," "," "," "," "," "," "," "," "," "," ",{"$f":"IF(EB48=\" \",\" \",EB53+EB54+EB56)","v":" "}," "," "," "," "," "," "," "," "," "," "," "," "," "," "," "," "," "," "," "," "," "," "," "," "," "," "," "," "," "," "," "," "," "," "," "," "," "," "," "," "," "," "," "," "," "," "," "," "," "," "," "," "," "," "," "," "," "," "," "," "," "," "," ",{"$f":"IF(GN48=\" \",\" \",GN53+GN54+GN56)","v":" "}," "," "," "," "," "," "," "," "," "," "," "," "," "," "," "," "," "," "," "," "," "," "," "," "," "," "," "," "," "," "," "," "," "," "," "," "," "," "," "," "," "," "," "," "," "," "," "," "," "," "," "," "," "," "," "," "," "," "," "," "," "," "," ",{"$f":"IF(IZ48=\" \",\" \",IZ53+IZ54+IZ56)","v":" "}," "," "," "," "," "," "," "," "," "," "," "," "," "," "," "," "," "," "," "," "," "," "," "," "," "," "," "," "," "," "," "," "," "," "," "," "," "," "," "," "," "," "," "," "," "," "," "," "," "," "," "," "," "," "," "," "," "," "," "," "," "," "," ",{"$f":"IF(LL48=\" \",\" \",LL53+LL54+LL56)","v":" "}," "," "," "," "," "," "," "," "," "," "," "," "," "," "," "," "," "," "," "," "," "," "," "," "," "," "," "," "," "," "," "," "," "," "," "," "," "," "," "," "," "," "," "," "," "," "," "," "," "," "," "," "," "," "," "," "]
["Personālizmaksas","EUR"," ",{"$f":"IF(OR(D$16=\" \",D$16=0),\" \",SUM(E53:P53))","v":" "},{"$f":"IF(E48=\" \",\" \",$BQ$6*HLOOKUP($D$15,Līmeņatzīmes!$B$6:$AI$7,2,FALSE))","v":" "},{"$f":"IF(F48=\" \",\" \",$BQ$6*HLOOKUP($D$15,Līmeņatzīmes!$B$6:$AI$7,2,FALSE))","v":" "},{"$f":"IF(G48=\" \",\" \",$BQ$6*HLOOKUP($D$15,Līmeņatzīmes!$B$6:$AI$7,2,FALSE))","v":" "},{"$f":"IF(H48=\" \",\" \",$BQ$6*HLOOKUP($D$15,Līmeņatzīmes!$B$6:$AI$7,2,FALSE))","v":" "},{"$f":"IF(I48=\" \",\" \",$BQ$6*HLOOKUP($D$15,Līmeņatzīmes!$B$6:$AI$7,2,FALSE))","v":" "},{"$f":"IF(J48=\" \",\" \",$BQ$6*HLOOKUP($D$15,Līmeņatzīmes!$B$6:$AI$7,2,FALSE))","v":" "},{"$f":"IF(K48=\" \",\" \",$BQ$6*HLOOKUP($D$15,Līmeņatzīmes!$B$6:$AI$7,2,FALSE))","v":" "},{"$f":"IF(L48=\" \",\" \",$BQ$6*HLOOKUP($D$15,Līmeņatzīmes!$B$6:$AI$7,2,FALSE))","v":" "},{"$f":"IF(M48=\" \",\" \",$BQ$6*HLOOKUP($D$15,Līmeņatzīmes!$B$6:$AI$7,2,FALSE))","v":" "},{"$f":"IF(N48=\" \",\" \",$BQ$6*HLOOKUP($D$15,Līmeņatzīmes!$B$6:$AI$7,2,FALSE))","v":" "},{"$f":"IF(O48=\" \",\" \",$BQ$6*HLOOKUP($D$15,Līmeņatzīmes!$B$6:$AI$7,2,FALSE))","v":" "},{"$f":"IF(P48=\" \",\" \",$BQ$6*HLOOKUP($D$15,Līmeņatzīmes!$B$6:$AI$7,2,FALSE))","v":" "},{"$f":"IF(OR(Q$16=\" \",Q$16=0),\" \",SUM(R53:AC53))","v":" "},{"$f":"IF(R48=\" \",\" \",$BQ$6*HLOOKUP($Q$15,Līmeņatzīmes!$B$6:$AI$7,2,FALSE))","v":" "},{"$f":"IF(S48=\" \",\" \",$BQ$6*HLOOKUP($Q$15,Līmeņatzīmes!$B$6:$AI$7,2,FALSE))","v":" "},{"$f":"IF(T48=\" \",\" \",$BQ$6*HLOOKUP($Q$15,Līmeņatzīmes!$B$6:$AI$7,2,FALSE))","v":" "},{"$f":"IF(U48=\" \",\" \",$BQ$6*HLOOKUP($Q$15,Līmeņatzīmes!$B$6:$AI$7,2,FALSE))","v":" "},{"$f":"IF(V48=\" \",\" \",$BQ$6*HLOOKUP($Q$15,Līmeņatzīmes!$B$6:$AI$7,2,FALSE))","v":" "},{"$f":"IF(W48=\" \",\" \",$BQ$6*HLOOKUP($Q$15,Līmeņatzīmes!$B$6:$AI$7,2,FALSE))","v":" "},{"$f":"IF(X48=\" \",\" \",$BQ$6*HLOOKUP($Q$15,Līmeņatzīmes!$B$6:$AI$7,2,FALSE))","v":" "},{"$f":"IF(Y48=\" \",\" \",$BQ$6*HLOOKUP($Q$15,Līmeņatzīmes!$B$6:$AI$7,2,FALSE))","v":" "},{"$f":"IF(Z48=\" \",\" \",$BQ$6*HLOOKUP($Q$15,Līmeņatzīmes!$B$6:$AI$7,2,FALSE))","v":" "},{"$f":"IF(AA48=\" \",\" \",$BQ$6*HLOOKUP($Q$15,Līmeņatzīmes!$B$6:$AI$7,2,FALSE))","v":" "},{"$f":"IF(AB48=\" \",\" \",$BQ$6*HLOOKUP($Q$15,Līmeņatzīmes!$B$6:$AI$7,2,FALSE))","v":" "},{"$f":"IF(AC48=\" \",\" \",$BQ$6*HLOOKUP($Q$15,Līmeņatzīmes!$B$6:$AI$7,2,FALSE))","v":" "},{"$f":"IF(OR(AD$16=\" \",AD$16=0),\" \",SUM(AE53:AP53))","v":" "},{"$f":"IF(AE48=\" \",\" \",$BQ$6*HLOOKUP($AD$15,Līmeņatzīmes!$B$6:$AI$7,2,FALSE))","v":" "},{"$f":"IF(AF48=\" \",\" \",$BQ$6*HLOOKUP($AD$15,Līmeņatzīmes!$B$6:$AI$7,2,FALSE))","v":" "},{"$f":"IF(AG48=\" \",\" \",$BQ$6*HLOOKUP($AD$15,Līmeņatzīmes!$B$6:$AI$7,2,FALSE))","v":" "},{"$f":"IF(AH48=\" \",\" \",$BQ$6*HLOOKUP($AD$15,Līmeņatzīmes!$B$6:$AI$7,2,FALSE))","v":" "},{"$f":"IF(AI48=\" \",\" \",$BQ$6*HLOOKUP($AD$15,Līmeņatzīmes!$B$6:$AI$7,2,FALSE))","v":" "},{"$f":"IF(AJ48=\" \",\" \",$BQ$6*HLOOKUP($AD$15,Līmeņatzīmes!$B$6:$AI$7,2,FALSE))","v":" "},{"$f":"IF(AK48=\" \",\" \",$BQ$6*HLOOKUP($AD$15,Līmeņatzīmes!$B$6:$AI$7,2,FALSE))","v":" "},{"$f":"IF(AL48=\" \",\" \",$BQ$6*HLOOKUP($AD$15,Līmeņatzīmes!$B$6:$AI$7,2,FALSE))","v":" "},{"$f":"IF(AM48=\" \",\" \",$BQ$6*HLOOKUP($AD$15,Līmeņatzīmes!$B$6:$AI$7,2,FALSE))","v":" "},{"$f":"IF(AN48=\" \",\" \",$BQ$6*HLOOKUP($AD$15,Līmeņatzīmes!$B$6:$AI$7,2,FALSE))","v":" "},{"$f":"IF(AO48=\" \",\" \",$BQ$6*HLOOKUP($AD$15,Līmeņatzīmes!$B$6:$AI$7,2,FALSE))","v":" "},{"$f":"IF(AP48=\" \",\" \",$BQ$6*HLOOKUP($AD$15,Līmeņatzīmes!$B$6:$AI$7,2,FALSE))","v":" "},{"$f":"IF(OR(AQ$16=\" \",AQ$16=0),\" \",SUM(AR53:BC53))","v":" "},{"$f":"IF(AR48=\" \",\" \",$BQ$6*HLOOKUP($AQ$15,Līmeņatzīmes!$B$6:$AI$7,2,FALSE))","v":" "},{"$f":"IF(AS48=\" \",\" \",$BQ$6*HLOOKUP($AQ$15,Līmeņatzīmes!$B$6:$AI$7,2,FALSE))","v":" "},{"$f":"IF(AT48=\" \",\" \",$BQ$6*HLOOKUP($AQ$15,Līmeņatzīmes!$B$6:$AI$7,2,FALSE))","v":" "},{"$f":"IF(AU48=\" \",\" \",$BQ$6*HLOOKUP($AQ$15,Līmeņatzīmes!$B$6:$AI$7,2,FALSE))","v":" "},{"$f":"IF(AV48=\" \",\" \",$BQ$6*HLOOKUP($AQ$15,Līmeņatzīmes!$B$6:$AI$7,2,FALSE))","v":" "},{"$f":"IF(AW48=\" \",\" \",$BQ$6*HLOOKUP($AQ$15,Līmeņatzīmes!$B$6:$AI$7,2,FALSE))","v":" "},{"$f":"IF(AX48=\" \",\" \",$BQ$6*HLOOKUP($AQ$15,Līmeņatzīmes!$B$6:$AI$7,2,FALSE))","v":" "},{"$f":"IF(AY48=\" \",\" \",$BQ$6*HLOOKUP($AQ$15,Līmeņatzīmes!$B$6:$AI$7,2,FALSE))","v":" "},{"$f":"IF(AZ48=\" \",\" \",$BQ$6*HLOOKUP($AQ$15,Līmeņatzīmes!$B$6:$AI$7,2,FALSE))","v":" "},{"$f":"IF(BA48=\" \",\" \",$BQ$6*HLOOKUP($AQ$15,Līmeņatzīmes!$B$6:$AI$7,2,FALSE))","v":" "},{"$f":"IF(BB48=\" \",\" \",$BQ$6*HLOOKUP($AQ$15,Līmeņatzīmes!$B$6:$AI$7,2,FALSE))","v":" "},{"$f":"IF(BC48=\" \",\" \",$BQ$6*HLOOKUP($AQ$15,Līmeņatzīmes!$B$6:$AI$7,2,FALSE))","v":" "},{"$f":"IF(OR(BD$16=\" \",BD$16=0),\" \",SUM(BE53:BP53))","v":" "},{"$f":"IF(BE48=\" \",\" \",$BQ$6*HLOOKUP($BD$15,Līmeņatzīmes!$B$6:$AI$7,2,FALSE))","v":" "},{"$f":"IF(BF48=\" \",\" \",$BQ$6*HLOOKUP($BD$15,Līmeņatzīmes!$B$6:$AI$7,2,FALSE))","v":" "},{"$f":"IF(BG48=\" \",\" \",$BQ$6*HLOOKUP($BD$15,Līmeņatzīmes!$B$6:$AI$7,2,FALSE))","v":" "},{"$f":"IF(BH48=\" \",\" \",$BQ$6*HLOOKUP($BD$15,Līmeņatzīmes!$B$6:$AI$7,2,FALSE))","v":" "},{"$f":"IF(BI48=\" \",\" \",$BQ$6*HLOOKUP($BD$15,Līmeņatzīmes!$B$6:$AI$7,2,FALSE))","v":" "},{"$f":"IF(BJ48=\" \",\" \",$BQ$6*HLOOKUP($BD$15,Līmeņatzīmes!$B$6:$AI$7,2,FALSE))","v":" "},{"$f":"IF(BK48=\" \",\" \",$BQ$6*HLOOKUP($BD$15,Līmeņatzīmes!$B$6:$AI$7,2,FALSE))","v":" "},{"$f":"IF(BL48=\" \",\" \",$BQ$6*HLOOKUP($BD$15,Līmeņatzīmes!$B$6:$AI$7,2,FALSE))","v":" "},{"$f":"IF(BM48=\" \",\" \",$BQ$6*HLOOKUP($BD$15,Līmeņatzīmes!$B$6:$AI$7,2,FALSE))","v":" "},{"$f":"IF(BN48=\" \",\" \",$BQ$6*HLOOKUP($BD$15,Līmeņatzīmes!$B$6:$AI$7,2,FALSE))","v":" "},{"$f":"IF(BO48=\" \",\" \",$BQ$6*HLOOKUP($BD$15,Līmeņatzīmes!$B$6:$AI$7,2,FALSE))","v":" "},{"$f":"IF(BP48=\" \",\" \",$BQ$6*HLOOKUP($BD$15,Līmeņatzīmes!$B$6:$AI$7,2,FALSE))","v":" "},{"$f":"IF(OR(BQ$16=\" \",BQ$16=0),\" \",SUM(BR53:CC53))","v":" "},{"$f":"IF(BR48=\" \",\" \",$BQ$6*HLOOKUP($BQ$15,Līmeņatzīmes!$B$6:$AI$7,2,FALSE))","v":" "},{"$f":"IF(BS48=\" \",\" \",$BQ$6*HLOOKUP($BQ$15,Līmeņatzīmes!$B$6:$AI$7,2,FALSE))","v":" "},{"$f":"IF(BT48=\" \",\" \",$BQ$6*HLOOKUP($BQ$15,Līmeņatzīmes!$B$6:$AI$7,2,FALSE))","v":" "},{"$f":"IF(BU48=\" \",\" \",$BQ$6*HLOOKUP($BQ$15,Līmeņatzīmes!$B$6:$AI$7,2,FALSE))","v":" "},{"$f":"IF(BV48=\" \",\" \",$BQ$6*HLOOKUP($BQ$15,Līmeņatzīmes!$B$6:$AI$7,2,FALSE))","v":" "},{"$f":"IF(BW48=\" \",\" \",$BQ$6*HLOOKUP($BQ$15,Līmeņatzīmes!$B$6:$AI$7,2,FALSE))","v":" "},{"$f":"IF(BX48=\" \",\" \",$BQ$6*HLOOKUP($BQ$15,Līmeņatzīmes!$B$6:$AI$7,2,FALSE))","v":" "},{"$f":"IF(BY48=\" \",\" \",$BQ$6*HLOOKUP($BQ$15,Līmeņatzīmes!$B$6:$AI$7,2,FALSE))","v":" "},{"$f":"IF(BZ48=\" \",\" \",$BQ$6*HLOOKUP($BQ$15,Līmeņatzīmes!$B$6:$AI$7,2,FALSE))","v":" "},{"$f":"IF(CA48=\" \",\" \",$BQ$6*HLOOKUP($BQ$15,Līmeņatzīmes!$B$6:$AI$7,2,FALSE))","v":" "},{"$f":"IF(CB48=\" \",\" \",$BQ$6*HLOOKUP($BQ$15,Līmeņatzīmes!$B$6:$AI$7,2,FALSE))","v":" "},{"$f":"IF(CC48=\" \",\" \",$BQ$6*HLOOKUP($BQ$15,Līmeņatzīmes!$B$6:$AI$7,2,FALSE))","v":" "},{"$f":"IF(OR(CD$16=\" \",CD$16=0),\" \",SUM(CE53:CP53))","v":" "},{"$f":"IF(CE48=\" \",\" \",$BQ$6*HLOOKUP($CD$15,Līmeņatzīmes!$B$6:$AI$7,2,FALSE))","v":" "},{"$f":"IF(CF48=\" \",\" \",$BQ$6*HLOOKUP($CD$15,Līmeņatzīmes!$B$6:$AI$7,2,FALSE))","v":" "},{"$f":"IF(CG48=\" \",\" \",$BQ$6*HLOOKUP($CD$15,Līmeņatzīmes!$B$6:$AI$7,2,FALSE))","v":" "},{"$f":"IF(CH48=\" \",\" \",$BQ$6*HLOOKUP($CD$15,Līmeņatzīmes!$B$6:$AI$7,2,FALSE))","v":" "},{"$f":"IF(CI48=\" \",\" \",$BQ$6*HLOOKUP($CD$15,Līmeņatzīmes!$B$6:$AI$7,2,FALSE))","v":" "},{"$f":"IF(CJ48=\" \",\" \",$BQ$6*HLOOKUP($CD$15,Līmeņatzīmes!$B$6:$AI$7,2,FALSE))","v":" "},{"$f":"IF(CK48=\" \",\" \",$BQ$6*HLOOKUP($CD$15,Līmeņatzīmes!$B$6:$AI$7,2,FALSE))","v":" "},{"$f":"IF(CL48=\" \",\" \",$BQ$6*HLOOKUP($CD$15,Līmeņatzīmes!$B$6:$AI$7,2,FALSE))","v":" "},{"$f":"IF(CM48=\" \",\" \",$BQ$6*HLOOKUP($CD$15,Līmeņatzīmes!$B$6:$AI$7,2,FALSE))","v":" "},{"$f":"IF(CN48=\" \",\" \",$BQ$6*HLOOKUP($CD$15,Līmeņatzīmes!$B$6:$AI$7,2,FALSE))","v":" "},{"$f":"IF(CO48=\" \",\" \",$BQ$6*HLOOKUP($CD$15,Līmeņatzīmes!$B$6:$AI$7,2,FALSE))","v":" "},{"$f":"IF(CP48=\" \",\" \",$BQ$6*HLOOKUP($CD$15,Līmeņatzīmes!$B$6:$AI$7,2,FALSE))","v":" "},{"$f":"IF(OR(CQ$16=\" \",CQ$16=0),\" \",SUM(CR53:DC53))","v":" "},{"$f":"IF(CR48=\" \",\" \",$BQ$6*HLOOKUP($CQ$15,Līmeņatzīmes!$B$6:$AI$7,2,FALSE))","v":" "},{"$f":"IF(CS48=\" \",\" \",$BQ$6*HLOOKUP($CQ$15,Līmeņatzīmes!$B$6:$AI$7,2,FALSE))","v":" "},{"$f":"IF(CT48=\" \",\" \",$BQ$6*HLOOKUP($CQ$15,Līmeņatzīmes!$B$6:$AI$7,2,FALSE))","v":" "},{"$f":"IF(CU48=\" \",\" \",$BQ$6*HLOOKUP($CQ$15,Līmeņatzīmes!$B$6:$AI$7,2,FALSE))","v":" "},{"$f":"IF(CV48=\" \",\" \",$BQ$6*HLOOKUP($CQ$15,Līmeņatzīmes!$B$6:$AI$7,2,FALSE))","v":" "},{"$f":"IF(CW48=\" \",\" \",$BQ$6*HLOOKUP($CQ$15,Līmeņatzīmes!$B$6:$AI$7,2,FALSE))","v":" "},{"$f":"IF(CX48=\" \",\" \",$BQ$6*HLOOKUP($CQ$15,Līmeņatzīmes!$B$6:$AI$7,2,FALSE))","v":" "},{"$f":"IF(CY48=\" \",\" \",$BQ$6*HLOOKUP($CQ$15,Līmeņatzīmes!$B$6:$AI$7,2,FALSE))","v":" "},{"$f":"IF(CZ48=\" \",\" \",$BQ$6*HLOOKUP($CQ$15,Līmeņatzīmes!$B$6:$AI$7,2,FALSE))","v":" "},{"$f":"IF(DA48=\" \",\" \",$BQ$6*HLOOKUP($CQ$15,Līmeņatzīmes!$B$6:$AI$7,2,FALSE))","v":" "},{"$f":"IF(DB48=\" \",\" \",$BQ$6*HLOOKUP($CQ$15,Līmeņatzīmes!$B$6:$AI$7,2,FALSE))","v":" "},{"$f":"IF(DC48=\" \",\" \",$BQ$6*HLOOKUP($CQ$15,Līmeņatzīmes!$B$6:$AI$7,2,FALSE))","v":" "},{"$f":"IF(OR(DD$16=\" \",DD$16=0),\" \",SUM(DE53:DP53))","v":" "},{"$f":"IF(DE48=\" \",\" \",$BQ$6*HLOOKUP($DD$15,Līmeņatzīmes!$B$6:$AI$7,2,FALSE))","v":" "},{"$f":"IF(DF48=\" \",\" \",$BQ$6*HLOOKUP($DD$15,Līmeņatzīmes!$B$6:$AI$7,2,FALSE))","v":" "},{"$f":"IF(DG48=\" \",\" \",$BQ$6*HLOOKUP($DD$15,Līmeņatzīmes!$B$6:$AI$7,2,FALSE))","v":" "},{"$f":"IF(DH48=\" \",\" \",$BQ$6*HLOOKUP($DD$15,Līmeņatzīmes!$B$6:$AI$7,2,FALSE))","v":" "},{"$f":"IF(DI48=\" \",\" \",$BQ$6*HLOOKUP($DD$15,Līmeņatzīmes!$B$6:$AI$7,2,FALSE))","v":" "},{"$f":"IF(DJ48=\" \",\" \",$BQ$6*HLOOKUP($DD$15,Līmeņatzīmes!$B$6:$AI$7,2,FALSE))","v":" "},{"$f":"IF(DK48=\" \",\" \",$BQ$6*HLOOKUP($DD$15,Līmeņatzīmes!$B$6:$AI$7,2,FALSE))","v":" "},{"$f":"IF(DL48=\" \",\" \",$BQ$6*HLOOKUP($DD$15,Līmeņatzīmes!$B$6:$AI$7,2,FALSE))","v":" "},{"$f":"IF(DM48=\" \",\" \",$BQ$6*HLOOKUP($DD$15,Līmeņatzīmes!$B$6:$AI$7,2,FALSE))","v":" "},{"$f":"IF(DN48=\" \",\" \",$BQ$6*HLOOKUP($DD$15,Līmeņatzīmes!$B$6:$AI$7,2,FALSE))","v":" "},{"$f":"IF(DO48=\" \",\" \",$BQ$6*HLOOKUP($DD$15,Līmeņatzīmes!$B$6:$AI$7,2,FALSE))","v":" "},{"$f":"IF(DP48=\" \",\" \",$BQ$6*HLOOKUP($DD$15,Līmeņatzīmes!$B$6:$AI$7,2,FALSE))","v":" "},{"$f":"IF(OR(DQ$16=\" \",DQ$16=0),\" \",SUM(DR53:EC53))","v":" "},{"$f":"IF(DR48=\" \",\" \",$BQ$6*HLOOKUP($DQ$15,Līmeņatzīmes!$B$6:$AI$7,2,FALSE))","v":" "},{"$f":"IF(DS48=\" \",\" \",$BQ$6*HLOOKUP($DQ$15,Līmeņatzīmes!$B$6:$AI$7,2,FALSE))","v":" "},{"$f":"IF(DT48=\" \",\" \",$BQ$6*HLOOKUP($DQ$15,Līmeņatzīmes!$B$6:$AI$7,2,FALSE))","v":" "},{"$f":"IF(DU48=\" \",\" \",$BQ$6*HLOOKUP($DQ$15,Līmeņatzīmes!$B$6:$AI$7,2,FALSE))","v":" "},{"$f":"IF(DV48=\" \",\" \",$BQ$6*HLOOKUP($DQ$15,Līmeņatzīmes!$B$6:$AI$7,2,FALSE))","v":" "},{"$f":"IF(DW48=\" \",\" \",$BQ$6*HLOOKUP($DQ$15,Līmeņatzīmes!$B$6:$AI$7,2,FALSE))","v":" "},{"$f":"IF(DX48=\" \",\" \",$BQ$6*HLOOKUP($DQ$15,Līmeņatzīmes!$B$6:$AI$7,2,FALSE))","v":" "},{"$f":"IF(DY48=\" \",\" \",$BQ$6*HLOOKUP($DQ$15,Līmeņatzīmes!$B$6:$AI$7,2,FALSE))","v":" "},{"$f":"IF(DZ48=\" \",\" \",$BQ$6*HLOOKUP($DQ$15,Līmeņatzīmes!$B$6:$AI$7,2,FALSE))","v":" "},{"$f":"IF(EA48=\" \",\" \",$BQ$6*HLOOKUP($DQ$15,Līmeņatzīmes!$B$6:$AI$7,2,FALSE))","v":" "},{"$f":"IF(EB48=\" \",\" \",$BQ$6*HLOOKUP($DQ$15,Līmeņatzīmes!$B$6:$AI$7,2,FALSE))","v":" "},{"$f":"IF(EC48=\" \",\" \",$BQ$6*HLOOKUP($DQ$15,Līmeņatzīmes!$B$6:$AI$7,2,FALSE))","v":" "},{"$f":"IF(OR(ED$16=\" \",ED$16=0),\" \",SUM(EE53:EP53))","v":" "},{"$f":"IF(EE48=\" \",\" \",$BQ$6*HLOOKUP($ED$15,Līmeņatzīmes!$B$6:$AI$7,2,FALSE))","v":" "},{"$f":"IF(EF48=\" \",\" \",$BQ$6*HLOOKUP($ED$15,Līmeņatzīmes!$B$6:$AI$7,2,FALSE))","v":" "},{"$f":"IF(EG48=\" \",\" \",$BQ$6*HLOOKUP($ED$15,Līmeņatzīmes!$B$6:$AI$7,2,FALSE))","v":" "},{"$f":"IF(EH48=\" \",\" \",$BQ$6*HLOOKUP($ED$15,Līmeņatzīmes!$B$6:$AI$7,2,FALSE))","v":" "},{"$f":"IF(EI48=\" \",\" \",$BQ$6*HLOOKUP($ED$15,Līmeņatzīmes!$B$6:$AI$7,2,FALSE))","v":" "},{"$f":"IF(EJ48=\" \",\" \",$BQ$6*HLOOKUP($ED$15,Līmeņatzīmes!$B$6:$AI$7,2,FALSE))","v":" "},{"$f":"IF(EK48=\" \",\" \",$BQ$6*HLOOKUP($ED$15,Līmeņatzīmes!$B$6:$AI$7,2,FALSE))","v":" "},{"$f":"IF(EL48=\" \",\" \",$BQ$6*HLOOKUP($ED$15,Līmeņatzīmes!$B$6:$AI$7,2,FALSE))","v":" "},{"$f":"IF(EM48=\" \",\" \",$BQ$6*HLOOKUP($ED$15,Līmeņatzīmes!$B$6:$AI$7,2,FALSE))","v":" "},{"$f":"IF(EN48=\" \",\" \",$BQ$6*HLOOKUP($ED$15,Līmeņatzīmes!$B$6:$AI$7,2,FALSE))","v":" "},{"$f":"IF(EO48=\" \",\" \",$BQ$6*HLOOKUP($ED$15,Līmeņatzīmes!$B$6:$AI$7,2,FALSE))","v":" "},{"$f":"IF(EP48=\" \",\" \",$BQ$6*HLOOKUP($ED$15,Līmeņatzīmes!$B$6:$AI$7,2,FALSE))","v":" "},{"$f":"IF(OR(EQ$16=\" \",EQ$16=0),\" \",SUM(ER53:FC53))","v":" "},{"$f":"IF(ER48=\" \",\" \",$BQ$6*HLOOKUP($EQ$15,Līmeņatzīmes!$B$6:$AI$7,2,FALSE))","v":" "},{"$f":"IF(ES48=\" \",\" \",$BQ$6*HLOOKUP($EQ$15,Līmeņatzīmes!$B$6:$AI$7,2,FALSE))","v":" "},{"$f":"IF(ET48=\" \",\" \",$BQ$6*HLOOKUP($EQ$15,Līmeņatzīmes!$B$6:$AI$7,2,FALSE))","v":" "},{"$f":"IF(EU48=\" \",\" \",$BQ$6*HLOOKUP($EQ$15,Līmeņatzīmes!$B$6:$AI$7,2,FALSE))","v":" "},{"$f":"IF(EV48=\" \",\" \",$BQ$6*HLOOKUP($EQ$15,Līmeņatzīmes!$B$6:$AI$7,2,FALSE))","v":" "},{"$f":"IF(EW48=\" \",\" \",$BQ$6*HLOOKUP($EQ$15,Līmeņatzīmes!$B$6:$AI$7,2,FALSE))","v":" "},{"$f":"IF(EX48=\" \",\" \",$BQ$6*HLOOKUP($EQ$15,Līmeņatzīmes!$B$6:$AI$7,2,FALSE))","v":" "},{"$f":"IF(EY48=\" \",\" \",$BQ$6*HLOOKUP($EQ$15,Līmeņatzīmes!$B$6:$AI$7,2,FALSE))","v":" "},{"$f":"IF(EZ48=\" \",\" \",$BQ$6*HLOOKUP($EQ$15,Līmeņatzīmes!$B$6:$AI$7,2,FALSE))","v":" "},{"$f":"IF(FA48=\" \",\" \",$BQ$6*HLOOKUP($EQ$15,Līmeņatzīmes!$B$6:$AI$7,2,FALSE))","v":" "},{"$f":"IF(FB48=\" \",\" \",$BQ$6*HLOOKUP($EQ$15,Līmeņatzīmes!$B$6:$AI$7,2,FALSE))","v":" "},{"$f":"IF(FC48=\" \",\" \",$BQ$6*HLOOKUP($EQ$15,Līmeņatzīmes!$B$6:$AI$7,2,FALSE))","v":" "},{"$f":"IF(OR(FD$16=\" \",FD$16=0),\" \",SUM(FE53:FP53))","v":" "},{"$f":"IF(FE48=\" \",\" \",$BQ$6*HLOOKUP($FD$15,Līmeņatzīmes!$B$6:$AI$7,2,FALSE))","v":" "},{"$f":"IF(FF48=\" \",\" \",$BQ$6*HLOOKUP($FD$15,Līmeņatzīmes!$B$6:$AI$7,2,FALSE))","v":" "},{"$f":"IF(FG48=\" \",\" \",$BQ$6*HLOOKUP($FD$15,Līmeņatzīmes!$B$6:$AI$7,2,FALSE))","v":" "},{"$f":"IF(FH48=\" \",\" \",$BQ$6*HLOOKUP($FD$15,Līmeņatzīmes!$B$6:$AI$7,2,FALSE))","v":" "},{"$f":"IF(FI48=\" \",\" \",$BQ$6*HLOOKUP($FD$15,Līmeņatzīmes!$B$6:$AI$7,2,FALSE))","v":" "},{"$f":"IF(FJ48=\" \",\" \",$BQ$6*HLOOKUP($FD$15,Līmeņatzīmes!$B$6:$AI$7,2,FALSE))","v":" "},{"$f":"IF(FK48=\" \",\" \",$BQ$6*HLOOKUP($FD$15,Līmeņatzīmes!$B$6:$AI$7,2,FALSE))","v":" "},{"$f":"IF(FL48=\" \",\" \",$BQ$6*HLOOKUP($FD$15,Līmeņatzīmes!$B$6:$AI$7,2,FALSE))","v":" "},{"$f":"IF(FM48=\" \",\" \",$BQ$6*HLOOKUP($FD$15,Līmeņatzīmes!$B$6:$AI$7,2,FALSE))","v":" "},{"$f":"IF(FN48=\" \",\" \",$BQ$6*HLOOKUP($FD$15,Līmeņatzīmes!$B$6:$AI$7,2,FALSE))","v":" "},{"$f":"IF(FO48=\" \",\" \",$BQ$6*HLOOKUP($FD$15,Līmeņatzīmes!$B$6:$AI$7,2,FALSE))","v":" "},{"$f":"IF(FP48=\" \",\" \",$BQ$6*HLOOKUP($FD$15,Līmeņatzīmes!$B$6:$AI$7,2,FALSE))","v":" "},{"$f":"IF(OR(FQ$16=\" \",FQ$16=0),\" \",SUM(FR53:GC53))","v":" "},{"$f":"IF(FR48=\" \",\" \",$BQ$6*HLOOKUP($FQ$15,Līmeņatzīmes!$B$6:$AI$7,2,FALSE))","v":" "},{"$f":"IF(FS48=\" \",\" \",$BQ$6*HLOOKUP($FQ$15,Līmeņatzīmes!$B$6:$AI$7,2,FALSE))","v":" "},{"$f":"IF(FT48=\" \",\" \",$BQ$6*HLOOKUP($FQ$15,Līmeņatzīmes!$B$6:$AI$7,2,FALSE))","v":" "},{"$f":"IF(FU48=\" \",\" \",$BQ$6*HLOOKUP($FQ$15,Līmeņatzīmes!$B$6:$AI$7,2,FALSE))","v":" "},{"$f":"IF(FV48=\" \",\" \",$BQ$6*HLOOKUP($FQ$15,Līmeņatzīmes!$B$6:$AI$7,2,FALSE))","v":" "},{"$f":"IF(FW48=\" \",\" \",$BQ$6*HLOOKUP($FQ$15,Līmeņatzīmes!$B$6:$AI$7,2,FALSE))","v":" "},{"$f":"IF(FX48=\" \",\" \",$BQ$6*HLOOKUP($FQ$15,Līmeņatzīmes!$B$6:$AI$7,2,FALSE))","v":" "},{"$f":"IF(FY48=\" \",\" \",$BQ$6*HLOOKUP($FQ$15,Līmeņatzīmes!$B$6:$AI$7,2,FALSE))","v":" "},{"$f":"IF(FZ48=\" \",\" \",$BQ$6*HLOOKUP($FQ$15,Līmeņatzīmes!$B$6:$AI$7,2,FALSE))","v":" "},{"$f":"IF(GA48=\" \",\" \",$BQ$6*HLOOKUP($FQ$15,Līmeņatzīmes!$B$6:$AI$7,2,FALSE))","v":" "},{"$f":"IF(GB48=\" \",\" \",$BQ$6*HLOOKUP($FQ$15,Līmeņatzīmes!$B$6:$AI$7,2,FALSE))","v":" "},{"$f":"IF(GC48=\" \",\" \",$BQ$6*HLOOKUP($FQ$15,Līmeņatzīmes!$B$6:$AI$7,2,FALSE))","v":" "},{"$f":"IF(OR(GD$16=\" \",GD$16=0),\" \",SUM(GE53:GP53))","v":" "},{"$f":"IF(GE48=\" \",\" \",$BQ$6*HLOOKUP($GD$15,Līmeņatzīmes!$B$6:$AI$7,2,FALSE))","v":" "},{"$f":"IF(GF48=\" \",\" \",$BQ$6*HLOOKUP($GD$15,Līmeņatzīmes!$B$6:$AI$7,2,FALSE))","v":" "},{"$f":"IF(GG48=\" \",\" \",$BQ$6*HLOOKUP($GD$15,Līmeņatzīmes!$B$6:$AI$7,2,FALSE))","v":" "},{"$f":"IF(GH48=\" \",\" \",$BQ$6*HLOOKUP($GD$15,Līmeņatzīmes!$B$6:$AI$7,2,FALSE))","v":" "},{"$f":"IF(GI48=\" \",\" \",$BQ$6*HLOOKUP($GD$15,Līmeņatzīmes!$B$6:$AI$7,2,FALSE))","v":" "},{"$f":"IF(GJ48=\" \",\" \",$BQ$6*HLOOKUP($GD$15,Līmeņatzīmes!$B$6:$AI$7,2,FALSE))","v":" "},{"$f":"IF(GK48=\" \",\" \",$BQ$6*HLOOKUP($GD$15,Līmeņatzīmes!$B$6:$AI$7,2,FALSE))","v":" "},{"$f":"IF(GL48=\" \",\" \",$BQ$6*HLOOKUP($GD$15,Līmeņatzīmes!$B$6:$AI$7,2,FALSE))","v":" "},{"$f":"IF(GM48=\" \",\" \",$BQ$6*HLOOKUP($GD$15,Līmeņatzīmes!$B$6:$AI$7,2,FALSE))","v":" "},{"$f":"IF(GN48=\" \",\" \",$BQ$6*HLOOKUP($GD$15,Līmeņatzīmes!$B$6:$AI$7,2,FALSE))","v":" "},{"$f":"IF(GO48=\" \",\" \",$BQ$6*HLOOKUP($GD$15,Līmeņatzīmes!$B$6:$AI$7,2,FALSE))","v":" "},{"$f":"IF(GP48=\" \",\" \",$BQ$6*HLOOKUP($GD$15,Līmeņatzīmes!$B$6:$AI$7,2,FALSE))","v":" "},{"$f":"IF(OR(GQ$16=\" \",GQ$16=0),\" \",SUM(GR53:HC53))","v":" "},{"$f":"IF(GR48=\" \",\" \",$BQ$6*HLOOKUP($GQ$15,Līmeņatzīmes!$B$6:$AI$7,2,FALSE))","v":" "},{"$f":"IF(GS48=\" \",\" \",$BQ$6*HLOOKUP($GQ$15,Līmeņatzīmes!$B$6:$AI$7,2,FALSE))","v":" "},{"$f":"IF(GT48=\" \",\" \",$BQ$6*HLOOKUP($GQ$15,Līmeņatzīmes!$B$6:$AI$7,2,FALSE))","v":" "},{"$f":"IF(GU48=\" \",\" \",$BQ$6*HLOOKUP($GQ$15,Līmeņatzīmes!$B$6:$AI$7,2,FALSE))","v":" "},{"$f":"IF(GV48=\" \",\" \",$BQ$6*HLOOKUP($GQ$15,Līmeņatzīmes!$B$6:$AI$7,2,FALSE))","v":" "},{"$f":"IF(GW48=\" \",\" \",$BQ$6*HLOOKUP($GQ$15,Līmeņatzīmes!$B$6:$AI$7,2,FALSE))","v":" "},{"$f":"IF(GX48=\" \",\" \",$BQ$6*HLOOKUP($GQ$15,Līmeņatzīmes!$B$6:$AI$7,2,FALSE))","v":" "},{"$f":"IF(GY48=\" \",\" \",$BQ$6*HLOOKUP($GQ$15,Līmeņatzīmes!$B$6:$AI$7,2,FALSE))","v":" "},{"$f":"IF(GZ48=\" \",\" \",$BQ$6*HLOOKUP($GQ$15,Līmeņatzīmes!$B$6:$AI$7,2,FALSE))","v":" "},{"$f":"IF(HA48=\" \",\" \",$BQ$6*HLOOKUP($GQ$15,Līmeņatzīmes!$B$6:$AI$7,2,FALSE))","v":" "},{"$f":"IF(HB48=\" \",\" \",$BQ$6*HLOOKUP($GQ$15,Līmeņatzīmes!$B$6:$AI$7,2,FALSE))","v":" "},{"$f":"IF(HC48=\" \",\" \",$BQ$6*HLOOKUP($GQ$15,Līmeņatzīmes!$B$6:$AI$7,2,FALSE))","v":" "},{"$f":"IF(OR(HD$16=\" \",HD$16=0),\" \",SUM(HE53:HP53))","v":" "},{"$f":"IF(HE48=\" \",\" \",$BQ$6*HLOOKUP($HD$15,Līmeņatzīmes!$B$6:$AI$7,2,FALSE))","v":" "},{"$f":"IF(HF48=\" \",\" \",$BQ$6*HLOOKUP($HD$15,Līmeņatzīmes!$B$6:$AI$7,2,FALSE))","v":" "},{"$f":"IF(HG48=\" \",\" \",$BQ$6*HLOOKUP($HD$15,Līmeņatzīmes!$B$6:$AI$7,2,FALSE))","v":" "},{"$f":"IF(HH48=\" \",\" \",$BQ$6*HLOOKUP($HD$15,Līmeņatzīmes!$B$6:$AI$7,2,FALSE))","v":" "},{"$f":"IF(HI48=\" \",\" \",$BQ$6*HLOOKUP($HD$15,Līmeņatzīmes!$B$6:$AI$7,2,FALSE))","v":" "},{"$f":"IF(HJ48=\" \",\" \",$BQ$6*HLOOKUP($HD$15,Līmeņatzīmes!$B$6:$AI$7,2,FALSE))","v":" "},{"$f":"IF(HK48=\" \",\" \",$BQ$6*HLOOKUP($HD$15,Līmeņatzīmes!$B$6:$AI$7,2,FALSE))","v":" "},{"$f":"IF(HL48=\" \",\" \",$BQ$6*HLOOKUP($HD$15,Līmeņatzīmes!$B$6:$AI$7,2,FALSE))","v":" "},{"$f":"IF(HM48=\" \",\" \",$BQ$6*HLOOKUP($HD$15,Līmeņatzīmes!$B$6:$AI$7,2,FALSE))","v":" "},{"$f":"IF(HN48=\" \",\" \",$BQ$6*HLOOKUP($HD$15,Līmeņatzīmes!$B$6:$AI$7,2,FALSE))","v":" "},{"$f":"IF(HO48=\" \",\" \",$BQ$6*HLOOKUP($HD$15,Līmeņatzīmes!$B$6:$AI$7,2,FALSE))","v":" "},{"$f":"IF(HP48=\" \",\" \",$BQ$6*HLOOKUP($HD$15,Līmeņatzīmes!$B$6:$AI$7,2,FALSE))","v":" "},{"$f":"IF(OR(HQ$16=\" \",HQ$16=0),\" \",SUM(HR53:IC53))","v":" "},{"$f":"IF(HR48=\" \",\" \",$BQ$6*HLOOKUP($HQ$15,Līmeņatzīmes!$B$6:$AI$7,2,FALSE))","v":" "},{"$f":"IF(HS48=\" \",\" \",$BQ$6*HLOOKUP($HQ$15,Līmeņatzīmes!$B$6:$AI$7,2,FALSE))","v":" "},{"$f":"IF(HT48=\" \",\" \",$BQ$6*HLOOKUP($HQ$15,Līmeņatzīmes!$B$6:$AI$7,2,FALSE))","v":" "},{"$f":"IF(HU48=\" \",\" \",$BQ$6*HLOOKUP($HQ$15,Līmeņatzīmes!$B$6:$AI$7,2,FALSE))","v":" "},{"$f":"IF(HV48=\" \",\" \",$BQ$6*HLOOKUP($HQ$15,Līmeņatzīmes!$B$6:$AI$7,2,FALSE))","v":" "},{"$f":"IF(HW48=\" \",\" \",$BQ$6*HLOOKUP($HQ$15,Līmeņatzīmes!$B$6:$AI$7,2,FALSE))","v":" "},{"$f":"IF(HX48=\" \",\" \",$BQ$6*HLOOKUP($HQ$15,Līmeņatzīmes!$B$6:$AI$7,2,FALSE))","v":" "},{"$f":"IF(HY48=\" \",\" \",$BQ$6*HLOOKUP($HQ$15,Līmeņatzīmes!$B$6:$AI$7,2,FALSE))","v":" "},{"$f":"IF(HZ48=\" \",\" \",$BQ$6*HLOOKUP($HQ$15,Līmeņatzīmes!$B$6:$AI$7,2,FALSE))","v":" "},{"$f":"IF(IA48=\" \",\" \",$BQ$6*HLOOKUP($HQ$15,Līmeņatzīmes!$B$6:$AI$7,2,FALSE))","v":" "},{"$f":"IF(IB48=\" \",\" \",$BQ$6*HLOOKUP($HQ$15,Līmeņatzīmes!$B$6:$AI$7,2,FALSE))","v":" "},{"$f":"IF(IC48=\" \",\" \",$BQ$6*HLOOKUP($HQ$15,Līmeņatzīmes!$B$6:$AI$7,2,FALSE))","v":" "},{"$f":"IF(OR(ID$16=\" \",ID$16=0),\" \",SUM(IE53:IP53))","v":" "},{"$f":"IF(IE48=\" \",\" \",$BQ$6*HLOOKUP($ID$15,Līmeņatzīmes!$B$6:$AI$7,2,FALSE))","v":" "},{"$f":"IF(IF48=\" \",\" \",$BQ$6*HLOOKUP($ID$15,Līmeņatzīmes!$B$6:$AI$7,2,FALSE))","v":" "},{"$f":"IF(IG48=\" \",\" \",$BQ$6*HLOOKUP($ID$15,Līmeņatzīmes!$B$6:$AI$7,2,FALSE))","v":" "},{"$f":"IF(IH48=\" \",\" \",$BQ$6*HLOOKUP($ID$15,Līmeņatzīmes!$B$6:$AI$7,2,FALSE))","v":" "},{"$f":"IF(II48=\" \",\" \",$BQ$6*HLOOKUP($ID$15,Līmeņatzīmes!$B$6:$AI$7,2,FALSE))","v":" "},{"$f":"IF(IJ48=\" \",\" \",$BQ$6*HLOOKUP($ID$15,Līmeņatzīmes!$B$6:$AI$7,2,FALSE))","v":" "},{"$f":"IF(IK48=\" \",\" \",$BQ$6*HLOOKUP($ID$15,Līmeņatzīmes!$B$6:$AI$7,2,FALSE))","v":" "},{"$f":"IF(IL48=\" \",\" \",$BQ$6*HLOOKUP($ID$15,Līmeņatzīmes!$B$6:$AI$7,2,FALSE))","v":" "},{"$f":"IF(IM48=\" \",\" \",$BQ$6*HLOOKUP($ID$15,Līmeņatzīmes!$B$6:$AI$7,2,FALSE))","v":" "},{"$f":"IF(IN48=\" \",\" \",$BQ$6*HLOOKUP($ID$15,Līmeņatzīmes!$B$6:$AI$7,2,FALSE))","v":" "},{"$f":"IF(IO48=\" \",\" \",$BQ$6*HLOOKUP($ID$15,Līmeņatzīmes!$B$6:$AI$7,2,FALSE))","v":" "},{"$f":"IF(IP48=\" \",\" \",$BQ$6*HLOOKUP($ID$15,Līmeņatzīmes!$B$6:$AI$7,2,FALSE))","v":" "},{"$f":"IF(OR(IQ$16=\" \",IQ$16=0),\" \",SUM(IR53:JC53))","v":" "},{"$f":"IF(IR48=\" \",\" \",$BQ$6*HLOOKUP($IQ$15,Līmeņatzīmes!$B$6:$AI$7,2,FALSE))","v":" "},{"$f":"IF(IS48=\" \",\" \",$BQ$6*HLOOKUP($IQ$15,Līmeņatzīmes!$B$6:$AI$7,2,FALSE))","v":" "},{"$f":"IF(IT48=\" \",\" \",$BQ$6*HLOOKUP($IQ$15,Līmeņatzīmes!$B$6:$AI$7,2,FALSE))","v":" "},{"$f":"IF(IU48=\" \",\" \",$BQ$6*HLOOKUP($IQ$15,Līmeņatzīmes!$B$6:$AI$7,2,FALSE))","v":" "},{"$f":"IF(IV48=\" \",\" \",$BQ$6*HLOOKUP($IQ$15,Līmeņatzīmes!$B$6:$AI$7,2,FALSE))","v":" "},{"$f":"IF(IW48=\" \",\" \",$BQ$6*HLOOKUP($IQ$15,Līmeņatzīmes!$B$6:$AI$7,2,FALSE))","v":" "},{"$f":"IF(IX48=\" \",\" \",$BQ$6*HLOOKUP($IQ$15,Līmeņatzīmes!$B$6:$AI$7,2,FALSE))","v":" "},{"$f":"IF(IY48=\" \",\" \",$BQ$6*HLOOKUP($IQ$15,Līmeņatzīmes!$B$6:$AI$7,2,FALSE))","v":" "},{"$f":"IF(IZ48=\" \",\" \",$BQ$6*HLOOKUP($IQ$15,Līmeņatzīmes!$B$6:$AI$7,2,FALSE))","v":" "},{"$f":"IF(JA48=\" \",\" \",$BQ$6*HLOOKUP($IQ$15,Līmeņatzīmes!$B$6:$AI$7,2,FALSE))","v":" "},{"$f":"IF(JB48=\" \",\" \",$BQ$6*HLOOKUP($IQ$15,Līmeņatzīmes!$B$6:$AI$7,2,FALSE))","v":" "},{"$f":"IF(JC48=\" \",\" \",$BQ$6*HLOOKUP($IQ$15,Līmeņatzīmes!$B$6:$AI$7,2,FALSE))","v":" "},{"$f":"IF(OR(JD$16=\" \",JD$16=0),\" \",SUM(JE53:JP53))","v":" "},{"$f":"IF(JE48=\" \",\" \",$BQ$6*HLOOKUP($JD$15,Līmeņatzīmes!$B$6:$AI$7,2,FALSE))","v":" "},{"$f":"IF(JF48=\" \",\" \",$BQ$6*HLOOKUP($JD$15,Līmeņatzīmes!$B$6:$AI$7,2,FALSE))","v":" "},{"$f":"IF(JG48=\" \",\" \",$BQ$6*HLOOKUP($JD$15,Līmeņatzīmes!$B$6:$AI$7,2,FALSE))","v":" "},{"$f":"IF(JH48=\" \",\" \",$BQ$6*HLOOKUP($JD$15,Līmeņatzīmes!$B$6:$AI$7,2,FALSE))","v":" "},{"$f":"IF(JI48=\" \",\" \",$BQ$6*HLOOKUP($JD$15,Līmeņatzīmes!$B$6:$AI$7,2,FALSE))","v":" "},{"$f":"IF(JJ48=\" \",\" \",$BQ$6*HLOOKUP($JD$15,Līmeņatzīmes!$B$6:$AI$7,2,FALSE))","v":" "},{"$f":"IF(JK48=\" \",\" \",$BQ$6*HLOOKUP($JD$15,Līmeņatzīmes!$B$6:$AI$7,2,FALSE))","v":" "},{"$f":"IF(JL48=\" \",\" \",$BQ$6*HLOOKUP($JD$15,Līmeņatzīmes!$B$6:$AI$7,2,FALSE))","v":" "},{"$f":"IF(JM48=\" \",\" \",$BQ$6*HLOOKUP($JD$15,Līmeņatzīmes!$B$6:$AI$7,2,FALSE))","v":" "},{"$f":"IF(JN48=\" \",\" \",$BQ$6*HLOOKUP($JD$15,Līmeņatzīmes!$B$6:$AI$7,2,FALSE))","v":" "},{"$f":"IF(JO48=\" \",\" \",$BQ$6*HLOOKUP($JD$15,Līmeņatzīmes!$B$6:$AI$7,2,FALSE))","v":" "},{"$f":"IF(JP48=\" \",\" \",$BQ$6*HLOOKUP($JD$15,Līmeņatzīmes!$B$6:$AI$7,2,FALSE))","v":" "},{"$f":"IF(OR(JQ$16=\" \",JQ$16=0),\" \",SUM(JR53:KC53))","v":" "},{"$f":"IF(JR48=\" \",\" \",$BQ$6*HLOOKUP($JQ$15,Līmeņatzīmes!$B$6:$AI$7,2,FALSE))","v":" "},{"$f":"IF(JS48=\" \",\" \",$BQ$6*HLOOKUP($JQ$15,Līmeņatzīmes!$B$6:$AI$7,2,FALSE))","v":" "},{"$f":"IF(JT48=\" \",\" \",$BQ$6*HLOOKUP($JQ$15,Līmeņatzīmes!$B$6:$AI$7,2,FALSE))","v":" "},{"$f":"IF(JU48=\" \",\" \",$BQ$6*HLOOKUP($JQ$15,Līmeņatzīmes!$B$6:$AI$7,2,FALSE))","v":" "},{"$f":"IF(JV48=\" \",\" \",$BQ$6*HLOOKUP($JQ$15,Līmeņatzīmes!$B$6:$AI$7,2,FALSE))","v":" "},{"$f":"IF(JW48=\" \",\" \",$BQ$6*HLOOKUP($JQ$15,Līmeņatzīmes!$B$6:$AI$7,2,FALSE))","v":" "},{"$f":"IF(JX48=\" \",\" \",$BQ$6*HLOOKUP($JQ$15,Līmeņatzīmes!$B$6:$AI$7,2,FALSE))","v":" "},{"$f":"IF(JY48=\" \",\" \",$BQ$6*HLOOKUP($JQ$15,Līmeņatzīmes!$B$6:$AI$7,2,FALSE))","v":" "},{"$f":"IF(JZ48=\" \",\" \",$BQ$6*HLOOKUP($JQ$15,Līmeņatzīmes!$B$6:$AI$7,2,FALSE))","v":" "},{"$f":"IF(KA48=\" \",\" \",$BQ$6*HLOOKUP($JQ$15,Līmeņatzīmes!$B$6:$AI$7,2,FALSE))","v":" "},{"$f":"IF(KB48=\" \",\" \",$BQ$6*HLOOKUP($JQ$15,Līmeņatzīmes!$B$6:$AI$7,2,FALSE))","v":" "},{"$f":"IF(KC48=\" \",\" \",$BQ$6*HLOOKUP($JQ$15,Līmeņatzīmes!$B$6:$AI$7,2,FALSE))","v":" "},{"$f":"IF(OR(KD$16=\" \",KD$16=0),\" \",SUM(KE53:KP53))","v":" "},{"$f":"IF(KE48=\" \",\" \",$BQ$6*HLOOKUP($KD$15,Līmeņatzīmes!$B$6:$AI$7,2,FALSE))","v":" "},{"$f":"IF(KF48=\" \",\" \",$BQ$6*HLOOKUP($KD$15,Līmeņatzīmes!$B$6:$AI$7,2,FALSE))","v":" "},{"$f":"IF(KG48=\" \",\" \",$BQ$6*HLOOKUP($KD$15,Līmeņatzīmes!$B$6:$AI$7,2,FALSE))","v":" "},{"$f":"IF(KH48=\" \",\" \",$BQ$6*HLOOKUP($KD$15,Līmeņatzīmes!$B$6:$AI$7,2,FALSE))","v":" "},{"$f":"IF(KI48=\" \",\" \",$BQ$6*HLOOKUP($KD$15,Līmeņatzīmes!$B$6:$AI$7,2,FALSE))","v":" "},{"$f":"IF(KJ48=\" \",\" \",$BQ$6*HLOOKUP($KD$15,Līmeņatzīmes!$B$6:$AI$7,2,FALSE))","v":" "},{"$f":"IF(KK48=\" \",\" \",$BQ$6*HLOOKUP($KD$15,Līmeņatzīmes!$B$6:$AI$7,2,FALSE))","v":" "},{"$f":"IF(KL48=\" \",\" \",$BQ$6*HLOOKUP($KD$15,Līmeņatzīmes!$B$6:$AI$7,2,FALSE))","v":" "},{"$f":"IF(KM48=\" \",\" \",$BQ$6*HLOOKUP($KD$15,Līmeņatzīmes!$B$6:$AI$7,2,FALSE))","v":" "},{"$f":"IF(KN48=\" \",\" \",$BQ$6*HLOOKUP($KD$15,Līmeņatzīmes!$B$6:$AI$7,2,FALSE))","v":" "},{"$f":"IF(KO48=\" \",\" \",$BQ$6*HLOOKUP($KD$15,Līmeņatzīmes!$B$6:$AI$7,2,FALSE))","v":" "},{"$f":"IF(KP48=\" \",\" \",$BQ$6*HLOOKUP($KD$15,Līmeņatzīmes!$B$6:$AI$7,2,FALSE))","v":" "},{"$f":"IF(OR(KQ$16=\" \",KQ$16=0),\" \",SUM(KR53:LC53))","v":" "},{"$f":"IF(KR48=\" \",\" \",$BQ$6*HLOOKUP($KQ$15,Līmeņatzīmes!$B$6:$AI$7,2,FALSE))","v":" "},{"$f":"IF(KS48=\" \",\" \",$BQ$6*HLOOKUP($KQ$15,Līmeņatzīmes!$B$6:$AI$7,2,FALSE))","v":" "},{"$f":"IF(KT48=\" \",\" \",$BQ$6*HLOOKUP($KQ$15,Līmeņatzīmes!$B$6:$AI$7,2,FALSE))","v":" "},{"$f":"IF(KU48=\" \",\" \",$BQ$6*HLOOKUP($KQ$15,Līmeņatzīmes!$B$6:$AI$7,2,FALSE))","v":" "},{"$f":"IF(KV48=\" \",\" \",$BQ$6*HLOOKUP($KQ$15,Līmeņatzīmes!$B$6:$AI$7,2,FALSE))","v":" "},{"$f":"IF(KW48=\" \",\" \",$BQ$6*HLOOKUP($KQ$15,Līmeņatzīmes!$B$6:$AI$7,2,FALSE))","v":" "},{"$f":"IF(KX48=\" \",\" \",$BQ$6*HLOOKUP($KQ$15,Līmeņatzīmes!$B$6:$AI$7,2,FALSE))","v":" "},{"$f":"IF(KY48=\" \",\" \",$BQ$6*HLOOKUP($KQ$15,Līmeņatzīmes!$B$6:$AI$7,2,FALSE))","v":" "},{"$f":"IF(KZ48=\" \",\" \",$BQ$6*HLOOKUP($KQ$15,Līmeņatzīmes!$B$6:$AI$7,2,FALSE))","v":" "},{"$f":"IF(LA48=\" \",\" \",$BQ$6*HLOOKUP($KQ$15,Līmeņatzīmes!$B$6:$AI$7,2,FALSE))","v":" "},{"$f":"IF(LB48=\" \",\" \",$BQ$6*HLOOKUP($KQ$15,Līmeņatzīmes!$B$6:$AI$7,2,FALSE))","v":" "},{"$f":"IF(LC48=\" \",\" \",$BQ$6*HLOOKUP($KQ$15,Līmeņatzīmes!$B$6:$AI$7,2,FALSE))","v":" "},{"$f":"IF(OR(LD$16=\" \",LD$16=0),\" \",SUM(LE53:LP53))","v":" "},{"$f":"IF(LE48=\" \",\" \",$BQ$6*HLOOKUP($LD$15,Līmeņatzīmes!$B$6:$AI$7,2,FALSE))","v":" "},{"$f":"IF(LF48=\" \",\" \",$BQ$6*HLOOKUP($LD$15,Līmeņatzīmes!$B$6:$AI$7,2,FALSE))","v":" "},{"$f":"IF(LG48=\" \",\" \",$BQ$6*HLOOKUP($LD$15,Līmeņatzīmes!$B$6:$AI$7,2,FALSE))","v":" "},{"$f":"IF(LH48=\" \",\" \",$BQ$6*HLOOKUP($LD$15,Līmeņatzīmes!$B$6:$AI$7,2,FALSE))","v":" "},{"$f":"IF(LI48=\" \",\" \",$BQ$6*HLOOKUP($LD$15,Līmeņatzīmes!$B$6:$AI$7,2,FALSE))","v":" "},{"$f":"IF(LJ48=\" \",\" \",$BQ$6*HLOOKUP($LD$15,Līmeņatzīmes!$B$6:$AI$7,2,FALSE))","v":" "},{"$f":"IF(LK48=\" \",\" \",$BQ$6*HLOOKUP($LD$15,Līmeņatzīmes!$B$6:$AI$7,2,FALSE))","v":" "},{"$f":"IF(LL48=\" \",\" \",$BQ$6*HLOOKUP($LD$15,Līmeņatzīmes!$B$6:$AI$7,2,FALSE))","v":" "},{"$f":"IF(LM48=\" \",\" \",$BQ$6*HLOOKUP($LD$15,Līmeņatzīmes!$B$6:$AI$7,2,FALSE))","v":" "},{"$f":"IF(LN48=\" \",\" \",$BQ$6*HLOOKUP($LD$15,Līmeņatzīmes!$B$6:$AI$7,2,FALSE))","v":" "},{"$f":"IF(LO48=\" \",\" \",$BQ$6*HLOOKUP($LD$15,Līmeņatzīmes!$B$6:$AI$7,2,FALSE))","v":" "},{"$f":"IF(LP48=\" \",\" \",$BQ$6*HLOOKUP($LD$15,Līmeņatzīmes!$B$6:$AI$7,2,FALSE))","v":" "},{"$f":"IF(OR(LQ$16=\" \",LQ$16=0),\" \",SUM(LR53:MC53))","v":" "},{"$f":"IF(LR48=\" \",\" \",$BQ$6*HLOOKUP($LQ$15,Līmeņatzīmes!$B$6:$AI$7,2,FALSE))","v":" "},{"$f":"IF(LS48=\" \",\" \",$BQ$6*HLOOKUP($LQ$15,Līmeņatzīmes!$B$6:$AI$7,2,FALSE))","v":" "},{"$f":"IF(LT48=\" \",\" \",$BQ$6*HLOOKUP($LQ$15,Līmeņatzīmes!$B$6:$AI$7,2,FALSE))","v":" "},{"$f":"IF(LU48=\" \",\" \",$BQ$6*HLOOKUP($LQ$15,Līmeņatzīmes!$B$6:$AI$7,2,FALSE))","v":" "},{"$f":"IF(LV48=\" \",\" \",$BQ$6*HLOOKUP($LQ$15,Līmeņatzīmes!$B$6:$AI$7,2,FALSE))","v":" "},{"$f":"IF(LW48=\" \",\" \",$BQ$6*HLOOKUP($LQ$15,Līmeņatzīmes!$B$6:$AI$7,2,FALSE))","v":" "},{"$f":"IF(LX48=\" \",\" \",$BQ$6*HLOOKUP($LQ$15,Līmeņatzīmes!$B$6:$AI$7,2,FALSE))","v":" "},{"$f":"IF(LY48=\" \",\" \",$BQ$6*HLOOKUP($LQ$15,Līmeņatzīmes!$B$6:$AI$7,2,FALSE))","v":" "},{"$f":"IF(LZ48=\" \",\" \",$BQ$6*HLOOKUP($LQ$15,Līmeņatzīmes!$B$6:$AI$7,2,FALSE))","v":" "},{"$f":"IF(MA48=\" \",\" \",$BQ$6*HLOOKUP($LQ$15,Līmeņatzīmes!$B$6:$AI$7,2,FALSE))","v":" "},{"$f":"IF(MB48=\" \",\" \",$BQ$6*HLOOKUP($LQ$15,Līmeņatzīmes!$B$6:$AI$7,2,FALSE))","v":" "},{"$f":"IF(MC48=\" \",\" \",$BQ$6*HLOOKUP($LQ$15,Līmeņatzīmes!$B$6:$AI$7,2,FALSE))","v":" "},{"$f":"IF(OR(MD$16=\" \",MD$16=0),\" \",SUM(ME53:MP53))","v":" "},{"$f":"IF(ME48=\" \",\" \",$BQ$6*HLOOKUP($MD$15,Līmeņatzīmes!$B$6:$AI$7,2,FALSE))","v":" "},{"$f":"IF(MF48=\" \",\" \",$BQ$6*HLOOKUP($MD$15,Līmeņatzīmes!$B$6:$AI$7,2,FALSE))","v":" "},{"$f":"IF(MG48=\" \",\" \",$BQ$6*HLOOKUP($MD$15,Līmeņatzīmes!$B$6:$AI$7,2,FALSE))","v":" "},{"$f":"IF(MH48=\" \",\" \",$BQ$6*HLOOKUP($MD$15,Līmeņatzīmes!$B$6:$AI$7,2,FALSE))","v":" "},{"$f":"IF(MI48=\" \",\" \",$BQ$6*HLOOKUP($MD$15,Līmeņatzīmes!$B$6:$AI$7,2,FALSE))","v":" "},{"$f":"IF(MJ48=\" \",\" \",$BQ$6*HLOOKUP($MD$15,Līmeņatzīmes!$B$6:$AI$7,2,FALSE))","v":" "},{"$f":"IF(MK48=\" \",\" \",$BQ$6*HLOOKUP($MD$15,Līmeņatzīmes!$B$6:$AI$7,2,FALSE))","v":" "},{"$f":"IF(ML48=\" \",\" \",$BQ$6*HLOOKUP($MD$15,Līmeņatzīmes!$B$6:$AI$7,2,FALSE))","v":" "},{"$f":"IF(MM48=\" \",\" \",$BQ$6*HLOOKUP($MD$15,Līmeņatzīmes!$B$6:$AI$7,2,FALSE))","v":" "},{"$f":"IF(MN48=\" \",\" \",$BQ$6*HLOOKUP($MD$15,Līmeņatzīmes!$B$6:$AI$7,2,FALSE))","v":" "},{"$f":"IF(MO48=\" \",\" \",$BQ$6*HLOOKUP($MD$15,Līmeņatzīmes!$B$6:$AI$7,2,FALSE))","v":" "},{"$f":"IF(MP48=\" \",\" \",$BQ$6*HLOOKUP($MD$15,Līmeņatzīmes!$B$6:$AI$7,2,FALSE))","v":" "},{"$f":"IF(OR(MQ$16=\" \",MQ$16=0),\" \",SUM(MR53:NC53))","v":" "},{"$f":"IF(MR48=\" \",\" \",$BQ$6*HLOOKUP($MQ$15,Līmeņatzīmes!$B$6:$AI$7,2,FALSE))","v":" "},{"$f":"IF(MS48=\" \",\" \",$BQ$6*HLOOKUP($MQ$15,Līmeņatzīmes!$B$6:$AI$7,2,FALSE))","v":" "},{"$f":"IF(MT48=\" \",\" \",$BQ$6*HLOOKUP($MQ$15,Līmeņatzīmes!$B$6:$AI$7,2,FALSE))","v":" "},{"$f":"IF(MU48=\" \",\" \",$BQ$6*HLOOKUP($MQ$15,Līmeņatzīmes!$B$6:$AI$7,2,FALSE))","v":" "},{"$f":"IF(MV48=\" \",\" \",$BQ$6*HLOOKUP($MQ$15,Līmeņatzīmes!$B$6:$AI$7,2,FALSE))","v":" "},{"$f":"IF(MW48=\" \",\" \",$BQ$6*HLOOKUP($MQ$15,Līmeņatzīmes!$B$6:$AI$7,2,FALSE))","v":" "},{"$f":"IF(MX48=\" \",\" \",$BQ$6*HLOOKUP($MQ$15,Līmeņatzīmes!$B$6:$AI$7,2,FALSE))","v":" "},{"$f":"IF(MY48=\" \",\" \",$BQ$6*HLOOKUP($MQ$15,Līmeņatzīmes!$B$6:$AI$7,2,FALSE))","v":" "},{"$f":"IF(MZ48=\" \",\" \",$BQ$6*HLOOKUP($MQ$15,Līmeņatzīmes!$B$6:$AI$7,2,FALSE))","v":" "},{"$f":"IF(NA48=\" \",\" \",$BQ$6*HLOOKUP($MQ$15,Līmeņatzīmes!$B$6:$AI$7,2,FALSE))","v":" "},{"$f":"IF(NB48=\" \",\" \",$BQ$6*HLOOKUP($MQ$15,Līmeņatzīmes!$B$6:$AI$7,2,FALSE))","v":" "},{"$f":"IF(NC48=\" \",\" \",$BQ$6*HLOOKUP($MQ$15,Līmeņatzīmes!$B$6:$AI$7,2,FALSE))","v":" "},{"$f":"IF(OR(ND$16=\" \",ND$16=0),\" \",SUM(NE53:NP53))","v":" "},{"$f":"IF(NE48=\" \",\" \",$BQ$6*HLOOKUP($ND$15,Līmeņatzīmes!$B$6:$AI$7,2,FALSE))","v":" "},{"$f":"IF(NF48=\" \",\" \",$BQ$6*HLOOKUP($ND$15,Līmeņatzīmes!$B$6:$AI$7,2,FALSE))","v":" "},{"$f":"IF(NG48=\" \",\" \",$BQ$6*HLOOKUP($ND$15,Līmeņatzīmes!$B$6:$AI$7,2,FALSE))","v":" "},{"$f":"IF(NH48=\" \",\" \",$BQ$6*HLOOKUP($ND$15,Līmeņatzīmes!$B$6:$AI$7,2,FALSE))","v":" "},{"$f":"IF(NI48=\" \",\" \",$BQ$6*HLOOKUP($ND$15,Līmeņatzīmes!$B$6:$AI$7,2,FALSE))","v":" "},{"$f":"IF(NJ48=\" \",\" \",$BQ$6*HLOOKUP($ND$15,Līmeņatzīmes!$B$6:$AI$7,2,FALSE))","v":" "},{"$f":"IF(NK48=\" \",\" \",$BQ$6*HLOOKUP($ND$15,Līmeņatzīmes!$B$6:$AI$7,2,FALSE))","v":" "},{"$f":"IF(NL48=\" \",\" \",$BQ$6*HLOOKUP($ND$15,Līmeņatzīmes!$B$6:$AI$7,2,FALSE))","v":" "},{"$f":"IF(NM48=\" \",\" \",$BQ$6*HLOOKUP($ND$15,Līmeņatzīmes!$B$6:$AI$7,2,FALSE))","v":" "},{"$f":"IF(NN48=\" \",\" \",$BQ$6*HLOOKUP($ND$15,Līmeņatzīmes!$B$6:$AI$7,2,FALSE))","v":" "},{"$f":"IF(NO48=\" \",\" \",$BQ$6*HLOOKUP($ND$15,Līmeņatzīmes!$B$6:$AI$7,2,FALSE))","v":" "},{"$f":"IF(NP48=\" \",\" \",$BQ$6*HLOOKUP($ND$15,Līmeņatzīmes!$B$6:$AI$7,2,FALSE))","v":" "}]
["Ekspluatācijas un pārējās darbības izmaksas","EUR"," ",{"$f":"IF(OR(D$16=\" \",D$16=0),\" \",SUM(E54:P54))","v":" "},{"$f":"IF(E48=\" \",\" \",IF($C$28=\" \",$CD$6*$C$8/12,$C$28*(1+HLOOKUP($D$15,Līmeņatzīmes!$B$3:$AI$4,2,FALSE))))","v":" "},{"$f":"IF(F48=\" \",\" \",IF($C$28=\" \",$CD$6*$C$8/12,$C$28*(1+HLOOKUP($D$15,Līmeņatzīmes!$B$3:$AI$4,2,FALSE))))","v":" "},{"$f":"IF(G48=\" \",\" \",IF($C$28=\" \",$CD$6*$C$8/12,$C$28*(1+HLOOKUP($D$15,Līmeņatzīmes!$B$3:$AI$4,2,FALSE))))","v":" "},{"$f":"IF(H48=\" \",\" \",IF($C$28=\" \",$CD$6*$C$8/12,$C$28*(1+HLOOKUP($D$15,Līmeņatzīmes!$B$3:$AI$4,2,FALSE))))","v":" "},{"$f":"IF(I48=\" \",\" \",IF($C$28=\" \",$CD$6*$C$8/12,$C$28*(1+HLOOKUP($D$15,Līmeņatzīmes!$B$3:$AI$4,2,FALSE))))","v":" "},{"$f":"IF(J48=\" \",\" \",IF($C$28=\" \",$CD$6*$C$8/12,$C$28*(1+HLOOKUP($D$15,Līmeņatzīmes!$B$3:$AI$4,2,FALSE))))","v":" "},{"$f":"IF(K48=\" \",\" \",IF($C$28=\" \",$CD$6*$C$8/12,$C$28*(1+HLOOKUP($D$15,Līmeņatzīmes!$B$3:$AI$4,2,FALSE))))","v":" "},{"$f":"IF(L48=\" \",\" \",IF($C$28=\" \",$CD$6*$C$8/12,$C$28*(1+HLOOKUP($D$15,Līmeņatzīmes!$B$3:$AI$4,2,FALSE))))","v":" "},{"$f":"IF(M48=\" \",\" \",IF($C$28=\" \",$CD$6*$C$8/12,$C$28*(1+HLOOKUP($D$15,Līmeņatzīmes!$B$3:$AI$4,2,FALSE))))","v":" "},{"$f":"IF(N48=\" \",\" \",IF($C$28=\" \",$CD$6*$C$8/12,$C$28*(1+HLOOKUP($D$15,Līmeņatzīmes!$B$3:$AI$4,2,FALSE))))","v":" "},{"$f":"IF(O48=\" \",\" \",IF($C$28=\" \",$CD$6*$C$8/12,$C$28*(1+HLOOKUP($D$15,Līmeņatzīmes!$B$3:$AI$4,2,FALSE))))","v":" "},{"$f":"IF(P48=\" \",\" \",IF($C$28=\" \",$CD$6*$C$8/12,$C$28*(1+HLOOKUP($D$15,Līmeņatzīmes!$B$3:$AI$4,2,FALSE))))","v":" "},{"$f":"IF(OR(Q$16=\" \",Q$16=0),\" \",SUM(R54:AC54))","v":" "},{"$f":"IF(R48=\" \",\" \",IF($P$28=\" \",$CD$6*$C$8/12,$P$28*(1+HLOOKUP($Q$15,Līmeņatzīmes!$B$3:$AI$4,2,FALSE))))","v":" "},{"$f":"IF(S48=\" \",\" \",IF($P$28=\" \",$CD$6*$C$8/12,$P$28*(1+HLOOKUP($Q$15,Līmeņatzīmes!$B$3:$AI$4,2,FALSE))))","v":" "},{"$f":"IF(T48=\" \",\" \",IF($P$28=\" \",$CD$6*$C$8/12,$P$28*(1+HLOOKUP($Q$15,Līmeņatzīmes!$B$3:$AI$4,2,FALSE))))","v":" "},{"$f":"IF(U48=\" \",\" \",IF($P$28=\" \",$CD$6*$C$8/12,$P$28*(1+HLOOKUP($Q$15,Līmeņatzīmes!$B$3:$AI$4,2,FALSE))))","v":" "},{"$f":"IF(V48=\" \",\" \",IF($P$28=\" \",$CD$6*$C$8/12,$P$28*(1+HLOOKUP($Q$15,Līmeņatzīmes!$B$3:$AI$4,2,FALSE))))","v":" "},{"$f":"IF(W48=\" \",\" \",IF($P$28=\" \",$CD$6*$C$8/12,$P$28*(1+HLOOKUP($Q$15,Līmeņatzīmes!$B$3:$AI$4,2,FALSE))))","v":" "},{"$f":"IF(X48=\" \",\" \",IF($P$28=\" \",$CD$6*$C$8/12,$P$28*(1+HLOOKUP($Q$15,Līmeņatzīmes!$B$3:$AI$4,2,FALSE))))","v":" "},{"$f":"IF(Y48=\" \",\" \",IF($P$28=\" \",$CD$6*$C$8/12,$P$28*(1+HLOOKUP($Q$15,Līmeņatzīmes!$B$3:$AI$4,2,FALSE))))","v":" "},{"$f":"IF(Z48=\" \",\" \",IF($P$28=\" \",$CD$6*$C$8/12,$P$28*(1+HLOOKUP($Q$15,Līmeņatzīmes!$B$3:$AI$4,2,FALSE))))","v":" "},{"$f":"IF(AA48=\" \",\" \",IF($P$28=\" \",$CD$6*$C$8/12,$P$28*(1+HLOOKUP($Q$15,Līmeņatzīmes!$B$3:$AI$4,2,FALSE))))","v":" "},{"$f":"IF(AB48=\" \",\" \",IF($P$28=\" \",$CD$6*$C$8/12,$P$28*(1+HLOOKUP($Q$15,Līmeņatzīmes!$B$3:$AI$4,2,FALSE))))","v":" "},{"$f":"IF(AC48=\" \",\" \",IF($P$28=\" \",$CD$6*$C$8/12,$P$28*(1+HLOOKUP($Q$15,Līmeņatzīmes!$B$3:$AI$4,2,FALSE))))","v":" "},{"$f":"IF(OR(AD$16=\" \",AD$16=0),\" \",SUM(AE54:AP54))","v":" "},{"$f":"IF(AE48=\" \",\" \",IF($AC$28=\" \",$CD$6*$C$8/12,$AC$28*(1+HLOOKUP($AD$15,Līmeņatzīmes!$B$3:$AI$4,2,FALSE))))","v":" "},{"$f":"IF(AF48=\" \",\" \",IF($AC$28=\" \",$CD$6*$C$8/12,$AC$28*(1+HLOOKUP($AD$15,Līmeņatzīmes!$B$3:$AI$4,2,FALSE))))","v":" "},{"$f":"IF(AG48=\" \",\" \",IF($AC$28=\" \",$CD$6*$C$8/12,$AC$28*(1+HLOOKUP($AD$15,Līmeņatzīmes!$B$3:$AI$4,2,FALSE))))","v":" "},{"$f":"IF(AH48=\" \",\" \",IF($AC$28=\" \",$CD$6*$C$8/12,$AC$28*(1+HLOOKUP($AD$15,Līmeņatzīmes!$B$3:$AI$4,2,FALSE))))","v":" "},{"$f":"IF(AI48=\" \",\" \",IF($AC$28=\" \",$CD$6*$C$8/12,$AC$28*(1+HLOOKUP($AD$15,Līmeņatzīmes!$B$3:$AI$4,2,FALSE))))","v":" "},{"$f":"IF(AJ48=\" \",\" \",IF($AC$28=\" \",$CD$6*$C$8/12,$AC$28*(1+HLOOKUP($AD$15,Līmeņatzīmes!$B$3:$AI$4,2,FALSE))))","v":" "},{"$f":"IF(AK48=\" \",\" \",IF($AC$28=\" \",$CD$6*$C$8/12,$AC$28*(1+HLOOKUP($AD$15,Līmeņatzīmes!$B$3:$AI$4,2,FALSE))))","v":" "},{"$f":"IF(AL48=\" \",\" \",IF($AC$28=\" \",$CD$6*$C$8/12,$AC$28*(1+HLOOKUP($AD$15,Līmeņatzīmes!$B$3:$AI$4,2,FALSE))))","v":" "},{"$f":"IF(AM48=\" \",\" \",IF($AC$28=\" \",$CD$6*$C$8/12,$AC$28*(1+HLOOKUP($AD$15,Līmeņatzīmes!$B$3:$AI$4,2,FALSE))))","v":" "},{"$f":"IF(AN48=\" \",\" \",IF($AC$28=\" \",$CD$6*$C$8/12,$AC$28*(1+HLOOKUP($AD$15,Līmeņatzīmes!$B$3:$AI$4,2,FALSE))))","v":" "},{"$f":"IF(AO48=\" \",\" \",IF($AC$28=\" \",$CD$6*$C$8/12,$AC$28*(1+HLOOKUP($AD$15,Līmeņatzīmes!$B$3:$AI$4,2,FALSE))))","v":" "},{"$f":"IF(AP48=\" \",\" \",IF($AC$28=\" \",$CD$6*$C$8/12,$AC$28*(1+HLOOKUP($AD$15,Līmeņatzīmes!$B$3:$AI$4,2,FALSE))))","v":" "},{"$f":"IF(OR(AQ$16=\" \",AQ$16=0),\" \",SUM(AR54:BC54))","v":" "},{"$f":"IF(AR48=\" \",\" \",IF($AP$28=\" \",$CD$6*$C$8/12,$AP$28*(1+HLOOKUP($AQ$15,Līmeņatzīmes!$B$3:$AI$4,2,FALSE))))","v":" "},{"$f":"IF(AS48=\" \",\" \",IF($AP$28=\" \",$CD$6*$C$8/12,$AP$28*(1+HLOOKUP($AQ$15,Līmeņatzīmes!$B$3:$AI$4,2,FALSE))))","v":" "},{"$f":"IF(AT48=\" \",\" \",IF($AP$28=\" \",$CD$6*$C$8/12,$AP$28*(1+HLOOKUP($AQ$15,Līmeņatzīmes!$B$3:$AI$4,2,FALSE))))","v":" "},{"$f":"IF(AU48=\" \",\" \",IF($AP$28=\" \",$CD$6*$C$8/12,$AP$28*(1+HLOOKUP($AQ$15,Līmeņatzīmes!$B$3:$AI$4,2,FALSE))))","v":" "},{"$f":"IF(AV48=\" \",\" \",IF($AP$28=\" \",$CD$6*$C$8/12,$AP$28*(1+HLOOKUP($AQ$15,Līmeņatzīmes!$B$3:$AI$4,2,FALSE))))","v":" "},{"$f":"IF(AW48=\" \",\" \",IF($AP$28=\" \",$CD$6*$C$8/12,$AP$28*(1+HLOOKUP($AQ$15,Līmeņatzīmes!$B$3:$AI$4,2,FALSE))))","v":" "},{"$f":"IF(AX48=\" \",\" \",IF($AP$28=\" \",$CD$6*$C$8/12,$AP$28*(1+HLOOKUP($AQ$15,Līmeņatzīmes!$B$3:$AI$4,2,FALSE))))","v":" "},{"$f":"IF(AY48=\" \",\" \",IF($AP$28=\" \",$CD$6*$C$8/12,$AP$28*(1+HLOOKUP($AQ$15,Līmeņatzīmes!$B$3:$AI$4,2,FALSE))))","v":" "},{"$f":"IF(AZ48=\" \",\" \",IF($AP$28=\" \",$CD$6*$C$8/12,$AP$28*(1+HLOOKUP($AQ$15,Līmeņatzīmes!$B$3:$AI$4,2,FALSE))))","v":" "},{"$f":"IF(BA48=\" \",\" \",IF($AP$28=\" \",$CD$6*$C$8/12,$AP$28*(1+HLOOKUP($AQ$15,Līmeņatzīmes!$B$3:$AI$4,2,FALSE))))","v":" "},{"$f":"IF(BB48=\" \",\" \",IF($AP$28=\" \",$CD$6*$C$8/12,$AP$28*(1+HLOOKUP($AQ$15,Līmeņatzīmes!$B$3:$AI$4,2,FALSE))))","v":" "},{"$f":"IF(BC48=\" \",\" \",IF($AP$28=\" \",$CD$6*$C$8/12,$AP$28*(1+HLOOKUP($AQ$15,Līmeņatzīmes!$B$3:$AI$4,2,FALSE))))","v":" "},{"$f":"IF(OR(BD$16=\" \",BD$16=0),\" \",SUM(BE54:BP54))","v":" "},{"$f":"IF(BE48=\" \",\" \",IF($BC$28=\" \",$CD$6*$C$8/12,$BC$28*(1+HLOOKUP($BD$15,Līmeņatzīmes!$B$3:$AI$4,2,FALSE))))","v":" "},{"$f":"IF(BF48=\" \",\" \",IF($BC$28=\" \",$CD$6*$C$8/12,$BC$28*(1+HLOOKUP($BD$15,Līmeņatzīmes!$B$3:$AI$4,2,FALSE))))","v":" "},{"$f":"IF(BG48=\" \",\" \",IF($BC$28=\" \",$CD$6*$C$8/12,$BC$28*(1+HLOOKUP($BD$15,Līmeņatzīmes!$B$3:$AI$4,2,FALSE))))","v":" "},{"$f":"IF(BH48=\" \",\" \",IF($BC$28=\" \",$CD$6*$C$8/12,$BC$28*(1+HLOOKUP($BD$15,Līmeņatzīmes!$B$3:$AI$4,2,FALSE))))","v":" "},{"$f":"IF(BI48=\" \",\" \",IF($BC$28=\" \",$CD$6*$C$8/12,$BC$28*(1+HLOOKUP($BD$15,Līmeņatzīmes!$B$3:$AI$4,2,FALSE))))","v":" "},{"$f":"IF(BJ48=\" \",\" \",IF($BC$28=\" \",$CD$6*$C$8/12,$BC$28*(1+HLOOKUP($BD$15,Līmeņatzīmes!$B$3:$AI$4,2,FALSE))))","v":" "},{"$f":"IF(BK48=\" \",\" \",IF($BC$28=\" \",$CD$6*$C$8/12,$BC$28*(1+HLOOKUP($BD$15,Līmeņatzīmes!$B$3:$AI$4,2,FALSE))))","v":" "},{"$f":"IF(BL48=\" \",\" \",IF($BC$28=\" \",$CD$6*$C$8/12,$BC$28*(1+HLOOKUP($BD$15,Līmeņatzīmes!$B$3:$AI$4,2,FALSE))))","v":" "},{"$f":"IF(BM48=\" \",\" \",IF($BC$28=\" \",$CD$6*$C$8/12,$BC$28*(1+HLOOKUP($BD$15,Līmeņatzīmes!$B$3:$AI$4,2,FALSE))))","v":" "},{"$f":"IF(BN48=\" \",\" \",IF($BC$28=\" \",$CD$6*$C$8/12,$BC$28*(1+HLOOKUP($BD$15,Līmeņatzīmes!$B$3:$AI$4,2,FALSE))))","v":" "},{"$f":"IF(BO48=\" \",\" \",IF($BC$28=\" \",$CD$6*$C$8/12,$BC$28*(1+HLOOKUP($BD$15,Līmeņatzīmes!$B$3:$AI$4,2,FALSE))))","v":" "},{"$f":"IF(BP48=\" \",\" \",IF($BC$28=\" \",$CD$6*$C$8/12,$BC$28*(1+HLOOKUP($BD$15,Līmeņatzīmes!$B$3:$AI$4,2,FALSE))))","v":" "},{"$f":"IF(OR(BQ$16=\" \",BQ$16=0),\" \",SUM(BR54:CC54))","v":" "},{"$f":"IF(BR48=\" \",\" \",IF($BP$28=\" \",$CD$6*$C$8/12,$BP$28*(1+HLOOKUP($BQ$15,Līmeņatzīmes!$B$3:$AI$4,2,FALSE))))","v":" "},{"$f":"IF(BS48=\" \",\" \",IF($BP$28=\" \",$CD$6*$C$8/12,$BP$28*(1+HLOOKUP($BQ$15,Līmeņatzīmes!$B$3:$AI$4,2,FALSE))))","v":" "},{"$f":"IF(BT48=\" \",\" \",IF($BP$28=\" \",$CD$6*$C$8/12,$BP$28*(1+HLOOKUP($BQ$15,Līmeņatzīmes!$B$3:$AI$4,2,FALSE))))","v":" "},{"$f":"IF(BU48=\" \",\" \",IF($BP$28=\" \",$CD$6*$C$8/12,$BP$28*(1+HLOOKUP($BQ$15,Līmeņatzīmes!$B$3:$AI$4,2,FALSE))))","v":" "},{"$f":"IF(BV48=\" \",\" \",IF($BP$28=\" \",$CD$6*$C$8/12,$BP$28*(1+HLOOKUP($BQ$15,Līmeņatzīmes!$B$3:$AI$4,2,FALSE))))","v":" "},{"$f":"IF(BW48=\" \",\" \",IF($BP$28=\" \",$CD$6*$C$8/12,$BP$28*(1+HLOOKUP($BQ$15,Līmeņatzīmes!$B$3:$AI$4,2,FALSE))))","v":" "},{"$f":"IF(BX48=\" \",\" \",IF($BP$28=\" \",$CD$6*$C$8/12,$BP$28*(1+HLOOKUP($BQ$15,Līmeņatzīmes!$B$3:$AI$4,2,FALSE))))","v":" "},{"$f":"IF(BY48=\" \",\" \",IF($BP$28=\" \",$CD$6*$C$8/12,$BP$28*(1+HLOOKUP($BQ$15,Līmeņatzīmes!$B$3:$AI$4,2,FALSE))))","v":" "},{"$f":"IF(BZ48=\" \",\" \",IF($BP$28=\" \",$CD$6*$C$8/12,$BP$28*(1+HLOOKUP($BQ$15,Līmeņatzīmes!$B$3:$AI$4,2,FALSE))))","v":" "},{"$f":"IF(CA48=\" \",\" \",IF($BP$28=\" \",$CD$6*$C$8/12,$BP$28*(1+HLOOKUP($BQ$15,Līmeņatzīmes!$B$3:$AI$4,2,FALSE))))","v":" "},{"$f":"IF(CB48=\" \",\" \",IF($BP$28=\" \",$CD$6*$C$8/12,$BP$28*(1+HLOOKUP($BQ$15,Līmeņatzīmes!$B$3:$AI$4,2,FALSE))))","v":" "},{"$f":"IF(CC48=\" \",\" \",IF($BP$28=\" \",$CD$6*$C$8/12,$BP$28*(1+HLOOKUP($BQ$15,Līmeņatzīmes!$B$3:$AI$4,2,FALSE))))","v":" "},{"$f":"IF(OR(CD$16=\" \",CD$16=0),\" \",SUM(CE54:CP54))","v":" "},{"$f":"IF(CE48=\" \",\" \",IF($CC$28=\" \",$CD$6*$C$8/12,$CC$28*(1+HLOOKUP($CD$15,Līmeņatzīmes!$B$3:$AI$4,2,FALSE))))","v":" "},{"$f":"IF(CF48=\" \",\" \",IF($CC$28=\" \",$CD$6*$C$8/12,$CC$28*(1+HLOOKUP($CD$15,Līmeņatzīmes!$B$3:$AI$4,2,FALSE))))","v":" "},{"$f":"IF(CG48=\" \",\" \",IF($CC$28=\" \",$CD$6*$C$8/12,$CC$28*(1+HLOOKUP($CD$15,Līmeņatzīmes!$B$3:$AI$4,2,FALSE))))","v":" "},{"$f":"IF(CH48=\" \",\" \",IF($CC$28=\" \",$CD$6*$C$8/12,$CC$28*(1+HLOOKUP($CD$15,Līmeņatzīmes!$B$3:$AI$4,2,FALSE))))","v":" "},{"$f":"IF(CI48=\" \",\" \",IF($CC$28=\" \",$CD$6*$C$8/12,$CC$28*(1+HLOOKUP($CD$15,Līmeņatzīmes!$B$3:$AI$4,2,FALSE))))","v":" "},{"$f":"IF(CJ48=\" \",\" \",IF($CC$28=\" \",$CD$6*$C$8/12,$CC$28*(1+HLOOKUP($CD$15,Līmeņatzīmes!$B$3:$AI$4,2,FALSE))))","v":" "},{"$f":"IF(CK48=\" \",\" \",IF($CC$28=\" \",$CD$6*$C$8/12,$CC$28*(1+HLOOKUP($CD$15,Līmeņatzīmes!$B$3:$AI$4,2,FALSE))))","v":" "},{"$f":"IF(CL48=\" \",\" \",IF($CC$28=\" \",$CD$6*$C$8/12,$CC$28*(1+HLOOKUP($CD$15,Līmeņatzīmes!$B$3:$AI$4,2,FALSE))))","v":" "},{"$f":"IF(CM48=\" \",\" \",IF($CC$28=\" \",$CD$6*$C$8/12,$CC$28*(1+HLOOKUP($CD$15,Līmeņatzīmes!$B$3:$AI$4,2,FALSE))))","v":" "},{"$f":"IF(CN48=\" \",\" \",IF($CC$28=\" \",$CD$6*$C$8/12,$CC$28*(1+HLOOKUP($CD$15,Līmeņatzīmes!$B$3:$AI$4,2,FALSE))))","v":" "},{"$f":"IF(CO48=\" \",\" \",IF($CC$28=\" \",$CD$6*$C$8/12,$CC$28*(1+HLOOKUP($CD$15,Līmeņatzīmes!$B$3:$AI$4,2,FALSE))))","v":" "},{"$f":"IF(CP48=\" \",\" \",IF($CC$28=\" \",$CD$6*$C$8/12,$CC$28*(1+HLOOKUP($CD$15,Līmeņatzīmes!$B$3:$AI$4,2,FALSE))))","v":" "},{"$f":"IF(OR(CQ$16=\" \",CQ$16=0),\" \",SUM(CR54:DC54))","v":" "},{"$f":"IF(CR48=\" \",\" \",IF($CP$28=\" \",$CD$6*$C$8/12,$CP$28*(1+HLOOKUP($CQ$15,Līmeņatzīmes!$B$3:$AI$4,2,FALSE))))","v":" "},{"$f":"IF(CS48=\" \",\" \",IF($CP$28=\" \",$CD$6*$C$8/12,$CP$28*(1+HLOOKUP($CQ$15,Līmeņatzīmes!$B$3:$AI$4,2,FALSE))))","v":" "},{"$f":"IF(CT48=\" \",\" \",IF($CP$28=\" \",$CD$6*$C$8/12,$CP$28*(1+HLOOKUP($CQ$15,Līmeņatzīmes!$B$3:$AI$4,2,FALSE))))","v":" "},{"$f":"IF(CU48=\" \",\" \",IF($CP$28=\" \",$CD$6*$C$8/12,$CP$28*(1+HLOOKUP($CQ$15,Līmeņatzīmes!$B$3:$AI$4,2,FALSE))))","v":" "},{"$f":"IF(CV48=\" \",\" \",IF($CP$28=\" \",$CD$6*$C$8/12,$CP$28*(1+HLOOKUP($CQ$15,Līmeņatzīmes!$B$3:$AI$4,2,FALSE))))","v":" "},{"$f":"IF(CW48=\" \",\" \",IF($CP$28=\" \",$CD$6*$C$8/12,$CP$28*(1+HLOOKUP($CQ$15,Līmeņatzīmes!$B$3:$AI$4,2,FALSE))))","v":" "},{"$f":"IF(CX48=\" \",\" \",IF($CP$28=\" \",$CD$6*$C$8/12,$CP$28*(1+HLOOKUP($CQ$15,Līmeņatzīmes!$B$3:$AI$4,2,FALSE))))","v":" "},{"$f":"IF(CY48=\" \",\" \",IF($CP$28=\" \",$CD$6*$C$8/12,$CP$28*(1+HLOOKUP($CQ$15,Līmeņatzīmes!$B$3:$AI$4,2,FALSE))))","v":" "},{"$f":"IF(CZ48=\" \",\" \",IF($CP$28=\" \",$CD$6*$C$8/12,$CP$28*(1+HLOOKUP($CQ$15,Līmeņatzīmes!$B$3:$AI$4,2,FALSE))))","v":" "},{"$f":"IF(DA48=\" \",\" \",IF($CP$28=\" \",$CD$6*$C$8/12,$CP$28*(1+HLOOKUP($CQ$15,Līmeņatzīmes!$B$3:$AI$4,2,FALSE))))","v":" "},{"$f":"IF(DB48=\" \",\" \",IF($CP$28=\" \",$CD$6*$C$8/12,$CP$28*(1+HLOOKUP($CQ$15,Līmeņatzīmes!$B$3:$AI$4,2,FALSE))))","v":" "},{"$f":"IF(DC48=\" \",\" \",IF($CP$28=\" \",$CD$6*$C$8/12,$CP$28*(1+HLOOKUP($CQ$15,Līmeņatzīmes!$B$3:$AI$4,2,FALSE))))","v":" "},{"$f":"IF(OR(DD$16=\" \",DD$16=0),\" \",SUM(DE54:DP54))","v":" "},{"$f":"IF(DE48=\" \",\" \",IF($DC$28=\" \",$CD$6*$C$8/12,$DC$28*(1+HLOOKUP($DD$15,Līmeņatzīmes!$B$3:$AI$4,2,FALSE))))","v":" "},{"$f":"IF(DF48=\" \",\" \",IF($DC$28=\" \",$CD$6*$C$8/12,$DC$28*(1+HLOOKUP($DD$15,Līmeņatzīmes!$B$3:$AI$4,2,FALSE))))","v":" "},{"$f":"IF(DG48=\" \",\" \",IF($DC$28=\" \",$CD$6*$C$8/12,$DC$28*(1+HLOOKUP($DD$15,Līmeņatzīmes!$B$3:$AI$4,2,FALSE))))","v":" "},{"$f":"IF(DH48=\" \",\" \",IF($DC$28=\" \",$CD$6*$C$8/12,$DC$28*(1+HLOOKUP($DD$15,Līmeņatzīmes!$B$3:$AI$4,2,FALSE))))","v":" "},{"$f":"IF(DI48=\" \",\" \",IF($DC$28=\" \",$CD$6*$C$8/12,$DC$28*(1+HLOOKUP($DD$15,Līmeņatzīmes!$B$3:$AI$4,2,FALSE))))","v":" "},{"$f":"IF(DJ48=\" \",\" \",IF($DC$28=\" \",$CD$6*$C$8/12,$DC$28*(1+HLOOKUP($DD$15,Līmeņatzīmes!$B$3:$AI$4,2,FALSE))))","v":" "},{"$f":"IF(DK48=\" \",\" \",IF($DC$28=\" \",$CD$6*$C$8/12,$DC$28*(1+HLOOKUP($DD$15,Līmeņatzīmes!$B$3:$AI$4,2,FALSE))))","v":" "},{"$f":"IF(DL48=\" \",\" \",IF($DC$28=\" \",$CD$6*$C$8/12,$DC$28*(1+HLOOKUP($DD$15,Līmeņatzīmes!$B$3:$AI$4,2,FALSE))))","v":" "},{"$f":"IF(DM48=\" \",\" \",IF($DC$28=\" \",$CD$6*$C$8/12,$DC$28*(1+HLOOKUP($DD$15,Līmeņatzīmes!$B$3:$AI$4,2,FALSE))))","v":" "},{"$f":"IF(DN48=\" \",\" \",IF($DC$28=\" \",$CD$6*$C$8/12,$DC$28*(1+HLOOKUP($DD$15,Līmeņatzīmes!$B$3:$AI$4,2,FALSE))))","v":" "},{"$f":"IF(DO48=\" \",\" \",IF($DC$28=\" \",$CD$6*$C$8/12,$DC$28*(1+HLOOKUP($DD$15,Līmeņatzīmes!$B$3:$AI$4,2,FALSE))))","v":" "},{"$f":"IF(DP48=\" \",\" \",IF($DC$28=\" \",$CD$6*$C$8/12,$DC$28*(1+HLOOKUP($DD$15,Līmeņatzīmes!$B$3:$AI$4,2,FALSE))))","v":" "},{"$f":"IF(OR(DQ$16=\" \",DQ$16=0),\" \",SUM(DR54:EC54))","v":" "},{"$f":"IF(DR48=\" \",\" \",IF($DP$28=\" \",$CD$6*$C$8/12,$DP$28*(1+HLOOKUP($DQ$15,Līmeņatzīmes!$B$3:$AI$4,2,FALSE))))","v":" "},{"$f":"IF(DS48=\" \",\" \",IF($DP$28=\" \",$CD$6*$C$8/12,$DP$28*(1+HLOOKUP($DQ$15,Līmeņatzīmes!$B$3:$AI$4,2,FALSE))))","v":" "},{"$f":"IF(DT48=\" \",\" \",IF($DP$28=\" \",$CD$6*$C$8/12,$DP$28*(1+HLOOKUP($DQ$15,Līmeņatzīmes!$B$3:$AI$4,2,FALSE))))","v":" "},{"$f":"IF(DU48=\" \",\" \",IF($DP$28=\" \",$CD$6*$C$8/12,$DP$28*(1+HLOOKUP($DQ$15,Līmeņatzīmes!$B$3:$AI$4,2,FALSE))))","v":" "},{"$f":"IF(DV48=\" \",\" \",IF($DP$28=\" \",$CD$6*$C$8/12,$DP$28*(1+HLOOKUP($DQ$15,Līmeņatzīmes!$B$3:$AI$4,2,FALSE))))","v":" "},{"$f":"IF(DW48=\" \",\" \",IF($DP$28=\" \",$CD$6*$C$8/12,$DP$28*(1+HLOOKUP($DQ$15,Līmeņatzīmes!$B$3:$AI$4,2,FALSE))))","v":" "},{"$f":"IF(DX48=\" \",\" \",IF($DP$28=\" \",$CD$6*$C$8/12,$DP$28*(1+HLOOKUP($DQ$15,Līmeņatzīmes!$B$3:$AI$4,2,FALSE))))","v":" "},{"$f":"IF(DY48=\" \",\" \",IF($DP$28=\" \",$CD$6*$C$8/12,$DP$28*(1+HLOOKUP($DQ$15,Līmeņatzīmes!$B$3:$AI$4,2,FALSE))))","v":" "},{"$f":"IF(DZ48=\" \",\" \",IF($DP$28=\" \",$CD$6*$C$8/12,$DP$28*(1+HLOOKUP($DQ$15,Līmeņatzīmes!$B$3:$AI$4,2,FALSE))))","v":" "},{"$f":"IF(EA48=\" \",\" \",IF($DP$28=\" \",$CD$6*$C$8/12,$DP$28*(1+HLOOKUP($DQ$15,Līmeņatzīmes!$B$3:$AI$4,2,FALSE))))","v":" "},{"$f":"IF(EB48=\" \",\" \",IF($DP$28=\" \",$CD$6*$C$8/12,$DP$28*(1+HLOOKUP($DQ$15,Līmeņatzīmes!$B$3:$AI$4,2,FALSE))))","v":" "},{"$f":"IF(EC48=\" \",\" \",IF($DP$28=\" \",$CD$6*$C$8/12,$DP$28*(1+HLOOKUP($DQ$15,Līmeņatzīmes!$B$3:$AI$4,2,FALSE))))","v":" "},{"$f":"IF(OR(ED$16=\" \",ED$16=0),\" \",SUM(EE54:EP54))","v":" "},{"$f":"IF(EE48=\" \",\" \",IF($EC$28=\" \",$CD$6*$C$8/12,$EC$28*(1+HLOOKUP($ED$15,Līmeņatzīmes!$B$3:$AI$4,2,FALSE))))","v":" "},{"$f":"IF(EF48=\" \",\" \",IF($EC$28=\" \",$CD$6*$C$8/12,$EC$28*(1+HLOOKUP($ED$15,Līmeņatzīmes!$B$3:$AI$4,2,FALSE))))","v":" "},{"$f":"IF(EG48=\" \",\" \",IF($EC$28=\" \",$CD$6*$C$8/12,$EC$28*(1+HLOOKUP($ED$15,Līmeņatzīmes!$B$3:$AI$4,2,FALSE))))","v":" "},{"$f":"IF(EH48=\" \",\" \",IF($EC$28=\" \",$CD$6*$C$8/12,$EC$28*(1+HLOOKUP($ED$15,Līmeņatzīmes!$B$3:$AI$4,2,FALSE))))","v":" "},{"$f":"IF(EI48=\" \",\" \",IF($EC$28=\" \",$CD$6*$C$8/12,$EC$28*(1+HLOOKUP($ED$15,Līmeņatzīmes!$B$3:$AI$4,2,FALSE))))","v":" "},{"$f":"IF(EJ48=\" \",\" \",IF($EC$28=\" \",$CD$6*$C$8/12,$EC$28*(1+HLOOKUP($ED$15,Līmeņatzīmes!$B$3:$AI$4,2,FALSE))))","v":" "},{"$f":"IF(EK48=\" \",\" \",IF($EC$28=\" \",$CD$6*$C$8/12,$EC$28*(1+HLOOKUP($ED$15,Līmeņatzīmes!$B$3:$AI$4,2,FALSE))))","v":" "},{"$f":"IF(EL48=\" \",\" \",IF($EC$28=\" \",$CD$6*$C$8/12,$EC$28*(1+HLOOKUP($ED$15,Līmeņatzīmes!$B$3:$AI$4,2,FALSE))))","v":" "},{"$f":"IF(EM48=\" \",\" \",IF($EC$28=\" \",$CD$6*$C$8/12,$EC$28*(1+HLOOKUP($ED$15,Līmeņatzīmes!$B$3:$AI$4,2,FALSE))))","v":" "},{"$f":"IF(EN48=\" \",\" \",IF($EC$28=\" \",$CD$6*$C$8/12,$EC$28*(1+HLOOKUP($ED$15,Līmeņatzīmes!$B$3:$AI$4,2,FALSE))))","v":" "},{"$f":"IF(EO48=\" \",\" \",IF($EC$28=\" \",$CD$6*$C$8/12,$EC$28*(1+HLOOKUP($ED$15,Līmeņatzīmes!$B$3:$AI$4,2,FALSE))))","v":" "},{"$f":"IF(EP48=\" \",\" \",IF($EC$28=\" \",$CD$6*$C$8/12,$EC$28*(1+HLOOKUP($ED$15,Līmeņatzīmes!$B$3:$AI$4,2,FALSE))))","v":" "},{"$f":"IF(OR(EQ$16=\" \",EQ$16=0),\" \",SUM(ER54:FC54))","v":" "},{"$f":"IF(ER48=\" \",\" \",IF($EP$28=\" \",$CD$6*$C$8/12,$EP$28*(1+HLOOKUP($EQ$15,Līmeņatzīmes!$B$3:$AI$4,2,FALSE))))","v":" "},{"$f":"IF(ES48=\" \",\" \",IF($EP$28=\" \",$CD$6*$C$8/12,$EP$28*(1+HLOOKUP($EQ$15,Līmeņatzīmes!$B$3:$AI$4,2,FALSE))))","v":" "},{"$f":"IF(ET48=\" \",\" \",IF($EP$28=\" \",$CD$6*$C$8/12,$EP$28*(1+HLOOKUP($EQ$15,Līmeņatzīmes!$B$3:$AI$4,2,FALSE))))","v":" "},{"$f":"IF(EU48=\" \",\" \",IF($EP$28=\" \",$CD$6*$C$8/12,$EP$28*(1+HLOOKUP($EQ$15,Līmeņatzīmes!$B$3:$AI$4,2,FALSE))))","v":" "},{"$f":"IF(EV48=\" \",\" \",IF($EP$28=\" \",$CD$6*$C$8/12,$EP$28*(1+HLOOKUP($EQ$15,Līmeņatzīmes!$B$3:$AI$4,2,FALSE))))","v":" "},{"$f":"IF(EW48=\" \",\" \",IF($EP$28=\" \",$CD$6*$C$8/12,$EP$28*(1+HLOOKUP($EQ$15,Līmeņatzīmes!$B$3:$AI$4,2,FALSE))))","v":" "},{"$f":"IF(EX48=\" \",\" \",IF($EP$28=\" \",$CD$6*$C$8/12,$EP$28*(1+HLOOKUP($EQ$15,Līmeņatzīmes!$B$3:$AI$4,2,FALSE))))","v":" "},{"$f":"IF(EY48=\" \",\" \",IF($EP$28=\" \",$CD$6*$C$8/12,$EP$28*(1+HLOOKUP($EQ$15,Līmeņatzīmes!$B$3:$AI$4,2,FALSE))))","v":" "},{"$f":"IF(EZ48=\" \",\" \",IF($EP$28=\" \",$CD$6*$C$8/12,$EP$28*(1+HLOOKUP($EQ$15,Līmeņatzīmes!$B$3:$AI$4,2,FALSE))))","v":" "},{"$f":"IF(FA48=\" \",\" \",IF($EP$28=\" \",$CD$6*$C$8/12,$EP$28*(1+HLOOKUP($EQ$15,Līmeņatzīmes!$B$3:$AI$4,2,FALSE))))","v":" "},{"$f":"IF(FB48=\" \",\" \",IF($EP$28=\" \",$CD$6*$C$8/12,$EP$28*(1+HLOOKUP($EQ$15,Līmeņatzīmes!$B$3:$AI$4,2,FALSE))))","v":" "},{"$f":"IF(FC48=\" \",\" \",IF($EP$28=\" \",$CD$6*$C$8/12,$EP$28*(1+HLOOKUP($EQ$15,Līmeņatzīmes!$B$3:$AI$4,2,FALSE))))","v":" "},{"$f":"IF(OR(FD$16=\" \",FD$16=0),\" \",SUM(FE54:FP54))","v":" "},{"$f":"IF(FE48=\" \",\" \",IF($FC$28=\" \",$CD$6*$C$8/12,$FC$28*(1+HLOOKUP($FD$15,Līmeņatzīmes!$B$3:$AI$4,2,FALSE))))","v":" "},{"$f":"IF(FF48=\" \",\" \",IF($FC$28=\" \",$CD$6*$C$8/12,$FC$28*(1+HLOOKUP($FD$15,Līmeņatzīmes!$B$3:$AI$4,2,FALSE))))","v":" "},{"$f":"IF(FG48=\" \",\" \",IF($FC$28=\" \",$CD$6*$C$8/12,$FC$28*(1+HLOOKUP($FD$15,Līmeņatzīmes!$B$3:$AI$4,2,FALSE))))","v":" "},{"$f":"IF(FH48=\" \",\" \",IF($FC$28=\" \",$CD$6*$C$8/12,$FC$28*(1+HLOOKUP($FD$15,Līmeņatzīmes!$B$3:$AI$4,2,FALSE))))","v":" "},{"$f":"IF(FI48=\" \",\" \",IF($FC$28=\" \",$CD$6*$C$8/12,$FC$28*(1+HLOOKUP($FD$15,Līmeņatzīmes!$B$3:$AI$4,2,FALSE))))","v":" "},{"$f":"IF(FJ48=\" \",\" \",IF($FC$28=\" \",$CD$6*$C$8/12,$FC$28*(1+HLOOKUP($FD$15,Līmeņatzīmes!$B$3:$AI$4,2,FALSE))))","v":" "},{"$f":"IF(FK48=\" \",\" \",IF($FC$28=\" \",$CD$6*$C$8/12,$FC$28*(1+HLOOKUP($FD$15,Līmeņatzīmes!$B$3:$AI$4,2,FALSE))))","v":" "},{"$f":"IF(FL48=\" \",\" \",IF($FC$28=\" \",$CD$6*$C$8/12,$FC$28*(1+HLOOKUP($FD$15,Līmeņatzīmes!$B$3:$AI$4,2,FALSE))))","v":" "},{"$f":"IF(FM48=\" \",\" \",IF($FC$28=\" \",$CD$6*$C$8/12,$FC$28*(1+HLOOKUP($FD$15,Līmeņatzīmes!$B$3:$AI$4,2,FALSE))))","v":" "},{"$f":"IF(FN48=\" \",\" \",IF($FC$28=\" \",$CD$6*$C$8/12,$FC$28*(1+HLOOKUP($FD$15,Līmeņatzīmes!$B$3:$AI$4,2,FALSE))))","v":" "},{"$f":"IF(FO48=\" \",\" \",IF($FC$28=\" \",$CD$6*$C$8/12,$FC$28*(1+HLOOKUP($FD$15,Līmeņatzīmes!$B$3:$AI$4,2,FALSE))))","v":" "},{"$f":"IF(FP48=\" \",\" \",IF($FC$28=\" \",$CD$6*$C$8/12,$FC$28*(1+HLOOKUP($FD$15,Līmeņatzīmes!$B$3:$AI$4,2,FALSE))))","v":" "},{"$f":"IF(OR(FQ$16=\" \",FQ$16=0),\" \",SUM(FR54:GC54))","v":" "},{"$f":"IF(FR48=\" \",\" \",IF($FP$28=\" \",$CD$6*$C$8/12,$FP$28*(1+HLOOKUP($FQ$15,Līmeņatzīmes!$B$3:$AI$4,2,FALSE))))","v":" "},{"$f":"IF(FS48=\" \",\" \",IF($FP$28=\" \",$CD$6*$C$8/12,$FP$28*(1+HLOOKUP($FQ$15,Līmeņatzīmes!$B$3:$AI$4,2,FALSE))))","v":" "},{"$f":"IF(FT48=\" \",\" \",IF($FP$28=\" \",$CD$6*$C$8/12,$FP$28*(1+HLOOKUP($FQ$15,Līmeņatzīmes!$B$3:$AI$4,2,FALSE))))","v":" "},{"$f":"IF(FU48=\" \",\" \",IF($FP$28=\" \",$CD$6*$C$8/12,$FP$28*(1+HLOOKUP($FQ$15,Līmeņatzīmes!$B$3:$AI$4,2,FALSE))))","v":" "},{"$f":"IF(FV48=\" \",\" \",IF($FP$28=\" \",$CD$6*$C$8/12,$FP$28*(1+HLOOKUP($FQ$15,Līmeņatzīmes!$B$3:$AI$4,2,FALSE))))","v":" "},{"$f":"IF(FW48=\" \",\" \",IF($FP$28=\" \",$CD$6*$C$8/12,$FP$28*(1+HLOOKUP($FQ$15,Līmeņatzīmes!$B$3:$AI$4,2,FALSE))))","v":" "},{"$f":"IF(FX48=\" \",\" \",IF($FP$28=\" \",$CD$6*$C$8/12,$FP$28*(1+HLOOKUP($FQ$15,Līmeņatzīmes!$B$3:$AI$4,2,FALSE))))","v":" "},{"$f":"IF(FY48=\" \",\" \",IF($FP$28=\" \",$CD$6*$C$8/12,$FP$28*(1+HLOOKUP($FQ$15,Līmeņatzīmes!$B$3:$AI$4,2,FALSE))))","v":" "},{"$f":"IF(FZ48=\" \",\" \",IF($FP$28=\" \",$CD$6*$C$8/12,$FP$28*(1+HLOOKUP($FQ$15,Līmeņatzīmes!$B$3:$AI$4,2,FALSE))))","v":" "},{"$f":"IF(GA48=\" \",\" \",IF($FP$28=\" \",$CD$6*$C$8/12,$FP$28*(1+HLOOKUP($FQ$15,Līmeņatzīmes!$B$3:$AI$4,2,FALSE))))","v":" "},{"$f":"IF(GB48=\" \",\" \",IF($FP$28=\" \",$CD$6*$C$8/12,$FP$28*(1+HLOOKUP($FQ$15,Līmeņatzīmes!$B$3:$AI$4,2,FALSE))))","v":" "},{"$f":"IF(GC48=\" \",\" \",IF($FP$28=\" \",$CD$6*$C$8/12,$FP$28*(1+HLOOKUP($FQ$15,Līmeņatzīmes!$B$3:$AI$4,2,FALSE))))","v":" "},{"$f":"IF(OR(GD$16=\" \",GD$16=0),\" \",SUM(GE54:GP54))","v":" "},{"$f":"IF(GE48=\" \",\" \",IF($GC$28=\" \",$CD$6*$C$8/12,$GC$28*(1+HLOOKUP($GD$15,Līmeņatzīmes!$B$3:$AI$4,2,FALSE))))","v":" "},{"$f":"IF(GF48=\" \",\" \",IF($GC$28=\" \",$CD$6*$C$8/12,$GC$28*(1+HLOOKUP($GD$15,Līmeņatzīmes!$B$3:$AI$4,2,FALSE))))","v":" "},{"$f":"IF(GG48=\" \",\" \",IF($GC$28=\" \",$CD$6*$C$8/12,$GC$28*(1+HLOOKUP($GD$15,Līmeņatzīmes!$B$3:$AI$4,2,FALSE))))","v":" "},{"$f":"IF(GH48=\" \",\" \",IF($GC$28=\" \",$CD$6*$C$8/12,$GC$28*(1+HLOOKUP($GD$15,Līmeņatzīmes!$B$3:$AI$4,2,FALSE))))","v":" "},{"$f":"IF(GI48=\" \",\" \",IF($GC$28=\" \",$CD$6*$C$8/12,$GC$28*(1+HLOOKUP($GD$15,Līmeņatzīmes!$B$3:$AI$4,2,FALSE))))","v":" "},{"$f":"IF(GJ48=\" \",\" \",IF($GC$28=\" \",$CD$6*$C$8/12,$GC$28*(1+HLOOKUP($GD$15,Līmeņatzīmes!$B$3:$AI$4,2,FALSE))))","v":" "},{"$f":"IF(GK48=\" \",\" \",IF($GC$28=\" \",$CD$6*$C$8/12,$GC$28*(1+HLOOKUP($GD$15,Līmeņatzīmes!$B$3:$AI$4,2,FALSE))))","v":" "},{"$f":"IF(GL48=\" \",\" \",IF($GC$28=\" \",$CD$6*$C$8/12,$GC$28*(1+HLOOKUP($GD$15,Līmeņatzīmes!$B$3:$AI$4,2,FALSE))))","v":" "},{"$f":"IF(GM48=\" \",\" \",IF($GC$28=\" \",$CD$6*$C$8/12,$GC$28*(1+HLOOKUP($GD$15,Līmeņatzīmes!$B$3:$AI$4,2,FALSE))))","v":" "},{"$f":"IF(GN48=\" \",\" \",IF($GC$28=\" \",$CD$6*$C$8/12,$GC$28*(1+HLOOKUP($GD$15,Līmeņatzīmes!$B$3:$AI$4,2,FALSE))))","v":" "},{"$f":"IF(GO48=\" \",\" \",IF($GC$28=\" \",$CD$6*$C$8/12,$GC$28*(1+HLOOKUP($GD$15,Līmeņatzīmes!$B$3:$AI$4,2,FALSE))))","v":" "},{"$f":"IF(GP48=\" \",\" \",IF($GC$28=\" \",$CD$6*$C$8/12,$GC$28*(1+HLOOKUP($GD$15,Līmeņatzīmes!$B$3:$AI$4,2,FALSE))))","v":" "},{"$f":"IF(OR(GQ$16=\" \",GQ$16=0),\" \",SUM(GR54:HC54))","v":" "},{"$f":"IF(GR48=\" \",\" \",IF($GP$28=\" \",$CD$6*$C$8/12,$GP$28*(1+HLOOKUP($GQ$15,Līmeņatzīmes!$B$3:$AI$4,2,FALSE))))","v":" "},{"$f":"IF(GS48=\" \",\" \",IF($GP$28=\" \",$CD$6*$C$8/12,$GP$28*(1+HLOOKUP($GQ$15,Līmeņatzīmes!$B$3:$AI$4,2,FALSE))))","v":" "},{"$f":"IF(GT48=\" \",\" \",IF($GP$28=\" \",$CD$6*$C$8/12,$GP$28*(1+HLOOKUP($GQ$15,Līmeņatzīmes!$B$3:$AI$4,2,FALSE))))","v":" "},{"$f":"IF(GU48=\" \",\" \",IF($GP$28=\" \",$CD$6*$C$8/12,$GP$28*(1+HLOOKUP($GQ$15,Līmeņatzīmes!$B$3:$AI$4,2,FALSE))))","v":" "},{"$f":"IF(GV48=\" \",\" \",IF($GP$28=\" \",$CD$6*$C$8/12,$GP$28*(1+HLOOKUP($GQ$15,Līmeņatzīmes!$B$3:$AI$4,2,FALSE))))","v":" "},{"$f":"IF(GW48=\" \",\" \",IF($GP$28=\" \",$CD$6*$C$8/12,$GP$28*(1+HLOOKUP($GQ$15,Līmeņatzīmes!$B$3:$AI$4,2,FALSE))))","v":" "},{"$f":"IF(GX48=\" \",\" \",IF($GP$28=\" \",$CD$6*$C$8/12,$GP$28*(1+HLOOKUP($GQ$15,Līmeņatzīmes!$B$3:$AI$4,2,FALSE))))","v":" "},{"$f":"IF(GY48=\" \",\" \",IF($GP$28=\" \",$CD$6*$C$8/12,$GP$28*(1+HLOOKUP($GQ$15,Līmeņatzīmes!$B$3:$AI$4,2,FALSE))))","v":" "},{"$f":"IF(GZ48=\" \",\" \",IF($GP$28=\" \",$CD$6*$C$8/12,$GP$28*(1+HLOOKUP($GQ$15,Līmeņatzīmes!$B$3:$AI$4,2,FALSE))))","v":" "},{"$f":"IF(HA48=\" \",\" \",IF($GP$28=\" \",$CD$6*$C$8/12,$GP$28*(1+HLOOKUP($GQ$15,Līmeņatzīmes!$B$3:$AI$4,2,FALSE))))","v":" "},{"$f":"IF(HB48=\" \",\" \",IF($GP$28=\" \",$CD$6*$C$8/12,$GP$28*(1+HLOOKUP($GQ$15,Līmeņatzīmes!$B$3:$AI$4,2,FALSE))))","v":" "},{"$f":"IF(HC48=\" \",\" \",IF($GP$28=\" \",$CD$6*$C$8/12,$GP$28*(1+HLOOKUP($GQ$15,Līmeņatzīmes!$B$3:$AI$4,2,FALSE))))","v":" "},{"$f":"IF(OR(HD$16=\" \",HD$16=0),\" \",SUM(HE54:HP54))","v":" "},{"$f":"IF(HE48=\" \",\" \",IF($HC$28=\" \",$CD$6*$C$8/12,$HC$28*(1+HLOOKUP($HD$15,Līmeņatzīmes!$B$3:$AI$4,2,FALSE))))","v":" "},{"$f":"IF(HF48=\" \",\" \",IF($HC$28=\" \",$CD$6*$C$8/12,$HC$28*(1+HLOOKUP($HD$15,Līmeņatzīmes!$B$3:$AI$4,2,FALSE))))","v":" "},{"$f":"IF(HG48=\" \",\" \",IF($HC$28=\" \",$CD$6*$C$8/12,$HC$28*(1+HLOOKUP($HD$15,Līmeņatzīmes!$B$3:$AI$4,2,FALSE))))","v":" "},{"$f":"IF(HH48=\" \",\" \",IF($HC$28=\" \",$CD$6*$C$8/12,$HC$28*(1+HLOOKUP($HD$15,Līmeņatzīmes!$B$3:$AI$4,2,FALSE))))","v":" "},{"$f":"IF(HI48=\" \",\" \",IF($HC$28=\" \",$CD$6*$C$8/12,$HC$28*(1+HLOOKUP($HD$15,Līmeņatzīmes!$B$3:$AI$4,2,FALSE))))","v":" "},{"$f":"IF(HJ48=\" \",\" \",IF($HC$28=\" \",$CD$6*$C$8/12,$HC$28*(1+HLOOKUP($HD$15,Līmeņatzīmes!$B$3:$AI$4,2,FALSE))))","v":" "},{"$f":"IF(HK48=\" \",\" \",IF($HC$28=\" \",$CD$6*$C$8/12,$HC$28*(1+HLOOKUP($HD$15,Līmeņatzīmes!$B$3:$AI$4,2,FALSE))))","v":" "},{"$f":"IF(HL48=\" \",\" \",IF($HC$28=\" \",$CD$6*$C$8/12,$HC$28*(1+HLOOKUP($HD$15,Līmeņatzīmes!$B$3:$AI$4,2,FALSE))))","v":" "},{"$f":"IF(HM48=\" \",\" \",IF($HC$28=\" \",$CD$6*$C$8/12,$HC$28*(1+HLOOKUP($HD$15,Līmeņatzīmes!$B$3:$AI$4,2,FALSE))))","v":" "},{"$f":"IF(HN48=\" \",\" \",IF($HC$28=\" \",$CD$6*$C$8/12,$HC$28*(1+HLOOKUP($HD$15,Līmeņatzīmes!$B$3:$AI$4,2,FALSE))))","v":" "},{"$f":"IF(HO48=\" \",\" \",IF($HC$28=\" \",$CD$6*$C$8/12,$HC$28*(1+HLOOKUP($HD$15,Līmeņatzīmes!$B$3:$AI$4,2,FALSE))))","v":" "},{"$f":"IF(HP48=\" \",\" \",IF($HC$28=\" \",$CD$6*$C$8/12,$HC$28*(1+HLOOKUP($HD$15,Līmeņatzīmes!$B$3:$AI$4,2,FALSE))))","v":" "},{"$f":"IF(OR(HQ$16=\" \",HQ$16=0),\" \",SUM(HR54:IC54))","v":" "},{"$f":"IF(HR48=\" \",\" \",IF($HP$28=\" \",$CD$6*$C$8/12,$HP$28*(1+HLOOKUP($HQ$15,Līmeņatzīmes!$B$3:$AI$4,2,FALSE))))","v":" "},{"$f":"IF(HS48=\" \",\" \",IF($HP$28=\" \",$CD$6*$C$8/12,$HP$28*(1+HLOOKUP($HQ$15,Līmeņatzīmes!$B$3:$AI$4,2,FALSE))))","v":" "},{"$f":"IF(HT48=\" \",\" \",IF($HP$28=\" \",$CD$6*$C$8/12,$HP$28*(1+HLOOKUP($HQ$15,Līmeņatzīmes!$B$3:$AI$4,2,FALSE))))","v":" "},{"$f":"IF(HU48=\" \",\" \",IF($HP$28=\" \",$CD$6*$C$8/12,$HP$28*(1+HLOOKUP($HQ$15,Līmeņatzīmes!$B$3:$AI$4,2,FALSE))))","v":" "},{"$f":"IF(HV48=\" \",\" \",IF($HP$28=\" \",$CD$6*$C$8/12,$HP$28*(1+HLOOKUP($HQ$15,Līmeņatzīmes!$B$3:$AI$4,2,FALSE))))","v":" "},{"$f":"IF(HW48=\" \",\" \",IF($HP$28=\" \",$CD$6*$C$8/12,$HP$28*(1+HLOOKUP($HQ$15,Līmeņatzīmes!$B$3:$AI$4,2,FALSE))))","v":" "},{"$f":"IF(HX48=\" \",\" \",IF($HP$28=\" \",$CD$6*$C$8/12,$HP$28*(1+HLOOKUP($HQ$15,Līmeņatzīmes!$B$3:$AI$4,2,FALSE))))","v":" "},{"$f":"IF(HY48=\" \",\" \",IF($HP$28=\" \",$CD$6*$C$8/12,$HP$28*(1+HLOOKUP($HQ$15,Līmeņatzīmes!$B$3:$AI$4,2,FALSE))))","v":" "},{"$f":"IF(HZ48=\" \",\" \",IF($HP$28=\" \",$CD$6*$C$8/12,$HP$28*(1+HLOOKUP($HQ$15,Līmeņatzīmes!$B$3:$AI$4,2,FALSE))))","v":" "},{"$f":"IF(IA48=\" \",\" \",IF($HP$28=\" \",$CD$6*$C$8/12,$HP$28*(1+HLOOKUP($HQ$15,Līmeņatzīmes!$B$3:$AI$4,2,FALSE))))","v":" "},{"$f":"IF(IB48=\" \",\" \",IF($HP$28=\" \",$CD$6*$C$8/12,$HP$28*(1+HLOOKUP($HQ$15,Līmeņatzīmes!$B$3:$AI$4,2,FALSE))))","v":" "},{"$f":"IF(IC48=\" \",\" \",IF($HP$28=\" \",$CD$6*$C$8/12,$HP$28*(1+HLOOKUP($HQ$15,Līmeņatzīmes!$B$3:$AI$4,2,FALSE))))","v":" "},{"$f":"IF(OR(ID$16=\" \",ID$16=0),\" \",SUM(IE54:IP54))","v":" "},{"$f":"IF(IE48=\" \",\" \",IF($IC$28=\" \",$CD$6*$C$8/12,$IC$28*(1+HLOOKUP($ID$15,Līmeņatzīmes!$B$3:$AI$4,2,FALSE))))","v":" "},{"$f":"IF(IF48=\" \",\" \",IF($IC$28=\" \",$CD$6*$C$8/12,$IC$28*(1+HLOOKUP($ID$15,Līmeņatzīmes!$B$3:$AI$4,2,FALSE))))","v":" "},{"$f":"IF(IG48=\" \",\" \",IF($IC$28=\" \",$CD$6*$C$8/12,$IC$28*(1+HLOOKUP($ID$15,Līmeņatzīmes!$B$3:$AI$4,2,FALSE))))","v":" "},{"$f":"IF(IH48=\" \",\" \",IF($IC$28=\" \",$CD$6*$C$8/12,$IC$28*(1+HLOOKUP($ID$15,Līmeņatzīmes!$B$3:$AI$4,2,FALSE))))","v":" "},{"$f":"IF(II48=\" \",\" \",IF($IC$28=\" \",$CD$6*$C$8/12,$IC$28*(1+HLOOKUP($ID$15,Līmeņatzīmes!$B$3:$AI$4,2,FALSE))))","v":" "},{"$f":"IF(IJ48=\" \",\" \",IF($IC$28=\" \",$CD$6*$C$8/12,$IC$28*(1+HLOOKUP($ID$15,Līmeņatzīmes!$B$3:$AI$4,2,FALSE))))","v":" "},{"$f":"IF(IK48=\" \",\" \",IF($IC$28=\" \",$CD$6*$C$8/12,$IC$28*(1+HLOOKUP($ID$15,Līmeņatzīmes!$B$3:$AI$4,2,FALSE))))","v":" "},{"$f":"IF(IL48=\" \",\" \",IF($IC$28=\" \",$CD$6*$C$8/12,$IC$28*(1+HLOOKUP($ID$15,Līmeņatzīmes!$B$3:$AI$4,2,FALSE))))","v":" "},{"$f":"IF(IM48=\" \",\" \",IF($IC$28=\" \",$CD$6*$C$8/12,$IC$28*(1+HLOOKUP($ID$15,Līmeņatzīmes!$B$3:$AI$4,2,FALSE))))","v":" "},{"$f":"IF(IN48=\" \",\" \",IF($IC$28=\" \",$CD$6*$C$8/12,$IC$28*(1+HLOOKUP($ID$15,Līmeņatzīmes!$B$3:$AI$4,2,FALSE))))","v":" "},{"$f":"IF(IO48=\" \",\" \",IF($IC$28=\" \",$CD$6*$C$8/12,$IC$28*(1+HLOOKUP($ID$15,Līmeņatzīmes!$B$3:$AI$4,2,FALSE))))","v":" "},{"$f":"IF(IP48=\" \",\" \",IF($IC$28=\" \",$CD$6*$C$8/12,$IC$28*(1+HLOOKUP($ID$15,Līmeņatzīmes!$B$3:$AI$4,2,FALSE))))","v":" "},{"$f":"IF(OR(IQ$16=\" \",IQ$16=0),\" \",SUM(IR54:JC54))","v":" "},{"$f":"IF(IR48=\" \",\" \",IF($IP$28=\" \",$CD$6*$C$8/12,$IP$28*(1+HLOOKUP($IQ$15,Līmeņatzīmes!$B$3:$AI$4,2,FALSE))))","v":" "},{"$f":"IF(IS48=\" \",\" \",IF($IP$28=\" \",$CD$6*$C$8/12,$IP$28*(1+HLOOKUP($IQ$15,Līmeņatzīmes!$B$3:$AI$4,2,FALSE))))","v":" "},{"$f":"IF(IT48=\" \",\" \",IF($IP$28=\" \",$CD$6*$C$8/12,$IP$28*(1+HLOOKUP($IQ$15,Līmeņatzīmes!$B$3:$AI$4,2,FALSE))))","v":" "},{"$f":"IF(IU48=\" \",\" \",IF($IP$28=\" \",$CD$6*$C$8/12,$IP$28*(1+HLOOKUP($IQ$15,Līmeņatzīmes!$B$3:$AI$4,2,FALSE))))","v":" "},{"$f":"IF(IV48=\" \",\" \",IF($IP$28=\" \",$CD$6*$C$8/12,$IP$28*(1+HLOOKUP($IQ$15,Līmeņatzīmes!$B$3:$AI$4,2,FALSE))))","v":" "},{"$f":"IF(IW48=\" \",\" \",IF($IP$28=\" \",$CD$6*$C$8/12,$IP$28*(1+HLOOKUP($IQ$15,Līmeņatzīmes!$B$3:$AI$4,2,FALSE))))","v":" "},{"$f":"IF(IX48=\" \",\" \",IF($IP$28=\" \",$CD$6*$C$8/12,$IP$28*(1+HLOOKUP($IQ$15,Līmeņatzīmes!$B$3:$AI$4,2,FALSE))))","v":" "},{"$f":"IF(IY48=\" \",\" \",IF($IP$28=\" \",$CD$6*$C$8/12,$IP$28*(1+HLOOKUP($IQ$15,Līmeņatzīmes!$B$3:$AI$4,2,FALSE))))","v":" "},{"$f":"IF(IZ48=\" \",\" \",IF($IP$28=\" \",$CD$6*$C$8/12,$IP$28*(1+HLOOKUP($IQ$15,Līmeņatzīmes!$B$3:$AI$4,2,FALSE))))","v":" "},{"$f":"IF(JA48=\" \",\" \",IF($IP$28=\" \",$CD$6*$C$8/12,$IP$28*(1+HLOOKUP($IQ$15,Līmeņatzīmes!$B$3:$AI$4,2,FALSE))))","v":" "},{"$f":"IF(JB48=\" \",\" \",IF($IP$28=\" \",$CD$6*$C$8/12,$IP$28*(1+HLOOKUP($IQ$15,Līmeņatzīmes!$B$3:$AI$4,2,FALSE))))","v":" "},{"$f":"IF(JC48=\" \",\" \",IF($IP$28=\" \",$CD$6*$C$8/12,$IP$28*(1+HLOOKUP($IQ$15,Līmeņatzīmes!$B$3:$AI$4,2,FALSE))))","v":" "},{"$f":"IF(OR(JD$16=\" \",JD$16=0),\" \",SUM(JE54:JP54))","v":" "},{"$f":"IF(JE48=\" \",\" \",IF($JC$28=\" \",$CD$6*$C$8/12,$JC$28*(1+HLOOKUP($JD$15,Līmeņatzīmes!$B$3:$AI$4,2,FALSE))))","v":" "},{"$f":"IF(JF48=\" \",\" \",IF($JC$28=\" \",$CD$6*$C$8/12,$JC$28*(1+HLOOKUP($JD$15,Līmeņatzīmes!$B$3:$AI$4,2,FALSE))))","v":" "},{"$f":"IF(JG48=\" \",\" \",IF($JC$28=\" \",$CD$6*$C$8/12,$JC$28*(1+HLOOKUP($JD$15,Līmeņatzīmes!$B$3:$AI$4,2,FALSE))))","v":" "},{"$f":"IF(JH48=\" \",\" \",IF($JC$28=\" \",$CD$6*$C$8/12,$JC$28*(1+HLOOKUP($JD$15,Līmeņatzīmes!$B$3:$AI$4,2,FALSE))))","v":" "},{"$f":"IF(JI48=\" \",\" \",IF($JC$28=\" \",$CD$6*$C$8/12,$JC$28*(1+HLOOKUP($JD$15,Līmeņatzīmes!$B$3:$AI$4,2,FALSE))))","v":" "},{"$f":"IF(JJ48=\" \",\" \",IF($JC$28=\" \",$CD$6*$C$8/12,$JC$28*(1+HLOOKUP($JD$15,Līmeņatzīmes!$B$3:$AI$4,2,FALSE))))","v":" "},{"$f":"IF(JK48=\" \",\" \",IF($JC$28=\" \",$CD$6*$C$8/12,$JC$28*(1+HLOOKUP($JD$15,Līmeņatzīmes!$B$3:$AI$4,2,FALSE))))","v":" "},{"$f":"IF(JL48=\" \",\" \",IF($JC$28=\" \",$CD$6*$C$8/12,$JC$28*(1+HLOOKUP($JD$15,Līmeņatzīmes!$B$3:$AI$4,2,FALSE))))","v":" "},{"$f":"IF(JM48=\" \",\" \",IF($JC$28=\" \",$CD$6*$C$8/12,$JC$28*(1+HLOOKUP($JD$15,Līmeņatzīmes!$B$3:$AI$4,2,FALSE))))","v":" "},{"$f":"IF(JN48=\" \",\" \",IF($JC$28=\" \",$CD$6*$C$8/12,$JC$28*(1+HLOOKUP($JD$15,Līmeņatzīmes!$B$3:$AI$4,2,FALSE))))","v":" "},{"$f":"IF(JO48=\" \",\" \",IF($JC$28=\" \",$CD$6*$C$8/12,$JC$28*(1+HLOOKUP($JD$15,Līmeņatzīmes!$B$3:$AI$4,2,FALSE))))","v":" "},{"$f":"IF(JP48=\" \",\" \",IF($JC$28=\" \",$CD$6*$C$8/12,$JC$28*(1+HLOOKUP($JD$15,Līmeņatzīmes!$B$3:$AI$4,2,FALSE))))","v":" "},{"$f":"IF(OR(JQ$16=\" \",JQ$16=0),\" \",SUM(JR54:KC54))","v":" "},{"$f":"IF(JR48=\" \",\" \",IF($JP$28=\" \",$CD$6*$C$8/12,$JP$28*(1+HLOOKUP($JQ$15,Līmeņatzīmes!$B$3:$AI$4,2,FALSE))))","v":" "},{"$f":"IF(JS48=\" \",\" \",IF($JP$28=\" \",$CD$6*$C$8/12,$JP$28*(1+HLOOKUP($JQ$15,Līmeņatzīmes!$B$3:$AI$4,2,FALSE))))","v":" "},{"$f":"IF(JT48=\" \",\" \",IF($JP$28=\" \",$CD$6*$C$8/12,$JP$28*(1+HLOOKUP($JQ$15,Līmeņatzīmes!$B$3:$AI$4,2,FALSE))))","v":" "},{"$f":"IF(JU48=\" \",\" \",IF($JP$28=\" \",$CD$6*$C$8/12,$JP$28*(1+HLOOKUP($JQ$15,Līmeņatzīmes!$B$3:$AI$4,2,FALSE))))","v":" "},{"$f":"IF(JV48=\" \",\" \",IF($JP$28=\" \",$CD$6*$C$8/12,$JP$28*(1+HLOOKUP($JQ$15,Līmeņatzīmes!$B$3:$AI$4,2,FALSE))))","v":" "},{"$f":"IF(JW48=\" \",\" \",IF($JP$28=\" \",$CD$6*$C$8/12,$JP$28*(1+HLOOKUP($JQ$15,Līmeņatzīmes!$B$3:$AI$4,2,FALSE))))","v":" "},{"$f":"IF(JX48=\" \",\" \",IF($JP$28=\" \",$CD$6*$C$8/12,$JP$28*(1+HLOOKUP($JQ$15,Līmeņatzīmes!$B$3:$AI$4,2,FALSE))))","v":" "},{"$f":"IF(JY48=\" \",\" \",IF($JP$28=\" \",$CD$6*$C$8/12,$JP$28*(1+HLOOKUP($JQ$15,Līmeņatzīmes!$B$3:$AI$4,2,FALSE))))","v":" "},{"$f":"IF(JZ48=\" \",\" \",IF($JP$28=\" \",$CD$6*$C$8/12,$JP$28*(1+HLOOKUP($JQ$15,Līmeņatzīmes!$B$3:$AI$4,2,FALSE))))","v":" "},{"$f":"IF(KA48=\" \",\" \",IF($JP$28=\" \",$CD$6*$C$8/12,$JP$28*(1+HLOOKUP($JQ$15,Līmeņatzīmes!$B$3:$AI$4,2,FALSE))))","v":" "},{"$f":"IF(KB48=\" \",\" \",IF($JP$28=\" \",$CD$6*$C$8/12,$JP$28*(1+HLOOKUP($JQ$15,Līmeņatzīmes!$B$3:$AI$4,2,FALSE))))","v":" "},{"$f":"IF(KC48=\" \",\" \",IF($JP$28=\" \",$CD$6*$C$8/12,$JP$28*(1+HLOOKUP($JQ$15,Līmeņatzīmes!$B$3:$AI$4,2,FALSE))))","v":" "},{"$f":"IF(OR(KD$16=\" \",KD$16=0),\" \",SUM(KE54:KP54))","v":" "},{"$f":"IF(KE48=\" \",\" \",IF($KC$28=\" \",$CD$6*$C$8/12,$KC$28*(1+HLOOKUP($KD$15,Līmeņatzīmes!$B$3:$AI$4,2,FALSE))))","v":" "},{"$f":"IF(KF48=\" \",\" \",IF($KC$28=\" \",$CD$6*$C$8/12,$KC$28*(1+HLOOKUP($KD$15,Līmeņatzīmes!$B$3:$AI$4,2,FALSE))))","v":" "},{"$f":"IF(KG48=\" \",\" \",IF($KC$28=\" \",$CD$6*$C$8/12,$KC$28*(1+HLOOKUP($KD$15,Līmeņatzīmes!$B$3:$AI$4,2,FALSE))))","v":" "},{"$f":"IF(KH48=\" \",\" \",IF($KC$28=\" \",$CD$6*$C$8/12,$KC$28*(1+HLOOKUP($KD$15,Līmeņatzīmes!$B$3:$AI$4,2,FALSE))))","v":" "},{"$f":"IF(KI48=\" \",\" \",IF($KC$28=\" \",$CD$6*$C$8/12,$KC$28*(1+HLOOKUP($KD$15,Līmeņatzīmes!$B$3:$AI$4,2,FALSE))))","v":" "},{"$f":"IF(KJ48=\" \",\" \",IF($KC$28=\" \",$CD$6*$C$8/12,$KC$28*(1+HLOOKUP($KD$15,Līmeņatzīmes!$B$3:$AI$4,2,FALSE))))","v":" "},{"$f":"IF(KK48=\" \",\" \",IF($KC$28=\" \",$CD$6*$C$8/12,$KC$28*(1+HLOOKUP($KD$15,Līmeņatzīmes!$B$3:$AI$4,2,FALSE))))","v":" "},{"$f":"IF(KL48=\" \",\" \",IF($KC$28=\" \",$CD$6*$C$8/12,$KC$28*(1+HLOOKUP($KD$15,Līmeņatzīmes!$B$3:$AI$4,2,FALSE))))","v":" "},{"$f":"IF(KM48=\" \",\" \",IF($KC$28=\" \",$CD$6*$C$8/12,$KC$28*(1+HLOOKUP($KD$15,Līmeņatzīmes!$B$3:$AI$4,2,FALSE))))","v":" "},{"$f":"IF(KN48=\" \",\" \",IF($KC$28=\" \",$CD$6*$C$8/12,$KC$28*(1+HLOOKUP($KD$15,Līmeņatzīmes!$B$3:$AI$4,2,FALSE))))","v":" "},{"$f":"IF(KO48=\" \",\" \",IF($KC$28=\" \",$CD$6*$C$8/12,$KC$28*(1+HLOOKUP($KD$15,Līmeņatzīmes!$B$3:$AI$4,2,FALSE))))","v":" "},{"$f":"IF(KP48=\" \",\" \",IF($KC$28=\" \",$CD$6*$C$8/12,$KC$28*(1+HLOOKUP($KD$15,Līmeņatzīmes!$B$3:$AI$4,2,FALSE))))","v":" "},{"$f":"IF(OR(KQ$16=\" \",KQ$16=0),\" \",SUM(KR54:LC54))","v":" "},{"$f":"IF(KR48=\" \",\" \",IF($KP$28=\" \",$CD$6*$C$8/12,$KP$28*(1+HLOOKUP($KQ$15,Līmeņatzīmes!$B$3:$AI$4,2,FALSE))))","v":" "},{"$f":"IF(KS48=\" \",\" \",IF($KP$28=\" \",$CD$6*$C$8/12,$KP$28*(1+HLOOKUP($KQ$15,Līmeņatzīmes!$B$3:$AI$4,2,FALSE))))","v":" "},{"$f":"IF(KT48=\" \",\" \",IF($KP$28=\" \",$CD$6*$C$8/12,$KP$28*(1+HLOOKUP($KQ$15,Līmeņatzīmes!$B$3:$AI$4,2,FALSE))))","v":" "},{"$f":"IF(KU48=\" \",\" \",IF($KP$28=\" \",$CD$6*$C$8/12,$KP$28*(1+HLOOKUP($KQ$15,Līmeņatzīmes!$B$3:$AI$4,2,FALSE))))","v":" "},{"$f":"IF(KV48=\" \",\" \",IF($KP$28=\" \",$CD$6*$C$8/12,$KP$28*(1+HLOOKUP($KQ$15,Līmeņatzīmes!$B$3:$AI$4,2,FALSE))))","v":" "},{"$f":"IF(KW48=\" \",\" \",IF($KP$28=\" \",$CD$6*$C$8/12,$KP$28*(1+HLOOKUP($KQ$15,Līmeņatzīmes!$B$3:$AI$4,2,FALSE))))","v":" "},{"$f":"IF(KX48=\" \",\" \",IF($KP$28=\" \",$CD$6*$C$8/12,$KP$28*(1+HLOOKUP($KQ$15,Līmeņatzīmes!$B$3:$AI$4,2,FALSE))))","v":" "},{"$f":"IF(KY48=\" \",\" \",IF($KP$28=\" \",$CD$6*$C$8/12,$KP$28*(1+HLOOKUP($KQ$15,Līmeņatzīmes!$B$3:$AI$4,2,FALSE))))","v":" "},{"$f":"IF(KZ48=\" \",\" \",IF($KP$28=\" \",$CD$6*$C$8/12,$KP$28*(1+HLOOKUP($KQ$15,Līmeņatzīmes!$B$3:$AI$4,2,FALSE))))","v":" "},{"$f":"IF(LA48=\" \",\" \",IF($KP$28=\" \",$CD$6*$C$8/12,$KP$28*(1+HLOOKUP($KQ$15,Līmeņatzīmes!$B$3:$AI$4,2,FALSE))))","v":" "},{"$f":"IF(LB48=\" \",\" \",IF($KP$28=\" \",$CD$6*$C$8/12,$KP$28*(1+HLOOKUP($KQ$15,Līmeņatzīmes!$B$3:$AI$4,2,FALSE))))","v":" "},{"$f":"IF(LC48=\" \",\" \",IF($KP$28=\" \",$CD$6*$C$8/12,$KP$28*(1+HLOOKUP($KQ$15,Līmeņatzīmes!$B$3:$AI$4,2,FALSE))))","v":" "},{"$f":"IF(OR(LD$16=\" \",LD$16=0),\" \",SUM(LE54:LP54))","v":" "},{"$f":"IF(LE48=\" \",\" \",IF($LC$28=\" \",$CD$6*$C$8/12,$LC$28*(1+HLOOKUP($LD$15,Līmeņatzīmes!$B$3:$AI$4,2,FALSE))))","v":" "},{"$f":"IF(LF48=\" \",\" \",IF($LC$28=\" \",$CD$6*$C$8/12,$LC$28*(1+HLOOKUP($LD$15,Līmeņatzīmes!$B$3:$AI$4,2,FALSE))))","v":" "},{"$f":"IF(LG48=\" \",\" \",IF($LC$28=\" \",$CD$6*$C$8/12,$LC$28*(1+HLOOKUP($LD$15,Līmeņatzīmes!$B$3:$AI$4,2,FALSE))))","v":" "},{"$f":"IF(LH48=\" \",\" \",IF($LC$28=\" \",$CD$6*$C$8/12,$LC$28*(1+HLOOKUP($LD$15,Līmeņatzīmes!$B$3:$AI$4,2,FALSE))))","v":" "},{"$f":"IF(LI48=\" \",\" \",IF($LC$28=\" \",$CD$6*$C$8/12,$LC$28*(1+HLOOKUP($LD$15,Līmeņatzīmes!$B$3:$AI$4,2,FALSE))))","v":" "},{"$f":"IF(LJ48=\" \",\" \",IF($LC$28=\" \",$CD$6*$C$8/12,$LC$28*(1+HLOOKUP($LD$15,Līmeņatzīmes!$B$3:$AI$4,2,FALSE))))","v":" "},{"$f":"IF(LK48=\" \",\" \",IF($LC$28=\" \",$CD$6*$C$8/12,$LC$28*(1+HLOOKUP($LD$15,Līmeņatzīmes!$B$3:$AI$4,2,FALSE))))","v":" "},{"$f":"IF(LL48=\" \",\" \",IF($LC$28=\" \",$CD$6*$C$8/12,$LC$28*(1+HLOOKUP($LD$15,Līmeņatzīmes!$B$3:$AI$4,2,FALSE))))","v":" "},{"$f":"IF(LM48=\" \",\" \",IF($LC$28=\" \",$CD$6*$C$8/12,$LC$28*(1+HLOOKUP($LD$15,Līmeņatzīmes!$B$3:$AI$4,2,FALSE))))","v":" "},{"$f":"IF(LN48=\" \",\" \",IF($LC$28=\" \",$CD$6*$C$8/12,$LC$28*(1+HLOOKUP($LD$15,Līmeņatzīmes!$B$3:$AI$4,2,FALSE))))","v":" "},{"$f":"IF(LO48=\" \",\" \",IF($LC$28=\" \",$CD$6*$C$8/12,$LC$28*(1+HLOOKUP($LD$15,Līmeņatzīmes!$B$3:$AI$4,2,FALSE))))","v":" "},{"$f":"IF(LP48=\" \",\" \",IF($LC$28=\" \",$CD$6*$C$8/12,$LC$28*(1+HLOOKUP($LD$15,Līmeņatzīmes!$B$3:$AI$4,2,FALSE))))","v":" "},{"$f":"IF(OR(LQ$16=\" \",LQ$16=0),\" \",SUM(LR54:MC54))","v":" "},{"$f":"IF(LR48=\" \",\" \",IF($LP$28=\" \",$CD$6*$C$8/12,$LP$28*(1+HLOOKUP($LQ$15,Līmeņatzīmes!$B$3:$AI$4,2,FALSE))))","v":" "},{"$f":"IF(LS48=\" \",\" \",IF($LP$28=\" \",$CD$6*$C$8/12,$LP$28*(1+HLOOKUP($LQ$15,Līmeņatzīmes!$B$3:$AI$4,2,FALSE))))","v":" "},{"$f":"IF(LT48=\" \",\" \",IF($LP$28=\" \",$CD$6*$C$8/12,$LP$28*(1+HLOOKUP($LQ$15,Līmeņatzīmes!$B$3:$AI$4,2,FALSE))))","v":" "},{"$f":"IF(LU48=\" \",\" \",IF($LP$28=\" \",$CD$6*$C$8/12,$LP$28*(1+HLOOKUP($LQ$15,Līmeņatzīmes!$B$3:$AI$4,2,FALSE))))","v":" "},{"$f":"IF(LV48=\" \",\" \",IF($LP$28=\" \",$CD$6*$C$8/12,$LP$28*(1+HLOOKUP($LQ$15,Līmeņatzīmes!$B$3:$AI$4,2,FALSE))))","v":" "},{"$f":"IF(LW48=\" \",\" \",IF($LP$28=\" \",$CD$6*$C$8/12,$LP$28*(1+HLOOKUP($LQ$15,Līmeņatzīmes!$B$3:$AI$4,2,FALSE))))","v":" "},{"$f":"IF(LX48=\" \",\" \",IF($LP$28=\" \",$CD$6*$C$8/12,$LP$28*(1+HLOOKUP($LQ$15,Līmeņatzīmes!$B$3:$AI$4,2,FALSE))))","v":" "},{"$f":"IF(LY48=\" \",\" \",IF($LP$28=\" \",$CD$6*$C$8/12,$LP$28*(1+HLOOKUP($LQ$15,Līmeņatzīmes!$B$3:$AI$4,2,FALSE))))","v":" "},{"$f":"IF(LZ48=\" \",\" \",IF($LP$28=\" \",$CD$6*$C$8/12,$LP$28*(1+HLOOKUP($LQ$15,Līmeņatzīmes!$B$3:$AI$4,2,FALSE))))","v":" "},{"$f":"IF(MA48=\" \",\" \",IF($LP$28=\" \",$CD$6*$C$8/12,$LP$28*(1+HLOOKUP($LQ$15,Līmeņatzīmes!$B$3:$AI$4,2,FALSE))))","v":" "},{"$f":"IF(MB48=\" \",\" \",IF($LP$28=\" \",$CD$6*$C$8/12,$LP$28*(1+HLOOKUP($LQ$15,Līmeņatzīmes!$B$3:$AI$4,2,FALSE))))","v":" "},{"$f":"IF(MC48=\" \",\" \",IF($LP$28=\" \",$CD$6*$C$8/12,$LP$28*(1+HLOOKUP($LQ$15,Līmeņatzīmes!$B$3:$AI$4,2,FALSE))))","v":" "},{"$f":"IF(OR(MD$16=\" \",MD$16=0),\" \",SUM(ME54:MP54))","v":" "},{"$f":"IF(ME48=\" \",\" \",IF($MC$28=\" \",$CD$6*$C$8/12,$MC$28*(1+HLOOKUP($MD$15,Līmeņatzīmes!$B$3:$AI$4,2,FALSE))))","v":" "},{"$f":"IF(MF48=\" \",\" \",IF($MC$28=\" \",$CD$6*$C$8/12,$MC$28*(1+HLOOKUP($MD$15,Līmeņatzīmes!$B$3:$AI$4,2,FALSE))))","v":" "},{"$f":"IF(MG48=\" \",\" \",IF($MC$28=\" \",$CD$6*$C$8/12,$MC$28*(1+HLOOKUP($MD$15,Līmeņatzīmes!$B$3:$AI$4,2,FALSE))))","v":" "},{"$f":"IF(MH48=\" \",\" \",IF($MC$28=\" \",$CD$6*$C$8/12,$MC$28*(1+HLOOKUP($MD$15,Līmeņatzīmes!$B$3:$AI$4,2,FALSE))))","v":" "},{"$f":"IF(MI48=\" \",\" \",IF($MC$28=\" \",$CD$6*$C$8/12,$MC$28*(1+HLOOKUP($MD$15,Līmeņatzīmes!$B$3:$AI$4,2,FALSE))))","v":" "},{"$f":"IF(MJ48=\" \",\" \",IF($MC$28=\" \",$CD$6*$C$8/12,$MC$28*(1+HLOOKUP($MD$15,Līmeņatzīmes!$B$3:$AI$4,2,FALSE))))","v":" "},{"$f":"IF(MK48=\" \",\" \",IF($MC$28=\" \",$CD$6*$C$8/12,$MC$28*(1+HLOOKUP($MD$15,Līmeņatzīmes!$B$3:$AI$4,2,FALSE))))","v":" "},{"$f":"IF(ML48=\" \",\" \",IF($MC$28=\" \",$CD$6*$C$8/12,$MC$28*(1+HLOOKUP($MD$15,Līmeņatzīmes!$B$3:$AI$4,2,FALSE))))","v":" "},{"$f":"IF(MM48=\" \",\" \",IF($MC$28=\" \",$CD$6*$C$8/12,$MC$28*(1+HLOOKUP($MD$15,Līmeņatzīmes!$B$3:$AI$4,2,FALSE))))","v":" "},{"$f":"IF(MN48=\" \",\" \",IF($MC$28=\" \",$CD$6*$C$8/12,$MC$28*(1+HLOOKUP($MD$15,Līmeņatzīmes!$B$3:$AI$4,2,FALSE))))","v":" "},{"$f":"IF(MO48=\" \",\" \",IF($MC$28=\" \",$CD$6*$C$8/12,$MC$28*(1+HLOOKUP($MD$15,Līmeņatzīmes!$B$3:$AI$4,2,FALSE))))","v":" "},{"$f":"IF(MP48=\" \",\" \",IF($MC$28=\" \",$CD$6*$C$8/12,$MC$28*(1+HLOOKUP($MD$15,Līmeņatzīmes!$B$3:$AI$4,2,FALSE))))","v":" "},{"$f":"IF(OR(MQ$16=\" \",MQ$16=0),\" \",SUM(MR54:NC54))","v":" "},{"$f":"IF(MR48=\" \",\" \",IF($MP$28=\" \",$CD$6*$C$8/12,$MP$28*(1+HLOOKUP($MQ$15,Līmeņatzīmes!$B$3:$AI$4,2,FALSE))))","v":" "},{"$f":"IF(MS48=\" \",\" \",IF($MP$28=\" \",$CD$6*$C$8/12,$MP$28*(1+HLOOKUP($MQ$15,Līmeņatzīmes!$B$3:$AI$4,2,FALSE))))","v":" "},{"$f":"IF(MT48=\" \",\" \",IF($MP$28=\" \",$CD$6*$C$8/12,$MP$28*(1+HLOOKUP($MQ$15,Līmeņatzīmes!$B$3:$AI$4,2,FALSE))))","v":" "},{"$f":"IF(MU48=\" \",\" \",IF($MP$28=\" \",$CD$6*$C$8/12,$MP$28*(1+HLOOKUP($MQ$15,Līmeņatzīmes!$B$3:$AI$4,2,FALSE))))","v":" "},{"$f":"IF(MV48=\" \",\" \",IF($MP$28=\" \",$CD$6*$C$8/12,$MP$28*(1+HLOOKUP($MQ$15,Līmeņatzīmes!$B$3:$AI$4,2,FALSE))))","v":" "},{"$f":"IF(MW48=\" \",\" \",IF($MP$28=\" \",$CD$6*$C$8/12,$MP$28*(1+HLOOKUP($MQ$15,Līmeņatzīmes!$B$3:$AI$4,2,FALSE))))","v":" "},{"$f":"IF(MX48=\" \",\" \",IF($MP$28=\" \",$CD$6*$C$8/12,$MP$28*(1+HLOOKUP($MQ$15,Līmeņatzīmes!$B$3:$AI$4,2,FALSE))))","v":" "},{"$f":"IF(MY48=\" \",\" \",IF($MP$28=\" \",$CD$6*$C$8/12,$MP$28*(1+HLOOKUP($MQ$15,Līmeņatzīmes!$B$3:$AI$4,2,FALSE))))","v":" "},{"$f":"IF(MZ48=\" \",\" \",IF($MP$28=\" \",$CD$6*$C$8/12,$MP$28*(1+HLOOKUP($MQ$15,Līmeņatzīmes!$B$3:$AI$4,2,FALSE))))","v":" "},{"$f":"IF(NA48=\" \",\" \",IF($MP$28=\" \",$CD$6*$C$8/12,$MP$28*(1+HLOOKUP($MQ$15,Līmeņatzīmes!$B$3:$AI$4,2,FALSE))))","v":" "},{"$f":"IF(NB48=\" \",\" \",IF($MP$28=\" \",$CD$6*$C$8/12,$MP$28*(1+HLOOKUP($MQ$15,Līmeņatzīmes!$B$3:$AI$4,2,FALSE))))","v":" "},{"$f":"IF(NC48=\" \",\" \",IF($MP$28=\" \",$CD$6*$C$8/12,$MP$28*(1+HLOOKUP($MQ$15,Līmeņatzīmes!$B$3:$AI$4,2,FALSE))))","v":" "},{"$f":"IF(OR(ND$16=\" \",ND$16=0),\" \",SUM(NE54:NP54))","v":" "},{"$f":"IF(NE48=\" \",\" \",IF($NC$28=\" \",$CD$6*$C$8/12,$NC$28*(1+HLOOKUP($ND$15,Līmeņatzīmes!$B$3:$AI$4,2,FALSE))))","v":" "},{"$f":"IF(NF48=\" \",\" \",IF($NC$28=\" \",$CD$6*$C$8/12,$NC$28*(1+HLOOKUP($ND$15,Līmeņatzīmes!$B$3:$AI$4,2,FALSE))))","v":" "},{"$f":"IF(NG48=\" \",\" \",IF($NC$28=\" \",$CD$6*$C$8/12,$NC$28*(1+HLOOKUP($ND$15,Līmeņatzīmes!$B$3:$AI$4,2,FALSE))))","v":" "},{"$f":"IF(NH48=\" \",\" \",IF($NC$28=\" \",$CD$6*$C$8/12,$NC$28*(1+HLOOKUP($ND$15,Līmeņatzīmes!$B$3:$AI$4,2,FALSE))))","v":" "},{"$f":"IF(NI48=\" \",\" \",IF($NC$28=\" \",$CD$6*$C$8/12,$NC$28*(1+HLOOKUP($ND$15,Līmeņatzīmes!$B$3:$AI$4,2,FALSE))))","v":" "},{"$f":"IF(NJ48=\" \",\" \",IF($NC$28=\" \",$CD$6*$C$8/12,$NC$28*(1+HLOOKUP($ND$15,Līmeņatzīmes!$B$3:$AI$4,2,FALSE))))","v":" "},{"$f":"IF(NK48=\" \",\" \",IF($NC$28=\" \",$CD$6*$C$8/12,$NC$28*(1+HLOOKUP($ND$15,Līmeņatzīmes!$B$3:$AI$4,2,FALSE))))","v":" "},{"$f":"IF(NL48=\" \",\" \",IF($NC$28=\" \",$CD$6*$C$8/12,$NC$28*(1+HLOOKUP($ND$15,Līmeņatzīmes!$B$3:$AI$4,2,FALSE))))","v":" "},{"$f":"IF(NM48=\" \",\" \",IF($NC$28=\" \",$CD$6*$C$8/12,$NC$28*(1+HLOOKUP($ND$15,Līmeņatzīmes!$B$3:$AI$4,2,FALSE))))","v":" "},{"$f":"IF(NN48=\" \",\" \",IF($NC$28=\" \",$CD$6*$C$8/12,$NC$28*(1+HLOOKUP($ND$15,Līmeņatzīmes!$B$3:$AI$4,2,FALSE))))","v":" "},{"$f":"IF(NO48=\" \",\" \",IF($NC$28=\" \",$CD$6*$C$8/12,$NC$28*(1+HLOOKUP($ND$15,Līmeņatzīmes!$B$3:$AI$4,2,FALSE))))","v":" "},{"$f":"IF(NP48=\" \",\" \",IF($NC$28=\" \",$CD$6*$C$8/12,$NC$28*(1+HLOOKUP($ND$15,Līmeņatzīmes!$B$3:$AI$4,2,FALSE))))","v":" "}]
["Kurināmā cena","EUR/MWh",null,{"$f":"IF(OR(D$16=\" \",D$16=0,D47=0),\" \",SUMPRODUCT(E47:P47,E55:P55)/D47)","v":" "},{"$f":"IF(E48=\" \",\" \",ROUND(VLOOKUP(E44,Kurināmais!$A$4:$I$351,9,FALSE),2))","v":" "},{"$f":"IF(F48=\" \",\" \",ROUND(VLOOKUP(F44,Kurināmais!$A$4:$I$351,9,FALSE),2))","v":" "},{"$f":"IF(G48=\" \",\" \",ROUND(VLOOKUP(G44,Kurināmais!$A$4:$I$351,9,FALSE),2))","v":" "},{"$f":"IF(H48=\" \",\" \",ROUND(VLOOKUP(H44,Kurināmais!$A$4:$I$351,9,FALSE),2))","v":" "},{"$f":"IF(I48=\" \",\" \",ROUND(VLOOKUP(I44,Kurināmais!$A$4:$I$351,9,FALSE),2))","v":" "},{"$f":"IF(J48=\" \",\" \",ROUND(VLOOKUP(J44,Kurināmais!$A$4:$I$351,9,FALSE),2))","v":" "},{"$f":"IF(K48=\" \",\" \",ROUND(VLOOKUP(K44,Kurināmais!$A$4:$I$351,9,FALSE),2))","v":" "},{"$f":"IF(L48=\" \",\" \",ROUND(VLOOKUP(L44,Kurināmais!$A$4:$I$351,9,FALSE),2))","v":" "},{"$f":"IF(M48=\" \",\" \",ROUND(VLOOKUP(M44,Kurināmais!$A$4:$I$351,9,FALSE),2))","v":" "},{"$f":"IF(N48=\" \",\" \",ROUND(VLOOKUP(N44,Kurināmais!$A$4:$I$351,9,FALSE),2))","v":" "},{"$f":"IF(O48=\" \",\" \",ROUND(VLOOKUP(O44,Kurināmais!$A$4:$I$351,9,FALSE),2))","v":" "},{"$f":"IF(P48=\" \",\" \",ROUND(VLOOKUP(P44,Kurināmais!$A$4:$I$351,9,FALSE),2))","v":" "},{"$f":"IF(OR(Q$16=\" \",Q$16=0,Q47=0),\" \",SUMPRODUCT(R47:AC47,R55:AC55)/Q47)","v":" "},{"$f":"IF(R48=\" \",\" \",ROUND(VLOOKUP(R44,Kurināmais!$A$4:$I$351,9,FALSE),2))","v":" "},{"$f":"IF(S48=\" \",\" \",ROUND(VLOOKUP(S44,Kurināmais!$A$4:$I$351,9,FALSE),2))","v":" "},{"$f":"IF(T48=\" \",\" \",ROUND(VLOOKUP(T44,Kurināmais!$A$4:$I$351,9,FALSE),2))","v":" "},{"$f":"IF(U48=\" \",\" \",ROUND(VLOOKUP(U44,Kurināmais!$A$4:$I$351,9,FALSE),2))","v":" "},{"$f":"IF(V48=\" \",\" \",ROUND(VLOOKUP(V44,Kurināmais!$A$4:$I$351,9,FALSE),2))","v":" "},{"$f":"IF(W48=\" \",\" \",ROUND(VLOOKUP(W44,Kurināmais!$A$4:$I$351,9,FALSE),2))","v":" "},{"$f":"IF(X48=\" \",\" \",ROUND(VLOOKUP(X44,Kurināmais!$A$4:$I$351,9,FALSE),2))","v":" "},{"$f":"IF(Y48=\" \",\" \",ROUND(VLOOKUP(Y44,Kurināmais!$A$4:$I$351,9,FALSE),2))","v":" "},{"$f":"IF(Z48=\" \",\" \",ROUND(VLOOKUP(Z44,Kurināmais!$A$4:$I$351,9,FALSE),2))","v":" "},{"$f":"IF(AA48=\" \",\" \",ROUND(VLOOKUP(AA44,Kurināmais!$A$4:$I$351,9,FALSE),2))","v":" "},{"$f":"IF(AB48=\" \",\" \",ROUND(VLOOKUP(AB44,Kurināmais!$A$4:$I$351,9,FALSE),2))","v":" "},{"$f":"IF(AC48=\" \",\" \",ROUND(VLOOKUP(AC44,Kurināmais!$A$4:$I$351,9,FALSE),2))","v":" "},{"$f":"IF(OR(AD$16=\" \",AD$16=0,AD47=0),\" \",SUMPRODUCT(AE47:AP47,AE55:AP55)/AD47)","v":" "},{"$f":"IF(AE48=\" \",\" \",ROUND(VLOOKUP(AE44,Kurināmais!$A$4:$I$351,9,FALSE),2))","v":" "},{"$f":"IF(AF48=\" \",\" \",ROUND(VLOOKUP(AF44,Kurināmais!$A$4:$I$351,9,FALSE),2))","v":" "},{"$f":"IF(AG48=\" \",\" \",ROUND(VLOOKUP(AG44,Kurināmais!$A$4:$I$351,9,FALSE),2))","v":" "},{"$f":"IF(AH48=\" \",\" \",ROUND(VLOOKUP(AH44,Kurināmais!$A$4:$I$351,9,FALSE),2))","v":" "},{"$f":"IF(AI48=\" \",\" \",ROUND(VLOOKUP(AI44,Kurināmais!$A$4:$I$351,9,FALSE),2))","v":" "},{"$f":"IF(AJ48=\" \",\" \",ROUND(VLOOKUP(AJ44,Kurināmais!$A$4:$I$351,9,FALSE),2))","v":" "},{"$f":"IF(AK48=\" \",\" \",ROUND(VLOOKUP(AK44,Kurināmais!$A$4:$I$351,9,FALSE),2))","v":" "},{"$f":"IF(AL48=\" \",\" \",ROUND(VLOOKUP(AL44,Kurināmais!$A$4:$I$351,9,FALSE),2))","v":" "},{"$f":"IF(AM48=\" \",\" \",ROUND(VLOOKUP(AM44,Kurināmais!$A$4:$I$351,9,FALSE),2))","v":" "},{"$f":"IF(AN48=\" \",\" \",ROUND(VLOOKUP(AN44,Kurināmais!$A$4:$I$351,9,FALSE),2))","v":" "},{"$f":"IF(AO48=\" \",\" \",ROUND(VLOOKUP(AO44,Kurināmais!$A$4:$I$351,9,FALSE),2))","v":" "},{"$f":"IF(AP48=\" \",\" \",ROUND(VLOOKUP(AP44,Kurināmais!$A$4:$I$351,9,FALSE),2))","v":" "},{"$f":"IF(OR(AQ$16=\" \",AQ$16=0,AQ47=0),\" \",SUMPRODUCT(AR47:BC47,AR55:BC55)/AQ47)","v":" "},{"$f":"IF(AR48=\" \",\" \",ROUND(VLOOKUP(AR44,Kurināmais!$A$4:$I$351,9,FALSE),2))","v":" "},{"$f":"IF(AS48=\" \",\" \",ROUND(VLOOKUP(AS44,Kurināmais!$A$4:$I$351,9,FALSE),2))","v":" "},{"$f":"IF(AT48=\" \",\" \",ROUND(VLOOKUP(AT44,Kurināmais!$A$4:$I$351,9,FALSE),2))","v":" "},{"$f":"IF(AU48=\" \",\" \",ROUND(VLOOKUP(AU44,Kurināmais!$A$4:$I$351,9,FALSE),2))","v":" "},{"$f":"IF(AV48=\" \",\" \",ROUND(VLOOKUP(AV44,Kurināmais!$A$4:$I$351,9,FALSE),2))","v":" "},{"$f":"IF(AW48=\" \",\" \",ROUND(VLOOKUP(AW44,Kurināmais!$A$4:$I$351,9,FALSE),2))","v":" "},{"$f":"IF(AX48=\" \",\" \",ROUND(VLOOKUP(AX44,Kurināmais!$A$4:$I$351,9,FALSE),2))","v":" "},{"$f":"IF(AY48=\" \",\" \",ROUND(VLOOKUP(AY44,Kurināmais!$A$4:$I$351,9,FALSE),2))","v":" "},{"$f":"IF(AZ48=\" \",\" \",ROUND(VLOOKUP(AZ44,Kurināmais!$A$4:$I$351,9,FALSE),2))","v":" "},{"$f":"IF(BA48=\" \",\" \",ROUND(VLOOKUP(BA44,Kurināmais!$A$4:$I$351,9,FALSE),2))","v":" "},{"$f":"IF(BB48=\" \",\" \",ROUND(VLOOKUP(BB44,Kurināmais!$A$4:$I$351,9,FALSE),2))","v":" "},{"$f":"IF(BC48=\" \",\" \",ROUND(VLOOKUP(BC44,Kurināmais!$A$4:$I$351,9,FALSE),2))","v":" "},{"$f":"IF(OR(BD$16=\" \",BD$16=0,BD47=0),\" \",SUMPRODUCT(BE47:BP47,BE55:BP55)/BD47)","v":" "},{"$f":"IF(BE48=\" \",\" \",ROUND(VLOOKUP(BE44,Kurināmais!$A$4:$I$351,9,FALSE),2))","v":" "},{"$f":"IF(BF48=\" \",\" \",ROUND(VLOOKUP(BF44,Kurināmais!$A$4:$I$351,9,FALSE),2))","v":" "},{"$f":"IF(BG48=\" \",\" \",ROUND(VLOOKUP(BG44,Kurināmais!$A$4:$I$351,9,FALSE),2))","v":" "},{"$f":"IF(BH48=\" \",\" \",ROUND(VLOOKUP(BH44,Kurināmais!$A$4:$I$351,9,FALSE),2))","v":" "},{"$f":"IF(BI48=\" \",\" \",ROUND(VLOOKUP(BI44,Kurināmais!$A$4:$I$351,9,FALSE),2))","v":" "},{"$f":"IF(BJ48=\" \",\" \",ROUND(VLOOKUP(BJ44,Kurināmais!$A$4:$I$351,9,FALSE),2))","v":" "},{"$f":"IF(BK48=\" \",\" \",ROUND(VLOOKUP(BK44,Kurināmais!$A$4:$I$351,9,FALSE),2))","v":" "},{"$f":"IF(BL48=\" \",\" \",ROUND(VLOOKUP(BL44,Kurināmais!$A$4:$I$351,9,FALSE),2))","v":" "},{"$f":"IF(BM48=\" \",\" \",ROUND(VLOOKUP(BM44,Kurināmais!$A$4:$I$351,9,FALSE),2))","v":" "},{"$f":"IF(BN48=\" \",\" \",ROUND(VLOOKUP(BN44,Kurināmais!$A$4:$I$351,9,FALSE),2))","v":" "},{"$f":"IF(BO48=\" \",\" \",ROUND(VLOOKUP(BO44,Kurināmais!$A$4:$I$351,9,FALSE),2))","v":" "},{"$f":"IF(BP48=\" \",\" \",ROUND(VLOOKUP(BP44,Kurināmais!$A$4:$I$351,9,FALSE),2))","v":" "},{"$f":"IF(OR(BQ$16=\" \",BQ$16=0,BQ47=0),\" \",SUMPRODUCT(BR47:CC47,BR55:CC55)/BQ47)","v":" "},{"$f":"IF(BR48=\" \",\" \",ROUND(VLOOKUP(BR44,Kurināmais!$A$4:$I$351,9,FALSE),2))","v":" "},{"$f":"IF(BS48=\" \",\" \",ROUND(VLOOKUP(BS44,Kurināmais!$A$4:$I$351,9,FALSE),2))","v":" "},{"$f":"IF(BT48=\" \",\" \",ROUND(VLOOKUP(BT44,Kurināmais!$A$4:$I$351,9,FALSE),2))","v":" "},{"$f":"IF(BU48=\" \",\" \",ROUND(VLOOKUP(BU44,Kurināmais!$A$4:$I$351,9,FALSE),2))","v":" "},{"$f":"IF(BV48=\" \",\" \",ROUND(VLOOKUP(BV44,Kurināmais!$A$4:$I$351,9,FALSE),2))","v":" "},{"$f":"IF(BW48=\" \",\" \",ROUND(VLOOKUP(BW44,Kurināmais!$A$4:$I$351,9,FALSE),2))","v":" "},{"$f":"IF(BX48=\" \",\" \",ROUND(VLOOKUP(BX44,Kurināmais!$A$4:$I$351,9,FALSE),2))","v":" "},{"$f":"IF(BY48=\" \",\" \",ROUND(VLOOKUP(BY44,Kurināmais!$A$4:$I$351,9,FALSE),2))","v":" "},{"$f":"IF(BZ48=\" \",\" \",ROUND(VLOOKUP(BZ44,Kurināmais!$A$4:$I$351,9,FALSE),2))","v":" "},{"$f":"IF(CA48=\" \",\" \",ROUND(VLOOKUP(CA44,Kurināmais!$A$4:$I$351,9,FALSE),2))","v":" "},{"$f":"IF(CB48=\" \",\" \",ROUND(VLOOKUP(CB44,Kurināmais!$A$4:$I$351,9,FALSE),2))","v":" "},{"$f":"IF(CC48=\" \",\" \",ROUND(VLOOKUP(CC44,Kurināmais!$A$4:$I$351,9,FALSE),2))","v":" "},{"$f":"IF(OR(CD$16=\" \",CD$16=0,CD47=0),\" \",SUMPRODUCT(CE47:CP47,CE55:CP55)/CD47)","v":" "},{"$f":"IF(CE48=\" \",\" \",ROUND(VLOOKUP(CE44,Kurināmais!$A$4:$I$351,9,FALSE),2))","v":" "},{"$f":"IF(CF48=\" \",\" \",ROUND(VLOOKUP(CF44,Kurināmais!$A$4:$I$351,9,FALSE),2))","v":" "},{"$f":"IF(CG48=\" \",\" \",ROUND(VLOOKUP(CG44,Kurināmais!$A$4:$I$351,9,FALSE),2))","v":" "},{"$f":"IF(CH48=\" \",\" \",ROUND(VLOOKUP(CH44,Kurināmais!$A$4:$I$351,9,FALSE),2))","v":" "},{"$f":"IF(CI48=\" \",\" \",ROUND(VLOOKUP(CI44,Kurināmais!$A$4:$I$351,9,FALSE),2))","v":" "},{"$f":"IF(CJ48=\" \",\" \",ROUND(VLOOKUP(CJ44,Kurināmais!$A$4:$I$351,9,FALSE),2))","v":" "},{"$f":"IF(CK48=\" \",\" \",ROUND(VLOOKUP(CK44,Kurināmais!$A$4:$I$351,9,FALSE),2))","v":" "},{"$f":"IF(CL48=\" \",\" \",ROUND(VLOOKUP(CL44,Kurināmais!$A$4:$I$351,9,FALSE),2))","v":" "},{"$f":"IF(CM48=\" \",\" \",ROUND(VLOOKUP(CM44,Kurināmais!$A$4:$I$351,9,FALSE),2))","v":" "},{"$f":"IF(CN48=\" \",\" \",ROUND(VLOOKUP(CN44,Kurināmais!$A$4:$I$351,9,FALSE),2))","v":" "},{"$f":"IF(CO48=\" \",\" \",ROUND(VLOOKUP(CO44,Kurināmais!$A$4:$I$351,9,FALSE),2))","v":" "},{"$f":"IF(CP48=\" \",\" \",ROUND(VLOOKUP(CP44,Kurināmais!$A$4:$I$351,9,FALSE),2))","v":" "},{"$f":"IF(OR(CQ$16=\" \",CQ$16=0,CQ47=0),\" \",SUMPRODUCT(CR47:DC47,CR55:DC55)/CQ47)","v":" "},{"$f":"IF(CR48=\" \",\" \",ROUND(VLOOKUP(CR44,Kurināmais!$A$4:$I$351,9,FALSE),2))","v":" "},{"$f":"IF(CS48=\" \",\" \",ROUND(VLOOKUP(CS44,Kurināmais!$A$4:$I$351,9,FALSE),2))","v":" "},{"$f":"IF(CT48=\" \",\" \",ROUND(VLOOKUP(CT44,Kurināmais!$A$4:$I$351,9,FALSE),2))","v":" "},{"$f":"IF(CU48=\" \",\" \",ROUND(VLOOKUP(CU44,Kurināmais!$A$4:$I$351,9,FALSE),2))","v":" "},{"$f":"IF(CV48=\" \",\" \",ROUND(VLOOKUP(CV44,Kurināmais!$A$4:$I$351,9,FALSE),2))","v":" "},{"$f":"IF(CW48=\" \",\" \",ROUND(VLOOKUP(CW44,Kurināmais!$A$4:$I$351,9,FALSE),2))","v":" "},{"$f":"IF(CX48=\" \",\" \",ROUND(VLOOKUP(CX44,Kurināmais!$A$4:$I$351,9,FALSE),2))","v":" "},{"$f":"IF(CY48=\" \",\" \",ROUND(VLOOKUP(CY44,Kurināmais!$A$4:$I$351,9,FALSE),2))","v":" "},{"$f":"IF(CZ48=\" \",\" \",ROUND(VLOOKUP(CZ44,Kurināmais!$A$4:$I$351,9,FALSE),2))","v":" "},{"$f":"IF(DA48=\" \",\" \",ROUND(VLOOKUP(DA44,Kurināmais!$A$4:$I$351,9,FALSE),2))","v":" "},{"$f":"IF(DB48=\" \",\" \",ROUND(VLOOKUP(DB44,Kurināmais!$A$4:$I$351,9,FALSE),2))","v":" "},{"$f":"IF(DC48=\" \",\" \",ROUND(VLOOKUP(DC44,Kurināmais!$A$4:$I$351,9,FALSE),2))","v":" "},{"$f":"IF(OR(DD$16=\" \",DD$16=0,DD47=0),\" \",SUMPRODUCT(DE47:DP47,DE55:DP55)/DD47)","v":" "},{"$f":"IF(DE48=\" \",\" \",ROUND(VLOOKUP(DE44,Kurināmais!$A$4:$I$351,9,FALSE),2))","v":" "},{"$f":"IF(DF48=\" \",\" \",ROUND(VLOOKUP(DF44,Kurināmais!$A$4:$I$351,9,FALSE),2))","v":" "},{"$f":"IF(DG48=\" \",\" \",ROUND(VLOOKUP(DG44,Kurināmais!$A$4:$I$351,9,FALSE),2))","v":" "},{"$f":"IF(DH48=\" \",\" \",ROUND(VLOOKUP(DH44,Kurināmais!$A$4:$I$351,9,FALSE),2))","v":" "},{"$f":"IF(DI48=\" \",\" \",ROUND(VLOOKUP(DI44,Kurināmais!$A$4:$I$351,9,FALSE),2))","v":" "},{"$f":"IF(DJ48=\" \",\" \",ROUND(VLOOKUP(DJ44,Kurināmais!$A$4:$I$351,9,FALSE),2))","v":" "},{"$f":"IF(DK48=\" \",\" \",ROUND(VLOOKUP(DK44,Kurināmais!$A$4:$I$351,9,FALSE),2))","v":" "},{"$f":"IF(DL48=\" \",\" \",ROUND(VLOOKUP(DL44,Kurināmais!$A$4:$I$351,9,FALSE),2))","v":" "},{"$f":"IF(DM48=\" \",\" \",ROUND(VLOOKUP(DM44,Kurināmais!$A$4:$I$351,9,FALSE),2))","v":" "},{"$f":"IF(DN48=\" \",\" \",ROUND(VLOOKUP(DN44,Kurināmais!$A$4:$I$351,9,FALSE),2))","v":" "},{"$f":"IF(DO48=\" \",\" \",ROUND(VLOOKUP(DO44,Kurināmais!$A$4:$I$351,9,FALSE),2))","v":" "},{"$f":"IF(DP48=\" \",\" \",ROUND(VLOOKUP(DP44,Kurināmais!$A$4:$I$351,9,FALSE),2))","v":" "},{"$f":"IF(OR(DQ$16=\" \",DQ$16=0,DQ47=0),\" \",SUMPRODUCT(DR47:EC47,DR55:EC55)/DQ47)","v":" "},{"$f":"IF(DR48=\" \",\" \",ROUND(VLOOKUP(DR44,Kurināmais!$A$4:$I$351,9,FALSE),2))","v":" "},{"$f":"IF(DS48=\" \",\" \",ROUND(VLOOKUP(DS44,Kurināmais!$A$4:$I$351,9,FALSE),2))","v":" "},{"$f":"IF(DT48=\" \",\" \",ROUND(VLOOKUP(DT44,Kurināmais!$A$4:$I$351,9,FALSE),2))","v":" "},{"$f":"IF(DU48=\" \",\" \",ROUND(VLOOKUP(DU44,Kurināmais!$A$4:$I$351,9,FALSE),2))","v":" "},{"$f":"IF(DV48=\" \",\" \",ROUND(VLOOKUP(DV44,Kurināmais!$A$4:$I$351,9,FALSE),2))","v":" "},{"$f":"IF(DW48=\" \",\" \",ROUND(VLOOKUP(DW44,Kurināmais!$A$4:$I$351,9,FALSE),2))","v":" "},{"$f":"IF(DX48=\" \",\" \",ROUND(VLOOKUP(DX44,Kurināmais!$A$4:$I$351,9,FALSE),2))","v":" "},{"$f":"IF(DY48=\" \",\" \",ROUND(VLOOKUP(DY44,Kurināmais!$A$4:$I$351,9,FALSE),2))","v":" "},{"$f":"IF(DZ48=\" \",\" \",ROUND(VLOOKUP(DZ44,Kurināmais!$A$4:$I$351,9,FALSE),2))","v":" "},{"$f":"IF(EA48=\" \",\" \",ROUND(VLOOKUP(EA44,Kurināmais!$A$4:$I$351,9,FALSE),2))","v":" "},{"$f":"IF(EB48=\" \",\" \",ROUND(VLOOKUP(EB44,Kurināmais!$A$4:$I$351,9,FALSE),2))","v":" "},{"$f":"IF(EC48=\" \",\" \",ROUND(VLOOKUP(EC44,Kurināmais!$A$4:$I$351,9,FALSE),2))","v":" "},{"$f":"IF(OR(ED$16=\" \",ED$16=0,ED47=0),\" \",SUMPRODUCT(EE47:EP47,EE55:EP55)/ED47)","v":" "},{"$f":"IF(EE48=\" \",\" \",ROUND(VLOOKUP(EE44,Kurināmais!$A$4:$I$351,9,FALSE),2))","v":" "},{"$f":"IF(EF48=\" \",\" \",ROUND(VLOOKUP(EF44,Kurināmais!$A$4:$I$351,9,FALSE),2))","v":" "},{"$f":"IF(EG48=\" \",\" \",ROUND(VLOOKUP(EG44,Kurināmais!$A$4:$I$351,9,FALSE),2))","v":" "},{"$f":"IF(EH48=\" \",\" \",ROUND(VLOOKUP(EH44,Kurināmais!$A$4:$I$351,9,FALSE),2))","v":" "},{"$f":"IF(EI48=\" \",\" \",ROUND(VLOOKUP(EI44,Kurināmais!$A$4:$I$351,9,FALSE),2))","v":" "},{"$f":"IF(EJ48=\" \",\" \",ROUND(VLOOKUP(EJ44,Kurināmais!$A$4:$I$351,9,FALSE),2))","v":" "},{"$f":"IF(EK48=\" \",\" \",ROUND(VLOOKUP(EK44,Kurināmais!$A$4:$I$351,9,FALSE),2))","v":" "},{"$f":"IF(EL48=\" \",\" \",ROUND(VLOOKUP(EL44,Kurināmais!$A$4:$I$351,9,FALSE),2))","v":" "},{"$f":"IF(EM48=\" \",\" \",ROUND(VLOOKUP(EM44,Kurināmais!$A$4:$I$351,9,FALSE),2))","v":" "},{"$f":"IF(EN48=\" \",\" \",ROUND(VLOOKUP(EN44,Kurināmais!$A$4:$I$351,9,FALSE),2))","v":" "},{"$f":"IF(EO48=\" \",\" \",ROUND(VLOOKUP(EO44,Kurināmais!$A$4:$I$351,9,FALSE),2))","v":" "},{"$f":"IF(EP48=\" \",\" \",ROUND(VLOOKUP(EP44,Kurināmais!$A$4:$I$351,9,FALSE),2))","v":" "},{"$f":"IF(OR(EQ$16=\" \",EQ$16=0,EQ47=0),\" \",SUMPRODUCT(ER47:FC47,ER55:FC55)/EQ47)","v":" "},{"$f":"IF(ER48=\" \",\" \",ROUND(VLOOKUP(ER44,Kurināmais!$A$4:$I$351,9,FALSE),2))","v":" "},{"$f":"IF(ES48=\" \",\" \",ROUND(VLOOKUP(ES44,Kurināmais!$A$4:$I$351,9,FALSE),2))","v":" "},{"$f":"IF(ET48=\" \",\" \",ROUND(VLOOKUP(ET44,Kurināmais!$A$4:$I$351,9,FALSE),2))","v":" "},{"$f":"IF(EU48=\" \",\" \",ROUND(VLOOKUP(EU44,Kurināmais!$A$4:$I$351,9,FALSE),2))","v":" "},{"$f":"IF(EV48=\" \",\" \",ROUND(VLOOKUP(EV44,Kurināmais!$A$4:$I$351,9,FALSE),2))","v":" "},{"$f":"IF(EW48=\" \",\" \",ROUND(VLOOKUP(EW44,Kurināmais!$A$4:$I$351,9,FALSE),2))","v":" "},{"$f":"IF(EX48=\" \",\" \",ROUND(VLOOKUP(EX44,Kurināmais!$A$4:$I$351,9,FALSE),2))","v":" "},{"$f":"IF(EY48=\" \",\" \",ROUND(VLOOKUP(EY44,Kurināmais!$A$4:$I$351,9,FALSE),2))","v":" "},{"$f":"IF(EZ48=\" \",\" \",ROUND(VLOOKUP(EZ44,Kurināmais!$A$4:$I$351,9,FALSE),2))","v":" "},{"$f":"IF(FA48=\" \",\" \",ROUND(VLOOKUP(FA44,Kurināmais!$A$4:$I$351,9,FALSE),2))","v":" "},{"$f":"IF(FB48=\" \",\" \",ROUND(VLOOKUP(FB44,Kurināmais!$A$4:$I$351,9,FALSE),2))","v":" "},{"$f":"IF(FC48=\" \",\" \",ROUND(VLOOKUP(FC44,Kurināmais!$A$4:$I$351,9,FALSE),2))","v":" "},{"$f":"IF(OR(FD$16=\" \",FD$16=0,FD47=0),\" \",SUMPRODUCT(FE47:FP47,FE55:FP55)/FD47)","v":" "},{"$f":"IF(FE48=\" \",\" \",ROUND(VLOOKUP(FE44,Kurināmais!$A$4:$I$351,9,FALSE),2))","v":" "},{"$f":"IF(FF48=\" \",\" \",ROUND(VLOOKUP(FF44,Kurināmais!$A$4:$I$351,9,FALSE),2))","v":" "},{"$f":"IF(FG48=\" \",\" \",ROUND(VLOOKUP(FG44,Kurināmais!$A$4:$I$351,9,FALSE),2))","v":" "},{"$f":"IF(FH48=\" \",\" \",ROUND(VLOOKUP(FH44,Kurināmais!$A$4:$I$351,9,FALSE),2))","v":" "},{"$f":"IF(FI48=\" \",\" \",ROUND(VLOOKUP(FI44,Kurināmais!$A$4:$I$351,9,FALSE),2))","v":" "},{"$f":"IF(FJ48=\" \",\" \",ROUND(VLOOKUP(FJ44,Kurināmais!$A$4:$I$351,9,FALSE),2))","v":" "},{"$f":"IF(FK48=\" \",\" \",ROUND(VLOOKUP(FK44,Kurināmais!$A$4:$I$351,9,FALSE),2))","v":" "},{"$f":"IF(FL48=\" \",\" \",ROUND(VLOOKUP(FL44,Kurināmais!$A$4:$I$351,9,FALSE),2))","v":" "},{"$f":"IF(FM48=\" \",\" \",ROUND(VLOOKUP(FM44,Kurināmais!$A$4:$I$351,9,FALSE),2))","v":" "},{"$f":"IF(FN48=\" \",\" \",ROUND(VLOOKUP(FN44,Kurināmais!$A$4:$I$351,9,FALSE),2))","v":" "},{"$f":"IF(FO48=\" \",\" \",ROUND(VLOOKUP(FO44,Kurināmais!$A$4:$I$351,9,FALSE),2))","v":" "},{"$f":"IF(FP48=\" \",\" \",ROUND(VLOOKUP(FP44,Kurināmais!$A$4:$I$351,9,FALSE),2))","v":" "},{"$f":"IF(OR(FQ$16=\" \",FQ$16=0,FQ47=0),\" \",SUMPRODUCT(FR47:GC47,FR55:GC55)/FQ47)","v":" "},{"$f":"IF(FR48=\" \",\" \",ROUND(VLOOKUP(FR44,Kurināmais!$A$4:$I$351,9,FALSE),2))","v":" "},{"$f":"IF(FS48=\" \",\" \",ROUND(VLOOKUP(FS44,Kurināmais!$A$4:$I$351,9,FALSE),2))","v":" "},{"$f":"IF(FT48=\" \",\" \",ROUND(VLOOKUP(FT44,Kurināmais!$A$4:$I$351,9,FALSE),2))","v":" "},{"$f":"IF(FU48=\" \",\" \",ROUND(VLOOKUP(FU44,Kurināmais!$A$4:$I$351,9,FALSE),2))","v":" "},{"$f":"IF(FV48=\" \",\" \",ROUND(VLOOKUP(FV44,Kurināmais!$A$4:$I$351,9,FALSE),2))","v":" "},{"$f":"IF(FW48=\" \",\" \",ROUND(VLOOKUP(FW44,Kurināmais!$A$4:$I$351,9,FALSE),2))","v":" "},{"$f":"IF(FX48=\" \",\" \",ROUND(VLOOKUP(FX44,Kurināmais!$A$4:$I$351,9,FALSE),2))","v":" "},{"$f":"IF(FY48=\" \",\" \",ROUND(VLOOKUP(FY44,Kurināmais!$A$4:$I$351,9,FALSE),2))","v":" "},{"$f":"IF(FZ48=\" \",\" \",ROUND(VLOOKUP(FZ44,Kurināmais!$A$4:$I$351,9,FALSE),2))","v":" "},{"$f":"IF(GA48=\" \",\" \",ROUND(VLOOKUP(GA44,Kurināmais!$A$4:$I$351,9,FALSE),2))","v":" "},{"$f":"IF(GB48=\" \",\" \",ROUND(VLOOKUP(GB44,Kurināmais!$A$4:$I$351,9,FALSE),2))","v":" "},{"$f":"IF(GC48=\" \",\" \",ROUND(VLOOKUP(GC44,Kurināmais!$A$4:$I$351,9,FALSE),2))","v":" "},{"$f":"IF(OR(GD$16=\" \",GD$16=0,GD47=0),\" \",SUMPRODUCT(GE47:GP47,GE55:GP55)/GD47)","v":" "},{"$f":"IF(GE48=\" \",\" \",ROUND(VLOOKUP(GE44,Kurināmais!$A$4:$I$351,9,FALSE),2))","v":" "},{"$f":"IF(GF48=\" \",\" \",ROUND(VLOOKUP(GF44,Kurināmais!$A$4:$I$351,9,FALSE),2))","v":" "},{"$f":"IF(GG48=\" \",\" \",ROUND(VLOOKUP(GG44,Kurināmais!$A$4:$I$351,9,FALSE),2))","v":" "},{"$f":"IF(GH48=\" \",\" \",ROUND(VLOOKUP(GH44,Kurināmais!$A$4:$I$351,9,FALSE),2))","v":" "},{"$f":"IF(GI48=\" \",\" \",ROUND(VLOOKUP(GI44,Kurināmais!$A$4:$I$351,9,FALSE),2))","v":" "},{"$f":"IF(GJ48=\" \",\" \",ROUND(VLOOKUP(GJ44,Kurināmais!$A$4:$I$351,9,FALSE),2))","v":" "},{"$f":"IF(GK48=\" \",\" \",ROUND(VLOOKUP(GK44,Kurināmais!$A$4:$I$351,9,FALSE),2))","v":" "},{"$f":"IF(GL48=\" \",\" \",ROUND(VLOOKUP(GL44,Kurināmais!$A$4:$I$351,9,FALSE),2))","v":" "},{"$f":"IF(GM48=\" \",\" \",ROUND(VLOOKUP(GM44,Kurināmais!$A$4:$I$351,9,FALSE),2))","v":" "},{"$f":"IF(GN48=\" \",\" \",ROUND(VLOOKUP(GN44,Kurināmais!$A$4:$I$351,9,FALSE),2))","v":" "},{"$f":"IF(GO48=\" \",\" \",ROUND(VLOOKUP(GO44,Kurināmais!$A$4:$I$351,9,FALSE),2))","v":" "},{"$f":"IF(GP48=\" \",\" \",ROUND(VLOOKUP(GP44,Kurināmais!$A$4:$I$351,9,FALSE),2))","v":" "},{"$f":"IF(OR(GQ$16=\" \",GQ$16=0,GQ47=0),\" \",SUMPRODUCT(GR47:HC47,GR55:HC55)/GQ47)","v":" "},{"$f":"IF(GR48=\" \",\" \",ROUND(VLOOKUP(GR44,Kurināmais!$A$4:$I$351,9,FALSE),2))","v":" "},{"$f":"IF(GS48=\" \",\" \",ROUND(VLOOKUP(GS44,Kurināmais!$A$4:$I$351,9,FALSE),2))","v":" "},{"$f":"IF(GT48=\" \",\" \",ROUND(VLOOKUP(GT44,Kurināmais!$A$4:$I$351,9,FALSE),2))","v":" "},{"$f":"IF(GU48=\" \",\" \",ROUND(VLOOKUP(GU44,Kurināmais!$A$4:$I$351,9,FALSE),2))","v":" "},{"$f":"IF(GV48=\" \",\" \",ROUND(VLOOKUP(GV44,Kurināmais!$A$4:$I$351,9,FALSE),2))","v":" "},{"$f":"IF(GW48=\" \",\" \",ROUND(VLOOKUP(GW44,Kurināmais!$A$4:$I$351,9,FALSE),2))","v":" "},{"$f":"IF(GX48=\" \",\" \",ROUND(VLOOKUP(GX44,Kurināmais!$A$4:$I$351,9,FALSE),2))","v":" "},{"$f":"IF(GY48=\" \",\" \",ROUND(VLOOKUP(GY44,Kurināmais!$A$4:$I$351,9,FALSE),2))","v":" "},{"$f":"IF(GZ48=\" \",\" \",ROUND(VLOOKUP(GZ44,Kurināmais!$A$4:$I$351,9,FALSE),2))","v":" "},{"$f":"IF(HA48=\" \",\" \",ROUND(VLOOKUP(HA44,Kurināmais!$A$4:$I$351,9,FALSE),2))","v":" "},{"$f":"IF(HB48=\" \",\" \",ROUND(VLOOKUP(HB44,Kurināmais!$A$4:$I$351,9,FALSE),2))","v":" "},{"$f":"IF(HC48=\" \",\" \",ROUND(VLOOKUP(HC44,Kurināmais!$A$4:$I$351,9,FALSE),2))","v":" "},{"$f":"IF(OR(HD$16=\" \",HD$16=0,HD47=0),\" \",SUMPRODUCT(HE47:HP47,HE55:HP55)/HD47)","v":" "},{"$f":"IF(HE48=\" \",\" \",ROUND(VLOOKUP(HE44,Kurināmais!$A$4:$I$351,9,FALSE),2))","v":" "},{"$f":"IF(HF48=\" \",\" \",ROUND(VLOOKUP(HF44,Kurināmais!$A$4:$I$351,9,FALSE),2))","v":" "},{"$f":"IF(HG48=\" \",\" \",ROUND(VLOOKUP(HG44,Kurināmais!$A$4:$I$351,9,FALSE),2))","v":" "},{"$f":"IF(HH48=\" \",\" \",ROUND(VLOOKUP(HH44,Kurināmais!$A$4:$I$351,9,FALSE),2))","v":" "},{"$f":"IF(HI48=\" \",\" \",ROUND(VLOOKUP(HI44,Kurināmais!$A$4:$I$351,9,FALSE),2))","v":" "},{"$f":"IF(HJ48=\" \",\" \",ROUND(VLOOKUP(HJ44,Kurināmais!$A$4:$I$351,9,FALSE),2))","v":" "},{"$f":"IF(HK48=\" \",\" \",ROUND(VLOOKUP(HK44,Kurināmais!$A$4:$I$351,9,FALSE),2))","v":" "},{"$f":"IF(HL48=\" \",\" \",ROUND(VLOOKUP(HL44,Kurināmais!$A$4:$I$351,9,FALSE),2))","v":" "},{"$f":"IF(HM48=\" \",\" \",ROUND(VLOOKUP(HM44,Kurināmais!$A$4:$I$351,9,FALSE),2))","v":" "},{"$f":"IF(HN48=\" \",\" \",ROUND(VLOOKUP(HN44,Kurināmais!$A$4:$I$351,9,FALSE),2))","v":" "},{"$f":"IF(HO48=\" \",\" \",ROUND(VLOOKUP(HO44,Kurināmais!$A$4:$I$351,9,FALSE),2))","v":" "},{"$f":"IF(HP48=\" \",\" \",ROUND(VLOOKUP(HP44,Kurināmais!$A$4:$I$351,9,FALSE),2))","v":" "},{"$f":"IF(OR(HQ$16=\" \",HQ$16=0,HQ47=0),\" \",SUMPRODUCT(HR47:IC47,HR55:IC55)/HQ47)","v":" "},{"$f":"IF(HR48=\" \",\" \",ROUND(VLOOKUP(HR44,Kurināmais!$A$4:$I$351,9,FALSE),2))","v":" "},{"$f":"IF(HS48=\" \",\" \",ROUND(VLOOKUP(HS44,Kurināmais!$A$4:$I$351,9,FALSE),2))","v":" "},{"$f":"IF(HT48=\" \",\" \",ROUND(VLOOKUP(HT44,Kurināmais!$A$4:$I$351,9,FALSE),2))","v":" "},{"$f":"IF(HU48=\" \",\" \",ROUND(VLOOKUP(HU44,Kurināmais!$A$4:$I$351,9,FALSE),2))","v":" "},{"$f":"IF(HV48=\" \",\" \",ROUND(VLOOKUP(HV44,Kurināmais!$A$4:$I$351,9,FALSE),2))","v":" "},{"$f":"IF(HW48=\" \",\" \",ROUND(VLOOKUP(HW44,Kurināmais!$A$4:$I$351,9,FALSE),2))","v":" "},{"$f":"IF(HX48=\" \",\" \",ROUND(VLOOKUP(HX44,Kurināmais!$A$4:$I$351,9,FALSE),2))","v":" "},{"$f":"IF(HY48=\" \",\" \",ROUND(VLOOKUP(HY44,Kurināmais!$A$4:$I$351,9,FALSE),2))","v":" "},{"$f":"IF(HZ48=\" \",\" \",ROUND(VLOOKUP(HZ44,Kurināmais!$A$4:$I$351,9,FALSE),2))","v":" "},{"$f":"IF(IA48=\" \",\" \",ROUND(VLOOKUP(IA44,Kurināmais!$A$4:$I$351,9,FALSE),2))","v":" "},{"$f":"IF(IB48=\" \",\" \",ROUND(VLOOKUP(IB44,Kurināmais!$A$4:$I$351,9,FALSE),2))","v":" "},{"$f":"IF(IC48=\" \",\" \",ROUND(VLOOKUP(IC44,Kurināmais!$A$4:$I$351,9,FALSE),2))","v":" "},{"$f":"IF(OR(ID$16=\" \",ID$16=0,ID47=0),\" \",SUMPRODUCT(IE47:IP47,IE55:IP55)/ID47)","v":" "},{"$f":"IF(IE48=\" \",\" \",ROUND(VLOOKUP(IE44,Kurināmais!$A$4:$I$351,9,FALSE),2))","v":" "},{"$f":"IF(IF48=\" \",\" \",ROUND(VLOOKUP(IF44,Kurināmais!$A$4:$I$351,9,FALSE),2))","v":" "},{"$f":"IF(IG48=\" \",\" \",ROUND(VLOOKUP(IG44,Kurināmais!$A$4:$I$351,9,FALSE),2))","v":" "},{"$f":"IF(IH48=\" \",\" \",ROUND(VLOOKUP(IH44,Kurināmais!$A$4:$I$351,9,FALSE),2))","v":" "},{"$f":"IF(II48=\" \",\" \",ROUND(VLOOKUP(II44,Kurināmais!$A$4:$I$351,9,FALSE),2))","v":" "},{"$f":"IF(IJ48=\" \",\" \",ROUND(VLOOKUP(IJ44,Kurināmais!$A$4:$I$351,9,FALSE),2))","v":" "},{"$f":"IF(IK48=\" \",\" \",ROUND(VLOOKUP(IK44,Kurināmais!$A$4:$I$351,9,FALSE),2))","v":" "},{"$f":"IF(IL48=\" \",\" \",ROUND(VLOOKUP(IL44,Kurināmais!$A$4:$I$351,9,FALSE),2))","v":" "},{"$f":"IF(IM48=\" \",\" \",ROUND(VLOOKUP(IM44,Kurināmais!$A$4:$I$351,9,FALSE),2))","v":" "},{"$f":"IF(IN48=\" \",\" \",ROUND(VLOOKUP(IN44,Kurināmais!$A$4:$I$351,9,FALSE),2))","v":" "},{"$f":"IF(IO48=\" \",\" \",ROUND(VLOOKUP(IO44,Kurināmais!$A$4:$I$351,9,FALSE),2))","v":" "},{"$f":"IF(IP48=\" \",\" \",ROUND(VLOOKUP(IP44,Kurināmais!$A$4:$I$351,9,FALSE),2))","v":" "},{"$f":"IF(OR(IQ$16=\" \",IQ$16=0,IQ47=0),\" \",SUMPRODUCT(IR47:JC47,IR55:JC55)/IQ47)","v":" "},{"$f":"IF(IR48=\" \",\" \",ROUND(VLOOKUP(IR44,Kurināmais!$A$4:$I$351,9,FALSE),2))","v":" "},{"$f":"IF(IS48=\" \",\" \",ROUND(VLOOKUP(IS44,Kurināmais!$A$4:$I$351,9,FALSE),2))","v":" "},{"$f":"IF(IT48=\" \",\" \",ROUND(VLOOKUP(IT44,Kurināmais!$A$4:$I$351,9,FALSE),2))","v":" "},{"$f":"IF(IU48=\" \",\" \",ROUND(VLOOKUP(IU44,Kurināmais!$A$4:$I$351,9,FALSE),2))","v":" "},{"$f":"IF(IV48=\" \",\" \",ROUND(VLOOKUP(IV44,Kurināmais!$A$4:$I$351,9,FALSE),2))","v":" "},{"$f":"IF(IW48=\" \",\" \",ROUND(VLOOKUP(IW44,Kurināmais!$A$4:$I$351,9,FALSE),2))","v":" "},{"$f":"IF(IX48=\" \",\" \",ROUND(VLOOKUP(IX44,Kurināmais!$A$4:$I$351,9,FALSE),2))","v":" "},{"$f":"IF(IY48=\" \",\" \",ROUND(VLOOKUP(IY44,Kurināmais!$A$4:$I$351,9,FALSE),2))","v":" "},{"$f":"IF(IZ48=\" \",\" \",ROUND(VLOOKUP(IZ44,Kurināmais!$A$4:$I$351,9,FALSE),2))","v":" "},{"$f":"IF(JA48=\" \",\" \",ROUND(VLOOKUP(JA44,Kurināmais!$A$4:$I$351,9,FALSE),2))","v":" "},{"$f":"IF(JB48=\" \",\" \",ROUND(VLOOKUP(JB44,Kurināmais!$A$4:$I$351,9,FALSE),2))","v":" "},{"$f":"IF(JC48=\" \",\" \",ROUND(VLOOKUP(JC44,Kurināmais!$A$4:$I$351,9,FALSE),2))","v":" "},{"$f":"IF(OR(JD$16=\" \",JD$16=0,JD47=0),\" \",SUMPRODUCT(JE47:JP47,JE55:JP55)/JD47)","v":" "},{"$f":"IF(JE48=\" \",\" \",ROUND(VLOOKUP(JE44,Kurināmais!$A$4:$I$351,9,FALSE),2))","v":" "},{"$f":"IF(JF48=\" \",\" \",ROUND(VLOOKUP(JF44,Kurināmais!$A$4:$I$351,9,FALSE),2))","v":" "},{"$f":"IF(JG48=\" \",\" \",ROUND(VLOOKUP(JG44,Kurināmais!$A$4:$I$351,9,FALSE),2))","v":" "},{"$f":"IF(JH48=\" \",\" \",ROUND(VLOOKUP(JH44,Kurināmais!$A$4:$I$351,9,FALSE),2))","v":" "},{"$f":"IF(JI48=\" \",\" \",ROUND(VLOOKUP(JI44,Kurināmais!$A$4:$I$351,9,FALSE),2))","v":" "},{"$f":"IF(JJ48=\" \",\" \",ROUND(VLOOKUP(JJ44,Kurināmais!$A$4:$I$351,9,FALSE),2))","v":" "},{"$f":"IF(JK48=\" \",\" \",ROUND(VLOOKUP(JK44,Kurināmais!$A$4:$I$351,9,FALSE),2))","v":" "},{"$f":"IF(JL48=\" \",\" \",ROUND(VLOOKUP(JL44,Kurināmais!$A$4:$I$351,9,FALSE),2))","v":" "},{"$f":"IF(JM48=\" \",\" \",ROUND(VLOOKUP(JM44,Kurināmais!$A$4:$I$351,9,FALSE),2))","v":" "},{"$f":"IF(JN48=\" \",\" \",ROUND(VLOOKUP(JN44,Kurināmais!$A$4:$I$351,9,FALSE),2))","v":" "},{"$f":"IF(JO48=\" \",\" \",ROUND(VLOOKUP(JO44,Kurināmais!$A$4:$I$351,9,FALSE),2))","v":" "},{"$f":"IF(JP48=\" \",\" \",ROUND(VLOOKUP(JP44,Kurināmais!$A$4:$I$351,9,FALSE),2))","v":" "},{"$f":"IF(OR(JQ$16=\" \",JQ$16=0,JQ47=0),\" \",SUMPRODUCT(JR47:KC47,JR55:KC55)/JQ47)","v":" "},{"$f":"IF(JR48=\" \",\" \",ROUND(VLOOKUP(JR44,Kurināmais!$A$4:$I$351,9,FALSE),2))","v":" "},{"$f":"IF(JS48=\" \",\" \",ROUND(VLOOKUP(JS44,Kurināmais!$A$4:$I$351,9,FALSE),2))","v":" "},{"$f":"IF(JT48=\" \",\" \",ROUND(VLOOKUP(JT44,Kurināmais!$A$4:$I$351,9,FALSE),2))","v":" "},{"$f":"IF(JU48=\" \",\" \",ROUND(VLOOKUP(JU44,Kurināmais!$A$4:$I$351,9,FALSE),2))","v":" "},{"$f":"IF(JV48=\" \",\" \",ROUND(VLOOKUP(JV44,Kurināmais!$A$4:$I$351,9,FALSE),2))","v":" "},{"$f":"IF(JW48=\" \",\" \",ROUND(VLOOKUP(JW44,Kurināmais!$A$4:$I$351,9,FALSE),2))","v":" "},{"$f":"IF(JX48=\" \",\" \",ROUND(VLOOKUP(JX44,Kurināmais!$A$4:$I$351,9,FALSE),2))","v":" "},{"$f":"IF(JY48=\" \",\" \",ROUND(VLOOKUP(JY44,Kurināmais!$A$4:$I$351,9,FALSE),2))","v":" "},{"$f":"IF(JZ48=\" \",\" \",ROUND(VLOOKUP(JZ44,Kurināmais!$A$4:$I$351,9,FALSE),2))","v":" "},{"$f":"IF(KA48=\" \",\" \",ROUND(VLOOKUP(KA44,Kurināmais!$A$4:$I$351,9,FALSE),2))","v":" "},{"$f":"IF(KB48=\" \",\" \",ROUND(VLOOKUP(KB44,Kurināmais!$A$4:$I$351,9,FALSE),2))","v":" "},{"$f":"IF(KC48=\" \",\" \",ROUND(VLOOKUP(KC44,Kurināmais!$A$4:$I$351,9,FALSE),2))","v":" "},{"$f":"IF(OR(KD$16=\" \",KD$16=0,KD47=0),\" \",SUMPRODUCT(KE47:KP47,KE55:KP55)/KD47)","v":" "},{"$f":"IF(KE48=\" \",\" \",ROUND(VLOOKUP(KE44,Kurināmais!$A$4:$I$351,9,FALSE),2))","v":" "},{"$f":"IF(KF48=\" \",\" \",ROUND(VLOOKUP(KF44,Kurināmais!$A$4:$I$351,9,FALSE),2))","v":" "},{"$f":"IF(KG48=\" \",\" \",ROUND(VLOOKUP(KG44,Kurināmais!$A$4:$I$351,9,FALSE),2))","v":" "},{"$f":"IF(KH48=\" \",\" \",ROUND(VLOOKUP(KH44,Kurināmais!$A$4:$I$351,9,FALSE),2))","v":" "},{"$f":"IF(KI48=\" \",\" \",ROUND(VLOOKUP(KI44,Kurināmais!$A$4:$I$351,9,FALSE),2))","v":" "},{"$f":"IF(KJ48=\" \",\" \",ROUND(VLOOKUP(KJ44,Kurināmais!$A$4:$I$351,9,FALSE),2))","v":" "},{"$f":"IF(KK48=\" \",\" \",ROUND(VLOOKUP(KK44,Kurināmais!$A$4:$I$351,9,FALSE),2))","v":" "},{"$f":"IF(KL48=\" \",\" \",ROUND(VLOOKUP(KL44,Kurināmais!$A$4:$I$351,9,FALSE),2))","v":" "},{"$f":"IF(KM48=\" \",\" \",ROUND(VLOOKUP(KM44,Kurināmais!$A$4:$I$351,9,FALSE),2))","v":" "},{"$f":"IF(KN48=\" \",\" \",ROUND(VLOOKUP(KN44,Kurināmais!$A$4:$I$351,9,FALSE),2))","v":" "},{"$f":"IF(KO48=\" \",\" \",ROUND(VLOOKUP(KO44,Kurināmais!$A$4:$I$351,9,FALSE),2))","v":" "},{"$f":"IF(KP48=\" \",\" \",ROUND(VLOOKUP(KP44,Kurināmais!$A$4:$I$351,9,FALSE),2))","v":" "},{"$f":"IF(OR(KQ$16=\" \",KQ$16=0,KQ47=0),\" \",SUMPRODUCT(KR47:LC47,KR55:LC55)/KQ47)","v":" "},{"$f":"IF(KR48=\" \",\" \",ROUND(VLOOKUP(KR44,Kurināmais!$A$4:$I$351,9,FALSE),2))","v":" "},{"$f":"IF(KS48=\" \",\" \",ROUND(VLOOKUP(KS44,Kurināmais!$A$4:$I$351,9,FALSE),2))","v":" "},{"$f":"IF(KT48=\" \",\" \",ROUND(VLOOKUP(KT44,Kurināmais!$A$4:$I$351,9,FALSE),2))","v":" "},{"$f":"IF(KU48=\" \",\" \",ROUND(VLOOKUP(KU44,Kurināmais!$A$4:$I$351,9,FALSE),2))","v":" "},{"$f":"IF(KV48=\" \",\" \",ROUND(VLOOKUP(KV44,Kurināmais!$A$4:$I$351,9,FALSE),2))","v":" "},{"$f":"IF(KW48=\" \",\" \",ROUND(VLOOKUP(KW44,Kurināmais!$A$4:$I$351,9,FALSE),2))","v":" "},{"$f":"IF(KX48=\" \",\" \",ROUND(VLOOKUP(KX44,Kurināmais!$A$4:$I$351,9,FALSE),2))","v":" "},{"$f":"IF(KY48=\" \",\" \",ROUND(VLOOKUP(KY44,Kurināmais!$A$4:$I$351,9,FALSE),2))","v":" "},{"$f":"IF(KZ48=\" \",\" \",ROUND(VLOOKUP(KZ44,Kurināmais!$A$4:$I$351,9,FALSE),2))","v":" "},{"$f":"IF(LA48=\" \",\" \",ROUND(VLOOKUP(LA44,Kurināmais!$A$4:$I$351,9,FALSE),2))","v":" "},{"$f":"IF(LB48=\" \",\" \",ROUND(VLOOKUP(LB44,Kurināmais!$A$4:$I$351,9,FALSE),2))","v":" "},{"$f":"IF(LC48=\" \",\" \",ROUND(VLOOKUP(LC44,Kurināmais!$A$4:$I$351,9,FALSE),2))","v":" "},{"$f":"IF(OR(LD$16=\" \",LD$16=0,LD47=0),\" \",SUMPRODUCT(LE47:LP47,LE55:LP55)/LD47)","v":" "},{"$f":"IF(LE48=\" \",\" \",ROUND(VLOOKUP(LE44,Kurināmais!$A$4:$I$351,9,FALSE),2))","v":" "},{"$f":"IF(LF48=\" \",\" \",ROUND(VLOOKUP(LF44,Kurināmais!$A$4:$I$351,9,FALSE),2))","v":" "},{"$f":"IF(LG48=\" \",\" \",ROUND(VLOOKUP(LG44,Kurināmais!$A$4:$I$351,9,FALSE),2))","v":" "},{"$f":"IF(LH48=\" \",\" \",ROUND(VLOOKUP(LH44,Kurināmais!$A$4:$I$351,9,FALSE),2))","v":" "},{"$f":"IF(LI48=\" \",\" \",ROUND(VLOOKUP(LI44,Kurināmais!$A$4:$I$351,9,FALSE),2))","v":" "},{"$f":"IF(LJ48=\" \",\" \",ROUND(VLOOKUP(LJ44,Kurināmais!$A$4:$I$351,9,FALSE),2))","v":" "},{"$f":"IF(LK48=\" \",\" \",ROUND(VLOOKUP(LK44,Kurināmais!$A$4:$I$351,9,FALSE),2))","v":" "},{"$f":"IF(LL48=\" \",\" \",ROUND(VLOOKUP(LL44,Kurināmais!$A$4:$I$351,9,FALSE),2))","v":" "},{"$f":"IF(LM48=\" \",\" \",ROUND(VLOOKUP(LM44,Kurināmais!$A$4:$I$351,9,FALSE),2))","v":" "},{"$f":"IF(LN48=\" \",\" \",ROUND(VLOOKUP(LN44,Kurināmais!$A$4:$I$351,9,FALSE),2))","v":" "},{"$f":"IF(LO48=\" \",\" \",ROUND(VLOOKUP(LO44,Kurināmais!$A$4:$I$351,9,FALSE),2))","v":" "},{"$f":"IF(LP48=\" \",\" \",ROUND(VLOOKUP(LP44,Kurināmais!$A$4:$I$351,9,FALSE),2))","v":" "},{"$f":"IF(OR(LQ$16=\" \",LQ$16=0,LQ47=0),\" \",SUMPRODUCT(LR47:MC47,LR55:MC55)/LQ47)","v":" "},{"$f":"IF(LR48=\" \",\" \",ROUND(VLOOKUP(LR44,Kurināmais!$A$4:$I$351,9,FALSE),2))","v":" "},{"$f":"IF(LS48=\" \",\" \",ROUND(VLOOKUP(LS44,Kurināmais!$A$4:$I$351,9,FALSE),2))","v":" "},{"$f":"IF(LT48=\" \",\" \",ROUND(VLOOKUP(LT44,Kurināmais!$A$4:$I$351,9,FALSE),2))","v":" "},{"$f":"IF(LU48=\" \",\" \",ROUND(VLOOKUP(LU44,Kurināmais!$A$4:$I$351,9,FALSE),2))","v":" "},{"$f":"IF(LV48=\" \",\" \",ROUND(VLOOKUP(LV44,Kurināmais!$A$4:$I$351,9,FALSE),2))","v":" "},{"$f":"IF(LW48=\" \",\" \",ROUND(VLOOKUP(LW44,Kurināmais!$A$4:$I$351,9,FALSE),2))","v":" "},{"$f":"IF(LX48=\" \",\" \",ROUND(VLOOKUP(LX44,Kurināmais!$A$4:$I$351,9,FALSE),2))","v":" "},{"$f":"IF(LY48=\" \",\" \",ROUND(VLOOKUP(LY44,Kurināmais!$A$4:$I$351,9,FALSE),2))","v":" "},{"$f":"IF(LZ48=\" \",\" \",ROUND(VLOOKUP(LZ44,Kurināmais!$A$4:$I$351,9,FALSE),2))","v":" "},{"$f":"IF(MA48=\" \",\" \",ROUND(VLOOKUP(MA44,Kurināmais!$A$4:$I$351,9,FALSE),2))","v":" "},{"$f":"IF(MB48=\" \",\" \",ROUND(VLOOKUP(MB44,Kurināmais!$A$4:$I$351,9,FALSE),2))","v":" "},{"$f":"IF(MC48=\" \",\" \",ROUND(VLOOKUP(MC44,Kurināmais!$A$4:$I$351,9,FALSE),2))","v":" "},{"$f":"IF(OR(MD$16=\" \",MD$16=0,MD47=0),\" \",SUMPRODUCT(ME47:MP47,ME55:MP55)/MD47)","v":" "},{"$f":"IF(ME48=\" \",\" \",ROUND(VLOOKUP(ME44,Kurināmais!$A$4:$I$351,9,FALSE),2))","v":" "},{"$f":"IF(MF48=\" \",\" \",ROUND(VLOOKUP(MF44,Kurināmais!$A$4:$I$351,9,FALSE),2))","v":" "},{"$f":"IF(MG48=\" \",\" \",ROUND(VLOOKUP(MG44,Kurināmais!$A$4:$I$351,9,FALSE),2))","v":" "},{"$f":"IF(MH48=\" \",\" \",ROUND(VLOOKUP(MH44,Kurināmais!$A$4:$I$351,9,FALSE),2))","v":" "},{"$f":"IF(MI48=\" \",\" \",ROUND(VLOOKUP(MI44,Kurināmais!$A$4:$I$351,9,FALSE),2))","v":" "},{"$f":"IF(MJ48=\" \",\" \",ROUND(VLOOKUP(MJ44,Kurināmais!$A$4:$I$351,9,FALSE),2))","v":" "},{"$f":"IF(MK48=\" \",\" \",ROUND(VLOOKUP(MK44,Kurināmais!$A$4:$I$351,9,FALSE),2))","v":" "},{"$f":"IF(ML48=\" \",\" \",ROUND(VLOOKUP(ML44,Kurināmais!$A$4:$I$351,9,FALSE),2))","v":" "},{"$f":"IF(MM48=\" \",\" \",ROUND(VLOOKUP(MM44,Kurināmais!$A$4:$I$351,9,FALSE),2))","v":" "},{"$f":"IF(MN48=\" \",\" \",ROUND(VLOOKUP(MN44,Kurināmais!$A$4:$I$351,9,FALSE),2))","v":" "},{"$f":"IF(MO48=\" \",\" \",ROUND(VLOOKUP(MO44,Kurināmais!$A$4:$I$351,9,FALSE),2))","v":" "},{"$f":"IF(MP48=\" \",\" \",ROUND(VLOOKUP(MP44,Kurināmais!$A$4:$I$351,9,FALSE),2))","v":" "},{"$f":"IF(OR(MQ$16=\" \",MQ$16=0,MQ47=0),\" \",SUMPRODUCT(MR47:NC47,MR55:NC55)/MQ47)","v":" "},{"$f":"IF(MR48=\" \",\" \",ROUND(VLOOKUP(MR44,Kurināmais!$A$4:$I$351,9,FALSE),2))","v":" "},{"$f":"IF(MS48=\" \",\" \",ROUND(VLOOKUP(MS44,Kurināmais!$A$4:$I$351,9,FALSE),2))","v":" "},{"$f":"IF(MT48=\" \",\" \",ROUND(VLOOKUP(MT44,Kurināmais!$A$4:$I$351,9,FALSE),2))","v":" "},{"$f":"IF(MU48=\" \",\" \",ROUND(VLOOKUP(MU44,Kurināmais!$A$4:$I$351,9,FALSE),2))","v":" "},{"$f":"IF(MV48=\" \",\" \",ROUND(VLOOKUP(MV44,Kurināmais!$A$4:$I$351,9,FALSE),2))","v":" "},{"$f":"IF(MW48=\" \",\" \",ROUND(VLOOKUP(MW44,Kurināmais!$A$4:$I$351,9,FALSE),2))","v":" "},{"$f":"IF(MX48=\" \",\" \",ROUND(VLOOKUP(MX44,Kurināmais!$A$4:$I$351,9,FALSE),2))","v":" "},{"$f":"IF(MY48=\" \",\" \",ROUND(VLOOKUP(MY44,Kurināmais!$A$4:$I$351,9,FALSE),2))","v":" "},{"$f":"IF(MZ48=\" \",\" \",ROUND(VLOOKUP(MZ44,Kurināmais!$A$4:$I$351,9,FALSE),2))","v":" "},{"$f":"IF(NA48=\" \",\" \",ROUND(VLOOKUP(NA44,Kurināmais!$A$4:$I$351,9,FALSE),2))","v":" "},{"$f":"IF(NB48=\" \",\" \",ROUND(VLOOKUP(NB44,Kurināmais!$A$4:$I$351,9,FALSE),2))","v":" "},{"$f":"IF(NC48=\" \",\" \",ROUND(VLOOKUP(NC44,Kurināmais!$A$4:$I$351,9,FALSE),2))","v":" "},{"$f":"IF(OR(ND$16=\" \",ND$16=0,ND47=0),\" \",SUMPRODUCT(NE47:NP47,NE55:NP55)/ND47)","v":" "},{"$f":"IF(NE48=\" \",\" \",ROUND(VLOOKUP(NE44,Kurināmais!$A$4:$I$351,9,FALSE),2))","v":" "},{"$f":"IF(NF48=\" \",\" \",ROUND(VLOOKUP(NF44,Kurināmais!$A$4:$I$351,9,FALSE),2))","v":" "},{"$f":"IF(NG48=\" \",\" \",ROUND(VLOOKUP(NG44,Kurināmais!$A$4:$I$351,9,FALSE),2))","v":" "},{"$f":"IF(NH48=\" \",\" \",ROUND(VLOOKUP(NH44,Kurināmais!$A$4:$I$351,9,FALSE),2))","v":" "},{"$f":"IF(NI48=\" \",\" \",ROUND(VLOOKUP(NI44,Kurināmais!$A$4:$I$351,9,FALSE),2))","v":" "},{"$f":"IF(NJ48=\" \",\" \",ROUND(VLOOKUP(NJ44,Kurināmais!$A$4:$I$351,9,FALSE),2))","v":" "},{"$f":"IF(NK48=\" \",\" \",ROUND(VLOOKUP(NK44,Kurināmais!$A$4:$I$351,9,FALSE),2))","v":" "},{"$f":"IF(NL48=\" \",\" \",ROUND(VLOOKUP(NL44,Kurināmais!$A$4:$I$351,9,FALSE),2))","v":" "},{"$f":"IF(NM48=\" \",\" \",ROUND(VLOOKUP(NM44,Kurināmais!$A$4:$I$351,9,FALSE),2))","v":" "},{"$f":"IF(NN48=\" \",\" \",ROUND(VLOOKUP(NN44,Kurināmais!$A$4:$I$351,9,FALSE),2))","v":" "},{"$f":"IF(NO48=\" \",\" \",ROUND(VLOOKUP(NO44,Kurināmais!$A$4:$I$351,9,FALSE),2))","v":" "},{"$f":"IF(NP48=\" \",\" \",ROUND(VLOOKUP(NP44,Kurināmais!$A$4:$I$351,9,FALSE),2))","v":" "}]
["Kurināmā izdevumi","EUR"," ",{"$f":"IF(OR(D$16=\" \",D$16=0),\" \",SUM(E56:P56))","v":" "},{"$f":"IF(E48=\" \",\" \",((($C$7+$C$11)*$BD$6)/$C$12)/12*E55)","v":" "}," "," "," "," "," "," "," "," "," "," "," ",{"$f":"IF(OR(Q$16=\" \",Q$16=0),\" \",SUM(R56:AC56))","v":" "},{"$f":"IF(R48=\" \",\" \",((($C$7+$C$11)*$BD$6)/$C$12)/12*R55)","v":" "}," "," "," "," "," "," "," "," "," "," "," ",{"$f":"IF(OR(AD$16=\" \",AD$16=0),\" \",SUM(AE56:AP56))","v":" "},{"$f":"IF(AE48=\" \",\" \",((($C$7+$C$11)*$BD$6)/$C$12)/12*AE55)","v":" "}," "," "," "," "," "," "," "," "," "," "," ",{"$f":"IF(OR(AQ$16=\" \",AQ$16=0),\" \",SUM(AR56:BC56))","v":" "},{"$f":"IF(AR48=\" \",\" \",((($C$7+$C$11)*$BD$6)/$C$12)/12*AR55)","v":" "}," "," "," "," "," "," "," "," "," "," "," ",{"$f":"IF(OR(BD$16=\" \",BD$16=0),\" \",SUM(BE56:BP56))","v":" "},{"$f":"IF(BE48=\" \",\" \",((($C$7+$C$11)*$BD$6)/$C$12)/12*BE55)","v":" "}," "," "," "," "," "," "," "," "," "," "," ",{"$f":"IF(OR(BQ$16=\" \",BQ$16=0),\" \",SUM(BR56:CC56))","v":" "},{"$f":"IF(BR48=\" \",\" \",((($C$7+$C$11)*$BD$6)/$C$12)/12*BR55)","v":" "}," "," "," "," "," "," "," "," "," "," "," ",{"$f":"IF(OR(CD$16=\" \",CD$16=0),\" \",SUM(CE56:CP56))","v":" "},{"$f":"IF(CE48=\" \",\" \",((($C$7+$C$11)*$BD$6)/$C$12)/12*CE55)","v":" "}," "," "," "," "," "," "," "," "," "," "," ",{"$f":"IF(OR(CQ$16=\" \",CQ$16=0),\" \",SUM(CR56:DC56))","v":" "},{"$f":"IF(CR48=\" \",\" \",((($C$7+$C$11)*$BD$6)/$C$12)/12*CR55)","v":" "}," "," "," "," "," "," "," "," "," "," "," ",{"$f":"IF(OR(DD$16=\" \",DD$16=0),\" \",SUM(DE56:DP56))","v":" "},{"$f":"IF(DE48=\" \",\" \",((($C$7+$C$11)*$BD$6)/$C$12)/12*DE55)","v":" "}," "," "," "," "," "," "," "," "," "," "," ",{"$f":"IF(OR(DQ$16=\" \",DQ$16=0),\" \",SUM(DR56:EC56))","v":" "},{"$f":"IF(DR48=\" \",\" \",((($C$7+$C$11)*$BD$6)/$C$12)/12*DR55)","v":" "}," "," "," "," "," "," "," "," "," "," "," ",{"$f":"IF(OR(ED$16=\" \",ED$16=0),\" \",SUM(EE56:EP56))","v":" "},{"$f":"IF(EE48=\" \",\" \",((($C$7+$C$11)*$BD$6)/$C$12)/12*EE55)","v":" "}," "," "," "," "," "," "," "," "," "," "," ",{"$f":"IF(OR(EQ$16=\" \",EQ$16=0),\" \",SUM(ER56:FC56))","v":" "},{"$f":"IF(ER48=\" \",\" \",((($C$7+$C$11)*$BD$6)/$C$12)/12*ER55)","v":" "}," "," "," "," "," "," "," "," "," "," "," ",{"$f":"IF(OR(FD$16=\" \",FD$16=0),\" \",SUM(FE56:FP56))","v":" "},{"$f":"IF(FE48=\" \",\" \",((($C$7+$C$11)*$BD$6)/$C$12)/12*FE55)","v":" "}," "," "," "," "," "," "," "," "," "," "," ",{"$f":"IF(OR(FQ$16=\" \",FQ$16=0),\" \",SUM(FR56:GC56))","v":" "},{"$f":"IF(FR48=\" \",\" \",((($C$7+$C$11)*$BD$6)/$C$12)/12*FR55)","v":" "}," "," "," "," "," "," "," "," "," "," "," ",{"$f":"IF(OR(GD$16=\" \",GD$16=0),\" \",SUM(GE56:GP56))","v":" "},{"$f":"IF(GE48=\" \",\" \",((($C$7+$C$11)*$BD$6)/$C$12)/12*GE55)","v":" "}," "," "," "," "," "," "," "," "," "," "," ",{"$f":"IF(OR(GQ$16=\" \",GQ$16=0),\" \",SUM(GR56:HC56))","v":" "},{"$f":"IF(GR48=\" \",\" \",((($C$7+$C$11)*$BD$6)/$C$12)/12*GR55)","v":" "}," "," "," "," "," "," "," "," "," "," "," ",{"$f":"IF(OR(HD$16=\" \",HD$16=0),\" \",SUM(HE56:HP56))","v":" "},{"$f":"IF(HE48=\" \",\" \",((($C$7+$C$11)*$BD$6)/$C$12)/12*HE55)","v":" "}," "," "," "," "," "," "," "," "," "," "," ",{"$f":"IF(OR(HQ$16=\" \",HQ$16=0),\" \",SUM(HR56:IC56))","v":" "},{"$f":"IF(HR48=\" \",\" \",((($C$7+$C$11)*$BD$6)/$C$12)/12*HR55)","v":" "}," "," "," "," "," "," "," "," "," "," "," ",{"$f":"IF(OR(ID$16=\" \",ID$16=0),\" \",SUM(IE56:IP56))","v":" "},{"$f":"IF(IE48=\" \",\" \",((($C$7+$C$11)*$BD$6)/$C$12)/12*IE55)","v":" "}," "," "," "," "," "," "," "," "," "," "," ",{"$f":"IF(OR(IQ$16=\" \",IQ$16=0),\" \",SUM(IR56:JC56))","v":" "},{"$f":"IF(IR48=\" \",\" \",((($C$7+$C$11)*$BD$6)/$C$12)/12*IR55)","v":" "}," "," "," "," "," "," "," "," "," "," "," ",{"$f":"IF(OR(JD$16=\" \",JD$16=0),\" \",SUM(JE56:JP56))","v":" "},{"$f":"IF(JE48=\" \",\" \",((($C$7+$C$11)*$BD$6)/$C$12)/12*JE55)","v":" "}," "," "," "," "," "," "," "," "," "," "," ",{"$f":"IF(OR(JQ$16=\" \",JQ$16=0),\" \",SUM(JR56:KC56))","v":" "},{"$f":"IF(JR48=\" \",\" \",((($C$7+$C$11)*$BD$6)/$C$12)/12*JR55)","v":" "}," "," "," "," "," "," "," "," "," "," "," ",{"$f":"IF(OR(KD$16=\" \",KD$16=0),\" \",SUM(KE56:KP56))","v":" "},{"$f":"IF(KE48=\" \",\" \",((($C$7+$C$11)*$BD$6)/$C$12)/12*KE55)","v":" "}," "," "," "," "," "," "," "," "," "," "," ",{"$f":"IF(OR(KQ$16=\" \",KQ$16=0),\" \",SUM(KR56:LC56))","v":" "},{"$f":"IF(KR48=\" \",\" \",((($C$7+$C$11)*$BD$6)/$C$12)/12*KR55)","v":" "}," "," "," "," "," "," "," "," "," "," "," ",{"$f":"IF(OR(LD$16=\" \",LD$16=0),\" \",SUM(LE56:LP56))","v":" "},{"$f":"IF(LE48=\" \",\" \",((($C$7+$C$11)*$BD$6)/$C$12)/12*LE55)","v":" "}," "," "," "," "," "," "," "," "," "," "," ",{"$f":"IF(OR(LQ$16=\" \",LQ$16=0),\" \",SUM(LR56:MC56))","v":" "},{"$f":"IF(LR48=\" \",\" \",((($C$7+$C$11)*$BD$6)/$C$12)/12*LR55)","v":" "}," "," "," "," "," "," "," "," "," "," "," ",{"$f":"IF(OR(MD$16=\" \",MD$16=0),\" \",SUM(ME56:MP56))","v":" "},{"$f":"IF(ME48=\" \",\" \",((($C$7+$C$11)*$BD$6)/$C$12)/12*ME55)","v":" "}," "," "," "," "," "," "," "," "," "," "," ",{"$f":"IF(OR(MQ$16=\" \",MQ$16=0),\" \",SUM(MR56:NC56))","v":" "},{"$f":"IF(MR48=\" \",\" \",((($C$7+$C$11)*$BD$6)/$C$12)/12*MR55)","v":" "}," "," "," "," "," "," "," "," "," "," "," ",{"$f":"IF(OR(ND$16=\" \",ND$16=0),\" \",SUM(NE56:NP56))","v":" "},{"$f":"IF(NE48=\" \",\" \",((($C$7+$C$11)*$BD$6)/$C$12)/12*NE55)","v":" "}," "," "," "," "," "," "," "," "," "," "," "]
["Tīrā Naudas Plūsma","EUR",null,{"$f":"IF(D48=\" \",\" \",SUM(E57:P57)+D51)","v":" "},{"$f":"IF(OR(E48=\" \",E48=0),\" \",E45-E52)","v":" "}," "," "," "," "," "," "," "," "," "," "," ",{"$f":"IF(Q48=\" \",\" \",SUM(R57:AC57)+Q51)","v":" "},{"$f":"IF(OR(R48=\" \",R48=0),\" \",R45-R52)","v":" "}," "," "," "," "," "," "," "," "," "," "," ",{"$f":"IF(AD48=\" \",\" \",SUM(AE57:AP57)+AD51)","v":" "},{"$f":"IF(OR(AE48=\" \",AE48=0),\" \",AE45-AE52)","v":" "}," "," "," "," "," "," "," "," "," "," "," ",{"$f":"IF(AQ48=\" \",\" \",SUM(AR57:BC57)+AQ51)","v":" "},{"$f":"IF(OR(AR48=\" \",AR48=0),\" \",AR45-AR52)","v":" "}," "," "," "," "," "," "," "," "," "," "," ",{"$f":"IF(BD48=\" \",\" \",SUM(BE57:BP57)+BD51)","v":" "},{"$f":"IF(OR(BE48=\" \",BE48=0),\" \",BE45-BE52)","v":" "}," "," "," "," "," "," "," "," "," "," "," ",{"$f":"IF(BQ48=\" \",\" \",SUM(BR57:CC57)+BQ51)","v":" "},{"$f":"IF(OR(BR48=\" \",BR48=0),\" \",BR45-BR52)","v":" "}," "," "," "," "," "," "," "," "," "," "," ",{"$f":"IF(CD48=\" \",\" \",SUM(CE57:CP57)+CD51)","v":" "},{"$f":"IF(OR(CE48=\" \",CE48=0),\" \",CE45-CE52)","v":" "}," "," "," "," "," "," "," "," "," "," "," ",{"$f":"IF(CQ48=\" \",\" \",SUM(CR57:DC57)+CQ51)","v":" "},{"$f":"IF(OR(CR48=\" \",CR48=0),\" \",CR45-CR52)","v":" "}," "," "," "," "," "," "," "," "," "," "," ",{"$f":"IF(DD48=\" \",\" \",SUM(DE57:DP57)+DD51)","v":" "},{"$f":"IF(OR(DE48=\" \",DE48=0),\" \",DE45-DE52)","v":" "}," "," "," "," "," "," "," "," "," "," "," ",{"$f":"IF(DQ48=\" \",\" \",SUM(DR57:EC57)+DQ51)","v":" "},{"$f":"IF(OR(DR48=\" \",DR48=0),\" \",DR45-DR52)","v":" "}," "," "," "," "," "," "," "," "," "," "," ",{"$f":"IF(ED48=\" \",\" \",SUM(EE57:EP57)+ED51)","v":" "},{"$f":"IF(OR(EE48=\" \",EE48=0),\" \",EE45-EE52)","v":" "}," "," "," "," "," "," "," "," "," "," "," ",{"$f":"IF(EQ48=\" \",\" \",SUM(ER57:FC57)+EQ51)","v":" "},{"$f":"IF(OR(ER48=\" \",ER48=0),\" \",ER45-ER52)","v":" "}," "," "," "," "," "," "," "," "," "," "," ",{"$f":"IF(FD48=\" \",\" \",SUM(FE57:FP57)+FD51)","v":" "},{"$f":"IF(OR(FE48=\" \",FE48=0),\" \",FE45-FE52)","v":" "}," "," "," "," "," "," "," "," "," "," "," ",{"$f":"IF(FQ48=\" \",\" \",SUM(FR57:GC57)+FQ51)","v":" "},{"$f":"IF(OR(FR48=\" \",FR48=0),\" \",FR45-FR52)","v":" "}," "," "," "," "," "," "," "," "," "," "," ",{"$f":"IF(GD48=\" \",\" \",SUM(GE57:GP57)+GD51)","v":" "},{"$f":"IF(OR(GE48=\" \",GE48=0),\" \",GE45-GE52)","v":" "}," "," "," "," "," "," "," "," "," "," "," ",{"$f":"IF(GQ48=\" \",\" \",SUM(GR57:HC57)+GQ51)","v":" "},{"$f":"IF(OR(GR48=\" \",GR48=0),\" \",GR45-GR52)","v":" "}," "," "," "," "," "," "," "," "," "," "," ",{"$f":"IF(HD48=\" \",\" \",SUM(HE57:HP57)+HD51)","v":" "},{"$f":"IF(OR(HE48=\" \",HE48=0),\" \",HE45-HE52)","v":" "}," "," "," "," "," "," "," "," "," "," "," ",{"$f":"IF(HQ48=\" \",\" \",SUM(HR57:IC57)+HQ51)","v":" "},{"$f":"IF(OR(HR48=\" \",HR48=0),\" \",HR45-HR52)","v":" "}," "," "," "," "," "," "," "," "," "," "," ",{"$f":"IF(ID48=\" \",\" \",SUM(IE57:IP57)+ID51)","v":" "},{"$f":"IF(OR(IE48=\" \",IE48=0),\" \",IE45-IE52)","v":" "}," "," "," "," "," "," "," "," "," "," "," ",{"$f":"IF(IQ48=\" \",\" \",SUM(IR57:JC57)+IQ51)","v":" "},{"$f":"IF(OR(IR48=\" \",IR48=0),\" \",IR45-IR52)","v":" "}," "," "," "," "," "," "," "," "," "," "," ",{"$f":"IF(JD48=\" \",\" \",SUM(JE57:JP57)+JD51)","v":" "},{"$f":"IF(OR(JE48=\" \",JE48=0),\" \",JE45-JE52)","v":" "}," "," "," "," "," "," "," "," "," "," "," ",{"$f":"IF(JQ48=\" \",\" \",SUM(JR57:KC57)+JQ51)","v":" "},{"$f":"IF(OR(JR48=\" \",JR48=0),\" \",JR45-JR52)","v":" "}," "," "," "," "," "," "," "," "," "," "," ",{"$f":"IF(KD48=\" \",\" \",SUM(KE57:KP57)+KD51)","v":" "},{"$f":"IF(OR(KE48=\" \",KE48=0),\" \",KE45-KE52)","v":" "}," "," "," "," "," "," "," "," "," "," "," ",{"$f":"IF(KQ48=\" \",\" \",SUM(KR57:LC57)+KQ51)","v":" "},{"$f":"IF(OR(KR48=\" \",KR48=0),\" \",KR45-KR52)","v":" "}," "," "," "," "," "," "," "," "," "," "," ",{"$f":"IF(LD48=\" \",\" \",SUM(LE57:LP57)+LD51)","v":" "},{"$f":"IF(OR(LE48=\" \",LE48=0),\" \",LE45-LE52)","v":" "}," "," "," "," "," "," "," "," "," "," "," ",{"$f":"IF(LQ48=\" \",\" \",SUM(LR57:MC57)+LQ51)","v":" "},{"$f":"IF(OR(LR48=\" \",LR48=0),\" \",LR45-LR52)","v":" "}," "," "," "," "," "," "," "," "," "," "," ",{"$f":"IF(MD48=\" \",\" \",SUM(ME57:MP57)+MD51)","v":" "},{"$f":"IF(OR(ME48=\" \",ME48=0),\" \",ME45-ME52)","v":" "}," "," "," "," "," "," "," "," "," "," "," ",{"$f":"IF(MQ48=\" \",\" \",SUM(MR57:NC57)+MQ51)","v":" "},{"$f":"IF(OR(MR48=\" \",MR48=0),\" \",MR45-MR52)","v":" "}," "," "," "," "," "," "," "," "," "," "," ",{"$f":"IF(ND48=\" \",\" \",SUM(NE57:NP57)+ND51)","v":" "},{"$f":"IF(OR(NE48=\" \",NE48=0),\" \",NE45-NE52)","v":" "}," "," "," "," "," "," "," "," "," "," "," "]
["Tīrā Naudas Plūsma un investīcijas",null,{"$f":"IF(AND(C$16>=0,C$16<=$NQ$4+1),IF(C$16=0,-$C$8-$C$9+C51,C57),\" \")","v":" "},{"$f":"IF(AND(D$16>=0,D$16<=$NQ$4+1),IF(D$16=0,-$C$8-$C$9+D51,D57),\" \")","v":" "},null,null,null,null,null,null,null,null,null,null,null,null,{"$f":"IF(AND(Q$16>=0,Q$16<=$NQ$4+1),IF(Q$16=0,-$C$8-$C$9+Q51,Q57),\" \")","v":" "},null,null,null,null,null,null,null,null,null,null,null,null,{"$f":"IF(AND(AD$16>=0,AD$16<=$NQ$4+1),IF(AD$16=0,-$C$8-$C$9+AD51,AD57),\" \")","v":" "},null,null,null,null,null,null,null,null,null,null,null,null,{"$f":"IF(AND(AQ$16>=0,AQ$16<=$NQ$4+1),IF(AQ$16=0,-$C$8-$C$9+AQ51,AQ57),\" \")","v":" "},null,null,null,null,null,null,null,null,null,null,null,null,{"$f":"IF(AND(BD$16>=0,BD$16<=$NQ$4+1),IF(BD$16=0,-$C$8-$C$9+BD51,BD57),\" \")","v":" "},null,null,null,null,null,null,null,null,null,null,null,null,{"$f":"IF(AND(BQ$16>=0,BQ$16<=$NQ$4+1),IF(BQ$16=0,-$C$8-$C$9+BQ51,BQ57),\" \")","v":" "},null,null,null,null,null,null,null,null,null,null,null,null,{"$f":"IF(AND(CD$16>=0,CD$16<=$NQ$4+1),IF(CD$16=0,-$C$8-$C$9+CD51,CD57),\" \")","v":" "},null,null,null,null,null,null,null,null,null,null,null,null,{"$f":"IF(AND(CQ$16>=0,CQ$16<=$NQ$4+1),IF(CQ$16=0,-$C$8-$C$9+CQ51,CQ57),\" \")","v":" "},null,null,null,null,null,null,null,null,null,null,null,null,{"$f":"IF(AND(DD$16>=0,DD$16<=$NQ$4+1),IF(DD$16=0,-$C$8-$C$9+DD51,DD57),\" \")","v":" "},null,null,null,null,null,null,null,null,null,null,null,null,{"$f":"IF(AND(DQ$16>=0,DQ$16<=$NQ$4+1),IF(DQ$16=0,-$C$8-$C$9+DQ51,DQ57),\" \")","v":" "},null,null,null,null,null,null,null,null,null,null,null,null,{"$f":"IF(AND(ED$16>=0,ED$16<=$NQ$4+1),IF(ED$16=0,-$C$8-$C$9+ED51,ED57),\" \")","v":" "},null,null,null,null,null,null,null,null,null,null,null,null,{"$f":"IF(AND(EQ$16>=0,EQ$16<=$NQ$4+1),IF(EQ$16=0,-$C$8-$C$9+EQ51,EQ57),\" \")","v":" "},null,null,null,null,null,null,null,null,null,null,null,null,{"$f":"IF(AND(FD$16>=0,FD$16<=$NQ$4+1),IF(FD$16=0,-$C$8-$C$9+FD51,FD57),\" \")","v":" "},null,null,null,null,null,null,null,null,null,null,null,null,{"$f":"IF(AND(FQ$16>=0,FQ$16<=$NQ$4+1),IF(FQ$16=0,-$C$8-$C$9+FQ51,FQ57),\" \")","v":" "},null,null,null,null,null,null,null,null,null,null,null,null,{"$f":"IF(AND(GD$16>=0,GD$16<=$NQ$4+1),IF(GD$16=0,-$C$8-$C$9+GD51,GD57),\" \")","v":" "},null,null,null,null,null,null,null,null,null,null,null,null,{"$f":"IF(AND(GQ$16>=0,GQ$16<=$NQ$4+1),IF(GQ$16=0,-$C$8-$C$9+GQ51,GQ57),\" \")","v":" "},null,null,null,null,null,null,null,null,null,null,null,null,{"$f":"IF(AND(HD$16>=0,HD$16<=$NQ$4+1),IF(HD$16=0,-$C$8-$C$9+HD51,HD57),\" \")","v":" "},null,null,null,null,null,null,null,null,null,null,null,null,{"$f":"IF(AND(HQ$16>=0,HQ$16<=$NQ$4+1),IF(HQ$16=0,-$C$8-$C$9+HQ51,HQ57),\" \")","v":" "},null,null,null,null,null,null,null,null,null,null,null,null,{"$f":"IF(AND(ID$16>=0,ID$16<=$NQ$4+1),IF(ID$16=0,-$C$8-$C$9+ID51,ID57),\" \")","v":" "},null,null,null,null,null,null,null,null,null,null,null,null,{"$f":"IF(AND(IQ$16>=0,IQ$16<=$NQ$4+1),IF(IQ$16=0,-$C$8-$C$9+IQ51,IQ57),\" \")","v":" "},null,null,null,null,null,null,null,null,null,null,null,null,{"$f":"IF(AND(JD$16>=0,JD$16<=$NQ$4+1),IF(JD$16=0,-$C$8-$C$9+JD51,JD57),\" \")","v":" "},null,null,null,null,null,null,null,null,null,null,null,null,{"$f":"IF(AND(JQ$16>=0,JQ$16<=$NQ$4+1),IF(JQ$16=0,-$C$8-$C$9+JQ51,JQ57),\" \")","v":" "},null,null,null,null,null,null,null,null,null,null,null,null,{"$f":"IF(AND(KD$16>=0,KD$16<=$NQ$4+1),IF(KD$16=0,-$C$8-$C$9+KD51,KD57),\" \")","v":" "},null,null,null,null,null,null,null,null,null,null,null,null,{"$f":"IF(AND(KQ$16>=0,KQ$16<=$NQ$4+1),IF(KQ$16=0,-$C$8-$C$9+KQ51,KQ57),\" \")","v":" "},null,null,null,null,null,null,null,null,null,null,null,null,{"$f":"IF(AND(LD$16>=0,LD$16<=$NQ$4+1),IF(LD$16=0,-$C$8-$C$9+LD51,LD57),\" \")","v":" "},null,null,null,null,null,null,null,null,null,null,null,null,{"$f":"IF(AND(LQ$16>=0,LQ$16<=$NQ$4+1),IF(LQ$16=0,-$C$8-$C$9+LQ51,LQ57),\" \")","v":" "},null,null,null,null,null,null,null,null,null,null,null,null,{"$f":"IF(AND(MD$16>=0,MD$16<=$NQ$4+1),IF(MD$16=0,-$C$8-$C$9+MD51,MD57),\" \")","v":" "},null,null,null,null,null,null,null,null,null,null,null,null,{"$f":"IF(AND(MQ$16>=0,MQ$16<=$NQ$4+1),IF(MQ$16=0,-$C$8-$C$9+MQ51,MQ57),\" \")","v":" "},null,null,null,null,null,null,null,null,null,null,null,null,{"$f":"IF(AND(ND$16>=0,ND$16<=$NQ$4+1),IF(ND$16=0,-$C$8-$C$9+ND51,ND57),\" \")","v":" "}]
["IRR",null,null,{"$f":"IF(OR(D58=\" \",D$16<=0),\" \",IRR($C$58:D$58))","v":" "},null,null,null,null,null,null,null,null,null,null,null,null,{"$f":"IF(OR(Q58=\" \",Q$16<=0),\" \",IRR($C$58:Q$58))","v":" "},null,null,null,null,null,null,null,null,null,null,null,null,{"$f":"IF(OR(AD58=\" \",AD$16<=0),\" \",IRR($C$58:AD$58))","v":" "},null,null,null,null,null,null,null,null,null,null,null,null,{"$f":"IF(OR(AQ58=\" \",AQ$16<=0),\" \",IRR($C$58:AQ$58))","v":" "},null,null,null,null,null,null,null,null,null,null,null,null,{"$f":"IF(OR(BD58=\" \",BD$16<=0),\" \",IRR($C$58:BD$58))","v":" "},null,null,null,null,null,null,null,null,null,null,null,null,{"$f":"IF(OR(BQ58=\" \",BQ$16<=0),\" \",IRR($C$58:BQ$58))","v":" "},null,null,null,null,null,null,null,null,null,null,null,null,{"$f":"IF(OR(CD58=\" \",CD$16<=0),\" \",IRR($C$58:CD$58))","v":" "},null,null,null,null,null,null,null,null,null,null,null,null,{"$f":"IF(OR(CQ58=\" \",CQ$16<=0),\" \",IRR($C$58:CQ$58))","v":" "},null,null,null,null,null,null,null,null,null,null,null,null,{"$f":"IF(OR(DD58=\" \",DD$16<=0),\" \",IRR($C$58:DD$58))","v":" "},null,null,null,null,null,null,null,null,null,null,null,null,{"$f":"IF(OR(DQ58=\" \",DQ$16<=0),\" \",IRR($C$58:DQ$58))","v":" "},null,null,null,null,null,null,null,null,null,null,null,null,{"$f":"IF(OR(ED58=\" \",ED$16<=0),\" \",IRR($C$58:ED$58))","v":" "},null,null,null,null,null,null,null,null,null,null,null,null,{"$f":"IF(OR(EQ58=\" \",EQ$16<=0),\" \",IRR($C$58:EQ$58))","v":" "},null,null,null,null,null,null,null,null,null,null,null,null,{"$f":"IF(OR(FD58=\" \",FD$16<=0),\" \",IRR($C$58:FD$58))","v":" "},null,null,null,null,null,null,null,null,null,null,null,null,{"$f":"IF(OR(FQ58=\" \",FQ$16<=0),\" \",IRR($C$58:FQ$58))","v":" "},null,null,null,null,null,null,null,null,null,null,null,null,{"$f":"IF(OR(GD58=\" \",GD$16<=0),\" \",IRR($C$58:GD$58))","v":" "},null,null,null,null,null,null,null,null,null,null,null,null,{"$f":"IF(OR(GQ58=\" \",GQ$16<=0),\" \",IRR($C$58:GQ$58))","v":" "},null,null,null,null,null,null,null,null,null,null,null,null,{"$f":"IF(OR(HD58=\" \",HD$16<=0),\" \",IRR($C$58:HD$58))","v":" "},null,null,null,null,null,null,null,null,null,null,null,null,{"$f":"IF(OR(HQ58=\" \",HQ$16<=0),\" \",IRR($C$58:HQ$58))","v":" "},null,null,null,null,null,null,null,null,null,null,null,null,{"$f":"IF(OR(ID58=\" \",ID$16<=0),\" \",IRR($C$58:ID$58))","v":" "},null,null,null,null,null,null,null,null,null,null,null,null,{"$f":"IF(OR(IQ58=\" \",IQ$16<=0),\" \",IRR($C$58:IQ$58))","v":" "},null,null,null,null,null,null,null,null,null,null,null,null,{"$f":"IF(OR(JD58=\" \",JD$16<=0),\" \",IRR($C$58:JD$58))","v":" "},null,null,null,null,null,null,null,null,null,null,null,null,{"$f":"IF(OR(JQ58=\" \",JQ$16<=0),\" \",IRR($C$58:JQ$58))","v":" "},null,null,null,null,null,null,null,null,null,null,null,null,{"$f":"IF(OR(KD58=\" \",KD$16<=0),\" \",IRR($C$58:KD$58))","v":" "},null,null,null,null,null,null,null,null,null,null,null,null,{"$f":"IF(OR(KQ58=\" \",KQ$16<=0),\" \",IRR($C$58:KQ$58))","v":" "},null,null,null,null,null,null,null,null,null,null,null,null,{"$f":"IF(OR(LD58=\" \",LD$16<=0),\" \",IRR($C$58:LD$58))","v":" "},null,null,null,null,null,null,null,null,null,null,null,null,{"$f":"IF(OR(LQ58=\" \",LQ$16<=0),\" \",IRR($C$58:LQ$58))","v":" "},null,null,null,null,null,null,null,null,null,null,null,null,{"$f":"IF(OR(MD58=\" \",MD$16<=0),\" \",IRR($C$58:MD$58))","v":" "},null,null,null,null,null,null,null,null,null,null,null,null,{"$f":"IF(OR(MQ58=\" \",MQ$16<=0),\" \",IRR($C$58:MQ$58))","v":" "},null,null,null,null,null,null,null,null,null,null,null,null,{"$f":"IF(OR(ND58=\" \",ND$16<=0),\" \",IRR($C$58:ND$58))","v":" "}]
[]
[]
[]
["Jauda no (>)","Līdz (iesk)","Darba stundu skaits gadā","Īpatnējās Investīcijas",null,null,null,null,null,null,null,null,null,null,null,null,"Darbinieku sk",null,null,null,null,null,null,null,null,null,null,null,null,"Ekspluatācijas un pārējās darbības izmaksas",null,null,null,null,null,null,null,null,null,null,null,null,"Elektroenerģijas cena"]
["MWe","MWe","h","EUR/KWe",null,null,null,null,null,null,null,null,null,null,null,null,"Attiecināmās darba slodzes",null,null,null,null,null,null,null,null,null,null,null,null,"%",null,null,null,null,null,null,null,null,null,null,null,null,"Pirmie 10gadi",null,null,null,null,null,null,null,null,null,null,null,null,"Otrie 10 gadi"]
[{"$f":"Līmeņatzīmes!A50","v":0},{"$f":"Līmeņatzīmes!B50","v":1},{"$f":"Līmeņatzīmes!C50","v":5500},{"$f":"Līmeņatzīmes!D50","v":4500},null,null,null,null,null,null,null,null,null,null,null,null,{"$f":"Līmeņatzīmes!E50","v":3},null,null,null,null,null,null,null,null,null,null,null,null,{"$f":"Līmeņatzīmes!F50+Līmeņatzīmes!G50","v":0.04},null,null,null,null,null,null,null,null,null,null,null,null,4.5,4.5,4.5,4.5,4.5,4.5,4.5,4.5,4.5,4.5,4.5,4.5,4.5,3.4]
[{"$f":"Līmeņatzīmes!A51","v":1},{"$f":"Līmeņatzīmes!B51","v":4},{"$f":"Līmeņatzīmes!C51","v":5500},{"$f":"Līmeņatzīmes!D51","v":4000},null,null,null,null,null,null,null,null,null,null,null,null,{"$f":"Līmeņatzīmes!E51","v":5},null,null,null,null,null,null,null,null,null,null,null,null,{"$f":"Līmeņatzīmes!F51+Līmeņatzīmes!G51","v":0.04},null,null,null,null,null,null,null,null,null,null,null,null,4.5,4.5,4.5,4.5,4.5,4.5,4.5,4.5,4.5,4.5,4.5,4.5,4.5,3.4]
[{"$f":"Līmeņatzīmes!A52","v":4},100,{"$f":"Līmeņatzīmes!C52","v":5500},{"$f":"Līmeņatzīmes!D52","v":3600},null,null,null,null,null,null,null,null,null,null,null,null,{"$f":"Līmeņatzīmes!E52","v":7},null,null,null,null,null,null,null,null,null,null,null,null,{"$f":"Līmeņatzīmes!F52+Līmeņatzīmes!G52","v":0.04},null,null,null,null,null,null,null,null,null,null,null,null,3.6,4.5,4.5,4.5,4.5,4.5,4.5,4.5,4.5,4.5,4.5,4.5,4.5,3]

{"sheet":"Līmeņatzīmes","index":2,"n_rows":78,"n_cols":35,"rows_kept":78,"cut":false,"hidden":false,"merged":[[55,5,55,6],[36,4,36,5],[36,6,36,7],[2,0,3,0],[5,0,6,0],[36,2,36,3],[18,2,18,3],[18,4,18,5],[18,6,18,7]]}
["Kopējās"]
[]
["Inflācija",2007,2008,2009,2010,2011,2012,2013,2014,2015,2016,2017,2018,2019,2020,2021,2022,2023,2024,2025,2026,2027,2028,2029,2030,2031,2032,2033,2034,2035,2036,2037,2038,2039,2040]
[null,0.10100000000000001,0.153,3.3000000000000002E-2,-1.2E-2,4.2000000000000003E-2,2.3E-2,0,7.0000000000000001E-3,2E-3,4.0000000000000001E-3,0.02,2.5000000000000001E-2,2.5000000000000001E-2,1.7999999999999999E-2,1.7999999999999999E-2,1.7999999999999999E-2,1.7999999999999999E-2,1.7999999999999999E-2,1.7999999999999999E-2,1.7999999999999999E-2,1.7999999999999999E-2,1.7999999999999999E-2,1.7999999999999999E-2,1.7999999999999999E-2,1.7999999999999999E-2,1.7999999999999999E-2,1.7999999999999999E-2,1.7999999999999999E-2,1.7999999999999999E-2,1.7999999999999999E-2,1.7999999999999999E-2,1.7999999999999999E-2,1.7999999999999999E-2,1.7999999999999999E-2]
[]
["Personāla izmaksas (EUR/mēn)",2007,2008,2009,2010,2011,2012,2013,2014,2015,2016,2017,2018,2019,2020,2021,2022,2023,2024,2025,2026,2027,2028,2029,2030,2031,2032,2033,2034,2035,2036,2037,2038,2039,2040]
[null,1082,1140,1083,1143,1180,1237,1248,1310,1379,1379,1396,1417,1438,1464,1490,1517,1544,1572,1600,1629,1659,1688,1719,1750,1781,1813,1846,1879,1913,1947,1982,2018,2054,2091]
[]
["Vēja elektrostacijas"]
[]
["Līmeņatzīmes"]
["Jauda no (>)","Līdz (iesk)","Darba stundu skaits gadā","Īpatnējās Investīcijas","Darbinieku sk","Ekspluatācijas un pārējās darbības izmaksas","Balansēšanas izdevumi"]
["MWe","MWe","h","EUR/KWe","Attiecināmās darba slodzes","EUR/MWh","% no ieņēmumiem par pārdoto elektroenerģiju"]
[0,0.25,1500,2150,0.5,14,0,0.25]
[0.25,1,2100,1400,{"$f":"E14","v":0.5},14,0.15]
[1,2,2100,1400,{"$f":"E15","v":0.5},14,0.15]
[2,100,2100,1400,5,14,0.1]
[]
["Elektroenerģijas iepirkuma cenas",null,"09.2007-03.2009",null,"04.2009-06.2009",null,"07.2009-"]
["Jauda no (>)","Līdz (iesk)","Pirmie 10 gadi","Otrie 10 gadi","Pirmie 10 gadi","Otrie 10 gadi","Pirmie 10 gadi","Otrie 10 gadi"]
["MWe","MWe","EUR/MWh","EUR/MWh","EUR/MWh","EUR/MWh","EUR/MWh","EUR/MWh"]
[0,0.25,"(Tg*k)/9.2*3.5","(Tg*k)/9.2*2.6","164*k*(1+0.03*0.15*gads pēc kārtas kopš saņemtas tiesības OI)","171*k*(1-0.03*0.15*gads pēc kārtas kopš saņemtas tiesības OI)","147*k","147*k*0.6"]
[0.25,2,"Izsole","Izsole","162*k*(1+0.03*0.15*gads pēc kārtas kopš saņemtas tiesības OI)","169*k*(1-0.03*0.15*gads pēc kārtas kopš saņemtas tiesības OI)","120*k","120*k*0.6"]
[2,null,"Izsole","Izsole","162*k*(1+0.03*0.15*gads pēc kārtas kopš saņemtas tiesības OI)","169*k*(1-0.03*0.15*gads pēc kārtas kopš saņemtas tiesības OI)","120*k","120*k*0.6"]
[]
[]
["Hidroelektrostacijas"]
[]
["Līmeņatzīmes"]
["Jauda no (>)","Līdz (iesk)","Darba stundu skaits gadā","Īpatnējās Investīcijas","Darbinieku sk","Ekspluatācijas un pārējās darbības izmaksas"]
["MWe","MWe","h","EUR/KWe","Attiecināmās darba slodzes","EUR/MWh"]
[0,0.5,2500,2500,0.4,3.5999999999999997E-2]
[0.5,1,2500,2000,0.4,3.7999999999999999E-2]
[1,5,2500,1500,1.8,3.9E-2]
[]
[]
["Elektroenerģijas iepirkuma cenas",null,"09.2007-03.2009",null,"04.2009-06.2009",null,"07.2009-"]
["Jauda no (>)","Līdz (iesk)","Pirmie 10 gadi","Otrie 10 gadi","Pirmie 10 gadi","Otrie 10 gadi","Pirmie 10 gadi","Otrie 10 gadi"]
["MWe","MWe","EUR/MWh","EUR/MWh","EUR/MWh","EUR/MWh","EUR/MWh","EUR/MWh"]
[0,0.5,"(Tg*k)/9.2*3.8","(Tg*k)/9.2*3.8","176*k*(1+0.03*0.15*gads pēc kārtas kopš saņemtas tiesības OI)","176*k*(1+0.03*0.15*gads pēc kārtas kopš saņemtas tiesības OI)","159*k","159*k*0.8"]
[0.5,1,"(Tg*k)/9.2*3.8","(Tg*k)/9.2*3.8","176*k*(1+0.03*0.15*gads pēc kārtas kopš saņemtas tiesības OI)","176*k*(1+0.03*0.15*gads pēc kārtas kopš saņemtas tiesības OI)","159*k","159*k*0.8"]
[1,5,"(Tg*k)/9.2*3.8","(Tg*k)/9.2*3.8","176*k*(1+0.03*0.15*gads pēc kārtas kopš saņemtas tiesības OI)","176*k*(1+0.03*0.15*gads pēc kārtas kopš saņemtas tiesības OI)","159*k","159*k*0.8"]
[]
[null,"Tg - 126 tūkst.n.m3 līdz 1260 tūkst.n.m3 gadā "]
[]
["Biomasas stacijas"]
[]
["Jauda no","līdz (ieskaitot)","Darba stundu skaits gadā","Īpatnējās investīcijas","Darbinieku skaits","Ekspluatācijas izmaksas","Pārējās darbības izmaksas","Lietderīgās siltumenerģijas pārdošanas īpatsvars","Lietderības koeficients siltumenerģijas pārdošanas cenas aprēķinam","Kopējā stacijas efektivitāte"]
["MWe","MWe","h","EUR/KWe","Attiecināmās darba slodzes","% no kopējām investīcijām","% no kopējām investīcijām","% no lietderīgās siltumenerģijas","%","%"]
[0,1,5500,4500,3,0.02,0.02,1,0.8,0.75]
[1,4,{"$f":"C50","v":5500},4000,5,{"$f":"F50","v":0.02},{"$f":"G50","v":0.02},1,0.8,0.75]
[4,null,{"$f":"C51","v":5500},3600,7,{"$f":"F51","v":0.02},0.02,1,0.8,0.75]
[]
["Biogāzes stacijas"]
[]
["Jauda no","līdz (ieskaitot)","Darba stundu skaits gadā","Īpatnējās investīcijas","Darbinieku skaits","Ekspluatācijas izmaksas",null,"Pārējās darbības izmaksas","Lietderīgās siltumenerģijas pārdošanas īpatsvars","Lietderības koeficients siltumenerģijas pārdošanas cenas aprēķinam","Kopējā stacijas efektivitāte"]
["MWe","MWe","h","EUR/KWe","Attiecināmās darba slodzes","10 g. atbalsts; % no kopējām investīcijām","20 g. atbalsts; % no kopējām investīcijām","% no kopējām investīcijām","% no lietderīgās siltumenerģijas","%","%"]
[0,0.5,6800,4000,3,3.3000000000000002E-2,4.7E-2,0.02,0.35,0.92,0.75]
[0.5,1,{"$f":"C58","v":6800},3800,5,3.1E-2,4.2999999999999997E-2,{"$f":"H58","v":0.02},0.35,0.92,0.75]
[1,2,{"$f":"C59","v":6800},3800,6,2.8000000000000001E-2,3.9E-2,{"$f":"H59","v":0.02},0.35,0.92,0.75]
[2,4,6800,3300,6,2.5999999999999999E-2,3.5999999999999997E-2,{"$f":"H60","v":0.02},0.35,0.92,0.75]
[]
[]
["Izejviela","Iegūtās biogāzes apjoms","Cena",null,"Biogāze","Līdz 0,5MW","0,5MW-1MW","1MW-2MW"," Virs 2MW"]
[null,"m3/t","EUR/t",null,"Izejvielu veids","%","%","%","%"]
["Kukurūzas skābbarība",200,42.5,null,"Kukurūzas skābbarība",{"$f":"(100%-F$67)*J66/(J$66+J$68+J$69)","v":0.10877192982456138},{"$f":"(100%-G$67)*K66/(K$66+K$68+K$69)","v":0.26264150943396225},0.34238805970149255,0.34238805970149255,0.31,0.28999999999999998,0.37,0.37]
["Kūtsmēsli",30,3.5,null,"Kūtsmēsli",0.8,0.52,0.38,0.38,0.43,0.47,0.33,0.33]
["Zāles skābbarība",124,27.5,null,"Zāles skābbarība",{"$f":"(100%-F$67)*J68/(J$66+J$68+J$69)","v":1.7543859649122806E-2},{"$f":"(100%-G$67)*K68/(K$66+K$68+K$69)","v":7.2452830188679235E-2},{"$f":"(100%-H$67)*L68/(L$66+L$68+L$69)","v":0.12029850746268658},{"$f":"(100%-I$67)*M68/(M$66+M$68+M$69)","v":0.12029850746268658},0.05,0.08,0.13,0.13]
["Graudaugu skābbarība u.c. izejvielas",105,36,null,"Graudaugu skābbarība u.c. izejvielas",{"$f":"(100%-F$67)*J69/(J$66+J$68+J$69)","v":7.3684210526315769E-2},0.14490566037735844,0.15731343283582092,0.15731343283582092,{"$f":"1-J66-J67-J68","v":0.20999999999999996},{"$f":"1-K66-K67-K68","v":0.15999999999999998},{"$f":"1-L66-L67-L68","v":0.16999999999999998},{"$f":"1-M66-M67-M68","v":0.16999999999999998}]
[null,null,null,null,"Vidēji svērtās izmaksas 2016.g. (EUR/MWhg)",{"$f":"(($C66/$B66)*F66+($C67/$B67)*F67+($C68/$B68)*F68+($C69/$B69)*F69)/0.00625","v":23.296208262591964},{"$f":"(($C66/$B66)*G66+($C67/$B67)*G67+($C68/$B68)*G68+($C69/$B69)*G69)/0.00625","v":29.156495377213574},31.63294953802416,31.63294953802416]
[]
["Dabasgāzes stacijas"]
[]
["Jauda no","līdz (ieskaitot)","Darba stundu skaits gadā","Īpatnējās investīcijas","Darbinieku skaits","Ekspluatācijas izmaksas","Pārējās darbības izmaksas","Lietderīgās siltumenerģijas pārdošanas īpatsvars","Lietderības koeficients siltumenerģijas pārdošanas cenas aprēķinam"]
["MWe","MWe","h","EUR/KWe","Attiecināmās darba slodzes","EUR/MWhe","% no kopējām investīcijām","% no lietderīgās siltumenerģijas","%"]
[0,1,6000,1600,1,13,1.4999999999999999E-2,1,0.92]
[1,2,6000,1300,3,12,1.4999999999999999E-2,1,0.92]
[2,4,6000,1200,4,11,1.4999999999999999E-2,1,0.92]

{"sheet":"Kurināmais","index":3,"n_rows":351,"n_cols":17,"rows_kept":351,"cut":false,"hidden":false,"merged":[[0,13,0,16],[0,3,0,6],[0,1,2,1],[0,2,2,2],[0,7,2,7],[0,9,0,12]]}
[null,"Gads","Mēnesis","Biomasa; Gāzes cenu grupa, EUR/1000m3",null,null,null,"Akcīze (tikai gāzes stacijām)","Šķeldas cena","Biogāze",null,null,null,"Dabasgāze; Grupa, EUR/1000m3"]
[null,null,null,3,4,5,6,null,null,"Līdz 0,5MW","0,5MW-1MW","1MW-2MW"," Virs 2MW",3,4,5,6]
[null,null,null,"25k-126k","126k-1260k","1260k-12600k","12600k-20000k",null,"EUR/MWhg","EUR/MWhg","EUR/MWhg","EUR/MWhg","EUR/MWhg","25k-126k","126k-1260k","1260k-12600k","12600k-20000k"]
["20071",2007,1,172.78,166.02,159.26,154.75,null,11.3,18.32,22.95,24.9,24.9,172.77932396514535,166.02068286463938,159.26204176413339,154.7515381244273]
["20072",2007,2,172.78,166.02,159.26,154.75,null,11.3,18.32,22.95,24.9,24.9,170.34621316896317,163.58757206845721,156.81470224984491,152.30419861013883]
["20073",2007,3,170.35,163.59,156.81,152.30000000000001,null,11.3,18.32,22.95,24.9,24.9,167.8988736546747,161.14023255416873,154.38159145366276,149.87108781395668]
["20074",2007,4,167.9,161.13999999999999,154.38,149.87,null,11.3,18.32,22.95,24.9,24.9,224.15922504709704,214.25603724509253,205.77572125372083,199.41548426019204]
["20075",2007,5,224.16,214.26,205.78,199.42,null,11.3,18.32,22.95,24.9,24.9,224.15922504709704,214.25603724509253,205.77572125372083,199.41548426019204]
["20076",2007,6,224.16,214.26,205.78,199.42,null,11.3,18.32,22.95,24.9,24.9,224.15922504709704,214.25603724509253,205.77572125372083,199.41548426019204]
["20077",2007,7,236.35,226.45,217.97,211.61,null,11.3,18.32,22.95,24.9,24.9,236.35323646422049,226.45004866221595,217.96973267084422,211.60949567731544]
["20078",2007,8,242.54,232.64,224.16,217.78,null,11.3,18.32,22.95,24.9,24.9,242.54272884047333,232.63954103846876,555,217.78475933546196]
["20079",2007,9,261.3,251.39,242.91,236.55,null,11.3,18.32,22.95,24.9,24.9,261.2961793046141,251.39299150260956,5555,236.55243851770908]
["200710",2007,10,267.58999999999997,257.68,249.2,242.84,null,11.3,18.32,22.95,24.9,24.9,267.58527270761124,257.6820849056067,null,242.84153192070619]
["200711",2007,11,286.5,276.58999999999997,268.11,261.74,null,11.3,18.32,22.95,24.9,24.9,286.49523907092163,276.59205126891709,268.11173527754539,261.73726956591025]
["200712",2007,12,299.13,289.23,280.73,274.37,null,11.3,18.32,22.95,24.9,24.9,299.1303407493412,289.22715294733666,280.73260823785864,274.37237124432988]
["20081",2008,1,255.02,245.13,236.64,230.28,null,11.3,21.12,26.46,28.71,28.71,255.02131461972328,245.13235553582507,236.63781082634705]
["20082",2008,2,261.3,251.39,242.91,236.55,null,11.3,21.12,26.46,28.71,28.71,261.2961793046141,251.39299150260956,242.91267551123784,236.55243851770908]
["20083",2008,3,267.58999999999997,257.68,249.2,242.84,null,11.3,21.12,26.46,28.71,28.71,267.58527270761124,257.6820849056067,249.20176891423498,242.84153192070619]
["20084",2008,4,311.77,301.86,293.38,287.01,null,11.3,21.12,26.46,28.71,28.71,311.76544242776083,301.86225462575629,293.38193863438454,287.00747292274946]
["20085",2008,5,311.77,301.86,293.38,287.01,null,11.3,21.12,26.46,28.71,28.71,311.76544242776083,301.86225462575629,293.38193863438454,287.00747292274946]
["20086",2008,6,311.77,301.86,293.38,287.01,null,11.3,21.12,26.46,28.71,28.71,311.76544242776083,301.86225462575629,293.38193863438454,287.00747292274946]
["20087",2008,7,311.77,301.86,293.38,287.01,null,11.3,21.12,26.46,28.71,28.71,null,null,293.38193863438454,287.00747292274946]
["20088",2008,8,311.77,301.86,293.38,287.01,null,11.3,21.12,26.46,28.71,28.71,311.76544242776083,301.86225462575629,293.38193863438454,287.00747292274946]
["20089",2008,9,311.77,301.86,293.38,287.01,null,11.3,21.12,26.46,28.71,28.71,311.76544242776083,301.86225462575629,293.38193863438454,287.00747292274946]
["200810",2008,10,461.26,426.84,407.08,393.72,null,11.3,21.12,26.46,28.71,28.71,461.26,null,407.08,393.72]
["200811",2008,11,454.15,419.73,399.97,386.61,null,11.3,21.12,26.46,28.71,28.71,454.1505164455524,419.73051644555244,399.97051644555239,386.61051644555243]
["200812",2008,12,454.15,419.73,399.97,386.61,null,11.3,21.12,26.46,28.71,28.71,null,419.73051644555244,399.97051644555239,386.61051644555243]
["20091",2009,1,425.69,391.27,371.51,358.15,null,12.6,21.82,27.33,29.66,29.66,425.69308023289562,391.27308023289561,371.51308023289562,358.15308023289566]
["20092",2009,2,425.69,391.27,371.51,358.15,null,12.6,21.82,27.33,29.66,29.66,425.69308023289562,391.27308023289561,371.51308023289562,358.15308023289566]
["20093",2009,3,425.69,391.27,371.51,358.15,null,12.6,21.82,27.33,29.66,29.66,425.69308023289562,391.27308023289561,371.51308023289562,358.15308023289566]
["20094",2009,4,425.69,391.27,371.51,358.15,null,12.6,21.82,27.33,29.66,29.66,425.69308023289562,391.27308023289561,371.51308023289562,358.15308023289566]
["20095",2009,5,368.78,334.36,314.60000000000002,301.24,null,12.6,21.82,27.33,29.66,29.66,368.77820780758219,334.35820780758218,314.59820780758218,301.23820780758223]
["20096",2009,6,318.98,284.56,264.8,251.44,null,12.6,21.82,27.33,29.66,29.66,318.97769443543291,284.55769443543295,264.7976944354329,251.43769443543292]
["20097",2009,7,311.86,277.44,257.68,244.32,null,12.6,21.82,27.33,29.66,29.66,311.86333538226876,277.44333538226874,257.68333538226875,244.32333538226874]
["20098",2009,8,311.86,277.44,257.68,244.32,null,12.6,21.82,27.33,29.66,29.66,311.86333538226876,277.44333538226874,257.68333538226875,244.32333538226874]
["20099",2009,9,311.86,277.44,257.68,244.32,null,12.6,21.82,27.33,29.66,29.66,311.86333538226876,277.44333538226874,257.68333538226875,244.32333538226874]
["200910",2009,10,304.75,270.33,250.57,237.21,null,12.6,21.82,27.33,29.66,29.66,304.74897632910455,270.32897632910453,250.56897632910454,237.20897632910456]
["200911",2009,11,290.52,256.10000000000002,236.34,222.98,null,12.6,21.82,27.33,29.66,29.66,290.52025822277619,256.10025822277623,236.34025822277619,222.9802582227762]
["200912",2009,12,290.52,256.10000000000002,236.34,222.98,null,12.6,21.82,27.33,29.66,29.66,290.52025822277619,256.10025822277623,236.34025822277619,222.9802582227762]
["20101",2010,1,290.52,256.10000000000002,236.34,222.98,null,9.1999999999999993,21.56,27,29.3,29.3,290.52025822277619,256.10025822277623,236.34025822277619,222.9802582227762]
["20102",2010,2,290.52,256.10000000000002,236.34,222.98,null,9.1999999999999993,21.56,27,29.3,29.3,290.52025822277619,256.10025822277623,236.34025822277619,222.9802582227762]
["20103",2010,3,290.52,256.10000000000002,236.34,222.98,null,9.1999999999999993,21.56,27,29.3,29.3,290.52025822277619,256.10025822277623,236.34025822277619,222.9802582227762]
["20104",2010,4,347.44,313.02,293.26,279.89999999999998,null,9.1999999999999993,21.56,27,29.3,29.3,347.43513064808968,313.01513064808967,293.25513064808968,279.89513064808966]
["20105",2010,5,361.66,327.24,307.48,294.12,null,9.1999999999999993,21.56,27,29.3,29.3,361.66384875441804,327.24384875441802,307.48384875441803,294.12384875441802]
["20106",2010,6,404.35,369.93,350.17,336.81,null,9.1999999999999993,21.56,27,29.3,29.3,404.35000307340312,369.9300030734031,350.17000307340311,336.81000307340315]
["20107",2010,7,404.35,369.93,350.17,336.81,22.19680024587225,9.1999999999999993,21.56,27,29.3,29.3,404.35000307340312,369.9300030734031,350.17000307340311,336.81000307340315]
["20108",2010,8,404.35,369.93,350.17,336.81,22.19680024587225,9.1999999999999993,21.56,27,29.3,29.3,404.35000307340312,369.9300030734031,350.17000307340311,336.81000307340315]
["20109",2010,9,383.01,348.59,328.83,315.47000000000003,22.19680024587225,9.1999999999999993,21.56,27,29.3,29.3,383.00692591391055,348.58692591391059,328.82692591391054,315.46692591391059]
["201010",2010,10,368.78,334.36,314.60000000000002,301.24,22.19680024587225,9.1999999999999993,21.56,27,29.3,29.3,368.77820780758219,334.35820780758218,314.59820780758218,301.23820780758223]
["201011",2010,11,368.78,334.36,314.60000000000002,301.24,22.19680024587225,9.1999999999999993,21.56,27,29.3,29.3,368.77820780758219,334.35820780758218,314.59820780758218,301.23820780758223]
["201012",2010,12,368.78,334.36,314.60000000000002,301.24,22.19680024587225,9.1999999999999993,21.56,27,29.3,29.3,368.77820780758219,334.35820780758218,314.59820780758218,301.23820780758223]
["20111",2011,1,354.55,320.13,300.37,287.01,22.19680024587225,9.5,22.47,28.13,30.53,30.53,354.54948970125383,320.12948970125387,300.36948970125383,287.00948970125387]
["20112",2011,2,347.44,313.02,293.26,279.89999999999998,22.19680024587225,9.5,22.47,28.13,30.53,30.53,347.43513064808968,313.01513064808967,293.25513064808968,279.89513064808966]
["20113",2011,3,340.32,305.89999999999998,286.14,272.77999999999997,22.19680024587225,9.5,22.47,28.13,30.53,30.53,340.32077159492547,305.90077159492546,286.14077159492547,272.78077159492551]
["20114",2011,4,340.32,305.89999999999998,286.14,272.77999999999997,22.19680024587225,9.5,22.47,28.13,30.53,30.53,340.32077159492547,305.90077159492546,286.14077159492547,272.78077159492551]
["20115",2011,5,354.55,320.13,300.37,287.01,22.19680024587225,9.5,22.47,28.13,30.53,30.53,354.54948970125383,320.12948970125387,300.36948970125383,287.00948970125387]
["20116",2011,6,375.89,341.47,321.70999999999998,308.35000000000002,22.19680024587225,9.5,22.47,28.13,30.53,30.53,375.8925668607464,341.47256686074638,321.71256686074639,308.35256686074638]
["20117",2011,7,375.89,341.47,321.70999999999998,308.35000000000002,17.07,9.5,22.47,28.13,30.53,30.53,375.8925668607464,341.47256686074638,321.71256686074639,308.35256686074638]
["20118",2011,8,383.01,348.59,328.83,315.47000000000003,17.07,9.5,22.47,28.13,30.53,30.53,383.00692591391055,348.58692591391059,328.82692591391054,315.46692591391059]
["20119",2011,9,383.01,348.59,328.83,315.47000000000003,17.07,9.5,22.47,28.13,30.53,30.53,383.00692591391055,348.58692591391059,328.82692591391054,315.46692591391059]
["201110",2011,10,375.89,341.47,321.70999999999998,308.35000000000002,17.07,9.5,22.47,28.13,30.53,30.53,375.8925668607464,341.47256686074638,321.71256686074639,308.35256686074638]
["201111",2011,11,375.89,341.47,321.70999999999998,308.35000000000002,17.07,9.5,22.47,28.13,30.53,30.53,375.8925668607464,341.47256686074638,321.71256686074639,308.35256686074638]
["201112",2011,12,375.89,341.47,321.70999999999998,308.35000000000002,17.07,9.5,22.47,28.13,30.53,30.53,375.8925668607464,341.47256686074638,321.71256686074639,308.35256686074638]
["20121",2012,1,425.69,391.27,371.51,358.15,17.07,11.1,22.99,28.78,31.23,31.23,425.69308023289562,391.27308023289561,371.51308023289562,358.15308023289566]
["20122",2012,2,425.69,391.27,371.51,358.15,17.07,11.1,22.99,28.78,31.23,31.23,425.69308023289562,391.27308023289561,371.51308023289562,358.15308023289566]
["20123",2012,3,425.69,391.27,371.51,358.15,17.07,11.1,22.99,28.78,31.23,31.23,425.69308023289562,391.27308023289561,371.51308023289562,358.15308023289566]
["20124",2012,4,425.69,391.27,371.51,358.15,17.07,11.1,22.99,28.78,31.23,31.23,425.69308023289562,391.27308023289561,371.51308023289562,358.15308023289566]
["20125",2012,5,425.69,391.27,371.51,358.15,17.07,11.1,22.99,28.78,31.23,31.23,425.69308023289562,391.27308023289561,371.51308023289562,358.15308023289566]
["20126",2012,6,425.69,391.27,371.51,358.15,17.07,11.1,22.99,28.78,31.23,31.23,425.69308023289562,391.27308023289561,371.51308023289562,358.15308023289566]
["20127",2012,7,454.15,419.73,399.97,386.61,17.07,11.1,22.99,28.78,31.23,31.23,454.1505164455524,419.73051644555244,399.97051644555239,386.61051644555243]
["20128",2012,8,454.15,419.73,399.97,386.61,17.07,11.1,22.99,28.78,31.23,31.23,454.1505164455524,419.73051644555244,399.97051644555239,386.61051644555243]
["20129",2012,9,454.15,419.73,399.97,386.61,17.07,11.1,22.99,28.78,31.23,31.23,454.1505164455524,419.73051644555244,399.97051644555239,386.61051644555243]
["201210",2012,10,454.15,419.73,399.97,386.61,17.07,11.1,22.99,28.78,31.23,31.23,454.1505164455524,419.73051644555244,399.97051644555239,386.61051644555243]
["201211",2012,11,454.15,419.73,399.97,386.61,17.07,11.1,22.99,28.78,31.23,31.23,454.1505164455524,419.73051644555244,399.97051644555239,386.61051644555243]
["201212",2012,12,454.15,419.73,399.97,386.61,17.07,11.1,22.99,28.78,31.23,31.23,454.1505164455524,419.73051644555244,399.97051644555239,386.61051644555243]
["20131",2013,1,447.04,412.62,392.86,379.5,17.07,10.9,22.99,28.78,31.23,31.23,447.03615739238819,412.61615739238823,392.85615739238818,379.49615739238823]
["20132",2013,2,425.69,391.27,371.51,358.15,17.07,10.9,22.99,28.78,31.23,31.23,425.69308023289562,391.27308023289561,371.51308023289562,358.15308023289566]
["20133",2013,3,425.69,391.27,371.51,358.15,17.07,10.9,22.99,28.78,31.23,31.23,425.69308023289562,391.27308023289561,371.51308023289562,358.15308023289566]
["20134",2013,4,425.69,391.27,371.51,358.15,17.07,10.9,22.99,28.78,31.23,31.23,425.69308023289562,391.27308023289561,371.51308023289562,358.15308023289566]
["20135",2013,5,425.69,391.27,371.51,358.15,17.07,10.9,22.99,28.78,31.23,31.23,425.69308023289562,391.27308023289561,371.51308023289562,358.15308023289566]
["20136",2013,6,425.69,391.27,371.51,358.15,17.07,10.9,22.99,28.78,31.23,31.23,425.69308023289562,391.27308023289561,371.51308023289562,358.15308023289566]
["20137",2013,7,418.58,384.16,364.4,351.04,17.07,10.9,22.99,28.78,31.23,31.23,418.57872117973147,384.15872117973151,364.39872117973147,351.03872117973151]
["20138",2013,8,418.58,384.16,364.4,351.04,17.07,10.9,22.99,28.78,31.23,31.23,418.57872117973147,384.15872117973151,364.39872117973147,351.03872117973151]
["20139",2013,9,418.58,384.16,364.4,351.04,17.07,10.9,22.99,28.78,31.23,31.23,418.57872117973147,384.15872117973151,364.39872117973147,351.03872117973151]
["201310",2013,10,418.58,384.16,364.4,351.04,17.07,10.9,22.99,28.78,31.23,31.23,418.57872117973147,384.15872117973151,364.39872117973147,351.03872117973151]
["201311",2013,11,418.58,384.16,364.4,351.04,17.07,10.9,22.99,28.78,31.23,31.23,418.57872117973147,384.15872117973151,364.39872117973147,351.03872117973151]
["201312",2013,12,411.47,377.05,357.28,343.92,17.07,10.9,22.99,28.78,31.23,31.23,411.46436212656727,377.04436212656731,357.28436212656726,343.9243621265673]
["20141",2014,1,411.47,377.05,357.28,343.92,17.07,11.1,23.15,28.98,31.45,31.45,411.46436212656727,377.04436212656731,357.28436212656726,343.9243621265673]
["20142",2014,2,404.35,369.93,350.17,336.81,17.07,11.1,23.15,28.98,31.45,31.45,404.34999999999997,369.92999999999995,350.16999999999996,336.81]
["20143",2014,3,404.35,369.93,350.17,336.81,17.07,11.1,23.15,28.98,31.45,31.45,404.34999999999997,369.92999999999995,350.16999999999996,336.81]
["20144",2014,4,404.35,369.93,350.17,336.81,17.07,11.1,23.15,28.98,31.45,31.45,404.34999999999997,369.92999999999995,350.16999999999996,336.81]
["20145",2014,5,404.35,369.93,350.17,336.81,17.07,11.1,23.15,28.98,31.45,31.45,404.34999999999997,369.92999999999995,350.16999999999996,336.81]
["20146",2014,6,404.35,369.93,350.17,336.81,17.07,11.1,23.15,28.98,31.45,31.45,404.34999999999997,369.92999999999995,350.16999999999996,336.81]
["20147",2014,7,404.35,369.93,350.17,336.81,17.07,11.1,23.15,28.98,31.45,31.45,404.34999999999997,369.92999999999995,350.16999999999996,336.81]
["20148",2014,8,404.35,369.93,350.17,336.81,17.07,11.1,23.15,28.98,31.45,31.45,404.34999999999997,369.92999999999995,350.16999999999996,336.81]
["20149",2014,9,404.35,369.93,350.17,336.81,17.07,11.1,23.15,28.98,31.45,31.45,404.34999999999997,369.92999999999995,350.16999999999996,336.81]
["201410",2014,10,404.35,369.93,350.17,336.81,17.07,11.1,23.15,28.98,31.45,31.45,404.34999999999997,369.92999999999995,350.16999999999996,336.81]
["201411",2014,11,404.35,369.93,350.17,336.81,17.07,11.1,23.15,28.98,31.45,31.45,404.34999999999997,369.92999999999995,350.16999999999996,336.81]
["201412",2014,12,404.35,369.93,350.17,336.81,17.07,11.1,23.15,28.98,31.45,31.45,404.34999999999997,369.92999999999995,350.16999999999996,336.81]
["20151",2015,1,404.35,369.93,350.17,336.81,17.07,11.2,23.2,29.04,31.51,31.51,404.34999999999997,369.92999999999995,350.16999999999996,336.81]
["20152",2015,2,397.24,362.82,343.05,329.69,17.07,11.2,23.2,29.04,31.51,31.51,397.24,362.82000000000005,343.05,329.69]
["20153",2015,3,383.01,348.59,328.83,315.45999999999998,17.07,11.2,23.2,29.04,31.51,31.51,383.01,348.59000000000003,328.83,315.45999999999998]
["20154",2015,4,383.01,348.59,328.83,315.45999999999998,17.07,11.2,23.2,29.04,31.51,31.51,383.01,348.59000000000003,328.83,315.45999999999998]
["20155",2015,5,383.01,348.59,328.83,315.45999999999998,17.07,11.2,23.2,29.04,31.51,31.51,383.01,348.59000000000003,328.83,315.45999999999998]
["20156",2015,6,368.78,334.36,314.60000000000002,301.24,17.07,11.2,23.2,29.04,31.51,31.51,368.78,334.36,314.59999999999997,301.24]
["20157",2015,7,347.44,313.02,293.25,279.89,17.07,11.2,23.2,29.04,31.51,31.51,347.44,313.02,293.25,279.89]
["20158",2015,8,340.32,305.89999999999998,286.14,272.77999999999997,17.07,11.2,23.2,29.04,31.51,31.51,340.32,305.89999999999998,286.14,272.78000000000003]
["20159",2015,9,333.21,298.79000000000002,279.02999999999997,265.66000000000003,17.07,11.2,23.2,29.04,31.51,31.51,333.21,298.78999999999996,279.02999999999997,265.66000000000003]
["201510",2015,10,333.21,298.79000000000002,279.02999999999997,265.66000000000003,17.07,11.2,23.2,29.04,31.51,31.51,333.21,298.78999999999996,279.02999999999997,265.66000000000003]
["201511",2015,11,333.21,298.79000000000002,279.02999999999997,265.66000000000003,17.07,11.2,23.2,29.04,31.51,31.51,333.21,298.78999999999996,279.02999999999997,265.66000000000003]
["201512",2015,12,333.21,298.79000000000002,279.02999999999997,265.67,17.07,11.2,23.2,29.04,31.51,31.51,333.21,298.78999999999996,279.02999999999997,265.67]
["20161",2016,1,333.21,298.79000000000002,279.02999999999997,265.67,17.07,11.2,23.296208262591964,29.156495377213574,31.63294953802416,31.63294953802416,333.21,298.78999999999996,279.02999999999997,265.67]
["20162",2016,2,318.98,284.56,264.8,251.44,17.07,11.2,23.296208262591964,29.156495377213599,31.63294953802416,31.63294953802416,318.98,284.56,264.8,251.44]
["20163",2016,3,304.75,270.33,250.57,237.21,17.07,11.2,23.296208262591964,29.156495377213574,31.63294953802416,31.63294953802416,304.75,270.33000000000004,250.57,237.21]
["20164",2016,4,290.52,256.10000000000002,236.34,222.98,17.07,11.2,23.296208262591964,29.156495377213574,31.63294953802416,31.63294953802416,290.52,256.10000000000002,236.33999999999997,222.98]
["20165",2016,5,276.29000000000002,241.87,222.11,208.75,17.07,11.2,23.296208262591964,29.156495377213574,31.63294953802416,31.63294953802416,276.29000000000002,241.87,222.11,208.75]
["20166",2016,6,269.18,234.76,215,201.64,17.07,11.2,23.296208262591964,29.156495377213574,31.63294953802416,31.63294953802416,269.18,234.76,215,201.64]
["20167",2016,7,276.29000000000002,241.87,222.11,208.75,17.07,11.2,23.296208262591964,29.156495377213574,31.63294953802416,31.63294953802416,276.29000000000002,241.87,222.11,208.75]
["20168",2016,8,283.41000000000003,248.99,229.22,215.86,17.07,11.2,23.296208262591964,29.156495377213574,31.63294953802416,31.63294953802416,283.41000000000003,248.99,229.22,215.86]
["20169",2016,9,283.41000000000003,248.99,229.22,215.86,17.07,11.2,23.296208262591964,29.156495377213574,31.63294953802416,31.63294953802416,283.41000000000003,248.99,229.22,215.86]
["201610",2016,10,283.41000000000003,248.99,229.22,215.86,17.07,11.2,23.296208262591964,29.156495377213574,31.63294953802416,31.63294953802416,283.41000000000003,248.99,229.22,215.86]
["201611",2016,11,283.41000000000003,248.99,229.22,215.86,17.07,11.2,23.296208262591964,29.156495377213574,31.63294953802416,31.63294953802416,283.41000000000003,248.99,229.22,215.86]
["201612",2016,12,297.64,263.22000000000003,243.45,230.09,17.07,11.2,23.296208262591964,29.156495377213574,31.63294953802416,31.63294953802416,297.64,263.22000000000003,243.45,230.09]
["20171",2017,1,297.64,263.22000000000003,243.45,230.09,17.07,11.42,23.76,29.74,32.270000000000003,32.270000000000003,296.3096147959123,261.88961479591228,242.12961479591229,228.76961479591228]
["20172",2017,2,318.98,284.56,264.8,251.44,17.07,11.42,23.76,29.74,32.270000000000003,32.270000000000003,297.65601091989305,263.23601091989303,243.47601091989304,230.11601091989303]
["20173",2017,3,318.98,284.56,264.8,251.44,17.07,11.42,23.76,29.74,32.270000000000003,32.270000000000003,299.01897103832948,264.59897103832952,244.83897103832948,231.47897103832949]
["20174",2017,4,311.87,277.45,257.68,244.32,17.07,11.42,23.76,29.74,32.270000000000003,32.270000000000003,300.38193115676592,265.9619311567659,246.20193115676591,232.8419311567659]
["20175",2017,5,361.67,327.25,307.48,294.12,17.07,11.42,23.76,29.74,32.270000000000003,32.270000000000003,301.74489127520235,267.32489127520233,247.56489127520234,234.20489127520233]
["20176",2017,6,361.67,327.25,307.48,294.12,17.07,11.42,23.76,29.74,32.270000000000003,32.270000000000003,303.10785139363873,268.68785139363877,248.92785139363872,235.56785139363873]
["20177",2017,7,361.67,327.25,307.48,294.12,17.07,11.42,23.76,29.74,32.270000000000003,32.270000000000003,304.47081151207516,270.05081151207514,250.29081151207515,236.93081151207517]
["20178",2017,8,361.67,327.25,307.48,294.12,17.07,11.42,23.76,29.74,32.270000000000003,32.270000000000003,305.83377163051165,271.41377163051163,251.65377163051164,238.29377163051163]
["20179",2017,9,361.67,327.25,307.48,294.12,17.07,11.42,23.76,29.74,32.270000000000003,32.270000000000003,307.19673174894803,272.77673174894801,253.01673174894802,239.65673174894803]
["201710",2017,10,361.67,327.25,307.48,294.12,17.07,11.42,23.76,29.74,32.270000000000003,32.270000000000003,307.19673174894803,272.77673174894801,253.01673174894802,239.65673174894803]
["201711",2017,11,361.67,327.25,307.48,294.12,17.07,11.42,23.76,29.74,32.270000000000003,32.270000000000003,307.19673174894803,272.77673174894801,253.01673174894802,239.65673174894803]
["201712",2017,12,361.67,327.25,307.48,294.12,17.07,11.42,23.76,29.74,32.270000000000003,32.270000000000003,307.19673174894803,272.77673174894801,253.01673174894802,239.65673174894803]
["20181",2018,1,361.67,327.25,307.48,294.12,17.07,11.71,24.35,30.48,33.08,33.08,308.11223072138449,273.69223072138448,253.93223072138449,240.57223072138447]
["20182",2018,2,361.67,327.25,307.48,294.12,17.07,11.71,24.35,30.48,33.08,33.08,309.02772969382096,274.60772969382094,254.84772969382095,241.48772969382094]
["20183",2018,3,361.67,327.25,307.48,294.12,17.07,11.71,24.35,30.48,33.08,33.08,309.94322866625737,275.52322866625741,255.76322866625736,242.40322866625738]
["20184",2018,4,361.67,327.25,307.48,294.12,17.07,11.71,24.35,30.48,33.08,33.08,310.85872763869384,276.43872763869388,256.67872763869383,243.31872763869384]
["20185",2018,5,361.67,327.25,307.48,294.12,17.07,11.71,24.35,30.48,33.08,33.08,311.7742266111303,277.35422661113029,257.5942266111303,244.23422661113028]
["20186",2018,6,361.67,327.25,307.48,294.12,17.07,11.71,24.35,30.48,33.08,33.08,312.68972558356677,278.26972558356675,258.50972558356676,245.14972558356675]
["20187",2018,7,361.67,327.25,307.48,294.12,17.07,11.71,24.35,30.48,33.08,33.08,313.60522455600318,279.18522455600316,259.42522455600317,246.06522455600316]
["20188",2018,8,361.67,327.25,307.48,294.12,17.07,11.71,24.35,30.48,33.08,33.08,314.52072352843965,280.10072352843963,260.34072352843964,246.98072352843965]
["20189",2018,9,361.67,327.25,307.48,294.12,17.07,11.71,24.35,30.48,33.08,33.08,315.43622250087611,281.0162225008761,261.25622250087611,247.89622250087609]
["201810",2018,10,361.67,327.25,307.48,294.12,17.07,11.71,24.35,30.48,33.08,33.08,315.43622250087611,281.0162225008761,261.25622250087611,247.89622250087609]
["201811",2018,11,361.67,327.25,307.48,294.12,17.07,11.71,24.35,30.48,33.08,33.08,315.43622250087611,281.0162225008761,261.25622250087611,247.89622250087609]
["201812",2018,12,361.67,327.25,307.48,294.12,17.07,11.71,24.35,30.48,33.08,33.08,315.43622250087611,281.0162225008761,261.25622250087611,247.89622250087609]
["20191",2019,1,361.67,327.25,307.48,294.12,17.07,12,24.96,31.24,33.909999999999997,33.909999999999997,316.19018753301515,281.77018753301513,262.01018753301514,248.65018753301516]
["20192",2019,2,361.67,327.25,307.48,294.12,17.07,12,24.96,31.24,33.909999999999997,33.909999999999997,316.94415256515424,282.52415256515422,262.76415256515423,249.40415256515422]
["20193",2019,3,361.67,327.25,307.48,294.12,17.07,12,24.96,31.24,33.909999999999997,33.909999999999997,317.69811759729328,283.27811759729332,263.51811759729327,250.15811759729328]
["20194",2019,4,361.67,327.25,307.48,294.12,17.07,12,24.96,31.24,33.909999999999997,33.909999999999997,318.45208262943237,284.03208262943235,264.27208262943236,250.91208262943235]
["20195",2019,5,361.67,327.25,307.48,294.12,17.07,12,24.96,31.24,33.909999999999997,33.909999999999997,319.20604766157146,284.78604766157144,265.02604766157145,251.66604766157144]
["20196",2019,6,361.67,327.25,307.48,294.12,17.07,12,24.96,31.24,33.909999999999997,33.909999999999997,319.9600126937105,285.54001269371048,265.78001269371049,252.42001269371048]
["20197",2019,7,361.67,327.25,307.48,294.12,17.07,12,24.96,31.24,33.909999999999997,33.909999999999997,320.71397772584953,286.29397772584957,266.53397772584952,253.17397772584954]
["20198",2019,8,361.67,327.25,307.48,294.12,17.07,12,24.96,31.24,33.909999999999997,33.909999999999997,321.46794275798862,287.04794275798861,267.28794275798862,253.9279427579886]
["20199",2019,9,361.67,327.25,307.48,294.12,17.07,12,24.96,31.24,33.909999999999997,33.909999999999997,322.22190779012772,287.8019077901277,268.04190779012771,254.6819077901277]
["201910",2019,10,361.67,327.25,307.48,294.12,17.07,12,24.96,31.24,33.909999999999997,33.909999999999997,322.22190779012772,287.8019077901277,268.04190779012771,254.6819077901277]
["201911",2019,11,361.67,327.25,307.48,294.12,17.07,12,24.96,31.24,33.909999999999997,33.909999999999997,322.22190779012772,287.8019077901277,268.04190779012771,254.6819077901277]
["201912",2019,12,361.67,327.25,307.48,294.12,17.07,12,24.96,31.24,33.909999999999997,33.909999999999997,322.22190779012772,287.8019077901277,268.04190779012771,254.6819077901277]
["20201",2020,1,361.67,327.25,307.48,294.12,17.07,12.22,25.41,31.8,34.520000000000003,34.520000000000003,322.95520282355164,288.53520282355169,268.77520282355164,255.41520282355165]
["20202",2020,2,361.67,327.25,307.48,294.12,17.07,12.22,25.41,31.8,34.520000000000003,34.520000000000003,323.68849785697563,289.26849785697561,269.50849785697562,256.14849785697561]
["20203",2020,3,361.67,327.25,307.48,294.12,17.07,12.22,25.41,31.8,34.520000000000003,34.520000000000003,324.42179289039956,290.00179289039954,270.24179289039955,256.88179289039954]
["20204",2020,4,361.67,327.25,307.48,294.12,17.07,12.22,25.41,31.8,34.520000000000003,34.520000000000003,325.15508792382354,290.73508792382353,270.97508792382354,257.61508792382352]
["20205",2020,5,361.67,327.25,307.48,294.12,17.07,12.22,25.41,31.8,34.520000000000003,34.520000000000003,325.88838295724747,291.46838295724746,271.70838295724747,258.34838295724745]
["20206",2020,6,361.67,327.25,307.48,294.12,17.07,12.22,25.41,31.8,34.520000000000003,34.520000000000003,326.6216779906714,292.20167799067144,272.44167799067139,259.08167799067144]
["20207",2020,7,361.67,327.25,307.48,294.12,17.07,12.22,25.41,31.8,34.520000000000003,34.520000000000003,327.35497302409533,292.93497302409531,273.17497302409532,259.81497302409531]
["20208",2020,8,361.67,327.25,307.48,294.12,17.07,12.22,25.41,31.8,34.520000000000003,34.520000000000003,328.08826805751931,293.6682680575193,273.90826805751931,260.54826805751929]
["20209",2020,9,361.67,327.25,307.48,294.12,17.07,12.22,25.41,31.8,34.520000000000003,34.520000000000003,328.82156309094324,294.40156309094323,274.64156309094324,261.28156309094322]
["202010",2020,10,361.67,327.25,307.48,294.12,17.07,12.22,25.41,31.8,34.520000000000003,34.520000000000003,328.82156309094324,294.40156309094323,274.64156309094324,261.28156309094322]
["202011",2020,11,361.67,327.25,307.48,294.12,17.07,12.22,25.41,31.8,34.520000000000003,34.520000000000003,328.82156309094324,294.40156309094323,274.64156309094324,261.28156309094322]
["202012",2020,12,361.67,327.25,307.48,294.12,17.07,12.22,25.41,31.8,34.520000000000003,34.520000000000003,328.82156309094324,294.40156309094323,274.64156309094324,261.28156309094322]
["20211",2021,1,361.67,327.25,307.48,294.12,17.07,12.44,25.87,32.369999999999997,35.14,35.14,329.40564219684813,294.98564219684818,275.22564219684813,261.86564219684817]
["20212",2021,2,361.67,327.25,307.48,294.12,17.07,12.44,25.87,32.369999999999997,35.14,35.14,329.98972130275303,295.56972130275301,275.80972130275302,262.44972130275301]
["20213",2021,3,361.67,327.25,307.48,294.12,17.07,12.44,25.87,32.369999999999997,35.14,35.14,330.57380040865792,296.1538004086579,276.39380040865791,263.0338004086579]
["20214",2021,4,361.67,327.25,307.48,294.12,17.07,12.44,25.87,32.369999999999997,35.14,35.14,331.15787951456275,296.73787951456279,276.97787951456274,263.61787951456279]
["20215",2021,5,361.67,327.25,307.48,294.12,17.07,12.44,25.87,32.369999999999997,35.14,35.14,331.74195862046764,297.32195862046763,277.56195862046764,264.20195862046762]
["20216",2021,6,361.67,327.25,307.48,294.12,17.07,12.44,25.87,32.369999999999997,35.14,35.14,332.32603772637248,297.90603772637246,278.14603772637247,264.78603772637251]
["20217",2021,7,361.67,327.25,307.48,294.12,17.07,12.44,25.87,32.369999999999997,35.14,35.14,332.91011683227737,298.49011683227735,278.73011683227736,265.37011683227735]
["20218",2021,8,361.67,327.25,307.48,294.12,17.07,12.44,25.87,32.369999999999997,35.14,35.14,333.4941959381822,299.07419593818224,279.31419593818219,265.95419593818224]
["20219",2021,9,361.67,327.25,307.48,294.12,17.07,12.44,25.87,32.369999999999997,35.14,35.14,334.07827504408709,299.65827504408708,279.89827504408709,266.53827504408707]
["202110",2021,10,361.67,327.25,307.48,294.12,17.07,12.44,25.87,32.369999999999997,35.14,35.14,334.07827504408709,299.65827504408708,279.89827504408709,266.53827504408707]
["202111",2021,11,361.67,327.25,307.48,294.12,17.07,12.44,25.87,32.369999999999997,35.14,35.14,334.07827504408709,299.65827504408708,279.89827504408709,266.53827504408707]
["202112",2021,12,361.67,327.25,307.48,294.12,17.07,12.44,25.87,32.369999999999997,35.14,35.14,334.07827504408709,299.65827504408708,279.89827504408709,266.53827504408707]
["20221",2022,1,361.67,327.25,307.48,294.12,17.07,12.66,26.34,32.950000000000003,35.770000000000003,35.770000000000003,334.62096749342243,300.20096749342241,280.44096749342242,267.08096749342241]
["20222",2022,2,361.67,327.25,307.48,294.12,17.07,12.66,26.34,32.950000000000003,35.770000000000003,35.770000000000003,335.16365994275776,300.74365994275774,280.98365994275775,267.62365994275774]
["20223",2022,3,361.67,327.25,307.48,294.12,17.07,12.66,26.34,32.950000000000003,35.770000000000003,35.770000000000003,335.70635239209304,301.28635239209302,281.52635239209303,268.16635239209307]
["20224",2022,4,361.67,327.25,307.48,294.12,17.07,12.66,26.34,32.950000000000003,35.770000000000003,35.770000000000003,336.24904484142843,301.82904484142841,282.06904484142842,268.70904484142841]
["20225",2022,5,361.67,327.25,307.48,294.12,17.07,12.66,26.34,32.950000000000003,35.770000000000003,35.770000000000003,336.79173729076371,302.37173729076369,282.6117372907637,269.25173729076374]
["20226",2022,6,361.67,327.25,307.48,294.12,17.07,12.66,26.34,32.950000000000003,35.770000000000003,35.770000000000003,337.33442974009904,302.91442974009902,283.15442974009903,269.79442974009902]
["20227",2022,7,361.67,327.25,307.48,294.12,17.07,12.66,26.34,32.950000000000003,35.770000000000003,35.770000000000003,337.87712218943432,303.45712218943436,283.69712218943431,270.33712218943435]
["20228",2022,8,361.67,327.25,307.48,294.12,17.07,12.66,26.34,32.950000000000003,35.770000000000003,35.770000000000003,338.41981463876965,303.99981463876964,284.23981463876964,270.87981463876963]
["20229",2022,9,361.67,327.25,307.48,294.12,17.07,12.66,26.34,32.950000000000003,35.770000000000003,35.770000000000003,338.96250708810499,304.54250708810503,284.78250708810498,271.42250708810502]
["202210",2022,10,361.67,327.25,307.48,294.12,17.07,12.66,26.34,32.950000000000003,35.770000000000003,35.770000000000003,338.96250708810499,304.54250708810503,284.78250708810498,271.42250708810502]
["202211",2022,11,361.67,327.25,307.48,294.12,17.07,12.66,26.34,32.950000000000003,35.770000000000003,35.770000000000003,338.96250708810499,304.54250708810503,284.78250708810498,271.42250708810502]
["202212",2022,12,361.67,327.25,307.48,294.12,17.07,12.66,26.34,32.950000000000003,35.770000000000003,35.770000000000003,338.96250708810499,304.54250708810503,284.78250708810498,271.42250708810502]
["20231",2023,1,361.67,327.25,307.48,294.12,17.07,12.89,26.81,33.54,36.409999999999997,36.409999999999997,337.33442974009904,302.91442974009902,283.15442974009903,269.79442974009902]
["20232",2023,2,361.67,327.25,307.48,294.12,17.07,12.89,26.81,33.54,36.409999999999997,36.409999999999997,337.33442974009904,302.91442974009902,283.15442974009903,269.79442974009902]
["20233",2023,3,361.67,327.25,307.48,294.12,17.07,12.89,26.81,33.54,36.409999999999997,36.409999999999997,337.33442974009904,302.91442974009902,283.15442974009903,269.79442974009902]
["20234",2023,4,361.67,327.25,307.48,294.12,17.07,12.89,26.81,33.54,36.409999999999997,36.409999999999997,337.33442974009904,302.91442974009902,283.15442974009903,269.79442974009902]
["20235",2023,5,361.67,327.25,307.48,294.12,17.07,12.89,26.81,33.54,36.409999999999997,36.409999999999997,337.33442974009904,302.91442974009902,283.15442974009903,269.79442974009902]
["20236",2023,6,361.67,327.25,307.48,294.12,17.07,12.89,26.81,33.54,36.409999999999997,36.409999999999997,337.33442974009904,302.91442974009902,283.15442974009903,269.79442974009902]
["20237",2023,7,361.67,327.25,307.48,294.12,17.07,12.89,26.81,33.54,36.409999999999997,36.409999999999997,337.33442974009904,302.91442974009902,283.15442974009903,269.79442974009902]
["20238",2023,8,361.67,327.25,307.48,294.12,17.07,12.89,26.81,33.54,36.409999999999997,36.409999999999997,337.33442974009904,302.91442974009902,283.15442974009903,269.79442974009902]
["20239",2023,9,361.67,327.25,307.48,294.12,17.07,12.89,26.81,33.54,36.409999999999997,36.409999999999997,337.33442974009904,302.91442974009902,283.15442974009903,269.79442974009902]
["202310",2023,10,361.67,327.25,307.48,294.12,17.07,12.89,26.81,33.54,36.409999999999997,36.409999999999997,337.33442974009904,302.91442974009902,283.15442974009903,269.79442974009902]
["202311",2023,11,361.67,327.25,307.48,294.12,17.07,12.89,26.81,33.54,36.409999999999997,36.409999999999997,337.33442974009904,302.91442974009902,283.15442974009903,269.79442974009902]
["202312",2023,12,361.67,327.25,307.48,294.12,17.07,12.89,26.81,33.54,36.409999999999997,36.409999999999997,337.33442974009904,302.91442974009902,283.15442974009903,269.79442974009902]
["20241",2024,1,361.67,327.25,307.48,294.12,17.07,13.12,27.29,34.14,37.07,37.07,337.33442974009904,302.91442974009902,283.15442974009903,269.79442974009902]
["20242",2024,2,361.67,327.25,307.48,294.12,17.07,13.12,27.29,34.14,37.07,37.07,337.33442974009904,302.91442974009902,283.15442974009903,269.79442974009902]
["20243",2024,3,361.67,327.25,307.48,294.12,17.07,13.12,27.29,34.14,37.07,37.07,337.33442974009904,302.91442974009902,283.15442974009903,269.79442974009902]
["20244",2024,4,361.67,327.25,307.48,294.12,17.07,13.12,27.29,34.14,37.07,37.07,337.33442974009904,302.91442974009902,283.15442974009903,269.79442974009902]
["20245",2024,5,361.67,327.25,307.48,294.12,17.07,13.12,27.29,34.14,37.07,37.07,337.33442974009904,302.91442974009902,283.15442974009903,269.79442974009902]
["20246",2024,6,361.67,327.25,307.48,294.12,17.07,13.12,27.29,34.14,37.07,37.07,337.33442974009904,302.91442974009902,283.15442974009903,269.79442974009902]
["20247",2024,7,361.67,327.25,307.48,294.12,17.07,13.12,27.29,34.14,37.07,37.07,337.33442974009904,302.91442974009902,283.15442974009903,269.79442974009902]
["20248",2024,8,361.67,327.25,307.48,294.12,17.07,13.12,27.29,34.14,37.07,37.07,337.33442974009904,302.91442974009902,283.15442974009903,269.79442974009902]
["20249",2024,9,361.67,327.25,307.48,294.12,17.07,13.12,27.29,34.14,37.07,37.07,337.33442974009904,302.91442974009902,283.15442974009903,269.79442974009902]
["202410",2024,10,361.67,327.25,307.48,294.12,17.07,13.12,27.29,34.14,37.07,37.07,337.33442974009904,302.91442974009902,283.15442974009903,269.79442974009902]
["202411",2024,11,361.67,327.25,307.48,294.12,17.07,13.12,27.29,34.14,37.07,37.07,337.33442974009904,302.91442974009902,283.15442974009903,269.79442974009902]
["202412",2024,12,361.67,327.25,307.48,294.12,17.07,13.12,27.29,34.14,37.07,37.07,337.33442974009904,302.91442974009902,283.15442974009903,269.79442974009902]
["20251",2025,1,361.67,327.25,307.48,294.12,17.07,13.36,27.78,34.75,37.74,37.74,337.33442974009904,302.91442974009902,283.15442974009903,269.79442974009902]
["20252",2025,2,361.67,327.25,307.48,294.12,17.07,13.36,27.78,34.75,37.74,37.74,337.33442974009904,302.91442974009902,283.15442974009903,269.79442974009902]
["20253",2025,3,361.67,327.25,307.48,294.12,17.07,13.36,27.78,34.75,37.74,37.74,337.33442974009904,302.91442974009902,283.15442974009903,269.79442974009902]
["20254",2025,4,361.67,327.25,307.48,294.12,17.07,13.36,27.78,34.75,37.74,37.74,337.33442974009904,302.91442974009902,283.15442974009903,269.79442974009902]
["20255",2025,5,361.67,327.25,307.48,294.12,17.07,13.36,27.78,34.75,37.74,37.74,337.33442974009904,302.91442974009902,283.15442974009903,269.79442974009902]
["20256",2025,6,361.67,327.25,307.48,294.12,17.07,13.36,27.78,34.75,37.74,37.74,337.33442974009904,302.91442974009902,283.15442974009903,269.79442974009902]
["20257",2025,7,361.67,327.25,307.48,294.12,17.07,13.36,27.78,34.75,37.74,37.74,337.33442974009904,302.91442974009902,283.15442974009903,269.79442974009902]
["20258",2025,8,361.67,327.25,307.48,294.12,17.07,13.36,27.78,34.75,37.74,37.74,337.33442974009904,302.91442974009902,283.15442974009903,269.79442974009902]
["20259",2025,9,361.67,327.25,307.48,294.12,17.07,13.36,27.78,34.75,37.74,37.74,337.33442974009904,302.91442974009902,283.15442974009903,269.79442974009902]
["202510",2025,10,361.67,327.25,307.48,294.12,17.07,13.36,27.78,34.75,37.74,37.74,337.33442974009904,302.91442974009902,283.15442974009903,269.79442974009902]
["202511",2025,11,361.67,327.25,307.48,294.12,17.07,13.36,27.78,34.75,37.74,37.74,337.33442974009904,302.91442974009902,283.15442974009903,269.79442974009902]
["202512",2025,12,361.67,327.25,307.48,294.12,17.07,13.36,27.78,34.75,37.74,37.74,337.33442974009904,302.91442974009902,283.15442974009903,269.79442974009902]
["20261",2026,1,361.67,327.25,307.48,294.12,17.07,13.6,28.28,35.380000000000003,38.42,38.42,337.33442974009904,302.91442974009902,283.15442974009903,269.79442974009902]
["20262",2026,2,361.67,327.25,307.48,294.12,17.07,13.6,28.28,35.380000000000003,38.42,38.42,337.33442974009904,302.91442974009902,283.15442974009903,269.79442974009902]
["20263",2026,3,361.67,327.25,307.48,294.12,17.07,13.6,28.28,35.380000000000003,38.42,38.42,337.33442974009904,302.91442974009902,283.15442974009903,269.79442974009902]
["20264",2026,4,361.67,327.25,307.48,294.12,17.07,13.6,28.28,35.380000000000003,38.42,38.42,337.33442974009904,302.91442974009902,283.15442974009903,269.79442974009902]
["20265",2026,5,361.67,327.25,307.48,294.12,17.07,13.6,28.28,35.380000000000003,38.42,38.42,337.33442974009904,302.91442974009902,283.15442974009903,269.79442974009902]
["20266",2026,6,361.67,327.25,307.48,294.12,17.07,13.6,28.28,35.380000000000003,38.42,38.42,337.33442974009904,302.91442974009902,283.15442974009903,269.79442974009902]
["20267",2026,7,361.67,327.25,307.48,294.12,17.07,13.6,28.28,35.380000000000003,38.42,38.42,337.33442974009904,302.91442974009902,283.15442974009903,269.79442974009902]
["20268",2026,8,361.67,327.25,307.48,294.12,17.07,13.6,28.28,35.380000000000003,38.42,38.42,337.33442974009904,302.91442974009902,283.15442974009903,269.79442974009902]
["20269",2026,9,361.67,327.25,307.48,294.12,17.07,13.6,28.28,35.380000000000003,38.42,38.42,337.33442974009904,302.91442974009902,283.15442974009903,269.79442974009902]
["202610",2026,10,361.67,327.25,307.48,294.12,17.07,13.6,28.28,35.380000000000003,38.42,38.42,337.33442974009904,302.91442974009902,283.15442974009903,269.79442974009902]
["202611",2026,11,361.67,327.25,307.48,294.12,17.07,13.6,28.28,35.380000000000003,38.42,38.42,337.33442974009904,302.91442974009902,283.15442974009903,269.79442974009902]
["202612",2026,12,361.67,327.25,307.48,294.12,17.07,13.6,28.28,35.380000000000003,38.42,38.42,337.33442974009904,302.91442974009902,283.15442974009903,269.79442974009902]
["20271",2027,1,361.67,327.25,307.48,294.12,17.07,13.84,28.79,36.020000000000003,39.11,39.11,337.33442974009904,302.91442974009902,283.15442974009903,269.79442974009902]
["20272",2027,2,361.67,327.25,307.48,294.12,17.07,13.84,28.79,36.020000000000003,39.11,39.11,337.33442974009904,302.91442974009902,283.15442974009903,269.79442974009902]
["20273",2027,3,361.67,327.25,307.48,294.12,17.07,13.84,28.79,36.020000000000003,39.11,39.11,337.33442974009904,302.91442974009902,283.15442974009903,269.79442974009902]
["20274",2027,4,361.67,327.25,307.48,294.12,17.07,13.84,28.79,36.020000000000003,39.11,39.11,337.33442974009904,302.91442974009902,283.15442974009903,269.79442974009902]
["20275",2027,5,361.67,327.25,307.48,294.12,17.07,13.84,28.79,36.020000000000003,39.11,39.11,337.33442974009904,302.91442974009902,283.15442974009903,269.79442974009902]
["20276",2027,6,361.67,327.25,307.48,294.12,17.07,13.84,28.79,36.020000000000003,39.11,39.11,337.33442974009904,302.91442974009902,283.15442974009903,269.79442974009902]
["20277",2027,7,361.67,327.25,307.48,294.12,17.07,13.84,28.79,36.020000000000003,39.11,39.11,337.33442974009904,302.91442974009902,283.15442974009903,269.79442974009902]
["20278",2027,8,361.67,327.25,307.48,294.12,17.07,13.84,28.79,36.020000000000003,39.11,39.11,337.33442974009904,302.91442974009902,283.15442974009903,269.79442974009902]
["20279",2027,9,361.67,327.25,307.48,294.12,17.07,13.84,28.79,36.020000000000003,39.11,39.11,337.33442974009904,302.91442974009902,283.15442974009903,269.79442974009902]
["202710",2027,10,361.67,327.25,307.48,294.12,17.07,13.84,28.79,36.020000000000003,39.11,39.11,337.33442974009904,302.91442974009902,283.15442974009903,269.79442974009902]
["202711",2027,11,361.67,327.25,307.48,294.12,17.07,13.84,28.79,36.020000000000003,39.11,39.11,337.33442974009904,302.91442974009902,283.15442974009903,269.79442974009902]
["202712",2027,12,361.67,327.25,307.48,294.12,17.07,13.84,28.79,36.020000000000003,39.11,39.11,337.33442974009904,302.91442974009902,283.15442974009903,269.79442974009902]
["20281",2028,1,361.67,327.25,307.48,294.12,17.07,14.09,29.31,36.67,39.81,39.81,337.33442974009904,302.91442974009902,283.15442974009903,269.79442974009902]
["20282",2028,2,361.67,327.25,307.48,294.12,17.07,14.09,29.31,36.67,39.81,39.81,337.33442974009904,302.91442974009902,283.15442974009903,269.79442974009902]
["20283",2028,3,361.67,327.25,307.48,294.12,17.07,14.09,29.31,36.67,39.81,39.81,337.33442974009904,302.91442974009902,283.15442974009903,269.79442974009902]
["20284",2028,4,361.67,327.25,307.48,294.12,17.07,14.09,29.31,36.67,39.81,39.81,337.33442974009904,302.91442974009902,283.15442974009903,269.79442974009902]
["20285",2028,5,361.67,327.25,307.48,294.12,17.07,14.09,29.31,36.67,39.81,39.81,337.33442974009904,302.91442974009902,283.15442974009903,269.79442974009902]
["20286",2028,6,361.67,327.25,307.48,294.12,17.07,14.09,29.31,36.67,39.81,39.81,337.33442974009904,302.91442974009902,283.15442974009903,269.79442974009902]
["20287",2028,7,361.67,327.25,307.48,294.12,17.07,14.09,29.31,36.67,39.81,39.81,337.33442974009904,302.91442974009902,283.15442974009903,269.79442974009902]
["20288",2028,8,361.67,327.25,307.48,294.12,17.07,14.09,29.31,36.67,39.81,39.81,337.33442974009904,302.91442974009902,283.15442974009903,269.79442974009902]
["20289",2028,9,361.67,327.25,307.48,294.12,17.07,14.09,29.31,36.67,39.81,39.81,337.33442974009904,302.91442974009902,283.15442974009903,269.79442974009902]
["202810",2028,10,361.67,327.25,307.48,294.12,17.07,14.09,29.31,36.67,39.81,39.81,337.33442974009904,302.91442974009902,283.15442974009903,269.79442974009902]
["202811",2028,11,361.67,327.25,307.48,294.12,17.07,14.09,29.31,36.67,39.81,39.81,337.33442974009904,302.91442974009902,283.15442974009903,269.79442974009902]
["202812",2028,12,361.67,327.25,307.48,294.12,17.07,14.09,29.31,36.67,39.81,39.81,337.33442974009904,302.91442974009902,283.15442974009903,269.79442974009902]
["20291",2029,1,361.67,327.25,307.48,294.12,17.07,14.34,29.84,37.33,40.53,40.53,337.33442974009904,302.91442974009902,283.15442974009903,269.79442974009902]
["20292",2029,2,361.67,327.25,307.48,294.12,17.07,14.34,29.84,37.33,40.53,40.53,337.33442974009904,302.91442974009902,283.15442974009903,269.79442974009902]
["20293",2029,3,361.67,327.25,307.48,294.12,17.07,14.34,29.84,37.33,40.53,40.53,337.33442974009904,302.91442974009902,283.15442974009903,269.79442974009902]
["20294",2029,4,361.67,327.25,307.48,294.12,17.07,14.34,29.84,37.33,40.53,40.53,337.33442974009904,302.91442974009902,283.15442974009903,269.79442974009902]
["20295",2029,5,361.67,327.25,307.48,294.12,17.07,14.34,29.84,37.33,40.53,40.53,337.33442974009904,302.91442974009902,283.15442974009903,269.79442974009902]
["20296",2029,6,361.67,327.25,307.48,294.12,17.07,14.34,29.84,37.33,40.53,40.53,337.33442974009904,302.91442974009902,283.15442974009903,269.79442974009902]
["20297",2029,7,361.67,327.25,307.48,294.12,17.07,14.34,29.84,37.33,40.53,40.53,337.33442974009904,302.91442974009902,283.15442974009903,269.79442974009902]
["20298",2029,8,361.67,327.25,307.48,294.12,17.07,14.34,29.84,37.33,40.53,40.53,337.33442974009904,302.91442974009902,283.15442974009903,269.79442974009902]
["20299",2029,9,361.67,327.25,307.48,294.12,17.07,14.34,29.84,37.33,40.53,40.53,337.33442974009904,302.91442974009902,283.15442974009903,269.79442974009902]
["202910",2029,10,361.67,327.25,307.48,294.12,17.07,14.34,29.84,37.33,40.53,40.53,337.33442974009904,302.91442974009902,283.15442974009903,269.79442974009902]
["202911",2029,11,361.67,327.25,307.48,294.12,17.07,14.34,29.84,37.33,40.53,40.53,337.33442974009904,302.91442974009902,283.15442974009903,269.79442974009902]
["202912",2029,12,361.67,327.25,307.48,294.12,17.07,14.34,29.84,37.33,40.53,40.53,337.33442974009904,302.91442974009902,283.15442974009903,269.79442974009902]
["20301",2030,1,361.67,327.25,307.48,294.12,17.07,14.6,30.38,38,41.26,41.26,337.33442974009904,302.91442974009902,283.15442974009903,269.79442974009902]
["20302",2030,2,361.67,327.25,307.48,294.12,17.07,14.6,30.38,38,41.26,41.26,337.33442974009904,302.91442974009902,283.15442974009903,269.79442974009902]
["20303",2030,3,361.67,327.25,307.48,294.12,17.07,14.6,30.38,38,41.26,41.26,337.33442974009904,302.91442974009902,283.15442974009903,269.79442974009902]
["20304",2030,4,361.67,327.25,307.48,294.12,17.07,14.6,30.38,38,41.26,41.26,337.33442974009904,302.91442974009902,283.15442974009903,269.79442974009902]
["20305",2030,5,361.67,327.25,307.48,294.12,17.07,14.6,30.38,38,41.26,41.26,337.33442974009904,302.91442974009902,283.15442974009903,269.79442974009902]
["20306",2030,6,361.67,327.25,307.48,294.12,17.07,14.6,30.38,38,41.26,41.26,337.33442974009904,302.91442974009902,283.15442974009903,269.79442974009902]
["20307",2030,7,361.67,327.25,307.48,294.12,17.07,14.6,30.38,38,41.26,41.26,337.33442974009904,302.91442974009902,283.15442974009903,269.79442974009902]
["20308",2030,8,361.67,327.25,307.48,294.12,17.07,14.6,30.38,38,41.26,41.26,337.33442974009904,302.91442974009902,283.15442974009903,269.79442974009902]
["20309",2030,9,361.67,327.25,307.48,294.12,17.07,14.6,30.38,38,41.26,41.26,337.33442974009904,302.91442974009902,283.15442974009903,269.79442974009902]
["203010",2030,10,361.67,327.25,307.48,294.12,17.07,14.6,30.38,38,41.26,41.26,337.33442974009904,302.91442974009902,283.15442974009903,269.79442974009902]
["203011",2030,11,361.67,327.25,307.48,294.12,17.07,14.6,30.38,38,41.26,41.26,337.33442974009904,302.91442974009902,283.15442974009903,269.79442974009902]
["203012",2030,12,361.67,327.25,307.48,294.12,17.07,14.6,30.38,38,41.26,41.26,337.33442974009904,302.91442974009902,283.15442974009903,269.79442974009902]
["20311",2031,1,361.67,327.25,307.48,294.12,17.07,14.86,30.93,38.68,42,42,337.33442974009904,302.91442974009902,283.15442974009903,269.79442974009902]
["20312",2031,2,361.67,327.25,307.48,294.12,17.07,14.86,30.93,38.68,42,42,337.33442974009904,302.91442974009902,283.15442974009903,269.79442974009902]
["20313",2031,3,361.67,327.25,307.48,294.12,17.07,14.86,30.93,38.68,42,42,337.33442974009904,302.91442974009902,283.15442974009903,269.79442974009902]
["20314",2031,4,361.67,327.25,307.48,294.12,17.07,14.86,30.93,38.68,42,42,337.33442974009904,302.91442974009902,283.15442974009903,269.79442974009902]
["20315",2031,5,361.67,327.25,307.48,294.12,17.07,14.86,30.93,38.68,42,42,337.33442974009904,302.91442974009902,283.15442974009903,269.79442974009902]
["20316",2031,6,361.67,327.25,307.48,294.12,17.07,14.86,30.93,38.68,42,42,337.33442974009904,302.91442974009902,283.15442974009903,269.79442974009902]
["20317",2031,7,361.67,327.25,307.48,294.12,17.07,14.86,30.93,38.68,42,42,337.33442974009904,302.91442974009902,283.15442974009903,269.79442974009902]
["20318",2031,8,361.67,327.25,307.48,294.12,17.07,14.86,30.93,38.68,42,42,337.33442974009904,302.91442974009902,283.15442974009903,269.79442974009902]
["20319",2031,9,361.67,327.25,307.48,294.12,17.07,14.86,30.93,38.68,42,42,337.33442974009904,302.91442974009902,283.15442974009903,269.79442974009902]
["203110",2031,10,361.67,327.25,307.48,294.12,17.07,14.86,30.93,38.68,42,42,337.33442974009904,302.91442974009902,283.15442974009903,269.79442974009902]
["203111",2031,11,361.67,327.25,307.48,294.12,17.07,14.86,30.93,38.68,42,42,337.33442974009904,302.91442974009902,283.15442974009903,269.79442974009902]
["203112",2031,12,361.67,327.25,307.48,294.12,17.07,14.86,30.93,38.68,42,42,337.33442974009904,302.91442974009902,283.15442974009903,269.79442974009902]
["20321",2032,1,361.67,327.25,307.48,294.12,17.07,15.13,31.49,39.380000000000003,42.76,42.76,337.33442974009904,302.91442974009902,283.15442974009903,269.79442974009902]
["20322",2032,2,361.67,327.25,307.48,294.12,17.07,15.13,31.49,39.380000000000003,42.76,42.76,337.33442974009904,302.91442974009902,283.15442974009903,269.79442974009902]
["20323",2032,3,361.67,327.25,307.48,294.12,17.07,15.13,31.49,39.380000000000003,42.76,42.76,337.33442974009904,302.91442974009902,283.15442974009903,269.79442974009902]
["20324",2032,4,361.67,327.25,307.48,294.12,17.07,15.13,31.49,39.380000000000003,42.76,42.76,337.33442974009904,302.91442974009902,283.15442974009903,269.79442974009902]
["20325",2032,5,361.67,327.25,307.48,294.12,17.07,15.13,31.49,39.380000000000003,42.76,42.76,337.33442974009904,302.91442974009902,283.15442974009903,269.79442974009902]
["20326",2032,6,361.67,327.25,307.48,294.12,17.07,15.13,31.49,39.380000000000003,42.76,42.76,337.33442974009904,302.91442974009902,283.15442974009903,269.79442974009902]
["20327",2032,7,361.67,327.25,307.48,294.12,17.07,15.13,31.49,39.380000000000003,42.76,42.76,337.33442974009904,302.91442974009902,283.15442974009903,269.79442974009902]
["20328",2032,8,361.67,327.25,307.48,294.12,17.07,15.13,31.49,39.380000000000003,42.76,42.76,337.33442974009904,302.91442974009902,283.15442974009903,269.79442974009902]
["20329",2032,9,361.67,327.25,307.48,294.12,17.07,15.13,31.49,39.380000000000003,42.76,42.76,337.33442974009904,302.91442974009902,283.15442974009903,269.79442974009902]
["203210",2032,10,361.67,327.25,307.48,294.12,17.07,15.13,31.49,39.380000000000003,42.76,42.76,337.33442974009904,302.91442974009902,283.15442974009903,269.79442974009902]
["203211",2032,11,361.67,327.25,307.48,294.12,17.07,15.13,31.49,39.380000000000003,42.76,42.76,337.33442974009904,302.91442974009902,283.15442974009903,269.79442974009902]
["203212",2032,12,361.67,327.25,307.48,294.12,17.07,15.13,31.49,39.380000000000003,42.76,42.76,337.33442974009904,302.91442974009902,283.15442974009903,269.79442974009902]
["20331",2033,1,361.67,327.25,307.48,294.12,17.07,15.4,32.06,40.090000000000003,43.53,43.53,337.33442974009904,302.91442974009902,283.15442974009903,269.79442974009902]
["20332",2033,2,361.67,327.25,307.48,294.12,17.07,15.4,32.06,40.090000000000003,43.53,43.53,337.33442974009904,302.91442974009902,283.15442974009903,269.79442974009902]
["20333",2033,3,361.67,327.25,307.48,294.12,17.07,15.4,32.06,40.090000000000003,43.53,43.53,337.33442974009904,302.91442974009902,283.15442974009903,269.79442974009902]
["20334",2033,4,361.67,327.25,307.48,294.12,17.07,15.4,32.06,40.090000000000003,43.53,43.53,337.33442974009904,302.91442974009902,283.15442974009903,269.79442974009902]
["20335",2033,5,361.67,327.25,307.48,294.12,17.07,15.4,32.06,40.090000000000003,43.53,43.53,337.33442974009904,302.91442974009902,283.15442974009903,269.79442974009902]
["20336",2033,6,361.67,327.25,307.48,294.12,17.07,15.4,32.06,40.090000000000003,43.53,43.53,337.33442974009904,302.91442974009902,283.15442974009903,269.79442974009902]
["20337",2033,7,361.67,327.25,307.48,294.12,17.07,15.4,32.06,40.090000000000003,43.53,43.53,337.33442974009904,302.91442974009902,283.15442974009903,269.79442974009902]
["20338",2033,8,361.67,327.25,307.48,294.12,17.07,15.4,32.06,40.090000000000003,43.53,43.53,337.33442974009904,302.91442974009902,283.15442974009903,269.79442974009902]
["20339",2033,9,361.67,327.25,307.48,294.12,17.07,15.4,32.06,40.090000000000003,43.53,43.53,337.33442974009904,302.91442974009902,283.15442974009903,269.79442974009902]
["203310",2033,10,361.67,327.25,307.48,294.12,17.07,15.4,32.06,40.090000000000003,43.53,43.53,337.33442974009904,302.91442974009902,283.15442974009903,269.79442974009902]
["203311",2033,11,361.67,327.25,307.48,294.12,17.07,15.4,32.06,40.090000000000003,43.53,43.53,337.33442974009904,302.91442974009902,283.15442974009903,269.79442974009902]
["203312",2033,12,361.67,327.25,307.48,294.12,17.07,15.4,32.06,40.090000000000003,43.53,43.53,337.33442974009904,302.91442974009902,283.15442974009903,269.79442974009902]
["20341",2034,1,361.67,327.25,307.48,294.12,17.07,15.68,32.64,40.81,44.31,44.31,337.33442974009904,302.91442974009902,283.15442974009903,269.79442974009902]
["20342",2034,2,361.67,327.25,307.48,294.12,17.07,15.68,32.64,40.81,44.31,44.31,337.33442974009904,302.91442974009902,283.15442974009903,269.79442974009902]
["20343",2034,3,361.67,327.25,307.48,294.12,17.07,15.68,32.64,40.81,44.31,44.31,337.33442974009904,302.91442974009902,283.15442974009903,269.79442974009902]
["20344",2034,4,361.67,327.25,307.48,294.12,17.07,15.68,32.64,40.81,44.31,44.31,337.33442974009904,302.91442974009902,283.15442974009903,269.79442974009902]
["20345",2034,5,361.67,327.25,307.48,294.12,17.07,15.68,32.64,40.81,44.31,44.31,337.33442974009904,302.91442974009902,283.15442974009903,269.79442974009902]
["20346",2034,6,361.67,327.25,307.48,294.12,17.07,15.68,32.64,40.81,44.31,44.31,337.33442974009904,302.91442974009902,283.15442974009903,269.79442974009902]
["20347",2034,7,361.67,327.25,307.48,294.12,17.07,15.68,32.64,40.81,44.31,44.31,337.33442974009904,302.91442974009902,283.15442974009903,269.79442974009902]
["20348",2034,8,361.67,327.25,307.48,294.12,17.07,15.68,32.64,40.81,44.31,44.31,337.33442974009904,302.91442974009902,283.15442974009903,269.79442974009902]
["20349",2034,9,361.67,327.25,307.48,294.12,17.07,15.68,32.64,40.81,44.31,44.31,337.33442974009904,302.91442974009902,283.15442974009903,269.79442974009902]
["203410",2034,10,361.67,327.25,307.48,294.12,17.07,15.68,32.64,40.81,44.31,44.31,337.33442974009904,302.91442974009902,283.15442974009903,269.79442974009902]
["203411",2034,11,361.67,327.25,307.48,294.12,17.07,15.68,32.64,40.81,44.31,44.31,337.33442974009904,302.91442974009902,283.15442974009903,269.79442974009902]
["203412",2034,12,361.67,327.25,307.48,294.12,17.07,15.68,32.64,40.81,44.31,44.31,337.33442974009904,302.91442974009902,283.15442974009903,269.79442974009902]
["20351",2035,1,361.67,327.25,307.48,294.12,17.07,15.96,33.229999999999997,41.54,45.11,45.11,337.33442974009904,302.91442974009902,283.15442974009903,269.79442974009902]
["20352",2035,2,361.67,327.25,307.48,294.12,17.07,15.96,33.229999999999997,41.54,45.11,45.11,337.33442974009904,302.91442974009902,283.15442974009903,269.79442974009902]
["20353",2035,3,361.67,327.25,307.48,294.12,17.07,15.96,33.229999999999997,41.54,45.11,45.11,337.33442974009904,302.91442974009902,283.15442974009903,269.79442974009902]
["20354",2035,4,361.67,327.25,307.48,294.12,17.07,15.96,33.229999999999997,41.54,45.11,45.11,337.33442974009904,302.91442974009902,283.15442974009903,269.79442974009902]
["20355",2035,5,361.67,327.25,307.48,294.12,17.07,15.96,33.229999999999997,41.54,45.11,45.11,337.33442974009904,302.91442974009902,283.15442974009903,269.79442974009902]
["20356",2035,6,361.67,327.25,307.48,294.12,17.07,15.96,33.229999999999997,41.54,45.11,45.11,337.33442974009904,302.91442974009902,283.15442974009903,269.79442974009902]
["20357",2035,7,361.67,327.25,307.48,294.12,17.07,15.96,33.229999999999997,41.54,45.11,45.11,337.33442974009904,302.91442974009902,283.15442974009903,269.79442974009902]
["20358",2035,8,361.67,327.25,307.48,294.12,17.07,15.96,33.229999999999997,41.54,45.11,45.11,337.33442974009904,302.91442974009902,283.15442974009903,269.79442974009902]
["20359",2035,9,361.67,327.25,307.48,294.12,17.07,15.96,33.229999999999997,41.54,45.11,45.11,337.33442974009904,302.91442974009902,283.15442974009903,269.79442974009902]
["203510",2035,10,361.67,327.25,307.48,294.12,17.07,15.96,33.229999999999997,41.54,45.11,45.11,337.33442974009904,302.91442974009902,283.15442974009903,269.79442974009902]
["203511",2035,11,361.67,327.25,307.48,294.12,17.07,15.96,33.229999999999997,41.54,45.11,45.11,337.33442974009904,302.91442974009902,283.15442974009903,269.79442974009902]
["203512",2035,12,361.67,327.25,307.48,294.12,17.07,15.96,33.229999999999997,41.54,45.11,45.11,337.33442974009904,302.91442974009902,283.15442974009903,269.79442974009902]

{"sheet":"k_koef","index":4,"n_rows":16933,"n_cols":2,"rows_kept":16933,"cut":false,"hidden":true,"merged":[]}
["Uzstādītā jauda","VES, VES, Biomasa"]
[0,1.24]
[1E-3,1.24]
[2E-3,1.24]
[3.0000000000000001E-3,1.24]
[4.0000000000000001E-3,1.24]
[5.0000000000000001E-3,1.24]
[6.0000000000000001E-3,1.24]
[7.0000000000000001E-3,1.24]
[8.0000000000000002E-3,1.24]
[8.9999999999999993E-3,1.24]
[0.01,1.24]
[1.0999999999999999E-2,1.24]
[1.2E-2,1.24]
[1.2999999999999999E-2,1.24]
[1.4E-2,1.24]
[1.4999999999999999E-2,1.24]
[1.6E-2,1.24]
[1.7000000000000001E-2,1.24]
[1.7999999999999999E-2,1.24]
[1.9E-2,1.24]
[0.02,1.24]
[2.1000000000000001E-2,1.24]
[2.1999999999999999E-2,1.24]
[2.3E-2,1.24]
[2.4E-2,1.24]
[2.5000000000000001E-2,1.24]
[2.5999999999999999E-2,1.24]
[2.7E-2,1.24]
[2.8000000000000001E-2,1.24]
[2.9000000000000001E-2,1.24]
[0.03,1.24]
[3.1E-2,1.24]
[3.2000000000000001E-2,1.24]
[3.3000000000000002E-2,1.24]
[3.4000000000000002E-2,1.24]
[3.5000000000000003E-2,1.24]
[3.5999999999999997E-2,1.24]
[3.6999999999999998E-2,1.24]
[3.7999999999999999E-2,1.24]
[3.9E-2,1.24]
[0.04,1.24]
[4.1000000000000002E-2,1.24]
[4.2000000000000003E-2,1.24]
[4.2999999999999997E-2,1.24]
[4.3999999999999997E-2,1.24]
[4.4999999999999998E-2,1.24]
[4.5999999999999999E-2,1.24]
[4.7E-2,1.24]
[4.8000000000000001E-2,1.24]
[4.9000000000000002E-2,1.24]
[0.05,1.24]
[5.0999999999999997E-2,1.24]
[5.1999999999999998E-2,1.24]
[5.2999999999999999E-2,1.24]
[5.3999999999999999E-2,1.24]
[5.5E-2,1.24]
[5.6000000000000001E-2,1.24]
[5.7000000000000002E-2,1.24]
[5.8000000000000003E-2,1.24]
[5.8999999999999997E-2,1.24]
[0.06,1.24]
[6.0999999999999999E-2,1.24]
[6.2E-2,1.24]
[6.3E-2,1.24]
[6.4000000000000001E-2,1.24]
[6.5000000000000002E-2,1.24]
[6.6000000000000003E-2,1.24]
[6.7000000000000004E-2,1.24]
[6.8000000000000005E-2,1.24]
[6.9000000000000006E-2,1.24]
[7.0000000000000007E-2,1.24]
[7.0999999999999994E-2,1.24]
[7.1999999999999995E-2,1.24]
[7.2999999999999995E-2,1.24]
[7.3999999999999996E-2,1.24]
[7.4999999999999997E-2,1.24]
[7.5999999999999998E-2,1.24]
[7.6999999999999999E-2,1.24]
[7.8E-2,1.24]
[7.9000000000000001E-2,1.24]
[0.08,1.24]
[8.1000000000000003E-2,1.2310000000000001]
[8.2000000000000003E-2,1.2310000000000001]
[8.3000000000000004E-2,1.2310000000000001]
[8.4000000000000005E-2,1.2310000000000001]
[8.5000000000000006E-2,1.2310000000000001]
[8.5999999999999993E-2,1.2310000000000001]
[8.6999999999999994E-2,1.2310000000000001]
[8.7999999999999995E-2,1.2310000000000001]
[8.8999999999999996E-2,1.2310000000000001]
[0.09,1.2310000000000001]
[9.0999999999999998E-2,1.2310000000000001]
[9.1999999999999998E-2,1.2310000000000001]
[9.2999999999999999E-2,1.2310000000000001]
[9.4E-2,1.2310000000000001]
[9.5000000000000001E-2,1.2310000000000001]
[9.6000000000000002E-2,1.2310000000000001]
[9.7000000000000003E-2,1.2310000000000001]
[9.8000000000000004E-2,1.2310000000000001]
[9.9000000000000005E-2,1.2310000000000001]
[0.1,1.2310000000000001]
[0.10100000000000001,1.2310000000000001]
[0.10199999999999999,1.2310000000000001]
[0.10299999999999999,1.2310000000000001]
[0.104,1.2310000000000001]
[0.105,1.2310000000000001]
[0.106,1.2310000000000001]
[0.107,1.2310000000000001]
[0.108,1.2310000000000001]
[0.109,1.2310000000000001]
[0.11,1.2310000000000001]
[0.111,1.2310000000000001]
[0.112,1.2310000000000001]
[0.113,1.2310000000000001]
[0.114,1.2310000000000001]
[0.115,1.2310000000000001]
[0.11600000000000001,1.2310000000000001]
[0.11700000000000001,1.2310000000000001]
[0.11799999999999999,1.2310000000000001]
[0.11899999999999999,1.2310000000000001]
[0.12,1.2310000000000001]
[0.121,1.2310000000000001]
[0.122,1.2310000000000001]
[0.123,1.2310000000000001]
[0.124,1.2310000000000001]
[0.125,1.2310000000000001]
[0.126,1.2310000000000001]
[0.127,1.2310000000000001]
[0.128,1.2310000000000001]
[0.129,1.2310000000000001]
[0.13,1.2310000000000001]
[0.13100000000000001,1.2310000000000001]
[0.13200000000000001,1.2310000000000001]
[0.13300000000000001,1.2310000000000001]
[0.13400000000000001,1.2310000000000001]
[0.13500000000000001,1.2310000000000001]
[0.13600000000000001,1.2310000000000001]
[0.13700000000000001,1.2310000000000001]
[0.13800000000000001,1.2310000000000001]
[0.13900000000000001,1.2310000000000001]
[0.14000000000000001,1.2310000000000001]
[0.14099999999999999,1.2310000000000001]
[0.14199999999999999,1.2310000000000001]
[0.14299999999999999,1.2310000000000001]
[0.14399999999999999,1.2310000000000001]
[0.14499999999999999,1.2310000000000001]
[0.14599999999999999,1.2310000000000001]
[0.14699999999999999,1.2310000000000001]
[0.14799999999999999,1.2310000000000001]
[0.14899999999999999,1.2310000000000001]
[0.15,1.2310000000000001]
[0.151,1.202]
[0.152,1.202]
[0.153,1.202]
[0.154,1.202]
[0.155,1.202]
[0.156,1.202]
[0.157,1.202]
[0.158,1.202]
[0.159,1.202]
[0.16,1.202]
[0.161,1.202]
[0.16200000000000001,1.202]
[0.16300000000000001,1.202]
[0.16400000000000001,1.202]
[0.16500000000000001,1.202]
[0.16600000000000001,1.202]
[0.16700000000000001,1.202]
[0.16800000000000001,1.202]
[0.16900000000000001,1.202]
[0.17,1.202]
[0.17100000000000001,1.202]
[0.17199999999999999,1.202]
[0.17299999999999999,1.202]
[0.17399999999999999,1.202]
[0.17499999999999999,1.202]
[0.17599999999999999,1.202]
[0.17699999999999999,1.202]
[0.17799999999999999,1.202]
[0.17899999999999999,1.202]
[0.18,1.202]
[0.18099999999999999,1.202]
[0.182,1.202]
[0.183,1.202]
[0.184,1.202]
[0.185,1.202]
[0.186,1.202]
[0.187,1.202]
[0.188,1.202]
[0.189,1.202]
[0.19,1.202]
[0.191,1.202]
[0.192,1.202]
[0.193,1.202]
[0.19400000000000001,1.202]
[0.19500000000000001,1.202]
[0.19600000000000001,1.202]
[0.19700000000000001,1.202]
[0.19800000000000001,1.202]
[0.19900000000000001,1.202]
[0.2,1.202]
[0.20100000000000001,1.131]
[0.20200000000000001,1.131]
[0.20300000000000001,1.131]
[0.20399999999999999,1.131]
[0.20499999999999999,1.131]
[0.20599999999999999,1.131]
[0.20699999999999999,1.131]
[0.20799999999999999,1.131]
[0.20899999999999999,1.131]
[0.21,1.131]
[0.21099999999999999,1.131]
[0.21199999999999999,1.131]
[0.21299999999999999,1.131]
[0.214,1.131]
[0.215,1.131]
[0.216,1.131]
[0.217,1.131]
[0.218,1.131]
[0.219,1.131]
[0.22,1.131]
[0.221,1.131]
[0.222,1.131]
[0.223,1.131]
[0.224,1.131]
[0.22500000000000001,1.131]
[0.22600000000000001,1.131]
[0.22700000000000001,1.131]
[0.22800000000000001,1.131]
[0.22900000000000001,1.131]
[0.23,1.131]
[0.23100000000000001,1.131]
[0.23200000000000001,1.131]
[0.23300000000000001,1.131]
[0.23400000000000001,1.131]
[0.23499999999999999,1.131]
[0.23599999999999999,1.131]
[0.23699999999999999,1.131]
[0.23799999999999999,1.131]
[0.23899999999999999,1.131]
[0.24,1.131]
[0.24099999999999999,1.131]
[0.24199999999999999,1.131]
[0.24299999999999999,1.131]
[0.24399999999999999,1.131]
[0.245,1.131]
[0.246,1.131]
[0.247,1.131]
[0.248,1.131]
[0.249,1.131]
[0.25,1.131]
[0.251,1.131]
[0.252,1.131]
[0.253,1.131]
[0.254,1.131]
[0.255,1.131]
[0.25600000000000001,1.131]
[0.25700000000000001,1.131]
[0.25800000000000001,1.131]
[0.25900000000000001,1.131]
[0.26,1.131]
[0.26100000000000001,1.131]
[0.26200000000000001,1.131]
[0.26300000000000001,1.131]
[0.26400000000000001,1.131]
[0.26500000000000001,1.131]
[0.26600000000000001,1.131]
[0.26700000000000002,1.131]
[0.26800000000000002,1.131]
[0.26900000000000002,1.131]
[0.27,1.131]
[0.27100000000000002,1.131]
[0.27200000000000002,1.131]
[0.27300000000000002,1.131]
[0.27400000000000002,1.131]
[0.27500000000000002,1.131]
[0.27600000000000002,1.131]
[0.27700000000000002,1.131]
[0.27800000000000002,1.131]
[0.27900000000000003,1.131]
[0.28000000000000003,1.131]
[0.28100000000000003,1.131]
[0.28199999999999997,1.131]
[0.28299999999999997,1.131]
[0.28399999999999997,1.131]
[0.28499999999999998,1.131]
[0.28599999999999998,1.131]
[0.28699999999999998,1.131]
[0.28799999999999998,1.131]
[0.28899999999999998,1.131]
[0.28999999999999998,1.131]
[0.29099999999999998,1.131]
[0.29199999999999998,1.131]
[0.29299999999999998,1.131]
[0.29399999999999998,1.131]
[0.29499999999999998,1.131]
[0.29599999999999999,1.131]
[0.29699999999999999,1.131]
[0.29799999999999999,1.131]
[0.29899999999999999,1.131]
[0.3,1.131]
[0.30099999999999999,1.131]
[0.30199999999999999,1.131]
[0.30299999999999999,1.131]
[0.30399999999999999,1.131]
[0.30499999999999999,1.131]
[0.30599999999999999,1.131]
[0.307,1.131]
[0.308,1.131]
[0.309,1.131]
[0.31,1.131]
[0.311,1.131]
[0.312,1.131]
[0.313,1.131]
[0.314,1.131]
[0.315,1.131]
[0.316,1.131]
[0.317,1.131]
[0.318,1.131]
[0.31900000000000001,1.131]
[0.32,1.131]
[0.32100000000000001,1.131]
[0.32200000000000001,1.131]
[0.32300000000000001,1.131]
[0.32400000000000001,1.131]
[0.32500000000000001,1.131]
[0.32600000000000001,1.131]
[0.32700000000000001,1.131]
[0.32800000000000001,1.131]
[0.32900000000000001,1.131]
[0.33,1.131]
[0.33100000000000002,1.131]
[0.33200000000000002,1.131]
[0.33300000000000002,1.131]
[0.33400000000000002,1.131]
[0.33500000000000002,1.131]
[0.33600000000000002,1.131]
[0.33700000000000002,1.131]
[0.33800000000000002,1.131]
[0.33900000000000002,1.131]
[0.34,1.131]
[0.34100000000000003,1.131]
[0.34200000000000003,1.131]
[0.34300000000000003,1.131]
[0.34399999999999997,1.131]
[0.34499999999999997,1.131]
[0.34599999999999997,1.131]
[0.34699999999999998,1.131]
[0.34799999999999998,1.131]
[0.34899999999999998,1.131]
[0.35,1.131]
[0.35099999999999998,1.131]
[0.35199999999999998,1.131]
[0.35299999999999998,1.131]
[0.35399999999999998,1.131]
[0.35499999999999998,1.131]
[0.35599999999999998,1.131]
[0.35699999999999998,1.131]
[0.35799999999999998,1.131]
[0.35899999999999999,1.131]
[0.36,1.131]
[0.36099999999999999,1.131]
[0.36199999999999999,1.131]
[0.36299999999999999,1.131]
[0.36399999999999999,1.131]
[0.36499999999999999,1.131]
[0.36599999999999999,1.131]
[0.36699999999999999,1.131]
[0.36799999999999999,1.131]
[0.36899999999999999,1.131]
[0.37,1.131]
[0.371,1.131]
[0.372,1.131]
[0.373,1.131]
[0.374,1.131]
[0.375,1.131]
[0.376,1.131]
[0.377,1.131]
[0.378,1.131]
[0.379,1.131]
[0.38,1.131]
[0.38100000000000001,1.131]
[0.38200000000000001,1.131]
[0.38300000000000001,1.131]
[0.38400000000000001,1.131]
[0.38500000000000001,1.131]
[0.38600000000000001,1.131]
[0.38700000000000001,1.131]
[0.38800000000000001,1.131]
[0.38900000000000001,1.131]
[0.39,1.131]
[0.39100000000000001,1.131]
[0.39200000000000002,1.131]
[0.39300000000000002,1.131]
[0.39400000000000002,1.131]
[0.39500000000000002,1.131]
[0.39600000000000002,1.131]
[0.39700000000000002,1.131]
[0.39800000000000002,1.131]
[0.39900000000000002,1.131]
[0.4,1.131]
[0.40100000000000002,1.0860000000000001]
[0.40200000000000002,1.0860000000000001]
[0.40300000000000002,1.0860000000000001]
[0.40400000000000003,1.0860000000000001]
[0.40500000000000003,1.0860000000000001]
[0.40600000000000003,1.0860000000000001]
[0.40699999999999997,1.0860000000000001]
[0.40799999999999997,1.0860000000000001]
[0.40899999999999997,1.0860000000000001]
[0.41,1.0860000000000001]
[0.41099999999999998,1.0860000000000001]
[0.41199999999999998,1.0860000000000001]
[0.41299999999999998,1.0860000000000001]
[0.41399999999999998,1.0860000000000001]
[0.41499999999999998,1.0860000000000001]
[0.41599999999999998,1.0860000000000001]
[0.41699999999999998,1.0860000000000001]
[0.41799999999999998,1.0860000000000001]
[0.41899999999999998,1.0860000000000001]
[0.42,1.0860000000000001]
[0.42099999999999999,1.0860000000000001]
[0.42199999999999999,1.0860000000000001]
[0.42299999999999999,1.0860000000000001]
[0.42399999999999999,1.0860000000000001]
[0.42499999999999999,1.0860000000000001]
[0.42599999999999999,1.0860000000000001]
[0.42699999999999999,1.0860000000000001]
[0.42799999999999999,1.0860000000000001]
[0.42899999999999999,1.0860000000000001]
[0.43,1.0860000000000001]
[0.43099999999999999,1.0860000000000001]
[0.432,1.0860000000000001]
[0.433,1.0860000000000001]
[0.434,1.0860000000000001]
[0.435,1.0860000000000001]
[0.436,1.0860000000000001]
[0.437,1.0860000000000001]
[0.438,1.0860000000000001]
[0.439,1.0860000000000001]
[0.44,1.0860000000000001]
[0.441,1.0860000000000001]
[0.442,1.0860000000000001]
[0.443,1.0860000000000001]
[0.44400000000000001,1.0860000000000001]
[0.44500000000000001,1.0860000000000001]
[0.44600000000000001,1.0860000000000001]
[0.44700000000000001,1.0860000000000001]
[0.44800000000000001,1.0860000000000001]
[0.44900000000000001,1.0860000000000001]
[0.45,1.0860000000000001]
[0.45100000000000001,1.0860000000000001]
[0.45200000000000001,1.0860000000000001]
[0.45300000000000001,1.0860000000000001]
[0.45400000000000001,1.0860000000000001]
[0.45500000000000002,1.0860000000000001]
[0.45600000000000002,1.0860000000000001]
[0.45700000000000002,1.0860000000000001]
[0.45800000000000002,1.0860000000000001]
[0.45900000000000002,1.0860000000000001]
[0.46,1.0860000000000001]
[0.46100000000000002,1.0860000000000001]
[0.46200000000000002,1.0860000000000001]
[0.46300000000000002,1.0860000000000001]
[0.46400000000000002,1.0860000000000001]
[0.46500000000000002,1.0860000000000001]
[0.46600000000000003,1.0860000000000001]
[0.46700000000000003,1.0860000000000001]
[0.46800000000000003,1.0860000000000001]
[0.46899999999999997,1.0860000000000001]
[0.47,1.0860000000000001]
[0.47099999999999997,1.0860000000000001]
[0.47199999999999998,1.0860000000000001]
[0.47299999999999998,1.0860000000000001]
[0.47399999999999998,1.0860000000000001]
[0.47499999999999998,1.0860000000000001]
[0.47599999999999998,1.0860000000000001]
[0.47699999999999998,1.0860000000000001]
[0.47799999999999998,1.0860000000000001]
[0.47899999999999998,1.0860000000000001]
[0.48,1.0860000000000001]
[0.48099999999999998,1.0860000000000001]
[0.48199999999999998,1.0860000000000001]
[0.48299999999999998,1.0860000000000001]
[0.48399999999999999,1.0860000000000001]
[0.48499999999999999,1.0860000000000001]
[0.48599999999999999,1.0860000000000001]
[0.48699999999999999,1.0860000000000001]
[0.48799999999999999,1.0860000000000001]
[0.48899999999999999,1.0860000000000001]
[0.49,1.0860000000000001]
[0.49099999999999999,1.0860000000000001]
[0.49199999999999999,1.0860000000000001]
[0.49299999999999999,1.0860000000000001]
[0.49399999999999999,1.0860000000000001]
[0.495,1.0860000000000001]
[0.496,1.0860000000000001]
[0.497,1.0860000000000001]
[0.498,1.0860000000000001]
[0.499,1.0860000000000001]
[0.5,1.0860000000000001]
[0.501,1.0860000000000001]
[0.502,1.0860000000000001]
[0.503,1.0860000000000001]
[0.504,1.0860000000000001]
[0.505,1.0860000000000001]
[0.50600000000000001,1.0860000000000001]
[0.50700000000000001,1.0860000000000001]
[0.50800000000000001,1.0860000000000001]
[0.50900000000000001,1.0860000000000001]
[0.51,1.0860000000000001]
[0.51100000000000001,1.0860000000000001]
[0.51200000000000001,1.0860000000000001]
[0.51300000000000001,1.0860000000000001]
[0.51400000000000001,1.0860000000000001]
[0.51500000000000001,1.0860000000000001]
[0.51600000000000001,1.0860000000000001]
[0.51700000000000002,1.0860000000000001]
[0.51800000000000002,1.0860000000000001]
[0.51900000000000002,1.0860000000000001]
[0.52,1.0860000000000001]
[0.52100000000000002,1.0860000000000001]
[0.52200000000000002,1.0860000000000001]
[0.52300000000000002,1.0860000000000001]
[0.52400000000000002,1.0860000000000001]
[0.52500000000000002,1.0860000000000001]
[0.52600000000000002,1.0860000000000001]
[0.52700000000000002,1.0860000000000001]
[0.52800000000000002,1.0860000000000001]
[0.52900000000000003,1.0860000000000001]
[0.53,1.0860000000000001]
[0.53100000000000003,1.0860000000000001]
[0.53200000000000003,1.0860000000000001]
[0.53300000000000003,1.0860000000000001]
[0.53400000000000003,1.0860000000000001]
[0.53500000000000003,1.0860000000000001]
[0.53600000000000003,1.0860000000000001]
[0.53700000000000003,1.0860000000000001]
[0.53800000000000003,1.0860000000000001]
[0.53900000000000003,1.0860000000000001]
[0.54,1.0860000000000001]
[0.54100000000000004,1.0860000000000001]
[0.54200000000000004,1.0860000000000001]
[0.54300000000000004,1.0860000000000001]
[0.54400000000000004,1.0860000000000001]
[0.54500000000000004,1.0860000000000001]
[0.54600000000000004,1.0860000000000001]
[0.54700000000000004,1.0860000000000001]
[0.54800000000000004,1.0860000000000001]
[0.54900000000000004,1.0860000000000001]
[0.55000000000000004,1.0860000000000001]
[0.55100000000000005,1.0860000000000001]
[0.55200000000000005,1.0860000000000001]
[0.55300000000000005,1.0860000000000001]
[0.55400000000000005,1.0860000000000001]
[0.55500000000000005,1.0860000000000001]
[0.55600000000000005,1.0860000000000001]
[0.55700000000000005,1.0860000000000001]
[0.55800000000000005,1.0860000000000001]
[0.55900000000000005,1.0860000000000001]
[0.56000000000000005,1.0860000000000001]
[0.56100000000000005,1.0860000000000001]
[0.56200000000000006,1.0860000000000001]
[0.56299999999999994,1.0860000000000001]
[0.56399999999999995,1.0860000000000001]
[0.56499999999999995,1.0860000000000001]
[0.56599999999999995,1.0860000000000001]
[0.56699999999999995,1.0860000000000001]
[0.56799999999999995,1.0860000000000001]
[0.56899999999999995,1.0860000000000001]
[0.56999999999999995,1.0860000000000001]
[0.57099999999999995,1.0860000000000001]
[0.57199999999999995,1.0860000000000001]
[0.57299999999999995,1.0860000000000001]
[0.57399999999999995,1.0860000000000001]
[0.57499999999999996,1.0860000000000001]
[0.57599999999999996,1.0860000000000001]
[0.57699999999999996,1.0860000000000001]
[0.57799999999999996,1.0860000000000001]
[0.57899999999999996,1.0860000000000001]
[0.57999999999999996,1.0860000000000001]
[0.58099999999999996,1.0860000000000001]
[0.58199999999999996,1.0860000000000001]
[0.58299999999999996,1.0860000000000001]
[0.58399999999999996,1.0860000000000001]
[0.58499999999999996,1.0860000000000001]
[0.58599999999999997,1.0860000000000001]
[0.58699999999999997,1.0860000000000001]
[0.58799999999999997,1.0860000000000001]
[0.58899999999999997,1.0860000000000001]
[0.59,1.0860000000000001]
[0.59099999999999997,1.0860000000000001]
[0.59199999999999997,1.0860000000000001]
[0.59299999999999997,1.0860000000000001]
[0.59399999999999997,1.0860000000000001]
[0.59499999999999997,1.0860000000000001]
[0.59599999999999997,1.0860000000000001]
[0.59699999999999998,1.0860000000000001]
[0.59799999999999998,1.0860000000000001]
[0.59899999999999998,1.0860000000000001]
[0.6,1.0860000000000001]
[0.60099999999999998,1.0720000000000001]
[0.60199999999999998,1.0720000000000001]
[0.60299999999999998,1.0720000000000001]
[0.60399999999999998,1.0720000000000001]
[0.60499999999999998,1.0720000000000001]
[0.60599999999999998,1.0720000000000001]
[0.60699999999999998,1.0720000000000001]
[0.60799999999999998,1.0720000000000001]
[0.60899999999999999,1.0720000000000001]
[0.61,1.0720000000000001]
[0.61099999999999999,1.0720000000000001]
[0.61199999999999999,1.0720000000000001]
[0.61299999999999999,1.0720000000000001]
[0.61399999999999999,1.0720000000000001]
[0.61499999999999999,1.0720000000000001]
[0.61599999999999999,1.0720000000000001]
[0.61699999999999999,1.0720000000000001]
[0.61799999999999999,1.0720000000000001]
[0.61899999999999999,1.0720000000000001]
[0.62,1.0720000000000001]
[0.621,1.0720000000000001]
[0.622,1.0720000000000001]
[0.623,1.0720000000000001]
[0.624,1.0720000000000001]
[0.625,1.0720000000000001]
[0.626,1.0720000000000001]
[0.627,1.0720000000000001]
[0.628,1.0720000000000001]
[0.629,1.0720000000000001]
[0.63,1.0720000000000001]
[0.63100000000000001,1.0720000000000001]
[0.63200000000000001,1.0720000000000001]
[0.63300000000000001,1.0720000000000001]
[0.63400000000000001,1.0720000000000001]
[0.63500000000000001,1.0720000000000001]
[0.63600000000000001,1.0720000000000001]
[0.63700000000000001,1.0720000000000001]
[0.63800000000000001,1.0720000000000001]
[0.63900000000000001,1.0720000000000001]
[0.64,1.0720000000000001]
[0.64100000000000001,1.0720000000000001]
[0.64200000000000002,1.0720000000000001]
[0.64300000000000002,1.0720000000000001]
[0.64400000000000002,1.0720000000000001]
[0.64500000000000002,1.0720000000000001]
[0.64600000000000002,1.0720000000000001]
[0.64700000000000002,1.0720000000000001]
[0.64800000000000002,1.0720000000000001]
[0.64900000000000002,1.0720000000000001]
[0.65,1.0720000000000001]
[0.65100000000000002,1.0720000000000001]
[0.65200000000000002,1.0720000000000001]
[0.65300000000000002,1.0720000000000001]
[0.65400000000000003,1.0720000000000001]
[0.65500000000000003,1.0720000000000001]
[0.65600000000000003,1.0720000000000001]
[0.65700000000000003,1.0720000000000001]
[0.65800000000000003,1.0720000000000001]
[0.65900000000000003,1.0720000000000001]
[0.66,1.0720000000000001]
[0.66100000000000003,1.0720000000000001]
[0.66200000000000003,1.0720000000000001]
[0.66300000000000003,1.0720000000000001]
[0.66400000000000003,1.0720000000000001]
[0.66500000000000004,1.0720000000000001]
[0.66600000000000004,1.0720000000000001]
[0.66700000000000004,1.0720000000000001]
[0.66800000000000004,1.0720000000000001]
[0.66900000000000004,1.0720000000000001]
[0.67,1.0720000000000001]
[0.67100000000000004,1.0720000000000001]
[0.67200000000000004,1.0720000000000001]
[0.67300000000000004,1.0720000000000001]
[0.67400000000000004,1.0720000000000001]
[0.67500000000000004,1.0720000000000001]
[0.67600000000000005,1.0720000000000001]
[0.67700000000000005,1.0720000000000001]
[0.67800000000000005,1.0720000000000001]
[0.67900000000000005,1.0720000000000001]
[0.68,1.0720000000000001]
[0.68100000000000005,1.0720000000000001]
[0.68200000000000005,1.0720000000000001]
[0.68300000000000005,1.0720000000000001]
[0.68400000000000005,1.0720000000000001]
[0.68500000000000005,1.0720000000000001]
[0.68600000000000005,1.0720000000000001]
[0.68700000000000006,1.0720000000000001]
[0.68799999999999994,1.0720000000000001]
[0.68899999999999995,1.0720000000000001]
[0.69,1.0720000000000001]
[0.69099999999999995,1.0720000000000001]
[0.69199999999999995,1.0720000000000001]
[0.69299999999999995,1.0720000000000001]
[0.69399999999999995,1.0720000000000001]
[0.69499999999999995,1.0720000000000001]
[0.69599999999999995,1.0720000000000001]
[0.69699999999999995,1.0720000000000001]
[0.69799999999999995,1.0720000000000001]
[0.69899999999999995,1.0720000000000001]
[0.7,1.0720000000000001]
[0.70099999999999996,1.0720000000000001]
[0.70199999999999996,1.0720000000000001]
[0.70299999999999996,1.0720000000000001]
[0.70399999999999996,1.0720000000000001]
[0.70499999999999996,1.0720000000000001]
[0.70599999999999996,1.0720000000000001]
[0.70699999999999996,1.0720000000000001]
[0.70799999999999996,1.0720000000000001]
[0.70899999999999996,1.0720000000000001]
[0.71,1.0720000000000001]
[0.71099999999999997,1.0720000000000001]
[0.71199999999999997,1.0720000000000001]
[0.71299999999999997,1.0720000000000001]
[0.71399999999999997,1.0720000000000001]
[0.71499999999999997,1.0720000000000001]
[0.71599999999999997,1.0720000000000001]
[0.71699999999999997,1.0720000000000001]
[0.71799999999999997,1.0720000000000001]
[0.71899999999999997,1.0720000000000001]
[0.72,1.0720000000000001]
[0.72099999999999997,1.0720000000000001]
[0.72199999999999998,1.0720000000000001]
[0.72299999999999998,1.0720000000000001]
[0.72399999999999998,1.0720000000000001]
[0.72499999999999998,1.0720000000000001]
[0.72599999999999998,1.0720000000000001]
[0.72699999999999998,1.0720000000000001]
[0.72799999999999998,1.0720000000000001]
[0.72899999999999998,1.0720000000000001]
[0.73,1.0720000000000001]
[0.73099999999999998,1.0720000000000001]
[0.73199999999999998,1.0720000000000001]
[0.73299999999999998,1.0720000000000001]
[0.73399999999999999,1.0720000000000001]
[0.73499999999999999,1.0720000000000001]
[0.73599999999999999,1.0720000000000001]
[0.73699999999999999,1.0720000000000001]
[0.73799999999999999,1.0720000000000001]
[0.73899999999999999,1.0720000000000001]
[0.74,1.0720000000000001]
[0.74099999999999999,1.0720000000000001]
[0.74199999999999999,1.0720000000000001]
[0.74299999999999999,1.0720000000000001]
[0.74399999999999999,1.0720000000000001]
[0.745,1.0720000000000001]
[0.746,1.0720000000000001]
[0.747,1.0720000000000001]
[0.748,1.0720000000000001]
[0.749,1.0720000000000001]
[0.75,1.0720000000000001]
[0.751,1.0720000000000001]
[0.752,1.0720000000000001]
[0.753,1.0720000000000001]
[0.754,1.0720000000000001]
[0.755,1.0720000000000001]
[0.75600000000000001,1.0720000000000001]
[0.75700000000000001,1.0720000000000001]
[0.75800000000000001,1.0720000000000001]
[0.75900000000000001,1.0720000000000001]
[0.76,1.0720000000000001]
[0.76100000000000001,1.0720000000000001]
[0.76200000000000001,1.0720000000000001]
[0.76300000000000001,1.0720000000000001]
[0.76400000000000001,1.0720000000000001]
[0.76500000000000001,1.0720000000000001]
[0.76600000000000001,1.0720000000000001]
[0.76700000000000002,1.0720000000000001]
[0.76800000000000002,1.0720000000000001]
[0.76900000000000002,1.0720000000000001]
[0.77,1.0720000000000001]
[0.77100000000000002,1.0720000000000001]
[0.77200000000000002,1.0720000000000001]
[0.77300000000000002,1.0720000000000001]
[0.77400000000000002,1.0720000000000001]
[0.77500000000000002,1.0720000000000001]
[0.77600000000000002,1.0720000000000001]
[0.77700000000000002,1.0720000000000001]
[0.77800000000000002,1.0720000000000001]
[0.77900000000000003,1.0720000000000001]
[0.78,1.0720000000000001]
[0.78100000000000003,1.0720000000000001]
[0.78200000000000003,1.0720000000000001]
[0.78300000000000003,1.0720000000000001]
[0.78400000000000003,1.0720000000000001]
[0.78500000000000003,1.0720000000000001]
[0.78600000000000003,1.0720000000000001]
[0.78700000000000003,1.0720000000000001]
[0.78800000000000003,1.0720000000000001]
[0.78900000000000003,1.0720000000000001]
[0.79,1.0720000000000001]
[0.79100000000000004,1.0720000000000001]
[0.79200000000000004,1.0720000000000001]
[0.79300000000000004,1.0720000000000001]
[0.79400000000000004,1.0720000000000001]
[0.79500000000000004,1.0720000000000001]
[0.79600000000000004,1.0720000000000001]
[0.79700000000000004,1.0720000000000001]
[0.79800000000000004,1.0720000000000001]
[0.79900000000000004,1.0720000000000001]
[0.8,1.0720000000000001]
[0.80100000000000005,1.0549999999999999]
[0.80200000000000005,1.0549999999999999]
[0.80300000000000005,1.0549999999999999]
[0.80400000000000005,1.0549999999999999]
[0.80500000000000005,1.0549999999999999]
[0.80600000000000005,1.0549999999999999]
[0.80700000000000005,1.0549999999999999]
[0.80800000000000005,1.0549999999999999]
[0.80900000000000005,1.0549999999999999]
[0.81,1.0549999999999999]
[0.81100000000000005,1.0549999999999999]
[0.81200000000000006,1.0549999999999999]
[0.81299999999999994,1.0549999999999999]
[0.81399999999999995,1.0549999999999999]
[0.81499999999999995,1.0549999999999999]
[0.81599999999999995,1.0549999999999999]
[0.81699999999999995,1.0549999999999999]
[0.81799999999999995,1.0549999999999999]
[0.81899999999999995,1.0549999999999999]
[0.82,1.0549999999999999]
[0.82099999999999995,1.0549999999999999]
[0.82199999999999995,1.0549999999999999]
[0.82299999999999995,1.0549999999999999]
[0.82399999999999995,1.0549999999999999]
[0.82499999999999996,1.0549999999999999]
[0.82599999999999996,1.0549999999999999]
[0.82699999999999996,1.0549999999999999]
[0.82799999999999996,1.0549999999999999]
[0.82899999999999996,1.0549999999999999]
[0.83,1.0549999999999999]
[0.83099999999999996,1.0549999999999999]
[0.83199999999999996,1.0549999999999999]
[0.83299999999999996,1.0549999999999999]
[0.83399999999999996,1.0549999999999999]
[0.83499999999999996,1.0549999999999999]
[0.83599999999999997,1.0549999999999999]
[0.83699999999999997,1.0549999999999999]
[0.83799999999999997,1.0549999999999999]
[0.83899999999999997,1.0549999999999999]
[0.84,1.0549999999999999]
[0.84099999999999997,1.0549999999999999]
[0.84199999999999997,1.0549999999999999]
[0.84299999999999997,1.0549999999999999]
[0.84399999999999997,1.0549999999999999]
[0.84499999999999997,1.0549999999999999]
[0.84599999999999997,1.0549999999999999]
[0.84699999999999998,1.0549999999999999]
[0.84799999999999998,1.0549999999999999]
[0.84899999999999998,1.0549999999999999]
[0.85,1.0549999999999999]
[0.85099999999999998,1.0549999999999999]
[0.85199999999999998,1.0549999999999999]
[0.85299999999999998,1.0549999999999999]
[0.85399999999999998,1.0549999999999999]
[0.85499999999999998,1.0549999999999999]
[0.85599999999999998,1.0549999999999999]
[0.85699999999999998,1.0549999999999999]
[0.85799999999999998,1.0549999999999999]
[0.85899999999999999,1.0549999999999999]
[0.86,1.0549999999999999]
[0.86099999999999999,1.0549999999999999]
[0.86199999999999999,1.0549999999999999]
[0.86299999999999999,1.0549999999999999]
[0.86399999999999999,1.0549999999999999]
[0.86499999999999999,1.0549999999999999]
[0.86599999999999999,1.0549999999999999]
[0.86699999999999999,1.0549999999999999]
[0.86799999999999999,1.0549999999999999]
[0.86899999999999999,1.0549999999999999]
[0.87,1.0549999999999999]
[0.871,1.0549999999999999]
[0.872,1.0549999999999999]
[0.873,1.0549999999999999]
[0.874,1.0549999999999999]
[0.875,1.0549999999999999]
[0.876,1.0549999999999999]
[0.877,1.0549999999999999]
[0.878,1.0549999999999999]
[0.879,1.0549999999999999]
[0.88,1.0549999999999999]
[0.88100000000000001,1.0549999999999999]
[0.88200000000000001,1.0549999999999999]
[0.88300000000000001,1.0549999999999999]
[0.88400000000000001,1.0549999999999999]
[0.88500000000000001,1.0549999999999999]
[0.88600000000000001,1.0549999999999999]
[0.88700000000000001,1.0549999999999999]
[0.88800000000000001,1.0549999999999999]
[0.88900000000000001,1.0549999999999999]
[0.89,1.0549999999999999]
[0.89100000000000001,1.0549999999999999]
[0.89200000000000002,1.0549999999999999]
[0.89300000000000002,1.0549999999999999]
[0.89400000000000002,1.0549999999999999]
[0.89500000000000002,1.0549999999999999]
[0.89600000000000002,1.0549999999999999]
[0.89700000000000002,1.0549999999999999]
[0.89800000000000002,1.0549999999999999]
[0.89900000000000002,1.0549999999999999]
[0.9,1.0549999999999999]
[0.90100000000000002,1.0549999999999999]
[0.90200000000000002,1.0549999999999999]
[0.90300000000000002,1.0549999999999999]
[0.90400000000000003,1.0549999999999999]
[0.90500000000000003,1.0549999999999999]
[0.90600000000000003,1.0549999999999999]
[0.90700000000000003,1.0549999999999999]
[0.90800000000000003,1.0549999999999999]
[0.90900000000000003,1.0549999999999999]
[0.91,1.0549999999999999]
[0.91100000000000003,1.0549999999999999]
[0.91200000000000003,1.0549999999999999]
[0.91300000000000003,1.0549999999999999]
[0.91400000000000003,1.0549999999999999]
[0.91500000000000004,1.0549999999999999]
[0.91600000000000004,1.0549999999999999]
[0.91700000000000004,1.0549999999999999]
[0.91800000000000004,1.0549999999999999]
[0.91900000000000004,1.0549999999999999]
[0.92,1.0549999999999999]
[0.92100000000000004,1.0549999999999999]
[0.92200000000000004,1.0549999999999999]
[0.92300000000000004,1.0549999999999999]
[0.92400000000000004,1.0549999999999999]
[0.92500000000000004,1.0549999999999999]
[0.92600000000000005,1.0549999999999999]
[0.92700000000000005,1.0549999999999999]
[0.92800000000000005,1.0549999999999999]
[0.92900000000000005,1.0549999999999999]
[0.93,1.0549999999999999]
[0.93100000000000005,1.0549999999999999]
[0.93200000000000005,1.0549999999999999]
[0.93300000000000005,1.0549999999999999]
[0.93400000000000005,1.0549999999999999]
[0.93500000000000005,1.0549999999999999]
[0.93600000000000005,1.0549999999999999]
[0.93700000000000006,1.0549999999999999]
[0.93799999999999994,1.0549999999999999]
[0.93899999999999995,1.0549999999999999]
[0.94,1.0549999999999999]
[0.94099999999999995,1.0549999999999999]
[0.94199999999999995,1.0549999999999999]
[0.94299999999999995,1.0549999999999999]
[0.94399999999999995,1.0549999999999999]
[0.94499999999999995,1.0549999999999999]
[0.94599999999999995,1.0549999999999999]
[0.94699999999999995,1.0549999999999999]
[0.94799999999999995,1.0549999999999999]
[0.94899999999999995,1.0549999999999999]
[0.95,1.0549999999999999]
[0.95099999999999996,1.0549999999999999]
[0.95199999999999996,1.0549999999999999]
[0.95299999999999996,1.0549999999999999]
[0.95399999999999996,1.0549999999999999]
[0.95499999999999996,1.0549999999999999]
[0.95599999999999996,1.0549999999999999]
[0.95699999999999996,1.0549999999999999]
[0.95799999999999996,1.0549999999999999]
[0.95899999999999996,1.0549999999999999]
[0.96,1.0549999999999999]
[0.96099999999999997,1.0549999999999999]
[0.96199999999999997,1.0549999999999999]
[0.96299999999999997,1.0549999999999999]
[0.96399999999999997,1.0549999999999999]
[0.96499999999999997,1.0549999999999999]
[0.96599999999999997,1.0549999999999999]
[0.96699999999999997,1.0549999999999999]
[0.96799999999999997,1.0549999999999999]
[0.96899999999999997,1.0549999999999999]
[0.97,1.0549999999999999]
[0.97099999999999997,1.0549999999999999]
[0.97199999999999998,1.0549999999999999]
[0.97299999999999998,1.0549999999999999]
[0.97399999999999998,1.0549999999999999]
[0.97499999999999998,1.0549999999999999]
[0.97599999999999998,1.0549999999999999]
[0.97699999999999998,1.0549999999999999]
[0.97799999999999998,1.0549999999999999]
[0.97899999999999998,1.0549999999999999]
[0.98,1.0549999999999999]
[0.98099999999999998,1.0549999999999999]
[0.98199999999999998,1.0549999999999999]
[0.98299999999999998,1.0549999999999999]
[0.98399999999999999,1.0549999999999999]
[0.98499999999999999,1.0549999999999999]
[0.98599999999999999,1.0549999999999999]
[0.98699999999999999,1.0549999999999999]
[0.98799999999999999,1.0549999999999999]
[0.98899999999999999,1.0549999999999999]
[0.99,1.0549999999999999]
[0.99099999999999999,1.0549999999999999]
[0.99199999999999999,1.0549999999999999]
[0.99299999999999999,1.0549999999999999]
[0.99399999999999999,1.0549999999999999]
[0.995,1.0549999999999999]
[0.996,1.0549999999999999]
[0.997,1.0549999999999999]
[0.998,1.0549999999999999]
[0.999,1.0549999999999999]
[1,1.0549999999999999]
[1.0009999999999999,1.0349999999999999]
[1.002,1.0349999999999999]
[1.0029999999999999,1.0349999999999999]
[1.004,1.0349999999999999]
[1.0049999999999999,1.0349999999999999]
[1.006,1.0349999999999999]
[1.0069999999999999,1.0349999999999999]
[1.008,1.0349999999999999]
[1.0089999999999999,1.0349999999999999]
[1.01,1.0349999999999999]
[1.0109999999999999,1.0349999999999999]
[1.012,1.0349999999999999]
[1.0129999999999999,1.0349999999999999]
[1.014,1.0349999999999999]
[1.0149999999999999,1.0349999999999999]
[1.016,1.0349999999999999]
[1.0169999999999999,1.0349999999999999]
[1.018,1.0349999999999999]
[1.0189999999999999,1.0349999999999999]
[1.02,1.0349999999999999]
[1.0209999999999999,1.0349999999999999]
[1.022,1.0349999999999999]
[1.0229999999999999,1.0349999999999999]
[1.024,1.0349999999999999]
[1.0249999999999999,1.0349999999999999]
[1.026,1.0349999999999999]
[1.0269999999999999,1.0349999999999999]
[1.028,1.0349999999999999]
[1.0289999999999999,1.0349999999999999]
[1.03,1.0349999999999999]
[1.0309999999999999,1.0349999999999999]
[1.032,1.0349999999999999]
[1.0329999999999999,1.0349999999999999]
[1.034,1.0349999999999999]
[1.0349999999999999,1.0349999999999999]
[1.036,1.0349999999999999]
[1.0369999999999999,1.0349999999999999]
[1.038,1.0349999999999999]
[1.0389999999999999,1.0349999999999999]
[1.04,1.0349999999999999]
[1.0409999999999999,1.0349999999999999]
[1.042,1.0349999999999999]
[1.0429999999999999,1.0349999999999999]
[1.044,1.0349999999999999]
[1.0449999999999999,1.0349999999999999]
[1.046,1.0349999999999999]
[1.0469999999999999,1.0349999999999999]
[1.048,1.0349999999999999]
[1.0489999999999999,1.0349999999999999]
[1.05,1.0349999999999999]
[1.0509999999999999,1.0349999999999999]
[1.052,1.0349999999999999]
[1.0529999999999999,1.0349999999999999]
[1.054,1.0349999999999999]
[1.0549999999999999,1.0349999999999999]
[1.056,1.0349999999999999]
[1.0569999999999999,1.0349999999999999]
[1.0580000000000001,1.0349999999999999]
[1.0589999999999999,1.0349999999999999]
[1.06,1.0349999999999999]
[1.0609999999999999,1.0349999999999999]
[1.0620000000000001,1.0349999999999999]
[1.0629999999999999,1.0349999999999999]
[1.0640000000000001,1.0349999999999999]
[1.0649999999999999,1.0349999999999999]
[1.0660000000000001,1.0349999999999999]
[1.0669999999999999,1.0349999999999999]
[1.0680000000000001,1.0349999999999999]
[1.069,1.0349999999999999]
[1.07,1.0349999999999999]
[1.071,1.0349999999999999]
[1.0720000000000001,1.0349999999999999]
[1.073,1.0349999999999999]
[1.0740000000000001,1.0349999999999999]
[1.075,1.0349999999999999]
[1.0760000000000001,1.0349999999999999]
[1.077,1.0349999999999999]
[1.0780000000000001,1.0349999999999999]
[1.079,1.0349999999999999]
[1.08,1.0349999999999999]
[1.081,1.0349999999999999]
[1.0820000000000001,1.0349999999999999]
[1.083,1.0349999999999999]
[1.0840000000000001,1.0349999999999999]
[1.085,1.0349999999999999]
[1.0860000000000001,1.0349999999999999]
[1.087,1.0349999999999999]
[1.0880000000000001,1.0349999999999999]
[1.089,1.0349999999999999]
[1.0900000000000001,1.0349999999999999]
[1.091,1.0349999999999999]
[1.0920000000000001,1.0349999999999999]
[1.093,1.0349999999999999]
[1.0940000000000001,1.0349999999999999]
[1.095,1.0349999999999999]
[1.0960000000000001,1.0349999999999999]
[1.097,1.0349999999999999]
[1.0980000000000001,1.0349999999999999]
[1.099,1.0349999999999999]
[1.1000000000000001,1.0349999999999999]
[1.101,1.0349999999999999]
[1.1020000000000001,1.0349999999999999]
[1.103,1.0349999999999999]
[1.1040000000000001,1.0349999999999999]
[1.105,1.0349999999999999]
[1.1060000000000001,1.0349999999999999]
[1.107,1.0349999999999999]
[1.1080000000000001,1.0349999999999999]
[1.109,1.0349999999999999]
[1.1100000000000001,1.0349999999999999]
[1.111,1.0349999999999999]
[1.1120000000000001,1.0349999999999999]
[1.113,1.0349999999999999]
[1.1140000000000001,1.0349999999999999]
[1.115,1.0349999999999999]
[1.1160000000000001,1.0349999999999999]
[1.117,1.0349999999999999]
[1.1180000000000001,1.0349999999999999]
[1.119,1.0349999999999999]
[1.1200000000000001,1.0349999999999999]
[1.121,1.0349999999999999]
[1.1220000000000001,1.0349999999999999]
[1.123,1.0349999999999999]
[1.1240000000000001,1.0349999999999999]
[1.125,1.0349999999999999]
[1.1259999999999999,1.0349999999999999]
[1.127,1.0349999999999999]
[1.1279999999999999,1.0349999999999999]
[1.129,1.0349999999999999]
[1.1299999999999999,1.0349999999999999]
[1.131,1.0349999999999999]
[1.1319999999999999,1.0349999999999999]
[1.133,1.0349999999999999]
[1.1339999999999999,1.0349999999999999]
[1.135,1.0349999999999999]
[1.1359999999999999,1.0349999999999999]
[1.137,1.0349999999999999]
[1.1379999999999999,1.0349999999999999]
[1.139,1.0349999999999999]
[1.1399999999999999,1.0349999999999999]
[1.141,1.0349999999999999]
[1.1419999999999999,1.0349999999999999]
[1.143,1.0349999999999999]
[1.1439999999999999,1.0349999999999999]
[1.145,1.0349999999999999]
[1.1459999999999999,1.0349999999999999]
[1.147,1.0349999999999999]
[1.1479999999999999,1.0349999999999999]
[1.149,1.0349999999999999]
[1.1499999999999999,1.0349999999999999]
[1.151,1.0349999999999999]
[1.1519999999999999,1.0349999999999999]
[1.153,1.0349999999999999]
[1.1539999999999999,1.0349999999999999]
[1.155,1.0349999999999999]
[1.1559999999999999,1.0349999999999999]
[1.157,1.0349999999999999]
[1.1579999999999999,1.0349999999999999]
[1.159,1.0349999999999999]
[1.1599999999999999,1.0349999999999999]
[1.161,1.0349999999999999]
[1.1619999999999999,1.0349999999999999]
[1.163,1.0349999999999999]
[1.1639999999999999,1.0349999999999999]
[1.165,1.0349999999999999]
[1.1659999999999999,1.0349999999999999]
[1.167,1.0349999999999999]
[1.1679999999999999,1.0349999999999999]
[1.169,1.0349999999999999]
[1.17,1.0349999999999999]
[1.171,1.0349999999999999]
[1.1719999999999999,1.0349999999999999]
[1.173,1.0349999999999999]
[1.1739999999999999,1.0349999999999999]
[1.175,1.0349999999999999]
[1.1759999999999999,1.0349999999999999]
[1.177,1.0349999999999999]
[1.1779999999999999,1.0349999999999999]
[1.179,1.0349999999999999]
[1.18,1.0349999999999999]
[1.181,1.0349999999999999]
[1.1819999999999999,1.0349999999999999]
[1.1830000000000001,1.0349999999999999]
[1.1839999999999999,1.0349999999999999]
[1.1850000000000001,1.0349999999999999]
[1.1859999999999999,1.0349999999999999]
[1.1870000000000001,1.0349999999999999]
[1.1879999999999999,1.0349999999999999]
[1.1890000000000001,1.0349999999999999]
[1.19,1.0349999999999999]
[1.1910000000000001,1.0349999999999999]
[1.1919999999999999,1.0349999999999999]
[1.1930000000000001,1.0349999999999999]
[1.194,1.0349999999999999]
[1.1950000000000001,1.0349999999999999]
[1.196,1.0349999999999999]
[1.1970000000000001,1.0349999999999999]
[1.198,1.0349999999999999]
[1.1990000000000001,1.0349999999999999]
[1.2,1.0349999999999999]
[1.2010000000000001,1.0349999999999999]
[1.202,1.0349999999999999]
[1.2030000000000001,1.0349999999999999]
[1.204,1.0349999999999999]
[1.2050000000000001,1.0349999999999999]
[1.206,1.0349999999999999]
[1.2070000000000001,1.0349999999999999]
[1.208,1.0349999999999999]
[1.2090000000000001,1.0349999999999999]
[1.21,1.0349999999999999]
[1.2110000000000001,1.0349999999999999]
[1.212,1.0349999999999999]
[1.2130000000000001,1.0349999999999999]
[1.214,1.0349999999999999]
[1.2150000000000001,1.0349999999999999]
[1.216,1.0349999999999999]
[1.2170000000000001,1.0349999999999999]
[1.218,1.0349999999999999]
[1.2190000000000001,1.0349999999999999]
[1.22,1.0349999999999999]
[1.2210000000000001,1.0349999999999999]
[1.222,1.0349999999999999]
[1.2230000000000001,1.0349999999999999]
[1.224,1.0349999999999999]
[1.2250000000000001,1.0349999999999999]
[1.226,1.0349999999999999]
[1.2270000000000001,1.0349999999999999]
[1.228,1.0349999999999999]
[1.2290000000000001,1.0349999999999999]
[1.23,1.0349999999999999]
[1.2310000000000001,1.0349999999999999]
[1.232,1.0349999999999999]
[1.2330000000000001,1.0349999999999999]
[1.234,1.0349999999999999]
[1.2350000000000001,1.0349999999999999]
[1.236,1.0349999999999999]
[1.2370000000000001,1.0349999999999999]
[1.238,1.0349999999999999]
[1.2390000000000001,1.0349999999999999]
[1.24,1.0349999999999999]
[1.2410000000000001,1.0349999999999999]
[1.242,1.0349999999999999]
[1.2430000000000001,1.0349999999999999]
[1.244,1.0349999999999999]
[1.2450000000000001,1.0349999999999999]
[1.246,1.0349999999999999]
[1.2470000000000001,1.0349999999999999]
[1.248,1.0349999999999999]
[1.2490000000000001,1.0349999999999999]
[1.25,1.0349999999999999]
[1.2509999999999999,1.0349999999999999]
[1.252,1.0349999999999999]
[1.2529999999999999,1.0349999999999999]
[1.254,1.0349999999999999]
[1.2549999999999999,1.0349999999999999]
[1.256,1.0349999999999999]
[1.2569999999999999,1.0349999999999999]
[1.258,1.0349999999999999]
[1.2589999999999999,1.0349999999999999]
[1.26,1.0349999999999999]
[1.2609999999999999,1.0349999999999999]
[1.262,1.0349999999999999]
[1.2629999999999999,1.0349999999999999]
[1.264,1.0349999999999999]
[1.2649999999999999,1.0349999999999999]
[1.266,1.0349999999999999]
[1.2669999999999999,1.0349999999999999]
[1.268,1.0349999999999999]
[1.2689999999999999,1.0349999999999999]
[1.27,1.0349999999999999]
[1.2709999999999999,1.0349999999999999]
[1.272,1.0349999999999999]
[1.2729999999999999,1.0349999999999999]
[1.274,1.0349999999999999]
[1.2749999999999999,1.0349999999999999]
[1.276,1.0349999999999999]
[1.2769999999999999,1.0349999999999999]
[1.278,1.0349999999999999]
[1.2789999999999999,1.0349999999999999]
[1.28,1.0349999999999999]
[1.2809999999999999,1.0349999999999999]
[1.282,1.0349999999999999]
[1.2829999999999999,1.0349999999999999]
[1.284,1.0349999999999999]
[1.2849999999999999,1.0349999999999999]
[1.286,1.0349999999999999]
[1.2869999999999999,1.0349999999999999]
[1.288,1.0349999999999999]
[1.2889999999999999,1.0349999999999999]
[1.29,1.0349999999999999]
[1.2909999999999999,1.0349999999999999]
[1.292,1.0349999999999999]
[1.2929999999999999,1.0349999999999999]
[1.294,1.0349999999999999]
[1.2949999999999999,1.0349999999999999]
[1.296,1.0349999999999999]
[1.2969999999999999,1.0349999999999999]
[1.298,1.0349999999999999]
[1.2989999999999999,1.0349999999999999]
[1.3,1.0349999999999999]
[1.3009999999999999,1.0349999999999999]
[1.302,1.0349999999999999]
[1.3029999999999999,1.0349999999999999]
[1.304,1.0349999999999999]
[1.3049999999999999,1.0349999999999999]
[1.306,1.0349999999999999]
[1.3069999999999999,1.0349999999999999]
[1.3080000000000001,1.0349999999999999]
[1.3089999999999999,1.0349999999999999]
[1.31,1.0349999999999999]
[1.3109999999999999,1.0349999999999999]
[1.3120000000000001,1.0349999999999999]
[1.3129999999999999,1.0349999999999999]
[1.3140000000000001,1.0349999999999999]
[1.3149999999999999,1.0349999999999999]
[1.3160000000000001,1.0349999999999999]
[1.3169999999999999,1.0349999999999999]
[1.3180000000000001,1.0349999999999999]
[1.319,1.0349999999999999]
[1.32,1.0349999999999999]
[1.321,1.0349999999999999]
[1.3220000000000001,1.0349999999999999]
[1.323,1.0349999999999999]
[1.3240000000000001,1.0349999999999999]
[1.325,1.0349999999999999]
[1.3260000000000001,1.0349999999999999]
[1.327,1.0349999999999999]
[1.3280000000000001,1.0349999999999999]
[1.329,1.0349999999999999]
[1.33,1.0349999999999999]
[1.331,1.0349999999999999]
[1.3320000000000001,1.0349999999999999]
[1.333,1.0349999999999999]
[1.3340000000000001,1.0349999999999999]
[1.335,1.0349999999999999]
[1.3360000000000001,1.0349999999999999]
[1.337,1.0349999999999999]
[1.3380000000000001,1.0349999999999999]
[1.339,1.0349999999999999]
[1.34,1.0349999999999999]
[1.341,1.0349999999999999]
[1.3420000000000001,1.0349999999999999]
[1.343,1.0349999999999999]
[1.3440000000000001,1.0349999999999999]
[1.345,1.0349999999999999]
[1.3460000000000001,1.0349999999999999]
[1.347,1.0349999999999999]
[1.3480000000000001,1.0349999999999999]
[1.349,1.0349999999999999]
[1.35,1.0349999999999999]
[1.351,1.0349999999999999]
[1.3520000000000001,1.0349999999999999]
[1.353,1.0349999999999999]
[1.3540000000000001,1.0349999999999999]
[1.355,1.0349999999999999]
[1.3560000000000001,1.0349999999999999]
[1.357,1.0349999999999999]
[1.3580000000000001,1.0349999999999999]
[1.359,1.0349999999999999]
[1.36,1.0349999999999999]
[1.361,1.0349999999999999]
[1.3620000000000001,1.0349999999999999]
[1.363,1.0349999999999999]
[1.3640000000000001,1.0349999999999999]
[1.365,1.0349999999999999]
[1.3660000000000001,1.0349999999999999]
[1.367,1.0349999999999999]
[1.3680000000000001,1.0349999999999999]
[1.369,1.0349999999999999]
[1.37,1.0349999999999999]
[1.371,1.0349999999999999]
[1.3720000000000001,1.0349999999999999]
[1.373,1.0349999999999999]
[1.3740000000000001,1.0349999999999999]
[1.375,1.0349999999999999]
[1.3759999999999999,1.0349999999999999]
[1.377,1.0349999999999999]
[1.3779999999999999,1.0349999999999999]
[1.379,1.0349999999999999]
[1.38,1.0349999999999999]
[1.381,1.0349999999999999]
[1.3819999999999999,1.0349999999999999]
[1.383,1.0349999999999999]
[1.3839999999999999,1.0349999999999999]
[1.385,1.0349999999999999]
[1.3859999999999999,1.0349999999999999]
[1.387,1.0349999999999999]
[1.3879999999999999,1.0349999999999999]
[1.389,1.0349999999999999]
[1.39,1.0349999999999999]
[1.391,1.0349999999999999]
[1.3919999999999999,1.0349999999999999]
[1.393,1.0349999999999999]
[1.3939999999999999,1.0349999999999999]
[1.395,1.0349999999999999]
[1.3959999999999999,1.0349999999999999]
[1.397,1.0349999999999999]
[1.3979999999999999,1.0349999999999999]
[1.399,1.0349999999999999]
[1.4,1.0349999999999999]
[1.401,1.0349999999999999]
[1.4019999999999999,1.0349999999999999]
[1.403,1.0349999999999999]
[1.4039999999999999,1.0349999999999999]
[1.405,1.0349999999999999]
[1.4059999999999999,1.0349999999999999]
[1.407,1.0349999999999999]
[1.4079999999999999,1.0349999999999999]
[1.409,1.0349999999999999]
[1.41,1.0349999999999999]
[1.411,1.0349999999999999]
[1.4119999999999999,1.0349999999999999]
[1.413,1.0349999999999999]
[1.4139999999999999,1.0349999999999999]
[1.415,1.0349999999999999]
[1.4159999999999999,1.0349999999999999]
[1.417,1.0349999999999999]
[1.4179999999999999,1.0349999999999999]
[1.419,1.0349999999999999]
[1.42,1.0349999999999999]
[1.421,1.0349999999999999]
[1.4219999999999999,1.0349999999999999]
[1.423,1.0349999999999999]
[1.4239999999999999,1.0349999999999999]
[1.425,1.0349999999999999]
[1.4259999999999999,1.0349999999999999]
[1.427,1.0349999999999999]
[1.4279999999999999,1.0349999999999999]
[1.429,1.0349999999999999]
[1.43,1.0349999999999999]
[1.431,1.0349999999999999]
[1.4319999999999999,1.0349999999999999]
[1.4330000000000001,1.0349999999999999]
[1.4339999999999999,1.0349999999999999]
[1.4350000000000001,1.0349999999999999]
[1.4359999999999999,1.0349999999999999]
[1.4370000000000001,1.0349999999999999]
[1.4379999999999999,1.0349999999999999]
[1.4390000000000001,1.0349999999999999]
[1.44,1.0349999999999999]
[1.4410000000000001,1.0349999999999999]
[1.4419999999999999,1.0349999999999999]
[1.4430000000000001,1.0349999999999999]
[1.444,1.0349999999999999]
[1.4450000000000001,1.0349999999999999]
[1.446,1.0349999999999999]
[1.4470000000000001,1.0349999999999999]
[1.448,1.0349999999999999]
[1.4490000000000001,1.0349999999999999]
[1.45,1.0349999999999999]
[1.4510000000000001,1.0349999999999999]
[1.452,1.0349999999999999]
[1.4530000000000001,1.0349999999999999]
[1.454,1.0349999999999999]
[1.4550000000000001,1.0349999999999999]
[1.456,1.0349999999999999]
[1.4570000000000001,1.0349999999999999]
[1.458,1.0349999999999999]
[1.4590000000000001,1.0349999999999999]
[1.46,1.0349999999999999]
[1.4610000000000001,1.0349999999999999]
[1.462,1.0349999999999999]
[1.4630000000000001,1.0349999999999999]
[1.464,1.0349999999999999]
[1.4650000000000001,1.0349999999999999]
[1.466,1.0349999999999999]
[1.4670000000000001,1.0349999999999999]
[1.468,1.0349999999999999]
[1.4690000000000001,1.0349999999999999]
[1.47,1.0349999999999999]
[1.4710000000000001,1.0349999999999999]
[1.472,1.0349999999999999]
[1.4730000000000001,1.0349999999999999]
[1.474,1.0349999999999999]
[1.4750000000000001,1.0349999999999999]
[1.476,1.0349999999999999]
[1.4770000000000001,1.0349999999999999]
[1.478,1.0349999999999999]
[1.4790000000000001,1.0349999999999999]
[1.48,1.0349999999999999]
[1.4810000000000001,1.0349999999999999]
[1.482,1.0349999999999999]
[1.4830000000000001,1.0349999999999999]
[1.484,1.0349999999999999]
[1.4850000000000001,1.0349999999999999]
[1.486,1.0349999999999999]
[1.4870000000000001,1.0349999999999999]
[1.488,1.0349999999999999]
[1.4890000000000001,1.0349999999999999]
[1.49,1.0349999999999999]
[1.4910000000000001,1.0349999999999999]
[1.492,1.0349999999999999]
[1.4930000000000001,1.0349999999999999]
[1.494,1.0349999999999999]
[1.4950000000000001,1.0349999999999999]
[1.496,1.0349999999999999]
[1.4970000000000001,1.0349999999999999]
[1.498,1.0349999999999999]
[1.4990000000000001,1.0349999999999999]
[1.5,1.0349999999999999]
[1.5009999999999999,1.008]
[1.502,1.008]
[1.5029999999999999,1.008]
[1.504,1.008]
[1.5049999999999999,1.008]
[1.506,1.008]
[1.5069999999999999,1.008]
[1.508,1.008]
[1.5089999999999999,1.008]
[1.51,1.008]
[1.5109999999999999,1.008]
[1.512,1.008]
[1.5129999999999999,1.008]
[1.514,1.008]
[1.5149999999999999,1.008]
[1.516,1.008]
[1.5169999999999999,1.008]
[1.518,1.008]
[1.5189999999999999,1.008]
[1.52,1.008]
[1.5209999999999999,1.008]
[1.522,1.008]
[1.5229999999999999,1.008]
[1.524,1.008]
[1.5249999999999999,1.008]
[1.526,1.008]
[1.5269999999999999,1.008]
[1.528,1.008]
[1.5289999999999999,1.008]
[1.53,1.008]
[1.5309999999999999,1.008]
[1.532,1.008]
[1.5329999999999999,1.008]
[1.534,1.008]
[1.5349999999999999,1.008]
[1.536,1.008]
[1.5369999999999999,1.008]
[1.538,1.008]
[1.5389999999999999,1.008]
[1.54,1.008]
[1.5409999999999999,1.008]
[1.542,1.008]
[1.5429999999999999,1.008]
[1.544,1.008]
[1.5449999999999999,1.008]
[1.546,1.008]
[1.5469999999999999,1.008]
[1.548,1.008]
[1.5489999999999999,1.008]
[1.55,1.008]
[1.5509999999999999,1.008]
[1.552,1.008]
[1.5529999999999999,1.008]
[1.554,1.008]
[1.5549999999999999,1.008]
[1.556,1.008]
[1.5569999999999999,1.008]
[1.5580000000000001,1.008]
[1.5589999999999999,1.008]
[1.56,1.008]
[1.5609999999999999,1.008]
[1.5620000000000001,1.008]
[1.5629999999999999,1.008]
[1.5640000000000001,1.008]
[1.5649999999999999,1.008]
[1.5660000000000001,1.008]
[1.5669999999999999,1.008]
[1.5680000000000001,1.008]
[1.569,1.008]
[1.57,1.008]
[1.571,1.008]
[1.5720000000000001,1.008]
[1.573,1.008]
[1.5740000000000001,1.008]
[1.575,1.008]
[1.5760000000000001,1.008]
[1.577,1.008]
[1.5780000000000001,1.008]
[1.579,1.008]
[1.58,1.008]
[1.581,1.008]
[1.5820000000000001,1.008]
[1.583,1.008]
[1.5840000000000001,1.008]
[1.585,1.008]
[1.5860000000000001,1.008]
[1.587,1.008]
[1.5880000000000001,1.008]
[1.589,1.008]
[1.59,1.008]
[1.591,1.008]
[1.5920000000000001,1.008]
[1.593,1.008]
[1.5940000000000001,1.008]
[1.595,1.008]
[1.5960000000000001,1.008]
[1.597,1.008]
[1.5980000000000001,1.008]
[1.599,1.008]
[1.6,1.008]
[1.601,1.008]
[1.6020000000000001,1.008]
[1.603,1.008]
[1.6040000000000001,1.008]
[1.605,1.008]
[1.6060000000000001,1.008]
[1.607,1.008]
[1.6080000000000001,1.008]
[1.609,1.008]
[1.61,1.008]
[1.611,1.008]
[1.6120000000000001,1.008]
[1.613,1.008]
[1.6140000000000001,1.008]
[1.615,1.008]
[1.6160000000000001,1.008]
[1.617,1.008]
[1.6180000000000001,1.008]
[1.619,1.008]
[1.62,1.008]
[1.621,1.008]
[1.6220000000000001,1.008]
[1.623,1.008]
[1.6240000000000001,1.008]
[1.625,1.008]
[1.6259999999999999,1.008]
[1.627,1.008]
[1.6279999999999999,1.008]
[1.629,1.008]
[1.63,1.008]
[1.631,1.008]
[1.6319999999999999,1.008]
[1.633,1.008]
[1.6339999999999999,1.008]
[1.635,1.008]
[1.6359999999999999,1.008]
[1.637,1.008]
[1.6379999999999999,1.008]
[1.639,1.008]
[1.64,1.008]
[1.641,1.008]
[1.6419999999999999,1.008]
[1.643,1.008]
[1.6439999999999999,1.008]
[1.645,1.008]
[1.6459999999999999,1.008]
[1.647,1.008]
[1.6479999999999999,1.008]
[1.649,1.008]
[1.65,1.008]
[1.651,1.008]
[1.6519999999999999,1.008]
[1.653,1.008]
[1.6539999999999999,1.008]
[1.655,1.008]
[1.6559999999999999,1.008]
[1.657,1.008]
[1.6579999999999999,1.008]
[1.659,1.008]
[1.66,1.008]
[1.661,1.008]
[1.6619999999999999,1.008]
[1.663,1.008]
[1.6639999999999999,1.008]
[1.665,1.008]
[1.6659999999999999,1.008]
[1.667,1.008]
[1.6679999999999999,1.008]
[1.669,1.008]
[1.67,1.008]
[1.671,1.008]
[1.6719999999999999,1.008]
[1.673,1.008]
[1.6739999999999999,1.008]
[1.675,1.008]
[1.6759999999999999,1.008]
[1.677,1.008]
[1.6779999999999999,1.008]
[1.679,1.008]
[1.68,1.008]
[1.681,1.008]
[1.6819999999999999,1.008]
[1.6830000000000001,1.008]
[1.6839999999999999,1.008]
[1.6850000000000001,1.008]
[1.6859999999999999,1.008]
[1.6870000000000001,1.008]
[1.6879999999999999,1.008]
[1.6890000000000001,1.008]
[1.69,1.008]
[1.6910000000000001,1.008]
[1.6919999999999999,1.008]
[1.6930000000000001,1.008]
[1.694,1.008]
[1.6950000000000001,1.008]
[1.696,1.008]
[1.6970000000000001,1.008]
[1.698,1.008]
[1.6990000000000001,1.008]
[1.7,1.008]
[1.7010000000000001,1.008]
[1.702,1.008]
[1.7030000000000001,1.008]
[1.704,1.008]
[1.7050000000000001,1.008]
[1.706,1.008]
[1.7070000000000001,1.008]
[1.708,1.008]
[1.7090000000000001,1.008]
[1.71,1.008]
[1.7110000000000001,1.008]
[1.712,1.008]
[1.7130000000000001,1.008]
[1.714,1.008]
[1.7150000000000001,1.008]
[1.716,1.008]
[1.7170000000000001,1.008]
[1.718,1.008]
[1.7190000000000001,1.008]
[1.72,1.008]
[1.7210000000000001,1.008]
[1.722,1.008]
[1.7230000000000001,1.008]
[1.724,1.008]
[1.7250000000000001,1.008]
[1.726,1.008]
[1.7270000000000001,1.008]
[1.728,1.008]
[1.7290000000000001,1.008]
[1.73,1.008]
[1.7310000000000001,1.008]
[1.732,1.008]
[1.7330000000000001,1.008]
[1.734,1.008]
[1.7350000000000001,1.008]
[1.736,1.008]
[1.7370000000000001,1.008]
[1.738,1.008]
[1.7390000000000001,1.008]
[1.74,1.008]
[1.7410000000000001,1.008]
[1.742,1.008]
[1.7430000000000001,1.008]
[1.744,1.008]
[1.7450000000000001,1.008]
[1.746,1.008]
[1.7470000000000001,1.008]
[1.748,1.008]
[1.7490000000000001,1.008]
[1.75,1.008]
[1.7509999999999999,1.008]
[1.752,1.008]
[1.7529999999999999,1.008]
[1.754,1.008]
[1.7549999999999999,1.008]
[1.756,1.008]
[1.7569999999999999,1.008]
[1.758,1.008]
[1.7589999999999999,1.008]
[1.76,1.008]
[1.7609999999999999,1.008]
[1.762,1.008]
[1.7629999999999999,1.008]
[1.764,1.008]
[1.7649999999999999,1.008]
[1.766,1.008]
[1.7669999999999999,1.008]
[1.768,1.008]
[1.7689999999999999,1.008]
[1.77,1.008]
[1.7709999999999999,1.008]
[1.772,1.008]
[1.7729999999999999,1.008]
[1.774,1.008]
[1.7749999999999999,1.008]
[1.776,1.008]
[1.7769999999999999,1.008]
[1.778,1.008]
[1.7789999999999999,1.008]
[1.78,1.008]
[1.7809999999999999,1.008]
[1.782,1.008]
[1.7829999999999999,1.008]
[1.784,1.008]
[1.7849999999999999,1.008]
[1.786,1.008]
[1.7869999999999999,1.008]
[1.788,1.008]
[1.7889999999999999,1.008]
[1.79,1.008]
[1.7909999999999999,1.008]
[1.792,1.008]
[1.7929999999999999,1.008]
[1.794,1.008]
[1.7949999999999999,1.008]
[1.796,1.008]
[1.7969999999999999,1.008]
[1.798,1.008]
[1.7989999999999999,1.008]
[1.8,1.008]
[1.8009999999999999,1.008]
[1.802,1.008]
[1.8029999999999999,1.008]
[1.804,1.008]
[1.8049999999999999,1.008]
[1.806,1.008]
[1.8069999999999999,1.008]
[1.8080000000000001,1.008]
[1.8089999999999999,1.008]
[1.81,1.008]
[1.8109999999999999,1.008]
[1.8120000000000001,1.008]
[1.8129999999999999,1.008]
[1.8140000000000001,1.008]
[1.8149999999999999,1.008]
[1.8160000000000001,1.008]
[1.8169999999999999,1.008]
[1.8180000000000001,1.008]
[1.819,1.008]
[1.82,1.008]
[1.821,1.008]
[1.8220000000000001,1.008]
[1.823,1.008]
[1.8240000000000001,1.008]
[1.825,1.008]
[1.8260000000000001,1.008]
[1.827,1.008]
[1.8280000000000001,1.008]
[1.829,1.008]
[1.83,1.008]
[1.831,1.008]
[1.8320000000000001,1.008]
[1.833,1.008]
[1.8340000000000001,1.008]
[1.835,1.008]
[1.8360000000000001,1.008]
[1.837,1.008]
[1.8380000000000001,1.008]
[1.839,1.008]
[1.84,1.008]
[1.841,1.008]
[1.8420000000000001,1.008]
[1.843,1.008]
[1.8440000000000001,1.008]
[1.845,1.008]
[1.8460000000000001,1.008]
[1.847,1.008]
[1.8480000000000001,1.008]
[1.849,1.008]
[1.85,1.008]
[1.851,1.008]
[1.8520000000000001,1.008]
[1.853,1.008]
[1.8540000000000001,1.008]
[1.855,1.008]
[1.8560000000000001,1.008]
[1.857,1.008]
[1.8580000000000001,1.008]
[1.859,1.008]
[1.86,1.008]
[1.861,1.008]
[1.8620000000000001,1.008]
[1.863,1.008]
[1.8640000000000001,1.008]
[1.865,1.008]
[1.8660000000000001,1.008]
[1.867,1.008]
[1.8680000000000001,1.008]
[1.869,1.008]
[1.87,1.008]
[1.871,1.008]
[1.8720000000000001,1.008]
[1.873,1.008]
[1.8740000000000001,1.008]
[1.875,1.008]
[1.8759999999999999,1.008]
[1.877,1.008]
[1.8779999999999999,1.008]
[1.879,1.008]
[1.88,1.008]
[1.881,1.008]
[1.8819999999999999,1.008]
[1.883,1.008]
[1.8839999999999999,1.008]
[1.885,1.008]
[1.8859999999999999,1.008]
[1.887,1.008]
[1.8879999999999999,1.008]
[1.889,1.008]
[1.89,1.008]
[1.891,1.008]
[1.8919999999999999,1.008]
[1.893,1.008]
[1.8939999999999999,1.008]
[1.895,1.008]
[1.8959999999999999,1.008]
[1.897,1.008]
[1.8979999999999999,1.008]
[1.899,1.008]
[1.9,1.008]
[1.901,1.008]
[1.9019999999999999,1.008]
[1.903,1.008]
[1.9039999999999999,1.008]
[1.905,1.008]
[1.9059999999999999,1.008]
[1.907,1.008]
[1.9079999999999999,1.008]
[1.909,1.008]
[1.91,1.008]
[1.911,1.008]
[1.9119999999999999,1.008]
[1.913,1.008]
[1.9139999999999999,1.008]
[1.915,1.008]
[1.9159999999999999,1.008]
[1.917,1.008]
[1.9179999999999999,1.008]
[1.919,1.008]
[1.92,1.008]
[1.921,1.008]
[1.9219999999999999,1.008]
[1.923,1.008]
[1.9239999999999999,1.008]
[1.925,1.008]
[1.9259999999999999,1.008]
[1.927,1.008]
[1.9279999999999999,1.008]
[1.929,1.008]
[1.93,1.008]
[1.931,1.008]
[1.9319999999999999,1.008]
[1.9330000000000001,1.008]
[1.9339999999999999,1.008]
[1.9350000000000001,1.008]
[1.9359999999999999,1.008]
[1.9370000000000001,1.008]
[1.9379999999999999,1.008]
[1.9390000000000001,1.008]
[1.94,1.008]
[1.9410000000000001,1.008]
[1.9419999999999999,1.008]
[1.9430000000000001,1.008]
[1.944,1.008]
[1.9450000000000001,1.008]
[1.946,1.008]
[1.9470000000000001,1.008]
[1.948,1.008]
[1.9490000000000001,1.008]
[1.95,1.008]
[1.9510000000000001,1.008]
[1.952,1.008]
[1.9530000000000001,1.008]
[1.954,1.008]
[1.9550000000000001,1.008]
[1.956,1.008]
[1.9570000000000001,1.008]
[1.958,1.008]
[1.9590000000000001,1.008]
[1.96,1.008]
[1.9610000000000001,1.008]
[1.962,1.008]
[1.9630000000000001,1.008]
[1.964,1.008]
[1.9650000000000001,1.008]
[1.966,1.008]
[1.9670000000000001,1.008]
[1.968,1.008]
[1.9690000000000001,1.008]
[1.97,1.008]
[1.9710000000000001,1.008]
[1.972,1.008]
[1.9730000000000001,1.008]
[1.974,1.008]
[1.9750000000000001,1.008]
[1.976,1.008]
[1.9770000000000001,1.008]
[1.978,1.008]
[1.9790000000000001,1.008]
[1.98,1.008]
[1.9810000000000001,1.008]
[1.982,1.008]
[1.9830000000000001,1.008]
[1.984,1.008]
[1.9850000000000001,1.008]
[1.986,1.008]
[1.9870000000000001,1.008]
[1.988,1.008]
[1.9890000000000001,1.008]
[1.99,1.008]
[1.9910000000000001,1.008]
[1.992,1.008]
[1.9930000000000001,1.008]
[1.994,1.008]
[1.9950000000000001,1.008]
[1.996,1.008]
[1.9970000000000001,1.008]
[1.998,1.008]
[1.9990000000000001,1.008]
[2,1.008]
[2.0009999999999999,0.99199999999999999]
[2.0019999999999998,0.99199999999999999]
[2.0030000000000001,0.99199999999999999]
[2.004,0.99199999999999999]
[2.0049999999999999,0.99199999999999999]
[2.0059999999999998,0.99199999999999999]
[2.0070000000000001,0.99199999999999999]
[2.008,0.99199999999999999]
[2.0089999999999999,0.99199999999999999]
[2.0099999999999998,0.99199999999999999]
[2.0110000000000001,0.99199999999999999]
[2.012,0.99199999999999999]
[2.0129999999999999,0.99199999999999999]
[2.0139999999999998,0.99199999999999999]
[2.0150000000000001,0.99199999999999999]
[2.016,0.99199999999999999]
[2.0169999999999999,0.99199999999999999]
[2.0179999999999998,0.99199999999999999]
[2.0190000000000001,0.99199999999999999]
[2.02,0.99199999999999999]
[2.0209999999999999,0.99199999999999999]
[2.0219999999999998,0.99199999999999999]
[2.0230000000000001,0.99199999999999999]
[2.024,0.99199999999999999]
[2.0249999999999999,0.99199999999999999]
[2.0259999999999998,0.99199999999999999]
[2.0270000000000001,0.99199999999999999]
[2.028,0.99199999999999999]
[2.0289999999999999,0.99199999999999999]
[2.0299999999999998,0.99199999999999999]
[2.0310000000000001,0.99199999999999999]
[2.032,0.99199999999999999]
[2.0329999999999999,0.99199999999999999]
[2.0339999999999998,0.99199999999999999]
[2.0350000000000001,0.99199999999999999]
[2.036,0.99199999999999999]
[2.0369999999999999,0.99199999999999999]
[2.0379999999999998,0.99199999999999999]
[2.0390000000000001,0.99199999999999999]
[2.04,0.99199999999999999]
[2.0409999999999999,0.99199999999999999]
[2.0419999999999998,0.99199999999999999]
[2.0430000000000001,0.99199999999999999]
[2.044,0.99199999999999999]
[2.0449999999999999,0.99199999999999999]
[2.0459999999999998,0.99199999999999999]
[2.0470000000000002,0.99199999999999999]
[2.048,0.99199999999999999]
[2.0489999999999999,0.99199999999999999]
[2.0499999999999998,0.99199999999999999]
[2.0510000000000002,0.99199999999999999]
[2.052,0.99199999999999999]
[2.0529999999999999,0.99199999999999999]
[2.0539999999999998,0.99199999999999999]
[2.0550000000000002,0.99199999999999999]
[2.056,0.99199999999999999]
[2.0569999999999999,0.99199999999999999]
[2.0579999999999998,0.99199999999999999]
[2.0590000000000002,0.99199999999999999]
[2.06,0.99199999999999999]
[2.0609999999999999,0.99199999999999999]
[2.0619999999999998,0.99199999999999999]
[2.0630000000000002,0.99199999999999999]
[2.0640000000000001,0.99199999999999999]
[2.0649999999999999,0.99199999999999999]
[2.0659999999999998,0.99199999999999999]
[2.0670000000000002,0.99199999999999999]
[2.0680000000000001,0.99199999999999999]
[2.069,0.99199999999999999]
[2.0699999999999998,0.99199999999999999]
[2.0710000000000002,0.99199999999999999]
[2.0720000000000001,0.99199999999999999]
[2.073,0.99199999999999999]
[2.0739999999999998,0.99199999999999999]
[2.0750000000000002,0.99199999999999999]
[2.0760000000000001,0.99199999999999999]
[2.077,0.99199999999999999]
[2.0779999999999998,0.99199999999999999]
[2.0790000000000002,0.99199999999999999]
[2.08,0.99199999999999999]
[2.081,0.99199999999999999]
[2.0819999999999999,0.99199999999999999]
[2.0830000000000002,0.99199999999999999]
[2.0840000000000001,0.99199999999999999]
[2.085,0.99199999999999999]
[2.0859999999999999,0.99199999999999999]
[2.0870000000000002,0.99199999999999999]
[2.0880000000000001,0.99199999999999999]
[2.089,0.99199999999999999]
[2.09,0.99199999999999999]
[2.0910000000000002,0.99199999999999999]
[2.0920000000000001,0.99199999999999999]
[2.093,0.99199999999999999]
[2.0939999999999999,0.99199999999999999]
[2.0950000000000002,0.99199999999999999]
[2.0960000000000001,0.99199999999999999]
[2.097,0.99199999999999999]
[2.0979999999999999,0.99199999999999999]
[2.0990000000000002,0.99199999999999999]
[2.1,0.99199999999999999]
[2.101,0.99199999999999999]
[2.1019999999999999,0.99199999999999999]
[2.1030000000000002,0.99199999999999999]
[2.1040000000000001,0.99199999999999999]
[2.105,0.99199999999999999]
[2.1059999999999999,0.99199999999999999]
[2.1070000000000002,0.99199999999999999]
[2.1080000000000001,0.99199999999999999]
[2.109,0.99199999999999999]
[2.11,0.99199999999999999]
[2.1110000000000002,0.99199999999999999]
[2.1120000000000001,0.99199999999999999]
[2.113,0.99199999999999999]
[2.1139999999999999,0.99199999999999999]
[2.1150000000000002,0.99199999999999999]
[2.1160000000000001,0.99199999999999999]
[2.117,0.99199999999999999]
[2.1179999999999999,0.99199999999999999]
[2.1190000000000002,0.99199999999999999]
[2.12,0.99199999999999999]
[2.121,0.99199999999999999]
[2.1219999999999999,0.99199999999999999]
[2.1230000000000002,0.99199999999999999]
[2.1240000000000001,0.99199999999999999]
[2.125,0.99199999999999999]
[2.1259999999999999,0.99199999999999999]
[2.1269999999999998,0.99199999999999999]
[2.1280000000000001,0.99199999999999999]
[2.129,0.99199999999999999]
[2.13,0.99199999999999999]
[2.1309999999999998,0.99199999999999999]
[2.1320000000000001,0.99199999999999999]
[2.133,0.99199999999999999]
[2.1339999999999999,0.99199999999999999]
[2.1349999999999998,0.99199999999999999]
[2.1360000000000001,0.99199999999999999]
[2.137,0.99199999999999999]
[2.1379999999999999,0.99199999999999999]
[2.1389999999999998,0.99199999999999999]
[2.14,0.99199999999999999]
[2.141,0.99199999999999999]
[2.1419999999999999,0.99199999999999999]
[2.1429999999999998,0.99199999999999999]
[2.1440000000000001,0.99199999999999999]
[2.145,0.99199999999999999]
[2.1459999999999999,0.99199999999999999]
[2.1469999999999998,0.99199999999999999]
[2.1480000000000001,0.99199999999999999]
[2.149,0.99199999999999999]
[2.15,0.99199999999999999]
[2.1509999999999998,0.99199999999999999]
[2.1520000000000001,0.99199999999999999]
[2.153,0.99199999999999999]
[2.1539999999999999,0.99199999999999999]
[2.1549999999999998,0.99199999999999999]
[2.1560000000000001,0.99199999999999999]
[2.157,0.99199999999999999]
[2.1579999999999999,0.99199999999999999]
[2.1589999999999998,0.99199999999999999]
[2.16,0.99199999999999999]
[2.161,0.99199999999999999]
[2.1619999999999999,0.99199999999999999]
[2.1629999999999998,0.99199999999999999]
[2.1640000000000001,0.99199999999999999]
[2.165,0.99199999999999999]
[2.1659999999999999,0.99199999999999999]
[2.1669999999999998,0.99199999999999999]
[2.1680000000000001,0.99199999999999999]
[2.169,0.99199999999999999]
[2.17,0.99199999999999999]
[2.1709999999999998,0.99199999999999999]
[2.1720000000000002,0.99199999999999999]
[2.173,0.99199999999999999]
[2.1739999999999999,0.99199999999999999]
[2.1749999999999998,0.99199999999999999]
[2.1760000000000002,0.99199999999999999]
[2.177,0.99199999999999999]
[2.1779999999999999,0.99199999999999999]
[2.1789999999999998,0.99199999999999999]
[2.1800000000000002,0.99199999999999999]
[2.181,0.99199999999999999]
[2.1819999999999999,0.99199999999999999]
[2.1829999999999998,0.99199999999999999]
[2.1840000000000002,0.99199999999999999]
[2.1850000000000001,0.99199999999999999]
[2.1859999999999999,0.99199999999999999]
[2.1869999999999998,0.99199999999999999]
[2.1880000000000002,0.99199999999999999]
[2.1890000000000001,0.99199999999999999]
[2.19,0.99199999999999999]
[2.1909999999999998,0.99199999999999999]
[2.1920000000000002,0.99199999999999999]
[2.1930000000000001,0.99199999999999999]
[2.194,0.99199999999999999]
[2.1949999999999998,0.99199999999999999]
[2.1960000000000002,0.99199999999999999]
[2.1970000000000001,0.99199999999999999]
[2.198,0.99199999999999999]
[2.1989999999999998,0.99199999999999999]
[2.2000000000000002,0.99199999999999999]
[2.2010000000000001,0.99199999999999999]
[2.202,0.99199999999999999]
[2.2029999999999998,0.99199999999999999]
[2.2040000000000002,0.99199999999999999]
[2.2050000000000001,0.99199999999999999]
[2.206,0.99199999999999999]
[2.2069999999999999,0.99199999999999999]
[2.2080000000000002,0.99199999999999999]
[2.2090000000000001,0.99199999999999999]
[2.21,0.99199999999999999]
[2.2109999999999999,0.99199999999999999]
[2.2120000000000002,0.99199999999999999]
[2.2130000000000001,0.99199999999999999]
[2.214,0.99199999999999999]
[2.2149999999999999,0.99199999999999999]
[2.2160000000000002,0.99199999999999999]
[2.2170000000000001,0.99199999999999999]
[2.218,0.99199999999999999]
[2.2189999999999999,0.99199999999999999]
[2.2200000000000002,0.99199999999999999]
[2.2210000000000001,0.99199999999999999]
[2.222,0.99199999999999999]
[2.2229999999999999,0.99199999999999999]
[2.2240000000000002,0.99199999999999999]
[2.2250000000000001,0.99199999999999999]
[2.226,0.99199999999999999]
[2.2269999999999999,0.99199999999999999]
[2.2280000000000002,0.99199999999999999]
[2.2290000000000001,0.99199999999999999]
[2.23,0.99199999999999999]
[2.2309999999999999,0.99199999999999999]
[2.2320000000000002,0.99199999999999999]
[2.2330000000000001,0.99199999999999999]
[2.234,0.99199999999999999]
[2.2349999999999999,0.99199999999999999]
[2.2360000000000002,0.99199999999999999]
[2.2370000000000001,0.99199999999999999]
[2.238,0.99199999999999999]
[2.2389999999999999,0.99199999999999999]
[2.2400000000000002,0.99199999999999999]
[2.2410000000000001,0.99199999999999999]
[2.242,0.99199999999999999]
[2.2429999999999999,0.99199999999999999]
[2.2440000000000002,0.99199999999999999]
[2.2450000000000001,0.99199999999999999]
[2.246,0.99199999999999999]
[2.2469999999999999,0.99199999999999999]
[2.2480000000000002,0.99199999999999999]
[2.2490000000000001,0.99199999999999999]
[2.25,0.99199999999999999]
[2.2509999999999999,0.99199999999999999]
[2.2519999999999998,0.99199999999999999]
[2.2530000000000001,0.99199999999999999]
[2.254,0.99199999999999999]
[2.2549999999999999,0.99199999999999999]
[2.2559999999999998,0.99199999999999999]
[2.2570000000000001,0.99199999999999999]
[2.258,0.99199999999999999]
[2.2589999999999999,0.99199999999999999]
[2.2599999999999998,0.99199999999999999]
[2.2610000000000001,0.99199999999999999]
[2.262,0.99199999999999999]
[2.2629999999999999,0.99199999999999999]
[2.2639999999999998,0.99199999999999999]
[2.2650000000000001,0.99199999999999999]
[2.266,0.99199999999999999]
[2.2669999999999999,0.99199999999999999]
[2.2679999999999998,0.99199999999999999]
[2.2690000000000001,0.99199999999999999]
[2.27,0.99199999999999999]
[2.2709999999999999,0.99199999999999999]
[2.2719999999999998,0.99199999999999999]
[2.2730000000000001,0.99199999999999999]
[2.274,0.99199999999999999]
[2.2749999999999999,0.99199999999999999]
[2.2759999999999998,0.99199999999999999]
[2.2770000000000001,0.99199999999999999]
[2.278,0.99199999999999999]
[2.2789999999999999,0.99199999999999999]
[2.2799999999999998,0.99199999999999999]
[2.2810000000000001,0.99199999999999999]
[2.282,0.99199999999999999]
[2.2829999999999999,0.99199999999999999]
[2.2839999999999998,0.99199999999999999]
[2.2850000000000001,0.99199999999999999]
[2.286,0.99199999999999999]
[2.2869999999999999,0.99199999999999999]
[2.2879999999999998,0.99199999999999999]
[2.2890000000000001,0.99199999999999999]
[2.29,0.99199999999999999]
[2.2909999999999999,0.99199999999999999]
[2.2919999999999998,0.99199999999999999]
[2.2930000000000001,0.99199999999999999]
[2.294,0.99199999999999999]
[2.2949999999999999,0.99199999999999999]
[2.2959999999999998,0.99199999999999999]
[2.2970000000000002,0.99199999999999999]
[2.298,0.99199999999999999]
[2.2989999999999999,0.99199999999999999]
[2.2999999999999998,0.99199999999999999]
[2.3010000000000002,0.99199999999999999]
[2.302,0.99199999999999999]
[2.3029999999999999,0.99199999999999999]
[2.3039999999999998,0.99199999999999999]
[2.3050000000000002,0.99199999999999999]
[2.306,0.99199999999999999]
[2.3069999999999999,0.99199999999999999]
[2.3079999999999998,0.99199999999999999]
[2.3090000000000002,0.99199999999999999]
[2.31,0.99199999999999999]
[2.3109999999999999,0.99199999999999999]
[2.3119999999999998,0.99199999999999999]
[2.3130000000000002,0.99199999999999999]
[2.3140000000000001,0.99199999999999999]
[2.3149999999999999,0.99199999999999999]
[2.3159999999999998,0.99199999999999999]
[2.3170000000000002,0.99199999999999999]
[2.3180000000000001,0.99199999999999999]
[2.319,0.99199999999999999]
[2.3199999999999998,0.99199999999999999]
[2.3210000000000002,0.99199999999999999]
[2.3220000000000001,0.99199999999999999]
[2.323,0.99199999999999999]
[2.3239999999999998,0.99199999999999999]
[2.3250000000000002,0.99199999999999999]
[2.3260000000000001,0.99199999999999999]
[2.327,0.99199999999999999]
[2.3279999999999998,0.99199999999999999]
[2.3290000000000002,0.99199999999999999]
[2.33,0.99199999999999999]
[2.331,0.99199999999999999]
[2.3319999999999999,0.99199999999999999]
[2.3330000000000002,0.99199999999999999]
[2.3340000000000001,0.99199999999999999]
[2.335,0.99199999999999999]
[2.3359999999999999,0.99199999999999999]
[2.3370000000000002,0.99199999999999999]
[2.3380000000000001,0.99199999999999999]
[2.339,0.99199999999999999]
[2.34,0.99199999999999999]
[2.3410000000000002,0.99199999999999999]
[2.3420000000000001,0.99199999999999999]
[2.343,0.99199999999999999]
[2.3439999999999999,0.99199999999999999]
[2.3450000000000002,0.99199999999999999]
[2.3460000000000001,0.99199999999999999]
[2.347,0.99199999999999999]
[2.3479999999999999,0.99199999999999999]
[2.3490000000000002,0.99199999999999999]
[2.35,0.99199999999999999]
[2.351,0.99199999999999999]
[2.3519999999999999,0.99199999999999999]
[2.3530000000000002,0.99199999999999999]
[2.3540000000000001,0.99199999999999999]
[2.355,0.99199999999999999]
[2.3559999999999999,0.99199999999999999]
[2.3570000000000002,0.99199999999999999]
[2.3580000000000001,0.99199999999999999]
[2.359,0.99199999999999999]
[2.36,0.99199999999999999]
[2.3610000000000002,0.99199999999999999]
[2.3620000000000001,0.99199999999999999]
[2.363,0.99199999999999999]
[2.3639999999999999,0.99199999999999999]
[2.3650000000000002,0.99199999999999999]
[2.3660000000000001,0.99199999999999999]
[2.367,0.99199999999999999]
[2.3679999999999999,0.99199999999999999]
[2.3690000000000002,0.99199999999999999]
[2.37,0.99199999999999999]
[2.371,0.99199999999999999]
[2.3719999999999999,0.99199999999999999]
[2.3730000000000002,0.99199999999999999]
[2.3740000000000001,0.99199999999999999]
[2.375,0.99199999999999999]
[2.3759999999999999,0.99199999999999999]
[2.3769999999999998,0.99199999999999999]
[2.3780000000000001,0.99199999999999999]
[2.379,0.99199999999999999]
[2.38,0.99199999999999999]
[2.3809999999999998,0.99199999999999999]
[2.3820000000000001,0.99199999999999999]
[2.383,0.99199999999999999]
[2.3839999999999999,0.99199999999999999]
[2.3849999999999998,0.99199999999999999]
[2.3860000000000001,0.99199999999999999]
[2.387,0.99199999999999999]
[2.3879999999999999,0.99199999999999999]
[2.3889999999999998,0.99199999999999999]
[2.39,0.99199999999999999]
[2.391,0.99199999999999999]
[2.3919999999999999,0.99199999999999999]
[2.3929999999999998,0.99199999999999999]
[2.3940000000000001,0.99199999999999999]
[2.395,0.99199999999999999]
[2.3959999999999999,0.99199999999999999]
[2.3969999999999998,0.99199999999999999]
[2.3980000000000001,0.99199999999999999]
[2.399,0.99199999999999999]
[2.4,0.99199999999999999]
[2.4009999999999998,0.99199999999999999]
[2.4020000000000001,0.99199999999999999]
[2.403,0.99199999999999999]
[2.4039999999999999,0.99199999999999999]
[2.4049999999999998,0.99199999999999999]
[2.4060000000000001,0.99199999999999999]
[2.407,0.99199999999999999]
[2.4079999999999999,0.99199999999999999]
[2.4089999999999998,0.99199999999999999]
[2.41,0.99199999999999999]
[2.411,0.99199999999999999]
[2.4119999999999999,0.99199999999999999]
[2.4129999999999998,0.99199999999999999]
[2.4140000000000001,0.99199999999999999]
[2.415,0.99199999999999999]
[2.4159999999999999,0.99199999999999999]
[2.4169999999999998,0.99199999999999999]
[2.4180000000000001,0.99199999999999999]
[2.419,0.99199999999999999]
[2.42,0.99199999999999999]
[2.4209999999999998,0.99199999999999999]
[2.4220000000000002,0.99199999999999999]
[2.423,0.99199999999999999]
[2.4239999999999999,0.99199999999999999]
[2.4249999999999998,0.99199999999999999]
[2.4260000000000002,0.99199999999999999]
[2.427,0.99199999999999999]
[2.4279999999999999,0.99199999999999999]
[2.4289999999999998,0.99199999999999999]
[2.4300000000000002,0.99199999999999999]
[2.431,0.99199999999999999]
[2.4319999999999999,0.99199999999999999]
[2.4329999999999998,0.99199999999999999]
[2.4340000000000002,0.99199999999999999]
[2.4350000000000001,0.99199999999999999]
[2.4359999999999999,0.99199999999999999]
[2.4369999999999998,0.99199999999999999]
[2.4380000000000002,0.99199999999999999]
[2.4390000000000001,0.99199999999999999]
[2.44,0.99199999999999999]
[2.4409999999999998,0.99199999999999999]
[2.4420000000000002,0.99199999999999999]
[2.4430000000000001,0.99199999999999999]
[2.444,0.99199999999999999]
[2.4449999999999998,0.99199999999999999]
[2.4460000000000002,0.99199999999999999]
[2.4470000000000001,0.99199999999999999]
[2.448,0.99199999999999999]
[2.4489999999999998,0.99199999999999999]
[2.4500000000000002,0.99199999999999999]
[2.4510000000000001,0.99199999999999999]
[2.452,0.99199999999999999]
[2.4529999999999998,0.99199999999999999]
[2.4540000000000002,0.99199999999999999]
[2.4550000000000001,0.99199999999999999]
[2.456,0.99199999999999999]
[2.4569999999999999,0.99199999999999999]
[2.4580000000000002,0.99199999999999999]
[2.4590000000000001,0.99199999999999999]
[2.46,0.99199999999999999]
[2.4609999999999999,0.99199999999999999]
[2.4620000000000002,0.99199999999999999]
[2.4630000000000001,0.99199999999999999]
[2.464,0.99199999999999999]
[2.4649999999999999,0.99199999999999999]
[2.4660000000000002,0.99199999999999999]
[2.4670000000000001,0.99199999999999999]
[2.468,0.99199999999999999]
[2.4689999999999999,0.99199999999999999]
[2.4700000000000002,0.99199999999999999]
[2.4710000000000001,0.99199999999999999]
[2.472,0.99199999999999999]
[2.4729999999999999,0.99199999999999999]
[2.4740000000000002,0.99199999999999999]
[2.4750000000000001,0.99199999999999999]
[2.476,0.99199999999999999]
[2.4769999999999999,0.99199999999999999]
[2.4780000000000002,0.99199999999999999]
[2.4790000000000001,0.99199999999999999]
[2.48,0.99199999999999999]
[2.4809999999999999,0.99199999999999999]
[2.4820000000000002,0.99199999999999999]
[2.4830000000000001,0.99199999999999999]
[2.484,0.99199999999999999]
[2.4849999999999999,0.99199999999999999]
[2.4860000000000002,0.99199999999999999]
[2.4870000000000001,0.99199999999999999]
[2.488,0.99199999999999999]
[2.4889999999999999,0.99199999999999999]
[2.4900000000000002,0.99199999999999999]
[2.4910000000000001,0.99199999999999999]
[2.492,0.99199999999999999]
[2.4929999999999999,0.99199999999999999]
[2.4940000000000002,0.99199999999999999]
[2.4950000000000001,0.99199999999999999]
[2.496,0.99199999999999999]
[2.4969999999999999,0.99199999999999999]
[2.4980000000000002,0.99199999999999999]
[2.4990000000000001,0.99199999999999999]
[2.5,0.99199999999999999]
[2.5009999999999999,0.98199999999999998]
[2.5019999999999998,0.98199999999999998]
[2.5030000000000001,0.98199999999999998]
[2.504,0.98199999999999998]
[2.5049999999999999,0.98199999999999998]
[2.5059999999999998,0.98199999999999998]
[2.5070000000000001,0.98199999999999998]
[2.508,0.98199999999999998]
[2.5089999999999999,0.98199999999999998]
[2.5099999999999998,0.98199999999999998]
[2.5110000000000001,0.98199999999999998]
[2.512,0.98199999999999998]
[2.5129999999999999,0.98199999999999998]
[2.5139999999999998,0.98199999999999998]
[2.5150000000000001,0.98199999999999998]
[2.516,0.98199999999999998]
[2.5169999999999999,0.98199999999999998]
[2.5179999999999998,0.98199999999999998]
[2.5190000000000001,0.98199999999999998]
[2.52,0.98199999999999998]
[2.5209999999999999,0.98199999999999998]
[2.5219999999999998,0.98199999999999998]
[2.5230000000000001,0.98199999999999998]
[2.524,0.98199999999999998]
[2.5249999999999999,0.98199999999999998]
[2.5259999999999998,0.98199999999999998]
[2.5270000000000001,0.98199999999999998]
[2.528,0.98199999999999998]
[2.5289999999999999,0.98199999999999998]
[2.5299999999999998,0.98199999999999998]
[2.5310000000000001,0.98199999999999998]
[2.532,0.98199999999999998]
[2.5329999999999999,0.98199999999999998]
[2.5339999999999998,0.98199999999999998]
[2.5350000000000001,0.98199999999999998]
[2.536,0.98199999999999998]
[2.5369999999999999,0.98199999999999998]
[2.5379999999999998,0.98199999999999998]
[2.5390000000000001,0.98199999999999998]
[2.54,0.98199999999999998]
[2.5409999999999999,0.98199999999999998]
[2.5419999999999998,0.98199999999999998]
[2.5430000000000001,0.98199999999999998]
[2.544,0.98199999999999998]
[2.5449999999999999,0.98199999999999998]
[2.5459999999999998,0.98199999999999998]
[2.5470000000000002,0.98199999999999998]
[2.548,0.98199999999999998]
[2.5489999999999999,0.98199999999999998]
[2.5499999999999998,0.98199999999999998]
[2.5510000000000002,0.98199999999999998]
[2.552,0.98199999999999998]
[2.5529999999999999,0.98199999999999998]
[2.5539999999999998,0.98199999999999998]
[2.5550000000000002,0.98199999999999998]
[2.556,0.98199999999999998]
[2.5569999999999999,0.98199999999999998]
[2.5579999999999998,0.98199999999999998]
[2.5590000000000002,0.98199999999999998]
[2.56,0.98199999999999998]
[2.5609999999999999,0.98199999999999998]
[2.5619999999999998,0.98199999999999998]
[2.5630000000000002,0.98199999999999998]
[2.5640000000000001,0.98199999999999998]
[2.5649999999999999,0.98199999999999998]
[2.5659999999999998,0.98199999999999998]
[2.5670000000000002,0.98199999999999998]
[2.5680000000000001,0.98199999999999998]
[2.569,0.98199999999999998]
[2.57,0.98199999999999998]
[2.5710000000000002,0.98199999999999998]
[2.5720000000000001,0.98199999999999998]
[2.573,0.98199999999999998]
[2.5739999999999998,0.98199999999999998]
[2.5750000000000002,0.98199999999999998]
[2.5760000000000001,0.98199999999999998]
[2.577,0.98199999999999998]
[2.5779999999999998,0.98199999999999998]
[2.5790000000000002,0.98199999999999998]
[2.58,0.98199999999999998]
[2.581,0.98199999999999998]
[2.5819999999999999,0.98199999999999998]
[2.5830000000000002,0.98199999999999998]
[2.5840000000000001,0.98199999999999998]
[2.585,0.98199999999999998]
[2.5859999999999999,0.98199999999999998]
[2.5870000000000002,0.98199999999999998]
[2.5880000000000001,0.98199999999999998]
[2.589,0.98199999999999998]
[2.59,0.98199999999999998]
[2.5910000000000002,0.98199999999999998]
[2.5920000000000001,0.98199999999999998]
[2.593,0.98199999999999998]
[2.5939999999999999,0.98199999999999998]
[2.5950000000000002,0.98199999999999998]
[2.5960000000000001,0.98199999999999998]
[2.597,0.98199999999999998]
[2.5979999999999999,0.98199999999999998]
[2.5990000000000002,0.98199999999999998]
[2.6,0.98199999999999998]
[2.601,0.98199999999999998]
[2.6019999999999999,0.98199999999999998]
[2.6030000000000002,0.98199999999999998]
[2.6040000000000001,0.98199999999999998]
[2.605,0.98199999999999998]
[2.6059999999999999,0.98199999999999998]
[2.6070000000000002,0.98199999999999998]
[2.6080000000000001,0.98199999999999998]
[2.609,0.98199999999999998]
[2.61,0.98199999999999998]
[2.6110000000000002,0.98199999999999998]
[2.6120000000000001,0.98199999999999998]
[2.613,0.98199999999999998]
[2.6139999999999999,0.98199999999999998]
[2.6150000000000002,0.98199999999999998]
[2.6160000000000001,0.98199999999999998]
[2.617,0.98199999999999998]
[2.6179999999999999,0.98199999999999998]
[2.6190000000000002,0.98199999999999998]
[2.62,0.98199999999999998]
[2.621,0.98199999999999998]
[2.6219999999999999,0.98199999999999998]
[2.6230000000000002,0.98199999999999998]
[2.6240000000000001,0.98199999999999998]
[2.625,0.98199999999999998]
[2.6259999999999999,0.98199999999999998]
[2.6269999999999998,0.98199999999999998]
[2.6280000000000001,0.98199999999999998]
[2.629,0.98199999999999998]
[2.63,0.98199999999999998]
[2.6309999999999998,0.98199999999999998]
[2.6320000000000001,0.98199999999999998]
[2.633,0.98199999999999998]
[2.6339999999999999,0.98199999999999998]
[2.6349999999999998,0.98199999999999998]
[2.6360000000000001,0.98199999999999998]
[2.637,0.98199999999999998]
[2.6379999999999999,0.98199999999999998]
[2.6389999999999998,0.98199999999999998]
[2.64,0.98199999999999998]
[2.641,0.98199999999999998]
[2.6419999999999999,0.98199999999999998]
[2.6429999999999998,0.98199999999999998]
[2.6440000000000001,0.98199999999999998]
[2.645,0.98199999999999998]
[2.6459999999999999,0.98199999999999998]
[2.6469999999999998,0.98199999999999998]
[2.6480000000000001,0.98199999999999998]
[2.649,0.98199999999999998]
[2.65,0.98199999999999998]
[2.6509999999999998,0.98199999999999998]
[2.6520000000000001,0.98199999999999998]
[2.653,0.98199999999999998]
[2.6539999999999999,0.98199999999999998]
[2.6549999999999998,0.98199999999999998]
[2.6560000000000001,0.98199999999999998]
[2.657,0.98199999999999998]
[2.6579999999999999,0.98199999999999998]
[2.6589999999999998,0.98199999999999998]
[2.66,0.98199999999999998]
[2.661,0.98199999999999998]
[2.6619999999999999,0.98199999999999998]
[2.6629999999999998,0.98199999999999998]
[2.6640000000000001,0.98199999999999998]
[2.665,0.98199999999999998]
[2.6659999999999999,0.98199999999999998]
[2.6669999999999998,0.98199999999999998]
[2.6680000000000001,0.98199999999999998]
[2.669,0.98199999999999998]
[2.67,0.98199999999999998]
[2.6709999999999998,0.98199999999999998]
[2.6720000000000002,0.98199999999999998]
[2.673,0.98199999999999998]
[2.6739999999999999,0.98199999999999998]
[2.6749999999999998,0.98199999999999998]
[2.6760000000000002,0.98199999999999998]
[2.677,0.98199999999999998]
[2.6779999999999999,0.98199999999999998]
[2.6789999999999998,0.98199999999999998]
[2.68,0.98199999999999998]
[2.681,0.98199999999999998]
[2.6819999999999999,0.98199999999999998]
[2.6829999999999998,0.98199999999999998]
[2.6840000000000002,0.98199999999999998]
[2.6850000000000001,0.98199999999999998]
[2.6859999999999999,0.98199999999999998]
[2.6869999999999998,0.98199999999999998]
[2.6880000000000002,0.98199999999999998]
[2.6890000000000001,0.98199999999999998]
[2.69,0.98199999999999998]
[2.6909999999999998,0.98199999999999998]
[2.6920000000000002,0.98199999999999998]
[2.6930000000000001,0.98199999999999998]
[2.694,0.98199999999999998]
[2.6949999999999998,0.98199999999999998]
[2.6960000000000002,0.98199999999999998]
[2.6970000000000001,0.98199999999999998]
[2.698,0.98199999999999998]
[2.6989999999999998,0.98199999999999998]
[2.7,0.98199999999999998]
[2.7010000000000001,0.98199999999999998]
[2.702,0.98199999999999998]
[2.7029999999999998,0.98199999999999998]
[2.7040000000000002,0.98199999999999998]
[2.7050000000000001,0.98199999999999998]
[2.706,0.98199999999999998]
[2.7069999999999999,0.98199999999999998]
[2.7080000000000002,0.98199999999999998]
[2.7090000000000001,0.98199999999999998]
[2.71,0.98199999999999998]
[2.7109999999999999,0.98199999999999998]
[2.7120000000000002,0.98199999999999998]
[2.7130000000000001,0.98199999999999998]
[2.714,0.98199999999999998]
[2.7149999999999999,0.98199999999999998]
[2.7160000000000002,0.98199999999999998]
[2.7170000000000001,0.98199999999999998]
[2.718,0.98199999999999998]
[2.7189999999999999,0.98199999999999998]
[2.72,0.98199999999999998]
[2.7210000000000001,0.98199999999999998]
[2.722,0.98199999999999998]
[2.7229999999999999,0.98199999999999998]
[2.7240000000000002,0.98199999999999998]
[2.7250000000000001,0.98199999999999998]
[2.726,0.98199999999999998]
[2.7269999999999999,0.98199999999999998]
[2.7280000000000002,0.98199999999999998]
[2.7290000000000001,0.98199999999999998]
[2.73,0.98199999999999998]
[2.7309999999999999,0.98199999999999998]
[2.7320000000000002,0.98199999999999998]
[2.7330000000000001,0.98199999999999998]
[2.734,0.98199999999999998]
[2.7349999999999999,0.98199999999999998]
[2.7360000000000002,0.98199999999999998]
[2.7370000000000001,0.98199999999999998]
[2.738,0.98199999999999998]
[2.7389999999999999,0.98199999999999998]
[2.74,0.98199999999999998]
[2.7410000000000001,0.98199999999999998]
[2.742,0.98199999999999998]
[2.7429999999999999,0.98199999999999998]
[2.7440000000000002,0.98199999999999998]
[2.7450000000000001,0.98199999999999998]
[2.746,0.98199999999999998]
[2.7469999999999999,0.98199999999999998]
[2.7480000000000002,0.98199999999999998]
[2.7490000000000001,0.98199999999999998]
[2.75,0.98199999999999998]
[2.7509999999999999,0.98199999999999998]
[2.7519999999999998,0.98199999999999998]
[2.7530000000000001,0.98199999999999998]
[2.754,0.98199999999999998]
[2.7549999999999999,0.98199999999999998]
[2.7559999999999998,0.98199999999999998]
[2.7570000000000001,0.98199999999999998]
[2.758,0.98199999999999998]
[2.7589999999999999,0.98199999999999998]
[2.76,0.98199999999999998]
[2.7610000000000001,0.98199999999999998]
[2.762,0.98199999999999998]
[2.7629999999999999,0.98199999999999998]
[2.7639999999999998,0.98199999999999998]
[2.7650000000000001,0.98199999999999998]
[2.766,0.98199999999999998]
[2.7669999999999999,0.98199999999999998]
[2.7679999999999998,0.98199999999999998]
[2.7690000000000001,0.98199999999999998]
[2.77,0.98199999999999998]
[2.7709999999999999,0.98199999999999998]
[2.7719999999999998,0.98199999999999998]
[2.7730000000000001,0.98199999999999998]
[2.774,0.98199999999999998]
[2.7749999999999999,0.98199999999999998]
[2.7759999999999998,0.98199999999999998]
[2.7770000000000001,0.98199999999999998]
[2.778,0.98199999999999998]
[2.7789999999999999,0.98199999999999998]
[2.78,0.98199999999999998]
[2.7810000000000001,0.98199999999999998]
[2.782,0.98199999999999998]
[2.7829999999999999,0.98199999999999998]
[2.7839999999999998,0.98199999999999998]
[2.7850000000000001,0.98199999999999998]
[2.786,0.98199999999999998]
[2.7869999999999999,0.98199999999999998]
[2.7879999999999998,0.98199999999999998]
[2.7890000000000001,0.98199999999999998]
[2.79,0.98199999999999998]
[2.7909999999999999,0.98199999999999998]
[2.7919999999999998,0.98199999999999998]
[2.7930000000000001,0.98199999999999998]
[2.794,0.98199999999999998]
[2.7949999999999999,0.98199999999999998]
[2.7959999999999998,0.98199999999999998]
[2.7970000000000002,0.98199999999999998]
[2.798,0.98199999999999998]
[2.7989999999999999,0.98199999999999998]
[2.8,0.98199999999999998]
[2.8010000000000002,0.98199999999999998]
[2.802,0.98199999999999998]
[2.8029999999999999,0.98199999999999998]
[2.8039999999999998,0.98199999999999998]
[2.8050000000000002,0.98199999999999998]
[2.806,0.98199999999999998]
[2.8069999999999999,0.98199999999999998]
[2.8079999999999998,0.98199999999999998]
[2.8090000000000002,0.98199999999999998]
[2.81,0.98199999999999998]
[2.8109999999999999,0.98199999999999998]
[2.8119999999999998,0.98199999999999998]
[2.8130000000000002,0.98199999999999998]
[2.8140000000000001,0.98199999999999998]
[2.8149999999999999,0.98199999999999998]
[2.8159999999999998,0.98199999999999998]
[2.8170000000000002,0.98199999999999998]
[2.8180000000000001,0.98199999999999998]
[2.819,0.98199999999999998]
[2.82,0.98199999999999998]
[2.8210000000000002,0.98199999999999998]
[2.8220000000000001,0.98199999999999998]
[2.823,0.98199999999999998]
[2.8239999999999998,0.98199999999999998]
[2.8250000000000002,0.98199999999999998]
[2.8260000000000001,0.98199999999999998]
[2.827,0.98199999999999998]
[2.8279999999999998,0.98199999999999998]
[2.8290000000000002,0.98199999999999998]
[2.83,0.98199999999999998]
[2.831,0.98199999999999998]
[2.8319999999999999,0.98199999999999998]
[2.8330000000000002,0.98199999999999998]
[2.8340000000000001,0.98199999999999998]
[2.835,0.98199999999999998]
[2.8359999999999999,0.98199999999999998]
[2.8370000000000002,0.98199999999999998]
[2.8380000000000001,0.98199999999999998]
[2.839,0.98199999999999998]
[2.84,0.98199999999999998]
[2.8410000000000002,0.98199999999999998]
[2.8420000000000001,0.98199999999999998]
[2.843,0.98199999999999998]
[2.8439999999999999,0.98199999999999998]
[2.8450000000000002,0.98199999999999998]
[2.8460000000000001,0.98199999999999998]
[2.847,0.98199999999999998]
[2.8479999999999999,0.98199999999999998]
[2.8490000000000002,0.98199999999999998]
[2.85,0.98199999999999998]
[2.851,0.98199999999999998]
[2.8519999999999999,0.98199999999999998]
[2.8530000000000002,0.98199999999999998]
[2.8540000000000001,0.98199999999999998]
[2.855,0.98199999999999998]
[2.8559999999999999,0.98199999999999998]
[2.8570000000000002,0.98199999999999998]
[2.8580000000000001,0.98199999999999998]
[2.859,0.98199999999999998]
[2.86,0.98199999999999998]
[2.8610000000000002,0.98199999999999998]
[2.8620000000000001,0.98199999999999998]
[2.863,0.98199999999999998]
[2.8639999999999999,0.98199999999999998]
[2.8650000000000002,0.98199999999999998]
[2.8660000000000001,0.98199999999999998]
[2.867,0.98199999999999998]
[2.8679999999999999,0.98199999999999998]
[2.8690000000000002,0.98199999999999998]
[2.87,0.98199999999999998]
[2.871,0.98199999999999998]
[2.8719999999999999,0.98199999999999998]
[2.8730000000000002,0.98199999999999998]
[2.8740000000000001,0.98199999999999998]
[2.875,0.98199999999999998]
[2.8759999999999999,0.98199999999999998]
[2.8769999999999998,0.98199999999999998]
[2.8780000000000001,0.98199999999999998]
[2.879,0.98199999999999998]
[2.88,0.98199999999999998]
[2.8809999999999998,0.98199999999999998]
[2.8820000000000001,0.98199999999999998]
[2.883,0.98199999999999998]
[2.8839999999999999,0.98199999999999998]
[2.8849999999999998,0.98199999999999998]
[2.8860000000000001,0.98199999999999998]
[2.887,0.98199999999999998]
[2.8879999999999999,0.98199999999999998]
[2.8889999999999998,0.98199999999999998]
[2.89,0.98199999999999998]
[2.891,0.98199999999999998]
[2.8919999999999999,0.98199999999999998]
[2.8929999999999998,0.98199999999999998]
[2.8940000000000001,0.98199999999999998]
[2.895,0.98199999999999998]
[2.8959999999999999,0.98199999999999998]
[2.8969999999999998,0.98199999999999998]
[2.8980000000000001,0.98199999999999998]
[2.899,0.98199999999999998]
[2.9,0.98199999999999998]
[2.9009999999999998,0.98199999999999998]
[2.9020000000000001,0.98199999999999998]
[2.903,0.98199999999999998]
[2.9039999999999999,0.98199999999999998]
[2.9049999999999998,0.98199999999999998]
[2.9060000000000001,0.98199999999999998]
[2.907,0.98199999999999998]
[2.9079999999999999,0.98199999999999998]
[2.9089999999999998,0.98199999999999998]
[2.91,0.98199999999999998]
[2.911,0.98199999999999998]
[2.9119999999999999,0.98199999999999998]
[2.9129999999999998,0.98199999999999998]
[2.9140000000000001,0.98199999999999998]
[2.915,0.98199999999999998]
[2.9159999999999999,0.98199999999999998]
[2.9169999999999998,0.98199999999999998]
[2.9180000000000001,0.98199999999999998]
[2.919,0.98199999999999998]
[2.92,0.98199999999999998]
[2.9209999999999998,0.98199999999999998]
[2.9220000000000002,0.98199999999999998]
[2.923,0.98199999999999998]
[2.9239999999999999,0.98199999999999998]
[2.9249999999999998,0.98199999999999998]
[2.9260000000000002,0.98199999999999998]
[2.927,0.98199999999999998]
[2.9279999999999999,0.98199999999999998]
[2.9289999999999998,0.98199999999999998]
[2.93,0.98199999999999998]
[2.931,0.98199999999999998]
[2.9319999999999999,0.98199999999999998]
[2.9329999999999998,0.98199999999999998]
[2.9340000000000002,0.98199999999999998]
[2.9350000000000001,0.98199999999999998]
[2.9359999999999999,0.98199999999999998]
[2.9369999999999998,0.98199999999999998]
[2.9380000000000002,0.98199999999999998]
[2.9390000000000001,0.98199999999999998]
[2.94,0.98199999999999998]
[2.9409999999999998,0.98199999999999998]
[2.9420000000000002,0.98199999999999998]
[2.9430000000000001,0.98199999999999998]
[2.944,0.98199999999999998]
[2.9449999999999998,0.98199999999999998]
[2.9460000000000002,0.98199999999999998]
[2.9470000000000001,0.98199999999999998]
[2.948,0.98199999999999998]
[2.9489999999999998,0.98199999999999998]
[2.95,0.98199999999999998]
[2.9510000000000001,0.98199999999999998]
[2.952,0.98199999999999998]
[2.9529999999999998,0.98199999999999998]
[2.9540000000000002,0.98199999999999998]
[2.9550000000000001,0.98199999999999998]
[2.956,0.98199999999999998]
[2.9569999999999999,0.98199999999999998]
[2.9580000000000002,0.98199999999999998]
[2.9590000000000001,0.98199999999999998]
[2.96,0.98199999999999998]
[2.9609999999999999,0.98199999999999998]
[2.9620000000000002,0.98199999999999998]
[2.9630000000000001,0.98199999999999998]
[2.964,0.98199999999999998]
[2.9649999999999999,0.98199999999999998]
[2.9660000000000002,0.98199999999999998]
[2.9670000000000001,0.98199999999999998]
[2.968,0.98199999999999998]
[2.9689999999999999,0.98199999999999998]
[2.97,0.98199999999999998]
[2.9710000000000001,0.98199999999999998]
[2.972,0.98199999999999998]
[2.9729999999999999,0.98199999999999998]
[2.9740000000000002,0.98199999999999998]
[2.9750000000000001,0.98199999999999998]
[2.976,0.98199999999999998]
[2.9769999999999999,0.98199999999999998]
[2.9780000000000002,0.98199999999999998]
[2.9790000000000001,0.98199999999999998]
[2.98,0.98199999999999998]
[2.9809999999999999,0.98199999999999998]
[2.9820000000000002,0.98199999999999998]
[2.9830000000000001,0.98199999999999998]
[2.984,0.98199999999999998]
[2.9849999999999999,0.98199999999999998]
[2.9860000000000002,0.98199999999999998]
[2.9870000000000001,0.98199999999999998]
[2.988,0.98199999999999998]
[2.9889999999999999,0.98199999999999998]
[2.99,0.98199999999999998]
[2.9910000000000001,0.98199999999999998]
[2.992,0.98199999999999998]
[2.9929999999999999,0.98199999999999998]
[2.9940000000000002,0.98199999999999998]
[2.9950000000000001,0.98199999999999998]
[2.996,0.98199999999999998]
[2.9969999999999999,0.98199999999999998]
[2.9980000000000002,0.98199999999999998]
[2.9990000000000001,0.98199999999999998]
[3,0.98199999999999998]
[3.0009999999999999,0.97399999999999998]
[3.0019999999999998,0.97399999999999998]
[3.0030000000000001,0.97399999999999998]
[3.004,0.97399999999999998]
[3.0049999999999999,0.97399999999999998]
[3.0059999999999998,0.97399999999999998]
[3.0070000000000001,0.97399999999999998]
[3.008,0.97399999999999998]
[3.0089999999999999,0.97399999999999998]
[3.01,0.97399999999999998]
[3.0110000000000001,0.97399999999999998]
[3.012,0.97399999999999998]
[3.0129999999999999,0.97399999999999998]
[3.0139999999999998,0.97399999999999998]
[3.0150000000000001,0.97399999999999998]
[3.016,0.97399999999999998]
[3.0169999999999999,0.97399999999999998]
[3.0179999999999998,0.97399999999999998]
[3.0190000000000001,0.97399999999999998]
[3.02,0.97399999999999998]
[3.0209999999999999,0.97399999999999998]
[3.0219999999999998,0.97399999999999998]
[3.0230000000000001,0.97399999999999998]
[3.024,0.97399999999999998]
[3.0249999999999999,0.97399999999999998]
[3.0259999999999998,0.97399999999999998]
[3.0270000000000001,0.97399999999999998]
[3.028,0.97399999999999998]
[3.0289999999999999,0.97399999999999998]
[3.03,0.97399999999999998]
[3.0310000000000001,0.97399999999999998]
[3.032,0.97399999999999998]
[3.0329999999999999,0.97399999999999998]
[3.0339999999999998,0.97399999999999998]
[3.0350000000000001,0.97399999999999998]
[3.036,0.97399999999999998]
[3.0369999999999999,0.97399999999999998]
[3.0379999999999998,0.97399999999999998]
[3.0390000000000001,0.97399999999999998]
[3.04,0.97399999999999998]
[3.0409999999999999,0.97399999999999998]
[3.0419999999999998,0.97399999999999998]
[3.0430000000000001,0.97399999999999998]
[3.044,0.97399999999999998]
[3.0449999999999999,0.97399999999999998]
[3.0459999999999998,0.97399999999999998]
[3.0470000000000002,0.97399999999999998]
[3.048,0.97399999999999998]
[3.0489999999999999,0.97399999999999998]
[3.05,0.97399999999999998]
[3.0510000000000002,0.97399999999999998]
[3.052,0.97399999999999998]
[3.0529999999999999,0.97399999999999998]
[3.0539999999999998,0.97399999999999998]
[3.0550000000000002,0.97399999999999998]
[3.056,0.97399999999999998]
[3.0569999999999999,0.97399999999999998]
[3.0579999999999998,0.97399999999999998]
[3.0590000000000002,0.97399999999999998]
[3.06,0.97399999999999998]
[3.0609999999999999,0.97399999999999998]
[3.0619999999999998,0.97399999999999998]
[3.0630000000000002,0.97399999999999998]
[3.0640000000000001,0.97399999999999998]
[3.0649999999999999,0.97399999999999998]
[3.0659999999999998,0.97399999999999998]
[3.0670000000000002,0.97399999999999998]
[3.0680000000000001,0.97399999999999998]
[3.069,0.97399999999999998]
[3.07,0.97399999999999998]
[3.0710000000000002,0.97399999999999998]
[3.0720000000000001,0.97399999999999998]
[3.073,0.97399999999999998]
[3.0739999999999998,0.97399999999999998]
[3.0750000000000002,0.97399999999999998]
[3.0760000000000001,0.97399999999999998]
[3.077,0.97399999999999998]
[3.0779999999999998,0.97399999999999998]
[3.0790000000000002,0.97399999999999998]
[3.08,0.97399999999999998]
[3.081,0.97399999999999998]
[3.0819999999999999,0.97399999999999998]
[3.0830000000000002,0.97399999999999998]
[3.0840000000000001,0.97399999999999998]
[3.085,0.97399999999999998]
[3.0859999999999999,0.97399999999999998]
[3.0870000000000002,0.97399999999999998]
[3.0880000000000001,0.97399999999999998]
[3.089,0.97399999999999998]
[3.09,0.97399999999999998]
[3.0910000000000002,0.97399999999999998]
[3.0920000000000001,0.97399999999999998]
[3.093,0.97399999999999998]
[3.0939999999999999,0.97399999999999998]
[3.0950000000000002,0.97399999999999998]
[3.0960000000000001,0.97399999999999998]
[3.097,0.97399999999999998]
[3.0979999999999999,0.97399999999999998]
[3.0990000000000002,0.97399999999999998]
[3.1,0.97399999999999998]
[3.101,0.97399999999999998]
[3.1019999999999999,0.97399999999999998]
[3.1030000000000002,0.97399999999999998]
[3.1040000000000001,0.97399999999999998]
[3.105,0.97399999999999998]
[3.1059999999999999,0.97399999999999998]
[3.1070000000000002,0.97399999999999998]
[3.1080000000000001,0.97399999999999998]
[3.109,0.97399999999999998]
[3.11,0.97399999999999998]
[3.1110000000000002,0.97399999999999998]
[3.1120000000000001,0.97399999999999998]
[3.113,0.97399999999999998]
[3.1139999999999999,0.97399999999999998]
[3.1150000000000002,0.97399999999999998]
[3.1160000000000001,0.97399999999999998]
[3.117,0.97399999999999998]
[3.1179999999999999,0.97399999999999998]
[3.1190000000000002,0.97399999999999998]
[3.12,0.97399999999999998]
[3.121,0.97399999999999998]
[3.1219999999999999,0.97399999999999998]
[3.1230000000000002,0.97399999999999998]
[3.1240000000000001,0.97399999999999998]
[3.125,0.97399999999999998]
[3.1259999999999999,0.97399999999999998]
[3.1269999999999998,0.97399999999999998]
[3.1280000000000001,0.97399999999999998]
[3.129,0.97399999999999998]
[3.13,0.97399999999999998]
[3.1309999999999998,0.97399999999999998]
[3.1320000000000001,0.97399999999999998]
[3.133,0.97399999999999998]
[3.1339999999999999,0.97399999999999998]
[3.1349999999999998,0.97399999999999998]
[3.1360000000000001,0.97399999999999998]
[3.137,0.97399999999999998]
[3.1379999999999999,0.97399999999999998]
[3.1389999999999998,0.97399999999999998]
[3.14,0.97399999999999998]
[3.141,0.97399999999999998]
[3.1419999999999999,0.97399999999999998]
[3.1429999999999998,0.97399999999999998]
[3.1440000000000001,0.97399999999999998]
[3.145,0.97399999999999998]
[3.1459999999999999,0.97399999999999998]
[3.1469999999999998,0.97399999999999998]
[3.1480000000000001,0.97399999999999998]
[3.149,0.97399999999999998]
[3.15,0.97399999999999998]
[3.1509999999999998,0.97399999999999998]
[3.1520000000000001,0.97399999999999998]
[3.153,0.97399999999999998]
[3.1539999999999999,0.97399999999999998]
[3.1549999999999998,0.97399999999999998]
[3.1560000000000001,0.97399999999999998]
[3.157,0.97399999999999998]
[3.1579999999999999,0.97399999999999998]
[3.1589999999999998,0.97399999999999998]
[3.16,0.97399999999999998]
[3.161,0.97399999999999998]
[3.1619999999999999,0.97399999999999998]
[3.1629999999999998,0.97399999999999998]
[3.1640000000000001,0.97399999999999998]
[3.165,0.97399999999999998]
[3.1659999999999999,0.97399999999999998]
[3.1669999999999998,0.97399999999999998]
[3.1680000000000001,0.97399999999999998]
[3.169,0.97399999999999998]
[3.17,0.97399999999999998]
[3.1709999999999998,0.97399999999999998]
[3.1720000000000002,0.97399999999999998]
[3.173,0.97399999999999998]
[3.1739999999999999,0.97399999999999998]
[3.1749999999999998,0.97399999999999998]
[3.1760000000000002,0.97399999999999998]
[3.177,0.97399999999999998]
[3.1779999999999999,0.97399999999999998]
[3.1789999999999998,0.97399999999999998]
[3.18,0.97399999999999998]
[3.181,0.97399999999999998]
[3.1819999999999999,0.97399999999999998]
[3.1829999999999998,0.97399999999999998]
[3.1840000000000002,0.97399999999999998]
[3.1850000000000001,0.97399999999999998]
[3.1859999999999999,0.97399999999999998]
[3.1869999999999998,0.97399999999999998]
[3.1880000000000002,0.97399999999999998]
[3.1890000000000001,0.97399999999999998]
[3.19,0.97399999999999998]
[3.1909999999999998,0.97399999999999998]
[3.1920000000000002,0.97399999999999998]
[3.1930000000000001,0.97399999999999998]
[3.194,0.97399999999999998]
[3.1949999999999998,0.97399999999999998]
[3.1960000000000002,0.97399999999999998]
[3.1970000000000001,0.97399999999999998]
[3.198,0.97399999999999998]
[3.1989999999999998,0.97399999999999998]
[3.2,0.97399999999999998]
[3.2010000000000001,0.97399999999999998]
[3.202,0.97399999999999998]
[3.2029999999999998,0.97399999999999998]
[3.2040000000000002,0.97399999999999998]
[3.2050000000000001,0.97399999999999998]
[3.206,0.97399999999999998]
[3.2069999999999999,0.97399999999999998]
[3.2080000000000002,0.97399999999999998]
[3.2090000000000001,0.97399999999999998]
[3.21,0.97399999999999998]
[3.2109999999999999,0.97399999999999998]
[3.2120000000000002,0.97399999999999998]
[3.2130000000000001,0.97399999999999998]
[3.214,0.97399999999999998]
[3.2149999999999999,0.97399999999999998]
[3.2160000000000002,0.97399999999999998]
[3.2170000000000001,0.97399999999999998]
[3.218,0.97399999999999998]
[3.2189999999999999,0.97399999999999998]
[3.22,0.97399999999999998]
[3.2210000000000001,0.97399999999999998]
[3.222,0.97399999999999998]
[3.2229999999999999,0.97399999999999998]
[3.2240000000000002,0.97399999999999998]
[3.2250000000000001,0.97399999999999998]
[3.226,0.97399999999999998]
[3.2269999999999999,0.97399999999999998]
[3.2280000000000002,0.97399999999999998]
[3.2290000000000001,0.97399999999999998]
[3.23,0.97399999999999998]
[3.2309999999999999,0.97399999999999998]
[3.2320000000000002,0.97399999999999998]
[3.2330000000000001,0.97399999999999998]
[3.234,0.97399999999999998]
[3.2349999999999999,0.97399999999999998]
[3.2360000000000002,0.97399999999999998]
[3.2370000000000001,0.97399999999999998]
[3.238,0.97399999999999998]
[3.2389999999999999,0.97399999999999998]
[3.24,0.97399999999999998]
[3.2410000000000001,0.97399999999999998]
[3.242,0.97399999999999998]
[3.2429999999999999,0.97399999999999998]
[3.2440000000000002,0.97399999999999998]
[3.2450000000000001,0.97399999999999998]
[3.246,0.97399999999999998]
[3.2469999999999999,0.97399999999999998]
[3.2480000000000002,0.97399999999999998]
[3.2490000000000001,0.97399999999999998]
[3.25,0.97399999999999998]
[3.2509999999999999,0.97399999999999998]
[3.2519999999999998,0.97399999999999998]
[3.2530000000000001,0.97399999999999998]
[3.254,0.97399999999999998]
[3.2549999999999999,0.97399999999999998]
[3.2559999999999998,0.97399999999999998]
[3.2570000000000001,0.97399999999999998]
[3.258,0.97399999999999998]
[3.2589999999999999,0.97399999999999998]
[3.26,0.97399999999999998]
[3.2610000000000001,0.97399999999999998]
[3.262,0.97399999999999998]
[3.2629999999999999,0.97399999999999998]
[3.2639999999999998,0.97399999999999998]
[3.2650000000000001,0.97399999999999998]
[3.266,0.97399999999999998]
[3.2669999999999999,0.97399999999999998]
[3.2679999999999998,0.97399999999999998]
[3.2690000000000001,0.97399999999999998]
[3.27,0.97399999999999998]
[3.2709999999999999,0.97399999999999998]
[3.2719999999999998,0.97399999999999998]
[3.2730000000000001,0.97399999999999998]
[3.274,0.97399999999999998]
[3.2749999999999999,0.97399999999999998]
[3.2759999999999998,0.97399999999999998]
[3.2770000000000001,0.97399999999999998]
[3.278,0.97399999999999998]
[3.2789999999999999,0.97399999999999998]
[3.28,0.97399999999999998]
[3.2810000000000001,0.97399999999999998]
[3.282,0.97399999999999998]
[3.2829999999999999,0.97399999999999998]
[3.2839999999999998,0.97399999999999998]
[3.2850000000000001,0.97399999999999998]
[3.286,0.97399999999999998]
[3.2869999999999999,0.97399999999999998]
[3.2879999999999998,0.97399999999999998]
[3.2890000000000001,0.97399999999999998]
[3.29,0.97399999999999998]
[3.2909999999999999,0.97399999999999998]
[3.2919999999999998,0.97399999999999998]
[3.2930000000000001,0.97399999999999998]
[3.294,0.97399999999999998]
[3.2949999999999999,0.97399999999999998]
[3.2959999999999998,0.97399999999999998]
[3.2970000000000002,0.97399999999999998]
[3.298,0.97399999999999998]
[3.2989999999999999,0.97399999999999998]
[3.3,0.97399999999999998]
[3.3010000000000002,0.97399999999999998]
[3.302,0.97399999999999998]
[3.3029999999999999,0.97399999999999998]
[3.3039999999999998,0.97399999999999998]
[3.3050000000000002,0.97399999999999998]
[3.306,0.97399999999999998]
[3.3069999999999999,0.97399999999999998]
[3.3079999999999998,0.97399999999999998]
[3.3090000000000002,0.97399999999999998]
[3.31,0.97399999999999998]
[3.3109999999999999,0.97399999999999998]
[3.3119999999999998,0.97399999999999998]
[3.3130000000000002,0.97399999999999998]
[3.3140000000000001,0.97399999999999998]
[3.3149999999999999,0.97399999999999998]
[3.3159999999999998,0.97399999999999998]
[3.3170000000000002,0.97399999999999998]
[3.3180000000000001,0.97399999999999998]
[3.319,0.97399999999999998]
[3.32,0.97399999999999998]
[3.3210000000000002,0.97399999999999998]
[3.3220000000000001,0.97399999999999998]
[3.323,0.97399999999999998]
[3.3239999999999998,0.97399999999999998]
[3.3250000000000002,0.97399999999999998]
[3.3260000000000001,0.97399999999999998]
[3.327,0.97399999999999998]
[3.3279999999999998,0.97399999999999998]
[3.3290000000000002,0.97399999999999998]
[3.33,0.97399999999999998]
[3.331,0.97399999999999998]
[3.3319999999999999,0.97399999999999998]
[3.3330000000000002,0.97399999999999998]
[3.3340000000000001,0.97399999999999998]
[3.335,0.97399999999999998]
[3.3359999999999999,0.97399999999999998]
[3.3370000000000002,0.97399999999999998]
[3.3380000000000001,0.97399999999999998]
[3.339,0.97399999999999998]
[3.34,0.97399999999999998]
[3.3410000000000002,0.97399999999999998]
[3.3420000000000001,0.97399999999999998]
[3.343,0.97399999999999998]
[3.3439999999999999,0.97399999999999998]
[3.3450000000000002,0.97399999999999998]
[3.3460000000000001,0.97399999999999998]
[3.347,0.97399999999999998]
[3.3479999999999999,0.97399999999999998]
[3.3490000000000002,0.97399999999999998]
[3.35,0.97399999999999998]
[3.351,0.97399999999999998]
[3.3519999999999999,0.97399999999999998]
[3.3530000000000002,0.97399999999999998]
[3.3540000000000001,0.97399999999999998]
[3.355,0.97399999999999998]
[3.3559999999999999,0.97399999999999998]
[3.3570000000000002,0.97399999999999998]
[3.3580000000000001,0.97399999999999998]
[3.359,0.97399999999999998]
[3.36,0.97399999999999998]
[3.3610000000000002,0.97399999999999998]
[3.3620000000000001,0.97399999999999998]
[3.363,0.97399999999999998]
[3.3639999999999999,0.97399999999999998]
[3.3650000000000002,0.97399999999999998]
[3.3660000000000001,0.97399999999999998]
[3.367,0.97399999999999998]
[3.3679999999999999,0.97399999999999998]
[3.3690000000000002,0.97399999999999998]
[3.37,0.97399999999999998]
[3.371,0.97399999999999998]
[3.3719999999999999,0.97399999999999998]
[3.3730000000000002,0.97399999999999998]
[3.3740000000000001,0.97399999999999998]
[3.375,0.97399999999999998]
[3.3759999999999999,0.97399999999999998]
[3.3769999999999998,0.97399999999999998]
[3.3780000000000001,0.97399999999999998]
[3.379,0.97399999999999998]
[3.38,0.97399999999999998]
[3.3809999999999998,0.97399999999999998]
[3.3820000000000001,0.97399999999999998]
[3.383,0.97399999999999998]
[3.3839999999999999,0.97399999999999998]
[3.3849999999999998,0.97399999999999998]
[3.3860000000000001,0.97399999999999998]
[3.387,0.97399999999999998]
[3.3879999999999999,0.97399999999999998]
[3.3889999999999998,0.97399999999999998]
[3.39,0.97399999999999998]
[3.391,0.97399999999999998]
[3.3919999999999999,0.97399999999999998]
[3.3929999999999998,0.97399999999999998]
[3.3940000000000001,0.97399999999999998]
[3.395,0.97399999999999998]
[3.3959999999999999,0.97399999999999998]
[3.3969999999999998,0.97399999999999998]
[3.3980000000000001,0.97399999999999998]
[3.399,0.97399999999999998]
[3.4,0.97399999999999998]
[3.4009999999999998,0.97399999999999998]
[3.4020000000000001,0.97399999999999998]
[3.403,0.97399999999999998]
[3.4039999999999999,0.97399999999999998]
[3.4049999999999998,0.97399999999999998]
[3.4060000000000001,0.97399999999999998]
[3.407,0.97399999999999998]
[3.4079999999999999,0.97399999999999998]
[3.4089999999999998,0.97399999999999998]
[3.41,0.97399999999999998]
[3.411,0.97399999999999998]
[3.4119999999999999,0.97399999999999998]
[3.4129999999999998,0.97399999999999998]
[3.4140000000000001,0.97399999999999998]
[3.415,0.97399999999999998]
[3.4159999999999999,0.97399999999999998]
[3.4169999999999998,0.97399999999999998]
[3.4180000000000001,0.97399999999999998]
[3.419,0.97399999999999998]
[3.42,0.97399999999999998]
[3.4209999999999998,0.97399999999999998]
[3.4220000000000002,0.97399999999999998]
[3.423,0.97399999999999998]
[3.4239999999999999,0.97399999999999998]
[3.4249999999999998,0.97399999999999998]
[3.4260000000000002,0.97399999999999998]
[3.427,0.97399999999999998]
[3.4279999999999999,0.97399999999999998]
[3.4289999999999998,0.97399999999999998]
[3.43,0.97399999999999998]
[3.431,0.97399999999999998]
[3.4319999999999999,0.97399999999999998]
[3.4329999999999998,0.97399999999999998]
[3.4340000000000002,0.97399999999999998]
[3.4350000000000001,0.97399999999999998]
[3.4359999999999999,0.97399999999999998]
[3.4369999999999998,0.97399999999999998]
[3.4380000000000002,0.97399999999999998]
[3.4390000000000001,0.97399999999999998]
[3.44,0.97399999999999998]
[3.4409999999999998,0.97399999999999998]
[3.4420000000000002,0.97399999999999998]
[3.4430000000000001,0.97399999999999998]
[3.444,0.97399999999999998]
[3.4449999999999998,0.97399999999999998]
[3.4460000000000002,0.97399999999999998]
[3.4470000000000001,0.97399999999999998]
[3.448,0.97399999999999998]
[3.4489999999999998,0.97399999999999998]
[3.45,0.97399999999999998]
[3.4510000000000001,0.97399999999999998]
[3.452,0.97399999999999998]
[3.4529999999999998,0.97399999999999998]
[3.4540000000000002,0.97399999999999998]
[3.4550000000000001,0.97399999999999998]
[3.456,0.97399999999999998]
[3.4569999999999999,0.97399999999999998]
[3.4580000000000002,0.97399999999999998]
[3.4590000000000001,0.97399999999999998]
[3.46,0.97399999999999998]
[3.4609999999999999,0.97399999999999998]
[3.4620000000000002,0.97399999999999998]
[3.4630000000000001,0.97399999999999998]
[3.464,0.97399999999999998]
[3.4649999999999999,0.97399999999999998]
[3.4660000000000002,0.97399999999999998]
[3.4670000000000001,0.97399999999999998]
[3.468,0.97399999999999998]
[3.4689999999999999,0.97399999999999998]
[3.47,0.97399999999999998]
[3.4710000000000001,0.97399999999999998]
[3.472,0.97399999999999998]
[3.4729999999999999,0.97399999999999998]
[3.4740000000000002,0.97399999999999998]
[3.4750000000000001,0.97399999999999998]
[3.476,0.97399999999999998]
[3.4769999999999999,0.97399999999999998]
[3.4780000000000002,0.97399999999999998]
[3.4790000000000001,0.97399999999999998]
[3.48,0.97399999999999998]
[3.4809999999999999,0.97399999999999998]
[3.4820000000000002,0.97399999999999998]
[3.4830000000000001,0.97399999999999998]
[3.484,0.97399999999999998]
[3.4849999999999999,0.97399999999999998]
[3.4860000000000002,0.97399999999999998]
[3.4870000000000001,0.97399999999999998]
[3.488,0.97399999999999998]
[3.4889999999999999,0.97399999999999998]
[3.49,0.97399999999999998]
[3.4910000000000001,0.97399999999999998]
[3.492,0.97399999999999998]
[3.4929999999999999,0.97399999999999998]
[3.4940000000000002,0.97399999999999998]
[3.4950000000000001,0.97399999999999998]
[3.496,0.97399999999999998]
[3.4969999999999999,0.97399999999999998]
[3.4980000000000002,0.97399999999999998]
[3.4990000000000001,0.97399999999999998]
[3.5,0.97399999999999998]
[3.5009999999999999,0.96499999999999997]
[3.5019999999999998,0.96499999999999997]
[3.5030000000000001,0.96499999999999997]
[3.504,0.96499999999999997]
[3.5049999999999999,0.96499999999999997]
[3.5059999999999998,0.96499999999999997]
[3.5070000000000001,0.96499999999999997]
[3.508,0.96499999999999997]
[3.5089999999999999,0.96499999999999997]
[3.51,0.96499999999999997]
[3.5110000000000001,0.96499999999999997]
[3.512,0.96499999999999997]
[3.5129999999999999,0.96499999999999997]
[3.5139999999999998,0.96499999999999997]
[3.5150000000000001,0.96499999999999997]
[3.516,0.96499999999999997]
[3.5169999999999999,0.96499999999999997]
[3.5179999999999998,0.96499999999999997]
[3.5190000000000001,0.96499999999999997]
[3.52,0.96499999999999997]
[3.5209999999999999,0.96499999999999997]
[3.5219999999999998,0.96499999999999997]
[3.5230000000000001,0.96499999999999997]
[3.524,0.96499999999999997]
[3.5249999999999999,0.96499999999999997]
[3.5259999999999998,0.96499999999999997]
[3.5270000000000001,0.96499999999999997]
[3.528,0.96499999999999997]
[3.5289999999999999,0.96499999999999997]
[3.53,0.96499999999999997]
[3.5310000000000001,0.96499999999999997]
[3.532,0.96499999999999997]
[3.5329999999999999,0.96499999999999997]
[3.5339999999999998,0.96499999999999997]
[3.5350000000000001,0.96499999999999997]
[3.536,0.96499999999999997]
[3.5369999999999999,0.96499999999999997]
[3.5379999999999998,0.96499999999999997]
[3.5390000000000001,0.96499999999999997]
[3.54,0.96499999999999997]
[3.5409999999999999,0.96499999999999997]
[3.5419999999999998,0.96499999999999997]
[3.5430000000000001,0.96499999999999997]
[3.544,0.96499999999999997]
[3.5449999999999999,0.96499999999999997]
[3.5459999999999998,0.96499999999999997]
[3.5470000000000002,0.96499999999999997]
[3.548,0.96499999999999997]
[3.5489999999999999,0.96499999999999997]
[3.55,0.96499999999999997]
[3.5510000000000002,0.96499999999999997]
[3.552,0.96499999999999997]
[3.5529999999999999,0.96499999999999997]
[3.5539999999999998,0.96499999999999997]
[3.5550000000000002,0.96499999999999997]
[3.556,0.96499999999999997]
[3.5569999999999999,0.96499999999999997]
[3.5579999999999998,0.96499999999999997]
[3.5590000000000002,0.96499999999999997]
[3.56,0.96499999999999997]
[3.5609999999999999,0.96499999999999997]
[3.5619999999999998,0.96499999999999997]
[3.5630000000000002,0.96499999999999997]
[3.5640000000000001,0.96499999999999997]
[3.5649999999999999,0.96499999999999997]
[3.5659999999999998,0.96499999999999997]
[3.5670000000000002,0.96499999999999997]
[3.5680000000000001,0.96499999999999997]
[3.569,0.96499999999999997]
[3.57,0.96499999999999997]
[3.5710000000000002,0.96499999999999997]
[3.5720000000000001,0.96499999999999997]
[3.573,0.96499999999999997]
[3.5739999999999998,0.96499999999999997]
[3.5750000000000002,0.96499999999999997]
[3.5760000000000001,0.96499999999999997]
[3.577,0.96499999999999997]
[3.5779999999999998,0.96499999999999997]
[3.5790000000000002,0.96499999999999997]
[3.58,0.96499999999999997]
[3.581,0.96499999999999997]
[3.5819999999999999,0.96499999999999997]
[3.5830000000000002,0.96499999999999997]
[3.5840000000000001,0.96499999999999997]
[3.585,0.96499999999999997]
[3.5859999999999999,0.96499999999999997]
[3.5870000000000002,0.96499999999999997]
[3.5880000000000001,0.96499999999999997]
[3.589,0.96499999999999997]
[3.59,0.96499999999999997]
[3.5910000000000002,0.96499999999999997]
[3.5920000000000001,0.96499999999999997]
[3.593,0.96499999999999997]
[3.5939999999999999,0.96499999999999997]
[3.5950000000000002,0.96499999999999997]
[3.5960000000000001,0.96499999999999997]
[3.597,0.96499999999999997]
[3.5979999999999999,0.96499999999999997]
[3.5990000000000002,0.96499999999999997]
[3.6,0.96499999999999997]
[3.601,0.96499999999999997]
[3.6019999999999999,0.96499999999999997]
[3.6030000000000002,0.96499999999999997]
[3.6040000000000001,0.96499999999999997]
[3.605,0.96499999999999997]
[3.6059999999999999,0.96499999999999997]
[3.6070000000000002,0.96499999999999997]
[3.6080000000000001,0.96499999999999997]
[3.609,0.96499999999999997]
[3.61,0.96499999999999997]
[3.6110000000000002,0.96499999999999997]
[3.6120000000000001,0.96499999999999997]
[3.613,0.96499999999999997]
[3.6139999999999999,0.96499999999999997]
[3.6150000000000002,0.96499999999999997]
[3.6160000000000001,0.96499999999999997]
[3.617,0.96499999999999997]
[3.6179999999999999,0.96499999999999997]
[3.6190000000000002,0.96499999999999997]
[3.62,0.96499999999999997]
[3.621,0.96499999999999997]
[3.6219999999999999,0.96499999999999997]
[3.6230000000000002,0.96499999999999997]
[3.6240000000000001,0.96499999999999997]
[3.625,0.96499999999999997]
[3.6259999999999999,0.96499999999999997]
[3.6269999999999998,0.96499999999999997]
[3.6280000000000001,0.96499999999999997]
[3.629,0.96499999999999997]
[3.63,0.96499999999999997]
[3.6309999999999998,0.96499999999999997]
[3.6320000000000001,0.96499999999999997]
[3.633,0.96499999999999997]
[3.6339999999999999,0.96499999999999997]
[3.6349999999999998,0.96499999999999997]
[3.6360000000000001,0.96499999999999997]
[3.637,0.96499999999999997]
[3.6379999999999999,0.96499999999999997]
[3.6389999999999998,0.96499999999999997]
[3.64,0.96499999999999997]
[3.641,0.96499999999999997]
[3.6419999999999999,0.96499999999999997]
[3.6429999999999998,0.96499999999999997]
[3.6440000000000001,0.96499999999999997]
[3.645,0.96499999999999997]
[3.6459999999999999,0.96499999999999997]
[3.6469999999999998,0.96499999999999997]
[3.6480000000000001,0.96499999999999997]
[3.649,0.96499999999999997]
[3.65,0.96499999999999997]
[3.6509999999999998,0.96499999999999997]
[3.6520000000000001,0.96499999999999997]
[3.653,0.96499999999999997]
[3.6539999999999999,0.96499999999999997]
[3.6549999999999998,0.96499999999999997]
[3.6560000000000001,0.96499999999999997]
[3.657,0.96499999999999997]
[3.6579999999999999,0.96499999999999997]
[3.6589999999999998,0.96499999999999997]
[3.66,0.96499999999999997]
[3.661,0.96499999999999997]
[3.6619999999999999,0.96499999999999997]
[3.6629999999999998,0.96499999999999997]
[3.6640000000000001,0.96499999999999997]
[3.665,0.96499999999999997]
[3.6659999999999999,0.96499999999999997]
[3.6669999999999998,0.96499999999999997]
[3.6680000000000001,0.96499999999999997]
[3.669,0.96499999999999997]
[3.67,0.96499999999999997]
[3.6709999999999998,0.96499999999999997]
[3.6720000000000002,0.96499999999999997]
[3.673,0.96499999999999997]
[3.6739999999999999,0.96499999999999997]
[3.6749999999999998,0.96499999999999997]
[3.6760000000000002,0.96499999999999997]
[3.677,0.96499999999999997]
[3.6779999999999999,0.96499999999999997]
[3.6789999999999998,0.96499999999999997]
[3.68,0.96499999999999997]
[3.681,0.96499999999999997]
[3.6819999999999999,0.96499999999999997]
[3.6829999999999998,0.96499999999999997]
[3.6840000000000002,0.96499999999999997]
[3.6850000000000001,0.96499999999999997]
[3.6859999999999999,0.96499999999999997]
[3.6869999999999998,0.96499999999999997]
[3.6880000000000002,0.96499999999999997]
[3.6890000000000001,0.96499999999999997]
[3.69,0.96499999999999997]
[3.6909999999999998,0.96499999999999997]
[3.6920000000000002,0.96499999999999997]
[3.6930000000000001,0.96499999999999997]
[3.694,0.96499999999999997]
[3.6949999999999998,0.96499999999999997]
[3.6960000000000002,0.96499999999999997]
[3.6970000000000001,0.96499999999999997]
[3.698,0.96499999999999997]
[3.6989999999999998,0.96499999999999997]
[3.7,0.96499999999999997]
[3.7010000000000001,0.96499999999999997]
[3.702,0.96499999999999997]
[3.7029999999999998,0.96499999999999997]
[3.7040000000000002,0.96499999999999997]
[3.7050000000000001,0.96499999999999997]
[3.706,0.96499999999999997]
[3.7069999999999999,0.96499999999999997]
[3.7080000000000002,0.96499999999999997]
[3.7090000000000001,0.96499999999999997]
[3.71,0.96499999999999997]
[3.7109999999999999,0.96499999999999997]
[3.7120000000000002,0.96499999999999997]
[3.7130000000000001,0.96499999999999997]
[3.714,0.96499999999999997]
[3.7149999999999999,0.96499999999999997]
[3.7160000000000002,0.96499999999999997]
[3.7170000000000001,0.96499999999999997]
[3.718,0.96499999999999997]
[3.7189999999999999,0.96499999999999997]
[3.72,0.96499999999999997]
[3.7210000000000001,0.96499999999999997]
[3.722,0.96499999999999997]
[3.7229999999999999,0.96499999999999997]
[3.7240000000000002,0.96499999999999997]
[3.7250000000000001,0.96499999999999997]
[3.726,0.96499999999999997]
[3.7269999999999999,0.96499999999999997]
[3.7280000000000002,0.96499999999999997]
[3.7290000000000001,0.96499999999999997]
[3.73,0.96499999999999997]
[3.7309999999999999,0.96499999999999997]
[3.7320000000000002,0.96499999999999997]
[3.7330000000000001,0.96499999999999997]
[3.734,0.96499999999999997]
[3.7349999999999999,0.96499999999999997]
[3.7360000000000002,0.96499999999999997]
[3.7370000000000001,0.96499999999999997]
[3.738,0.96499999999999997]
[3.7389999999999999,0.96499999999999997]
[3.74,0.96499999999999997]
[3.7410000000000001,0.96499999999999997]
[3.742,0.96499999999999997]
[3.7429999999999999,0.96499999999999997]
[3.7440000000000002,0.96499999999999997]
[3.7450000000000001,0.96499999999999997]
[3.746,0.96499999999999997]
[3.7469999999999999,0.96499999999999997]
[3.7480000000000002,0.96499999999999997]
[3.7490000000000001,0.96499999999999997]
[3.75,0.96499999999999997]
[3.7509999999999999,0.96499999999999997]
[3.7519999999999998,0.96499999999999997]
[3.7530000000000001,0.96499999999999997]
[3.754,0.96499999999999997]
[3.7549999999999999,0.96499999999999997]
[3.7559999999999998,0.96499999999999997]
[3.7570000000000001,0.96499999999999997]
[3.758,0.96499999999999997]
[3.7589999999999999,0.96499999999999997]
[3.76,0.96499999999999997]
[3.7610000000000001,0.96499999999999997]
[3.762,0.96499999999999997]
[3.7629999999999999,0.96499999999999997]
[3.7639999999999998,0.96499999999999997]
[3.7650000000000001,0.96499999999999997]
[3.766,0.96499999999999997]
[3.7669999999999999,0.96499999999999997]
[3.7679999999999998,0.96499999999999997]
[3.7690000000000001,0.96499999999999997]
[3.77,0.96499999999999997]
[3.7709999999999999,0.96499999999999997]
[3.7719999999999998,0.96499999999999997]
[3.7730000000000001,0.96499999999999997]
[3.774,0.96499999999999997]
[3.7749999999999999,0.96499999999999997]
[3.7759999999999998,0.96499999999999997]
[3.7770000000000001,0.96499999999999997]
[3.778,0.96499999999999997]
[3.7789999999999999,0.96499999999999997]
[3.78,0.96499999999999997]
[3.7810000000000001,0.96499999999999997]
[3.782,0.96499999999999997]
[3.7829999999999999,0.96499999999999997]
[3.7839999999999998,0.96499999999999997]
[3.7850000000000001,0.96499999999999997]
[3.786,0.96499999999999997]
[3.7869999999999999,0.96499999999999997]
[3.7879999999999998,0.96499999999999997]
[3.7890000000000001,0.96499999999999997]
[3.79,0.96499999999999997]
[3.7909999999999999,0.96499999999999997]
[3.7919999999999998,0.96499999999999997]
[3.7930000000000001,0.96499999999999997]
[3.794,0.96499999999999997]
[3.7949999999999999,0.96499999999999997]
[3.7959999999999998,0.96499999999999997]
[3.7970000000000002,0.96499999999999997]
[3.798,0.96499999999999997]
[3.7989999999999999,0.96499999999999997]
[3.8,0.96499999999999997]
[3.8010000000000002,0.96499999999999997]
[3.802,0.96499999999999997]
[3.8029999999999999,0.96499999999999997]
[3.8039999999999998,0.96499999999999997]
[3.8050000000000002,0.96499999999999997]
[3.806,0.96499999999999997]
[3.8069999999999999,0.96499999999999997]
[3.8079999999999998,0.96499999999999997]
[3.8090000000000002,0.96499999999999997]
[3.81,0.96499999999999997]
[3.8109999999999999,0.96499999999999997]
[3.8119999999999998,0.96499999999999997]
[3.8130000000000002,0.96499999999999997]
[3.8140000000000001,0.96499999999999997]
[3.8149999999999999,0.96499999999999997]
[3.8159999999999998,0.96499999999999997]
[3.8170000000000002,0.96499999999999997]
[3.8180000000000001,0.96499999999999997]
[3.819,0.96499999999999997]
[3.82,0.96499999999999997]
[3.8210000000000002,0.96499999999999997]
[3.8220000000000001,0.96499999999999997]
[3.823,0.96499999999999997]
[3.8239999999999998,0.96499999999999997]
[3.8250000000000002,0.96499999999999997]
[3.8260000000000001,0.96499999999999997]
[3.827,0.96499999999999997]
[3.8279999999999998,0.96499999999999997]
[3.8290000000000002,0.96499999999999997]
[3.83,0.96499999999999997]
[3.831,0.96499999999999997]
[3.8319999999999999,0.96499999999999997]
[3.8330000000000002,0.96499999999999997]
[3.8340000000000001,0.96499999999999997]
[3.835,0.96499999999999997]
[3.8359999999999999,0.96499999999999997]
[3.8370000000000002,0.96499999999999997]
[3.8380000000000001,0.96499999999999997]
[3.839,0.96499999999999997]
[3.84,0.96499999999999997]
[3.8410000000000002,0.96499999999999997]
[3.8420000000000001,0.96499999999999997]
[3.843,0.96499999999999997]
[3.8439999999999999,0.96499999999999997]
[3.8450000000000002,0.96499999999999997]
[3.8460000000000001,0.96499999999999997]
[3.847,0.96499999999999997]
[3.8479999999999999,0.96499999999999997]
[3.8490000000000002,0.96499999999999997]
[3.85,0.96499999999999997]
[3.851,0.96499999999999997]
[3.8519999999999999,0.96499999999999997]
[3.8530000000000002,0.96499999999999997]
[3.8540000000000001,0.96499999999999997]
[3.855,0.96499999999999997]
[3.8559999999999999,0.96499999999999997]
[3.8570000000000002,0.96499999999999997]
[3.8580000000000001,0.96499999999999997]
[3.859,0.96499999999999997]
[3.86,0.96499999999999997]
[3.8610000000000002,0.96499999999999997]
[3.8620000000000001,0.96499999999999997]
[3.863,0.96499999999999997]
[3.8639999999999999,0.96499999999999997]
[3.8650000000000002,0.96499999999999997]
[3.8660000000000001,0.96499999999999997]
[3.867,0.96499999999999997]
[3.8679999999999999,0.96499999999999997]
[3.8690000000000002,0.96499999999999997]
[3.87,0.96499999999999997]
[3.871,0.96499999999999997]
[3.8719999999999999,0.96499999999999997]
[3.8730000000000002,0.96499999999999997]
[3.8740000000000001,0.96499999999999997]
[3.875,0.96499999999999997]
[3.8759999999999999,0.96499999999999997]
[3.8769999999999998,0.96499999999999997]
[3.8780000000000001,0.96499999999999997]
[3.879,0.96499999999999997]
[3.88,0.96499999999999997]
[3.8809999999999998,0.96499999999999997]
[3.8820000000000001,0.96499999999999997]
[3.883,0.96499999999999997]
[3.8839999999999999,0.96499999999999997]
[3.8849999999999998,0.96499999999999997]
[3.8860000000000001,0.96499999999999997]
[3.887,0.96499999999999997]
[3.8879999999999999,0.96499999999999997]
[3.8889999999999998,0.96499999999999997]
[3.89,0.96499999999999997]
[3.891,0.96499999999999997]
[3.8919999999999999,0.96499999999999997]
[3.8929999999999998,0.96499999999999997]
[3.8940000000000001,0.96499999999999997]
[3.895,0.96499999999999997]
[3.8959999999999999,0.96499999999999997]
[3.8969999999999998,0.96499999999999997]
[3.8980000000000001,0.96499999999999997]
[3.899,0.96499999999999997]
[3.9,0.96499999999999997]
[3.9009999999999998,0.96499999999999997]
[3.9020000000000001,0.96499999999999997]
[3.903,0.96499999999999997]
[3.9039999999999999,0.96499999999999997]
[3.9049999999999998,0.96499999999999997]
[3.9060000000000001,0.96499999999999997]
[3.907,0.96499999999999997]
[3.9079999999999999,0.96499999999999997]
[3.9089999999999998,0.96499999999999997]
[3.91,0.96499999999999997]
[3.911,0.96499999999999997]
[3.9119999999999999,0.96499999999999997]
[3.9129999999999998,0.96499999999999997]
[3.9140000000000001,0.96499999999999997]
[3.915,0.96499999999999997]
[3.9159999999999999,0.96499999999999997]
[3.9169999999999998,0.96499999999999997]
[3.9180000000000001,0.96499999999999997]
[3.919,0.96499999999999997]
[3.92,0.96499999999999997]
[3.9209999999999998,0.96499999999999997]
[3.9220000000000002,0.96499999999999997]
[3.923,0.96499999999999997]
[3.9239999999999999,0.96499999999999997]
[3.9249999999999998,0.96499999999999997]
[3.9260000000000002,0.96499999999999997]
[3.927,0.96499999999999997]
[3.9279999999999999,0.96499999999999997]
[3.9289999999999998,0.96499999999999997]
[3.93,0.96499999999999997]
[3.931,0.96499999999999997]
[3.9319999999999999,0.96499999999999997]
[3.9329999999999998,0.96499999999999997]
[3.9340000000000002,0.96499999999999997]
[3.9350000000000001,0.96499999999999997]
[3.9359999999999999,0.96499999999999997]
[3.9369999999999998,0.96499999999999997]
[3.9380000000000002,0.96499999999999997]
[3.9390000000000001,0.96499999999999997]
[3.94,0.96499999999999997]
[3.9409999999999998,0.96499999999999997]
[3.9420000000000002,0.96499999999999997]
[3.9430000000000001,0.96499999999999997]
[3.944,0.96499999999999997]
[3.9449999999999998,0.96499999999999997]
[3.9460000000000002,0.96499999999999997]
[3.9470000000000001,0.96499999999999997]
[3.948,0.96499999999999997]
[3.9489999999999998,0.96499999999999997]
[3.95,0.96499999999999997]
[3.9510000000000001,0.96499999999999997]
[3.952,0.96499999999999997]
[3.9529999999999998,0.96499999999999997]
[3.9540000000000002,0.96499999999999997]
[3.9550000000000001,0.96499999999999997]
[3.956,0.96499999999999997]
[3.9569999999999999,0.96499999999999997]
[3.9580000000000002,0.96499999999999997]
[3.9590000000000001,0.96499999999999997]
[3.96,0.96499999999999997]
[3.9609999999999999,0.96499999999999997]
[3.9620000000000002,0.96499999999999997]
[3.9630000000000001,0.96499999999999997]
[3.964,0.96499999999999997]
[3.9649999999999999,0.96499999999999997]
[3.9660000000000002,0.96499999999999997]
[3.9670000000000001,0.96499999999999997]
[3.968,0.96499999999999997]
[3.9689999999999999,0.96499999999999997]
[3.97,0.96499999999999997]
[3.9710000000000001,0.96499999999999997]
[3.972,0.96499999999999997]
[3.9729999999999999,0.96499999999999997]
[3.9740000000000002,0.96499999999999997]
[3.9750000000000001,0.96499999999999997]
[3.976,0.96499999999999997]
[3.9769999999999999,0.96499999999999997]
[3.9780000000000002,0.96499999999999997]
[3.9790000000000001,0.96499999999999997]
[3.98,0.96499999999999997]
[3.9809999999999999,0.96499999999999997]
[3.9820000000000002,0.96499999999999997]
[3.9830000000000001,0.96499999999999997]
[3.984,0.96499999999999997]
[3.9849999999999999,0.96499999999999997]
[3.9860000000000002,0.96499999999999997]
[3.9870000000000001,0.96499999999999997]
[3.988,0.96499999999999997]
[3.9889999999999999,0.96499999999999997]
[3.99,0.96499999999999997]
[3.9910000000000001,0.96499999999999997]
[3.992,0.96499999999999997]
[3.9929999999999999,0.96499999999999997]
[3.9940000000000002,0.96499999999999997]
[3.9950000000000001,0.96499999999999997]
[3.996,0.96499999999999997]
[3.9969999999999999,0.96499999999999997]
[3.9980000000000002,0.96499999999999997]
[3.9990000000000001,0.96499999999999997]
[4,0.96499999999999997]
[4.0010000000000003,0.96499999999999997]
[4.0019999999999998,0.96499999999999997]
[4.0030000000000001,0.96499999999999997]
[4.0039999999999996,0.96499999999999997]
[4.0049999999999999,0.96499999999999997]
[4.0060000000000002,0.96499999999999997]
[4.0069999999999997,0.96499999999999997]
[4.008,0.96499999999999997]
[4.0090000000000003,0.96499999999999997]
[4.01,0.96499999999999997]
[4.0110000000000001,0.96499999999999997]
[4.0119999999999996,0.96499999999999997]
[4.0129999999999999,0.96499999999999997]
[4.0140000000000002,0.96499999999999997]
[4.0149999999999997,0.96499999999999997]
[4.016,0.96499999999999997]
[4.0170000000000003,0.96499999999999997]
[4.0179999999999998,0.96499999999999997]
[4.0190000000000001,0.96499999999999997]
[4.0199999999999996,0.96499999999999997]
[4.0209999999999999,0.96499999999999997]
[4.0220000000000002,0.96499999999999997]
[4.0229999999999997,0.96499999999999997]
[4.024,0.96499999999999997]
[4.0250000000000004,0.96499999999999997]
[4.0259999999999998,0.96499999999999997]
[4.0270000000000001,0.96499999999999997]
[4.0279999999999996,0.96499999999999997]
[4.0289999999999999,0.96499999999999997]
[4.03,0.96499999999999997]
[4.0309999999999997,0.96499999999999997]
[4.032,0.96499999999999997]
[4.0330000000000004,0.96499999999999997]
[4.0339999999999998,0.96499999999999997]
[4.0350000000000001,0.96499999999999997]
[4.0359999999999996,0.96499999999999997]
[4.0369999999999999,0.96499999999999997]
[4.0380000000000003,0.96499999999999997]
[4.0389999999999997,0.96499999999999997]
[4.04,0.96499999999999997]
[4.0410000000000004,0.96499999999999997]
[4.0419999999999998,0.96499999999999997]
[4.0430000000000001,0.96499999999999997]
[4.0439999999999996,0.96499999999999997]
[4.0449999999999999,0.96499999999999997]
[4.0460000000000003,0.96499999999999997]
[4.0469999999999997,0.96499999999999997]
[4.048,0.96499999999999997]
[4.0490000000000004,0.96499999999999997]
[4.05,0.96499999999999997]
[4.0510000000000002,0.96499999999999997]
[4.0519999999999996,0.96499999999999997]
[4.0529999999999999,0.96499999999999997]
[4.0540000000000003,0.96499999999999997]
[4.0549999999999997,0.96499999999999997]
[4.056,0.96499999999999997]
[4.0570000000000004,0.96499999999999997]
[4.0579999999999998,0.96499999999999997]
[4.0590000000000002,0.96499999999999997]
[4.0599999999999996,0.96499999999999997]
[4.0609999999999999,0.96499999999999997]
[4.0620000000000003,0.96499999999999997]
[4.0629999999999997,0.96499999999999997]
[4.0640000000000001,0.96499999999999997]
[4.0650000000000004,0.96499999999999997]
[4.0659999999999998,0.96499999999999997]
[4.0670000000000002,0.96499999999999997]
[4.0679999999999996,0.96499999999999997]
[4.069,0.96499999999999997]
[4.07,0.96499999999999997]
[4.0709999999999997,0.96499999999999997]
[4.0720000000000001,0.96499999999999997]
[4.0730000000000004,0.96499999999999997]
[4.0739999999999998,0.96499999999999997]
[4.0750000000000002,0.96499999999999997]
[4.0759999999999996,0.96499999999999997]
[4.077,0.96499999999999997]
[4.0780000000000003,0.96499999999999997]
[4.0789999999999997,0.96499999999999997]
[4.08,0.96499999999999997]
[4.0810000000000004,0.96499999999999997]
[4.0819999999999999,0.96499999999999997]
[4.0830000000000002,0.96499999999999997]
[4.0839999999999996,0.96499999999999997]
[4.085,0.96499999999999997]
[4.0860000000000003,0.96499999999999997]
[4.0869999999999997,0.96499999999999997]
[4.0880000000000001,0.96499999999999997]
[4.0890000000000004,0.96499999999999997]
[4.09,0.96499999999999997]
[4.0910000000000002,0.96499999999999997]
[4.0919999999999996,0.96499999999999997]
[4.093,0.96499999999999997]
[4.0940000000000003,0.96499999999999997]
[4.0949999999999998,0.96499999999999997]
[4.0960000000000001,0.96499999999999997]
[4.0970000000000004,0.96499999999999997]
[4.0979999999999999,0.96499999999999997]
[4.0990000000000002,0.96499999999999997]
[4.0999999999999996,0.96499999999999997]
[4.101,0.96499999999999997]
[4.1020000000000003,0.96499999999999997]
[4.1029999999999998,0.96499999999999997]
[4.1040000000000001,0.96499999999999997]
[4.1050000000000004,0.96499999999999997]
[4.1059999999999999,0.96499999999999997]
[4.1070000000000002,0.96499999999999997]
[4.1079999999999997,0.96499999999999997]
[4.109,0.96499999999999997]
[4.1100000000000003,0.96499999999999997]
[4.1109999999999998,0.96499999999999997]
[4.1120000000000001,0.96499999999999997]
[4.1130000000000004,0.96499999999999997]
[4.1139999999999999,0.96499999999999997]
[4.1150000000000002,0.96499999999999997]
[4.1159999999999997,0.96499999999999997]
[4.117,0.96499999999999997]
[4.1180000000000003,0.96499999999999997]
[4.1189999999999998,0.96499999999999997]
[4.12,0.96499999999999997]
[4.1210000000000004,0.96499999999999997]
[4.1219999999999999,0.96499999999999997]
[4.1230000000000002,0.96499999999999997]
[4.1239999999999997,0.96499999999999997]
[4.125,0.96499999999999997]
[4.1260000000000003,0.96499999999999997]
[4.1269999999999998,0.96499999999999997]
[4.1280000000000001,0.96499999999999997]
[4.1289999999999996,0.96499999999999997]
[4.13,0.96499999999999997]
[4.1310000000000002,0.96499999999999997]
[4.1319999999999997,0.96499999999999997]
[4.133,0.96499999999999997]
[4.1340000000000003,0.96499999999999997]
[4.1349999999999998,0.96499999999999997]
[4.1360000000000001,0.96499999999999997]
[4.1369999999999996,0.96499999999999997]
[4.1379999999999999,0.96499999999999997]
[4.1390000000000002,0.96499999999999997]
[4.1399999999999997,0.96499999999999997]
[4.141,0.96499999999999997]
[4.1420000000000003,0.96499999999999997]
[4.1429999999999998,0.96499999999999997]
[4.1440000000000001,0.96499999999999997]
[4.1449999999999996,0.96499999999999997]
[4.1459999999999999,0.96499999999999997]
[4.1470000000000002,0.96499999999999997]
[4.1479999999999997,0.96499999999999997]
[4.149,0.96499999999999997]
[4.1500000000000004,0.96499999999999997]
[4.1509999999999998,0.96499999999999997]
[4.1520000000000001,0.96499999999999997]
[4.1529999999999996,0.96499999999999997]
[4.1539999999999999,0.96499999999999997]
[4.1550000000000002,0.96499999999999997]
[4.1559999999999997,0.96499999999999997]
[4.157,0.96499999999999997]
[4.1580000000000004,0.96499999999999997]
[4.1589999999999998,0.96499999999999997]
[4.16,0.96499999999999997]
[4.1609999999999996,0.96499999999999997]
[4.1619999999999999,0.96499999999999997]
[4.1630000000000003,0.96499999999999997]
[4.1639999999999997,0.96499999999999997]
[4.165,0.96499999999999997]
[4.1660000000000004,0.96499999999999997]
[4.1669999999999998,0.96499999999999997]
[4.1680000000000001,0.96499999999999997]
[4.1689999999999996,0.96499999999999997]
[4.17,0.96499999999999997]
[4.1710000000000003,0.96499999999999997]
[4.1719999999999997,0.96499999999999997]
[4.173,0.96499999999999997]
[4.1740000000000004,0.96499999999999997]
[4.1749999999999998,0.96499999999999997]
[4.1760000000000002,0.96499999999999997]
[4.1769999999999996,0.96499999999999997]
[4.1779999999999999,0.96499999999999997]
[4.1790000000000003,0.96499999999999997]
[4.18,0.96499999999999997]
[4.181,0.96499999999999997]
[4.1820000000000004,0.96499999999999997]
[4.1829999999999998,0.96499999999999997]
[4.1840000000000002,0.96499999999999997]
[4.1849999999999996,0.96499999999999997]
[4.1859999999999999,0.96499999999999997]
[4.1870000000000003,0.96499999999999997]
[4.1879999999999997,0.96499999999999997]
[4.1890000000000001,0.96499999999999997]
[4.1900000000000004,0.96499999999999997]
[4.1909999999999998,0.96499999999999997]
[4.1920000000000002,0.96499999999999997]
[4.1929999999999996,0.96499999999999997]
[4.194,0.96499999999999997]
[4.1950000000000003,0.96499999999999997]
[4.1959999999999997,0.96499999999999997]
[4.1970000000000001,0.96499999999999997]
[4.1980000000000004,0.96499999999999997]
[4.1989999999999998,0.96499999999999997]
[4.2,0.96499999999999997]
[4.2009999999999996,0.96499999999999997]
[4.202,0.96499999999999997]
[4.2030000000000003,0.96499999999999997]
[4.2039999999999997,0.96499999999999997]
[4.2050000000000001,0.96499999999999997]
[4.2060000000000004,0.96499999999999997]
[4.2069999999999999,0.96499999999999997]
[4.2080000000000002,0.96499999999999997]
[4.2089999999999996,0.96499999999999997]
[4.21,0.96499999999999997]
[4.2110000000000003,0.96499999999999997]
[4.2119999999999997,0.96499999999999997]
[4.2130000000000001,0.96499999999999997]
[4.2140000000000004,0.96499999999999997]
[4.2149999999999999,0.96499999999999997]
[4.2160000000000002,0.96499999999999997]
[4.2169999999999996,0.96499999999999997]
[4.218,0.96499999999999997]
[4.2190000000000003,0.96499999999999997]
[4.22,0.96499999999999997]
[4.2210000000000001,0.96499999999999997]
[4.2220000000000004,0.96499999999999997]
[4.2229999999999999,0.96499999999999997]
[4.2240000000000002,0.96499999999999997]
[4.2249999999999996,0.96499999999999997]
[4.226,0.96499999999999997]
[4.2270000000000003,0.96499999999999997]
[4.2279999999999998,0.96499999999999997]
[4.2290000000000001,0.96499999999999997]
[4.2300000000000004,0.96499999999999997]
[4.2309999999999999,0.96499999999999997]
[4.2320000000000002,0.96499999999999997]
[4.2329999999999997,0.96499999999999997]
[4.234,0.96499999999999997]
[4.2350000000000003,0.96499999999999997]
[4.2359999999999998,0.96499999999999997]
[4.2370000000000001,0.96499999999999997]
[4.2380000000000004,0.96499999999999997]
[4.2389999999999999,0.96499999999999997]
[4.24,0.96499999999999997]
[4.2409999999999997,0.96499999999999997]
[4.242,0.96499999999999997]
[4.2430000000000003,0.96499999999999997]
[4.2439999999999998,0.96499999999999997]
[4.2450000000000001,0.96499999999999997]
[4.2460000000000004,0.96499999999999997]
[4.2469999999999999,0.96499999999999997]
[4.2480000000000002,0.96499999999999997]
[4.2489999999999997,0.96499999999999997]
[4.25,0.96499999999999997]
[4.2510000000000003,0.96499999999999997]
[4.2519999999999998,0.96499999999999997]
[4.2530000000000001,0.96499999999999997]
[4.2539999999999996,0.96499999999999997]
[4.2549999999999999,0.96499999999999997]
[4.2560000000000002,0.96499999999999997]
[4.2569999999999997,0.96499999999999997]
[4.258,0.96499999999999997]
[4.2590000000000003,0.96499999999999997]
[4.26,0.96499999999999997]
[4.2610000000000001,0.96499999999999997]
[4.2619999999999996,0.96499999999999997]
[4.2629999999999999,0.96499999999999997]
[4.2640000000000002,0.96499999999999997]
[4.2649999999999997,0.96499999999999997]
[4.266,0.96499999999999997]
[4.2670000000000003,0.96499999999999997]
[4.2679999999999998,0.96499999999999997]
[4.2690000000000001,0.96499999999999997]
[4.2699999999999996,0.96499999999999997]
[4.2709999999999999,0.96499999999999997]
[4.2720000000000002,0.96499999999999997]
[4.2729999999999997,0.96499999999999997]
[4.274,0.96499999999999997]
[4.2750000000000004,0.96499999999999997]
[4.2759999999999998,0.96499999999999997]
[4.2770000000000001,0.96499999999999997]
[4.2779999999999996,0.96499999999999997]
[4.2789999999999999,0.96499999999999997]
[4.28,0.96499999999999997]
[4.2809999999999997,0.96499999999999997]
[4.282,0.96499999999999997]
[4.2830000000000004,0.96499999999999997]
[4.2839999999999998,0.96499999999999997]
[4.2850000000000001,0.96499999999999997]
[4.2859999999999996,0.96499999999999997]
[4.2869999999999999,0.96499999999999997]
[4.2880000000000003,0.96499999999999997]
[4.2889999999999997,0.96499999999999997]
[4.29,0.96499999999999997]
[4.2910000000000004,0.96499999999999997]
[4.2919999999999998,0.96499999999999997]
[4.2930000000000001,0.96499999999999997]
[4.2939999999999996,0.96499999999999997]
[4.2949999999999999,0.96499999999999997]
[4.2960000000000003,0.96499999999999997]
[4.2969999999999997,0.96499999999999997]
[4.298,0.96499999999999997]
[4.2990000000000004,0.96499999999999997]
[4.3,0.96499999999999997]
[4.3010000000000002,0.96499999999999997]
[4.3019999999999996,0.96499999999999997]
[4.3029999999999999,0.96499999999999997]
[4.3040000000000003,0.96499999999999997]
[4.3049999999999997,0.96499999999999997]
[4.306,0.96499999999999997]
[4.3070000000000004,0.96499999999999997]
[4.3079999999999998,0.96499999999999997]
[4.3090000000000002,0.96499999999999997]
[4.3099999999999996,0.96499999999999997]
[4.3109999999999999,0.96499999999999997]
[4.3120000000000003,0.96499999999999997]
[4.3129999999999997,0.96499999999999997]
[4.3140000000000001,0.96499999999999997]
[4.3150000000000004,0.96499999999999997]
[4.3159999999999998,0.96499999999999997]
[4.3170000000000002,0.96499999999999997]
[4.3179999999999996,0.96499999999999997]
[4.319,0.96499999999999997]
[4.32,0.96499999999999997]
[4.3209999999999997,0.96499999999999997]
[4.3220000000000001,0.96499999999999997]
[4.3230000000000004,0.96499999999999997]
[4.3239999999999998,0.96499999999999997]
[4.3250000000000002,0.96499999999999997]
[4.3259999999999996,0.96499999999999997]
[4.327,0.96499999999999997]
[4.3280000000000003,0.96499999999999997]
[4.3289999999999997,0.96499999999999997]
[4.33,0.96499999999999997]
[4.3310000000000004,0.96499999999999997]
[4.3319999999999999,0.96499999999999997]
[4.3330000000000002,0.96499999999999997]
[4.3339999999999996,0.96499999999999997]
[4.335,0.96499999999999997]
[4.3360000000000003,0.96499999999999997]
[4.3369999999999997,0.96499999999999997]
[4.3380000000000001,0.96499999999999997]
[4.3390000000000004,0.96499999999999997]
[4.34,0.96499999999999997]
[4.3410000000000002,0.96499999999999997]
[4.3419999999999996,0.96499999999999997]
[4.343,0.96499999999999997]
[4.3440000000000003,0.96499999999999997]
[4.3449999999999998,0.96499999999999997]
[4.3460000000000001,0.96499999999999997]
[4.3470000000000004,0.96499999999999997]
[4.3479999999999999,0.96499999999999997]
[4.3490000000000002,0.96499999999999997]
[4.3499999999999996,0.96499999999999997]
[4.351,0.96499999999999997]
[4.3520000000000003,0.96499999999999997]
[4.3529999999999998,0.96499999999999997]
[4.3540000000000001,0.96499999999999997]
[4.3550000000000004,0.96499999999999997]
[4.3559999999999999,0.96499999999999997]
[4.3570000000000002,0.96499999999999997]
[4.3579999999999997,0.96499999999999997]
[4.359,0.96499999999999997]
[4.3600000000000003,0.96499999999999997]
[4.3609999999999998,0.96499999999999997]
[4.3620000000000001,0.96499999999999997]
[4.3630000000000004,0.96499999999999997]
[4.3639999999999999,0.96499999999999997]
[4.3650000000000002,0.96499999999999997]
[4.3659999999999997,0.96499999999999997]
[4.367,0.96499999999999997]
[4.3680000000000003,0.96499999999999997]
[4.3689999999999998,0.96499999999999997]
[4.37,0.96499999999999997]
[4.3710000000000004,0.96499999999999997]
[4.3719999999999999,0.96499999999999997]
[4.3730000000000002,0.96499999999999997]
[4.3739999999999997,0.96499999999999997]
[4.375,0.96499999999999997]
[4.3760000000000003,0.96499999999999997]
[4.3769999999999998,0.96499999999999997]
[4.3780000000000001,0.96499999999999997]
[4.3789999999999996,0.96499999999999997]
[4.38,0.96499999999999997]
[4.3810000000000002,0.96499999999999997]
[4.3819999999999997,0.96499999999999997]
[4.383,0.96499999999999997]
[4.3840000000000003,0.96499999999999997]
[4.3849999999999998,0.96499999999999997]
[4.3860000000000001,0.96499999999999997]
[4.3869999999999996,0.96499999999999997]
[4.3879999999999999,0.96499999999999997]
[4.3890000000000002,0.96499999999999997]
[4.3899999999999997,0.96499999999999997]
[4.391,0.96499999999999997]
[4.3920000000000003,0.96499999999999997]
[4.3929999999999998,0.96499999999999997]
[4.3940000000000001,0.96499999999999997]
[4.3949999999999996,0.96499999999999997]
[4.3959999999999999,0.96499999999999997]
[4.3970000000000002,0.96499999999999997]
[4.3979999999999997,0.96499999999999997]
[4.399,0.96499999999999997]
[4.4000000000000004,0.96499999999999997]
[4.4009999999999998,0.96499999999999997]
[4.4020000000000001,0.96499999999999997]
[4.4029999999999996,0.96499999999999997]
[4.4039999999999999,0.96499999999999997]
[4.4050000000000002,0.96499999999999997]
[4.4059999999999997,0.96499999999999997]
[4.407,0.96499999999999997]
[4.4080000000000004,0.96499999999999997]
[4.4089999999999998,0.96499999999999997]
[4.41,0.96499999999999997]
[4.4109999999999996,0.96499999999999997]
[4.4119999999999999,0.96499999999999997]
[4.4130000000000003,0.96499999999999997]
[4.4139999999999997,0.96499999999999997]
[4.415,0.96499999999999997]
[4.4160000000000004,0.96499999999999997]
[4.4169999999999998,0.96499999999999997]
[4.4180000000000001,0.96499999999999997]
[4.4189999999999996,0.96499999999999997]
[4.42,0.96499999999999997]
[4.4210000000000003,0.96499999999999997]
[4.4219999999999997,0.96499999999999997]
[4.423,0.96499999999999997]
[4.4240000000000004,0.96499999999999997]
[4.4249999999999998,0.96499999999999997]
[4.4260000000000002,0.96499999999999997]
[4.4269999999999996,0.96499999999999997]
[4.4279999999999999,0.96499999999999997]
[4.4290000000000003,0.96499999999999997]
[4.43,0.96499999999999997]
[4.431,0.96499999999999997]
[4.4320000000000004,0.96499999999999997]
[4.4329999999999998,0.96499999999999997]
[4.4340000000000002,0.96499999999999997]
[4.4349999999999996,0.96499999999999997]
[4.4359999999999999,0.96499999999999997]
[4.4370000000000003,0.96499999999999997]
[4.4379999999999997,0.96499999999999997]
[4.4390000000000001,0.96499999999999997]
[4.4400000000000004,0.96499999999999997]
[4.4409999999999998,0.96499999999999997]
[4.4420000000000002,0.96499999999999997]
[4.4429999999999996,0.96499999999999997]
[4.444,0.96499999999999997]
[4.4450000000000003,0.96499999999999997]
[4.4459999999999997,0.96499999999999997]
[4.4470000000000001,0.96499999999999997]
[4.4480000000000004,0.96499999999999997]
[4.4489999999999998,0.96499999999999997]
[4.45,0.96499999999999997]
[4.4509999999999996,0.96499999999999997]
[4.452,0.96499999999999997]
[4.4530000000000003,0.96499999999999997]
[4.4539999999999997,0.96499999999999997]
[4.4550000000000001,0.96499999999999997]
[4.4560000000000004,0.96499999999999997]
[4.4569999999999999,0.96499999999999997]
[4.4580000000000002,0.96499999999999997]
[4.4589999999999996,0.96499999999999997]
[4.46,0.96499999999999997]
[4.4610000000000003,0.96499999999999997]
[4.4619999999999997,0.96499999999999997]
[4.4630000000000001,0.96499999999999997]
[4.4640000000000004,0.96499999999999997]
[4.4649999999999999,0.96499999999999997]
[4.4660000000000002,0.96499999999999997]
[4.4669999999999996,0.96499999999999997]
[4.468,0.96499999999999997]
[4.4690000000000003,0.96499999999999997]
[4.47,0.96499999999999997]
[4.4710000000000001,0.96499999999999997]
[4.4720000000000004,0.96499999999999997]
[4.4729999999999999,0.96499999999999997]
[4.4740000000000002,0.96499999999999997]
[4.4749999999999996,0.96499999999999997]
[4.476,0.96499999999999997]
[4.4770000000000003,0.96499999999999997]
[4.4779999999999998,0.96499999999999997]
[4.4790000000000001,0.96499999999999997]
[4.4800000000000004,0.96499999999999997]
[4.4809999999999999,0.96499999999999997]
[4.4820000000000002,0.96499999999999997]
[4.4829999999999997,0.96499999999999997]
[4.484,0.96499999999999997]
[4.4850000000000003,0.96499999999999997]
[4.4859999999999998,0.96499999999999997]
[4.4870000000000001,0.96499999999999997]
[4.4880000000000004,0.96499999999999997]
[4.4889999999999999,0.96499999999999997]
[4.49,0.96499999999999997]
[4.4909999999999997,0.96499999999999997]
[4.492,0.96499999999999997]
[4.4930000000000003,0.96499999999999997]
[4.4939999999999998,0.96499999999999997]
[4.4950000000000001,0.96499999999999997]
[4.4960000000000004,0.96499999999999997]
[4.4969999999999999,0.96499999999999997]
[4.4980000000000002,0.96499999999999997]
[4.4989999999999997,0.96499999999999997]
[4.5,0.96499999999999997]
[4.5010000000000003,0.96499999999999997]
[4.5019999999999998,0.96499999999999997]
[4.5030000000000001,0.96499999999999997]
[4.5039999999999996,0.96499999999999997]
[4.5049999999999999,0.96499999999999997]
[4.5060000000000002,0.96499999999999997]
[4.5069999999999997,0.96499999999999997]
[4.508,0.96499999999999997]
[4.5090000000000003,0.96499999999999997]
[4.51,0.96499999999999997]
[4.5110000000000001,0.96499999999999997]
[4.5119999999999996,0.96499999999999997]
[4.5129999999999999,0.96499999999999997]
[4.5140000000000002,0.96499999999999997]
[4.5149999999999997,0.96499999999999997]
[4.516,0.96499999999999997]
[4.5170000000000003,0.96499999999999997]
[4.5179999999999998,0.96499999999999997]
[4.5190000000000001,0.96499999999999997]
[4.5199999999999996,0.96499999999999997]
[4.5209999999999999,0.96499999999999997]
[4.5220000000000002,0.96499999999999997]
[4.5229999999999997,0.96499999999999997]
[4.524,0.96499999999999997]
[4.5250000000000004,0.96499999999999997]
[4.5259999999999998,0.96499999999999997]
[4.5270000000000001,0.96499999999999997]
[4.5279999999999996,0.96499999999999997]
[4.5289999999999999,0.96499999999999997]
[4.53,0.96499999999999997]
[4.5309999999999997,0.96499999999999997]
[4.532,0.96499999999999997]
[4.5330000000000004,0.96499999999999997]
[4.5339999999999998,0.96499999999999997]
[4.5350000000000001,0.96499999999999997]
[4.5359999999999996,0.96499999999999997]
[4.5369999999999999,0.96499999999999997]
[4.5380000000000003,0.96499999999999997]
[4.5389999999999997,0.96499999999999997]
[4.54,0.96499999999999997]
[4.5410000000000004,0.96499999999999997]
[4.5419999999999998,0.96499999999999997]
[4.5430000000000001,0.96499999999999997]
[4.5439999999999996,0.96499999999999997]
[4.5449999999999999,0.96499999999999997]
[4.5460000000000003,0.96499999999999997]
[4.5469999999999997,0.96499999999999997]
[4.548,0.96499999999999997]
[4.5490000000000004,0.96499999999999997]
[4.55,0.96499999999999997]
[4.5510000000000002,0.96499999999999997]
[4.5519999999999996,0.96499999999999997]
[4.5529999999999999,0.96499999999999997]
[4.5540000000000003,0.96499999999999997]
[4.5549999999999997,0.96499999999999997]
[4.556,0.96499999999999997]
[4.5570000000000004,0.96499999999999997]
[4.5579999999999998,0.96499999999999997]
[4.5590000000000002,0.96499999999999997]
[4.5599999999999996,0.96499999999999997]
[4.5609999999999999,0.96499999999999997]
[4.5620000000000003,0.96499999999999997]
[4.5629999999999997,0.96499999999999997]
[4.5640000000000001,0.96499999999999997]
[4.5650000000000004,0.96499999999999997]
[4.5659999999999998,0.96499999999999997]
[4.5670000000000002,0.96499999999999997]
[4.5679999999999996,0.96499999999999997]
[4.569,0.96499999999999997]
[4.57,0.96499999999999997]
[4.5709999999999997,0.96499999999999997]
[4.5720000000000001,0.96499999999999997]
[4.5730000000000004,0.96499999999999997]
[4.5739999999999998,0.96499999999999997]
[4.5750000000000002,0.96499999999999997]
[4.5759999999999996,0.96499999999999997]
[4.577,0.96499999999999997]
[4.5780000000000003,0.96499999999999997]
[4.5789999999999997,0.96499999999999997]
[4.58,0.96499999999999997]
[4.5810000000000004,0.96499999999999997]
[4.5819999999999999,0.96499999999999997]
[4.5830000000000002,0.96499999999999997]
[4.5839999999999996,0.96499999999999997]
[4.585,0.96499999999999997]
[4.5860000000000003,0.96499999999999997]
[4.5869999999999997,0.96499999999999997]
[4.5880000000000001,0.96499999999999997]
[4.5890000000000004,0.96499999999999997]
[4.59,0.96499999999999997]
[4.5910000000000002,0.96499999999999997]
[4.5919999999999996,0.96499999999999997]
[4.593,0.96499999999999997]
[4.5940000000000003,0.96499999999999997]
[4.5949999999999998,0.96499999999999997]
[4.5960000000000001,0.96499999999999997]
[4.5970000000000004,0.96499999999999997]
[4.5979999999999999,0.96499999999999997]
[4.5990000000000002,0.96499999999999997]
[4.5999999999999996,0.96499999999999997]
[4.601,0.96499999999999997]
[4.6020000000000003,0.96499999999999997]
[4.6029999999999998,0.96499999999999997]
[4.6040000000000001,0.96499999999999997]
[4.6050000000000004,0.96499999999999997]
[4.6059999999999999,0.96499999999999997]
[4.6070000000000002,0.96499999999999997]
[4.6079999999999997,0.96499999999999997]
[4.609,0.96499999999999997]
[4.6100000000000003,0.96499999999999997]
[4.6109999999999998,0.96499999999999997]
[4.6120000000000001,0.96499999999999997]
[4.6130000000000004,0.96499999999999997]
[4.6139999999999999,0.96499999999999997]
[4.6150000000000002,0.96499999999999997]
[4.6159999999999997,0.96499999999999997]
[4.617,0.96499999999999997]
[4.6180000000000003,0.96499999999999997]
[4.6189999999999998,0.96499999999999997]
[4.62,0.96499999999999997]
[4.6210000000000004,0.96499999999999997]
[4.6219999999999999,0.96499999999999997]
[4.6230000000000002,0.96499999999999997]
[4.6239999999999997,0.96499999999999997]
[4.625,0.96499999999999997]
[4.6260000000000003,0.96499999999999997]
[4.6269999999999998,0.96499999999999997]
[4.6280000000000001,0.96499999999999997]
[4.6289999999999996,0.96499999999999997]
[4.63,0.96499999999999997]
[4.6310000000000002,0.96499999999999997]
[4.6319999999999997,0.96499999999999997]
[4.633,0.96499999999999997]
[4.6340000000000003,0.96499999999999997]
[4.6349999999999998,0.96499999999999997]
[4.6360000000000001,0.96499999999999997]
[4.6369999999999996,0.96499999999999997]
[4.6379999999999999,0.96499999999999997]
[4.6390000000000002,0.96499999999999997]
[4.6399999999999997,0.96499999999999997]
[4.641,0.96499999999999997]
[4.6420000000000003,0.96499999999999997]
[4.6429999999999998,0.96499999999999997]
[4.6440000000000001,0.96499999999999997]
[4.6449999999999996,0.96499999999999997]
[4.6459999999999999,0.96499999999999997]
[4.6470000000000002,0.96499999999999997]
[4.6479999999999997,0.96499999999999997]
[4.649,0.96499999999999997]
[4.6500000000000004,0.96499999999999997]
[4.6509999999999998,0.96499999999999997]
[4.6520000000000001,0.96499999999999997]
[4.6529999999999996,0.96499999999999997]
[4.6539999999999999,0.96499999999999997]
[4.6550000000000002,0.96499999999999997]
[4.6559999999999997,0.96499999999999997]
[4.657,0.96499999999999997]
[4.6580000000000004,0.96499999999999997]
[4.6589999999999998,0.96499999999999997]
[4.66,0.96499999999999997]
[4.6609999999999996,0.96499999999999997]
[4.6619999999999999,0.96499999999999997]
[4.6630000000000003,0.96499999999999997]
[4.6639999999999997,0.96499999999999997]
[4.665,0.96499999999999997]
[4.6660000000000004,0.96499999999999997]
[4.6669999999999998,0.96499999999999997]
[4.6680000000000001,0.96499999999999997]
[4.6689999999999996,0.96499999999999997]
[4.67,0.96499999999999997]
[4.6710000000000003,0.96499999999999997]
[4.6719999999999997,0.96499999999999997]
[4.673,0.96499999999999997]
[4.6740000000000004,0.96499999999999997]
[4.6749999999999998,0.96499999999999997]
[4.6760000000000002,0.96499999999999997]
[4.6769999999999996,0.96499999999999997]
[4.6779999999999999,0.96499999999999997]
[4.6790000000000003,0.96499999999999997]
[4.68,0.96499999999999997]
[4.681,0.96499999999999997]
[4.6820000000000004,0.96499999999999997]
[4.6829999999999998,0.96499999999999997]
[4.6840000000000002,0.96499999999999997]
[4.6849999999999996,0.96499999999999997]
[4.6859999999999999,0.96499999999999997]
[4.6870000000000003,0.96499999999999997]
[4.6879999999999997,0.96499999999999997]
[4.6890000000000001,0.96499999999999997]
[4.6900000000000004,0.96499999999999997]
[4.6909999999999998,0.96499999999999997]
[4.6920000000000002,0.96499999999999997]
[4.6929999999999996,0.96499999999999997]
[4.694,0.96499999999999997]
[4.6950000000000003,0.96499999999999997]
[4.6959999999999997,0.96499999999999997]
[4.6970000000000001,0.96499999999999997]
[4.6980000000000004,0.96499999999999997]
[4.6989999999999998,0.96499999999999997]
[4.7,0.96499999999999997]
[4.7009999999999996,0.96499999999999997]
[4.702,0.96499999999999997]
[4.7030000000000003,0.96499999999999997]
[4.7039999999999997,0.96499999999999997]
[4.7050000000000001,0.96499999999999997]
[4.7060000000000004,0.96499999999999997]
[4.7069999999999999,0.96499999999999997]
[4.7080000000000002,0.96499999999999997]
[4.7089999999999996,0.96499999999999997]
[4.71,0.96499999999999997]
[4.7110000000000003,0.96499999999999997]
[4.7119999999999997,0.96499999999999997]
[4.7130000000000001,0.96499999999999997]
[4.7140000000000004,0.96499999999999997]
[4.7149999999999999,0.96499999999999997]
[4.7160000000000002,0.96499999999999997]
[4.7169999999999996,0.96499999999999997]
[4.718,0.96499999999999997]
[4.7190000000000003,0.96499999999999997]
[4.72,0.96499999999999997]
[4.7210000000000001,0.96499999999999997]
[4.7220000000000004,0.96499999999999997]
[4.7229999999999999,0.96499999999999997]
[4.7240000000000002,0.96499999999999997]
[4.7249999999999996,0.96499999999999997]
[4.726,0.96499999999999997]
[4.7270000000000003,0.96499999999999997]
[4.7279999999999998,0.96499999999999997]
[4.7290000000000001,0.96499999999999997]
[4.7300000000000004,0.96499999999999997]
[4.7309999999999999,0.96499999999999997]
[4.7320000000000002,0.96499999999999997]
[4.7329999999999997,0.96499999999999997]
[4.734,0.96499999999999997]
[4.7350000000000003,0.96499999999999997]
[4.7359999999999998,0.96499999999999997]
[4.7370000000000001,0.96499999999999997]
[4.7380000000000004,0.96499999999999997]
[4.7389999999999999,0.96499999999999997]
[4.74,0.96499999999999997]
[4.7409999999999997,0.96499999999999997]
[4.742,0.96499999999999997]
[4.7430000000000003,0.96499999999999997]
[4.7439999999999998,0.96499999999999997]
[4.7450000000000001,0.96499999999999997]
[4.7460000000000004,0.96499999999999997]
[4.7469999999999999,0.96499999999999997]
[4.7480000000000002,0.96499999999999997]
[4.7489999999999997,0.96499999999999997]
[4.75,0.96499999999999997]
[4.7510000000000003,0.96499999999999997]
[4.7519999999999998,0.96499999999999997]
[4.7530000000000001,0.96499999999999997]
[4.7539999999999996,0.96499999999999997]
[4.7549999999999999,0.96499999999999997]
[4.7560000000000002,0.96499999999999997]
[4.7569999999999997,0.96499999999999997]
[4.758,0.96499999999999997]
[4.7590000000000003,0.96499999999999997]
[4.76,0.96499999999999997]
[4.7610000000000001,0.96499999999999997]
[4.7619999999999996,0.96499999999999997]
[4.7629999999999999,0.96499999999999997]
[4.7640000000000002,0.96499999999999997]
[4.7649999999999997,0.96499999999999997]
[4.766,0.96499999999999997]
[4.7670000000000003,0.96499999999999997]
[4.7679999999999998,0.96499999999999997]
[4.7690000000000001,0.96499999999999997]
[4.7699999999999996,0.96499999999999997]
[4.7709999999999999,0.96499999999999997]
[4.7720000000000002,0.96499999999999997]
[4.7729999999999997,0.96499999999999997]
[4.774,0.96499999999999997]
[4.7750000000000004,0.96499999999999997]
[4.7759999999999998,0.96499999999999997]
[4.7770000000000001,0.96499999999999997]
[4.7779999999999996,0.96499999999999997]
[4.7789999999999999,0.96499999999999997]
[4.78,0.96499999999999997]
[4.7809999999999997,0.96499999999999997]
[4.782,0.96499999999999997]
[4.7830000000000004,0.96499999999999997]
[4.7839999999999998,0.96499999999999997]
[4.7850000000000001,0.96499999999999997]
[4.7859999999999996,0.96499999999999997]
[4.7869999999999999,0.96499999999999997]
[4.7880000000000003,0.96499999999999997]
[4.7889999999999997,0.96499999999999997]
[4.79,0.96499999999999997]
[4.7910000000000004,0.96499999999999997]
[4.7919999999999998,0.96499999999999997]
[4.7930000000000001,0.96499999999999997]
[4.7939999999999996,0.96499999999999997]
[4.7949999999999999,0.96499999999999997]
[4.7960000000000003,0.96499999999999997]
[4.7969999999999997,0.96499999999999997]
[4.798,0.96499999999999997]
[4.7990000000000004,0.96499999999999997]
[4.8,0.96499999999999997]
[4.8010000000000002,0.96499999999999997]
[4.8019999999999996,0.96499999999999997]
[4.8029999999999999,0.96499999999999997]
[4.8040000000000003,0.96499999999999997]
[4.8049999999999997,0.96499999999999997]
[4.806,0.96499999999999997]
[4.8070000000000004,0.96499999999999997]
[4.8079999999999998,0.96499999999999997]
[4.8090000000000002,0.96499999999999997]
[4.8099999999999996,0.96499999999999997]
[4.8109999999999999,0.96499999999999997]
[4.8120000000000003,0.96499999999999997]
[4.8129999999999997,0.96499999999999997]
[4.8140000000000001,0.96499999999999997]
[4.8150000000000004,0.96499999999999997]
[4.8159999999999998,0.96499999999999997]
[4.8170000000000002,0.96499999999999997]
[4.8179999999999996,0.96499999999999997]
[4.819,0.96499999999999997]
[4.82,0.96499999999999997]
[4.8209999999999997,0.96499999999999997]
[4.8220000000000001,0.96499999999999997]
[4.8230000000000004,0.96499999999999997]
[4.8239999999999998,0.96499999999999997]
[4.8250000000000002,0.96499999999999997]
[4.8259999999999996,0.96499999999999997]
[4.827,0.96499999999999997]
[4.8280000000000003,0.96499999999999997]
[4.8289999999999997,0.96499999999999997]
[4.83,0.96499999999999997]
[4.8310000000000004,0.96499999999999997]
[4.8319999999999999,0.96499999999999997]
[4.8330000000000002,0.96499999999999997]
[4.8339999999999996,0.96499999999999997]
[4.835,0.96499999999999997]
[4.8360000000000003,0.96499999999999997]
[4.8369999999999997,0.96499999999999997]
[4.8380000000000001,0.96499999999999997]
[4.8390000000000004,0.96499999999999997]
[4.84,0.96499999999999997]
[4.8410000000000002,0.96499999999999997]
[4.8419999999999996,0.96499999999999997]
[4.843,0.96499999999999997]
[4.8440000000000003,0.96499999999999997]
[4.8449999999999998,0.96499999999999997]
[4.8460000000000001,0.96499999999999997]
[4.8470000000000004,0.96499999999999997]
[4.8479999999999999,0.96499999999999997]
[4.8490000000000002,0.96499999999999997]
[4.8499999999999996,0.96499999999999997]
[4.851,0.96499999999999997]
[4.8520000000000003,0.96499999999999997]
[4.8529999999999998,0.96499999999999997]
[4.8540000000000001,0.96499999999999997]
[4.8550000000000004,0.96499999999999997]
[4.8559999999999999,0.96499999999999997]
[4.8570000000000002,0.96499999999999997]
[4.8579999999999997,0.96499999999999997]
[4.859,0.96499999999999997]
[4.8600000000000003,0.96499999999999997]
[4.8609999999999998,0.96499999999999997]
[4.8620000000000001,0.96499999999999997]
[4.8630000000000004,0.96499999999999997]
[4.8639999999999999,0.96499999999999997]
[4.8650000000000002,0.96499999999999997]
[4.8659999999999997,0.96499999999999997]
[4.867,0.96499999999999997]
[4.8680000000000003,0.96499999999999997]
[4.8689999999999998,0.96499999999999997]
[4.87,0.96499999999999997]
[4.8710000000000004,0.96499999999999997]
[4.8719999999999999,0.96499999999999997]
[4.8730000000000002,0.96499999999999997]
[4.8739999999999997,0.96499999999999997]
[4.875,0.96499999999999997]
[4.8760000000000003,0.96499999999999997]
[4.8769999999999998,0.96499999999999997]
[4.8780000000000001,0.96499999999999997]
[4.8789999999999996,0.96499999999999997]
[4.88,0.96499999999999997]
[4.8810000000000002,0.96499999999999997]
[4.8819999999999997,0.96499999999999997]
[4.883,0.96499999999999997]
[4.8840000000000003,0.96499999999999997]
[4.8849999999999998,0.96499999999999997]
[4.8860000000000001,0.96499999999999997]
[4.8869999999999996,0.96499999999999997]
[4.8879999999999999,0.96499999999999997]
[4.8890000000000002,0.96499999999999997]
[4.8899999999999997,0.96499999999999997]
[4.891,0.96499999999999997]
[4.8920000000000003,0.96499999999999997]
[4.8929999999999998,0.96499999999999997]
[4.8940000000000001,0.96499999999999997]
[4.8949999999999996,0.96499999999999997]
[4.8959999999999999,0.96499999999999997]
[4.8970000000000002,0.96499999999999997]
[4.8979999999999997,0.96499999999999997]
[4.899,0.96499999999999997]
[4.9000000000000004,0.96499999999999997]
[4.9009999999999998,0.96499999999999997]
[4.9020000000000001,0.96499999999999997]
[4.9029999999999996,0.96499999999999997]
[4.9039999999999999,0.96499999999999997]
[4.9050000000000002,0.96499999999999997]
[4.9059999999999997,0.96499999999999997]
[4.907,0.96499999999999997]
[4.9080000000000004,0.96499999999999997]
[4.9089999999999998,0.96499999999999997]
[4.91,0.96499999999999997]
[4.9109999999999996,0.96499999999999997]
[4.9119999999999999,0.96499999999999997]
[4.9130000000000003,0.96499999999999997]
[4.9139999999999997,0.96499999999999997]
[4.915,0.96499999999999997]
[4.9160000000000004,0.96499999999999997]
[4.9169999999999998,0.96499999999999997]
[4.9180000000000001,0.96499999999999997]
[4.9189999999999996,0.96499999999999997]
[4.92,0.96499999999999997]
[4.9210000000000003,0.96499999999999997]
[4.9219999999999997,0.96499999999999997]
[4.923,0.96499999999999997]
[4.9240000000000004,0.96499999999999997]
[4.9249999999999998,0.96499999999999997]
[4.9260000000000002,0.96499999999999997]
[4.9269999999999996,0.96499999999999997]
[4.9279999999999999,0.96499999999999997]
[4.9290000000000003,0.96499999999999997]
[4.93,0.96499999999999997]
[4.931,0.96499999999999997]
[4.9320000000000004,0.96499999999999997]
[4.9329999999999998,0.96499999999999997]
[4.9340000000000002,0.96499999999999997]
[4.9349999999999996,0.96499999999999997]
[4.9359999999999999,0.96499999999999997]
[4.9370000000000003,0.96499999999999997]
[4.9379999999999997,0.96499999999999997]
[4.9390000000000001,0.96499999999999997]
[4.9400000000000004,0.96499999999999997]
[4.9409999999999998,0.96499999999999997]
[4.9420000000000002,0.96499999999999997]
[4.9429999999999996,0.96499999999999997]
[4.944,0.96499999999999997]
[4.9450000000000003,0.96499999999999997]
[4.9459999999999997,0.96499999999999997]
[4.9470000000000001,0.96499999999999997]
[4.9480000000000004,0.96499999999999997]
[4.9489999999999998,0.96499999999999997]
[4.95,0.96499999999999997]
[4.9509999999999996,0.96499999999999997]
[4.952,0.96499999999999997]
[4.9530000000000003,0.96499999999999997]
[4.9539999999999997,0.96499999999999997]
[4.9550000000000001,0.96499999999999997]
[4.9560000000000004,0.96499999999999997]
[4.9569999999999999,0.96499999999999997]
[4.9580000000000002,0.96499999999999997]
[4.9589999999999996,0.96499999999999997]
[4.96,0.96499999999999997]
[4.9610000000000003,0.96499999999999997]
[4.9619999999999997,0.96499999999999997]
[4.9630000000000001,0.96499999999999997]
[4.9640000000000004,0.96499999999999997]
[4.9649999999999999,0.96499999999999997]
[4.9660000000000002,0.96499999999999997]
[4.9669999999999996,0.96499999999999997]
[4.968,0.96499999999999997]
[4.9690000000000003,0.96499999999999997]
[4.97,0.96499999999999997]
[4.9710000000000001,0.96499999999999997]
[4.9720000000000004,0.96499999999999997]
[4.9729999999999999,0.96499999999999997]
[4.9740000000000002,0.96499999999999997]
[4.9749999999999996,0.96499999999999997]
[4.976,0.96499999999999997]
[4.9770000000000003,0.96499999999999997]
[4.9779999999999998,0.96499999999999997]
[4.9790000000000001,0.96499999999999997]
[4.9800000000000004,0.96499999999999997]
[4.9809999999999999,0.96499999999999997]
[4.9820000000000002,0.96499999999999997]
[4.9829999999999997,0.96499999999999997]
[4.984,0.96499999999999997]
[4.9850000000000003,0.96499999999999997]
[4.9859999999999998,0.96499999999999997]
[4.9870000000000001,0.96499999999999997]
[4.9880000000000004,0.96499999999999997]
[4.9889999999999999,0.96499999999999997]
[4.99,0.96499999999999997]
[4.9909999999999997,0.96499999999999997]
[4.992,0.96499999999999997]
[4.9930000000000003,0.96499999999999997]
[4.9939999999999998,0.96499999999999997]
[4.9950000000000001,0.96499999999999997]
[4.9960000000000004,0.96499999999999997]
[4.9969999999999999,0.96499999999999997]
[4.9980000000000002,0.96499999999999997]
[4.9989999999999997,0.96499999999999997]
[5,0.96499999999999997]
[5.0010000000000003,0.96499999999999997]
[5.0019999999999998,0.96499999999999997]
[5.0030000000000001,0.96499999999999997]
[5.0039999999999996,0.96499999999999997]
[5.0049999999999999,0.96499999999999997]
[5.0060000000000002,0.96499999999999997]
[5.0069999999999997,0.96499999999999997]
[5.008,0.96499999999999997]
[5.0090000000000003,0.96499999999999997]
[5.01,0.96499999999999997]
[5.0110000000000001,0.96499999999999997]
[5.0119999999999996,0.96499999999999997]
[5.0129999999999999,0.96499999999999997]
[5.0140000000000002,0.96499999999999997]
[5.0149999999999997,0.96499999999999997]
[5.016,0.96499999999999997]
[5.0170000000000003,0.96499999999999997]
[5.0179999999999998,0.96499999999999997]
[5.0190000000000001,0.96499999999999997]
[5.0199999999999996,0.96499999999999997]
[5.0209999999999999,0.96499999999999997]
[5.0220000000000002,0.96499999999999997]
[5.0229999999999997,0.96499999999999997]
[5.024,0.96499999999999997]
[5.0250000000000004,0.96499999999999997]
[5.0259999999999998,0.96499999999999997]
[5.0270000000000001,0.96499999999999997]
[5.0279999999999996,0.96499999999999997]
[5.0289999999999999,0.96499999999999997]
[5.03,0.96499999999999997]
[5.0309999999999997,0.96499999999999997]
[5.032,0.96499999999999997]
[5.0330000000000004,0.96499999999999997]
[5.0339999999999998,0.96499999999999997]
[5.0350000000000001,0.96499999999999997]
[5.0359999999999996,0.96499999999999997]
[5.0369999999999999,0.96499999999999997]
[5.0380000000000003,0.96499999999999997]
[5.0389999999999997,0.96499999999999997]
[5.04,0.96499999999999997]
[5.0410000000000004,0.96499999999999997]
[5.0419999999999998,0.96499999999999997]
[5.0430000000000001,0.96499999999999997]
[5.0439999999999996,0.96499999999999997]
[5.0449999999999999,0.96499999999999997]
[5.0460000000000003,0.96499999999999997]
[5.0469999999999997,0.96499999999999997]
[5.048,0.96499999999999997]
[5.0490000000000004,0.96499999999999997]
[5.05,0.96499999999999997]
[5.0510000000000002,0.96499999999999997]
[5.0519999999999996,0.96499999999999997]
[5.0529999999999999,0.96499999999999997]
[5.0540000000000003,0.96499999999999997]
[5.0549999999999997,0.96499999999999997]
[5.056,0.96499999999999997]
[5.0570000000000004,0.96499999999999997]
[5.0579999999999998,0.96499999999999997]
[5.0590000000000002,0.96499999999999997]
[5.0599999999999996,0.96499999999999997]
[5.0609999999999999,0.96499999999999997]
[5.0620000000000003,0.96499999999999997]
[5.0629999999999997,0.96499999999999997]
[5.0640000000000001,0.96499999999999997]
[5.0650000000000004,0.96499999999999997]
[5.0659999999999998,0.96499999999999997]
[5.0670000000000002,0.96499999999999997]
[5.0679999999999996,0.96499999999999997]
[5.069,0.96499999999999997]
[5.07,0.96499999999999997]
[5.0709999999999997,0.96499999999999997]
[5.0720000000000001,0.96499999999999997]
[5.0730000000000004,0.96499999999999997]
[5.0739999999999998,0.96499999999999997]
[5.0750000000000002,0.96499999999999997]
[5.0759999999999996,0.96499999999999997]
[5.077,0.96499999999999997]
[5.0780000000000003,0.96499999999999997]
[5.0789999999999997,0.96499999999999997]
[5.08,0.96499999999999997]
[5.0810000000000004,0.96499999999999997]
[5.0819999999999999,0.96499999999999997]
[5.0830000000000002,0.96499999999999997]
[5.0839999999999996,0.96499999999999997]
[5.085,0.96499999999999997]
[5.0860000000000003,0.96499999999999997]
[5.0869999999999997,0.96499999999999997]
[5.0880000000000001,0.96499999999999997]
[5.0890000000000004,0.96499999999999997]
[5.09,0.96499999999999997]
[5.0910000000000002,0.96499999999999997]
[5.0919999999999996,0.96499999999999997]
[5.093,0.96499999999999997]
[5.0940000000000003,0.96499999999999997]
[5.0949999999999998,0.96499999999999997]
[5.0960000000000001,0.96499999999999997]
[5.0970000000000004,0.96499999999999997]
[5.0979999999999999,0.96499999999999997]
[5.0990000000000002,0.96499999999999997]
[5.0999999999999996,0.96499999999999997]
[5.101,0.96499999999999997]
[5.1020000000000003,0.96499999999999997]
[5.1029999999999998,0.96499999999999997]
[5.1040000000000001,0.96499999999999997]
[5.1050000000000004,0.96499999999999997]
[5.1059999999999999,0.96499999999999997]
[5.1070000000000002,0.96499999999999997]
[5.1079999999999997,0.96499999999999997]
[5.109,0.96499999999999997]
[5.1100000000000003,0.96499999999999997]
[5.1109999999999998,0.96499999999999997]
[5.1120000000000001,0.96499999999999997]
[5.1130000000000004,0.96499999999999997]
[5.1139999999999999,0.96499999999999997]
[5.1150000000000002,0.96499999999999997]
[5.1159999999999997,0.96499999999999997]
[5.117,0.96499999999999997]
[5.1180000000000003,0.96499999999999997]
[5.1189999999999998,0.96499999999999997]
[5.12,0.96499999999999997]
[5.1210000000000004,0.96499999999999997]
[5.1219999999999999,0.96499999999999997]
[5.1230000000000002,0.96499999999999997]
[5.1239999999999997,0.96499999999999997]
[5.125,0.96499999999999997]
[5.1260000000000003,0.96499999999999997]
[5.1269999999999998,0.96499999999999997]
[5.1280000000000001,0.96499999999999997]
[5.1289999999999996,0.96499999999999997]
[5.13,0.96499999999999997]
[5.1310000000000002,0.96499999999999997]
[5.1319999999999997,0.96499999999999997]
[5.133,0.96499999999999997]
[5.1340000000000003,0.96499999999999997]
[5.1349999999999998,0.96499999999999997]
[5.1360000000000001,0.96499999999999997]
[5.1369999999999996,0.96499999999999997]
[5.1379999999999999,0.96499999999999997]
[5.1390000000000002,0.96499999999999997]
[5.14,0.96499999999999997]
[5.141,0.96499999999999997]
[5.1420000000000003,0.96499999999999997]
[5.1429999999999998,0.96499999999999997]
[5.1440000000000001,0.96499999999999997]
[5.1449999999999996,0.96499999999999997]
[5.1459999999999999,0.96499999999999997]
[5.1470000000000002,0.96499999999999997]
[5.1479999999999997,0.96499999999999997]
[5.149,0.96499999999999997]
[5.15,0.96499999999999997]
[5.1509999999999998,0.96499999999999997]
[5.1520000000000001,0.96499999999999997]
[5.1529999999999996,0.96499999999999997]
[5.1539999999999999,0.96499999999999997]
[5.1550000000000002,0.96499999999999997]
[5.1559999999999997,0.96499999999999997]
[5.157,0.96499999999999997]
[5.1580000000000004,0.96499999999999997]
[5.1589999999999998,0.96499999999999997]
[5.16,0.96499999999999997]
[5.1609999999999996,0.96499999999999997]
[5.1619999999999999,0.96499999999999997]
[5.1630000000000003,0.96499999999999997]
[5.1639999999999997,0.96499999999999997]
[5.165,0.96499999999999997]
[5.1660000000000004,0.96499999999999997]
[5.1669999999999998,0.96499999999999997]
[5.1680000000000001,0.96499999999999997]
[5.1689999999999996,0.96499999999999997]
[5.17,0.96499999999999997]
[5.1710000000000003,0.96499999999999997]
[5.1719999999999997,0.96499999999999997]
[5.173,0.96499999999999997]
[5.1740000000000004,0.96499999999999997]
[5.1749999999999998,0.96499999999999997]
[5.1760000000000002,0.96499999999999997]
[5.1769999999999996,0.96499999999999997]
[5.1779999999999999,0.96499999999999997]
[5.1790000000000003,0.96499999999999997]
[5.18,0.96499999999999997]
[5.181,0.96499999999999997]
[5.1820000000000004,0.96499999999999997]
[5.1829999999999998,0.96499999999999997]
[5.1840000000000002,0.96499999999999997]
[5.1849999999999996,0.96499999999999997]
[5.1859999999999999,0.96499999999999997]
[5.1870000000000003,0.96499999999999997]
[5.1879999999999997,0.96499999999999997]
[5.1890000000000001,0.96499999999999997]
[5.19,0.96499999999999997]
[5.1909999999999998,0.96499999999999997]
[5.1920000000000002,0.96499999999999997]
[5.1929999999999996,0.96499999999999997]
[5.194,0.96499999999999997]
[5.1950000000000003,0.96499999999999997]
[5.1959999999999997,0.96499999999999997]
[5.1970000000000001,0.96499999999999997]
[5.1980000000000004,0.96499999999999997]
[5.1989999999999998,0.96499999999999997]
[5.2,0.96499999999999997]
[5.2009999999999996,0.96499999999999997]
[5.202,0.96499999999999997]
[5.2030000000000003,0.96499999999999997]
[5.2039999999999997,0.96499999999999997]
[5.2050000000000001,0.96499999999999997]
[5.2060000000000004,0.96499999999999997]
[5.2069999999999999,0.96499999999999997]
[5.2080000000000002,0.96499999999999997]
[5.2089999999999996,0.96499999999999997]
[5.21,0.96499999999999997]
[5.2110000000000003,0.96499999999999997]
[5.2119999999999997,0.96499999999999997]
[5.2130000000000001,0.96499999999999997]
[5.2140000000000004,0.96499999999999997]
[5.2149999999999999,0.96499999999999997]
[5.2160000000000002,0.96499999999999997]
[5.2169999999999996,0.96499999999999997]
[5.218,0.96499999999999997]
[5.2190000000000003,0.96499999999999997]
[5.22,0.96499999999999997]
[5.2210000000000001,0.96499999999999997]
[5.2220000000000004,0.96499999999999997]
[5.2229999999999999,0.96499999999999997]
[5.2240000000000002,0.96499999999999997]
[5.2249999999999996,0.96499999999999997]
[5.226,0.96499999999999997]
[5.2270000000000003,0.96499999999999997]
[5.2279999999999998,0.96499999999999997]
[5.2290000000000001,0.96499999999999997]
[5.23,0.96499999999999997]
[5.2309999999999999,0.96499999999999997]
[5.2320000000000002,0.96499999999999997]
[5.2329999999999997,0.96499999999999997]
[5.234,0.96499999999999997]
[5.2350000000000003,0.96499999999999997]
[5.2359999999999998,0.96499999999999997]
[5.2370000000000001,0.96499999999999997]
[5.2380000000000004,0.96499999999999997]
[5.2389999999999999,0.96499999999999997]
[5.24,0.96499999999999997]
[5.2409999999999997,0.96499999999999997]
[5.242,0.96499999999999997]
[5.2430000000000003,0.96499999999999997]
[5.2439999999999998,0.96499999999999997]
[5.2450000000000001,0.96499999999999997]
[5.2460000000000004,0.96499999999999997]
[5.2469999999999999,0.96499999999999997]
[5.2480000000000002,0.96499999999999997]
[5.2489999999999997,0.96499999999999997]
[5.25,0.96499999999999997]
[5.2510000000000003,0.96499999999999997]
[5.2519999999999998,0.96499999999999997]
[5.2530000000000001,0.96499999999999997]
[5.2539999999999996,0.96499999999999997]
[5.2549999999999999,0.96499999999999997]
[5.2560000000000002,0.96499999999999997]
[5.2569999999999997,0.96499999999999997]
[5.258,0.96499999999999997]
[5.2590000000000003,0.96499999999999997]
[5.26,0.96499999999999997]
[5.2610000000000001,0.96499999999999997]
[5.2619999999999996,0.96499999999999997]
[5.2629999999999999,0.96499999999999997]
[5.2640000000000002,0.96499999999999997]
[5.2649999999999997,0.96499999999999997]
[5.266,0.96499999999999997]
[5.2670000000000003,0.96499999999999997]
[5.2679999999999998,0.96499999999999997]
[5.2690000000000001,0.96499999999999997]
[5.27,0.96499999999999997]
[5.2709999999999999,0.96499999999999997]
[5.2720000000000002,0.96499999999999997]
[5.2729999999999997,0.96499999999999997]
[5.274,0.96499999999999997]
[5.2750000000000004,0.96499999999999997]
[5.2759999999999998,0.96499999999999997]
[5.2770000000000001,0.96499999999999997]
[5.2779999999999996,0.96499999999999997]
[5.2789999999999999,0.96499999999999997]
[5.28,0.96499999999999997]
[5.2809999999999997,0.96499999999999997]
[5.282,0.96499999999999997]
[5.2830000000000004,0.96499999999999997]
[5.2839999999999998,0.96499999999999997]
[5.2850000000000001,0.96499999999999997]
[5.2859999999999996,0.96499999999999997]
[5.2869999999999999,0.96499999999999997]
[5.2880000000000003,0.96499999999999997]
[5.2889999999999997,0.96499999999999997]
[5.29,0.96499999999999997]
[5.2910000000000004,0.96499999999999997]
[5.2919999999999998,0.96499999999999997]
[5.2930000000000001,0.96499999999999997]
[5.2939999999999996,0.96499999999999997]
[5.2949999999999999,0.96499999999999997]
[5.2960000000000003,0.96499999999999997]
[5.2969999999999997,0.96499999999999997]
[5.298,0.96499999999999997]
[5.2990000000000004,0.96499999999999997]
[5.3,0.96499999999999997]
[5.3010000000000002,0.96499999999999997]
[5.3019999999999996,0.96499999999999997]
[5.3029999999999999,0.96499999999999997]
[5.3040000000000003,0.96499999999999997]
[5.3049999999999997,0.96499999999999997]
[5.306,0.96499999999999997]
[5.3070000000000004,0.96499999999999997]
[5.3079999999999998,0.96499999999999997]
[5.3090000000000002,0.96499999999999997]
[5.31,0.96499999999999997]
[5.3109999999999999,0.96499999999999997]
[5.3120000000000003,0.96499999999999997]
[5.3129999999999997,0.96499999999999997]
[5.3140000000000001,0.96499999999999997]
[5.3150000000000004,0.96499999999999997]
[5.3159999999999998,0.96499999999999997]
[5.3170000000000002,0.96499999999999997]
[5.3179999999999996,0.96499999999999997]
[5.319,0.96499999999999997]
[5.32,0.96499999999999997]
[5.3209999999999997,0.96499999999999997]
[5.3220000000000001,0.96499999999999997]
[5.3230000000000004,0.96499999999999997]
[5.3239999999999998,0.96499999999999997]
[5.3250000000000002,0.96499999999999997]
[5.3259999999999996,0.96499999999999997]
[5.327,0.96499999999999997]
[5.3280000000000003,0.96499999999999997]
[5.3289999999999997,0.96499999999999997]
[5.33,0.96499999999999997]
[5.3310000000000004,0.96499999999999997]
[5.3319999999999999,0.96499999999999997]
[5.3330000000000002,0.96499999999999997]
[5.3339999999999996,0.96499999999999997]
[5.335,0.96499999999999997]
[5.3360000000000003,0.96499999999999997]
[5.3369999999999997,0.96499999999999997]
[5.3380000000000001,0.96499999999999997]
[5.3390000000000004,0.96499999999999997]
[5.34,0.96499999999999997]
[5.3410000000000002,0.96499999999999997]
[5.3419999999999996,0.96499999999999997]
[5.343,0.96499999999999997]
[5.3440000000000003,0.96499999999999997]
[5.3449999999999998,0.96499999999999997]
[5.3460000000000001,0.96499999999999997]
[5.3470000000000004,0.96499999999999997]
[5.3479999999999999,0.96499999999999997]
[5.3490000000000002,0.96499999999999997]
[5.35,0.96499999999999997]
[5.351,0.96499999999999997]
[5.3520000000000003,0.96499999999999997]
[5.3529999999999998,0.96499999999999997]
[5.3540000000000001,0.96499999999999997]
[5.3550000000000004,0.96499999999999997]
[5.3559999999999999,0.96499999999999997]
[5.3570000000000002,0.96499999999999997]
[5.3579999999999997,0.96499999999999997]
[5.359,0.96499999999999997]
[5.36,0.96499999999999997]
[5.3609999999999998,0.96499999999999997]
[5.3620000000000001,0.96499999999999997]
[5.3630000000000004,0.96499999999999997]
[5.3639999999999999,0.96499999999999997]
[5.3650000000000002,0.96499999999999997]
[5.3659999999999997,0.96499999999999997]
[5.367,0.96499999999999997]
[5.3680000000000003,0.96499999999999997]
[5.3689999999999998,0.96499999999999997]
[5.37,0.96499999999999997]
[5.3710000000000004,0.96499999999999997]
[5.3719999999999999,0.96499999999999997]
[5.3730000000000002,0.96499999999999997]
[5.3739999999999997,0.96499999999999997]
[5.375,0.96499999999999997]
[5.3760000000000003,0.96499999999999997]
[5.3769999999999998,0.96499999999999997]
[5.3780000000000001,0.96499999999999997]
[5.3789999999999996,0.96499999999999997]
[5.38,0.96499999999999997]
[5.3810000000000002,0.96499999999999997]
[5.3819999999999997,0.96499999999999997]
[5.383,0.96499999999999997]
[5.3840000000000003,0.96499999999999997]
[5.3849999999999998,0.96499999999999997]
[5.3860000000000001,0.96499999999999997]
[5.3869999999999996,0.96499999999999997]
[5.3879999999999999,0.96499999999999997]
[5.3890000000000002,0.96499999999999997]
[5.39,0.96499999999999997]
[5.391,0.96499999999999997]
[5.3920000000000003,0.96499999999999997]
[5.3929999999999998,0.96499999999999997]
[5.3940000000000001,0.96499999999999997]
[5.3949999999999996,0.96499999999999997]
[5.3959999999999999,0.96499999999999997]
[5.3970000000000002,0.96499999999999997]
[5.3979999999999997,0.96499999999999997]
[5.399,0.96499999999999997]
[5.4,0.96499999999999997]
[5.4009999999999998,0.96499999999999997]
[5.4020000000000001,0.96499999999999997]
[5.4029999999999996,0.96499999999999997]
[5.4039999999999999,0.96499999999999997]
[5.4050000000000002,0.96499999999999997]
[5.4059999999999997,0.96499999999999997]
[5.407,0.96499999999999997]
[5.4080000000000004,0.96499999999999997]
[5.4089999999999998,0.96499999999999997]
[5.41,0.96499999999999997]
[5.4109999999999996,0.96499999999999997]
[5.4119999999999999,0.96499999999999997]
[5.4130000000000003,0.96499999999999997]
[5.4139999999999997,0.96499999999999997]
[5.415,0.96499999999999997]
[5.4160000000000004,0.96499999999999997]
[5.4169999999999998,0.96499999999999997]
[5.4180000000000001,0.96499999999999997]
[5.4189999999999996,0.96499999999999997]
[5.42,0.96499999999999997]
[5.4210000000000003,0.96499999999999997]
[5.4219999999999997,0.96499999999999997]
[5.423,0.96499999999999997]
[5.4240000000000004,0.96499999999999997]
[5.4249999999999998,0.96499999999999997]
[5.4260000000000002,0.96499999999999997]
[5.4269999999999996,0.96499999999999997]
[5.4279999999999999,0.96499999999999997]
[5.4290000000000003,0.96499999999999997]
[5.43,0.96499999999999997]
[5.431,0.96499999999999997]
[5.4320000000000004,0.96499999999999997]
[5.4329999999999998,0.96499999999999997]
[5.4340000000000002,0.96499999999999997]
[5.4349999999999996,0.96499999999999997]
[5.4359999999999999,0.96499999999999997]
[5.4370000000000003,0.96499999999999997]
[5.4379999999999997,0.96499999999999997]
[5.4390000000000001,0.96499999999999997]
[5.44,0.96499999999999997]
[5.4409999999999998,0.96499999999999997]
[5.4420000000000002,0.96499999999999997]
[5.4429999999999996,0.96499999999999997]
[5.444,0.96499999999999997]
[5.4450000000000003,0.96499999999999997]
[5.4459999999999997,0.96499999999999997]
[5.4470000000000001,0.96499999999999997]
[5.4480000000000004,0.96499999999999997]
[5.4489999999999998,0.96499999999999997]
[5.45,0.96499999999999997]
[5.4509999999999996,0.96499999999999997]
[5.452,0.96499999999999997]
[5.4530000000000003,0.96499999999999997]
[5.4539999999999997,0.96499999999999997]
[5.4550000000000001,0.96499999999999997]
[5.4560000000000004,0.96499999999999997]
[5.4569999999999999,0.96499999999999997]
[5.4580000000000002,0.96499999999999997]
[5.4589999999999996,0.96499999999999997]
[5.46,0.96499999999999997]
[5.4610000000000003,0.96499999999999997]
[5.4619999999999997,0.96499999999999997]
[5.4630000000000001,0.96499999999999997]
[5.4640000000000004,0.96499999999999997]
[5.4649999999999999,0.96499999999999997]
[5.4660000000000002,0.96499999999999997]
[5.4669999999999996,0.96499999999999997]
[5.468,0.96499999999999997]
[5.4690000000000003,0.96499999999999997]
[5.47,0.96499999999999997]
[5.4710000000000001,0.96499999999999997]
[5.4720000000000004,0.96499999999999997]
[5.4729999999999999,0.96499999999999997]
[5.4740000000000002,0.96499999999999997]
[5.4749999999999996,0.96499999999999997]
[5.476,0.96499999999999997]
[5.4770000000000003,0.96499999999999997]
[5.4779999999999998,0.96499999999999997]
[5.4790000000000001,0.96499999999999997]
[5.48,0.96499999999999997]
[5.4809999999999999,0.96499999999999997]
[5.4820000000000002,0.96499999999999997]
[5.4829999999999997,0.96499999999999997]
[5.484,0.96499999999999997]
[5.4850000000000003,0.96499999999999997]
[5.4859999999999998,0.96499999999999997]
[5.4870000000000001,0.96499999999999997]
[5.4880000000000004,0.96499999999999997]
[5.4889999999999999,0.96499999999999997]
[5.49,0.96499999999999997]
[5.4909999999999997,0.96499999999999997]
[5.492,0.96499999999999997]
[5.4930000000000003,0.96499999999999997]
[5.4939999999999998,0.96499999999999997]
[5.4950000000000001,0.96499999999999997]
[5.4960000000000004,0.96499999999999997]
[5.4969999999999999,0.96499999999999997]
[5.4980000000000002,0.96499999999999997]
[5.4989999999999997,0.96499999999999997]
[5.5,0.96499999999999997]
[5.5010000000000003,0.96499999999999997]
[5.5019999999999998,0.96499999999999997]
[5.5030000000000001,0.96499999999999997]
[5.5039999999999996,0.96499999999999997]
[5.5049999999999999,0.96499999999999997]
[5.5060000000000002,0.96499999999999997]
[5.5069999999999997,0.96499999999999997]
[5.508,0.96499999999999997]
[5.5090000000000003,0.96499999999999997]
[5.51,0.96499999999999997]
[5.5110000000000001,0.96499999999999997]
[5.5119999999999996,0.96499999999999997]
[5.5129999999999999,0.96499999999999997]
[5.5140000000000002,0.96499999999999997]
[5.5149999999999997,0.96499999999999997]
[5.516,0.96499999999999997]
[5.5170000000000003,0.96499999999999997]
[5.5179999999999998,0.96499999999999997]
[5.5190000000000001,0.96499999999999997]
[5.52,0.96499999999999997]
[5.5209999999999999,0.96499999999999997]
[5.5220000000000002,0.96499999999999997]
[5.5229999999999997,0.96499999999999997]
[5.524,0.96499999999999997]
[5.5250000000000004,0.96499999999999997]
[5.5259999999999998,0.96499999999999997]
[5.5270000000000001,0.96499999999999997]
[5.5279999999999996,0.96499999999999997]
[5.5289999999999999,0.96499999999999997]
[5.53,0.96499999999999997]
[5.5309999999999997,0.96499999999999997]
[5.532,0.96499999999999997]
[5.5330000000000004,0.96499999999999997]
[5.5339999999999998,0.96499999999999997]
[5.5350000000000001,0.96499999999999997]
[5.5359999999999996,0.96499999999999997]
[5.5369999999999999,0.96499999999999997]
[5.5380000000000003,0.96499999999999997]
[5.5389999999999997,0.96499999999999997]
[5.54,0.96499999999999997]
[5.5410000000000004,0.96499999999999997]
[5.5419999999999998,0.96499999999999997]
[5.5430000000000001,0.96499999999999997]
[5.5439999999999996,0.96499999999999997]
[5.5449999999999999,0.96499999999999997]
[5.5460000000000003,0.96499999999999997]
[5.5469999999999997,0.96499999999999997]
[5.548,0.96499999999999997]
[5.5490000000000004,0.96499999999999997]
[5.55,0.96499999999999997]
[5.5510000000000002,0.96499999999999997]
[5.5519999999999996,0.96499999999999997]
[5.5529999999999999,0.96499999999999997]
[5.5540000000000003,0.96499999999999997]
[5.5549999999999997,0.96499999999999997]
[5.556,0.96499999999999997]
[5.5570000000000004,0.96499999999999997]
[5.5579999999999998,0.96499999999999997]
[5.5590000000000002,0.96499999999999997]
[5.56,0.96499999999999997]
[5.5609999999999999,0.96499999999999997]
[5.5620000000000003,0.96499999999999997]
[5.5629999999999997,0.96499999999999997]
[5.5640000000000001,0.96499999999999997]
[5.5650000000000004,0.96499999999999997]
[5.5659999999999998,0.96499999999999997]
[5.5670000000000002,0.96499999999999997]
[5.5679999999999996,0.96499999999999997]
[5.569,0.96499999999999997]
[5.57,0.96499999999999997]
[5.5709999999999997,0.96499999999999997]
[5.5720000000000001,0.96499999999999997]
[5.5730000000000004,0.96499999999999997]
[5.5739999999999998,0.96499999999999997]
[5.5750000000000002,0.96499999999999997]
[5.5759999999999996,0.96499999999999997]
[5.577,0.96499999999999997]
[5.5780000000000003,0.96499999999999997]
[5.5789999999999997,0.96499999999999997]
[5.58,0.96499999999999997]
[5.5810000000000004,0.96499999999999997]
[5.5819999999999999,0.96499999999999997]
[5.5830000000000002,0.96499999999999997]
[5.5839999999999996,0.96499999999999997]
[5.585,0.96499999999999997]
[5.5860000000000003,0.96499999999999997]
[5.5869999999999997,0.96499999999999997]
[5.5880000000000001,0.96499999999999997]
[5.5890000000000004,0.96499999999999997]
[5.59,0.96499999999999997]
[5.5910000000000002,0.96499999999999997]
[5.5919999999999996,0.96499999999999997]
[5.593,0.96499999999999997]
[5.5940000000000003,0.96499999999999997]
[5.5949999999999998,0.96499999999999997]
[5.5960000000000001,0.96499999999999997]
[5.5970000000000004,0.96499999999999997]
[5.5979999999999999,0.96499999999999997]
[5.5990000000000002,0.96499999999999997]
[5.6,0.96499999999999997]
[5.601,0.96499999999999997]
[5.6020000000000003,0.96499999999999997]
[5.6029999999999998,0.96499999999999997]
[5.6040000000000001,0.96499999999999997]
[5.6050000000000004,0.96499999999999997]
[5.6059999999999999,0.96499999999999997]
[5.6070000000000002,0.96499999999999997]
[5.6079999999999997,0.96499999999999997]
[5.609,0.96499999999999997]
[5.61,0.96499999999999997]
[5.6109999999999998,0.96499999999999997]
[5.6120000000000001,0.96499999999999997]
[5.6130000000000004,0.96499999999999997]
[5.6139999999999999,0.96499999999999997]
[5.6150000000000002,0.96499999999999997]
[5.6159999999999997,0.96499999999999997]
[5.617,0.96499999999999997]
[5.6180000000000003,0.96499999999999997]
[5.6189999999999998,0.96499999999999997]
[5.62,0.96499999999999997]
[5.6210000000000004,0.96499999999999997]
[5.6219999999999999,0.96499999999999997]
[5.6230000000000002,0.96499999999999997]
[5.6239999999999997,0.96499999999999997]
[5.625,0.96499999999999997]
[5.6260000000000003,0.96499999999999997]
[5.6269999999999998,0.96499999999999997]
[5.6280000000000001,0.96499999999999997]
[5.6289999999999996,0.96499999999999997]
[5.63,0.96499999999999997]
[5.6310000000000002,0.96499999999999997]
[5.6319999999999997,0.96499999999999997]
[5.633,0.96499999999999997]
[5.6340000000000003,0.96499999999999997]
[5.6349999999999998,0.96499999999999997]
[5.6360000000000001,0.96499999999999997]
[5.6369999999999996,0.96499999999999997]
[5.6379999999999999,0.96499999999999997]
[5.6390000000000002,0.96499999999999997]
[5.64,0.96499999999999997]
[5.641,0.96499999999999997]
[5.6420000000000003,0.96499999999999997]
[5.6429999999999998,0.96499999999999997]
[5.6440000000000001,0.96499999999999997]
[5.6449999999999996,0.96499999999999997]
[5.6459999999999999,0.96499999999999997]
[5.6470000000000002,0.96499999999999997]
[5.6479999999999997,0.96499999999999997]
[5.649,0.96499999999999997]
[5.65,0.96499999999999997]
[5.6509999999999998,0.96499999999999997]
[5.6520000000000001,0.96499999999999997]
[5.6529999999999996,0.96499999999999997]
[5.6539999999999999,0.96499999999999997]
[5.6550000000000002,0.96499999999999997]
[5.6559999999999997,0.96499999999999997]
[5.657,0.96499999999999997]
[5.6580000000000004,0.96499999999999997]
[5.6589999999999998,0.96499999999999997]
[5.66,0.96499999999999997]
[5.6609999999999996,0.96499999999999997]
[5.6619999999999999,0.96499999999999997]
[5.6630000000000003,0.96499999999999997]
[5.6639999999999997,0.96499999999999997]
[5.665,0.96499999999999997]
[5.6660000000000004,0.96499999999999997]
[5.6669999999999998,0.96499999999999997]
[5.6680000000000001,0.96499999999999997]
[5.6689999999999996,0.96499999999999997]
[5.67,0.96499999999999997]
[5.6710000000000003,0.96499999999999997]
[5.6719999999999997,0.96499999999999997]
[5.673,0.96499999999999997]
[5.6740000000000004,0.96499999999999997]
[5.6749999999999998,0.96499999999999997]
[5.6760000000000002,0.96499999999999997]
[5.6769999999999996,0.96499999999999997]
[5.6779999999999999,0.96499999999999997]
[5.6790000000000003,0.96499999999999997]
[5.68,0.96499999999999997]
[5.681,0.96499999999999997]
[5.6820000000000004,0.96499999999999997]
[5.6829999999999998,0.96499999999999997]
[5.6840000000000002,0.96499999999999997]
[5.6849999999999996,0.96499999999999997]
[5.6859999999999999,0.96499999999999997]
[5.6870000000000003,0.96499999999999997]
[5.6879999999999997,0.96499999999999997]
[5.6890000000000001,0.96499999999999997]
[5.69,0.96499999999999997]
[5.6909999999999998,0.96499999999999997]
[5.6920000000000002,0.96499999999999997]
[5.6929999999999996,0.96499999999999997]
[5.694,0.96499999999999997]
[5.6950000000000003,0.96499999999999997]
[5.6959999999999997,0.96499999999999997]
[5.6970000000000001,0.96499999999999997]
[5.6980000000000004,0.96499999999999997]
[5.6989999999999998,0.96499999999999997]
[5.7,0.96499999999999997]
[5.7009999999999996,0.96499999999999997]
[5.702,0.96499999999999997]
[5.7030000000000003,0.96499999999999997]
[5.7039999999999997,0.96499999999999997]
[5.7050000000000001,0.96499999999999997]
[5.7060000000000004,0.96499999999999997]
[5.7069999999999999,0.96499999999999997]
[5.7080000000000002,0.96499999999999997]
[5.7089999999999996,0.96499999999999997]
[5.71,0.96499999999999997]
[5.7110000000000003,0.96499999999999997]
[5.7119999999999997,0.96499999999999997]
[5.7130000000000001,0.96499999999999997]
[5.7140000000000004,0.96499999999999997]
[5.7149999999999999,0.96499999999999997]
[5.7160000000000002,0.96499999999999997]
[5.7169999999999996,0.96499999999999997]
[5.718,0.96499999999999997]
[5.7190000000000003,0.96499999999999997]
[5.72,0.96499999999999997]
[5.7210000000000001,0.96499999999999997]
[5.7220000000000004,0.96499999999999997]
[5.7229999999999999,0.96499999999999997]
[5.7240000000000002,0.96499999999999997]
[5.7249999999999996,0.96499999999999997]
[5.726,0.96499999999999997]
[5.7270000000000003,0.96499999999999997]
[5.7279999999999998,0.96499999999999997]
[5.7290000000000001,0.96499999999999997]
[5.73,0.96499999999999997]
[5.7309999999999999,0.96499999999999997]
[5.7320000000000002,0.96499999999999997]
[5.7329999999999997,0.96499999999999997]
[5.734,0.96499999999999997]
[5.7350000000000003,0.96499999999999997]
[5.7359999999999998,0.96499999999999997]
[5.7370000000000001,0.96499999999999997]
[5.7380000000000004,0.96499999999999997]
[5.7389999999999999,0.96499999999999997]
[5.74,0.96499999999999997]
[5.7409999999999997,0.96499999999999997]
[5.742,0.96499999999999997]
[5.7430000000000003,0.96499999999999997]
[5.7439999999999998,0.96499999999999997]
[5.7450000000000001,0.96499999999999997]
[5.7460000000000004,0.96499999999999997]
[5.7469999999999999,0.96499999999999997]
[5.7480000000000002,0.96499999999999997]
[5.7489999999999997,0.96499999999999997]
[5.75,0.96499999999999997]
[5.7510000000000003,0.96499999999999997]
[5.7519999999999998,0.96499999999999997]
[5.7530000000000001,0.96499999999999997]
[5.7539999999999996,0.96499999999999997]
[5.7549999999999999,0.96499999999999997]
[5.7560000000000002,0.96499999999999997]
[5.7569999999999997,0.96499999999999997]
[5.758,0.96499999999999997]
[5.7590000000000003,0.96499999999999997]
[5.76,0.96499999999999997]
[5.7610000000000001,0.96499999999999997]
[5.7619999999999996,0.96499999999999997]
[5.7629999999999999,0.96499999999999997]
[5.7640000000000002,0.96499999999999997]
[5.7649999999999997,0.96499999999999997]
[5.766,0.96499999999999997]
[5.7670000000000003,0.96499999999999997]
[5.7679999999999998,0.96499999999999997]
[5.7690000000000001,0.96499999999999997]
[5.77,0.96499999999999997]
[5.7709999999999999,0.96499999999999997]
[5.7720000000000002,0.96499999999999997]
[5.7729999999999997,0.96499999999999997]
[5.774,0.96499999999999997]
[5.7750000000000004,0.96499999999999997]
[5.7759999999999998,0.96499999999999997]
[5.7770000000000001,0.96499999999999997]
[5.7779999999999996,0.96499999999999997]
[5.7789999999999999,0.96499999999999997]
[5.78,0.96499999999999997]
[5.7809999999999997,0.96499999999999997]
[5.782,0.96499999999999997]
[5.7830000000000004,0.96499999999999997]
[5.7839999999999998,0.96499999999999997]
[5.7850000000000001,0.96499999999999997]
[5.7859999999999996,0.96499999999999997]
[5.7869999999999999,0.96499999999999997]
[5.7880000000000003,0.96499999999999997]
[5.7889999999999997,0.96499999999999997]
[5.79,0.96499999999999997]
[5.7910000000000004,0.96499999999999997]
[5.7919999999999998,0.96499999999999997]
[5.7930000000000001,0.96499999999999997]
[5.7939999999999996,0.96499999999999997]
[5.7949999999999999,0.96499999999999997]
[5.7960000000000003,0.96499999999999997]
[5.7969999999999997,0.96499999999999997]
[5.798,0.96499999999999997]
[5.7990000000000004,0.96499999999999997]
[5.8,0.96499999999999997]
[5.8010000000000002,0.96499999999999997]
[5.8019999999999996,0.96499999999999997]
[5.8029999999999999,0.96499999999999997]
[5.8040000000000003,0.96499999999999997]
[5.8049999999999997,0.96499999999999997]
[5.806,0.96499999999999997]
[5.8070000000000004,0.96499999999999997]
[5.8079999999999998,0.96499999999999997]
[5.8090000000000002,0.96499999999999997]
[5.81,0.96499999999999997]
[5.8109999999999999,0.96499999999999997]
[5.8120000000000003,0.96499999999999997]
[5.8129999999999997,0.96499999999999997]
[5.8140000000000001,0.96499999999999997]
[5.8150000000000004,0.96499999999999997]
[5.8159999999999998,0.96499999999999997]
[5.8170000000000002,0.96499999999999997]
[5.8179999999999996,0.96499999999999997]
[5.819,0.96499999999999997]
[5.82,0.96499999999999997]
[5.8209999999999997,0.96499999999999997]
[5.8220000000000001,0.96499999999999997]
[5.8230000000000004,0.96499999999999997]
[5.8239999999999998,0.96499999999999997]
[5.8250000000000002,0.96499999999999997]
[5.8259999999999996,0.96499999999999997]
[5.827,0.96499999999999997]
[5.8280000000000003,0.96499999999999997]
[5.8289999999999997,0.96499999999999997]
[5.83,0.96499999999999997]
[5.8310000000000004,0.96499999999999997]
[5.8319999999999999,0.96499999999999997]
[5.8330000000000002,0.96499999999999997]
[5.8339999999999996,0.96499999999999997]
[5.835,0.96499999999999997]
[5.8360000000000003,0.96499999999999997]
[5.8369999999999997,0.96499999999999997]
[5.8380000000000001,0.96499999999999997]
[5.8390000000000004,0.96499999999999997]
[5.84,0.96499999999999997]
[5.8410000000000002,0.96499999999999997]
[5.8419999999999996,0.96499999999999997]
[5.843,0.96499999999999997]
[5.8440000000000003,0.96499999999999997]
[5.8449999999999998,0.96499999999999997]
[5.8460000000000001,0.96499999999999997]
[5.8470000000000004,0.96499999999999997]
[5.8479999999999999,0.96499999999999997]
[5.8490000000000002,0.96499999999999997]
[5.85,0.96499999999999997]
[5.851,0.96499999999999997]
[5.8520000000000003,0.96499999999999997]
[5.8529999999999998,0.96499999999999997]
[5.8540000000000001,0.96499999999999997]
[5.8550000000000004,0.96499999999999997]
[5.8559999999999999,0.96499999999999997]
[5.8570000000000002,0.96499999999999997]
[5.8579999999999997,0.96499999999999997]
[5.859,0.96499999999999997]
[5.86,0.96499999999999997]
[5.8609999999999998,0.96499999999999997]
[5.8620000000000001,0.96499999999999997]
[5.8630000000000004,0.96499999999999997]
[5.8639999999999999,0.96499999999999997]
[5.8650000000000002,0.96499999999999997]
[5.8659999999999997,0.96499999999999997]
[5.867,0.96499999999999997]
[5.8680000000000003,0.96499999999999997]
[5.8689999999999998,0.96499999999999997]
[5.87,0.96499999999999997]
[5.8710000000000004,0.96499999999999997]
[5.8719999999999999,0.96499999999999997]
[5.8730000000000002,0.96499999999999997]
[5.8739999999999997,0.96499999999999997]
[5.875,0.96499999999999997]
[5.8760000000000003,0.96499999999999997]
[5.8769999999999998,0.96499999999999997]
[5.8780000000000001,0.96499999999999997]
[5.8789999999999996,0.96499999999999997]
[5.88,0.96499999999999997]
[5.8810000000000002,0.96499999999999997]
[5.8819999999999997,0.96499999999999997]
[5.883,0.96499999999999997]
[5.8840000000000003,0.96499999999999997]
[5.8849999999999998,0.96499999999999997]
[5.8860000000000001,0.96499999999999997]
[5.8869999999999996,0.96499999999999997]
[5.8879999999999999,0.96499999999999997]
[5.8890000000000002,0.96499999999999997]
[5.89,0.96499999999999997]
[5.891,0.96499999999999997]
[5.8920000000000003,0.96499999999999997]
[5.8929999999999998,0.96499999999999997]
[5.8940000000000001,0.96499999999999997]
[5.8949999999999996,0.96499999999999997]
[5.8959999999999999,0.96499999999999997]
[5.8970000000000002,0.96499999999999997]
[5.8979999999999997,0.96499999999999997]
[5.899,0.96499999999999997]
[5.9,0.96499999999999997]
[5.9009999999999998,0.96499999999999997]
[5.9020000000000001,0.96499999999999997]
[5.9029999999999996,0.96499999999999997]
[5.9039999999999999,0.96499999999999997]
[5.9050000000000002,0.96499999999999997]
[5.9059999999999997,0.96499999999999997]
[5.907,0.96499999999999997]
[5.9080000000000004,0.96499999999999997]
[5.9089999999999998,0.96499999999999997]
[5.91,0.96499999999999997]
[5.9109999999999996,0.96499999999999997]
[5.9119999999999999,0.96499999999999997]
[5.9130000000000003,0.96499999999999997]
[5.9139999999999997,0.96499999999999997]
[5.915,0.96499999999999997]
[5.9160000000000004,0.96499999999999997]
[5.9169999999999998,0.96499999999999997]
[5.9180000000000001,0.96499999999999997]
[5.9189999999999996,0.96499999999999997]
[5.92,0.96499999999999997]
[5.9210000000000003,0.96499999999999997]
[5.9219999999999997,0.96499999999999997]
[5.923,0.96499999999999997]
[5.9240000000000004,0.96499999999999997]
[5.9249999999999998,0.96499999999999997]
[5.9260000000000002,0.96499999999999997]
[5.9269999999999996,0.96499999999999997]
[5.9279999999999999,0.96499999999999997]
[5.9290000000000003,0.96499999999999997]
[5.93,0.96499999999999997]
[5.931,0.96499999999999997]
[5.9320000000000004,0.96499999999999997]
[5.9329999999999998,0.96499999999999997]
[5.9340000000000002,0.96499999999999997]
[5.9349999999999996,0.96499999999999997]
[5.9359999999999999,0.96499999999999997]
[5.9370000000000003,0.96499999999999997]
[5.9379999999999997,0.96499999999999997]
[5.9390000000000001,0.96499999999999997]
[5.94,0.96499999999999997]
[5.9409999999999998,0.96499999999999997]
[5.9420000000000002,0.96499999999999997]
[5.9429999999999996,0.96499999999999997]
[5.944,0.96499999999999997]
[5.9450000000000003,0.96499999999999997]
[5.9459999999999997,0.96499999999999997]
[5.9470000000000001,0.96499999999999997]
[5.9480000000000004,0.96499999999999997]
[5.9489999999999998,0.96499999999999997]
[5.95,0.96499999999999997]
[5.9509999999999996,0.96499999999999997]
[5.952,0.96499999999999997]
[5.9530000000000003,0.96499999999999997]
[5.9539999999999997,0.96499999999999997]
[5.9550000000000001,0.96499999999999997]
[5.9560000000000004,0.96499999999999997]
[5.9569999999999999,0.96499999999999997]
[5.9580000000000002,0.96499999999999997]
[5.9589999999999996,0.96499999999999997]
[5.96,0.96499999999999997]
[5.9610000000000003,0.96499999999999997]
[5.9619999999999997,0.96499999999999997]
[5.9630000000000001,0.96499999999999997]
[5.9640000000000004,0.96499999999999997]
[5.9649999999999999,0.96499999999999997]
[5.9660000000000002,0.96499999999999997]
[5.9669999999999996,0.96499999999999997]
[5.968,0.96499999999999997]
[5.9690000000000003,0.96499999999999997]
[5.97,0.96499999999999997]
[5.9710000000000001,0.96499999999999997]
[5.9720000000000004,0.96499999999999997]
[5.9729999999999999,0.96499999999999997]
[5.9740000000000002,0.96499999999999997]
[5.9749999999999996,0.96499999999999997]
[5.976,0.96499999999999997]
[5.9770000000000003,0.96499999999999997]
[5.9779999999999998,0.96499999999999997]
[5.9790000000000001,0.96499999999999997]
[5.98,0.96499999999999997]
[5.9809999999999999,0.96499999999999997]
[5.9820000000000002,0.96499999999999997]
[5.9829999999999997,0.96499999999999997]
[5.984,0.96499999999999997]
[5.9850000000000003,0.96499999999999997]
[5.9859999999999998,0.96499999999999997]
[5.9870000000000001,0.96499999999999997]
[5.9880000000000004,0.96499999999999997]
[5.9889999999999999,0.96499999999999997]
[5.99,0.96499999999999997]
[5.9909999999999997,0.96499999999999997]
[5.992,0.96499999999999997]
[5.9930000000000003,0.96499999999999997]
[5.9939999999999998,0.96499999999999997]
[5.9950000000000001,0.96499999999999997]
[5.9960000000000004,0.96499999999999997]
[5.9969999999999999,0.96499999999999997]
[5.9980000000000002,0.96499999999999997]
[5.9989999999999997,0.96499999999999997]
[6,0.96499999999999997]
[6.0010000000000003,0.96499999999999997]
[6.0019999999999998,0.96499999999999997]
[6.0030000000000001,0.96499999999999997]
[6.0039999999999996,0.96499999999999997]
[6.0049999999999999,0.96499999999999997]
[6.0060000000000002,0.96499999999999997]
[6.0069999999999997,0.96499999999999997]
[6.008,0.96499999999999997]
[6.0090000000000003,0.96499999999999997]
[6.01,0.96499999999999997]
[6.0110000000000001,0.96499999999999997]
[6.0119999999999996,0.96499999999999997]
[6.0129999999999999,0.96499999999999997]
[6.0140000000000002,0.96499999999999997]
[6.0149999999999997,0.96499999999999997]
[6.016,0.96499999999999997]
[6.0170000000000003,0.96499999999999997]
[6.0179999999999998,0.96499999999999997]
[6.0190000000000001,0.96499999999999997]
[6.02,0.96499999999999997]
[6.0209999999999999,0.96499999999999997]
[6.0220000000000002,0.96499999999999997]
[6.0229999999999997,0.96499999999999997]
[6.024,0.96499999999999997]
[6.0250000000000004,0.96499999999999997]
[6.0259999999999998,0.96499999999999997]
[6.0270000000000001,0.96499999999999997]
[6.0279999999999996,0.96499999999999997]
[6.0289999999999999,0.96499999999999997]
[6.03,0.96499999999999997]
[6.0309999999999997,0.96499999999999997]
[6.032,0.96499999999999997]
[6.0330000000000004,0.96499999999999997]
[6.0339999999999998,0.96499999999999997]
[6.0350000000000001,0.96499999999999997]
[6.0359999999999996,0.96499999999999997]
[6.0369999999999999,0.96499999999999997]
[6.0380000000000003,0.96499999999999997]
[6.0389999999999997,0.96499999999999997]
[6.04,0.96499999999999997]
[6.0410000000000004,0.96499999999999997]
[6.0419999999999998,0.96499999999999997]
[6.0430000000000001,0.96499999999999997]
[6.0439999999999996,0.96499999999999997]
[6.0449999999999999,0.96499999999999997]
[6.0460000000000003,0.96499999999999997]
[6.0469999999999997,0.96499999999999997]
[6.048,0.96499999999999997]
[6.0490000000000004,0.96499999999999997]
[6.05,0.96499999999999997]
[6.0510000000000002,0.96499999999999997]
[6.0519999999999996,0.96499999999999997]
[6.0529999999999999,0.96499999999999997]
[6.0540000000000003,0.96499999999999997]
[6.0549999999999997,0.96499999999999997]
[6.056,0.96499999999999997]
[6.0570000000000004,0.96499999999999997]
[6.0579999999999998,0.96499999999999997]
[6.0590000000000002,0.96499999999999997]
[6.06,0.96499999999999997]
[6.0609999999999999,0.96499999999999997]
[6.0620000000000003,0.96499999999999997]
[6.0629999999999997,0.96499999999999997]
[6.0640000000000001,0.96499999999999997]
[6.0650000000000004,0.96499999999999997]
[6.0659999999999998,0.96499999999999997]
[6.0670000000000002,0.96499999999999997]
[6.0679999999999996,0.96499999999999997]
[6.069,0.96499999999999997]
[6.07,0.96499999999999997]
[6.0709999999999997,0.96499999999999997]
[6.0720000000000001,0.96499999999999997]
[6.0730000000000004,0.96499999999999997]
[6.0739999999999998,0.96499999999999997]
[6.0750000000000002,0.96499999999999997]
[6.0759999999999996,0.96499999999999997]
[6.077,0.96499999999999997]
[6.0780000000000003,0.96499999999999997]
[6.0789999999999997,0.96499999999999997]
[6.08,0.96499999999999997]
[6.0810000000000004,0.96499999999999997]
[6.0819999999999999,0.96499999999999997]
[6.0830000000000002,0.96499999999999997]
[6.0839999999999996,0.96499999999999997]
[6.085,0.96499999999999997]
[6.0860000000000003,0.96499999999999997]
[6.0869999999999997,0.96499999999999997]
[6.0880000000000001,0.96499999999999997]
[6.0890000000000004,0.96499999999999997]
[6.09,0.96499999999999997]
[6.0910000000000002,0.96499999999999997]
[6.0919999999999996,0.96499999999999997]
[6.093,0.96499999999999997]
[6.0940000000000003,0.96499999999999997]
[6.0949999999999998,0.96499999999999997]
[6.0960000000000001,0.96499999999999997]
[6.0970000000000004,0.96499999999999997]
[6.0979999999999999,0.96499999999999997]
[6.0990000000000002,0.96499999999999997]
[6.1,0.96499999999999997]
[6.101,0.96499999999999997]
[6.1020000000000003,0.96499999999999997]
[6.1029999999999998,0.96499999999999997]
[6.1040000000000001,0.96499999999999997]
[6.1050000000000004,0.96499999999999997]
[6.1059999999999999,0.96499999999999997]
[6.1070000000000002,0.96499999999999997]
[6.1079999999999997,0.96499999999999997]
[6.109,0.96499999999999997]
[6.11,0.96499999999999997]
[6.1109999999999998,0.96499999999999997]
[6.1120000000000001,0.96499999999999997]
[6.1130000000000004,0.96499999999999997]
[6.1139999999999999,0.96499999999999997]
[6.1150000000000002,0.96499999999999997]
[6.1159999999999997,0.96499999999999997]
[6.117,0.96499999999999997]
[6.1180000000000003,0.96499999999999997]
[6.1189999999999998,0.96499999999999997]
[6.12,0.96499999999999997]
[6.1210000000000004,0.96499999999999997]
[6.1219999999999999,0.96499999999999997]
[6.1230000000000002,0.96499999999999997]
[6.1239999999999997,0.96499999999999997]
[6.125,0.96499999999999997]
[6.1260000000000003,0.96499999999999997]
[6.1269999999999998,0.96499999999999997]
[6.1280000000000001,0.96499999999999997]
[6.1289999999999996,0.96499999999999997]
[6.13,0.96499999999999997]
[6.1310000000000002,0.96499999999999997]
[6.1319999999999997,0.96499999999999997]
[6.133,0.96499999999999997]
[6.1340000000000003,0.96499999999999997]
[6.1349999999999998,0.96499999999999997]
[6.1360000000000001,0.96499999999999997]
[6.1369999999999996,0.96499999999999997]
[6.1379999999999999,0.96499999999999997]
[6.1390000000000002,0.96499999999999997]
[6.14,0.96499999999999997]
[6.141,0.96499999999999997]
[6.1420000000000003,0.96499999999999997]
[6.1429999999999998,0.96499999999999997]
[6.1440000000000001,0.96499999999999997]
[6.1449999999999996,0.96499999999999997]
[6.1459999999999999,0.96499999999999997]
[6.1470000000000002,0.96499999999999997]
[6.1479999999999997,0.96499999999999997]
[6.149,0.96499999999999997]
[6.15,0.96499999999999997]
[6.1509999999999998,0.96499999999999997]
[6.1520000000000001,0.96499999999999997]
[6.1529999999999996,0.96499999999999997]
[6.1539999999999999,0.96499999999999997]
[6.1550000000000002,0.96499999999999997]
[6.1559999999999997,0.96499999999999997]
[6.157,0.96499999999999997]
[6.1580000000000004,0.96499999999999997]
[6.1589999999999998,0.96499999999999997]
[6.16,0.96499999999999997]
[6.1609999999999996,0.96499999999999997]
[6.1619999999999999,0.96499999999999997]
[6.1630000000000003,0.96499999999999997]
[6.1639999999999997,0.96499999999999997]
[6.165,0.96499999999999997]
[6.1660000000000004,0.96499999999999997]
[6.1669999999999998,0.96499999999999997]
[6.1680000000000001,0.96499999999999997]
[6.1689999999999996,0.96499999999999997]
[6.17,0.96499999999999997]
[6.1710000000000003,0.96499999999999997]
[6.1719999999999997,0.96499999999999997]
[6.173,0.96499999999999997]
[6.1740000000000004,0.96499999999999997]
[6.1749999999999998,0.96499999999999997]
[6.1760000000000002,0.96499999999999997]
[6.1769999999999996,0.96499999999999997]
[6.1779999999999999,0.96499999999999997]
[6.1790000000000003,0.96499999999999997]
[6.18,0.96499999999999997]
[6.181,0.96499999999999997]
[6.1820000000000004,0.96499999999999997]
[6.1829999999999998,0.96499999999999997]
[6.1840000000000002,0.96499999999999997]
[6.1849999999999996,0.96499999999999997]
[6.1859999999999999,0.96499999999999997]
[6.1870000000000003,0.96499999999999997]
[6.1879999999999997,0.96499999999999997]
[6.1890000000000001,0.96499999999999997]
[6.19,0.96499999999999997]
[6.1909999999999998,0.96499999999999997]
[6.1920000000000002,0.96499999999999997]
[6.1929999999999996,0.96499999999999997]
[6.194,0.96499999999999997]
[6.1950000000000003,0.96499999999999997]
[6.1959999999999997,0.96499999999999997]
[6.1970000000000001,0.96499999999999997]
[6.1980000000000004,0.96499999999999997]
[6.1989999999999998,0.96499999999999997]
[6.2,0.96499999999999997]
[6.2009999999999996,0.96499999999999997]
[6.202,0.96499999999999997]
[6.2030000000000003,0.96499999999999997]
[6.2039999999999997,0.96499999999999997]
[6.2050000000000001,0.96499999999999997]
[6.2060000000000004,0.96499999999999997]
[6.2069999999999999,0.96499999999999997]
[6.2080000000000002,0.96499999999999997]
[6.2089999999999996,0.96499999999999997]
[6.21,0.96499999999999997]
[6.2110000000000003,0.96499999999999997]
[6.2119999999999997,0.96499999999999997]
[6.2130000000000001,0.96499999999999997]
[6.2140000000000004,0.96499999999999997]
[6.2149999999999999,0.96499999999999997]
[6.2160000000000002,0.96499999999999997]
[6.2169999999999996,0.96499999999999997]
[6.218,0.96499999999999997]
[6.2190000000000003,0.96499999999999997]
[6.22,0.96499999999999997]
[6.2210000000000001,0.96499999999999997]
[6.2220000000000004,0.96499999999999997]
[6.2229999999999999,0.96499999999999997]
[6.2240000000000002,0.96499999999999997]
[6.2249999999999996,0.96499999999999997]
[6.226,0.96499999999999997]
[6.2270000000000003,0.96499999999999997]
[6.2279999999999998,0.96499999999999997]
[6.2290000000000001,0.96499999999999997]
[6.23,0.96499999999999997]
[6.2309999999999999,0.96499999999999997]
[6.2320000000000002,0.96499999999999997]
[6.2329999999999997,0.96499999999999997]
[6.234,0.96499999999999997]
[6.2350000000000003,0.96499999999999997]
[6.2359999999999998,0.96499999999999997]
[6.2370000000000001,0.96499999999999997]
[6.2380000000000004,0.96499999999999997]
[6.2389999999999999,0.96499999999999997]
[6.24,0.96499999999999997]
[6.2409999999999997,0.96499999999999997]
[6.242,0.96499999999999997]
[6.2430000000000003,0.96499999999999997]
[6.2439999999999998,0.96499999999999997]
[6.2450000000000001,0.96499999999999997]
[6.2460000000000004,0.96499999999999997]
[6.2469999999999999,0.96499999999999997]
[6.2480000000000002,0.96499999999999997]
[6.2489999999999997,0.96499999999999997]
[6.25,0.96499999999999997]
[6.2510000000000003,0.96499999999999997]
[6.2519999999999998,0.96499999999999997]
[6.2530000000000001,0.96499999999999997]
[6.2539999999999996,0.96499999999999997]
[6.2549999999999999,0.96499999999999997]
[6.2560000000000002,0.96499999999999997]
[6.2569999999999997,0.96499999999999997]
[6.258,0.96499999999999997]
[6.2590000000000003,0.96499999999999997]
[6.26,0.96499999999999997]
[6.2610000000000001,0.96499999999999997]
[6.2619999999999996,0.96499999999999997]
[6.2629999999999999,0.96499999999999997]
[6.2640000000000002,0.96499999999999997]
[6.2649999999999997,0.96499999999999997]
[6.266,0.96499999999999997]
[6.2670000000000003,0.96499999999999997]
[6.2679999999999998,0.96499999999999997]
[6.2690000000000001,0.96499999999999997]
[6.27,0.96499999999999997]
[6.2709999999999999,0.96499999999999997]
[6.2720000000000002,0.96499999999999997]
[6.2729999999999997,0.96499999999999997]
[6.274,0.96499999999999997]
[6.2750000000000004,0.96499999999999997]
[6.2759999999999998,0.96499999999999997]
[6.2770000000000001,0.96499999999999997]
[6.2779999999999996,0.96499999999999997]
[6.2789999999999999,0.96499999999999997]
[6.28,0.96499999999999997]
[6.2809999999999997,0.96499999999999997]
[6.282,0.96499999999999997]
[6.2830000000000004,0.96499999999999997]
[6.2839999999999998,0.96499999999999997]
[6.2850000000000001,0.96499999999999997]
[6.2859999999999996,0.96499999999999997]
[6.2869999999999999,0.96499999999999997]
[6.2880000000000003,0.96499999999999997]
[6.2889999999999997,0.96499999999999997]
[6.29,0.96499999999999997]
[6.2910000000000004,0.96499999999999997]
[6.2919999999999998,0.96499999999999997]
[6.2930000000000001,0.96499999999999997]
[6.2939999999999996,0.96499999999999997]
[6.2949999999999999,0.96499999999999997]
[6.2960000000000003,0.96499999999999997]
[6.2969999999999997,0.96499999999999997]
[6.298,0.96499999999999997]
[6.2990000000000004,0.96499999999999997]
[6.3,0.96499999999999997]
[6.3010000000000002,0.96499999999999997]
[6.3019999999999996,0.96499999999999997]
[6.3029999999999999,0.96499999999999997]
[6.3040000000000003,0.96499999999999997]
[6.3049999999999997,0.96499999999999997]
[6.306,0.96499999999999997]
[6.3070000000000004,0.96499999999999997]
[6.3079999999999998,0.96499999999999997]
[6.3090000000000002,0.96499999999999997]
[6.31,0.96499999999999997]
[6.3109999999999999,0.96499999999999997]
[6.3120000000000003,0.96499999999999997]
[6.3129999999999997,0.96499999999999997]
[6.3140000000000001,0.96499999999999997]
[6.3150000000000004,0.96499999999999997]
[6.3159999999999998,0.96499999999999997]
[6.3170000000000002,0.96499999999999997]
[6.3179999999999996,0.96499999999999997]
[6.319,0.96499999999999997]
[6.32,0.96499999999999997]
[6.3209999999999997,0.96499999999999997]
[6.3220000000000001,0.96499999999999997]
[6.3230000000000004,0.96499999999999997]
[6.3239999999999998,0.96499999999999997]
[6.3250000000000002,0.96499999999999997]
[6.3259999999999996,0.96499999999999997]
[6.327,0.96499999999999997]
[6.3280000000000003,0.96499999999999997]
[6.3289999999999997,0.96499999999999997]
[6.33,0.96499999999999997]
[6.3310000000000004,0.96499999999999997]
[6.3319999999999999,0.96499999999999997]
[6.3330000000000002,0.96499999999999997]
[6.3339999999999996,0.96499999999999997]
[6.335,0.96499999999999997]
[6.3360000000000003,0.96499999999999997]
[6.3369999999999997,0.96499999999999997]
[6.3380000000000001,0.96499999999999997]
[6.3390000000000004,0.96499999999999997]
[6.34,0.96499999999999997]
[6.3410000000000002,0.96499999999999997]
[6.3419999999999996,0.96499999999999997]
[6.343,0.96499999999999997]
[6.3440000000000003,0.96499999999999997]
[6.3449999999999998,0.96499999999999997]
[6.3460000000000001,0.96499999999999997]
[6.3470000000000004,0.96499999999999997]
[6.3479999999999999,0.96499999999999997]
[6.3490000000000002,0.96499999999999997]
[6.35,0.96499999999999997]
[6.351,0.96499999999999997]
[6.3520000000000003,0.96499999999999997]
[6.3529999999999998,0.96499999999999997]
[6.3540000000000001,0.96499999999999997]
[6.3550000000000004,0.96499999999999997]
[6.3559999999999999,0.96499999999999997]
[6.3570000000000002,0.96499999999999997]
[6.3579999999999997,0.96499999999999997]
[6.359,0.96499999999999997]
[6.36,0.96499999999999997]
[6.3609999999999998,0.96499999999999997]
[6.3620000000000001,0.96499999999999997]
[6.3630000000000004,0.96499999999999997]
[6.3639999999999999,0.96499999999999997]
[6.3650000000000002,0.96499999999999997]
[6.3659999999999997,0.96499999999999997]
[6.367,0.96499999999999997]
[6.3680000000000003,0.96499999999999997]
[6.3689999999999998,0.96499999999999997]
[6.37,0.96499999999999997]
[6.3710000000000004,0.96499999999999997]
[6.3719999999999999,0.96499999999999997]
[6.3730000000000002,0.96499999999999997]
[6.3739999999999997,0.96499999999999997]
[6.375,0.96499999999999997]
[6.3760000000000003,0.96499999999999997]
[6.3769999999999998,0.96499999999999997]
[6.3780000000000001,0.96499999999999997]
[6.3789999999999996,0.96499999999999997]
[6.38,0.96499999999999997]
[6.3810000000000002,0.96499999999999997]
[6.3819999999999997,0.96499999999999997]
[6.383,0.96499999999999997]
[6.3840000000000003,0.96499999999999997]
[6.3849999999999998,0.96499999999999997]
[6.3860000000000001,0.96499999999999997]
[6.3869999999999996,0.96499999999999997]
[6.3879999999999999,0.96499999999999997]
[6.3890000000000002,0.96499999999999997]
[6.39,0.96499999999999997]
[6.391,0.96499999999999997]
[6.3920000000000003,0.96499999999999997]
[6.3929999999999998,0.96499999999999997]
[6.3940000000000001,0.96499999999999997]
[6.3949999999999996,0.96499999999999997]
[6.3959999999999999,0.96499999999999997]
[6.3970000000000002,0.96499999999999997]
[6.3979999999999997,0.96499999999999997]
[6.399,0.96499999999999997]
[6.4,0.96499999999999997]
[6.4009999999999998,0.96499999999999997]
[6.4020000000000001,0.96499999999999997]
[6.4029999999999996,0.96499999999999997]
[6.4039999999999999,0.96499999999999997]
[6.4050000000000002,0.96499999999999997]
[6.4059999999999997,0.96499999999999997]
[6.407,0.96499999999999997]
[6.4080000000000004,0.96499999999999997]
[6.4089999999999998,0.96499999999999997]
[6.41,0.96499999999999997]
[6.4109999999999996,0.96499999999999997]
[6.4119999999999999,0.96499999999999997]
[6.4130000000000003,0.96499999999999997]
[6.4139999999999997,0.96499999999999997]
[6.415,0.96499999999999997]
[6.4160000000000004,0.96499999999999997]
[6.4169999999999998,0.96499999999999997]
[6.4180000000000001,0.96499999999999997]
[6.4189999999999996,0.96499999999999997]
[6.42,0.96499999999999997]
[6.4210000000000003,0.96499999999999997]
[6.4219999999999997,0.96499999999999997]
[6.423,0.96499999999999997]
[6.4240000000000004,0.96499999999999997]
[6.4249999999999998,0.96499999999999997]
[6.4260000000000002,0.96499999999999997]
[6.4269999999999996,0.96499999999999997]
[6.4279999999999999,0.96499999999999997]
[6.4290000000000003,0.96499999999999997]
[6.43,0.96499999999999997]
[6.431,0.96499999999999997]
[6.4320000000000004,0.96499999999999997]
[6.4329999999999998,0.96499999999999997]
[6.4340000000000002,0.96499999999999997]
[6.4349999999999996,0.96499999999999997]
[6.4359999999999999,0.96499999999999997]
[6.4370000000000003,0.96499999999999997]
[6.4379999999999997,0.96499999999999997]
[6.4390000000000001,0.96499999999999997]
[6.44,0.96499999999999997]
[6.4409999999999998,0.96499999999999997]
[6.4420000000000002,0.96499999999999997]
[6.4429999999999996,0.96499999999999997]
[6.444,0.96499999999999997]
[6.4450000000000003,0.96499999999999997]
[6.4459999999999997,0.96499999999999997]
[6.4470000000000001,0.96499999999999997]
[6.4480000000000004,0.96499999999999997]
[6.4489999999999998,0.96499999999999997]
[6.45,0.96499999999999997]
[6.4509999999999996,0.96499999999999997]
[6.452,0.96499999999999997]
[6.4530000000000003,0.96499999999999997]
[6.4539999999999997,0.96499999999999997]
[6.4550000000000001,0.96499999999999997]
[6.4560000000000004,0.96499999999999997]
[6.4569999999999999,0.96499999999999997]
[6.4580000000000002,0.96499999999999997]
[6.4589999999999996,0.96499999999999997]
[6.46,0.96499999999999997]
[6.4610000000000003,0.96499999999999997]
[6.4619999999999997,0.96499999999999997]
[6.4630000000000001,0.96499999999999997]
[6.4640000000000004,0.96499999999999997]
[6.4649999999999999,0.96499999999999997]
[6.4660000000000002,0.96499999999999997]
[6.4669999999999996,0.96499999999999997]
[6.468,0.96499999999999997]
[6.4690000000000003,0.96499999999999997]
[6.47,0.96499999999999997]
[6.4710000000000001,0.96499999999999997]
[6.4720000000000004,0.96499999999999997]
[6.4729999999999999,0.96499999999999997]
[6.4740000000000002,0.96499999999999997]
[6.4749999999999996,0.96499999999999997]
[6.476,0.96499999999999997]
[6.4770000000000003,0.96499999999999997]
[6.4779999999999998,0.96499999999999997]
[6.4790000000000001,0.96499999999999997]
[6.48,0.96499999999999997]
[6.4809999999999999,0.96499999999999997]
[6.4820000000000002,0.96499999999999997]
[6.4829999999999997,0.96499999999999997]
[6.484,0.96499999999999997]
[6.4850000000000003,0.96499999999999997]
[6.4859999999999998,0.96499999999999997]
[6.4870000000000001,0.96499999999999997]
[6.4880000000000004,0.96499999999999997]
[6.4889999999999999,0.96499999999999997]
[6.49,0.96499999999999997]
[6.4909999999999997,0.96499999999999997]
[6.492,0.96499999999999997]
[6.4930000000000003,0.96499999999999997]
[6.4939999999999998,0.96499999999999997]
[6.4950000000000001,0.96499999999999997]
[6.4960000000000004,0.96499999999999997]
[6.4969999999999999,0.96499999999999997]
[6.4980000000000002,0.96499999999999997]
[6.4989999999999997,0.96499999999999997]
[6.5,0.96499999999999997]
[6.5010000000000003,0.96499999999999997]
[6.5019999999999998,0.96499999999999997]
[6.5030000000000001,0.96499999999999997]
[6.5039999999999996,0.96499999999999997]
[6.5049999999999999,0.96499999999999997]
[6.5060000000000002,0.96499999999999997]
[6.5069999999999997,0.96499999999999997]
[6.508,0.96499999999999997]
[6.5090000000000003,0.96499999999999997]
[6.51,0.96499999999999997]
[6.5110000000000001,0.96499999999999997]
[6.5119999999999996,0.96499999999999997]
[6.5129999999999999,0.96499999999999997]
[6.5140000000000002,0.96499999999999997]
[6.5149999999999997,0.96499999999999997]
[6.516,0.96499999999999997]
[6.5170000000000003,0.96499999999999997]
[6.5179999999999998,0.96499999999999997]
[6.5190000000000001,0.96499999999999997]
[6.52,0.96499999999999997]
[6.5209999999999999,0.96499999999999997]
[6.5220000000000002,0.96499999999999997]
[6.5229999999999997,0.96499999999999997]
[6.524,0.96499999999999997]
[6.5250000000000004,0.96499999999999997]
[6.5259999999999998,0.96499999999999997]
[6.5270000000000001,0.96499999999999997]
[6.5279999999999996,0.96499999999999997]
[6.5289999999999999,0.96499999999999997]
[6.53,0.96499999999999997]
[6.5309999999999997,0.96499999999999997]
[6.532,0.96499999999999997]
[6.5330000000000004,0.96499999999999997]
[6.5339999999999998,0.96499999999999997]
[6.5350000000000001,0.96499999999999997]
[6.5359999999999996,0.96499999999999997]
[6.5369999999999999,0.96499999999999997]
[6.5380000000000003,0.96499999999999997]
[6.5389999999999997,0.96499999999999997]
[6.54,0.96499999999999997]
[6.5410000000000004,0.96499999999999997]
[6.5419999999999998,0.96499999999999997]
[6.5430000000000001,0.96499999999999997]
[6.5439999999999996,0.96499999999999997]
[6.5449999999999999,0.96499999999999997]
[6.5460000000000003,0.96499999999999997]
[6.5469999999999997,0.96499999999999997]
[6.548,0.96499999999999997]
[6.5490000000000004,0.96499999999999997]
[6.55,0.96499999999999997]
[6.5510000000000002,0.96499999999999997]
[6.5519999999999996,0.96499999999999997]
[6.5529999999999999,0.96499999999999997]
[6.5540000000000003,0.96499999999999997]
[6.5549999999999997,0.96499999999999997]
[6.556,0.96499999999999997]
[6.5570000000000004,0.96499999999999997]
[6.5579999999999998,0.96499999999999997]
[6.5590000000000002,0.96499999999999997]
[6.56,0.96499999999999997]
[6.5609999999999999,0.96499999999999997]
[6.5620000000000003,0.96499999999999997]
[6.5629999999999997,0.96499999999999997]
[6.5640000000000001,0.96499999999999997]
[6.5650000000000004,0.96499999999999997]
[6.5659999999999998,0.96499999999999997]
[6.5670000000000002,0.96499999999999997]
[6.5679999999999996,0.96499999999999997]
[6.569,0.96499999999999997]
[6.57,0.96499999999999997]
[6.5709999999999997,0.96499999999999997]
[6.5720000000000001,0.96499999999999997]
[6.5730000000000004,0.96499999999999997]
[6.5739999999999998,0.96499999999999997]
[6.5750000000000002,0.96499999999999997]
[6.5759999999999996,0.96499999999999997]
[6.577,0.96499999999999997]
[6.5780000000000003,0.96499999999999997]
[6.5789999999999997,0.96499999999999997]
[6.58,0.96499999999999997]
[6.5810000000000004,0.96499999999999997]
[6.5819999999999999,0.96499999999999997]
[6.5830000000000002,0.96499999999999997]
[6.5839999999999996,0.96499999999999997]
[6.585,0.96499999999999997]
[6.5860000000000003,0.96499999999999997]
[6.5869999999999997,0.96499999999999997]
[6.5880000000000001,0.96499999999999997]
[6.5890000000000004,0.96499999999999997]
[6.59,0.96499999999999997]
[6.5910000000000002,0.96499999999999997]
[6.5919999999999996,0.96499999999999997]
[6.593,0.96499999999999997]
[6.5940000000000003,0.96499999999999997]
[6.5949999999999998,0.96499999999999997]
[6.5960000000000001,0.96499999999999997]
[6.5970000000000004,0.96499999999999997]
[6.5979999999999999,0.96499999999999997]
[6.5990000000000002,0.96499999999999997]
[6.6,0.96499999999999997]
[6.601,0.96499999999999997]
[6.6020000000000003,0.96499999999999997]
[6.6029999999999998,0.96499999999999997]
[6.6040000000000001,0.96499999999999997]
[6.6050000000000004,0.96499999999999997]
[6.6059999999999999,0.96499999999999997]
[6.6070000000000002,0.96499999999999997]
[6.6079999999999997,0.96499999999999997]
[6.609,0.96499999999999997]
[6.61,0.96499999999999997]
[6.6109999999999998,0.96499999999999997]
[6.6120000000000001,0.96499999999999997]
[6.6130000000000004,0.96499999999999997]
[6.6139999999999999,0.96499999999999997]
[6.6150000000000002,0.96499999999999997]
[6.6159999999999997,0.96499999999999997]
[6.617,0.96499999999999997]
[6.6180000000000003,0.96499999999999997]
[6.6189999999999998,0.96499999999999997]
[6.62,0.96499999999999997]
[6.6210000000000004,0.96499999999999997]
[6.6219999999999999,0.96499999999999997]
[6.6230000000000002,0.96499999999999997]
[6.6239999999999997,0.96499999999999997]
[6.625,0.96499999999999997]
[6.6260000000000003,0.96499999999999997]
[6.6269999999999998,0.96499999999999997]
[6.6280000000000001,0.96499999999999997]
[6.6289999999999996,0.96499999999999997]
[6.63,0.96499999999999997]
[6.6310000000000002,0.96499999999999997]
[6.6319999999999997,0.96499999999999997]
[6.633,0.96499999999999997]
[6.6340000000000003,0.96499999999999997]
[6.6349999999999998,0.96499999999999997]
[6.6360000000000001,0.96499999999999997]
[6.6369999999999996,0.96499999999999997]
[6.6379999999999999,0.96499999999999997]
[6.6390000000000002,0.96499999999999997]
[6.64,0.96499999999999997]
[6.641,0.96499999999999997]
[6.6420000000000003,0.96499999999999997]
[6.6429999999999998,0.96499999999999997]
[6.6440000000000001,0.96499999999999997]
[6.6449999999999996,0.96499999999999997]
[6.6459999999999999,0.96499999999999997]
[6.6470000000000002,0.96499999999999997]
[6.6479999999999997,0.96499999999999997]
[6.649,0.96499999999999997]
[6.65,0.96499999999999997]
[6.6509999999999998,0.96499999999999997]
[6.6520000000000001,0.96499999999999997]
[6.6529999999999996,0.96499999999999997]
[6.6539999999999999,0.96499999999999997]
[6.6550000000000002,0.96499999999999997]
[6.6559999999999997,0.96499999999999997]
[6.657,0.96499999999999997]
[6.6580000000000004,0.96499999999999997]
[6.6589999999999998,0.96499999999999997]
[6.66,0.96499999999999997]
[6.6609999999999996,0.96499999999999997]
[6.6619999999999999,0.96499999999999997]
[6.6630000000000003,0.96499999999999997]
[6.6639999999999997,0.96499999999999997]
[6.665,0.96499999999999997]
[6.6660000000000004,0.96499999999999997]
[6.6669999999999998,0.96499999999999997]
[6.6680000000000001,0.96499999999999997]
[6.6689999999999996,0.96499999999999997]
[6.67,0.96499999999999997]
[6.6710000000000003,0.96499999999999997]
[6.6719999999999997,0.96499999999999997]
[6.673,0.96499999999999997]
[6.6740000000000004,0.96499999999999997]
[6.6749999999999998,0.96499999999999997]
[6.6760000000000002,0.96499999999999997]
[6.6769999999999996,0.96499999999999997]
[6.6779999999999999,0.96499999999999997]
[6.6790000000000003,0.96499999999999997]
[6.68,0.96499999999999997]
[6.681,0.96499999999999997]
[6.6820000000000004,0.96499999999999997]
[6.6829999999999998,0.96499999999999997]
[6.6840000000000002,0.96499999999999997]
[6.6849999999999996,0.96499999999999997]
[6.6859999999999999,0.96499999999999997]
[6.6870000000000003,0.96499999999999997]
[6.6879999999999997,0.96499999999999997]
[6.6890000000000001,0.96499999999999997]
[6.69,0.96499999999999997]
[6.6909999999999998,0.96499999999999997]
[6.6920000000000002,0.96499999999999997]
[6.6929999999999996,0.96499999999999997]
[6.694,0.96499999999999997]
[6.6950000000000003,0.96499999999999997]
[6.6959999999999997,0.96499999999999997]
[6.6970000000000001,0.96499999999999997]
[6.6980000000000004,0.96499999999999997]
[6.6989999999999998,0.96499999999999997]
[6.7,0.96499999999999997]
[6.7009999999999996,0.96499999999999997]
[6.702,0.96499999999999997]
[6.7030000000000003,0.96499999999999997]
[6.7039999999999997,0.96499999999999997]
[6.7050000000000001,0.96499999999999997]
[6.7060000000000004,0.96499999999999997]
[6.7069999999999999,0.96499999999999997]
[6.7080000000000002,0.96499999999999997]
[6.7089999999999996,0.96499999999999997]
[6.71,0.96499999999999997]
[6.7110000000000003,0.96499999999999997]
[6.7119999999999997,0.96499999999999997]
[6.7130000000000001,0.96499999999999997]
[6.7140000000000004,0.96499999999999997]
[6.7149999999999999,0.96499999999999997]
[6.7160000000000002,0.96499999999999997]
[6.7169999999999996,0.96499999999999997]
[6.718,0.96499999999999997]
[6.7190000000000003,0.96499999999999997]
[6.72,0.96499999999999997]
[6.7210000000000001,0.96499999999999997]
[6.7220000000000004,0.96499999999999997]
[6.7229999999999999,0.96499999999999997]
[6.7240000000000002,0.96499999999999997]
[6.7249999999999996,0.96499999999999997]
[6.726,0.96499999999999997]
[6.7270000000000003,0.96499999999999997]
[6.7279999999999998,0.96499999999999997]
[6.7290000000000001,0.96499999999999997]
[6.73,0.96499999999999997]
[6.7309999999999999,0.96499999999999997]
[6.7320000000000002,0.96499999999999997]
[6.7329999999999997,0.96499999999999997]
[6.734,0.96499999999999997]
[6.7350000000000003,0.96499999999999997]
[6.7359999999999998,0.96499999999999997]
[6.7370000000000001,0.96499999999999997]
[6.7380000000000004,0.96499999999999997]
[6.7389999999999999,0.96499999999999997]
[6.74,0.96499999999999997]
[6.7409999999999997,0.96499999999999997]
[6.742,0.96499999999999997]
[6.7430000000000003,0.96499999999999997]
[6.7439999999999998,0.96499999999999997]
[6.7450000000000001,0.96499999999999997]
[6.7460000000000004,0.96499999999999997]
[6.7469999999999999,0.96499999999999997]
[6.7480000000000002,0.96499999999999997]
[6.7489999999999997,0.96499999999999997]
[6.75,0.96499999999999997]
[6.7510000000000003,0.96499999999999997]
[6.7519999999999998,0.96499999999999997]
[6.7530000000000001,0.96499999999999997]
[6.7539999999999996,0.96499999999999997]
[6.7549999999999999,0.96499999999999997]
[6.7560000000000002,0.96499999999999997]
[6.7569999999999997,0.96499999999999997]
[6.758,0.96499999999999997]
[6.7590000000000003,0.96499999999999997]
[6.76,0.96499999999999997]
[6.7610000000000001,0.96499999999999997]
[6.7619999999999996,0.96499999999999997]
[6.7629999999999999,0.96499999999999997]
[6.7640000000000002,0.96499999999999997]
[6.7649999999999997,0.96499999999999997]
[6.766,0.96499999999999997]
[6.7670000000000003,0.96499999999999997]
[6.7679999999999998,0.96499999999999997]
[6.7690000000000001,0.96499999999999997]
[6.77,0.96499999999999997]
[6.7709999999999999,0.96499999999999997]
[6.7720000000000002,0.96499999999999997]
[6.7729999999999997,0.96499999999999997]
[6.774,0.96499999999999997]
[6.7750000000000004,0.96499999999999997]
[6.7759999999999998,0.96499999999999997]
[6.7770000000000001,0.96499999999999997]
[6.7779999999999996,0.96499999999999997]
[6.7789999999999999,0.96499999999999997]
[6.78,0.96499999999999997]
[6.7809999999999997,0.96499999999999997]
[6.782,0.96499999999999997]
[6.7830000000000004,0.96499999999999997]
[6.7839999999999998,0.96499999999999997]
[6.7850000000000001,0.96499999999999997]
[6.7859999999999996,0.96499999999999997]
[6.7869999999999999,0.96499999999999997]
[6.7880000000000003,0.96499999999999997]
[6.7889999999999997,0.96499999999999997]
[6.79,0.96499999999999997]
[6.7910000000000004,0.96499999999999997]
[6.7919999999999998,0.96499999999999997]
[6.7930000000000001,0.96499999999999997]
[6.7939999999999996,0.96499999999999997]
[6.7949999999999999,0.96499999999999997]
[6.7960000000000003,0.96499999999999997]
[6.7969999999999997,0.96499999999999997]
[6.798,0.96499999999999997]
[6.7990000000000004,0.96499999999999997]
[6.8,0.96499999999999997]
[6.8010000000000002,0.96499999999999997]
[6.8019999999999996,0.96499999999999997]
[6.8029999999999999,0.96499999999999997]
[6.8040000000000003,0.96499999999999997]
[6.8049999999999997,0.96499999999999997]
[6.806,0.96499999999999997]
[6.8070000000000004,0.96499999999999997]
[6.8079999999999998,0.96499999999999997]
[6.8090000000000002,0.96499999999999997]
[6.81,0.96499999999999997]
[6.8109999999999999,0.96499999999999997]
[6.8120000000000003,0.96499999999999997]
[6.8129999999999997,0.96499999999999997]
[6.8140000000000001,0.96499999999999997]
[6.8150000000000004,0.96499999999999997]
[6.8159999999999998,0.96499999999999997]
[6.8170000000000002,0.96499999999999997]
[6.8179999999999996,0.96499999999999997]
[6.819,0.96499999999999997]
[6.82,0.96499999999999997]
[6.8209999999999997,0.96499999999999997]
[6.8220000000000001,0.96499999999999997]
[6.8230000000000004,0.96499999999999997]
[6.8239999999999998,0.96499999999999997]
[6.8250000000000002,0.96499999999999997]
[6.8259999999999996,0.96499999999999997]
[6.827,0.96499999999999997]
[6.8280000000000003,0.96499999999999997]
[6.8289999999999997,0.96499999999999997]
[6.83,0.96499999999999997]
[6.8310000000000004,0.96499999999999997]
[6.8319999999999999,0.96499999999999997]
[6.8330000000000002,0.96499999999999997]
[6.8339999999999996,0.96499999999999997]
[6.835,0.96499999999999997]
[6.8360000000000003,0.96499999999999997]
[6.8369999999999997,0.96499999999999997]
[6.8380000000000001,0.96499999999999997]
[6.8390000000000004,0.96499999999999997]
[6.84,0.96499999999999997]
[6.8410000000000002,0.96499999999999997]
[6.8419999999999996,0.96499999999999997]
[6.843,0.96499999999999997]
[6.8440000000000003,0.96499999999999997]
[6.8449999999999998,0.96499999999999997]
[6.8460000000000001,0.96499999999999997]
[6.8470000000000004,0.96499999999999997]
[6.8479999999999999,0.96499999999999997]
[6.8490000000000002,0.96499999999999997]
[6.85,0.96499999999999997]
[6.851,0.96499999999999997]
[6.8520000000000003,0.96499999999999997]
[6.8529999999999998,0.96499999999999997]
[6.8540000000000001,0.96499999999999997]
[6.8550000000000004,0.96499999999999997]
[6.8559999999999999,0.96499999999999997]
[6.8570000000000002,0.96499999999999997]
[6.8579999999999997,0.96499999999999997]
[6.859,0.96499999999999997]
[6.86,0.96499999999999997]
[6.8609999999999998,0.96499999999999997]
[6.8620000000000001,0.96499999999999997]
[6.8630000000000004,0.96499999999999997]
[6.8639999999999999,0.96499999999999997]
[6.8650000000000002,0.96499999999999997]
[6.8659999999999997,0.96499999999999997]
[6.867,0.96499999999999997]
[6.8680000000000003,0.96499999999999997]
[6.8689999999999998,0.96499999999999997]
[6.87,0.96499999999999997]
[6.8710000000000004,0.96499999999999997]
[6.8719999999999999,0.96499999999999997]
[6.8730000000000002,0.96499999999999997]
[6.8739999999999997,0.96499999999999997]
[6.875,0.96499999999999997]
[6.8760000000000003,0.96499999999999997]
[6.8769999999999998,0.96499999999999997]
[6.8780000000000001,0.96499999999999997]
[6.8789999999999996,0.96499999999999997]
[6.88,0.96499999999999997]
[6.8810000000000002,0.96499999999999997]
[6.8819999999999997,0.96499999999999997]
[6.883,0.96499999999999997]
[6.8840000000000003,0.96499999999999997]
[6.8849999999999998,0.96499999999999997]
[6.8860000000000001,0.96499999999999997]
[6.8869999999999996,0.96499999999999997]
[6.8879999999999999,0.96499999999999997]
[6.8890000000000002,0.96499999999999997]
[6.89,0.96499999999999997]
[6.891,0.96499999999999997]
[6.8920000000000003,0.96499999999999997]
[6.8929999999999998,0.96499999999999997]
[6.8940000000000001,0.96499999999999997]
[6.8949999999999996,0.96499999999999997]
[6.8959999999999999,0.96499999999999997]
[6.8970000000000002,0.96499999999999997]
[6.8979999999999997,0.96499999999999997]
[6.899,0.96499999999999997]
[6.9,0.96499999999999997]
[6.9009999999999998,0.96499999999999997]
[6.9020000000000001,0.96499999999999997]
[6.9029999999999996,0.96499999999999997]
[6.9039999999999999,0.96499999999999997]
[6.9050000000000002,0.96499999999999997]
[6.9059999999999997,0.96499999999999997]
[6.907,0.96499999999999997]
[6.9080000000000004,0.96499999999999997]
[6.9089999999999998,0.96499999999999997]
[6.91,0.96499999999999997]
[6.9109999999999996,0.96499999999999997]
[6.9119999999999999,0.96499999999999997]
[6.9130000000000003,0.96499999999999997]
[6.9139999999999997,0.96499999999999997]
[6.915,0.96499999999999997]
[6.9160000000000004,0.96499999999999997]
[6.9169999999999998,0.96499999999999997]
[6.9180000000000001,0.96499999999999997]
[6.9189999999999996,0.96499999999999997]
[6.92,0.96499999999999997]
[6.9210000000000003,0.96499999999999997]
[6.9219999999999997,0.96499999999999997]
[6.923,0.96499999999999997]
[6.9240000000000004,0.96499999999999997]
[6.9249999999999998,0.96499999999999997]
[6.9260000000000002,0.96499999999999997]
[6.9269999999999996,0.96499999999999997]
[6.9279999999999999,0.96499999999999997]
[6.9290000000000003,0.96499999999999997]
[6.93,0.96499999999999997]
[6.931,0.96499999999999997]
[6.9320000000000004,0.96499999999999997]
[6.9329999999999998,0.96499999999999997]
[6.9340000000000002,0.96499999999999997]
[6.9349999999999996,0.96499999999999997]
[6.9359999999999999,0.96499999999999997]
[6.9370000000000003,0.96499999999999997]
[6.9379999999999997,0.96499999999999997]
[6.9390000000000001,0.96499999999999997]
[6.94,0.96499999999999997]
[6.9409999999999998,0.96499999999999997]
[6.9420000000000002,0.96499999999999997]
[6.9429999999999996,0.96499999999999997]
[6.944,0.96499999999999997]
[6.9450000000000003,0.96499999999999997]
[6.9459999999999997,0.96499999999999997]
[6.9470000000000001,0.96499999999999997]
[6.9480000000000004,0.96499999999999997]
[6.9489999999999998,0.96499999999999997]
[6.95,0.96499999999999997]
[6.9509999999999996,0.96499999999999997]
[6.952,0.96499999999999997]
[6.9530000000000003,0.96499999999999997]
[6.9539999999999997,0.96499999999999997]
[6.9550000000000001,0.96499999999999997]
[6.9560000000000004,0.96499999999999997]
[6.9569999999999999,0.96499999999999997]
[6.9580000000000002,0.96499999999999997]
[6.9589999999999996,0.96499999999999997]
[6.96,0.96499999999999997]
[6.9610000000000003,0.96499999999999997]
[6.9619999999999997,0.96499999999999997]
[6.9630000000000001,0.96499999999999997]
[6.9640000000000004,0.96499999999999997]
[6.9649999999999999,0.96499999999999997]
[6.9660000000000002,0.96499999999999997]
[6.9669999999999996,0.96499999999999997]
[6.968,0.96499999999999997]
[6.9690000000000003,0.96499999999999997]
[6.97,0.96499999999999997]
[6.9710000000000001,0.96499999999999997]
[6.9720000000000004,0.96499999999999997]
[6.9729999999999999,0.96499999999999997]
[6.9740000000000002,0.96499999999999997]
[6.9749999999999996,0.96499999999999997]
[6.976,0.96499999999999997]
[6.9770000000000003,0.96499999999999997]
[6.9779999999999998,0.96499999999999997]
[6.9790000000000001,0.96499999999999997]
[6.98,0.96499999999999997]
[6.9809999999999999,0.96499999999999997]
[6.9820000000000002,0.96499999999999997]
[6.9829999999999997,0.96499999999999997]
[6.984,0.96499999999999997]
[6.9850000000000003,0.96499999999999997]
[6.9859999999999998,0.96499999999999997]
[6.9870000000000001,0.96499999999999997]
[6.9880000000000004,0.96499999999999997]
[6.9889999999999999,0.96499999999999997]
[6.99,0.96499999999999997]
[6.9909999999999997,0.96499999999999997]
[6.992,0.96499999999999997]
[6.9930000000000003,0.96499999999999997]
[6.9939999999999998,0.96499999999999997]
[6.9950000000000001,0.96499999999999997]
[6.9960000000000004,0.96499999999999997]
[6.9969999999999999,0.96499999999999997]
[6.9980000000000002,0.96499999999999997]
[6.9989999999999997,0.96499999999999997]
[7,0.96499999999999997]
[7.0010000000000003,0.96499999999999997]
[7.0019999999999998,0.96499999999999997]
[7.0030000000000001,0.96499999999999997]
[7.0039999999999996,0.96499999999999997]
[7.0049999999999999,0.96499999999999997]
[7.0060000000000002,0.96499999999999997]
[7.0069999999999997,0.96499999999999997]
[7.008,0.96499999999999997]
[7.0090000000000003,0.96499999999999997]
[7.01,0.96499999999999997]
[7.0110000000000001,0.96499999999999997]
[7.0119999999999996,0.96499999999999997]
[7.0129999999999999,0.96499999999999997]
[7.0140000000000002,0.96499999999999997]
[7.0149999999999997,0.96499999999999997]
[7.016,0.96499999999999997]
[7.0170000000000003,0.96499999999999997]
[7.0179999999999998,0.96499999999999997]
[7.0190000000000001,0.96499999999999997]
[7.02,0.96499999999999997]
[7.0209999999999999,0.96499999999999997]
[7.0220000000000002,0.96499999999999997]
[7.0229999999999997,0.96499999999999997]
[7.024,0.96499999999999997]
[7.0250000000000004,0.96499999999999997]
[7.0259999999999998,0.96499999999999997]
[7.0270000000000001,0.96499999999999997]
[7.0279999999999996,0.96499999999999997]
[7.0289999999999999,0.96499999999999997]
[7.03,0.96499999999999997]
[7.0309999999999997,0.96499999999999997]
[7.032,0.96499999999999997]
[7.0330000000000004,0.96499999999999997]
[7.0339999999999998,0.96499999999999997]
[7.0350000000000001,0.96499999999999997]
[7.0359999999999996,0.96499999999999997]
[7.0369999999999999,0.96499999999999997]
[7.0380000000000003,0.96499999999999997]
[7.0389999999999997,0.96499999999999997]
[7.04,0.96499999999999997]
[7.0410000000000004,0.96499999999999997]
[7.0419999999999998,0.96499999999999997]
[7.0430000000000001,0.96499999999999997]
[7.0439999999999996,0.96499999999999997]
[7.0449999999999999,0.96499999999999997]
[7.0460000000000003,0.96499999999999997]
[7.0469999999999997,0.96499999999999997]
[7.048,0.96499999999999997]
[7.0490000000000004,0.96499999999999997]
[7.05,0.96499999999999997]
[7.0510000000000002,0.96499999999999997]
[7.0519999999999996,0.96499999999999997]
[7.0529999999999999,0.96499999999999997]
[7.0540000000000003,0.96499999999999997]
[7.0549999999999997,0.96499999999999997]
[7.056,0.96499999999999997]
[7.0570000000000004,0.96499999999999997]
[7.0579999999999998,0.96499999999999997]
[7.0590000000000002,0.96499999999999997]
[7.06,0.96499999999999997]
[7.0609999999999999,0.96499999999999997]
[7.0620000000000003,0.96499999999999997]
[7.0629999999999997,0.96499999999999997]
[7.0640000000000001,0.96499999999999997]
[7.0650000000000004,0.96499999999999997]
[7.0659999999999998,0.96499999999999997]
[7.0670000000000002,0.96499999999999997]
[7.0679999999999996,0.96499999999999997]
[7.069,0.96499999999999997]
[7.07,0.96499999999999997]
[7.0709999999999997,0.96499999999999997]
[7.0720000000000001,0.96499999999999997]
[7.0730000000000004,0.96499999999999997]
[7.0739999999999998,0.96499999999999997]
[7.0750000000000002,0.96499999999999997]
[7.0759999999999996,0.96499999999999997]
[7.077,0.96499999999999997]
[7.0780000000000003,0.96499999999999997]
[7.0789999999999997,0.96499999999999997]
[7.08,0.96499999999999997]
[7.0810000000000004,0.96499999999999997]
[7.0819999999999999,0.96499999999999997]
[7.0830000000000002,0.96499999999999997]
[7.0839999999999996,0.96499999999999997]
[7.085,0.96499999999999997]
[7.0860000000000003,0.96499999999999997]
[7.0869999999999997,0.96499999999999997]
[7.0880000000000001,0.96499999999999997]
[7.0890000000000004,0.96499999999999997]
[7.09,0.96499999999999997]
[7.0910000000000002,0.96499999999999997]
[7.0919999999999996,0.96499999999999997]
[7.093,0.96499999999999997]
[7.0940000000000003,0.96499999999999997]
[7.0949999999999998,0.96499999999999997]
[7.0960000000000001,0.96499999999999997]
[7.0970000000000004,0.96499999999999997]
[7.0979999999999999,0.96499999999999997]
[7.0990000000000002,0.96499999999999997]
[7.1,0.96499999999999997]
[7.101,0.96499999999999997]
[7.1020000000000003,0.96499999999999997]
[7.1029999999999998,0.96499999999999997]
[7.1040000000000001,0.96499999999999997]
[7.1050000000000004,0.96499999999999997]
[7.1059999999999999,0.96499999999999997]
[7.1070000000000002,0.96499999999999997]
[7.1079999999999997,0.96499999999999997]
[7.109,0.96499999999999997]
[7.11,0.96499999999999997]
[7.1109999999999998,0.96499999999999997]
[7.1120000000000001,0.96499999999999997]
[7.1130000000000004,0.96499999999999997]
[7.1139999999999999,0.96499999999999997]
[7.1150000000000002,0.96499999999999997]
[7.1159999999999997,0.96499999999999997]
[7.117,0.96499999999999997]
[7.1180000000000003,0.96499999999999997]
[7.1189999999999998,0.96499999999999997]
[7.12,0.96499999999999997]
[7.1210000000000004,0.96499999999999997]
[7.1219999999999999,0.96499999999999997]
[7.1230000000000002,0.96499999999999997]
[7.1239999999999997,0.96499999999999997]
[7.125,0.96499999999999997]
[7.1260000000000003,0.96499999999999997]
[7.1269999999999998,0.96499999999999997]
[7.1280000000000001,0.96499999999999997]
[7.1289999999999996,0.96499999999999997]
[7.13,0.96499999999999997]
[7.1310000000000002,0.96499999999999997]
[7.1319999999999997,0.96499999999999997]
[7.133,0.96499999999999997]
[7.1340000000000003,0.96499999999999997]
[7.1349999999999998,0.96499999999999997]
[7.1360000000000001,0.96499999999999997]
[7.1369999999999996,0.96499999999999997]
[7.1379999999999999,0.96499999999999997]
[7.1390000000000002,0.96499999999999997]
[7.14,0.96499999999999997]
[7.141,0.96499999999999997]
[7.1420000000000003,0.96499999999999997]
[7.1429999999999998,0.96499999999999997]
[7.1440000000000001,0.96499999999999997]
[7.1449999999999996,0.96499999999999997]
[7.1459999999999999,0.96499999999999997]
[7.1470000000000002,0.96499999999999997]
[7.1479999999999997,0.96499999999999997]
[7.149,0.96499999999999997]
[7.15,0.96499999999999997]
[7.1509999999999998,0.96499999999999997]
[7.1520000000000001,0.96499999999999997]
[7.1529999999999996,0.96499999999999997]
[7.1539999999999999,0.96499999999999997]
[7.1550000000000002,0.96499999999999997]
[7.1559999999999997,0.96499999999999997]
[7.157,0.96499999999999997]
[7.1580000000000004,0.96499999999999997]
[7.1589999999999998,0.96499999999999997]
[7.16,0.96499999999999997]
[7.1609999999999996,0.96499999999999997]
[7.1619999999999999,0.96499999999999997]
[7.1630000000000003,0.96499999999999997]
[7.1639999999999997,0.96499999999999997]
[7.165,0.96499999999999997]
[7.1660000000000004,0.96499999999999997]
[7.1669999999999998,0.96499999999999997]
[7.1680000000000001,0.96499999999999997]
[7.1689999999999996,0.96499999999999997]
[7.17,0.96499999999999997]
[7.1710000000000003,0.96499999999999997]
[7.1719999999999997,0.96499999999999997]
[7.173,0.96499999999999997]
[7.1740000000000004,0.96499999999999997]
[7.1749999999999998,0.96499999999999997]
[7.1760000000000002,0.96499999999999997]
[7.1769999999999996,0.96499999999999997]
[7.1779999999999999,0.96499999999999997]
[7.1790000000000003,0.96499999999999997]
[7.18,0.96499999999999997]
[7.181,0.96499999999999997]
[7.1820000000000004,0.96499999999999997]
[7.1829999999999998,0.96499999999999997]
[7.1840000000000002,0.96499999999999997]
[7.1849999999999996,0.96499999999999997]
[7.1859999999999999,0.96499999999999997]
[7.1870000000000003,0.96499999999999997]
[7.1879999999999997,0.96499999999999997]
[7.1890000000000001,0.96499999999999997]
[7.19,0.96499999999999997]
[7.1909999999999998,0.96499999999999997]
[7.1920000000000002,0.96499999999999997]
[7.1929999999999996,0.96499999999999997]
[7.194,0.96499999999999997]
[7.1950000000000003,0.96499999999999997]
[7.1959999999999997,0.96499999999999997]
[7.1970000000000001,0.96499999999999997]
[7.1980000000000004,0.96499999999999997]
[7.1989999999999998,0.96499999999999997]
[7.2,0.96499999999999997]
[7.2009999999999996,0.96499999999999997]
[7.202,0.96499999999999997]
[7.2030000000000003,0.96499999999999997]
[7.2039999999999997,0.96499999999999997]
[7.2050000000000001,0.96499999999999997]
[7.2060000000000004,0.96499999999999997]
[7.2069999999999999,0.96499999999999997]
[7.2080000000000002,0.96499999999999997]
[7.2089999999999996,0.96499999999999997]
[7.21,0.96499999999999997]
[7.2110000000000003,0.96499999999999997]
[7.2119999999999997,0.96499999999999997]
[7.2130000000000001,0.96499999999999997]
[7.2140000000000004,0.96499999999999997]
[7.2149999999999999,0.96499999999999997]
[7.2160000000000002,0.96499999999999997]
[7.2169999999999996,0.96499999999999997]
[7.218,0.96499999999999997]
[7.2190000000000003,0.96499999999999997]
[7.22,0.96499999999999997]
[7.2210000000000001,0.96499999999999997]
[7.2220000000000004,0.96499999999999997]
[7.2229999999999999,0.96499999999999997]
[7.2240000000000002,0.96499999999999997]
[7.2249999999999996,0.96499999999999997]
[7.226,0.96499999999999997]
[7.2270000000000003,0.96499999999999997]
[7.2279999999999998,0.96499999999999997]
[7.2290000000000001,0.96499999999999997]
[7.23,0.96499999999999997]
[7.2309999999999999,0.96499999999999997]
[7.2320000000000002,0.96499999999999997]
[7.2329999999999997,0.96499999999999997]
[7.234,0.96499999999999997]
[7.2350000000000003,0.96499999999999997]
[7.2359999999999998,0.96499999999999997]
[7.2370000000000001,0.96499999999999997]
[7.2380000000000004,0.96499999999999997]
[7.2389999999999999,0.96499999999999997]
[7.24,0.96499999999999997]
[7.2409999999999997,0.96499999999999997]
[7.242,0.96499999999999997]
[7.2430000000000003,0.96499999999999997]
[7.2439999999999998,0.96499999999999997]
[7.2450000000000001,0.96499999999999997]
[7.2460000000000004,0.96499999999999997]
[7.2469999999999999,0.96499999999999997]
[7.2480000000000002,0.96499999999999997]
[7.2489999999999997,0.96499999999999997]
[7.25,0.96499999999999997]
[7.2510000000000003,0.96499999999999997]
[7.2519999999999998,0.96499999999999997]
[7.2530000000000001,0.96499999999999997]
[7.2539999999999996,0.96499999999999997]
[7.2549999999999999,0.96499999999999997]
[7.2560000000000002,0.96499999999999997]
[7.2569999999999997,0.96499999999999997]
[7.258,0.96499999999999997]
[7.2590000000000003,0.96499999999999997]
[7.26,0.96499999999999997]
[7.2610000000000001,0.96499999999999997]
[7.2619999999999996,0.96499999999999997]
[7.2629999999999999,0.96499999999999997]
[7.2640000000000002,0.96499999999999997]
[7.2649999999999997,0.96499999999999997]
[7.266,0.96499999999999997]
[7.2670000000000003,0.96499999999999997]
[7.2679999999999998,0.96499999999999997]
[7.2690000000000001,0.96499999999999997]
[7.27,0.96499999999999997]
[7.2709999999999999,0.96499999999999997]
[7.2720000000000002,0.96499999999999997]
[7.2729999999999997,0.96499999999999997]
[7.274,0.96499999999999997]
[7.2750000000000004,0.96499999999999997]
[7.2759999999999998,0.96499999999999997]
[7.2770000000000001,0.96499999999999997]
[7.2779999999999996,0.96499999999999997]
[7.2789999999999999,0.96499999999999997]
[7.28,0.96499999999999997]
[7.2809999999999997,0.96499999999999997]
[7.282,0.96499999999999997]
[7.2830000000000004,0.96499999999999997]
[7.2839999999999998,0.96499999999999997]
[7.2850000000000001,0.96499999999999997]
[7.2859999999999996,0.96499999999999997]
[7.2869999999999999,0.96499999999999997]
[7.2880000000000003,0.96499999999999997]
[7.2889999999999997,0.96499999999999997]
[7.29,0.96499999999999997]
[7.2910000000000004,0.96499999999999997]
[7.2919999999999998,0.96499999999999997]
[7.2930000000000001,0.96499999999999997]
[7.2939999999999996,0.96499999999999997]
[7.2949999999999999,0.96499999999999997]
[7.2960000000000003,0.96499999999999997]
[7.2969999999999997,0.96499999999999997]
[7.298,0.96499999999999997]
[7.2990000000000004,0.96499999999999997]
[7.3,0.96499999999999997]
[7.3010000000000002,0.96499999999999997]
[7.3019999999999996,0.96499999999999997]
[7.3029999999999999,0.96499999999999997]
[7.3040000000000003,0.96499999999999997]
[7.3049999999999997,0.96499999999999997]
[7.306,0.96499999999999997]
[7.3070000000000004,0.96499999999999997]
[7.3079999999999998,0.96499999999999997]
[7.3090000000000002,0.96499999999999997]
[7.31,0.96499999999999997]
[7.3109999999999999,0.96499999999999997]
[7.3120000000000003,0.96499999999999997]
[7.3129999999999997,0.96499999999999997]
[7.3140000000000001,0.96499999999999997]
[7.3150000000000004,0.96499999999999997]
[7.3159999999999998,0.96499999999999997]
[7.3170000000000002,0.96499999999999997]
[7.3179999999999996,0.96499999999999997]
[7.319,0.96499999999999997]
[7.32,0.96499999999999997]
[7.3209999999999997,0.96499999999999997]
[7.3220000000000001,0.96499999999999997]
[7.3230000000000004,0.96499999999999997]
[7.3239999999999998,0.96499999999999997]
[7.3250000000000002,0.96499999999999997]
[7.3259999999999996,0.96499999999999997]
[7.327,0.96499999999999997]
[7.3280000000000003,0.96499999999999997]
[7.3289999999999997,0.96499999999999997]
[7.33,0.96499999999999997]
[7.3310000000000004,0.96499999999999997]
[7.3319999999999999,0.96499999999999997]
[7.3330000000000002,0.96499999999999997]
[7.3339999999999996,0.96499999999999997]
[7.335,0.96499999999999997]
[7.3360000000000003,0.96499999999999997]
[7.3369999999999997,0.96499999999999997]
[7.3380000000000001,0.96499999999999997]
[7.3390000000000004,0.96499999999999997]
[7.34,0.96499999999999997]
[7.3410000000000002,0.96499999999999997]
[7.3419999999999996,0.96499999999999997]
[7.343,0.96499999999999997]
[7.3440000000000003,0.96499999999999997]
[7.3449999999999998,0.96499999999999997]
[7.3460000000000001,0.96499999999999997]
[7.3470000000000004,0.96499999999999997]
[7.3479999999999999,0.96499999999999997]
[7.3490000000000002,0.96499999999999997]
[7.35,0.96499999999999997]
[7.351,0.96499999999999997]
[7.3520000000000003,0.96499999999999997]
[7.3529999999999998,0.96499999999999997]
[7.3540000000000001,0.96499999999999997]
[7.3550000000000004,0.96499999999999997]
[7.3559999999999999,0.96499999999999997]
[7.3570000000000002,0.96499999999999997]
[7.3579999999999997,0.96499999999999997]
[7.359,0.96499999999999997]
[7.36,0.96499999999999997]
[7.3609999999999998,0.96499999999999997]
[7.3620000000000001,0.96499999999999997]
[7.3630000000000004,0.96499999999999997]
[7.3639999999999999,0.96499999999999997]
[7.3650000000000002,0.96499999999999997]
[7.3659999999999997,0.96499999999999997]
[7.367,0.96499999999999997]
[7.3680000000000003,0.96499999999999997]
[7.3689999999999998,0.96499999999999997]
[7.37,0.96499999999999997]
[7.3710000000000004,0.96499999999999997]
[7.3719999999999999,0.96499999999999997]
[7.3730000000000002,0.96499999999999997]
[7.3739999999999997,0.96499999999999997]
[7.375,0.96499999999999997]
[7.3760000000000003,0.96499999999999997]
[7.3769999999999998,0.96499999999999997]
[7.3780000000000001,0.96499999999999997]
[7.3789999999999996,0.96499999999999997]
[7.38,0.96499999999999997]
[7.3810000000000002,0.96499999999999997]
[7.3819999999999997,0.96499999999999997]
[7.383,0.96499999999999997]
[7.3840000000000003,0.96499999999999997]
[7.3849999999999998,0.96499999999999997]
[7.3860000000000001,0.96499999999999997]
[7.3869999999999996,0.96499999999999997]
[7.3879999999999999,0.96499999999999997]
[7.3890000000000002,0.96499999999999997]
[7.39,0.96499999999999997]
[7.391,0.96499999999999997]
[7.3920000000000003,0.96499999999999997]
[7.3929999999999998,0.96499999999999997]
[7.3940000000000001,0.96499999999999997]
[7.3949999999999996,0.96499999999999997]
[7.3959999999999999,0.96499999999999997]
[7.3970000000000002,0.96499999999999997]
[7.3979999999999997,0.96499999999999997]
[7.399,0.96499999999999997]
[7.4,0.96499999999999997]
[7.4009999999999998,0.96499999999999997]
[7.4020000000000001,0.96499999999999997]
[7.4029999999999996,0.96499999999999997]
[7.4039999999999999,0.96499999999999997]
[7.4050000000000002,0.96499999999999997]
[7.4059999999999997,0.96499999999999997]
[7.407,0.96499999999999997]
[7.4080000000000004,0.96499999999999997]
[7.4089999999999998,0.96499999999999997]
[7.41,0.96499999999999997]
[7.4109999999999996,0.96499999999999997]
[7.4119999999999999,0.96499999999999997]
[7.4130000000000003,0.96499999999999997]
[7.4139999999999997,0.96499999999999997]
[7.415,0.96499999999999997]
[7.4160000000000004,0.96499999999999997]
[7.4169999999999998,0.96499999999999997]
[7.4180000000000001,0.96499999999999997]
[7.4189999999999996,0.96499999999999997]
[7.42,0.96499999999999997]
[7.4210000000000003,0.96499999999999997]
[7.4219999999999997,0.96499999999999997]
[7.423,0.96499999999999997]
[7.4240000000000004,0.96499999999999997]
[7.4249999999999998,0.96499999999999997]
[7.4260000000000002,0.96499999999999997]
[7.4269999999999996,0.96499999999999997]
[7.4279999999999999,0.96499999999999997]
[7.4290000000000003,0.96499999999999997]
[7.43,0.96499999999999997]
[7.431,0.96499999999999997]
[7.4320000000000004,0.96499999999999997]
[7.4329999999999998,0.96499999999999997]
[7.4340000000000002,0.96499999999999997]
[7.4349999999999996,0.96499999999999997]
[7.4359999999999999,0.96499999999999997]
[7.4370000000000003,0.96499999999999997]
[7.4379999999999997,0.96499999999999997]
[7.4390000000000001,0.96499999999999997]
[7.44,0.96499999999999997]
[7.4409999999999998,0.96499999999999997]
[7.4420000000000002,0.96499999999999997]
[7.4429999999999996,0.96499999999999997]
[7.444,0.96499999999999997]
[7.4450000000000003,0.96499999999999997]
[7.4459999999999997,0.96499999999999997]
[7.4470000000000001,0.96499999999999997]
[7.4480000000000004,0.96499999999999997]
[7.4489999999999998,0.96499999999999997]
[7.45,0.96499999999999997]
[7.4509999999999996,0.96499999999999997]
[7.452,0.96499999999999997]
[7.4530000000000003,0.96499999999999997]
[7.4539999999999997,0.96499999999999997]
[7.4550000000000001,0.96499999999999997]
[7.4560000000000004,0.96499999999999997]
[7.4569999999999999,0.96499999999999997]
[7.4580000000000002,0.96499999999999997]
[7.4589999999999996,0.96499999999999997]
[7.46,0.96499999999999997]
[7.4610000000000003,0.96499999999999997]
[7.4619999999999997,0.96499999999999997]
[7.4630000000000001,0.96499999999999997]
[7.4640000000000004,0.96499999999999997]
[7.4649999999999999,0.96499999999999997]
[7.4660000000000002,0.96499999999999997]
[7.4669999999999996,0.96499999999999997]
[7.468,0.96499999999999997]
[7.4690000000000003,0.96499999999999997]
[7.47,0.96499999999999997]
[7.4710000000000001,0.96499999999999997]
[7.4720000000000004,0.96499999999999997]
[7.4729999999999999,0.96499999999999997]
[7.4740000000000002,0.96499999999999997]
[7.4749999999999996,0.96499999999999997]
[7.476,0.96499999999999997]
[7.4770000000000003,0.96499999999999997]
[7.4779999999999998,0.96499999999999997]
[7.4790000000000001,0.96499999999999997]
[7.48,0.96499999999999997]
[7.4809999999999999,0.96499999999999997]
[7.4820000000000002,0.96499999999999997]
[7.4829999999999997,0.96499999999999997]
[7.484,0.96499999999999997]
[7.4850000000000003,0.96499999999999997]
[7.4859999999999998,0.96499999999999997]
[7.4870000000000001,0.96499999999999997]
[7.4880000000000004,0.96499999999999997]
[7.4889999999999999,0.96499999999999997]
[7.49,0.96499999999999997]
[7.4909999999999997,0.96499999999999997]
[7.492,0.96499999999999997]
[7.4930000000000003,0.96499999999999997]
[7.4939999999999998,0.96499999999999997]
[7.4950000000000001,0.96499999999999997]
[7.4960000000000004,0.96499999999999997]
[7.4969999999999999,0.96499999999999997]
[7.4980000000000002,0.96499999999999997]
[7.4989999999999997,0.96499999999999997]
[7.5,0.96499999999999997]
[7.5010000000000003,0.96499999999999997]
[7.5019999999999998,0.96499999999999997]
[7.5030000000000001,0.96499999999999997]
[7.5039999999999996,0.96499999999999997]
[7.5049999999999999,0.96499999999999997]
[7.5060000000000002,0.96499999999999997]
[7.5069999999999997,0.96499999999999997]
[7.508,0.96499999999999997]
[7.5090000000000003,0.96499999999999997]
[7.51,0.96499999999999997]
[7.5110000000000001,0.96499999999999997]
[7.5119999999999996,0.96499999999999997]
[7.5129999999999999,0.96499999999999997]
[7.5140000000000002,0.96499999999999997]
[7.5149999999999997,0.96499999999999997]
[7.516,0.96499999999999997]
[7.5170000000000003,0.96499999999999997]
[7.5179999999999998,0.96499999999999997]
[7.5190000000000001,0.96499999999999997]
[7.52,0.96499999999999997]
[7.5209999999999999,0.96499999999999997]
[7.5220000000000002,0.96499999999999997]
[7.5229999999999997,0.96499999999999997]
[7.524,0.96499999999999997]
[7.5250000000000004,0.96499999999999997]
[7.5259999999999998,0.96499999999999997]
[7.5270000000000001,0.96499999999999997]
[7.5279999999999996,0.96499999999999997]
[7.5289999999999999,0.96499999999999997]
[7.53,0.96499999999999997]
[7.5309999999999997,0.96499999999999997]
[7.532,0.96499999999999997]
[7.5330000000000004,0.96499999999999997]
[7.5339999999999998,0.96499999999999997]
[7.5350000000000001,0.96499999999999997]
[7.5359999999999996,0.96499999999999997]
[7.5369999999999999,0.96499999999999997]
[7.5380000000000003,0.96499999999999997]
[7.5389999999999997,0.96499999999999997]
[7.54,0.96499999999999997]
[7.5410000000000004,0.96499999999999997]
[7.5419999999999998,0.96499999999999997]
[7.5430000000000001,0.96499999999999997]
[7.5439999999999996,0.96499999999999997]
[7.5449999999999999,0.96499999999999997]
[7.5460000000000003,0.96499999999999997]
[7.5469999999999997,0.96499999999999997]
[7.548,0.96499999999999997]
[7.5490000000000004,0.96499999999999997]
[7.55,0.96499999999999997]
[7.5510000000000002,0.96499999999999997]
[7.5519999999999996,0.96499999999999997]
[7.5529999999999999,0.96499999999999997]
[7.5540000000000003,0.96499999999999997]
[7.5549999999999997,0.96499999999999997]
[7.556,0.96499999999999997]
[7.5570000000000004,0.96499999999999997]
[7.5579999999999998,0.96499999999999997]
[7.5590000000000002,0.96499999999999997]
[7.56,0.96499999999999997]
[7.5609999999999999,0.96499999999999997]
[7.5620000000000003,0.96499999999999997]
[7.5629999999999997,0.96499999999999997]
[7.5640000000000001,0.96499999999999997]
[7.5650000000000004,0.96499999999999997]
[7.5659999999999998,0.96499999999999997]
[7.5670000000000002,0.96499999999999997]
[7.5679999999999996,0.96499999999999997]
[7.569,0.96499999999999997]
[7.57,0.96499999999999997]
[7.5709999999999997,0.96499999999999997]
[7.5720000000000001,0.96499999999999997]
[7.5730000000000004,0.96499999999999997]
[7.5739999999999998,0.96499999999999997]
[7.5750000000000002,0.96499999999999997]
[7.5759999999999996,0.96499999999999997]
[7.577,0.96499999999999997]
[7.5780000000000003,0.96499999999999997]
[7.5789999999999997,0.96499999999999997]
[7.58,0.96499999999999997]
[7.5810000000000004,0.96499999999999997]
[7.5819999999999999,0.96499999999999997]
[7.5830000000000002,0.96499999999999997]
[7.5839999999999996,0.96499999999999997]
[7.585,0.96499999999999997]
[7.5860000000000003,0.96499999999999997]
[7.5869999999999997,0.96499999999999997]
[7.5880000000000001,0.96499999999999997]
[7.5890000000000004,0.96499999999999997]
[7.59,0.96499999999999997]
[7.5910000000000002,0.96499999999999997]
[7.5919999999999996,0.96499999999999997]
[7.593,0.96499999999999997]
[7.5940000000000003,0.96499999999999997]
[7.5949999999999998,0.96499999999999997]
[7.5960000000000001,0.96499999999999997]
[7.5970000000000004,0.96499999999999997]
[7.5979999999999999,0.96499999999999997]
[7.5990000000000002,0.96499999999999997]
[7.6,0.96499999999999997]
[7.601,0.96499999999999997]
[7.6020000000000003,0.96499999999999997]
[7.6029999999999998,0.96499999999999997]
[7.6040000000000001,0.96499999999999997]
[7.6050000000000004,0.96499999999999997]
[7.6059999999999999,0.96499999999999997]
[7.6070000000000002,0.96499999999999997]
[7.6079999999999997,0.96499999999999997]
[7.609,0.96499999999999997]
[7.61,0.96499999999999997]
[7.6109999999999998,0.96499999999999997]
[7.6120000000000001,0.96499999999999997]
[7.6130000000000004,0.96499999999999997]
[7.6139999999999999,0.96499999999999997]
[7.6150000000000002,0.96499999999999997]
[7.6159999999999997,0.96499999999999997]
[7.617,0.96499999999999997]
[7.6180000000000003,0.96499999999999997]
[7.6189999999999998,0.96499999999999997]
[7.62,0.96499999999999997]
[7.6210000000000004,0.96499999999999997]
[7.6219999999999999,0.96499999999999997]
[7.6230000000000002,0.96499999999999997]
[7.6239999999999997,0.96499999999999997]
[7.625,0.96499999999999997]
[7.6260000000000003,0.96499999999999997]
[7.6269999999999998,0.96499999999999997]
[7.6280000000000001,0.96499999999999997]
[7.6289999999999996,0.96499999999999997]
[7.63,0.96499999999999997]
[7.6310000000000002,0.96499999999999997]
[7.6319999999999997,0.96499999999999997]
[7.633,0.96499999999999997]
[7.6340000000000003,0.96499999999999997]
[7.6349999999999998,0.96499999999999997]
[7.6360000000000001,0.96499999999999997]
[7.6369999999999996,0.96499999999999997]
[7.6379999999999999,0.96499999999999997]
[7.6390000000000002,0.96499999999999997]
[7.64,0.96499999999999997]
[7.641,0.96499999999999997]
[7.6420000000000003,0.96499999999999997]
[7.6429999999999998,0.96499999999999997]
[7.6440000000000001,0.96499999999999997]
[7.6449999999999996,0.96499999999999997]
[7.6459999999999999,0.96499999999999997]
[7.6470000000000002,0.96499999999999997]
[7.6479999999999997,0.96499999999999997]
[7.649,0.96499999999999997]
[7.65,0.96499999999999997]
[7.6509999999999998,0.96499999999999997]
[7.6520000000000001,0.96499999999999997]
[7.6529999999999996,0.96499999999999997]
[7.6539999999999999,0.96499999999999997]
[7.6550000000000002,0.96499999999999997]
[7.6559999999999997,0.96499999999999997]
[7.657,0.96499999999999997]
[7.6580000000000004,0.96499999999999997]
[7.6589999999999998,0.96499999999999997]
[7.66,0.96499999999999997]
[7.6609999999999996,0.96499999999999997]
[7.6619999999999999,0.96499999999999997]
[7.6630000000000003,0.96499999999999997]
[7.6639999999999997,0.96499999999999997]
[7.665,0.96499999999999997]
[7.6660000000000004,0.96499999999999997]
[7.6669999999999998,0.96499999999999997]
[7.6680000000000001,0.96499999999999997]
[7.6689999999999996,0.96499999999999997]
[7.67,0.96499999999999997]
[7.6710000000000003,0.96499999999999997]
[7.6719999999999997,0.96499999999999997]
[7.673,0.96499999999999997]
[7.6740000000000004,0.96499999999999997]
[7.6749999999999998,0.96499999999999997]
[7.6760000000000002,0.96499999999999997]
[7.6769999999999996,0.96499999999999997]
[7.6779999999999999,0.96499999999999997]
[7.6790000000000003,0.96499999999999997]
[7.68,0.96499999999999997]
[7.681,0.96499999999999997]
[7.6820000000000004,0.96499999999999997]
[7.6829999999999998,0.96499999999999997]
[7.6840000000000002,0.96499999999999997]
[7.6849999999999996,0.96499999999999997]
[7.6859999999999999,0.96499999999999997]
[7.6870000000000003,0.96499999999999997]
[7.6879999999999997,0.96499999999999997]
[7.6890000000000001,0.96499999999999997]
[7.69,0.96499999999999997]
[7.6909999999999998,0.96499999999999997]
[7.6920000000000002,0.96499999999999997]
[7.6929999999999996,0.96499999999999997]
[7.694,0.96499999999999997]
[7.6950000000000003,0.96499999999999997]
[7.6959999999999997,0.96499999999999997]
[7.6970000000000001,0.96499999999999997]
[7.6980000000000004,0.96499999999999997]
[7.6989999999999998,0.96499999999999997]
[7.7,0.96499999999999997]
[7.71,0.96499999999999997]
[7.72,0.96499999999999997]
[7.73,0.96499999999999997]
[7.74,0.96499999999999997]
[7.75,0.96499999999999997]
[7.76,0.96499999999999997]
[7.77,0.96499999999999997]
[7.78,0.96499999999999997]
[7.79,0.96499999999999997]
[7.8,0.96499999999999997]
[7.81,0.96499999999999997]
[7.82,0.96499999999999997]
[7.83,0.96499999999999997]
[7.84,0.96499999999999997]
[7.85,0.96499999999999997]
[7.86,0.96499999999999997]
[7.87,0.96499999999999997]
[7.88,0.96499999999999997]
[7.89,0.96499999999999997]
[7.9,0.96499999999999997]
[7.91,0.96499999999999997]
[7.92,0.96499999999999997]
[7.93,0.96499999999999997]
[7.94,0.96499999999999997]
[7.95,0.96499999999999997]
[7.96,0.96499999999999997]
[7.97,0.96499999999999997]
[7.98,0.96499999999999997]
[7.99,0.96499999999999997]
[8,0.96499999999999997]
[8.01,0.96499999999999997]
[8.02,0.96499999999999997]
[8.0299999999999994,0.96499999999999997]
[8.0399999999999991,0.96499999999999997]
[8.0500000000000007,0.96499999999999997]
[8.06,0.96499999999999997]
[8.07,0.96499999999999997]
[8.08,0.96499999999999997]
[8.09,0.96499999999999997]
[8.1,0.96499999999999997]
[8.11,0.96499999999999997]
[8.1199999999999992,0.96499999999999997]
[8.1300000000000008,0.96499999999999997]
[8.14,0.96499999999999997]
[8.15,0.96499999999999997]
[8.16,0.96499999999999997]
[8.17,0.96499999999999997]
[8.18,0.96499999999999997]
[8.19,0.96499999999999997]
[8.1999999999999993,0.96499999999999997]
[8.2100000000000009,0.96499999999999997]
[8.2200000000000006,0.96499999999999997]
[8.23,0.96499999999999997]
[8.24,0.96499999999999997]
[8.25,0.96499999999999997]
[8.26,0.96499999999999997]
[8.27,0.96499999999999997]
[8.2799999999999994,0.96499999999999997]
[8.2899999999999991,0.96499999999999997]
[8.3000000000000007,0.96499999999999997]
[8.31,0.96499999999999997]
[8.32,0.96499999999999997]
[8.33,0.96499999999999997]
[8.34,0.96499999999999997]
[8.35,0.96499999999999997]
[8.36,0.96499999999999997]
[8.3699999999999992,0.96499999999999997]
[8.3800000000000008,0.96499999999999997]
[8.39,0.96499999999999997]
[8.4,0.96499999999999997]
[8.41,0.96499999999999997]
[8.42,0.96499999999999997]
[8.43,0.96499999999999997]
[8.44,0.96499999999999997]
[8.4499999999999993,0.96499999999999997]
[8.4600000000000009,0.96499999999999997]
[8.4700000000000006,0.96499999999999997]
[8.48,0.96499999999999997]
[8.49,0.96499999999999997]
[8.5,0.96499999999999997]
[8.51,0.96499999999999997]
[8.52,0.96499999999999997]
[8.5299999999999994,0.96499999999999997]
[8.5399999999999991,0.96499999999999997]
[8.5500000000000007,0.96499999999999997]
[8.56,0.96499999999999997]
[8.57,0.96499999999999997]
[8.58,0.96499999999999997]
[8.59,0.96499999999999997]
[8.6,0.96499999999999997]
[8.61,0.96499999999999997]
[8.6199999999999992,0.96499999999999997]
[8.6300000000000008,0.96499999999999997]
[8.64,0.96499999999999997]
[8.65,0.96499999999999997]
[8.66,0.96499999999999997]
[8.67,0.96499999999999997]
[8.68,0.96499999999999997]
[8.69,0.96499999999999997]
[8.6999999999999993,0.96499999999999997]
[8.7100000000000009,0.96499999999999997]
[8.7200000000000006,0.96499999999999997]
[8.73,0.96499999999999997]
[8.74,0.96499999999999997]
[8.75,0.96499999999999997]
[8.76,0.96499999999999997]
[8.77,0.96499999999999997]
[8.7799999999999994,0.96499999999999997]
[8.7899999999999991,0.96499999999999997]
[8.8000000000000007,0.96499999999999997]
[8.81,0.96499999999999997]
[8.82,0.96499999999999997]
[8.83,0.96499999999999997]
[8.84,0.96499999999999997]
[8.85,0.96499999999999997]
[8.86,0.96499999999999997]
[8.8699999999999992,0.96499999999999997]
[8.8800000000000008,0.96499999999999997]
[8.89,0.96499999999999997]
[8.9,0.96499999999999997]
[8.91,0.96499999999999997]
[8.92,0.96499999999999997]
[8.93,0.96499999999999997]
[8.94,0.96499999999999997]
[8.9499999999999993,0.96499999999999997]
[8.9600000000000009,0.96499999999999997]
[8.9700000000000006,0.96499999999999997]
[8.98,0.96499999999999997]
[8.99,0.96499999999999997]
[9,0.96499999999999997]
[9.01,0.96499999999999997]
[9.02,0.96499999999999997]
[9.0299999999999994,0.96499999999999997]
[9.0399999999999991,0.96499999999999997]
[9.0500000000000007,0.96499999999999997]
[9.06,0.96499999999999997]
[9.07,0.96499999999999997]
[9.08,0.96499999999999997]
[9.09,0.96499999999999997]
[9.1,0.96499999999999997]
[9.11,0.96499999999999997]
[9.1199999999999992,0.96499999999999997]
[9.1300000000000008,0.96499999999999997]
[9.14,0.96499999999999997]
[9.15,0.96499999999999997]
[9.16,0.96499999999999997]
[9.17,0.96499999999999997]
[9.18,0.96499999999999997]
[9.19,0.96499999999999997]
[9.1999999999999993,0.96499999999999997]
[9.2100000000000009,0.96499999999999997]
[9.2200000000000006,0.96499999999999997]
[9.23,0.96499999999999997]
[9.24,0.96499999999999997]
[9.25,0.96499999999999997]
[9.26,0.96499999999999997]
[9.27,0.96499999999999997]
[9.2799999999999994,0.96499999999999997]
[9.2899999999999991,0.96499999999999997]
[9.3000000000000007,0.96499999999999997]
[9.31,0.96499999999999997]
[9.32,0.96499999999999997]
[9.33,0.96499999999999997]
[9.34,0.96499999999999997]
[9.35,0.96499999999999997]
[9.36,0.96499999999999997]
[9.3699999999999992,0.96499999999999997]
[9.3800000000000008,0.96499999999999997]
[9.39,0.96499999999999997]
[9.4,0.96499999999999997]
[9.41,0.96499999999999997]
[9.42,0.96499999999999997]
[9.43,0.96499999999999997]
[9.44,0.96499999999999997]
[9.4499999999999993,0.96499999999999997]
[9.4600000000000009,0.96499999999999997]
[9.4700000000000006,0.96499999999999997]
[9.48,0.96499999999999997]
[9.49,0.96499999999999997]
[9.5,0.96499999999999997]
[9.51,0.96499999999999997]
[9.52,0.96499999999999997]
[9.5299999999999994,0.96499999999999997]
[9.5399999999999991,0.96499999999999997]
[9.5500000000000007,0.96499999999999997]
[9.56,0.96499999999999997]
[9.57,0.96499999999999997]
[9.58,0.96499999999999997]
[9.59,0.96499999999999997]
[9.6,0.96499999999999997]
[9.61,0.96499999999999997]
[9.6199999999999992,0.96499999999999997]
[9.6300000000000008,0.96499999999999997]
[9.64,0.96499999999999997]
[9.65,0.96499999999999997]
[9.66,0.96499999999999997]
[9.67,0.96499999999999997]
[9.68,0.96499999999999997]
[9.69,0.96499999999999997]
[9.6999999999999993,0.96499999999999997]
[9.7100000000000009,0.96499999999999997]
[9.7200000000000006,0.96499999999999997]
[9.73,0.96499999999999997]
[9.74,0.96499999999999997]
[9.75,0.96499999999999997]
[9.76,0.96499999999999997]
[9.77,0.96499999999999997]
[9.7799999999999994,0.96499999999999997]
[9.7899999999999991,0.96499999999999997]
[9.8000000000000007,0.96499999999999997]
[9.81,0.96499999999999997]
[9.82,0.96499999999999997]
[9.83,0.96499999999999997]
[9.84,0.96499999999999997]
[9.85,0.96499999999999997]
[9.86,0.96499999999999997]
[9.8699999999999992,0.96499999999999997]
[9.8800000000000008,0.96499999999999997]
[9.89,0.96499999999999997]
[9.9,0.96499999999999997]
[9.91,0.96499999999999997]
[9.92,0.96499999999999997]
[9.93,0.96499999999999997]
[9.94,0.96499999999999997]
[9.9499999999999993,0.96499999999999997]
[9.9600000000000009,0.96499999999999997]
[9.9700000000000006,0.96499999999999997]
[9.98,0.96499999999999997]
[9.99,0.96499999999999997]
[10,0.96499999999999997]
[10.01,0.95]
[10.02,0.95]
[10.029999999999999,0.95]
[10.039999999999999,0.95]
[10.050000000000001,0.95]
[10.06,0.95]
[10.07,0.95]
[10.08,0.95]
[10.09,0.95]
[10.1,0.95]
[10.11,0.95]
[10.119999999999999,0.95]
[10.130000000000001,0.95]
[10.14,0.95]
[10.15,0.95]
[10.16,0.95]
[10.17,0.95]
[10.18,0.95]
[10.19,0.95]
[10.199999999999999,0.95]
[10.210000000000001,0.95]
[10.220000000000001,0.95]
[10.23,0.95]
[10.24,0.95]
[10.25,0.95]
[10.26,0.95]
[10.27,0.95]
[10.28,0.95]
[10.29,0.95]
[10.3,0.95]
[10.31,0.95]
[10.32,0.95]
[10.33,0.95]
[10.34,0.95]
[10.35,0.95]
[10.36,0.95]
[10.37,0.95]
[10.38,0.95]
[10.39,0.95]
[10.4,0.95]
[10.41,0.95]
[10.42,0.95]
[10.43,0.95]
[10.44,0.95]
[10.45,0.95]
[10.46,0.95]
[10.47,0.95]
[10.48,0.95]
[10.49,0.95]
[10.5,0.95]
[10.51,0.95]
[10.52,0.95]
[10.53,0.95]
[10.54,0.95]
[10.55,0.95]
[10.56,0.95]
[10.57,0.95]
[10.58,0.95]
[10.59,0.95]
[10.6,0.95]
[10.61,0.95]
[10.62,0.95]
[10.63,0.95]
[10.64,0.95]
[10.65,0.95]
[10.66,0.95]
[10.67,0.95]
[10.68,0.95]
[10.69,0.95]
[10.7,0.95]
[10.71,0.95]
[10.72,0.95]
[10.73,0.95]
[10.74,0.95]
[10.75,0.95]
[10.76,0.95]
[10.77,0.95]
[10.78,0.95]
[10.79,0.95]
[10.8,0.95]
[10.81,0.95]
[10.82,0.95]
[10.83,0.95]
[10.84,0.95]
[10.85,0.95]
[10.86,0.95]
[10.87,0.95]
[10.88,0.95]
[10.89,0.95]
[10.9,0.95]
[10.91,0.95]
[10.92,0.95]
[10.93,0.95]
[10.94,0.95]
[10.95,0.95]
[10.96,0.95]
[10.97,0.95]
[10.98,0.95]
[10.99,0.95]
[11,0.95]
[11.01,0.95]
[11.02,0.95]
[11.03,0.95]
[11.04,0.95]
[11.05,0.95]
[11.06,0.95]
[11.07,0.95]
[11.08,0.95]
[11.09,0.95]
[11.1,0.95]
[11.11,0.95]
[11.12,0.95]
[11.13,0.95]
[11.14,0.95]
[11.15,0.95]
[11.16,0.95]
[11.17,0.95]
[11.18,0.95]
[11.19,0.95]
[11.2,0.95]
[11.21,0.95]
[11.22,0.95]
[11.23,0.95]
[11.24,0.95]
[11.25,0.95]
[11.26,0.95]
[11.27,0.95]
[11.28,0.95]
[11.29,0.95]
[11.3,0.95]
[11.31,0.95]
[11.32,0.95]
[11.33,0.95]
[11.34,0.95]
[11.35,0.95]
[11.36,0.95]
[11.37,0.95]
[11.38,0.95]
[11.39,0.95]
[11.4,0.95]
[11.41,0.95]
[11.42,0.95]
[11.43,0.95]
[11.44,0.95]
[11.45,0.95]
[11.46,0.95]
[11.47,0.95]
[11.48,0.95]
[11.49,0.95]
[11.5,0.95]
[11.51,0.95]
[11.52,0.95]
[11.53,0.95]
[11.54,0.95]
[11.55,0.95]
[11.56,0.95]
[11.57,0.95]
[11.58,0.95]
[11.59,0.95]
[11.6,0.95]
[11.61,0.95]
[11.62,0.95]
[11.63,0.95]
[11.64,0.95]
[11.65,0.95]
[11.66,0.95]
[11.67,0.95]
[11.68,0.95]
[11.69,0.95]
[11.7,0.95]
[11.71,0.95]
[11.72,0.95]
[11.73,0.95]
[11.74,0.95]
[11.75,0.95]
[11.76,0.95]
[11.77,0.95]
[11.78,0.95]
[11.79,0.95]
[11.8,0.95]
[11.81,0.95]
[11.82,0.95]
[11.83,0.95]
[11.84,0.95]
[11.85,0.95]
[11.86,0.95]
[11.87,0.95]
[11.88,0.95]
[11.89,0.95]
[11.9,0.95]
[11.91,0.95]
[11.92,0.95]
[11.93,0.95]
[11.94,0.95]
[11.95,0.95]
[11.96,0.95]
[11.97,0.95]
[11.98,0.95]
[11.99,0.95]
[12,0.95]
[12.01,0.95]
[12.02,0.95]
[12.03,0.95]
[12.04,0.95]
[12.05,0.95]
[12.06,0.95]
[12.07,0.95]
[12.08,0.95]
[12.09,0.95]
[12.1,0.95]
[12.11,0.95]
[12.12,0.95]
[12.13,0.95]
[12.14,0.95]
[12.15,0.95]
[12.16,0.95]
[12.17,0.95]
[12.18,0.95]
[12.19,0.95]
[12.2,0.95]
[12.21,0.95]
[12.22,0.95]
[12.23,0.95]
[12.24,0.95]
[12.25,0.95]
[12.26,0.95]
[12.27,0.95]
[12.28,0.95]
[12.29,0.95]
[12.3,0.95]
[12.31,0.95]
[12.32,0.95]
[12.33,0.95]
[12.34,0.95]
[12.35,0.95]
[12.36,0.95]
[12.37,0.95]
[12.38,0.95]
[12.39,0.95]
[12.4,0.95]
[12.41,0.95]
[12.42,0.95]
[12.43,0.95]
[12.44,0.95]
[12.45,0.95]
[12.46,0.95]
[12.47,0.95]
[12.48,0.95]
[12.49,0.95]
[12.5,0.95]
[12.51,0.95]
[12.52,0.95]
[12.53,0.95]
[12.54,0.95]
[12.55,0.95]
[12.56,0.95]
[12.57,0.95]
[12.58,0.95]
[12.59,0.95]
[12.6,0.95]
[12.61,0.95]
[12.62,0.95]
[12.63,0.95]
[12.64,0.95]
[12.65,0.95]
[12.66,0.95]
[12.67,0.95]
[12.68,0.95]
[12.69,0.95]
[12.7,0.95]
[12.71,0.95]
[12.72,0.95]
[12.73,0.95]
[12.74,0.95]
[12.75,0.95]
[12.76,0.95]
[12.77,0.95]
[12.78,0.95]
[12.79,0.95]
[12.8,0.95]
[12.81,0.95]
[12.82,0.95]
[12.83,0.95]
[12.84,0.95]
[12.85,0.95]
[12.86,0.95]
[12.87,0.95]
[12.88,0.95]
[12.89,0.95]
[12.9,0.95]
[12.91,0.95]
[12.92,0.95]
[12.93,0.95]
[12.94,0.95]
[12.95,0.95]
[12.96,0.95]
[12.97,0.95]
[12.98,0.95]
[12.99,0.95]
[13,0.95]
[13.01,0.95]
[13.02,0.95]
[13.03,0.95]
[13.04,0.95]
[13.05,0.95]
[13.06,0.95]
[13.07,0.95]
[13.08,0.95]
[13.09,0.95]
[13.1,0.95]
[13.11,0.95]
[13.12,0.95]
[13.13,0.95]
[13.14,0.95]
[13.15,0.95]
[13.16,0.95]
[13.17,0.95]
[13.18,0.95]
[13.19,0.95]
[13.2,0.95]
[13.21,0.95]
[13.22,0.95]
[13.23,0.95]
[13.24,0.95]
[13.25,0.95]
[13.26,0.95]
[13.27,0.95]
[13.28,0.95]
[13.29,0.95]
[13.3,0.95]
[13.31,0.95]
[13.32,0.95]
[13.33,0.95]
[13.34,0.95]
[13.35,0.95]
[13.36,0.95]
[13.37,0.95]
[13.38,0.95]
[13.39,0.95]
[13.4,0.95]
[13.41,0.95]
[13.42,0.95]
[13.43,0.95]
[13.44,0.95]
[13.45,0.95]
[13.46,0.95]
[13.47,0.95]
[13.48,0.95]
[13.49,0.95]
[13.5,0.95]
[13.51,0.95]
[13.52,0.95]
[13.53,0.95]
[13.54,0.95]
[13.55,0.95]
[13.56,0.95]
[13.57,0.95]
[13.58,0.95]
[13.59,0.95]
[13.6,0.95]
[13.61,0.95]
[13.62,0.95]
[13.63,0.95]
[13.64,0.95]
[13.65,0.95]
[13.66,0.95]
[13.67,0.95]
[13.68,0.95]
[13.69,0.95]
[13.7,0.95]
[13.71,0.95]
[13.72,0.95]
[13.73,0.95]
[13.74,0.95]
[13.75,0.95]
[13.76,0.95]
[13.77,0.95]
[13.78,0.95]
[13.79,0.95]
[13.8,0.95]
[13.81,0.95]
[13.82,0.95]
[13.83,0.95]
[13.84,0.95]
[13.85,0.95]
[13.86,0.95]
[13.87,0.95]
[13.88,0.95]
[13.89,0.95]
[13.9,0.95]
[13.91,0.95]
[13.92,0.95]
[13.93,0.95]
[13.94,0.95]
[13.95,0.95]
[13.96,0.95]
[13.97,0.95]
[13.98,0.95]
[13.99,0.95]
[14,0.95]
[14.01,0.95]
[14.02,0.95]
[14.03,0.95]
[14.04,0.95]
[14.05,0.95]
[14.06,0.95]
[14.07,0.95]
[14.08,0.95]
[14.09,0.95]
[14.1,0.95]
[14.11,0.95]
[14.12,0.95]
[14.13,0.95]
[14.14,0.95]
[14.15,0.95]
[14.16,0.95]
[14.17,0.95]
[14.18,0.95]
[14.19,0.95]
[14.2,0.95]
[14.21,0.95]
[14.22,0.95]
[14.23,0.95]
[14.24,0.95]
[14.25,0.95]
[14.26,0.95]
[14.27,0.95]
[14.28,0.95]
[14.29,0.95]
[14.3,0.95]
[14.31,0.95]
[14.32,0.95]
[14.33,0.95]
[14.34,0.95]
[14.35,0.95]
[14.36,0.95]
[14.37,0.95]
[14.38,0.95]
[14.39,0.95]
[14.4,0.95]
[14.41,0.95]
[14.42,0.95]
[14.43,0.95]
[14.44,0.95]
[14.45,0.95]
[14.46,0.95]
[14.47,0.95]
[14.48,0.95]
[14.49,0.95]
[14.5,0.95]
[14.51,0.95]
[14.52,0.95]
[14.53,0.95]
[14.54,0.95]
[14.55,0.95]
[14.56,0.95]
[14.57,0.95]
[14.58,0.95]
[14.59,0.95]
[14.6,0.95]
[14.61,0.95]
[14.62,0.95]
[14.63,0.95]
[14.64,0.95]
[14.65,0.95]
[14.66,0.95]
[14.67,0.95]
[14.68,0.95]
[14.69,0.95]
[14.7,0.95]
[14.71,0.95]
[14.72,0.95]
[14.73,0.95]
[14.74,0.95]
[14.75,0.95]
[14.76,0.95]
[14.77,0.95]
[14.78,0.95]
[14.79,0.95]
[14.8,0.95]
[14.81,0.95]
[14.82,0.95]
[14.83,0.95]
[14.84,0.95]
[14.85,0.95]
[14.86,0.95]
[14.87,0.95]
[14.88,0.95]
[14.89,0.95]
[14.9,0.95]
[14.91,0.95]
[14.92,0.95]
[14.93,0.95]
[14.94,0.95]
[14.95,0.95]
[14.96,0.95]
[14.97,0.95]
[14.98,0.95]
[14.99,0.95]
[15,0.95]
[15.01,0.95]
[15.02,0.95]
[15.03,0.95]
[15.04,0.95]
[15.05,0.95]
[15.06,0.95]
[15.07,0.95]
[15.08,0.95]
[15.09,0.95]
[15.1,0.95]
[15.11,0.95]
[15.12,0.95]
[15.13,0.95]
[15.14,0.95]
[15.15,0.95]
[15.16,0.95]
[15.17,0.95]
[15.18,0.95]
[15.19,0.95]
[15.2,0.95]
[15.21,0.95]
[15.22,0.95]
[15.23,0.95]
[15.24,0.95]
[15.25,0.95]
[15.26,0.95]
[15.27,0.95]
[15.28,0.95]
[15.29,0.95]
[15.3,0.95]
[15.31,0.95]
[15.32,0.95]
[15.33,0.95]
[15.34,0.95]
[15.35,0.95]
[15.36,0.95]
[15.37,0.95]
[15.38,0.95]
[15.39,0.95]
[15.4,0.95]
[15.41,0.95]
[15.42,0.95]
[15.43,0.95]
[15.44,0.95]
[15.45,0.95]
[15.46,0.95]
[15.47,0.95]
[15.48,0.95]
[15.49,0.95]
[15.5,0.95]
[15.51,0.95]
[15.52,0.95]
[15.53,0.95]
[15.54,0.95]
[15.55,0.95]
[15.56,0.95]
[15.57,0.95]
[15.58,0.95]
[15.59,0.95]
[15.6,0.95]
[15.61,0.95]
[15.62,0.95]
[15.63,0.95]
[15.64,0.95]
[15.65,0.95]
[15.66,0.95]
[15.67,0.95]
[15.68,0.95]
[15.69,0.95]
[15.7,0.95]
[15.71,0.95]
[15.72,0.95]
[15.73,0.95]
[15.74,0.95]
[15.75,0.95]
[15.76,0.95]
[15.77,0.95]
[15.78,0.95]
[15.79,0.95]
[15.8,0.95]
[15.81,0.95]
[15.82,0.95]
[15.83,0.95]
[15.84,0.95]
[15.85,0.95]
[15.86,0.95]
[15.87,0.95]
[15.88,0.95]
[15.89,0.95]
[15.9,0.95]
[15.91,0.95]
[15.92,0.95]
[15.93,0.95]
[15.94,0.95]
[15.95,0.95]
[15.96,0.95]
[15.97,0.95]
[15.98,0.95]
[15.99,0.95]
[16,0.95]
[16.010000000000002,0.95]
[16.02,0.95]
[16.03,0.95]
[16.04,0.95]
[16.05,0.95]
[16.059999999999999,0.95]
[16.07,0.95]
[16.079999999999998,0.95]
[16.09,0.95]
[16.100000000000001,0.95]
[16.11,0.95]
[16.12,0.95]
[16.13,0.95]
[16.14,0.95]
[16.149999999999999,0.95]
[16.16,0.95]
[16.170000000000002,0.95]
[16.18,0.95]
[16.190000000000001,0.95]
[16.2,0.95]
[16.21,0.95]
[16.22,0.95]
[16.23,0.95]
[16.239999999999998,0.95]
[16.25,0.95]
[16.260000000000002,0.95]
[16.27,0.95]
[16.28,0.95]
[16.29,0.95]
[16.3,0.95]
[16.309999999999999,0.95]
[16.32,0.95]
[16.329999999999998,0.95]
[16.34,0.95]
[16.350000000000001,0.95]
[16.36,0.95]
[16.37,0.95]
[16.38,0.95]
[16.39,0.95]
[16.399999999999999,0.95]
[16.41,0.95]
[16.420000000000002,0.95]
[16.43,0.95]
[16.440000000000001,0.95]
[16.45,0.95]
[16.46,0.95]
[16.47,0.95]
[16.48,0.95]
[16.489999999999998,0.95]
[16.5,0.95]
[16.510000000000002,0.95]
[16.52,0.95]
[16.53,0.95]
[16.54,0.95]
[16.55,0.95]
[16.559999999999999,0.95]
[16.57,0.95]
[16.579999999999998,0.95]
[16.59,0.95]
[16.600000000000001,0.95]
[16.61,0.95]
[16.62,0.95]
[16.63,0.95]
[16.64,0.95]
[16.649999999999999,0.95]
[16.66,0.95]
[16.670000000000002,0.95]
[16.68,0.95]
[16.690000000000001,0.95]
[16.7,0.95]
[16.71,0.95]
[16.72,0.95]
[16.73,0.95]
[16.739999999999998,0.95]
[16.75,0.95]
[16.760000000000002,0.95]
[16.77,0.95]
[16.78,0.95]
[16.79,0.95]
[16.8,0.95]
[16.809999999999999,0.95]
[16.82,0.95]
[16.829999999999998,0.95]
[16.84,0.95]
[16.850000000000001,0.95]
[16.86,0.95]
[16.87,0.95]
[16.88,0.95]
[16.89,0.95]
[16.899999999999999,0.95]
[16.91,0.95]
[16.920000000000002,0.95]
[16.93,0.95]
[16.940000000000001,0.95]
[16.95,0.95]
[16.96,0.95]
[16.97,0.95]
[16.98,0.95]
[16.989999999999998,0.95]
[17,0.95]
[17.010000000000002,0.95]
[17.02,0.95]
[17.03,0.95]
[17.04,0.95]
[17.05,0.95]
[17.059999999999999,0.95]
[17.07,0.95]
[17.079999999999998,0.95]
[17.09,0.95]
[17.100000000000001,0.95]
[17.11,0.95]
[17.12,0.95]
[17.13,0.95]
[17.14,0.95]
[17.149999999999999,0.95]
[17.16,0.95]
[17.170000000000002,0.95]
[17.18,0.95]
[17.190000000000001,0.95]
[17.2,0.95]
[17.21,0.95]
[17.22,0.95]
[17.23,0.95]
[17.239999999999998,0.95]
[17.25,0.95]
[17.260000000000002,0.95]
[17.27,0.95]
[17.28,0.95]
[17.29,0.95]
[17.3,0.95]
[17.309999999999999,0.95]
[17.32,0.95]
[17.329999999999998,0.95]
[17.34,0.95]
[17.350000000000001,0.95]
[17.36,0.95]
[17.37,0.95]
[17.38,0.95]
[17.39,0.95]
[17.399999999999999,0.95]
[17.41,0.95]
[17.420000000000002,0.95]
[17.43,0.95]
[17.440000000000001,0.95]
[17.45,0.95]
[17.46,0.95]
[17.47,0.95]
[17.48,0.95]
[17.489999999999998,0.95]
[17.5,0.95]
[17.510000000000002,0.95]
[17.52,0.95]
[17.53,0.95]
[17.54,0.95]
[17.55,0.95]
[17.559999999999999,0.95]
[17.57,0.95]
[17.579999999999998,0.95]
[17.59,0.95]
[17.600000000000001,0.95]
[17.61,0.95]
[17.62,0.95]
[17.63,0.95]
[17.64,0.95]
[17.649999999999999,0.95]
[17.66,0.95]
[17.670000000000002,0.95]
[17.68,0.95]
[17.690000000000001,0.95]
[17.7,0.95]
[17.71,0.95]
[17.72,0.95]
[17.73,0.95]
[17.739999999999998,0.95]
[17.75,0.95]
[17.760000000000002,0.95]
[17.77,0.95]
[17.78,0.95]
[17.79,0.95]
[17.8,0.95]
[17.809999999999999,0.95]
[17.82,0.95]
[17.829999999999998,0.95]
[17.84,0.95]
[17.850000000000001,0.95]
[17.86,0.95]
[17.87,0.95]
[17.88,0.95]
[17.89,0.95]
[17.899999999999999,0.95]
[17.91,0.95]
[17.920000000000002,0.95]
[17.93,0.95]
[17.940000000000001,0.95]
[17.95,0.95]
[17.96,0.95]
[17.97,0.95]
[17.98,0.95]
[17.989999999999998,0.95]
[18,0.95]
[18.010000000000002,0.95]
[18.02,0.95]
[18.03,0.95]
[18.04,0.95]
[18.05,0.95]
[18.059999999999999,0.95]
[18.07,0.95]
[18.079999999999998,0.95]
[18.09,0.95]
[18.100000000000001,0.95]
[18.11,0.95]
[18.12,0.95]
[18.13,0.95]
[18.14,0.95]
[18.149999999999999,0.95]
[18.16,0.95]
[18.170000000000002,0.95]
[18.18,0.95]
[18.190000000000001,0.95]
[18.2,0.95]
[18.21,0.95]
[18.22,0.95]
[18.23,0.95]
[18.239999999999998,0.95]
[18.25,0.95]
[18.260000000000002,0.95]
[18.27,0.95]
[18.28,0.95]
[18.29,0.95]
[18.3,0.95]
[18.309999999999999,0.95]
[18.32,0.95]
[18.329999999999998,0.95]
[18.34,0.95]
[18.350000000000001,0.95]
[18.36,0.95]
[18.37,0.95]
[18.38,0.95]
[18.39,0.95]
[18.399999999999999,0.95]
[18.41,0.95]
[18.420000000000002,0.95]
[18.43,0.95]
[18.440000000000001,0.95]
[18.45,0.95]
[18.46,0.95]
[18.47,0.95]
[18.48,0.95]
[18.489999999999998,0.95]
[18.5,0.95]
[18.510000000000002,0.95]
[18.52,0.95]
[18.53,0.95]
[18.54,0.95]
[18.55,0.95]
[18.559999999999999,0.95]
[18.57,0.95]
[18.579999999999998,0.95]
[18.59,0.95]
[18.600000000000001,0.95]
[18.61,0.95]
[18.62,0.95]
[18.63,0.95]
[18.64,0.95]
[18.649999999999999,0.95]
[18.66,0.95]
[18.670000000000002,0.95]
[18.68,0.95]
[18.690000000000001,0.95]
[18.7,0.95]
[18.71,0.95]
[18.72,0.95]
[18.73,0.95]
[18.739999999999998,0.95]
[18.75,0.95]
[18.760000000000002,0.95]
[18.77,0.95]
[18.78,0.95]
[18.79,0.95]
[18.8,0.95]
[18.809999999999999,0.95]
[18.82,0.95]
[18.829999999999998,0.95]
[18.84,0.95]
[18.850000000000001,0.95]
[18.86,0.95]
[18.87,0.95]
[18.88,0.95]
[18.89,0.95]
[18.899999999999999,0.95]
[18.91,0.95]
[18.920000000000002,0.95]
[18.93,0.95]
[18.940000000000001,0.95]
[18.95,0.95]
[18.96,0.95]
[18.97,0.95]
[18.98,0.95]
[18.989999999999998,0.95]
[19,0.95]
[19.010000000000002,0.95]
[19.02,0.95]
[19.03,0.95]
[19.04,0.95]
[19.05,0.95]
[19.059999999999999,0.95]
[19.07,0.95]
[19.079999999999998,0.95]
[19.09,0.95]
[19.100000000000001,0.95]
[19.11,0.95]
[19.12,0.95]
[19.13,0.95]
[19.14,0.95]
[19.149999999999999,0.95]
[19.16,0.95]
[19.170000000000002,0.95]
[19.18,0.95]
[19.190000000000001,0.95]
[19.2,0.95]
[19.21,0.95]
[19.22,0.95]
[19.23,0.95]
[19.239999999999998,0.95]
[19.25,0.95]
[19.260000000000002,0.95]
[19.27,0.95]
[19.28,0.95]
[19.29,0.95]
[19.3,0.95]
[19.309999999999999,0.95]
[19.32,0.95]
[19.329999999999998,0.95]
[19.34,0.95]
[19.350000000000001,0.95]
[19.36,0.95]
[19.37,0.95]
[19.38,0.95]
[19.39,0.95]
[19.399999999999999,0.95]
[19.41,0.95]
[19.420000000000002,0.95]
[19.43,0.95]
[19.440000000000001,0.95]
[19.45,0.95]
[19.46,0.95]
[19.47,0.95]
[19.48,0.95]
[19.489999999999998,0.95]
[19.5,0.95]
[19.510000000000002,0.95]
[19.52,0.95]
[19.53,0.95]
[19.54,0.95]
[19.55,0.95]
[19.559999999999999,0.95]
[19.57,0.95]
[19.579999999999998,0.95]
[19.59,0.95]
[19.600000000000001,0.95]
[19.61,0.95]
[19.62,0.95]
[19.63,0.95]
[19.64,0.95]
[19.649999999999999,0.95]
[19.66,0.95]
[19.670000000000002,0.95]
[19.68,0.95]
[19.690000000000001,0.95]
[19.7,0.95]
[19.71,0.95]
[19.72,0.95]
[19.73,0.95]
[19.739999999999998,0.95]
[19.75,0.95]
[19.760000000000002,0.95]
[19.77,0.95]
[19.78,0.95]
[19.79,0.95]
[19.8,0.95]
[19.809999999999999,0.95]
[19.82,0.95]
[19.829999999999998,0.95]
[19.84,0.95]
[19.850000000000001,0.95]
[19.86,0.95]
[19.87,0.95]
[19.88,0.95]
[19.89,0.95]
[19.899999999999999,0.95]
[19.91,0.95]
[19.920000000000002,0.95]
[19.93,0.95]
[19.940000000000001,0.95]
[19.95,0.95]
[19.96,0.95]
[19.97,0.95]
[19.98,0.95]
[19.989999999999998,0.95]
[20,0.95]
[20.010000000000002,0.92]
[20.02,0.92]
[20.03,0.92]
[20.04,0.92]
[20.05,0.92]
[20.059999999999999,0.92]
[20.07,0.92]
[20.079999999999998,0.92]
[20.09,0.92]
[20.100000000000001,0.92]
[20.11,0.92]
[20.12,0.92]
[20.13,0.92]
[20.14,0.92]
[20.149999999999999,0.92]
[20.16,0.92]
[20.170000000000002,0.92]
[20.18,0.92]
[20.190000000000001,0.92]
[20.2,0.92]
[20.21,0.92]
[20.22,0.92]
[20.23,0.92]
[20.239999999999998,0.92]
[20.25,0.92]
[20.260000000000002,0.92]
[20.27,0.92]
[20.28,0.92]
[20.29,0.92]
[20.3,0.92]
[20.309999999999999,0.92]
[20.32,0.92]
[20.329999999999998,0.92]
[20.34,0.92]
[20.350000000000001,0.92]
[20.36,0.92]
[20.37,0.92]
[20.38,0.92]
[20.39,0.92]
[20.399999999999999,0.92]
[20.41,0.92]
[20.420000000000002,0.92]
[20.43,0.92]
[20.440000000000001,0.92]
[20.45,0.92]
[20.46,0.92]
[20.47,0.92]
[20.48,0.92]
[20.49,0.92]
[20.5,0.92]
[20.51,0.92]
[20.52,0.92]
[20.53,0.92]
[20.54,0.92]
[20.55,0.92]
[20.56,0.92]
[20.57,0.92]
[20.58,0.92]
[20.59,0.92]
[20.6,0.92]
[20.61,0.92]
[20.62,0.92]
[20.63,0.92]
[20.64,0.92]
[20.65,0.92]
[20.66,0.92]
[20.67,0.92]
[20.68,0.92]
[20.69,0.92]
[20.7,0.92]
[20.71,0.92]
[20.72,0.92]
[20.73,0.92]
[20.74,0.92]
[20.75,0.92]
[20.76,0.92]
[20.77,0.92]
[20.78,0.92]
[20.79,0.92]
[20.8,0.92]
[20.81,0.92]
[20.82,0.92]
[20.83,0.92]
[20.84,0.92]
[20.85,0.92]
[20.86,0.92]
[20.87,0.92]
[20.88,0.92]
[20.89,0.92]
[20.9,0.92]
[20.91,0.92]
[20.92,0.92]
[20.93,0.92]
[20.94,0.92]
[20.95,0.92]
[20.96,0.92]
[20.97,0.92]
[20.98,0.92]
[20.99,0.92]
[21,0.92]
[21.01,0.92]
[21.02,0.92]
[21.03,0.92]
[21.04,0.92]
[21.05,0.92]
[21.06,0.92]
[21.07,0.92]
[21.08,0.92]
[21.09,0.92]
[21.1,0.92]
[21.11,0.92]
[21.12,0.92]
[21.13,0.92]
[21.14,0.92]
[21.15,0.92]
[21.16,0.92]
[21.17,0.92]
[21.18,0.92]
[21.19,0.92]
[21.2,0.92]
[21.21,0.92]
[21.22,0.92]
[21.23,0.92]
[21.24,0.92]
[21.25,0.92]
[21.26,0.92]
[21.27,0.92]
[21.28,0.92]
[21.29,0.92]
[21.3,0.92]
[21.31,0.92]
[21.32,0.92]
[21.33,0.92]
[21.34,0.92]
[21.35,0.92]
[21.36,0.92]
[21.37,0.92]
[21.38,0.92]
[21.39,0.92]
[21.4,0.92]
[21.41,0.92]
[21.42,0.92]
[21.43,0.92]
[21.44,0.92]
[21.45,0.92]
[21.46,0.92]
[21.47,0.92]
[21.48,0.92]
[21.49,0.92]
[21.5,0.92]
[21.51,0.92]
[21.52,0.92]
[21.53,0.92]
[21.54,0.92]
[21.55,0.92]
[21.56,0.92]
[21.57,0.92]
[21.58,0.92]
[21.59,0.92]
[21.6,0.92]
[21.61,0.92]
[21.62,0.92]
[21.63,0.92]
[21.64,0.92]
[21.65,0.92]
[21.66,0.92]
[21.67,0.92]
[21.68,0.92]
[21.69,0.92]
[21.7,0.92]
[21.71,0.92]
[21.72,0.92]
[21.73,0.92]
[21.74,0.92]
[21.75,0.92]
[21.76,0.92]
[21.77,0.92]
[21.78,0.92]
[21.79,0.92]
[21.8,0.92]
[21.81,0.92]
[21.82,0.92]
[21.83,0.92]
[21.84,0.92]
[21.85,0.92]
[21.86,0.92]
[21.87,0.92]
[21.88,0.92]
[21.89,0.92]
[21.9,0.92]
[21.91,0.92]
[21.92,0.92]
[21.93,0.92]
[21.94,0.92]
[21.95,0.92]
[21.96,0.92]
[21.97,0.92]
[21.98,0.92]
[21.99,0.92]
[22,0.92]
[22.01,0.92]
[22.02,0.92]
[22.03,0.92]
[22.04,0.92]
[22.05,0.92]
[22.06,0.92]
[22.07,0.92]
[22.08,0.92]
[22.09,0.92]
[22.1,0.92]
[22.11,0.92]
[22.12,0.92]
[22.13,0.92]
[22.14,0.92]
[22.15,0.92]
[22.16,0.92]
[22.17,0.92]
[22.18,0.92]
[22.19,0.92]
[22.2,0.92]
[22.21,0.92]
[22.22,0.92]
[22.23,0.92]
[22.24,0.92]
[22.25,0.92]
[22.26,0.92]
[22.27,0.92]
[22.28,0.92]
[22.29,0.92]
[22.3,0.92]
[22.31,0.92]
[22.32,0.92]
[22.33,0.92]
[22.34,0.92]
[22.35,0.92]
[22.36,0.92]
[22.37,0.92]
[22.38,0.92]
[22.39,0.92]
[22.4,0.92]
[22.41,0.92]
[22.42,0.92]
[22.43,0.92]
[22.44,0.92]
[22.45,0.92]
[22.46,0.92]
[22.47,0.92]
[22.48,0.92]
[22.49,0.92]
[22.5,0.92]
[22.51,0.92]
[22.52,0.92]
[22.53,0.92]
[22.54,0.92]
[22.55,0.92]
[22.56,0.92]
[22.57,0.92]
[22.58,0.92]
[22.59,0.92]
[22.6,0.92]
[22.61,0.92]
[22.62,0.92]
[22.63,0.92]
[22.64,0.92]
[22.65,0.92]
[22.66,0.92]
[22.67,0.92]
[22.68,0.92]
[22.69,0.92]
[22.7,0.92]
[22.71,0.92]
[22.72,0.92]
[22.73,0.92]
[22.74,0.92]
[22.75,0.92]
[22.76,0.92]
[22.77,0.92]
[22.78,0.92]
[22.79,0.92]
[22.8,0.92]
[22.81,0.92]
[22.82,0.92]
[22.83,0.92]
[22.84,0.92]
[22.85,0.92]
[22.86,0.92]
[22.87,0.92]
[22.88,0.92]
[22.89,0.92]
[22.9,0.92]
[22.91,0.92]
[22.92,0.92]
[22.93,0.92]
[22.94,0.92]
[22.95,0.92]
[22.96,0.92]
[22.97,0.92]
[22.98,0.92]
[22.99,0.92]
[23,0.92]
[23.01,0.92]
[23.02,0.92]
[23.03,0.92]
[23.04,0.92]
[23.05,0.92]
[23.06,0.92]
[23.07,0.92]
[23.08,0.92]
[23.09,0.92]
[23.1,0.92]
[23.11,0.92]
[23.12,0.92]
[23.13,0.92]
[23.14,0.92]
[23.15,0.92]
[23.16,0.92]
[23.17,0.92]
[23.18,0.92]
[23.19,0.92]
[23.2,0.92]
[23.21,0.92]
[23.22,0.92]
[23.23,0.92]
[23.24,0.92]
[23.25,0.92]
[23.26,0.92]
[23.27,0.92]
[23.28,0.92]
[23.29,0.92]
[23.3,0.92]
[23.31,0.92]
[23.32,0.92]
[23.33,0.92]
[23.34,0.92]
[23.35,0.92]
[23.36,0.92]
[23.37,0.92]
[23.38,0.92]
[23.39,0.92]
[23.4,0.92]
[23.41,0.92]
[23.42,0.92]
[23.43,0.92]
[23.44,0.92]
[23.45,0.92]
[23.46,0.92]
[23.47,0.92]
[23.48,0.92]
[23.49,0.92]
[23.5,0.92]
[23.51,0.92]
[23.52,0.92]
[23.53,0.92]
[23.54,0.92]
[23.55,0.92]
[23.56,0.92]
[23.57,0.92]
[23.58,0.92]
[23.59,0.92]
[23.6,0.92]
[23.61,0.92]
[23.62,0.92]
[23.63,0.92]
[23.64,0.92]
[23.65,0.92]
[23.66,0.92]
[23.67,0.92]
[23.68,0.92]
[23.69,0.92]
[23.7,0.92]
[23.71,0.92]
[23.72,0.92]
[23.73,0.92]
[23.74,0.92]
[23.75,0.92]
[23.76,0.92]
[23.77,0.92]
[23.78,0.92]
[23.79,0.92]
[23.8,0.92]
[23.81,0.92]
[23.82,0.92]
[23.83,0.92]
[23.84,0.92]
[23.85,0.92]
[23.86,0.92]
[23.87,0.92]
[23.88,0.92]
[23.89,0.92]
[23.9,0.92]
[23.91,0.92]
[23.92,0.92]
[23.93,0.92]
[23.94,0.92]
[23.95,0.92]
[23.96,0.92]
[23.97,0.92]
[23.98,0.92]
[23.99,0.92]
[24,0.92]
[24.01,0.92]
[24.02,0.92]
[24.03,0.92]
[24.04,0.92]
[24.05,0.92]
[24.06,0.92]
[24.07,0.92]
[24.08,0.92]
[24.09,0.92]
[24.1,0.92]
[24.11,0.92]
[24.12,0.92]
[24.13,0.92]
[24.14,0.92]
[24.15,0.92]
[24.16,0.92]
[24.17,0.92]
[24.18,0.92]
[24.19,0.92]
[24.2,0.92]
[24.21,0.92]
[24.22,0.92]
[24.23,0.92]
[24.24,0.92]
[24.25,0.92]
[24.26,0.92]
[24.27,0.92]
[24.28,0.92]
[24.29,0.92]
[24.3,0.92]
[24.31,0.92]
[24.32,0.92]
[24.33,0.92]
[24.34,0.92]
[24.35,0.92]
[24.36,0.92]
[24.37,0.92]
[24.38,0.92]
[24.39,0.92]
[24.4,0.92]
[24.41,0.92]
[24.42,0.92]
[24.43,0.92]
[24.44,0.92]
[24.45,0.92]
[24.46,0.92]
[24.47,0.92]
[24.48,0.92]
[24.49,0.92]
[24.5,0.92]
[24.51,0.92]
[24.52,0.92]
[24.53,0.92]
[24.54,0.92]
[24.55,0.92]
[24.56,0.92]
[24.57,0.92]
[24.58,0.92]
[24.59,0.92]
[24.6,0.92]
[24.61,0.92]
[24.62,0.92]
[24.63,0.92]
[24.64,0.92]
[24.65,0.92]
[24.66,0.92]
[24.67,0.92]
[24.68,0.92]
[24.69,0.92]
[24.7,0.92]
[24.71,0.92]
[24.72,0.92]
[24.73,0.92]
[24.74,0.92]
[24.75,0.92]
[24.76,0.92]
[24.77,0.92]
[24.78,0.92]
[24.79,0.92]
[24.8,0.92]
[24.81,0.92]
[24.82,0.92]
[24.83,0.92]
[24.84,0.92]
[24.85,0.92]
[24.86,0.92]
[24.87,0.92]
[24.88,0.92]
[24.89,0.92]
[24.9,0.92]
[24.91,0.92]
[24.92,0.92]
[24.93,0.92]
[24.94,0.92]
[24.95,0.92]
[24.96,0.92]
[24.97,0.92]
[24.98,0.92]
[24.99,0.92]
[25,0.92]
[25.01,0.92]
[25.02,0.92]
[25.03,0.92]
[25.04,0.92]
[25.05,0.92]
[25.06,0.92]
[25.07,0.92]
[25.08,0.92]
[25.09,0.92]
[25.1,0.92]
[25.11,0.92]
[25.12,0.92]
[25.13,0.92]
[25.14,0.92]
[25.15,0.92]
[25.16,0.92]
[25.17,0.92]
[25.18,0.92]
[25.19,0.92]
[25.2,0.92]
[25.21,0.92]
[25.22,0.92]
[25.23,0.92]
[25.24,0.92]
[25.25,0.92]
[25.26,0.92]
[25.27,0.92]
[25.28,0.92]
[25.29,0.92]
[25.3,0.92]
[25.31,0.92]
[25.32,0.92]
[25.33,0.92]
[25.34,0.92]
[25.35,0.92]
[25.36,0.92]
[25.37,0.92]
[25.38,0.92]
[25.39,0.92]
[25.4,0.92]
[25.41,0.92]
[25.42,0.92]
[25.43,0.92]
[25.44,0.92]
[25.45,0.92]
[25.46,0.92]
[25.47,0.92]
[25.48,0.92]
[25.49,0.92]
[25.5,0.92]
[25.51,0.92]
[25.52,0.92]
[25.53,0.92]
[25.54,0.92]
[25.55,0.92]
[25.56,0.92]
[25.57,0.92]
[25.58,0.92]
[25.59,0.92]
[25.6,0.92]
[25.61,0.92]
[25.62,0.92]
[25.63,0.92]
[25.64,0.92]
[25.65,0.92]
[25.66,0.92]
[25.67,0.92]
[25.68,0.92]
[25.69,0.92]
[25.7,0.92]
[25.71,0.92]
[25.72,0.92]
[25.73,0.92]
[25.74,0.92]
[25.75,0.92]
[25.76,0.92]
[25.77,0.92]
[25.78,0.92]
[25.79,0.92]
[25.8,0.92]
[25.81,0.92]
[25.82,0.92]
[25.83,0.92]
[25.84,0.92]
[25.85,0.92]
[25.86,0.92]
[25.87,0.92]
[25.88,0.92]
[25.89,0.92]
[25.9,0.92]
[25.91,0.92]
[25.92,0.92]
[25.93,0.92]
[25.94,0.92]
[25.95,0.92]
[25.96,0.92]
[25.97,0.92]
[25.98,0.92]
[25.99,0.92]
[26,0.92]
[26.01,0.92]
[26.02,0.92]
[26.03,0.92]
[26.04,0.92]
[26.05,0.92]
[26.06,0.92]
[26.07,0.92]
[26.08,0.92]
[26.09,0.92]
[26.1,0.92]
[26.11,0.92]
[26.12,0.92]
[26.13,0.92]
[26.14,0.92]
[26.15,0.92]
[26.16,0.92]
[26.17,0.92]
[26.18,0.92]
[26.19,0.92]
[26.2,0.92]
[26.21,0.92]
[26.22,0.92]
[26.23,0.92]
[26.24,0.92]
[26.25,0.92]
[26.26,0.92]
[26.27,0.92]
[26.28,0.92]
[26.29,0.92]
[26.3,0.92]
[26.31,0.92]
[26.32,0.92]
[26.33,0.92]
[26.34,0.92]
[26.35,0.92]
[26.36,0.92]
[26.37,0.92]
[26.38,0.92]
[26.39,0.92]
[26.4,0.92]
[26.41,0.92]
[26.42,0.92]
[26.43,0.92]
[26.44,0.92]
[26.45,0.92]
[26.46,0.92]
[26.47,0.92]
[26.48,0.92]
[26.49,0.92]
[26.5,0.92]
[26.51,0.92]
[26.52,0.92]
[26.53,0.92]
[26.54,0.92]
[26.55,0.92]
[26.56,0.92]
[26.57,0.92]
[26.58,0.92]
[26.59,0.92]
[26.6,0.92]
[26.61,0.92]
[26.62,0.92]
[26.63,0.92]
[26.64,0.92]
[26.65,0.92]
[26.66,0.92]
[26.67,0.92]
[26.68,0.92]
[26.69,0.92]
[26.7,0.92]
[26.71,0.92]
[26.72,0.92]
[26.73,0.92]
[26.74,0.92]
[26.75,0.92]
[26.76,0.92]
[26.77,0.92]
[26.78,0.92]
[26.79,0.92]
[26.8,0.92]
[26.81,0.92]
[26.82,0.92]
[26.83,0.92]
[26.84,0.92]
[26.85,0.92]
[26.86,0.92]
[26.87,0.92]
[26.88,0.92]
[26.89,0.92]
[26.9,0.92]
[26.91,0.92]
[26.92,0.92]
[26.93,0.92]
[26.94,0.92]
[26.95,0.92]
[26.96,0.92]
[26.97,0.92]
[26.98,0.92]
[26.99,0.92]
[27,0.92]
[27.01,0.92]
[27.02,0.92]
[27.03,0.92]
[27.04,0.92]
[27.05,0.92]
[27.06,0.92]
[27.07,0.92]
[27.08,0.92]
[27.09,0.92]
[27.1,0.92]
[27.11,0.92]
[27.12,0.92]
[27.13,0.92]
[27.14,0.92]
[27.15,0.92]
[27.16,0.92]
[27.17,0.92]
[27.18,0.92]
[27.19,0.92]
[27.2,0.92]
[27.21,0.92]
[27.22,0.92]
[27.23,0.92]
[27.24,0.92]
[27.25,0.92]
[27.26,0.92]
[27.27,0.92]
[27.28,0.92]
[27.29,0.92]
[27.3,0.92]
[27.31,0.92]
[27.32,0.92]
[27.33,0.92]
[27.34,0.92]
[27.35,0.92]
[27.36,0.92]
[27.37,0.92]
[27.38,0.92]
[27.39,0.92]
[27.4,0.92]
[27.41,0.92]
[27.42,0.92]
[27.43,0.92]
[27.44,0.92]
[27.45,0.92]
[27.46,0.92]
[27.47,0.92]
[27.48,0.92]
[27.49,0.92]
[27.5,0.92]
[27.51,0.92]
[27.52,0.92]
[27.53,0.92]
[27.54,0.92]
[27.55,0.92]
[27.56,0.92]
[27.57,0.92]
[27.58,0.92]
[27.59,0.92]
[27.6,0.92]
[27.61,0.92]
[27.62,0.92]
[27.63,0.92]
[27.64,0.92]
[27.65,0.92]
[27.66,0.92]
[27.67,0.92]
[27.68,0.92]
[27.69,0.92]
[27.7,0.92]
[27.71,0.92]
[27.72,0.92]
[27.73,0.92]
[27.74,0.92]
[27.75,0.92]
[27.76,0.92]
[27.77,0.92]
[27.78,0.92]
[27.79,0.92]
[27.8,0.92]
[27.81,0.92]
[27.82,0.92]
[27.83,0.92]
[27.84,0.92]
[27.85,0.92]
[27.86,0.92]
[27.87,0.92]
[27.88,0.92]
[27.89,0.92]
[27.9,0.92]
[27.91,0.92]
[27.92,0.92]
[27.93,0.92]
[27.94,0.92]
[27.95,0.92]
[27.96,0.92]
[27.97,0.92]
[27.98,0.92]
[27.99,0.92]
[28,0.92]
[28.01,0.92]
[28.02,0.92]
[28.03,0.92]
[28.04,0.92]
[28.05,0.92]
[28.06,0.92]
[28.07,0.92]
[28.08,0.92]
[28.09,0.92]
[28.1,0.92]
[28.11,0.92]
[28.12,0.92]
[28.13,0.92]
[28.14,0.92]
[28.15,0.92]
[28.16,0.92]
[28.17,0.92]
[28.18,0.92]
[28.19,0.92]
[28.2,0.92]
[28.21,0.92]
[28.22,0.92]
[28.23,0.92]
[28.24,0.92]
[28.25,0.92]
[28.26,0.92]
[28.27,0.92]
[28.28,0.92]
[28.29,0.92]
[28.3,0.92]
[28.31,0.92]
[28.32,0.92]
[28.33,0.92]
[28.34,0.92]
[28.35,0.92]
[28.36,0.92]
[28.37,0.92]
[28.38,0.92]
[28.39,0.92]
[28.4,0.92]
[28.41,0.92]
[28.42,0.92]
[28.43,0.92]
[28.44,0.92]
[28.45,0.92]
[28.46,0.92]
[28.47,0.92]
[28.48,0.92]
[28.49,0.92]
[28.5,0.92]
[28.51,0.92]
[28.52,0.92]
[28.53,0.92]
[28.54,0.92]
[28.55,0.92]
[28.56,0.92]
[28.57,0.92]
[28.58,0.92]
[28.59,0.92]
[28.6,0.92]
[28.61,0.92]
[28.62,0.92]
[28.63,0.92]
[28.64,0.92]
[28.65,0.92]
[28.66,0.92]
[28.67,0.92]
[28.68,0.92]
[28.69,0.92]
[28.7,0.92]
[28.71,0.92]
[28.72,0.92]
[28.73,0.92]
[28.74,0.92]
[28.75,0.92]
[28.76,0.92]
[28.77,0.92]
[28.78,0.92]
[28.79,0.92]
[28.8,0.92]
[28.81,0.92]
[28.82,0.92]
[28.83,0.92]
[28.84,0.92]
[28.85,0.92]
[28.86,0.92]
[28.87,0.92]
[28.88,0.92]
[28.89,0.92]
[28.9,0.92]
[28.91,0.92]
[28.92,0.92]
[28.93,0.92]
[28.94,0.92]
[28.95,0.92]
[28.96,0.92]
[28.97,0.92]
[28.98,0.92]
[28.99,0.92]
[29,0.92]
[29.01,0.92]
[29.02,0.92]
[29.03,0.92]
[29.04,0.92]
[29.05,0.92]
[29.06,0.92]
[29.07,0.92]
[29.08,0.92]
[29.09,0.92]
[29.1,0.92]
[29.11,0.92]
[29.12,0.92]
[29.13,0.92]
[29.14,0.92]
[29.15,0.92]
[29.16,0.92]
[29.17,0.92]
[29.18,0.92]
[29.19,0.92]
[29.2,0.92]
[29.21,0.92]
[29.22,0.92]
[29.23,0.92]
[29.24,0.92]
[29.25,0.92]
[29.26,0.92]
[29.27,0.92]
[29.28,0.92]
[29.29,0.92]
[29.3,0.92]
[29.31,0.92]
[29.32,0.92]
[29.33,0.92]
[29.34,0.92]
[29.35,0.92]
[29.36,0.92]
[29.37,0.92]
[29.38,0.92]
[29.39,0.92]
[29.4,0.92]
[29.41,0.92]
[29.42,0.92]
[29.43,0.92]
[29.44,0.92]
[29.45,0.92]
[29.46,0.92]
[29.47,0.92]
[29.48,0.92]
[29.49,0.92]
[29.5,0.92]
[29.51,0.92]
[29.52,0.92]
[29.53,0.92]
[29.54,0.92]
[29.55,0.92]
[29.56,0.92]
[29.57,0.92]
[29.58,0.92]
[29.59,0.92]
[29.6,0.92]
[29.61,0.92]
[29.62,0.92]
[29.63,0.92]
[29.64,0.92]
[29.65,0.92]
[29.66,0.92]
[29.67,0.92]
[29.68,0.92]
[29.69,0.92]
[29.7,0.92]
[29.71,0.92]
[29.72,0.92]
[29.73,0.92]
[29.74,0.92]
[29.75,0.92]
[29.76,0.92]
[29.77,0.92]
[29.78,0.92]
[29.79,0.92]
[29.8,0.92]
[29.81,0.92]
[29.82,0.92]
[29.83,0.92]
[29.84,0.92]
[29.85,0.92]
[29.86,0.92]
[29.87,0.92]
[29.88,0.92]
[29.89,0.92]
[29.9,0.92]
[29.91,0.92]
[29.92,0.92]
[29.93,0.92]
[29.94,0.92]
[29.95,0.92]
[29.96,0.92]
[29.97,0.92]
[29.98,0.92]
[29.99,0.92]
[30,0.92]
[30.01,0.92]
[30.02,0.92]
[30.03,0.92]
[30.04,0.92]
[30.05,0.92]
[30.06,0.92]
[30.07,0.92]
[30.08,0.92]
[30.09,0.92]
[30.1,0.92]
[30.11,0.92]
[30.12,0.92]
[30.13,0.92]
[30.14,0.92]
[30.15,0.92]
[30.16,0.92]
[30.17,0.92]
[30.18,0.92]
[30.19,0.92]
[30.2,0.92]
[30.21,0.92]
[30.22,0.92]
[30.23,0.92]
[30.24,0.92]
[30.25,0.92]
[30.26,0.92]
[30.27,0.92]
[30.28,0.92]
[30.29,0.92]
[30.3,0.92]
[30.31,0.92]
[30.32,0.92]
[30.33,0.92]
[30.34,0.92]
[30.35,0.92]
[30.36,0.92]
[30.37,0.92]
[30.38,0.92]
[30.39,0.92]
[30.4,0.92]
[30.41,0.92]
[30.42,0.92]
[30.43,0.92]
[30.44,0.92]
[30.45,0.92]
[30.46,0.92]
[30.47,0.92]
[30.48,0.92]
[30.49,0.92]
[30.5,0.92]
[30.51,0.92]
[30.52,0.92]
[30.53,0.92]
[30.54,0.92]
[30.55,0.92]
[30.56,0.92]
[30.57,0.92]
[30.58,0.92]
[30.59,0.92]
[30.6,0.92]
[30.61,0.92]
[30.62,0.92]
[30.63,0.92]
[30.64,0.92]
[30.65,0.92]
[30.66,0.92]
[30.67,0.92]
[30.68,0.92]
[30.69,0.92]
[30.7,0.92]
[30.71,0.92]
[30.72,0.92]
[30.73,0.92]
[30.74,0.92]
[30.75,0.92]
[30.76,0.92]
[30.77,0.92]
[30.78,0.92]
[30.79,0.92]
[30.8,0.92]
[30.81,0.92]
[30.82,0.92]
[30.83,0.92]
[30.84,0.92]
[30.85,0.92]
[30.86,0.92]
[30.87,0.92]
[30.88,0.92]
[30.89,0.92]
[30.9,0.92]
[30.91,0.92]
[30.92,0.92]
[30.93,0.92]
[30.94,0.92]
[30.95,0.92]
[30.96,0.92]
[30.97,0.92]
[30.98,0.92]
[30.99,0.92]
[31,0.92]
[31.01,0.92]
[31.02,0.92]
[31.03,0.92]
[31.04,0.92]
[31.05,0.92]
[31.06,0.92]
[31.07,0.92]
[31.08,0.92]
[31.09,0.92]
[31.1,0.92]
[31.11,0.92]
[31.12,0.92]
[31.13,0.92]
[31.14,0.92]
[31.15,0.92]
[31.16,0.92]
[31.17,0.92]
[31.18,0.92]
[31.19,0.92]
[31.2,0.92]
[31.21,0.92]
[31.22,0.92]
[31.23,0.92]
[31.24,0.92]
[31.25,0.92]
[31.26,0.92]
[31.27,0.92]
[31.28,0.92]
[31.29,0.92]
[31.3,0.92]
[31.31,0.92]
[31.32,0.92]
[31.33,0.92]
[31.34,0.92]
[31.35,0.92]
[31.36,0.92]
[31.37,0.92]
[31.38,0.92]
[31.39,0.92]
[31.4,0.92]
[31.41,0.92]
[31.42,0.92]
[31.43,0.92]
[31.44,0.92]
[31.45,0.92]
[31.46,0.92]
[31.47,0.92]
[31.48,0.92]
[31.49,0.92]
[31.5,0.92]
[31.51,0.92]
[31.52,0.92]
[31.53,0.92]
[31.54,0.92]
[31.55,0.92]
[31.56,0.92]
[31.57,0.92]
[31.58,0.92]
[31.59,0.92]
[31.6,0.92]
[31.61,0.92]
[31.62,0.92]
[31.63,0.92]
[31.64,0.92]
[31.65,0.92]
[31.66,0.92]
[31.67,0.92]
[31.68,0.92]
[31.69,0.92]
[31.7,0.92]
[31.71,0.92]
[31.72,0.92]
[31.73,0.92]
[31.74,0.92]
[31.75,0.92]
[31.76,0.92]
[31.77,0.92]
[31.78,0.92]
[31.79,0.92]
[31.8,0.92]
[31.81,0.92]
[31.82,0.92]
[31.83,0.92]
[31.84,0.92]
[31.85,0.92]
[31.86,0.92]
[31.87,0.92]
[31.88,0.92]
[31.89,0.92]
[31.9,0.92]
[31.91,0.92]
[31.92,0.92]
[31.93,0.92]
[31.94,0.92]
[31.95,0.92]
[31.96,0.92]
[31.97,0.92]
[31.98,0.92]
[31.99,0.92]
[32,0.92]
[32.01,0.92]
[32.020000000000003,0.92]
[32.03,0.92]
[32.04,0.92]
[32.049999999999997,0.92]
[32.06,0.92]
[32.07,0.92]
[32.08,0.92]
[32.090000000000003,0.92]
[32.1,0.92]
[32.11,0.92]
[32.119999999999997,0.92]
[32.130000000000003,0.92]
[32.14,0.92]
[32.15,0.92]
[32.159999999999997,0.92]
[32.17,0.92]
[32.18,0.92]
[32.19,0.92]
[32.200000000000003,0.92]
[32.21,0.92]
[32.22,0.92]
[32.229999999999997,0.92]
[32.24,0.92]
[32.25,0.92]
[32.26,0.92]
[32.270000000000003,0.92]
[32.28,0.92]
[32.29,0.92]
[32.299999999999997,0.92]
[32.31,0.92]
[32.32,0.92]
[32.33,0.92]
[32.340000000000003,0.92]
[32.35,0.92]
[32.36,0.92]
[32.369999999999997,0.92]
[32.380000000000003,0.92]
[32.39,0.92]
[32.4,0.92]
[32.409999999999997,0.92]
[32.42,0.92]
[32.43,0.92]
[32.44,0.92]
[32.450000000000003,0.92]
[32.46,0.92]
[32.47,0.92]
[32.479999999999997,0.92]
[32.49,0.92]
[32.5,0.92]
[32.51,0.92]
[32.520000000000003,0.92]
[32.53,0.92]
[32.54,0.92]
[32.549999999999997,0.92]
[32.56,0.92]
[32.57,0.92]
[32.58,0.92]
[32.590000000000003,0.92]
[32.6,0.92]
[32.61,0.92]
[32.619999999999997,0.92]
[32.630000000000003,0.92]
[32.64,0.92]
[32.65,0.92]
[32.659999999999997,0.92]
[32.67,0.92]
[32.68,0.92]
[32.69,0.92]
[32.700000000000003,0.92]
[32.71,0.92]
[32.72,0.92]
[32.729999999999997,0.92]
[32.74,0.92]
[32.75,0.92]
[32.76,0.92]
[32.770000000000003,0.92]
[32.78,0.92]
[32.79,0.92]
[32.799999999999997,0.92]
[32.81,0.92]
[32.82,0.92]
[32.83,0.92]
[32.840000000000003,0.92]
[32.85,0.92]
[32.86,0.92]
[32.869999999999997,0.92]
[32.880000000000003,0.92]
[32.89,0.92]
[32.9,0.92]
[32.909999999999997,0.92]
[32.92,0.92]
[32.93,0.92]
[32.94,0.92]
[32.950000000000003,0.92]
[32.96,0.92]
[32.97,0.92]
[32.979999999999997,0.92]
[32.99,0.92]
[33,0.92]
[33.01,0.92]
[33.020000000000003,0.92]
[33.03,0.92]
[33.04,0.92]
[33.049999999999997,0.92]
[33.06,0.92]
[33.07,0.92]
[33.08,0.92]
[33.090000000000003,0.92]
[33.1,0.92]
[33.11,0.92]
[33.119999999999997,0.92]
[33.130000000000003,0.92]
[33.14,0.92]
[33.15,0.92]
[33.159999999999997,0.92]
[33.17,0.92]
[33.18,0.92]
[33.19,0.92]
[33.200000000000003,0.92]
[33.21,0.92]
[33.22,0.92]
[33.229999999999997,0.92]
[33.24,0.92]
[33.25,0.92]
[33.26,0.92]
[33.270000000000003,0.92]
[33.28,0.92]
[33.29,0.92]
[33.299999999999997,0.92]
[33.31,0.92]
[33.32,0.92]
[33.33,0.92]
[33.340000000000003,0.92]
[33.35,0.92]
[33.36,0.92]
[33.369999999999997,0.92]
[33.380000000000003,0.92]
[33.39,0.92]
[33.4,0.92]
[33.409999999999997,0.92]
[33.42,0.92]
[33.43,0.92]
[33.44,0.92]
[33.450000000000003,0.92]
[33.46,0.92]
[33.47,0.92]
[33.479999999999997,0.92]
[33.49,0.92]
[33.5,0.92]
[33.51,0.92]
[33.520000000000003,0.92]
[33.53,0.92]
[33.54,0.92]
[33.549999999999997,0.92]
[33.56,0.92]
[33.57,0.92]
[33.58,0.92]
[33.590000000000003,0.92]
[33.6,0.92]
[33.61,0.92]
[33.619999999999997,0.92]
[33.630000000000003,0.92]
[33.64,0.92]
[33.65,0.92]
[33.659999999999997,0.92]
[33.67,0.92]
[33.68,0.92]
[33.69,0.92]
[33.700000000000003,0.92]
[33.71,0.92]
[33.72,0.92]
[33.729999999999997,0.92]
[33.74,0.92]
[33.75,0.92]
[33.76,0.92]
[33.770000000000003,0.92]
[33.78,0.92]
[33.79,0.92]
[33.799999999999997,0.92]
[33.81,0.92]
[33.82,0.92]
[33.83,0.92]
[33.840000000000003,0.92]
[33.85,0.92]
[33.86,0.92]
[33.869999999999997,0.92]
[33.880000000000003,0.92]
[33.89,0.92]
[33.9,0.92]
[33.909999999999997,0.92]
[33.92,0.92]
[33.93,0.92]
[33.94,0.92]
[33.950000000000003,0.92]
[33.96,0.92]
[33.97,0.92]
[33.979999999999997,0.92]
[33.99,0.92]
[34,0.92]
[34.01,0.92]
[34.020000000000003,0.92]
[34.03,0.92]
[34.04,0.92]
[34.049999999999997,0.92]
[34.06,0.92]
[34.07,0.92]
[34.08,0.92]
[34.090000000000003,0.92]
[34.1,0.92]
[34.11,0.92]
[34.119999999999997,0.92]
[34.130000000000003,0.92]
[34.14,0.92]
[34.15,0.92]
[34.159999999999997,0.92]
[34.17,0.92]
[34.18,0.92]
[34.19,0.92]
[34.200000000000003,0.92]
[34.21,0.92]
[34.22,0.92]
[34.229999999999997,0.92]
[34.24,0.92]
[34.25,0.92]
[34.26,0.92]
[34.270000000000003,0.92]
[34.28,0.92]
[34.29,0.92]
[34.299999999999997,0.92]
[34.31,0.92]
[34.32,0.92]
[34.33,0.92]
[34.340000000000003,0.92]
[34.35,0.92]
[34.36,0.92]
[34.369999999999997,0.92]
[34.380000000000003,0.92]
[34.39,0.92]
[34.4,0.92]
[34.409999999999997,0.92]
[34.42,0.92]
[34.43,0.92]
[34.44,0.92]
[34.450000000000003,0.92]
[34.46,0.92]
[34.47,0.92]
[34.479999999999997,0.92]
[34.49,0.92]
[34.5,0.92]
[34.51,0.92]
[34.520000000000003,0.92]
[34.53,0.92]
[34.54,0.92]
[34.549999999999997,0.92]
[34.56,0.92]
[34.57,0.92]
[34.58,0.92]
[34.590000000000003,0.92]
[34.6,0.92]
[34.61,0.92]
[34.619999999999997,0.92]
[34.630000000000003,0.92]
[34.64,0.92]
[34.65,0.92]
[34.659999999999997,0.92]
[34.67,0.92]
[34.68,0.92]
[34.69,0.92]
[34.700000000000003,0.92]
[34.71,0.92]
[34.72,0.92]
[34.729999999999997,0.92]
[34.74,0.92]
[34.75,0.92]
[34.76,0.92]
[34.770000000000003,0.92]
[34.78,0.92]
[34.79,0.92]
[34.799999999999997,0.92]
[34.81,0.92]
[34.82,0.92]
[34.83,0.92]
[34.840000000000003,0.92]
[34.85,0.92]
[34.86,0.92]
[34.869999999999997,0.92]
[34.880000000000003,0.92]
[34.89,0.92]
[34.9,0.92]
[34.909999999999997,0.92]
[34.92,0.92]
[34.93,0.92]
[34.94,0.92]
[34.950000000000003,0.92]
[34.96,0.92]
[34.97,0.92]
[34.979999999999997,0.92]
[34.99,0.92]
[35,0.92]
[35.01,0.92]
[35.020000000000003,0.92]
[35.03,0.92]
[35.04,0.92]
[35.049999999999997,0.92]
[35.06,0.92]
[35.07,0.92]
[35.08,0.92]
[35.090000000000003,0.92]
[35.1,0.92]
[35.11,0.92]
[35.119999999999997,0.92]
[35.130000000000003,0.92]
[35.14,0.92]
[35.15,0.92]
[35.159999999999997,0.92]
[35.17,0.92]
[35.18,0.92]
[35.19,0.92]
[35.200000000000003,0.92]
[35.21,0.92]
[35.22,0.92]
[35.229999999999997,0.92]
[35.24,0.92]
[35.25,0.92]
[35.26,0.92]
[35.270000000000003,0.92]
[35.28,0.92]
[35.29,0.92]
[35.299999999999997,0.92]
[35.31,0.92]
[35.32,0.92]
[35.33,0.92]
[35.340000000000003,0.92]
[35.35,0.92]
[35.36,0.92]
[35.369999999999997,0.92]
[35.380000000000003,0.92]
[35.39,0.92]
[35.4,0.92]
[35.409999999999997,0.92]
[35.42,0.92]
[35.43,0.92]
[35.44,0.92]
[35.450000000000003,0.92]
[35.46,0.92]
[35.47,0.92]
[35.479999999999997,0.92]
[35.49,0.92]
[35.5,0.92]
[35.51,0.92]
[35.520000000000003,0.92]
[35.53,0.92]
[35.54,0.92]
[35.549999999999997,0.92]
[35.56,0.92]
[35.57,0.92]
[35.58,0.92]
[35.590000000000003,0.92]
[35.6,0.92]
[35.61,0.92]
[35.619999999999997,0.92]
[35.630000000000003,0.92]
[35.64,0.92]
[35.65,0.92]
[35.659999999999997,0.92]
[35.67,0.92]
[35.68,0.92]
[35.69,0.92]
[35.700000000000003,0.92]
[35.71,0.92]
[35.72,0.92]
[35.729999999999997,0.92]
[35.74,0.92]
[35.75,0.92]
[35.76,0.92]
[35.770000000000003,0.92]
[35.78,0.92]
[35.79,0.92]
[35.799999999999997,0.92]
[35.81,0.92]
[35.82,0.92]
[35.83,0.92]
[35.840000000000003,0.92]
[35.85,0.92]
[35.86,0.92]
[35.869999999999997,0.92]
[35.880000000000003,0.92]
[35.89,0.92]
[35.9,0.92]
[35.909999999999997,0.92]
[35.92,0.92]
[35.93,0.92]
[35.94,0.92]
[35.950000000000003,0.92]
[35.96,0.92]
[35.97,0.92]
[35.979999999999997,0.92]
[35.99,0.92]
[36,0.92]
[36.01,0.92]
[36.020000000000003,0.92]
[36.03,0.92]
[36.04,0.92]
[36.049999999999997,0.92]
[36.06,0.92]
[36.07,0.92]
[36.08,0.92]
[36.090000000000003,0.92]
[36.1,0.92]
[36.11,0.92]
[36.119999999999997,0.92]
[36.130000000000003,0.92]
[36.14,0.92]
[36.15,0.92]
[36.159999999999997,0.92]
[36.17,0.92]
[36.18,0.92]
[36.19,0.92]
[36.200000000000003,0.92]
[36.21,0.92]
[36.22,0.92]
[36.229999999999997,0.92]
[36.24,0.92]
[36.25,0.92]
[36.26,0.92]
[36.270000000000003,0.92]
[36.28,0.92]
[36.29,0.92]
[36.299999999999997,0.92]
[36.31,0.92]
[36.32,0.92]
[36.33,0.92]
[36.340000000000003,0.92]
[36.35,0.92]
[36.36,0.92]
[36.369999999999997,0.92]
[36.380000000000003,0.92]
[36.39,0.92]
[36.4,0.92]
[36.409999999999997,0.92]
[36.42,0.92]
[36.43,0.92]
[36.44,0.92]
[36.450000000000003,0.92]
[36.46,0.92]
[36.47,0.92]
[36.479999999999997,0.92]
[36.49,0.92]
[36.5,0.92]
[36.51,0.92]
[36.520000000000003,0.92]
[36.53,0.92]
[36.54,0.92]
[36.549999999999997,0.92]
[36.56,0.92]
[36.57,0.92]
[36.58,0.92]
[36.590000000000003,0.92]
[36.6,0.92]
[36.61,0.92]
[36.619999999999997,0.92]
[36.630000000000003,0.92]
[36.64,0.92]
[36.65,0.92]
[36.659999999999997,0.92]
[36.67,0.92]
[36.68,0.92]
[36.69,0.92]
[36.700000000000003,0.92]
[36.71,0.92]
[36.72,0.92]
[36.729999999999997,0.92]
[36.74,0.92]
[36.75,0.92]
[36.76,0.92]
[36.770000000000003,0.92]
[36.78,0.92]
[36.79,0.92]
[36.799999999999997,0.92]
[36.81,0.92]
[36.82,0.92]
[36.83,0.92]
[36.840000000000003,0.92]
[36.85,0.92]
[36.86,0.92]
[36.869999999999997,0.92]
[36.880000000000003,0.92]
[36.89,0.92]
[36.9,0.92]
[36.909999999999997,0.92]
[36.92,0.92]
[36.93,0.92]
[36.94,0.92]
[36.950000000000003,0.92]
[36.96,0.92]
[36.97,0.92]
[36.979999999999997,0.92]
[36.99,0.92]
[37,0.92]
[37.01,0.92]
[37.020000000000003,0.92]
[37.03,0.92]
[37.04,0.92]
[37.049999999999997,0.92]
[37.06,0.92]
[37.07,0.92]
[37.08,0.92]
[37.090000000000003,0.92]
[37.1,0.92]
[37.11,0.92]
[37.119999999999997,0.92]
[37.130000000000003,0.92]
[37.14,0.92]
[37.15,0.92]
[37.159999999999997,0.92]
[37.17,0.92]
[37.18,0.92]
[37.19,0.92]
[37.200000000000003,0.92]
[37.21,0.92]
[37.22,0.92]
[37.229999999999997,0.92]
[37.24,0.92]
[37.25,0.92]
[37.26,0.92]
[37.270000000000003,0.92]
[37.28,0.92]
[37.29,0.92]
[37.299999999999997,0.92]
[37.31,0.92]
[37.32,0.92]
[37.33,0.92]
[37.340000000000003,0.92]
[37.35,0.92]
[37.36,0.92]
[37.369999999999997,0.92]
[37.380000000000003,0.92]
[37.39,0.92]
[37.4,0.92]
[37.409999999999997,0.92]
[37.42,0.92]
[37.43,0.92]
[37.44,0.92]
[37.450000000000003,0.92]
[37.46,0.92]
[37.47,0.92]
[37.479999999999997,0.92]
[37.49,0.92]
[37.5,0.92]
[37.51,0.92]
[37.520000000000003,0.92]
[37.53,0.92]
[37.54,0.92]
[37.549999999999997,0.92]
[37.56,0.92]
[37.57,0.92]
[37.58,0.92]
[37.590000000000003,0.92]
[37.6,0.92]
[37.61,0.92]
[37.619999999999997,0.92]
[37.630000000000003,0.92]
[37.64,0.92]
[37.65,0.92]
[37.659999999999997,0.92]
[37.67,0.92]
[37.68,0.92]
[37.69,0.92]
[37.700000000000003,0.92]
[37.71,0.92]
[37.72,0.92]
[37.729999999999997,0.92]
[37.74,0.92]
[37.75,0.92]
[37.76,0.92]
[37.770000000000003,0.92]
[37.78,0.92]
[37.79,0.92]
[37.799999999999997,0.92]
[37.81,0.92]
[37.82,0.92]
[37.83,0.92]
[37.840000000000003,0.92]
[37.85,0.92]
[37.86,0.92]
[37.869999999999997,0.92]
[37.880000000000003,0.92]
[37.89,0.92]
[37.9,0.92]
[37.909999999999997,0.92]
[37.92,0.92]
[37.93,0.92]
[37.94,0.92]
[37.950000000000003,0.92]
[37.96,0.92]
[37.97,0.92]
[37.979999999999997,0.92]
[37.99,0.92]
[38,0.92]
[38.01,0.92]
[38.020000000000003,0.92]
[38.03,0.92]
[38.04,0.92]
[38.049999999999997,0.92]
[38.06,0.92]
[38.07,0.92]
[38.08,0.92]
[38.090000000000003,0.92]
[38.1,0.92]
[38.11,0.92]
[38.119999999999997,0.92]
[38.130000000000003,0.92]
[38.14,0.92]
[38.15,0.92]
[38.159999999999997,0.92]
[38.17,0.92]
[38.18,0.92]
[38.19,0.92]
[38.200000000000003,0.92]
[38.21,0.92]
[38.22,0.92]
[38.229999999999997,0.92]
[38.24,0.92]
[38.25,0.92]
[38.26,0.92]
[38.270000000000003,0.92]
[38.28,0.92]
[38.29,0.92]
[38.299999999999997,0.92]
[38.31,0.92]
[38.32,0.92]
[38.33,0.92]
[38.340000000000003,0.92]
[38.35,0.92]
[38.36,0.92]
[38.369999999999997,0.92]
[38.380000000000003,0.92]
[38.39,0.92]
[38.4,0.92]
[38.409999999999997,0.92]
[38.42,0.92]
[38.43,0.92]
[38.44,0.92]
[38.450000000000003,0.92]
[38.46,0.92]
[38.47,0.92]
[38.479999999999997,0.92]
[38.49,0.92]
[38.5,0.92]
[38.51,0.92]
[38.520000000000003,0.92]
[38.53,0.92]
[38.54,0.92]
[38.549999999999997,0.92]
[38.56,0.92]
[38.57,0.92]
[38.58,0.92]
[38.590000000000003,0.92]
[38.6,0.92]
[38.61,0.92]
[38.619999999999997,0.92]
[38.630000000000003,0.92]
[38.64,0.92]
[38.65,0.92]
[38.659999999999997,0.92]
[38.67,0.92]
[38.68,0.92]
[38.69,0.92]
[38.700000000000003,0.92]
[38.71,0.92]
[38.72,0.92]
[38.729999999999997,0.92]
[38.74,0.92]
[38.75,0.92]
[38.76,0.92]
[38.770000000000003,0.92]
[38.78,0.92]
[38.79,0.92]
[38.799999999999997,0.92]
[38.81,0.92]
[38.82,0.92]
[38.83,0.92]
[38.840000000000003,0.92]
[38.85,0.92]
[38.86,0.92]
[38.869999999999997,0.92]
[38.880000000000003,0.92]
[38.89,0.92]
[38.9,0.92]
[38.909999999999997,0.92]
[38.92,0.92]
[38.93,0.92]
[38.94,0.92]
[38.950000000000003,0.92]
[38.96,0.92]
[38.97,0.92]
[38.979999999999997,0.92]
[38.99,0.92]
[39,0.92]
[39.01,0.92]
[39.020000000000003,0.92]
[39.03,0.92]
[39.04,0.92]
[39.049999999999997,0.92]
[39.06,0.92]
[39.07,0.92]
[39.08,0.92]
[39.090000000000003,0.92]
[39.1,0.92]
[39.11,0.92]
[39.119999999999997,0.92]
[39.130000000000003,0.92]
[39.14,0.92]
[39.15,0.92]
[39.159999999999997,0.92]
[39.17,0.92]
[39.18,0.92]
[39.19,0.92]
[39.200000000000003,0.92]
[39.21,0.92]
[39.22,0.92]
[39.229999999999997,0.92]
[39.24,0.92]
[39.25,0.92]
[39.26,0.92]
[39.270000000000003,0.92]
[39.28,0.92]
[39.29,0.92]
[39.299999999999997,0.92]
[39.31,0.92]
[39.32,0.92]
[39.33,0.92]
[39.340000000000003,0.92]
[39.35,0.92]
[39.36,0.92]
[39.369999999999997,0.92]
[39.380000000000003,0.92]
[39.39,0.92]
[39.4,0.92]
[39.409999999999997,0.92]
[39.42,0.92]
[39.43,0.92]
[39.44,0.92]
[39.450000000000003,0.92]
[39.46,0.92]
[39.47,0.92]
[39.479999999999997,0.92]
[39.49,0.92]
[39.5,0.92]
[39.51,0.92]
[39.520000000000003,0.92]
[39.53,0.92]
[39.54,0.92]
[39.549999999999997,0.92]
[39.56,0.92]
[39.57,0.92]
[39.58,0.92]
[39.590000000000003,0.92]
[39.6,0.92]
[39.61,0.92]
[39.619999999999997,0.92]
[39.630000000000003,0.92]
[39.64,0.92]
[39.65,0.92]
[39.659999999999997,0.92]
[39.67,0.92]
[39.68,0.92]
[39.69,0.92]
[39.700000000000003,0.92]
[39.71,0.92]
[39.72,0.92]
[39.729999999999997,0.92]
[39.74,0.92]
[39.75,0.92]
[39.76,0.92]
[39.770000000000003,0.92]
[39.78,0.92]
[39.79,0.92]
[39.799999999999997,0.92]
[39.81,0.92]
[39.82,0.92]
[39.83,0.92]
[39.840000000000003,0.92]
[39.85,0.92]
[39.86,0.92]
[39.869999999999997,0.92]
[39.880000000000003,0.92]
[39.89,0.92]
[39.9,0.92]
[39.909999999999997,0.92]
[39.92,0.92]
[39.93,0.92]
[39.94,0.92]
[39.950000000000003,0.92]
[39.96,0.92]
[39.97,0.92]
[39.979999999999997,0.92]
[39.99,0.92]
[40,0.92]
[40.01,0.89]
[40.020000000000003,0.89]
[40.03,0.89]
[40.04,0.89]
[40.049999999999997,0.89]
[40.06,0.89]
[40.07,0.89]
[40.08,0.89]
[40.090000000000003,0.89]
[40.1,0.89]
[40.11,0.89]
[40.119999999999997,0.89]
[40.130000000000003,0.89]
[40.14,0.89]
[40.15,0.89]
[40.159999999999997,0.89]
[40.17,0.89]
[40.18,0.89]
[40.19,0.89]
[40.200000000000003,0.89]
[40.21,0.89]
[40.22,0.89]
[40.229999999999997,0.89]
[40.24,0.89]
[40.25,0.89]
[40.26,0.89]
[40.270000000000003,0.89]
[40.28,0.89]
[40.29,0.89]
[40.299999999999997,0.89]
[40.31,0.89]
[40.32,0.89]
[40.33,0.89]
[40.340000000000003,0.89]
[40.35,0.89]
[40.36,0.89]
[40.369999999999997,0.89]
[40.380000000000003,0.89]
[40.39,0.89]
[40.4,0.89]
[40.409999999999997,0.89]
[40.42,0.89]
[40.43,0.89]
[40.44,0.89]
[40.450000000000003,0.89]
[40.46,0.89]
[40.47,0.89]
[40.479999999999997,0.89]
[40.49,0.89]
[40.5,0.89]
[40.51,0.89]
[40.520000000000003,0.89]
[40.53,0.89]
[40.54,0.89]
[40.549999999999997,0.89]
[40.56,0.89]
[40.57,0.89]
[40.58,0.89]
[40.590000000000003,0.89]
[40.6,0.89]
[40.61,0.89]
[40.619999999999997,0.89]
[40.630000000000003,0.89]
[40.64,0.89]
[40.65,0.89]
[40.659999999999997,0.89]
[40.67,0.89]
[40.68,0.89]
[40.69,0.89]
[40.700000000000003,0.89]
[40.71,0.89]
[40.72,0.89]
[40.729999999999997,0.89]
[40.74,0.89]
[40.75,0.89]
[40.76,0.89]
[40.770000000000003,0.89]
[40.78,0.89]
[40.79,0.89]
[40.799999999999997,0.89]
[40.81,0.89]
[40.82,0.89]
[40.83,0.89]
[40.840000000000003,0.89]
[40.85,0.89]
[40.86,0.89]
[40.869999999999997,0.89]
[40.880000000000003,0.89]
[40.89,0.89]
[40.9,0.89]
[40.909999999999997,0.89]
[40.92,0.89]
[40.93,0.89]
[40.94,0.89]
[40.950000000000003,0.89]
[40.96,0.89]
[40.97,0.89]
[40.98,0.89]
[40.99,0.89]
[41,0.89]
[41.01,0.89]
[41.02,0.89]
[41.03,0.89]
[41.04,0.89]
[41.05,0.89]
[41.06,0.89]
[41.07,0.89]
[41.08,0.89]
[41.09,0.89]
[41.1,0.89]
[41.11,0.89]
[41.12,0.89]
[41.13,0.89]
[41.14,0.89]
[41.15,0.89]
[41.16,0.89]
[41.17,0.89]
[41.18,0.89]
[41.19,0.89]
[41.2,0.89]
[41.21,0.89]
[41.22,0.89]
[41.23,0.89]
[41.24,0.89]
[41.25,0.89]
[41.26,0.89]
[41.27,0.89]
[41.28,0.89]
[41.29,0.89]
[41.3,0.89]
[41.31,0.89]
[41.32,0.89]
[41.33,0.89]
[41.34,0.89]
[41.35,0.89]
[41.36,0.89]
[41.37,0.89]
[41.38,0.89]
[41.39,0.89]
[41.4,0.89]
[41.41,0.89]
[41.42,0.89]
[41.43,0.89]
[41.44,0.89]
[41.45,0.89]
[41.46,0.89]
[41.47,0.89]
[41.48,0.89]
[41.49,0.89]
[41.5,0.89]
[41.51,0.89]
[41.52,0.89]
[41.53,0.89]
[41.54,0.89]
[41.55,0.89]
[41.56,0.89]
[41.57,0.89]
[41.58,0.89]
[41.59,0.89]
[41.6,0.89]
[41.61,0.89]
[41.62,0.89]
[41.63,0.89]
[41.64,0.89]
[41.65,0.89]
[41.66,0.89]
[41.67,0.89]
[41.68,0.89]
[41.69,0.89]
[41.7,0.89]
[41.71,0.89]
[41.72,0.89]
[41.73,0.89]
[41.74,0.89]
[41.75,0.89]
[41.76,0.89]
[41.77,0.89]
[41.78,0.89]
[41.79,0.89]
[41.8,0.89]
[41.81,0.89]
[41.82,0.89]
[41.83,0.89]
[41.84,0.89]
[41.85,0.89]
[41.86,0.89]
[41.87,0.89]
[41.88,0.89]
[41.89,0.89]
[41.9,0.89]
[41.91,0.89]
[41.92,0.89]
[41.93,0.89]
[41.94,0.89]
[41.95,0.89]
[41.96,0.89]
[41.97,0.89]
[41.98,0.89]
[41.99,0.89]
[42,0.89]
[42.01,0.89]
[42.02,0.89]
[42.03,0.89]
[42.04,0.89]
[42.05,0.89]
[42.06,0.89]
[42.07,0.89]
[42.08,0.89]
[42.09,0.89]
[42.1,0.89]
[42.11,0.89]
[42.12,0.89]
[42.13,0.89]
[42.14,0.89]
[42.15,0.89]
[42.16,0.89]
[42.17,0.89]
[42.18,0.89]
[42.19,0.89]
[42.2,0.89]
[42.21,0.89]
[42.22,0.89]
[42.23,0.89]
[42.24,0.89]
[42.25,0.89]
[42.26,0.89]
[42.27,0.89]
[42.28,0.89]
[42.29,0.89]
[42.3,0.89]
[42.31,0.89]
[42.32,0.89]
[42.33,0.89]
[42.34,0.89]
[42.35,0.89]
[42.36,0.89]
[42.37,0.89]
[42.38,0.89]
[42.39,0.89]
[42.4,0.89]
[42.41,0.89]
[42.42,0.89]
[42.43,0.89]
[42.44,0.89]
[42.45,0.89]
[42.46,0.89]
[42.47,0.89]
[42.48,0.89]
[42.49,0.89]
[42.5,0.89]
[42.51,0.89]
[42.52,0.89]
[42.53,0.89]
[42.54,0.89]
[42.55,0.89]
[42.56,0.89]
[42.57,0.89]
[42.58,0.89]
[42.59,0.89]
[42.6,0.89]
[42.61,0.89]
[42.62,0.89]
[42.63,0.89]
[42.64,0.89]
[42.65,0.89]
[42.66,0.89]
[42.67,0.89]
[42.68,0.89]
[42.69,0.89]
[42.7,0.89]
[42.71,0.89]
[42.72,0.89]
[42.73,0.89]
[42.74,0.89]
[42.75,0.89]
[42.76,0.89]
[42.77,0.89]
[42.78,0.89]
[42.79,0.89]
[42.8,0.89]
[42.81,0.89]
[42.82,0.89]
[42.83,0.89]
[42.84,0.89]
[42.85,0.89]
[42.86,0.89]
[42.87,0.89]
[42.88,0.89]
[42.89,0.89]
[42.9,0.89]
[42.91,0.89]
[42.92,0.89]
[42.93,0.89]
[42.94,0.89]
[42.95,0.89]
[42.96,0.89]
[42.97,0.89]
[42.98,0.89]
[42.99,0.89]
[43,0.89]
[43.01,0.89]
[43.02,0.89]
[43.03,0.89]
[43.04,0.89]
[43.05,0.89]
[43.06,0.89]
[43.07,0.89]
[43.08,0.89]
[43.09,0.89]
[43.1,0.89]
[43.11,0.89]
[43.12,0.89]
[43.13,0.89]
[43.14,0.89]
[43.15,0.89]
[43.16,0.89]
[43.17,0.89]
[43.18,0.89]
[43.19,0.89]
[43.2,0.89]
[43.21,0.89]
[43.22,0.89]
[43.23,0.89]
[43.24,0.89]
[43.25,0.89]
[43.26,0.89]
[43.27,0.89]
[43.28,0.89]
[43.29,0.89]
[43.3,0.89]
[43.31,0.89]
[43.32,0.89]
[43.33,0.89]
[43.34,0.89]
[43.35,0.89]
[43.36,0.89]
[43.37,0.89]
[43.38,0.89]
[43.39,0.89]
[43.4,0.89]
[43.41,0.89]
[43.42,0.89]
[43.43,0.89]
[43.44,0.89]
[43.45,0.89]
[43.46,0.89]
[43.47,0.89]
[43.48,0.89]
[43.49,0.89]
[43.5,0.89]
[43.51,0.89]
[43.52,0.89]
[43.53,0.89]
[43.54,0.89]
[43.55,0.89]
[43.56,0.89]
[43.57,0.89]
[43.58,0.89]
[43.59,0.89]
[43.6,0.89]
[43.61,0.89]
[43.62,0.89]
[43.63,0.89]
[43.64,0.89]
[43.65,0.89]
[43.66,0.89]
[43.67,0.89]
[43.68,0.89]
[43.69,0.89]
[43.7,0.89]
[43.71,0.89]
[43.72,0.89]
[43.73,0.89]
[43.74,0.89]
[43.75,0.89]
[43.76,0.89]
[43.77,0.89]
[43.78,0.89]
[43.79,0.89]
[43.8,0.89]
[43.81,0.89]
[43.82,0.89]
[43.83,0.89]
[43.84,0.89]
[43.85,0.89]
[43.86,0.89]
[43.87,0.89]
[43.88,0.89]
[43.89,0.89]
[43.9,0.89]
[43.91,0.89]
[43.92,0.89]
[43.93,0.89]
[43.94,0.89]
[43.95,0.89]
[43.96,0.89]
[43.97,0.89]
[43.98,0.89]
[43.99,0.89]
[44,0.89]
[44.01,0.89]
[44.02,0.89]
[44.03,0.89]
[44.04,0.89]
[44.05,0.89]
[44.06,0.89]
[44.07,0.89]
[44.08,0.89]
[44.09,0.89]
[44.1,0.89]
[44.11,0.89]
[44.12,0.89]
[44.13,0.89]
[44.14,0.89]
[44.15,0.89]
[44.16,0.89]
[44.17,0.89]
[44.18,0.89]
[44.19,0.89]
[44.2,0.89]
[44.21,0.89]
[44.22,0.89]
[44.23,0.89]
[44.24,0.89]
[44.25,0.89]
[44.26,0.89]
[44.27,0.89]
[44.28,0.89]
[44.29,0.89]
[44.3,0.89]
[44.31,0.89]
[44.32,0.89]
[44.33,0.89]
[44.34,0.89]
[44.35,0.89]
[44.36,0.89]
[44.37,0.89]
[44.38,0.89]
[44.39,0.89]
[44.4,0.89]
[44.41,0.89]
[44.42,0.89]
[44.43,0.89]
[44.44,0.89]
[44.45,0.89]
[44.46,0.89]
[44.47,0.89]
[44.48,0.89]
[44.49,0.89]
[44.5,0.89]
[44.51,0.89]
[44.52,0.89]
[44.53,0.89]
[44.54,0.89]
[44.55,0.89]
[44.56,0.89]
[44.57,0.89]
[44.58,0.89]
[44.59,0.89]
[44.6,0.89]
[44.61,0.89]
[44.62,0.89]
[44.63,0.89]
[44.64,0.89]
[44.65,0.89]
[44.66,0.89]
[44.67,0.89]
[44.68,0.89]
[44.69,0.89]
[44.7,0.89]
[44.71,0.89]
[44.72,0.89]
[44.73,0.89]
[44.74,0.89]
[44.75,0.89]
[44.76,0.89]
[44.77,0.89]
[44.78,0.89]
[44.79,0.89]
[44.8,0.89]
[44.81,0.89]
[44.82,0.89]
[44.83,0.89]
[44.84,0.89]
[44.85,0.89]
[44.86,0.89]
[44.87,0.89]
[44.88,0.89]
[44.89,0.89]
[44.9,0.89]
[44.91,0.89]
[44.92,0.89]
[44.93,0.89]
[44.94,0.89]
[44.95,0.89]
[44.96,0.89]
[44.97,0.89]
[44.98,0.89]
[44.99,0.89]
[45,0.89]
[45.01,0.89]
[45.02,0.89]
[45.03,0.89]
[45.04,0.89]
[45.05,0.89]
[45.06,0.89]
[45.07,0.89]
[45.08,0.89]
[45.09,0.89]
[45.1,0.89]
[45.11,0.89]
[45.12,0.89]
[45.13,0.89]
[45.14,0.89]
[45.15,0.89]
[45.16,0.89]
[45.17,0.89]
[45.18,0.89]
[45.19,0.89]
[45.2,0.89]
[45.21,0.89]
[45.22,0.89]
[45.23,0.89]
[45.24,0.89]
[45.25,0.89]
[45.26,0.89]
[45.27,0.89]
[45.28,0.89]
[45.29,0.89]
[45.3,0.89]
[45.31,0.89]
[45.32,0.89]
[45.33,0.89]
[45.34,0.89]
[45.35,0.89]
[45.36,0.89]
[45.37,0.89]
[45.38,0.89]
[45.39,0.89]
[45.4,0.89]
[45.41,0.89]
[45.42,0.89]
[45.43,0.89]
[45.44,0.89]
[45.45,0.89]
[45.46,0.89]
[45.47,0.89]
[45.48,0.89]
[45.49,0.89]
[45.5,0.89]
[45.51,0.89]
[45.52,0.89]
[45.53,0.89]
[45.54,0.89]
[45.55,0.89]
[45.56,0.89]
[45.57,0.89]
[45.58,0.89]
[45.59,0.89]
[45.6,0.89]
[45.61,0.89]
[45.62,0.89]
[45.63,0.89]
[45.64,0.89]
[45.65,0.89]
[45.66,0.89]
[45.67,0.89]
[45.68,0.89]
[45.69,0.89]
[45.7,0.89]
[45.71,0.89]
[45.72,0.89]
[45.73,0.89]
[45.74,0.89]
[45.75,0.89]
[45.76,0.89]
[45.77,0.89]
[45.78,0.89]
[45.79,0.89]
[45.8,0.89]
[45.81,0.89]
[45.82,0.89]
[45.83,0.89]
[45.84,0.89]
[45.85,0.89]
[45.86,0.89]
[45.87,0.89]
[45.88,0.89]
[45.89,0.89]
[45.9,0.89]
[45.91,0.89]
[45.92,0.89]
[45.93,0.89]
[45.94,0.89]
[45.95,0.89]
[45.96,0.89]
[45.97,0.89]
[45.98,0.89]
[45.99,0.89]
[46,0.89]
[46.01,0.89]
[46.02,0.89]
[46.03,0.89]
[46.04,0.89]
[46.05,0.89]
[46.06,0.89]
[46.07,0.89]
[46.08,0.89]
[46.09,0.89]
[46.1,0.89]
[46.11,0.89]
[46.12,0.89]
[46.13,0.89]
[46.14,0.89]
[46.15,0.89]
[46.16,0.89]
[46.17,0.89]
[46.18,0.89]
[46.19,0.89]
[46.2,0.89]
[46.21,0.89]
[46.22,0.89]
[46.23,0.89]
[46.24,0.89]
[46.25,0.89]
[46.26,0.89]
[46.27,0.89]
[46.28,0.89]
[46.29,0.89]
[46.3,0.89]
[46.31,0.89]
[46.32,0.89]
[46.33,0.89]
[46.34,0.89]
[46.35,0.89]
[46.36,0.89]
[46.37,0.89]
[46.38,0.89]
[46.39,0.89]
[46.4,0.89]
[46.41,0.89]
[46.42,0.89]
[46.43,0.89]
[46.44,0.89]
[46.45,0.89]
[46.46,0.89]
[46.47,0.89]
[46.48,0.89]
[46.49,0.89]
[46.5,0.89]
[46.51,0.89]
[46.52,0.89]
[46.53,0.89]
[46.54,0.89]
[46.55,0.89]
[46.56,0.89]
[46.57,0.89]
[46.58,0.89]
[46.59,0.89]
[46.6,0.89]
[46.61,0.89]
[46.62,0.89]
[46.63,0.89]
[46.64,0.89]
[46.65,0.89]
[46.66,0.89]
[46.67,0.89]
[46.68,0.89]
[46.69,0.89]
[46.7,0.89]
[46.71,0.89]
[46.72,0.89]
[46.73,0.89]
[46.74,0.89]
[46.75,0.89]
[46.76,0.89]
[46.77,0.89]
[46.78,0.89]
[46.79,0.89]
[46.8,0.89]
[46.81,0.89]
[46.82,0.89]
[46.83,0.89]
[46.84,0.89]
[46.85,0.89]
[46.86,0.89]
[46.87,0.89]
[46.88,0.89]
[46.89,0.89]
[46.9,0.89]
[46.91,0.89]
[46.92,0.89]
[46.93,0.89]
[46.94,0.89]
[46.95,0.89]
[46.96,0.89]
[46.97,0.89]
[46.98,0.89]
[46.99,0.89]
[47,0.89]
[47.01,0.89]
[47.02,0.89]
[47.03,0.89]
[47.04,0.89]
[47.05,0.89]
[47.06,0.89]
[47.07,0.89]
[47.08,0.89]
[47.09,0.89]
[47.1,0.89]
[47.11,0.89]
[47.12,0.89]
[47.13,0.89]
[47.14,0.89]
[47.15,0.89]
[47.16,0.89]
[47.17,0.89]
[47.18,0.89]
[47.19,0.89]
[47.2,0.89]
[47.21,0.89]
[47.22,0.89]
[47.23,0.89]
[47.24,0.89]
[47.25,0.89]
[47.26,0.89]
[47.27,0.89]
[47.28,0.89]
[47.29,0.89]
[47.3,0.89]
[47.31,0.89]
[47.32,0.89]
[47.33,0.89]
[47.34,0.89]
[47.35,0.89]
[47.36,0.89]
[47.37,0.89]
[47.38,0.89]
[47.39,0.89]
[47.4,0.89]
[47.41,0.89]
[47.42,0.89]
[47.43,0.89]
[47.44,0.89]
[47.45,0.89]
[47.46,0.89]
[47.47,0.89]
[47.48,0.89]
[47.49,0.89]
[47.5,0.89]
[47.51,0.89]
[47.52,0.89]
[47.53,0.89]
[47.54,0.89]
[47.55,0.89]
[47.56,0.89]
[47.57,0.89]
[47.58,0.89]
[47.59,0.89]
[47.6,0.89]
[47.61,0.89]
[47.62,0.89]
[47.63,0.89]
[47.64,0.89]
[47.65,0.89]
[47.66,0.89]
[47.67,0.89]
[47.68,0.89]
[47.69,0.89]
[47.7,0.89]
[47.71,0.89]
[47.72,0.89]
[47.73,0.89]
[47.74,0.89]
[47.75,0.89]
[47.76,0.89]
[47.77,0.89]
[47.78,0.89]
[47.79,0.89]
[47.8,0.89]
[47.81,0.89]
[47.82,0.89]
[47.83,0.89]
[47.84,0.89]
[47.85,0.89]
[47.86,0.89]
[47.87,0.89]
[47.88,0.89]
[47.89,0.89]
[47.9,0.89]
[47.91,0.89]
[47.92,0.89]
[47.93,0.89]
[47.94,0.89]
[47.95,0.89]
[47.96,0.89]
[47.97,0.89]
[47.98,0.89]
[47.99,0.89]
[48,0.89]
[48.01,0.89]
[48.02,0.89]
[48.03,0.89]
[48.04,0.89]
[48.05,0.89]
[48.06,0.89]
[48.07,0.89]
[48.08,0.89]
[48.09,0.89]
[48.1,0.89]
[48.11,0.89]
[48.12,0.89]
[48.13,0.89]
[48.14,0.89]
[48.15,0.89]
[48.16,0.89]
[48.17,0.89]
[48.18,0.89]
[48.19,0.89]
[48.2,0.89]
[48.21,0.89]
[48.22,0.89]
[48.23,0.89]
[48.24,0.89]
[48.25,0.89]
[48.26,0.89]
[48.27,0.89]
[48.28,0.89]
[48.29,0.89]
[48.3,0.89]
[48.31,0.89]
[48.32,0.89]
[48.33,0.89]
[48.34,0.89]
[48.35,0.89]
[48.36,0.89]
[48.37,0.89]
[48.38,0.89]
[48.39,0.89]
[48.4,0.89]
[48.41,0.89]
[48.42,0.89]
[48.43,0.89]
[48.44,0.89]
[48.45,0.89]
[48.46,0.89]
[48.47,0.89]
[48.48,0.89]
[48.49,0.89]
[48.5,0.89]
[48.51,0.89]
[48.52,0.89]
[48.53,0.89]
[48.54,0.89]
[48.55,0.89]
[48.56,0.89]
[48.57,0.89]
[48.58,0.89]
[48.59,0.89]
[48.6,0.89]
[48.61,0.89]
[48.62,0.89]
[48.63,0.89]
[48.64,0.89]
[48.65,0.89]
[48.66,0.89]
[48.67,0.89]
[48.68,0.89]
[48.69,0.89]
[48.7,0.89]
[48.71,0.89]
[48.72,0.89]
[48.73,0.89]
[48.74,0.89]
[48.75,0.89]
[48.76,0.89]
[48.77,0.89]
[48.78,0.89]
[48.79,0.89]
[48.8,0.89]
[48.81,0.89]
[48.82,0.89]
[48.83,0.89]
[48.84,0.89]
[48.85,0.89]
[48.86,0.89]
[48.87,0.89]
[48.88,0.89]
[48.89,0.89]
[48.9,0.89]
[48.91,0.89]
[48.92,0.89]
[48.93,0.89]
[48.94,0.89]
[48.95,0.89]
[48.96,0.89]
[48.97,0.89]
[48.98,0.89]
[48.99,0.89]
[49,0.89]
[49.01,0.89]
[49.02,0.89]
[49.03,0.89]
[49.04,0.89]
[49.05,0.89]
[49.06,0.89]
[49.07,0.89]
[49.08,0.89]
[49.09,0.89]
[49.1,0.89]
[49.11,0.89]
[49.12,0.89]
[49.13,0.89]
[49.14,0.89]
[49.15,0.89]
[49.16,0.89]
[49.17,0.89]
[49.18,0.89]
[49.19,0.89]
[49.2,0.89]
[49.21,0.89]
[49.22,0.89]
[49.23,0.89]
[49.24,0.89]
[49.25,0.89]
[49.26,0.89]
[49.27,0.89]
[49.28,0.89]
[49.29,0.89]
[49.3,0.89]
[49.31,0.89]
[49.32,0.89]
[49.33,0.89]
[49.34,0.89]
[49.35,0.89]
[49.36,0.89]
[49.37,0.89]
[49.38,0.89]
[49.39,0.89]
[49.4,0.89]
[49.41,0.89]
[49.42,0.89]
[49.43,0.89]
[49.44,0.89]
[49.45,0.89]
[49.46,0.89]
[49.47,0.89]
[49.48,0.89]
[49.49,0.89]
[49.5,0.89]
[49.51,0.89]
[49.52,0.89]
[49.53,0.89]
[49.54,0.89]
[49.55,0.89]
[49.56,0.89]
[49.57,0.89]
[49.58,0.89]
[49.59,0.89]
[49.6,0.89]
[49.61,0.89]
[49.62,0.89]
[49.63,0.89]
[49.64,0.89]
[49.65,0.89]
[49.66,0.89]
[49.67,0.89]
[49.68,0.89]
[49.69,0.89]
[49.7,0.89]
[49.71,0.89]
[49.72,0.89]
[49.73,0.89]
[49.74,0.89]
[49.75,0.89]
[49.76,0.89]
[49.77,0.89]
[49.78,0.89]
[49.79,0.89]
[49.8,0.89]
[49.81,0.89]
[49.82,0.89]
[49.83,0.89]
[49.84,0.89]
[49.85,0.89]
[49.86,0.89]
[49.87,0.89]
[49.88,0.89]
[49.89,0.89]
[49.9,0.89]
[49.91,0.89]
[49.92,0.89]
[49.93,0.89]
[49.94,0.89]
[49.95,0.89]
[49.96,0.89]
[49.97,0.89]
[49.98,0.89]
[49.99,0.89]
[50,0.89]
[50.01,0.89]
[50.02,0.89]
[50.03,0.89]
[50.04,0.89]
[50.05,0.89]
[50.06,0.89]
[50.07,0.89]
[50.08,0.89]
[50.09,0.89]
[50.1,0.89]
[50.11,0.89]
[50.12,0.89]
[50.13,0.89]
[50.14,0.89]
[50.15,0.89]
[50.16,0.89]
[50.17,0.89]
[50.18,0.89]
[50.19,0.89]
[50.2,0.89]
[50.21,0.89]
[50.22,0.89]
[50.23,0.89]
[50.24,0.89]
[50.25,0.89]
[50.26,0.89]
[50.27,0.89]
[50.28,0.89]
[50.29,0.89]
[50.3,0.89]
[50.31,0.89]
[50.32,0.89]
[50.33,0.89]
[50.34,0.89]
[50.35,0.89]
[50.36,0.89]
[50.37,0.89]
[50.38,0.89]
[50.39,0.89]
[50.4,0.89]
[50.41,0.89]
[50.42,0.89]
[50.43,0.89]
[50.44,0.89]
[50.45,0.89]
[50.46,0.89]
[50.47,0.89]
[50.48,0.89]
[50.49,0.89]
[50.5,0.89]
[50.51,0.89]
[50.52,0.89]
[50.53,0.89]
[50.54,0.89]
[50.55,0.89]
[50.56,0.89]
[50.57,0.89]
[50.58,0.89]
[50.59,0.89]
[50.6,0.89]
[50.61,0.89]
[50.62,0.89]
[50.63,0.89]
[50.64,0.89]
[50.65,0.89]
[50.66,0.89]
[50.67,0.89]
[50.68,0.89]
[50.69,0.89]
[50.7,0.89]
[50.71,0.89]
[50.72,0.89]
[50.73,0.89]
[50.74,0.89]
[50.75,0.89]
[50.76,0.89]
[50.77,0.89]
[50.78,0.89]
[50.79,0.89]
[50.8,0.89]
[50.81,0.89]
[50.82,0.89]
[50.83,0.89]
[50.84,0.89]
[50.85,0.89]
[50.86,0.89]
[50.87,0.89]
[50.88,0.89]
[50.89,0.89]
[50.9,0.89]
[50.91,0.89]
[50.92,0.89]
[50.93,0.89]
[50.94,0.89]
[50.95,0.89]
[50.96,0.89]
[50.97,0.89]
[50.98,0.89]
[50.99,0.89]
[51,0.89]
[51.01,0.89]
[51.02,0.89]
[51.03,0.89]
[51.04,0.89]
[51.05,0.89]
[51.06,0.89]
[51.07,0.89]
[51.08,0.89]
[51.09,0.89]
[51.1,0.89]
[51.11,0.89]
[51.12,0.89]
[51.13,0.89]
[51.14,0.89]
[51.15,0.89]
[51.16,0.89]
[51.17,0.89]
[51.18,0.89]
[51.19,0.89]
[51.2,0.89]
[51.21,0.89]
[51.22,0.89]
[51.23,0.89]
[51.24,0.89]
[51.25,0.89]
[51.26,0.89]
[51.27,0.89]
[51.28,0.89]
[51.29,0.89]
[51.3,0.89]
[51.31,0.89]
[51.32,0.89]
[51.33,0.89]
[51.34,0.89]
[51.35,0.89]
[51.36,0.89]
[51.37,0.89]
[51.38,0.89]
[51.39,0.89]
[51.4,0.89]
[51.41,0.89]
[51.42,0.89]
[51.43,0.89]
[51.44,0.89]
[51.45,0.89]
[51.46,0.89]
[51.47,0.89]
[51.48,0.89]
[51.49,0.89]
[51.5,0.89]
[51.51,0.89]
[51.52,0.89]
[51.53,0.89]
[51.54,0.89]
[51.55,0.89]
[51.56,0.89]
[51.57,0.89]
[51.58,0.89]
[51.59,0.89]
[51.6,0.89]
[51.61,0.89]
[51.62,0.89]
[51.63,0.89]
[51.64,0.89]
[51.65,0.89]
[51.66,0.89]
[51.67,0.89]
[51.68,0.89]
[51.69,0.89]
[51.7,0.89]
[51.71,0.89]
[51.72,0.89]
[51.73,0.89]
[51.74,0.89]
[51.75,0.89]
[51.76,0.89]
[51.77,0.89]
[51.78,0.89]
[51.79,0.89]
[51.8,0.89]
[51.81,0.89]
[51.82,0.89]
[51.83,0.89]
[51.84,0.89]
[51.85,0.89]
[51.86,0.89]
[51.87,0.89]
[51.88,0.89]
[51.89,0.89]
[51.9,0.89]
[51.91,0.89]
[51.92,0.89]
[51.93,0.89]
[51.94,0.89]
[51.95,0.89]
[51.96,0.89]
[51.97,0.89]
[51.98,0.89]
[51.99,0.89]
[52,0.89]
[52.01,0.89]
[52.02,0.89]
[52.03,0.89]
[52.04,0.89]
[52.05,0.89]
[52.06,0.89]
[52.07,0.89]
[52.08,0.89]
[52.09,0.89]
[52.1,0.89]
[52.11,0.89]
[52.12,0.89]
[52.13,0.89]
[52.14,0.89]
[52.15,0.89]
[52.16,0.89]
[52.17,0.89]
[52.18,0.89]
[52.19,0.89]
[52.2,0.89]
[52.21,0.89]
[52.22,0.89]
[52.23,0.89]
[52.24,0.89]
[52.25,0.89]
[52.26,0.89]
[52.27,0.89]
[52.28,0.89]
[52.29,0.89]
[52.3,0.89]
[52.31,0.89]
[52.32,0.89]
[52.33,0.89]
[52.34,0.89]
[52.35,0.89]
[52.36,0.89]
[52.37,0.89]
[52.38,0.89]
[52.39,0.89]
[52.4,0.89]
[52.41,0.89]
[52.42,0.89]
[52.43,0.89]
[52.44,0.89]
[52.45,0.89]
[52.46,0.89]
[52.47,0.89]
[52.48,0.89]
[52.49,0.89]
[52.5,0.89]
[52.51,0.89]
[52.52,0.89]
[52.53,0.89]
[52.54,0.89]
[52.55,0.89]
[52.56,0.89]
[52.57,0.89]
[52.58,0.89]
[52.59,0.89]
[52.6,0.89]
[52.61,0.89]
[52.62,0.89]
[52.63,0.89]
[52.64,0.89]
[52.65,0.89]
[52.66,0.89]
[52.67,0.89]
[52.68,0.89]
[52.69,0.89]
[52.7,0.89]
[52.71,0.89]
[52.72,0.89]
[52.73,0.89]
[52.74,0.89]
[52.75,0.89]
[52.76,0.89]
[52.77,0.89]
[52.78,0.89]
[52.79,0.89]
[52.8,0.89]
[52.81,0.89]
[52.82,0.89]
[52.83,0.89]
[52.84,0.89]
[52.85,0.89]
[52.86,0.89]
[52.87,0.89]
[52.88,0.89]
[52.89,0.89]
[52.9,0.89]
[52.91,0.89]
[52.92,0.89]
[52.93,0.89]
[52.94,0.89]
[52.95,0.89]
[52.96,0.89]
[52.97,0.89]
[52.98,0.89]
[52.99,0.89]
[53,0.89]
[53.01,0.89]
[53.02,0.89]
[53.03,0.89]
[53.04,0.89]
[53.05,0.89]
[53.06,0.89]
[53.07,0.89]
[53.08,0.89]
[53.09,0.89]
[53.1,0.89]
[53.11,0.89]
[53.12,0.89]
[53.13,0.89]
[53.14,0.89]
[53.15,0.89]
[53.16,0.89]
[53.17,0.89]
[53.18,0.89]
[53.19,0.89]
[53.2,0.89]
[53.21,0.89]
[53.22,0.89]
[53.23,0.89]
[53.24,0.89]
[53.25,0.89]
[53.26,0.89]
[53.27,0.89]
[53.28,0.89]
[53.29,0.89]
[53.3,0.89]
[53.31,0.89]
[53.32,0.89]
[53.33,0.89]
[53.34,0.89]
[53.35,0.89]
[53.36,0.89]
[53.37,0.89]
[53.38,0.89]
[53.39,0.89]
[53.4,0.89]
[53.41,0.89]
[53.42,0.89]
[53.43,0.89]
[53.44,0.89]
[53.45,0.89]
[53.46,0.89]
[53.47,0.89]
[53.48,0.89]
[53.49,0.89]
[53.5,0.89]
[53.51,0.89]
[53.52,0.89]
[53.53,0.89]
[53.54,0.89]
[53.55,0.89]
[53.56,0.89]
[53.57,0.89]
[53.58,0.89]
[53.59,0.89]
[53.6,0.89]
[53.61,0.89]
[53.62,0.89]
[53.63,0.89]
[53.64,0.89]
[53.65,0.89]
[53.66,0.89]
[53.67,0.89]
[53.68,0.89]
[53.69,0.89]
[53.7,0.89]
[53.71,0.89]
[53.72,0.89]
[53.73,0.89]
[53.74,0.89]
[53.75,0.89]
[53.76,0.89]
[53.77,0.89]
[53.78,0.89]
[53.79,0.89]
[53.8,0.89]
[53.81,0.89]
[53.82,0.89]
[53.83,0.89]
[53.84,0.89]
[53.85,0.89]
[53.86,0.89]
[53.87,0.89]
[53.88,0.89]
[53.89,0.89]
[53.9,0.89]
[53.91,0.89]
[53.92,0.89]
[53.93,0.89]
[53.94,0.89]
[53.95,0.89]
[53.96,0.89]
[53.97,0.89]
[53.98,0.89]
[53.99,0.89]
[54,0.89]
[54.01,0.89]
[54.02,0.89]
[54.03,0.89]
[54.04,0.89]
[54.05,0.89]
[54.06,0.89]
[54.07,0.89]
[54.08,0.89]
[54.09,0.89]
[54.1,0.89]
[54.11,0.89]
[54.12,0.89]
[54.13,0.89]
[54.14,0.89]
[54.15,0.89]
[54.16,0.89]
[54.17,0.89]
[54.18,0.89]
[54.19,0.89]
[54.2,0.89]
[54.21,0.89]
[54.22,0.89]
[54.23,0.89]
[54.24,0.89]
[54.25,0.89]
[54.26,0.89]
[54.27,0.89]
[54.28,0.89]
[54.29,0.89]
[54.3,0.89]
[54.31,0.89]
[54.32,0.89]
[54.33,0.89]
[54.34,0.89]
[54.35,0.89]
[54.36,0.89]
[54.37,0.89]
[54.38,0.89]
[54.39,0.89]
[54.4,0.89]
[54.41,0.89]
[54.42,0.89]
[54.43,0.89]
[54.44,0.89]
[54.45,0.89]
[54.46,0.89]
[54.47,0.89]
[54.48,0.89]
[54.49,0.89]
[54.5,0.89]
[54.51,0.89]
[54.52,0.89]
[54.53,0.89]
[54.54,0.89]
[54.55,0.89]
[54.56,0.89]
[54.57,0.89]
[54.58,0.89]
[54.59,0.89]
[54.6,0.89]
[54.61,0.89]
[54.62,0.89]
[54.63,0.89]
[54.64,0.89]
[54.65,0.89]
[54.66,0.89]
[54.67,0.89]
[54.68,0.89]
[54.69,0.89]
[54.7,0.89]
[54.71,0.89]
[54.72,0.89]
[54.73,0.89]
[54.74,0.89]
[54.75,0.89]
[54.76,0.89]
[54.77,0.89]
[54.78,0.89]
[54.79,0.89]
[54.8,0.89]
[54.81,0.89]
[54.82,0.89]
[54.83,0.89]
[54.84,0.89]
[54.85,0.89]
[54.86,0.89]
[54.87,0.89]
[54.88,0.89]
[54.89,0.89]
[54.9,0.89]
[54.91,0.89]
[54.92,0.89]
[54.93,0.89]
[54.94,0.89]
[54.95,0.89]
[54.96,0.89]
[54.97,0.89]
[54.98,0.89]
[54.99,0.89]
[55,0.89]
[55.01,0.89]
[55.02,0.89]
[55.03,0.89]
[55.04,0.89]
[55.05,0.89]
[55.06,0.89]
[55.07,0.89]
[55.08,0.89]
[55.09,0.89]
[55.1,0.89]
[55.11,0.89]
[55.12,0.89]
[55.13,0.89]
[55.14,0.89]
[55.15,0.89]
[55.16,0.89]
[55.17,0.89]
[55.18,0.89]
[55.19,0.89]
[55.2,0.89]
[55.21,0.89]
[55.22,0.89]
[55.23,0.89]
[55.24,0.89]
[55.25,0.89]
[55.26,0.89]
[55.27,0.89]
[55.28,0.89]
[55.29,0.89]
[55.3,0.89]
[55.31,0.89]
[55.32,0.89]
[55.33,0.89]
[55.34,0.89]
[55.35,0.89]
[55.36,0.89]
[55.37,0.89]
[55.38,0.89]
[55.39,0.89]
[55.4,0.89]
[55.41,0.89]
[55.42,0.89]
[55.43,0.89]
[55.44,0.89]
[55.45,0.89]
[55.46,0.89]
[55.47,0.89]
[55.48,0.89]
[55.49,0.89]
[55.5,0.89]
[55.51,0.89]
[55.52,0.89]
[55.53,0.89]
[55.54,0.89]
[55.55,0.89]
[55.56,0.89]
[55.57,0.89]
[55.58,0.89]
[55.59,0.89]
[55.6,0.89]
[55.61,0.89]
[55.62,0.89]
[55.63,0.89]
[55.64,0.89]
[55.65,0.89]
[55.66,0.89]
[55.67,0.89]
[55.68,0.89]
[55.69,0.89]
[55.7,0.89]
[55.71,0.89]
[55.72,0.89]
[55.73,0.89]
[55.74,0.89]
[55.75,0.89]
[55.76,0.89]
[55.77,0.89]
[55.78,0.89]
[55.79,0.89]
[55.8,0.89]
[55.81,0.89]
[55.82,0.89]
[55.83,0.89]
[55.84,0.89]
[55.85,0.89]
[55.86,0.89]
[55.87,0.89]
[55.88,0.89]
[55.89,0.89]
[55.9,0.89]
[55.91,0.89]
[55.92,0.89]
[55.93,0.89]
[55.94,0.89]
[55.95,0.89]
[55.96,0.89]
[55.97,0.89]
[55.98,0.89]
[55.99,0.89]
[56,0.89]
[56.01,0.89]
[56.02,0.89]
[56.03,0.89]
[56.04,0.89]
[56.05,0.89]
[56.06,0.89]
[56.07,0.89]
[56.08,0.89]
[56.09,0.89]
[56.1,0.89]
[56.11,0.89]
[56.12,0.89]
[56.13,0.89]
[56.14,0.89]
[56.15,0.89]
[56.16,0.89]
[56.17,0.89]
[56.18,0.89]
[56.19,0.89]
[56.2,0.89]
[56.21,0.89]
[56.22,0.89]
[56.23,0.89]
[56.24,0.89]
[56.25,0.89]
[56.26,0.89]
[56.27,0.89]
[56.28,0.89]
[56.29,0.89]
[56.3,0.89]
[56.31,0.89]
[56.32,0.89]
[56.33,0.89]
[56.34,0.89]
[56.35,0.89]
[56.36,0.89]
[56.37,0.89]
[56.38,0.89]
[56.39,0.89]
[56.4,0.89]
[56.41,0.89]
[56.42,0.89]
[56.43,0.89]
[56.44,0.89]
[56.45,0.89]
[56.46,0.89]
[56.47,0.89]
[56.48,0.89]
[56.49,0.89]
[56.5,0.89]
[56.51,0.89]
[56.52,0.89]
[56.53,0.89]
[56.54,0.89]
[56.55,0.89]
[56.56,0.89]
[56.57,0.89]
[56.58,0.89]
[56.59,0.89]
[56.6,0.89]
[56.61,0.89]
[56.62,0.89]
[56.63,0.89]
[56.64,0.89]
[56.65,0.89]
[56.66,0.89]
[56.67,0.89]
[56.68,0.89]
[56.69,0.89]
[56.7,0.89]
[56.71,0.89]
[56.72,0.89]
[56.73,0.89]
[56.74,0.89]
[56.75,0.89]
[56.76,0.89]
[56.77,0.89]
[56.78,0.89]
[56.79,0.89]
[56.8,0.89]
[56.81,0.89]
[56.82,0.89]
[56.83,0.89]
[56.84,0.89]
[56.85,0.89]
[56.86,0.89]
[56.87,0.89]
[56.88,0.89]
[56.89,0.89]
[56.9,0.89]
[56.91,0.89]
[56.92,0.89]
[56.93,0.89]
[56.94,0.89]
[56.95,0.89]
[56.96,0.89]
[56.97,0.89]
[56.98,0.89]
[56.99,0.89]
[57,0.89]
[57.01,0.89]
[57.02,0.89]
[57.03,0.89]
[57.04,0.89]
[57.05,0.89]
[57.06,0.89]
[57.07,0.89]
[57.08,0.89]
[57.09,0.89]
[57.1,0.89]
[57.11,0.89]
[57.12,0.89]
[57.13,0.89]
[57.14,0.89]
[57.15,0.89]
[57.16,0.89]
[57.17,0.89]
[57.18,0.89]
[57.19,0.89]
[57.2,0.89]
[57.21,0.89]
[57.22,0.89]
[57.23,0.89]
[57.24,0.89]
[57.25,0.89]
[57.26,0.89]
[57.27,0.89]
[57.28,0.89]
[57.29,0.89]
[57.3,0.89]
[57.31,0.89]
[57.32,0.89]
[57.33,0.89]
[57.34,0.89]
[57.35,0.89]
[57.36,0.89]
[57.37,0.89]
[57.38,0.89]
[57.39,0.89]
[57.4,0.89]
[57.41,0.89]
[57.42,0.89]
[57.43,0.89]
[57.44,0.89]
[57.45,0.89]
[57.46,0.89]
[57.47,0.89]
[57.48,0.89]
[57.49,0.89]
[57.5,0.89]
[57.51,0.89]
[57.52,0.89]
[57.53,0.89]
[57.54,0.89]
[57.55,0.89]
[57.56,0.89]
[57.57,0.89]
[57.58,0.89]
[57.59,0.89]
[57.6,0.89]
[57.61,0.89]
[57.62,0.89]
[57.63,0.89]
[57.64,0.89]
[57.65,0.89]
[57.66,0.89]
[57.67,0.89]
[57.68,0.89]
[57.69,0.89]
[57.7,0.89]
[57.71,0.89]
[57.72,0.89]
[57.73,0.89]
[57.74,0.89]
[57.75,0.89]
[57.76,0.89]
[57.77,0.89]
[57.78,0.89]
[57.79,0.89]
[57.8,0.89]
[57.81,0.89]
[57.82,0.89]
[57.83,0.89]
[57.84,0.89]
[57.85,0.89]
[57.86,0.89]
[57.87,0.89]
[57.88,0.89]
[57.89,0.89]
[57.9,0.89]
[57.91,0.89]
[57.92,0.89]
[57.93,0.89]
[57.94,0.89]
[57.95,0.89]
[57.96,0.89]
[57.97,0.89]
[57.98,0.89]
[57.99,0.89]
[58,0.89]
[58.01,0.89]
[58.02,0.89]
[58.03,0.89]
[58.04,0.89]
[58.05,0.89]
[58.06,0.89]
[58.07,0.89]
[58.08,0.89]
[58.09,0.89]
[58.1,0.89]
[58.11,0.89]
[58.12,0.89]
[58.13,0.89]
[58.14,0.89]
[58.15,0.89]
[58.16,0.89]
[58.17,0.89]
[58.18,0.89]
[58.19,0.89]
[58.2,0.89]
[58.21,0.89]
[58.22,0.89]
[58.23,0.89]
[58.24,0.89]
[58.25,0.89]
[58.26,0.89]
[58.27,0.89]
[58.28,0.89]
[58.29,0.89]
[58.3,0.89]
[58.31,0.89]
[58.32,0.89]
[58.33,0.89]
[58.34,0.89]
[58.35,0.89]
[58.36,0.89]
[58.37,0.89]
[58.38,0.89]
[58.39,0.89]
[58.4,0.89]
[58.41,0.89]
[58.42,0.89]
[58.43,0.89]
[58.44,0.89]
[58.45,0.89]
[58.46,0.89]
[58.47,0.89]
[58.48,0.89]
[58.49,0.89]
[58.5,0.89]
[58.51,0.89]
[58.52,0.89]
[58.53,0.89]
[58.54,0.89]
[58.55,0.89]
[58.56,0.89]
[58.57,0.89]
[58.58,0.89]
[58.59,0.89]
[58.6,0.89]
[58.61,0.89]
[58.62,0.89]
[58.63,0.89]
[58.64,0.89]
[58.65,0.89]
[58.66,0.89]
[58.67,0.89]
[58.68,0.89]
[58.69,0.89]
[58.7,0.89]
[58.71,0.89]
[58.72,0.89]
[58.73,0.89]
[58.74,0.89]
[58.75,0.89]
[58.76,0.89]
[58.77,0.89]
[58.78,0.89]
[58.79,0.89]
[58.8,0.89]
[58.81,0.89]
[58.82,0.89]
[58.83,0.89]
[58.84,0.89]
[58.85,0.89]
[58.86,0.89]
[58.87,0.89]
[58.88,0.89]
[58.89,0.89]
[58.9,0.89]
[58.91,0.89]
[58.92,0.89]
[58.93,0.89]
[58.94,0.89]
[58.95,0.89]
[58.96,0.89]
[58.97,0.89]
[58.98,0.89]
[58.99,0.89]
[59,0.89]
[59.01,0.89]
[59.02,0.89]
[59.03,0.89]
[59.04,0.89]
[59.05,0.89]
[59.06,0.89]
[59.07,0.89]
[59.08,0.89]
[59.09,0.89]
[59.1,0.89]
[59.11,0.89]
[59.12,0.89]
[59.13,0.89]
[59.14,0.89]
[59.15,0.89]
[59.16,0.89]
[59.17,0.89]
[59.18,0.89]
[59.19,0.89]
[59.2,0.89]
[59.21,0.89]
[59.22,0.89]
[59.23,0.89]
[59.24,0.89]
[59.25,0.89]
[59.26,0.89]
[59.27,0.89]
[59.28,0.89]
[59.29,0.89]
[59.3,0.89]
[59.31,0.89]
[59.32,0.89]
[59.33,0.89]
[59.34,0.89]
[59.35,0.89]
[59.36,0.89]
[59.37,0.89]
[59.38,0.89]
[59.39,0.89]
[59.4,0.89]
[59.41,0.89]
[59.42,0.89]
[59.43,0.89]
[59.44,0.89]
[59.45,0.89]
[59.46,0.89]
[59.47,0.89]
[59.48,0.89]
[59.49,0.89]
[59.5,0.89]
[59.51,0.89]
[59.52,0.89]
[59.53,0.89]
[59.54,0.89]
[59.55,0.89]
[59.56,0.89]
[59.57,0.89]
[59.58,0.89]
[59.59,0.89]
[59.6,0.89]
[59.61,0.89]
[59.62,0.89]
[59.63,0.89]
[59.64,0.89]
[59.65,0.89]
[59.66,0.89]
[59.67,0.89]
[59.68,0.89]
[59.69,0.89]
[59.7,0.89]
[59.71,0.89]
[59.72,0.89]
[59.73,0.89]
[59.74,0.89]
[59.75,0.89]
[59.76,0.89]
[59.77,0.89]
[59.78,0.89]
[59.79,0.89]
[59.8,0.89]
[59.81,0.89]
[59.82,0.89]
[59.83,0.89]
[59.84,0.89]
[59.85,0.89]
[59.86,0.89]
[59.87,0.89]
[59.88,0.89]
[59.89,0.89]
[59.9,0.89]
[59.91,0.89]
[59.92,0.89]
[59.93,0.89]
[59.94,0.89]
[59.95,0.89]
[59.96,0.89]
[59.97,0.89]
[59.98,0.89]
[59.99,0.89]
[60,0.89]
[60.01,0.86]
[60.02,0.86]
[60.03,0.86]
[60.04,0.86]
[60.05,0.86]
[60.06,0.86]
[60.07,0.86]
[60.08,0.86]
[60.09,0.86]
[60.1,0.86]
[60.11,0.86]
[60.12,0.86]
[60.13,0.86]
[60.14,0.86]
[60.15,0.86]
[60.16,0.86]
[60.17,0.86]
[60.18,0.86]
[60.19,0.86]
[60.2,0.86]
[60.21,0.86]
[60.22,0.86]
[60.23,0.86]
[60.24,0.86]
[60.25,0.86]
[60.26,0.86]
[60.27,0.86]
[60.28,0.86]
[60.29,0.86]
[60.3,0.86]
[60.31,0.86]
[60.32,0.86]
[60.33,0.86]
[60.34,0.86]
[60.35,0.86]
[60.36,0.86]
[60.37,0.86]
[60.38,0.86]
[60.39,0.86]
[60.4,0.86]
[60.41,0.86]
[60.42,0.86]
[60.43,0.86]
[60.44,0.86]
[60.45,0.86]
[60.46,0.86]
[60.47,0.86]
[60.48,0.86]
[60.49,0.86]
[60.5,0.86]
[60.51,0.86]
[60.52,0.86]
[60.53,0.86]
[60.54,0.86]
[60.55,0.86]
[60.56,0.86]
[60.57,0.86]
[60.58,0.86]
[60.59,0.86]
[60.6,0.86]
[60.61,0.86]
[60.62,0.86]
[60.63,0.86]
[60.64,0.86]
[60.65,0.86]
[60.66,0.86]
[60.67,0.86]
[60.68,0.86]
[60.69,0.86]
[60.7,0.86]
[60.71,0.86]
[60.72,0.86]
[60.73,0.86]
[60.74,0.86]
[60.75,0.86]
[60.76,0.86]
[60.77,0.86]
[60.78,0.86]
[60.79,0.86]
[60.8,0.86]
[60.81,0.86]
[60.82,0.86]
[60.83,0.86]
[60.84,0.86]
[60.85,0.86]
[60.86,0.86]
[60.87,0.86]
[60.88,0.86]
[60.89,0.86]
[60.9,0.86]
[60.91,0.86]
[60.92,0.86]
[60.93,0.86]
[60.94,0.86]
[60.95,0.86]
[60.96,0.86]
[60.97,0.86]
[60.98,0.86]
[60.99,0.86]
[61,0.86]
[61.01,0.86]
[61.02,0.86]
[61.03,0.86]
[61.04,0.86]
[61.05,0.86]
[61.06,0.86]
[61.07,0.86]
[61.08,0.86]
[61.09,0.86]
[61.1,0.86]
[61.11,0.86]
[61.12,0.86]
[61.13,0.86]
[61.14,0.86]
[61.15,0.86]
[61.16,0.86]
[61.17,0.86]
[61.18,0.86]
[61.19,0.86]
[61.2,0.86]
[61.21,0.86]
[61.22,0.86]
[61.23,0.86]
[61.24,0.86]
[61.25,0.86]
[61.26,0.86]
[61.27,0.86]
[61.28,0.86]
[61.29,0.86]
[61.3,0.86]
[61.31,0.86]
[61.32,0.86]
[61.33,0.86]
[61.34,0.86]
[61.35,0.86]
[61.36,0.86]
[61.37,0.86]
[61.38,0.86]
[61.39,0.86]
[61.4,0.86]
[61.41,0.86]
[61.42,0.86]
[61.43,0.86]
[61.44,0.86]
[61.45,0.86]
[61.46,0.86]
[61.47,0.86]
[61.48,0.86]
[61.49,0.86]
[61.5,0.86]
[61.51,0.86]
[61.52,0.86]
[61.53,0.86]
[61.54,0.86]
[61.55,0.86]
[61.56,0.86]
[61.57,0.86]
[61.58,0.86]
[61.59,0.86]
[61.6,0.86]
[61.61,0.86]
[61.62,0.86]
[61.63,0.86]
[61.64,0.86]
[61.65,0.86]
[61.66,0.86]
[61.67,0.86]
[61.68,0.86]
[61.69,0.86]
[61.7,0.86]
[61.71,0.86]
[61.72,0.86]
[61.73,0.86]
[61.74,0.86]
[61.75,0.86]
[61.76,0.86]
[61.77,0.86]
[61.78,0.86]
[61.79,0.86]
[61.8,0.86]
[61.81,0.86]
[61.82,0.86]
[61.83,0.86]
[61.84,0.86]
[61.85,0.86]
[61.86,0.86]
[61.87,0.86]
[61.88,0.86]
[61.89,0.86]
[61.9,0.86]
[61.91,0.86]
[61.92,0.86]
[61.93,0.86]
[61.94,0.86]
[61.95,0.86]
[61.96,0.86]
[61.97,0.86]
[61.98,0.86]
[61.99,0.86]
[62,0.86]
[62.01,0.86]
[62.02,0.86]
[62.03,0.86]
[62.04,0.86]
[62.05,0.86]
[62.06,0.86]
[62.07,0.86]
[62.08,0.86]
[62.09,0.86]
[62.1,0.86]
[62.11,0.86]
[62.12,0.86]
[62.13,0.86]
[62.14,0.86]
[62.15,0.86]
[62.16,0.86]
[62.17,0.86]
[62.18,0.86]
[62.19,0.86]
[62.2,0.86]
[62.21,0.86]
[62.22,0.86]
[62.23,0.86]
[62.24,0.86]
[62.25,0.86]
[62.26,0.86]
[62.27,0.86]
[62.28,0.86]
[62.29,0.86]
[62.3,0.86]
[62.31,0.86]
[62.32,0.86]
[62.33,0.86]
[62.34,0.86]
[62.35,0.86]
[62.36,0.86]
[62.37,0.86]
[62.38,0.86]
[62.39,0.86]
[62.4,0.86]
[62.41,0.86]
[62.42,0.86]
[62.43,0.86]
[62.44,0.86]
[62.45,0.86]
[62.46,0.86]
[62.47,0.86]
[62.48,0.86]
[62.49,0.86]
[62.5,0.86]
[62.51,0.86]
[62.52,0.86]
[62.53,0.86]
[62.54,0.86]
[62.55,0.86]
[62.56,0.86]
[62.57,0.86]
[62.58,0.86]
[62.59,0.86]
[62.6,0.86]
[62.61,0.86]
[62.62,0.86]
[62.63,0.86]
[62.64,0.86]
[62.65,0.86]
[62.66,0.86]
[62.67,0.86]
[62.68,0.86]
[62.69,0.86]
[62.7,0.86]
[62.71,0.86]
[62.72,0.86]
[62.73,0.86]
[62.74,0.86]
[62.75,0.86]
[62.76,0.86]
[62.77,0.86]
[62.78,0.86]
[62.79,0.86]
[62.8,0.86]
[62.81,0.86]
[62.82,0.86]
[62.83,0.86]
[62.84,0.86]
[62.85,0.86]
[62.86,0.86]
[62.87,0.86]
[62.88,0.86]
[62.89,0.86]
[62.9,0.86]
[62.91,0.86]
[62.92,0.86]
[62.93,0.86]
[62.94,0.86]
[62.95,0.86]
[62.96,0.86]
[62.97,0.86]
[62.98,0.86]
[62.99,0.86]
[63,0.86]
[63.01,0.86]
[63.02,0.86]
[63.03,0.86]
[63.04,0.86]
[63.05,0.86]
[63.06,0.86]
[63.07,0.86]
[63.08,0.86]
[63.09,0.86]
[63.1,0.86]
[63.11,0.86]
[63.12,0.86]
[63.13,0.86]
[63.14,0.86]
[63.15,0.86]
[63.16,0.86]
[63.17,0.86]
[63.18,0.86]
[63.19,0.86]
[63.2,0.86]
[63.21,0.86]
[63.22,0.86]
[63.23,0.86]
[63.24,0.86]
[63.25,0.86]
[63.26,0.86]
[63.27,0.86]
[63.28,0.86]
[63.29,0.86]
[63.3,0.86]
[63.31,0.86]
[63.32,0.86]
[63.33,0.86]
[63.34,0.86]
[63.35,0.86]
[63.36,0.86]
[63.37,0.86]
[63.38,0.86]
[63.39,0.86]
[63.4,0.86]
[63.41,0.86]
[63.42,0.86]
[63.43,0.86]
[63.44,0.86]
[63.45,0.86]
[63.46,0.86]
[63.47,0.86]
[63.48,0.86]
[63.49,0.86]
[63.5,0.86]
[63.51,0.86]
[63.52,0.86]
[63.53,0.86]
[63.54,0.86]
[63.55,0.86]
[63.56,0.86]
[63.57,0.86]
[63.58,0.86]
[63.59,0.86]
[63.6,0.86]
[63.61,0.86]
[63.62,0.86]
[63.63,0.86]
[63.64,0.86]
[63.65,0.86]
[63.66,0.86]
[63.67,0.86]
[63.68,0.86]
[63.69,0.86]
[63.7,0.86]
[63.71,0.86]
[63.72,0.86]
[63.73,0.86]
[63.74,0.86]
[63.75,0.86]
[63.76,0.86]
[63.77,0.86]
[63.78,0.86]
[63.79,0.86]
[63.8,0.86]
[63.81,0.86]
[63.82,0.86]
[63.83,0.86]
[63.84,0.86]
[63.85,0.86]
[63.86,0.86]
[63.87,0.86]
[63.88,0.86]
[63.89,0.86]
[63.9,0.86]
[63.91,0.86]
[63.92,0.86]
[63.93,0.86]
[63.94,0.86]
[63.95,0.86]
[63.96,0.86]
[63.97,0.86]
[63.98,0.86]
[63.99,0.86]
[64,0.86]
[64.010000000000005,0.86]
[64.02,0.86]
[64.03,0.86]
[64.040000000000006,0.86]
[64.05,0.86]
[64.06,0.86]
[64.069999999999993,0.86]
[64.08,0.86]
[64.09,0.86]
[64.099999999999994,0.86]
[64.11,0.86]
[64.12,0.86]
[64.13,0.86]
[64.14,0.86]
[64.150000000000006,0.86]
[64.16,0.86]
[64.17,0.86]
[64.180000000000007,0.86]
[64.19,0.86]
[64.2,0.86]
[64.209999999999994,0.86]
[64.22,0.86]
[64.23,0.86]
[64.239999999999995,0.86]
[64.25,0.86]
[64.260000000000005,0.86]
[64.27,0.86]
[64.28,0.86]
[64.290000000000006,0.86]
[64.3,0.86]
[64.31,0.86]
[64.319999999999993,0.86]
[64.33,0.86]
[64.34,0.86]
[64.349999999999994,0.86]
[64.36,0.86]
[64.37,0.86]
[64.38,0.86]
[64.39,0.86]
[64.400000000000006,0.86]
[64.41,0.86]
[64.42,0.86]
[64.430000000000007,0.86]
[64.44,0.86]
[64.45,0.86]
[64.459999999999994,0.86]
[64.47,0.86]
[64.48,0.86]
[64.489999999999995,0.86]
[64.5,0.86]
[64.510000000000005,0.86]
[64.52,0.86]
[64.53,0.86]
[64.540000000000006,0.86]
[64.55,0.86]
[64.56,0.86]
[64.569999999999993,0.86]
[64.58,0.86]
[64.59,0.86]
[64.599999999999994,0.86]
[64.61,0.86]
[64.62,0.86]
[64.63,0.86]
[64.64,0.86]
[64.650000000000006,0.86]
[64.66,0.86]
[64.67,0.86]
[64.680000000000007,0.86]
[64.69,0.86]
[64.7,0.86]
[64.709999999999994,0.86]
[64.72,0.86]
[64.73,0.86]
[64.739999999999995,0.86]
[64.75,0.86]
[64.760000000000005,0.86]
[64.77,0.86]
[64.78,0.86]
[64.790000000000006,0.86]
[64.8,0.86]
[64.81,0.86]
[64.819999999999993,0.86]
[64.83,0.86]
[64.84,0.86]
[64.849999999999994,0.86]
[64.86,0.86]
[64.87,0.86]
[64.88,0.86]
[64.89,0.86]
[64.900000000000006,0.86]
[64.91,0.86]
[64.92,0.86]
[64.930000000000007,0.86]
[64.94,0.86]
[64.95,0.86]
[64.959999999999994,0.86]
[64.97,0.86]
[64.98,0.86]
[64.989999999999995,0.86]
[65,0.86]
[65.010000000000005,0.86]
[65.02,0.86]
[65.03,0.86]
[65.040000000000006,0.86]
[65.05,0.86]
[65.06,0.86]
[65.069999999999993,0.86]
[65.08,0.86]
[65.09,0.86]
[65.099999999999994,0.86]
[65.11,0.86]
[65.12,0.86]
[65.13,0.86]
[65.14,0.86]
[65.150000000000006,0.86]
[65.16,0.86]
[65.17,0.86]
[65.180000000000007,0.86]
[65.19,0.86]
[65.2,0.86]
[65.209999999999994,0.86]
[65.22,0.86]
[65.23,0.86]
[65.239999999999995,0.86]
[65.25,0.86]
[65.260000000000005,0.86]
[65.27,0.86]
[65.28,0.86]
[65.290000000000006,0.86]
[65.3,0.86]
[65.31,0.86]
[65.319999999999993,0.86]
[65.33,0.86]
[65.34,0.86]
[65.349999999999994,0.86]
[65.36,0.86]
[65.37,0.86]
[65.38,0.86]
[65.39,0.86]
[65.400000000000006,0.86]
[65.41,0.86]
[65.42,0.86]
[65.430000000000007,0.86]
[65.44,0.86]
[65.45,0.86]
[65.459999999999994,0.86]
[65.47,0.86]
[65.48,0.86]
[65.489999999999995,0.86]
[65.5,0.86]
[65.510000000000005,0.86]
[65.52,0.86]
[65.53,0.86]
[65.540000000000006,0.86]
[65.55,0.86]
[65.56,0.86]
[65.569999999999993,0.86]
[65.58,0.86]
[65.59,0.86]
[65.599999999999994,0.86]
[65.61,0.86]
[65.62,0.86]
[65.63,0.86]
[65.64,0.86]
[65.650000000000006,0.86]
[65.66,0.86]
[65.67,0.86]
[65.680000000000007,0.86]
[65.69,0.86]
[65.7,0.86]
[65.709999999999994,0.86]
[65.72,0.86]
[65.73,0.86]
[65.739999999999995,0.86]
[65.75,0.86]
[65.760000000000005,0.86]
[65.77,0.86]
[65.78,0.86]
[65.790000000000006,0.86]
[65.8,0.86]
[65.81,0.86]
[65.819999999999993,0.86]
[65.83,0.86]
[65.84,0.86]
[65.849999999999994,0.86]
[65.86,0.86]
[65.87,0.86]
[65.88,0.86]
[65.89,0.86]
[65.900000000000006,0.86]
[65.91,0.86]
[65.92,0.86]
[65.930000000000007,0.86]
[65.94,0.86]
[65.95,0.86]
[65.959999999999994,0.86]
[65.97,0.86]
[65.98,0.86]
[65.989999999999995,0.86]
[66,0.86]
[66.010000000000005,0.86]
[66.02,0.86]
[66.03,0.86]
[66.040000000000006,0.86]
[66.05,0.86]
[66.06,0.86]
[66.069999999999993,0.86]
[66.08,0.86]
[66.09,0.86]
[66.099999999999994,0.86]
[66.11,0.86]
[66.12,0.86]
[66.13,0.86]
[66.14,0.86]
[66.150000000000006,0.86]
[66.16,0.86]
[66.17,0.86]
[66.180000000000007,0.86]
[66.19,0.86]
[66.2,0.86]
[66.209999999999994,0.86]
[66.22,0.86]
[66.23,0.86]
[66.239999999999995,0.86]
[66.25,0.86]
[66.260000000000005,0.86]
[66.27,0.86]
[66.28,0.86]
[66.290000000000006,0.86]
[66.3,0.86]
[66.31,0.86]
[66.319999999999993,0.86]
[66.33,0.86]
[66.34,0.86]
[66.349999999999994,0.86]
[66.36,0.86]
[66.37,0.86]
[66.38,0.86]
[66.39,0.86]
[66.400000000000006,0.86]
[66.41,0.86]
[66.42,0.86]
[66.430000000000007,0.86]
[66.44,0.86]
[66.45,0.86]
[66.459999999999994,0.86]
[66.47,0.86]
[66.48,0.86]
[66.489999999999995,0.86]
[66.5,0.86]
[66.510000000000005,0.86]
[66.52,0.86]
[66.53,0.86]
[66.540000000000006,0.86]
[66.55,0.86]
[66.56,0.86]
[66.569999999999993,0.86]
[66.58,0.86]
[66.59,0.86]
[66.599999999999994,0.86]
[66.61,0.86]
[66.62,0.86]
[66.63,0.86]
[66.64,0.86]
[66.650000000000006,0.86]
[66.66,0.86]
[66.67,0.86]
[66.680000000000007,0.86]
[66.69,0.86]
[66.7,0.86]
[66.709999999999994,0.86]
[66.72,0.86]
[66.73,0.86]
[66.739999999999995,0.86]
[66.75,0.86]
[66.760000000000005,0.86]
[66.77,0.86]
[66.78,0.86]
[66.790000000000006,0.86]
[66.8,0.86]
[66.81,0.86]
[66.819999999999993,0.86]
[66.83,0.86]
[66.84,0.86]
[66.849999999999994,0.86]
[66.86,0.86]
[66.87,0.86]
[66.88,0.86]
[66.89,0.86]
[66.900000000000006,0.86]
[66.91,0.86]
[66.92,0.86]
[66.930000000000007,0.86]
[66.94,0.86]
[66.95,0.86]
[66.959999999999994,0.86]
[66.97,0.86]
[66.98,0.86]
[66.989999999999995,0.86]
[67,0.86]
[67.010000000000005,0.86]
[67.02,0.86]
[67.03,0.86]
[67.040000000000006,0.86]
[67.05,0.86]
[67.06,0.86]
[67.069999999999993,0.86]
[67.08,0.86]
[67.09,0.86]
[67.099999999999994,0.86]
[67.11,0.86]
[67.12,0.86]
[67.13,0.86]
[67.14,0.86]
[67.150000000000006,0.86]
[67.16,0.86]
[67.17,0.86]
[67.180000000000007,0.86]
[67.19,0.86]
[67.2,0.86]
[67.209999999999994,0.86]
[67.22,0.86]
[67.23,0.86]
[67.239999999999995,0.86]
[67.25,0.86]
[67.260000000000005,0.86]
[67.27,0.86]
[67.28,0.86]
[67.290000000000006,0.86]
[67.3,0.86]
[67.31,0.86]
[67.319999999999993,0.86]
[67.33,0.86]
[67.34,0.86]
[67.349999999999994,0.86]
[67.36,0.86]
[67.37,0.86]
[67.38,0.86]
[67.39,0.86]
[67.400000000000006,0.86]
[67.41,0.86]
[67.42,0.86]
[67.430000000000007,0.86]
[67.44,0.86]
[67.45,0.86]
[67.459999999999994,0.86]
[67.47,0.86]
[67.48,0.86]
[67.489999999999995,0.86]
[67.5,0.86]
[67.510000000000005,0.86]
[67.52,0.86]
[67.53,0.86]
[67.540000000000006,0.86]
[67.55,0.86]
[67.56,0.86]
[67.569999999999993,0.86]
[67.58,0.86]
[67.59,0.86]
[67.599999999999994,0.86]
[67.61,0.86]
[67.62,0.86]
[67.63,0.86]
[67.64,0.86]
[67.650000000000006,0.86]
[67.66,0.86]
[67.67,0.86]
[67.680000000000007,0.86]
[67.69,0.86]
[67.7,0.86]
[67.709999999999994,0.86]
[67.72,0.86]
[67.73,0.86]
[67.739999999999995,0.86]
[67.75,0.86]
[67.760000000000005,0.86]
[67.77,0.86]
[67.78,0.86]
[67.790000000000006,0.86]
[67.8,0.86]
[67.81,0.86]
[67.819999999999993,0.86]
[67.83,0.86]
[67.84,0.86]
[67.849999999999994,0.86]
[67.86,0.86]
[67.87,0.86]
[67.88,0.86]
[67.89,0.86]
[67.900000000000006,0.86]
[67.91,0.86]
[67.92,0.86]
[67.930000000000007,0.86]
[67.94,0.86]
[67.95,0.86]
[67.959999999999994,0.86]
[67.97,0.86]
[67.98,0.86]
[67.989999999999995,0.86]
[68,0.86]
[68.010000000000005,0.86]
[68.02,0.86]
[68.03,0.86]
[68.040000000000006,0.86]
[68.05,0.86]
[68.06,0.86]
[68.069999999999993,0.86]
[68.08,0.86]
[68.09,0.86]
[68.099999999999994,0.86]
[68.11,0.86]
[68.12,0.86]
[68.13,0.86]
[68.14,0.86]
[68.150000000000006,0.86]
[68.16,0.86]
[68.17,0.86]
[68.180000000000007,0.86]
[68.19,0.86]
[68.2,0.86]
[68.209999999999994,0.86]
[68.22,0.86]
[68.23,0.86]
[68.239999999999995,0.86]
[68.25,0.86]
[68.260000000000005,0.86]
[68.27,0.86]
[68.28,0.86]
[68.290000000000006,0.86]
[68.3,0.86]
[68.31,0.86]
[68.319999999999993,0.86]
[68.33,0.86]
[68.34,0.86]
[68.349999999999994,0.86]
[68.36,0.86]
[68.37,0.86]
[68.38,0.86]
[68.39,0.86]
[68.400000000000006,0.86]
[68.41,0.86]
[68.42,0.86]
[68.430000000000007,0.86]
[68.44,0.86]
[68.45,0.86]
[68.459999999999994,0.86]
[68.47,0.86]
[68.48,0.86]
[68.489999999999995,0.86]
[68.5,0.86]
[68.510000000000005,0.86]
[68.52,0.86]
[68.53,0.86]
[68.540000000000006,0.86]
[68.55,0.86]
[68.56,0.86]
[68.569999999999993,0.86]
[68.58,0.86]
[68.59,0.86]
[68.599999999999994,0.86]
[68.61,0.86]
[68.62,0.86]
[68.63,0.86]
[68.64,0.86]
[68.650000000000006,0.86]
[68.66,0.86]
[68.67,0.86]
[68.680000000000007,0.86]
[68.69,0.86]
[68.7,0.86]
[68.709999999999994,0.86]
[68.72,0.86]
[68.73,0.86]
[68.739999999999995,0.86]
[68.75,0.86]
[68.760000000000005,0.86]
[68.77,0.86]
[68.78,0.86]
[68.790000000000006,0.86]
[68.8,0.86]
[68.81,0.86]
[68.819999999999993,0.86]
[68.83,0.86]
[68.84,0.86]
[68.849999999999994,0.86]
[68.86,0.86]
[68.87,0.86]
[68.88,0.86]
[68.89,0.86]
[68.900000000000006,0.86]
[68.91,0.86]
[68.92,0.86]
[68.930000000000007,0.86]
[68.94,0.86]
[68.95,0.86]
[68.959999999999994,0.86]
[68.97,0.86]
[68.98,0.86]
[68.989999999999995,0.86]
[69,0.86]
[69.010000000000005,0.86]
[69.02,0.86]
[69.03,0.86]
[69.040000000000006,0.86]
[69.05,0.86]
[69.06,0.86]
[69.069999999999993,0.86]
[69.08,0.86]
[69.09,0.86]
[69.099999999999994,0.86]
[69.11,0.86]
[69.12,0.86]
[69.13,0.86]
[69.14,0.86]
[69.150000000000006,0.86]
[69.16,0.86]
[69.17,0.86]
[69.180000000000007,0.86]
[69.19,0.86]
[69.2,0.86]
[69.209999999999994,0.86]
[69.22,0.86]
[69.23,0.86]
[69.239999999999995,0.86]
[69.25,0.86]
[69.260000000000005,0.86]
[69.27,0.86]
[69.28,0.86]
[69.290000000000006,0.86]
[69.3,0.86]
[69.31,0.86]
[69.319999999999993,0.86]
[69.33,0.86]
[69.34,0.86]
[69.349999999999994,0.86]
[69.36,0.86]
[69.37,0.86]
[69.38,0.86]
[69.39,0.86]
[69.400000000000006,0.86]
[69.41,0.86]
[69.42,0.86]
[69.430000000000007,0.86]
[69.44,0.86]
[69.45,0.86]
[69.459999999999994,0.86]
[69.47,0.86]
[69.48,0.86]
[69.489999999999995,0.86]
[69.5,0.86]
[69.510000000000005,0.86]
[69.52,0.86]
[69.53,0.86]
[69.540000000000006,0.86]
[69.55,0.86]
[69.56,0.86]
[69.569999999999993,0.86]
[69.58,0.86]
[69.59,0.86]
[69.599999999999994,0.86]
[69.61,0.86]
[69.62,0.86]
[69.63,0.86]
[69.64,0.86]
[69.650000000000006,0.86]
[69.66,0.86]
[69.67,0.86]
[69.680000000000007,0.86]
[69.69,0.86]
[69.7,0.86]
[69.709999999999994,0.86]
[69.72,0.86]
[69.73,0.86]
[69.739999999999995,0.86]
[69.75,0.86]
[69.760000000000005,0.86]
[69.77,0.86]
[69.78,0.86]
[69.790000000000006,0.86]
[69.8,0.86]
[69.81,0.86]
[69.819999999999993,0.86]
[69.83,0.86]
[69.84,0.86]
[69.849999999999994,0.86]
[69.86,0.86]
[69.87,0.86]
[69.88,0.86]
[69.89,0.86]
[69.900000000000006,0.86]
[69.91,0.86]
[69.92,0.86]
[69.930000000000007,0.86]
[69.94,0.86]
[69.95,0.86]
[69.959999999999994,0.86]
[69.97,0.86]
[69.98,0.86]
[69.989999999999995,0.86]
[70,0.86]
[70.010000000000005,0.86]
[70.02,0.86]
[70.03,0.86]
[70.040000000000006,0.86]
[70.05,0.86]
[70.06,0.86]
[70.069999999999993,0.86]
[70.08,0.86]
[70.09,0.86]
[70.099999999999994,0.86]
[70.11,0.86]
[70.12,0.86]
[70.13,0.86]
[70.14,0.86]
[70.150000000000006,0.86]
[70.16,0.86]
[70.17,0.86]
[70.180000000000007,0.86]
[70.19,0.86]
[70.2,0.86]
[70.209999999999994,0.86]
[70.22,0.86]
[70.23,0.86]
[70.239999999999995,0.86]
[70.25,0.86]
[70.260000000000005,0.86]
[70.27,0.86]
[70.28,0.86]
[70.290000000000006,0.86]
[70.3,0.86]
[70.31,0.86]
[70.319999999999993,0.86]
[70.33,0.86]
[70.34,0.86]
[70.349999999999994,0.86]
[70.36,0.86]
[70.37,0.86]
[70.38,0.86]
[70.39,0.86]
[70.400000000000006,0.86]
[70.41,0.86]
[70.42,0.86]
[70.430000000000007,0.86]
[70.44,0.86]
[70.45,0.86]
[70.459999999999994,0.86]
[70.47,0.86]
[70.48,0.86]
[70.489999999999995,0.86]
[70.5,0.86]
[70.510000000000005,0.86]
[70.52,0.86]
[70.53,0.86]
[70.540000000000006,0.86]
[70.55,0.86]
[70.56,0.86]
[70.569999999999993,0.86]
[70.58,0.86]
[70.59,0.86]
[70.599999999999994,0.86]
[70.61,0.86]
[70.62,0.86]
[70.63,0.86]
[70.64,0.86]
[70.650000000000006,0.86]
[70.66,0.86]
[70.67,0.86]
[70.680000000000007,0.86]
[70.69,0.86]
[70.7,0.86]
[70.709999999999994,0.86]
[70.72,0.86]
[70.73,0.86]
[70.739999999999995,0.86]
[70.75,0.86]
[70.760000000000005,0.86]
[70.77,0.86]
[70.78,0.86]
[70.790000000000006,0.86]
[70.8,0.86]
[70.81,0.86]
[70.819999999999993,0.86]
[70.83,0.86]
[70.84,0.86]
[70.849999999999994,0.86]
[70.86,0.86]
[70.87,0.86]
[70.88,0.86]
[70.89,0.86]
[70.900000000000006,0.86]
[70.91,0.86]
[70.92,0.86]
[70.930000000000007,0.86]
[70.94,0.86]
[70.95,0.86]
[70.959999999999994,0.86]
[70.97,0.86]
[70.98,0.86]
[70.989999999999995,0.86]
[71,0.86]
[71.010000000000005,0.86]
[71.02,0.86]
[71.03,0.86]
[71.040000000000006,0.86]
[71.05,0.86]
[71.06,0.86]
[71.069999999999993,0.86]
[71.08,0.86]
[71.09,0.86]
[71.099999999999994,0.86]
[71.11,0.86]
[71.12,0.86]
[71.13,0.86]
[71.14,0.86]
[71.150000000000006,0.86]
[71.16,0.86]
[71.17,0.86]
[71.180000000000007,0.86]
[71.19,0.86]
[71.2,0.86]
[71.209999999999994,0.86]
[71.22,0.86]
[71.23,0.86]
[71.239999999999995,0.86]
[71.25,0.86]
[71.260000000000005,0.86]
[71.27,0.86]
[71.28,0.86]
[71.290000000000006,0.86]
[71.3,0.86]
[71.31,0.86]
[71.319999999999993,0.86]
[71.33,0.86]
[71.34,0.86]
[71.349999999999994,0.86]
[71.36,0.86]
[71.37,0.86]
[71.38,0.86]
[71.39,0.86]
[71.400000000000006,0.86]
[71.41,0.86]
[71.42,0.86]
[71.430000000000007,0.86]
[71.44,0.86]
[71.45,0.86]
[71.459999999999994,0.86]
[71.47,0.86]
[71.48,0.86]
[71.489999999999995,0.86]
[71.5,0.86]
[71.510000000000005,0.86]
[71.52,0.86]
[71.53,0.86]
[71.540000000000006,0.86]
[71.55,0.86]
[71.56,0.86]
[71.569999999999993,0.86]
[71.58,0.86]
[71.59,0.86]
[71.599999999999994,0.86]
[71.61,0.86]
[71.62,0.86]
[71.63,0.86]
[71.64,0.86]
[71.650000000000006,0.86]
[71.66,0.86]
[71.67,0.86]
[71.680000000000007,0.86]
[71.69,0.86]
[71.7,0.86]
[71.709999999999994,0.86]
[71.72,0.86]
[71.73,0.86]
[71.739999999999995,0.86]
[71.75,0.86]
[71.760000000000005,0.86]
[71.77,0.86]
[71.78,0.86]
[71.790000000000006,0.86]
[71.8,0.86]
[71.81,0.86]
[71.819999999999993,0.86]
[71.83,0.86]
[71.84,0.86]
[71.849999999999994,0.86]
[71.86,0.86]
[71.87,0.86]
[71.88,0.86]
[71.89,0.86]
[71.900000000000006,0.86]
[71.91,0.86]
[71.92,0.86]
[71.930000000000007,0.86]
[71.94,0.86]
[71.95,0.86]
[71.959999999999994,0.86]
[71.97,0.86]
[71.98,0.86]
[71.989999999999995,0.86]
[72,0.86]
[72.010000000000005,0.86]
[72.02,0.86]
[72.03,0.86]
[72.040000000000006,0.86]
[72.05,0.86]
[72.06,0.86]
[72.069999999999993,0.86]
[72.08,0.86]
[72.09,0.86]
[72.099999999999994,0.86]
[72.11,0.86]
[72.12,0.86]
[72.13,0.86]
[72.14,0.86]
[72.150000000000006,0.86]
[72.16,0.86]
[72.17,0.86]
[72.180000000000007,0.86]
[72.19,0.86]
[72.2,0.86]
[72.209999999999994,0.86]
[72.22,0.86]
[72.23,0.86]
[72.239999999999995,0.86]
[72.25,0.86]
[72.260000000000005,0.86]
[72.27,0.86]
[72.28,0.86]
[72.290000000000006,0.86]
[72.3,0.86]
[72.31,0.86]
[72.319999999999993,0.86]
[72.33,0.86]
[72.34,0.86]
[72.349999999999994,0.86]
[72.36,0.86]
[72.37,0.86]
[72.38,0.86]
[72.39,0.86]
[72.400000000000006,0.86]
[72.41,0.86]
[72.42,0.86]
[72.430000000000007,0.86]
[72.44,0.86]
[72.45,0.86]
[72.459999999999994,0.86]
[72.47,0.86]
[72.48,0.86]
[72.489999999999995,0.86]
[72.5,0.86]
[72.510000000000005,0.86]
[72.52,0.86]
[72.53,0.86]
[72.540000000000006,0.86]
[72.55,0.86]
[72.56,0.86]
[72.569999999999993,0.86]
[72.58,0.86]
[72.59,0.86]
[72.599999999999994,0.86]
[72.61,0.86]
[72.62,0.86]
[72.63,0.86]
[72.64,0.86]
[72.650000000000006,0.86]
[72.66,0.86]
[72.67,0.86]
[72.680000000000007,0.86]
[72.69,0.86]
[72.7,0.86]
[72.709999999999994,0.86]
[72.72,0.86]
[72.73,0.86]
[72.739999999999995,0.86]
[72.75,0.86]
[72.760000000000005,0.86]
[72.77,0.86]
[72.78,0.86]
[72.790000000000006,0.86]
[72.8,0.86]
[72.81,0.86]
[72.819999999999993,0.86]
[72.83,0.86]
[72.84,0.86]
[72.849999999999994,0.86]
[72.86,0.86]
[72.87,0.86]
[72.88,0.86]
[72.89,0.86]
[72.900000000000006,0.86]
[72.91,0.86]
[72.92,0.86]
[72.930000000000007,0.86]
[72.94,0.86]
[72.95,0.86]
[72.959999999999994,0.86]
[72.97,0.86]
[72.98,0.86]
[72.989999999999995,0.86]
[73,0.86]
[73.010000000000005,0.86]
[73.02,0.86]
[73.03,0.86]
[73.040000000000006,0.86]
[73.05,0.86]
[73.06,0.86]
[73.069999999999993,0.86]
[73.08,0.86]
[73.09,0.86]
[73.099999999999994,0.86]
[73.11,0.86]
[73.12,0.86]
[73.13,0.86]
[73.14,0.86]
[73.150000000000006,0.86]
[73.16,0.86]
[73.17,0.86]
[73.180000000000007,0.86]
[73.19,0.86]
[73.2,0.86]
[73.209999999999994,0.86]
[73.22,0.86]
[73.23,0.86]
[73.239999999999995,0.86]
[73.25,0.86]
[73.260000000000005,0.86]
[73.27,0.86]
[73.28,0.86]
[73.290000000000006,0.86]
[73.3,0.86]
[73.31,0.86]
[73.319999999999993,0.86]
[73.33,0.86]
[73.34,0.86]
[73.349999999999994,0.86]
[73.36,0.86]
[73.37,0.86]
[73.38,0.86]
[73.39,0.86]
[73.400000000000006,0.86]
[73.41,0.86]
[73.42,0.86]
[73.430000000000007,0.86]
[73.44,0.86]
[73.45,0.86]
[73.459999999999994,0.86]
[73.47,0.86]
[73.48,0.86]
[73.489999999999995,0.86]
[73.5,0.86]
[73.510000000000005,0.86]
[73.52,0.86]
[73.53,0.86]
[73.540000000000006,0.86]
[73.55,0.86]
[73.56,0.86]
[73.569999999999993,0.86]
[73.58,0.86]
[73.59,0.86]
[73.599999999999994,0.86]
[73.61,0.86]
[73.62,0.86]
[73.63,0.86]
[73.64,0.86]
[73.650000000000006,0.86]
[73.66,0.86]
[73.67,0.86]
[73.680000000000007,0.86]
[73.69,0.86]
[73.7,0.86]
[73.709999999999994,0.86]
[73.72,0.86]
[73.73,0.86]
[73.739999999999995,0.86]
[73.75,0.86]
[73.760000000000005,0.86]
[73.77,0.86]
[73.78,0.86]
[73.790000000000006,0.86]
[73.8,0.86]
[73.81,0.86]
[73.819999999999993,0.86]
[73.83,0.86]
[73.84,0.86]
[73.849999999999994,0.86]
[73.86,0.86]
[73.87,0.86]
[73.88,0.86]
[73.89,0.86]
[73.900000000000006,0.86]
[73.91,0.86]
[73.92,0.86]
[73.930000000000007,0.86]
[73.94,0.86]
[73.95,0.86]
[73.959999999999994,0.86]
[73.97,0.86]
[73.98,0.86]
[73.989999999999995,0.86]
[74,0.86]
[74.010000000000005,0.86]
[74.02,0.86]
[74.03,0.86]
[74.040000000000006,0.86]
[74.05,0.86]
[74.06,0.86]
[74.069999999999993,0.86]
[74.08,0.86]
[74.09,0.86]
[74.099999999999994,0.86]
[74.11,0.86]
[74.12,0.86]
[74.13,0.86]
[74.14,0.86]
[74.150000000000006,0.86]
[74.16,0.86]
[74.17,0.86]
[74.180000000000007,0.86]
[74.19,0.86]
[74.2,0.86]
[74.209999999999994,0.86]
[74.22,0.86]
[74.23,0.86]
[74.239999999999995,0.86]
[74.25,0.86]
[74.260000000000005,0.86]
[74.27,0.86]
[74.28,0.86]
[74.290000000000006,0.86]
[74.3,0.86]
[74.31,0.86]
[74.319999999999993,0.86]
[74.33,0.86]
[74.34,0.86]
[74.349999999999994,0.86]
[74.36,0.86]
[74.37,0.86]
[74.38,0.86]
[74.39,0.86]
[74.400000000000006,0.86]
[74.41,0.86]
[74.42,0.86]
[74.430000000000007,0.86]
[74.44,0.86]
[74.45,0.86]
[74.459999999999994,0.86]
[74.47,0.86]
[74.48,0.86]
[74.489999999999995,0.86]
[74.5,0.86]
[74.510000000000005,0.86]
[74.52,0.86]
[74.53,0.86]
[74.540000000000006,0.86]
[74.55,0.86]
[74.56,0.86]
[74.569999999999993,0.86]
[74.58,0.86]
[74.59,0.86]
[74.599999999999994,0.86]
[74.61,0.86]
[74.62,0.86]
[74.63,0.86]
[74.64,0.86]
[74.650000000000006,0.86]
[74.66,0.86]
[74.67,0.86]
[74.680000000000007,0.86]
[74.69,0.86]
[74.7,0.86]
[74.709999999999994,0.86]
[74.72,0.86]
[74.73,0.86]
[74.739999999999995,0.86]
[74.75,0.86]
[74.760000000000005,0.86]
[74.77,0.86]
[74.78,0.86]
[74.790000000000006,0.86]
[74.8,0.86]
[74.81,0.86]
[74.819999999999993,0.86]
[74.83,0.86]
[74.84,0.86]
[74.849999999999994,0.86]
[74.86,0.86]
[74.87,0.86]
[74.88,0.86]
[74.89,0.86]
[74.900000000000006,0.86]
[74.91,0.86]
[74.92,0.86]
[74.930000000000007,0.86]
[74.94,0.86]
[74.95,0.86]
[74.959999999999994,0.86]
[74.97,0.86]
[74.98,0.86]
[74.989999999999995,0.86]
[75,0.86]
[75.010000000000005,0.86]
[75.02,0.86]
[75.03,0.86]
[75.040000000000006,0.86]
[75.05,0.86]
[75.06,0.86]
[75.069999999999993,0.86]
[75.08,0.86]
[75.09,0.86]
[75.099999999999994,0.86]
[75.11,0.86]
[75.12,0.86]
[75.13,0.86]
[75.14,0.86]
[75.150000000000006,0.86]
[75.16,0.86]
[75.17,0.86]
[75.180000000000007,0.86]
[75.19,0.86]
[75.2,0.86]
[75.209999999999994,0.86]
[75.22,0.86]
[75.23,0.86]
[75.239999999999995,0.86]
[75.25,0.86]
[75.260000000000005,0.86]
[75.27,0.86]
[75.28,0.86]
[75.290000000000006,0.86]
[75.3,0.86]
[75.31,0.86]
[75.319999999999993,0.86]
[75.33,0.86]
[75.34,0.86]
[75.349999999999994,0.86]
[75.36,0.86]
[75.37,0.86]
[75.38,0.86]
[75.39,0.86]
[75.400000000000006,0.86]
[75.41,0.86]
[75.42,0.86]
[75.430000000000007,0.86]
[75.44,0.86]
[75.45,0.86]
[75.459999999999994,0.86]
[75.47,0.86]
[75.48,0.86]
[75.489999999999995,0.86]
[75.5,0.86]
[75.510000000000005,0.86]
[75.52,0.86]
[75.53,0.86]
[75.540000000000006,0.86]
[75.55,0.86]
[75.56,0.86]
[75.569999999999993,0.86]
[75.58,0.86]
[75.59,0.86]
[75.599999999999994,0.86]
[75.61,0.86]
[75.62,0.86]
[75.63,0.86]
[75.64,0.86]
[75.650000000000006,0.86]
[75.66,0.86]
[75.67,0.86]
[75.680000000000007,0.86]
[75.69,0.86]
[75.7,0.86]
[75.709999999999994,0.86]
[75.72,0.86]
[75.73,0.86]
[75.739999999999995,0.86]
[75.75,0.86]
[75.760000000000005,0.86]
[75.77,0.86]
[75.78,0.86]
[75.790000000000006,0.86]
[75.8,0.86]
[75.81,0.86]
[75.819999999999993,0.86]
[75.83,0.86]
[75.84,0.86]
[75.849999999999994,0.86]
[75.86,0.86]
[75.87,0.86]
[75.88,0.86]
[75.89,0.86]
[75.900000000000006,0.86]
[75.91,0.86]
[75.92,0.86]
[75.930000000000007,0.86]
[75.94,0.86]
[75.95,0.86]
[75.959999999999994,0.86]
[75.97,0.86]
[75.98,0.86]
[75.989999999999995,0.86]
[76,0.86]
[76.010000000000005,0.86]
[76.02,0.86]
[76.03,0.86]
[76.040000000000006,0.86]
[76.05,0.86]
[76.06,0.86]
[76.069999999999993,0.86]
[76.08,0.86]
[76.09,0.86]
[76.099999999999994,0.86]
[76.11,0.86]
[76.12,0.86]
[76.13,0.86]
[76.14,0.86]
[76.150000000000006,0.86]
[76.16,0.86]
[76.17,0.86]
[76.180000000000007,0.86]
[76.19,0.86]
[76.2,0.86]
[76.209999999999994,0.86]
[76.22,0.86]
[76.23,0.86]
[76.239999999999995,0.86]
[76.25,0.86]
[76.260000000000005,0.86]
[76.27,0.86]
[76.28,0.86]
[76.290000000000006,0.86]
[76.3,0.86]
[76.31,0.86]
[76.319999999999993,0.86]
[76.33,0.86]
[76.34,0.86]
[76.349999999999994,0.86]
[76.36,0.86]
[76.37,0.86]
[76.38,0.86]
[76.39,0.86]
[76.400000000000006,0.86]
[76.41,0.86]
[76.42,0.86]
[76.430000000000007,0.86]
[76.44,0.86]
[76.45,0.86]
[76.459999999999994,0.86]
[76.47,0.86]
[76.48,0.86]
[76.489999999999995,0.86]
[76.5,0.86]
[76.510000000000005,0.86]
[76.52,0.86]
[76.53,0.86]
[76.540000000000006,0.86]
[76.55,0.86]
[76.56,0.86]
[76.569999999999993,0.86]
[76.58,0.86]
[76.59,0.86]
[76.599999999999994,0.86]
[76.61,0.86]
[76.62,0.86]
[76.63,0.86]
[76.64,0.86]
[76.650000000000006,0.86]
[76.66,0.86]
[76.67,0.86]
[76.680000000000007,0.86]
[76.69,0.86]
[76.7,0.86]
[76.709999999999994,0.86]
[76.72,0.86]
[76.73,0.86]
[76.739999999999995,0.86]
[76.75,0.86]
[76.760000000000005,0.86]
[76.77,0.86]
[76.78,0.86]
[76.790000000000006,0.86]
[76.8,0.86]
[76.81,0.86]
[76.819999999999993,0.86]
[76.83,0.86]
[76.84,0.86]
[76.849999999999994,0.86]
[76.86,0.86]
[76.87,0.86]
[76.88,0.86]
[76.89,0.86]
[76.900000000000006,0.86]
[76.91,0.86]
[76.92,0.86]
[76.930000000000007,0.86]
[76.94,0.86]
[76.95,0.86]
[76.959999999999994,0.86]
[76.97,0.86]
[76.98,0.86]
[76.989999999999995,0.86]
[77,0.86]
[77.010000000000005,0.86]
[77.02,0.86]
[77.03,0.86]
[77.040000000000006,0.86]
[77.05,0.86]
[77.06,0.86]
[77.069999999999993,0.86]
[77.08,0.86]
[77.09,0.86]
[77.099999999999994,0.86]
[77.11,0.86]
[77.12,0.86]
[77.13,0.86]
[77.14,0.86]
[77.150000000000006,0.86]
[77.16,0.86]
[77.17,0.86]
[77.180000000000007,0.86]
[77.19,0.86]
[77.2,0.86]
[77.209999999999994,0.86]
[77.22,0.86]
[77.23,0.86]
[77.239999999999995,0.86]
[77.25,0.86]
[77.260000000000005,0.86]
[77.27,0.86]
[77.28,0.86]
[77.290000000000006,0.86]
[77.3,0.86]
[77.31,0.86]
[77.319999999999993,0.86]
[77.33,0.86]
[77.34,0.86]
[77.349999999999994,0.86]
[77.36,0.86]
[77.37,0.86]
[77.38,0.86]
[77.39,0.86]
[77.400000000000006,0.86]
[77.41,0.86]
[77.42,0.86]
[77.430000000000007,0.86]
[77.44,0.86]
[77.45,0.86]
[77.459999999999994,0.86]
[77.47,0.86]
[77.48,0.86]
[77.489999999999995,0.86]
[77.5,0.86]
[77.510000000000005,0.86]
[77.52,0.86]
[77.53,0.86]
[77.540000000000006,0.86]
[77.55,0.86]
[77.56,0.86]
[77.569999999999993,0.86]
[77.58,0.86]
[77.59,0.86]
[77.599999999999994,0.86]
[77.61,0.86]
[77.62,0.86]
[77.63,0.86]
[77.64,0.86]
[77.650000000000006,0.86]
[77.66,0.86]
[77.67,0.86]
[77.680000000000007,0.86]
[77.69,0.86]
[77.7,0.86]
[77.709999999999994,0.86]
[77.72,0.86]
[77.73,0.86]
[77.739999999999995,0.86]
[77.75,0.86]
[77.760000000000005,0.86]
[77.77,0.86]
[77.78,0.86]
[77.790000000000006,0.86]
[77.8,0.86]
[77.81,0.86]
[77.819999999999993,0.86]
[77.83,0.86]
[77.84,0.86]
[77.849999999999994,0.86]
[77.86,0.86]
[77.87,0.86]
[77.88,0.86]
[77.89,0.86]
[77.900000000000006,0.86]
[77.91,0.86]
[77.92,0.86]
[77.930000000000007,0.86]
[77.94,0.86]
[77.95,0.86]
[77.959999999999994,0.86]
[77.97,0.86]
[77.98,0.86]
[77.989999999999995,0.86]
[78,0.86]
[78.010000000000005,0.86]
[78.02,0.86]
[78.03,0.86]
[78.040000000000006,0.86]
[78.05,0.86]
[78.06,0.86]
[78.069999999999993,0.86]
[78.08,0.86]
[78.09,0.86]
[78.099999999999994,0.86]
[78.11,0.86]
[78.12,0.86]
[78.13,0.86]
[78.14,0.86]
[78.150000000000006,0.86]
[78.16,0.86]
[78.17,0.86]
[78.180000000000007,0.86]
[78.19,0.86]
[78.2,0.86]
[78.209999999999994,0.86]
[78.22,0.86]
[78.23,0.86]
[78.239999999999995,0.86]
[78.25,0.86]
[78.260000000000005,0.86]
[78.27,0.86]
[78.28,0.86]
[78.290000000000006,0.86]
[78.3,0.86]
[78.31,0.86]
[78.319999999999993,0.86]
[78.33,0.86]
[78.34,0.86]
[78.349999999999994,0.86]
[78.36,0.86]
[78.37,0.86]
[78.38,0.86]
[78.39,0.86]
[78.400000000000006,0.86]
[78.41,0.86]
[78.42,0.86]
[78.430000000000007,0.86]
[78.44,0.86]
[78.45,0.86]
[78.459999999999994,0.86]
[78.47,0.86]
[78.48,0.86]
[78.489999999999995,0.86]
[78.5,0.86]
[78.510000000000005,0.86]
[78.52,0.86]
[78.53,0.86]
[78.540000000000006,0.86]
[78.55,0.86]
[78.56,0.86]
[78.569999999999993,0.86]
[78.58,0.86]
[78.59,0.86]
[78.599999999999994,0.86]
[78.61,0.86]
[78.62,0.86]
[78.63,0.86]
[78.64,0.86]
[78.650000000000006,0.86]
[78.66,0.86]
[78.67,0.86]
[78.680000000000007,0.86]
[78.69,0.86]
[78.7,0.86]
[78.709999999999994,0.86]
[78.72,0.86]
[78.73,0.86]
[78.739999999999995,0.86]
[78.75,0.86]
[78.760000000000005,0.86]
[78.77,0.86]
[78.78,0.86]
[78.790000000000006,0.86]
[78.8,0.86]
[78.81,0.86]
[78.819999999999993,0.86]
[78.83,0.86]
[78.84,0.86]
[78.849999999999994,0.86]
[78.86,0.86]
[78.87,0.86]
[78.88,0.86]
[78.89,0.86]
[78.900000000000006,0.86]
[78.91,0.86]
[78.92,0.86]
[78.930000000000007,0.86]
[78.94,0.86]
[78.95,0.86]
[78.959999999999994,0.86]
[78.97,0.86]
[78.98,0.86]
[78.989999999999995,0.86]
[79,0.86]
[79.010000000000005,0.86]
[79.02,0.86]
[79.03,0.86]
[79.040000000000006,0.86]
[79.05,0.86]
[79.06,0.86]
[79.069999999999993,0.86]
[79.08,0.86]
[79.09,0.86]
[79.099999999999994,0.86]
[79.11,0.86]
[79.12,0.86]
[79.13,0.86]
[79.14,0.86]
[79.150000000000006,0.86]
[79.16,0.86]
[79.17,0.86]
[79.180000000000007,0.86]
[79.19,0.86]
[79.2,0.86]
[79.209999999999994,0.86]
[79.22,0.86]
[79.23,0.86]
[79.239999999999995,0.86]
[79.25,0.86]
[79.260000000000005,0.86]
[79.27,0.86]
[79.28,0.86]
[79.290000000000006,0.86]
[79.3,0.86]
[79.31,0.86]
[79.319999999999993,0.86]
[79.33,0.86]
[79.34,0.86]
[79.349999999999994,0.86]
[79.36,0.86]
[79.37,0.86]
[79.38,0.86]
[79.39,0.86]
[79.400000000000006,0.86]
[79.41,0.86]
[79.42,0.86]
[79.430000000000007,0.86]
[79.44,0.86]
[79.45,0.86]
[79.459999999999994,0.86]
[79.47,0.86]
[79.48,0.86]
[79.489999999999995,0.86]
[79.5,0.86]
[79.510000000000005,0.86]
[79.52,0.86]
[79.53,0.86]
[79.540000000000006,0.86]
[79.55,0.86]
[79.56,0.86]
[79.569999999999993,0.86]
[79.58,0.86]
[79.59,0.86]
[79.599999999999994,0.86]
[79.61,0.86]
[79.62,0.86]
[79.63,0.86]
[79.64,0.86]
[79.650000000000006,0.86]
[79.66,0.86]
[79.67,0.86]
[79.680000000000007,0.86]
[79.69,0.86]
[79.7,0.86]
[79.709999999999994,0.86]
[79.72,0.86]
[79.73,0.86]
[79.739999999999995,0.86]
[79.75,0.86]
[79.760000000000005,0.86]
[79.77,0.86]
[79.78,0.86]
[79.790000000000006,0.86]
[79.8,0.86]
[79.81,0.86]
[79.819999999999993,0.86]
[79.83,0.86]
[79.84,0.86]
[79.849999999999994,0.86]
[79.86,0.86]
[79.87,0.86]
[79.88,0.86]
[79.89,0.86]
[79.900000000000006,0.86]
[79.91,0.86]
[79.92,0.86]
[79.930000000000007,0.86]
[79.94,0.86]
[79.95,0.86]
[79.959999999999994,0.86]
[79.97,0.86]
[79.98,0.86]
[79.989999999999995,0.86]
[80,0.86]
[80.010000000000005,0.83]
[80.02,0.83]
[80.03,0.83]
[80.040000000000006,0.83]
[80.05,0.83]
[80.06,0.83]
[80.069999999999993,0.83]
[80.08,0.83]
[80.09,0.83]
[80.099999999999994,0.83]
[80.11,0.83]
[80.12,0.83]
[80.13,0.83]
[80.14,0.83]
[80.150000000000006,0.83]
[80.16,0.83]
[80.17,0.83]
[80.180000000000007,0.83]
[80.19,0.83]
[80.2,0.83]
[80.209999999999994,0.83]
[80.22,0.83]
[80.23,0.83]
[80.239999999999995,0.83]
[80.25,0.83]
[80.260000000000005,0.83]
[80.27,0.83]
[80.28,0.83]
[80.290000000000006,0.83]
[80.3,0.83]
[80.31,0.83]
[80.319999999999993,0.83]
[80.33,0.83]
[80.34,0.83]
[80.349999999999994,0.83]
[80.36,0.83]
[80.37,0.83]
[80.38,0.83]
[80.39,0.83]
[80.400000000000006,0.83]
[80.41,0.83]
[80.42,0.83]
[80.430000000000007,0.83]
[80.44,0.83]
[80.45,0.83]
[80.459999999999994,0.83]
[80.47,0.83]
[80.48,0.83]
[80.489999999999995,0.83]
[80.5,0.83]
[80.510000000000005,0.83]
[80.52,0.83]
[80.53,0.83]
[80.540000000000006,0.83]
[80.55,0.83]
[80.56,0.83]
[80.569999999999993,0.83]
[80.58,0.83]
[80.59,0.83]
[80.599999999999994,0.83]
[80.61,0.83]
[80.62,0.83]
[80.63,0.83]
[80.64,0.83]
[80.650000000000006,0.83]
[80.66,0.83]
[80.67,0.83]
[80.680000000000007,0.83]
[80.69,0.83]
[80.7,0.83]
[80.709999999999994,0.83]
[80.72,0.83]
[80.73,0.83]
[80.739999999999995,0.83]
[80.75,0.83]
[80.760000000000005,0.83]
[80.77,0.83]
[80.78,0.83]
[80.790000000000006,0.83]
[80.8,0.83]
[80.81,0.83]
[80.819999999999993,0.83]
[80.83,0.83]
[80.84,0.83]
[80.849999999999994,0.83]
[80.86,0.83]
[80.87,0.83]
[80.88,0.83]
[80.89,0.83]
[80.900000000000006,0.83]
[80.91,0.83]
[80.92,0.83]
[80.930000000000007,0.83]
[80.94,0.83]
[80.95,0.83]
[80.959999999999994,0.83]
[80.97,0.83]
[80.98,0.83]
[80.989999999999995,0.83]
[81,0.83]
[81.010000000000005,0.83]
[81.02,0.83]
[81.03,0.83]
[81.040000000000006,0.83]
[81.05,0.83]
[81.06,0.83]
[81.069999999999993,0.83]
[81.08,0.83]
[81.09,0.83]
[81.099999999999994,0.83]
[81.11,0.83]
[81.12,0.83]
[81.13,0.83]
[81.14,0.83]
[81.150000000000006,0.83]
[81.16,0.83]
[81.17,0.83]
[81.180000000000007,0.83]
[81.19,0.83]
[81.2,0.83]
[81.209999999999994,0.83]
[81.22,0.83]
[81.23,0.83]
[81.239999999999995,0.83]
[81.25,0.83]
[81.260000000000005,0.83]
[81.27,0.83]
[81.28,0.83]
[81.290000000000006,0.83]
[81.3,0.83]
[81.31,0.83]
[81.319999999999993,0.83]
[81.33,0.83]
[81.34,0.83]
[81.349999999999994,0.83]
[81.36,0.83]
[81.37,0.83]
[81.38,0.83]
[81.39,0.83]
[81.400000000000006,0.83]
[81.41,0.83]
[81.42,0.83]
[81.430000000000007,0.83]
[81.44,0.83]
[81.45,0.83]
[81.459999999999994,0.83]
[81.47,0.83]
[81.48,0.83]
[81.489999999999995,0.83]
[81.5,0.83]
[81.510000000000005,0.83]
[81.52,0.83]
[81.53,0.83]
[81.540000000000006,0.83]
[81.55,0.83]
[81.56,0.83]
[81.569999999999993,0.83]
[81.58,0.83]
[81.59,0.83]
[81.599999999999994,0.83]
[81.61,0.83]
[81.62,0.83]
[81.63,0.83]
[81.64,0.83]
[81.650000000000006,0.83]
[81.66,0.83]
[81.67,0.83]
[81.680000000000007,0.83]
[81.69,0.83]
[81.7,0.83]
[81.709999999999994,0.83]
[81.72,0.83]
[81.73,0.83]
[81.739999999999995,0.83]
[81.75,0.83]
[81.760000000000005,0.83]
[81.77,0.83]
[81.78,0.83]
[81.790000000000006,0.83]
[81.8,0.83]
[81.81,0.83]
[81.819999999999993,0.83]
[81.83,0.83]
[81.84,0.83]
[81.849999999999994,0.83]
[81.86,0.83]
[81.87,0.83]
[81.88,0.83]
[81.89,0.83]
[81.900000000000006,0.83]
[81.91,0.83]
[81.92,0.83]
[81.93,0.83]
[81.94,0.83]
[81.95,0.83]
[81.96,0.83]
[81.97,0.83]
[81.98,0.83]
[81.99,0.83]
[82,0.83]
[82.01,0.83]
[82.02,0.83]
[82.03,0.83]
[82.04,0.83]
[82.05,0.83]
[82.06,0.83]
[82.07,0.83]
[82.08,0.83]
[82.09,0.83]
[82.1,0.83]
[82.11,0.83]
[82.12,0.83]
[82.13,0.83]
[82.14,0.83]
[82.15,0.83]
[82.16,0.83]
[82.17,0.83]
[82.18,0.83]
[82.19,0.83]
[82.2,0.83]
[82.21,0.83]
[82.22,0.83]
[82.23,0.83]
[82.24,0.83]
[82.25,0.83]
[82.26,0.83]
[82.27,0.83]
[82.28,0.83]
[82.29,0.83]
[82.3,0.83]
[82.31,0.83]
[82.32,0.83]
[82.33,0.83]
[82.34,0.83]
[82.35,0.83]
[82.36,0.83]
[82.37,0.83]
[82.38,0.83]
[82.39,0.83]
[82.4,0.83]
[82.41,0.83]
[82.42,0.83]
[82.43,0.83]
[82.44,0.83]
[82.45,0.83]
[82.46,0.83]
[82.47,0.83]
[82.48,0.83]
[82.49,0.83]
[82.5,0.83]
[82.51,0.83]
[82.52,0.83]
[82.53,0.83]
[82.54,0.83]
[82.55,0.83]
[82.56,0.83]
[82.57,0.83]
[82.58,0.83]
[82.59,0.83]
[82.6,0.83]
[82.61,0.83]
[82.62,0.83]
[82.63,0.83]
[82.64,0.83]
[82.65,0.83]
[82.66,0.83]
[82.67,0.83]
[82.68,0.83]
[82.69,0.83]
[82.7,0.83]
[82.71,0.83]
[82.72,0.83]
[82.73,0.83]
[82.74,0.83]
[82.75,0.83]
[82.76,0.83]
[82.77,0.83]
[82.78,0.83]
[82.79,0.83]
[82.8,0.83]
[82.81,0.83]
[82.82,0.83]
[82.83,0.83]
[82.84,0.83]
[82.85,0.83]
[82.86,0.83]
[82.87,0.83]
[82.88,0.83]
[82.89,0.83]
[82.9,0.83]
[82.91,0.83]
[82.92,0.83]
[82.93,0.83]
[82.94,0.83]
[82.95,0.83]
[82.96,0.83]
[82.97,0.83]
[82.98,0.83]
[82.99,0.83]
[83,0.83]
[83.01,0.83]
[83.02,0.83]
[83.03,0.83]
[83.04,0.83]
[83.05,0.83]
[83.06,0.83]
[83.07,0.83]
[83.08,0.83]
[83.09,0.83]
[83.1,0.83]
[83.11,0.83]
[83.12,0.83]
[83.13,0.83]
[83.14,0.83]
[83.15,0.83]
[83.16,0.83]
[83.17,0.83]
[83.18,0.83]
[83.19,0.83]
[83.2,0.83]
[83.21,0.83]
[83.22,0.83]
[83.23,0.83]
[83.24,0.83]
[83.25,0.83]
[83.26,0.83]
[83.27,0.83]
[83.28,0.83]
[83.29,0.83]
[83.3,0.83]
[83.31,0.83]
[83.32,0.83]
[83.33,0.83]
[83.34,0.83]
[83.35,0.83]
[83.36,0.83]
[83.37,0.83]
[83.38,0.83]
[83.39,0.83]
[83.4,0.83]
[83.41,0.83]
[83.42,0.83]
[83.43,0.83]
[83.44,0.83]
[83.45,0.83]
[83.46,0.83]
[83.47,0.83]
[83.48,0.83]
[83.49,0.83]
[83.5,0.83]
[83.51,0.83]
[83.52,0.83]
[83.53,0.83]
[83.54,0.83]
[83.55,0.83]
[83.56,0.83]
[83.57,0.83]
[83.58,0.83]
[83.59,0.83]
[83.6,0.83]
[83.61,0.83]
[83.62,0.83]
[83.63,0.83]
[83.64,0.83]
[83.65,0.83]
[83.66,0.83]
[83.67,0.83]
[83.68,0.83]
[83.69,0.83]
[83.7,0.83]
[83.71,0.83]
[83.72,0.83]
[83.73,0.83]
[83.74,0.83]
[83.75,0.83]
[83.76,0.83]
[83.77,0.83]
[83.78,0.83]
[83.79,0.83]
[83.8,0.83]
[83.81,0.83]
[83.82,0.83]
[83.83,0.83]
[83.84,0.83]
[83.85,0.83]
[83.86,0.83]
[83.87,0.83]
[83.88,0.83]
[83.89,0.83]
[83.9,0.83]
[83.91,0.83]
[83.92,0.83]
[83.93,0.83]
[83.94,0.83]
[83.95,0.83]
[83.96,0.83]
[83.97,0.83]
[83.98,0.83]
[83.99,0.83]
[84,0.83]
[84.01,0.83]
[84.02,0.83]
[84.03,0.83]
[84.04,0.83]
[84.05,0.83]
[84.06,0.83]
[84.07,0.83]
[84.08,0.83]
[84.09,0.83]
[84.1,0.83]
[84.11,0.83]
[84.12,0.83]
[84.13,0.83]
[84.14,0.83]
[84.15,0.83]
[84.16,0.83]
[84.17,0.83]
[84.18,0.83]
[84.19,0.83]
[84.2,0.83]
[84.21,0.83]
[84.22,0.83]
[84.23,0.83]
[84.24,0.83]
[84.25,0.83]
[84.26,0.83]
[84.27,0.83]
[84.28,0.83]
[84.29,0.83]
[84.3,0.83]
[84.31,0.83]
[84.32,0.83]
[84.33,0.83]
[84.34,0.83]
[84.35,0.83]
[84.36,0.83]
[84.37,0.83]
[84.38,0.83]
[84.39,0.83]
[84.4,0.83]
[84.41,0.83]
[84.42,0.83]
[84.43,0.83]
[84.44,0.83]
[84.45,0.83]
[84.46,0.83]
[84.47,0.83]
[84.48,0.83]
[84.49,0.83]
[84.5,0.83]
[84.51,0.83]
[84.52,0.83]
[84.53,0.83]
[84.54,0.83]
[84.55,0.83]
[84.56,0.83]
[84.57,0.83]
[84.58,0.83]
[84.59,0.83]
[84.6,0.83]
[84.61,0.83]
[84.62,0.83]
[84.63,0.83]
[84.64,0.83]
[84.65,0.83]
[84.66,0.83]
[84.67,0.83]
[84.68,0.83]
[84.69,0.83]
[84.7,0.83]
[84.71,0.83]
[84.72,0.83]
[84.73,0.83]
[84.74,0.83]
[84.75,0.83]
[84.76,0.83]
[84.77,0.83]
[84.78,0.83]
[84.79,0.83]
[84.8,0.83]
[84.81,0.83]
[84.82,0.83]
[84.83,0.83]
[84.84,0.83]
[84.85,0.83]
[84.86,0.83]
[84.87,0.83]
[84.88,0.83]
[84.89,0.83]
[84.9,0.83]
[84.91,0.83]
[84.92,0.83]
[84.93,0.83]
[84.94,0.83]
[84.95,0.83]
[84.96,0.83]
[84.97,0.83]
[84.98,0.83]
[84.99,0.83]
[85,0.83]
[85.01,0.83]
[85.02,0.83]
[85.03,0.83]
[85.04,0.83]
[85.05,0.83]
[85.06,0.83]
[85.07,0.83]
[85.08,0.83]
[85.09,0.83]
[85.1,0.83]
[85.11,0.83]
[85.12,0.83]
[85.13,0.83]
[85.14,0.83]
[85.15,0.83]
[85.16,0.83]
[85.17,0.83]
[85.18,0.83]
[85.19,0.83]
[85.2,0.83]
[85.21,0.83]
[85.22,0.83]
[85.23,0.83]
[85.24,0.83]
[85.25,0.83]
[85.26,0.83]
[85.27,0.83]
[85.28,0.83]
[85.29,0.83]
[85.3,0.83]
[85.31,0.83]
[85.32,0.83]
[85.33,0.83]
[85.34,0.83]
[85.35,0.83]
[85.36,0.83]
[85.37,0.83]
[85.38,0.83]
[85.39,0.83]
[85.4,0.83]
[85.41,0.83]
[85.42,0.83]
[85.43,0.83]
[85.44,0.83]
[85.45,0.83]
[85.46,0.83]
[85.47,0.83]
[85.48,0.83]
[85.49,0.83]
[85.5,0.83]
[85.51,0.83]
[85.52,0.83]
[85.53,0.83]
[85.54,0.83]
[85.55,0.83]
[85.56,0.83]
[85.57,0.83]
[85.58,0.83]
[85.59,0.83]
[85.6,0.83]
[85.61,0.83]
[85.62,0.83]
[85.63,0.83]
[85.64,0.83]
[85.65,0.83]
[85.66,0.83]
[85.67,0.83]
[85.68,0.83]
[85.69,0.83]
[85.7,0.83]
[85.71,0.83]
[85.72,0.83]
[85.73,0.83]
[85.74,0.83]
[85.75,0.83]
[85.76,0.83]
[85.77,0.83]
[85.78,0.83]
[85.79,0.83]
[85.8,0.83]
[85.81,0.83]
[85.82,0.83]
[85.83,0.83]
[85.84,0.83]
[85.85,0.83]
[85.86,0.83]
[85.87,0.83]
[85.88,0.83]
[85.89,0.83]
[85.9,0.83]
[85.91,0.83]
[85.92,0.83]
[85.93,0.83]
[85.94,0.83]
[85.95,0.83]
[85.96,0.83]
[85.97,0.83]
[85.98,0.83]
[85.99,0.83]
[86,0.83]
[86.01,0.83]
[86.02,0.83]
[86.03,0.83]
[86.04,0.83]
[86.05,0.83]
[86.06,0.83]
[86.07,0.83]
[86.08,0.83]
[86.09,0.83]
[86.1,0.83]
[86.11,0.83]
[86.12,0.83]
[86.13,0.83]
[86.14,0.83]
[86.15,0.83]
[86.16,0.83]
[86.17,0.83]
[86.18,0.83]
[86.19,0.83]
[86.2,0.83]
[86.21,0.83]
[86.22,0.83]
[86.23,0.83]
[86.24,0.83]
[86.25,0.83]
[86.26,0.83]
[86.27,0.83]
[86.28,0.83]
[86.29,0.83]
[86.3,0.83]
[86.31,0.83]
[86.32,0.83]
[86.33,0.83]
[86.34,0.83]
[86.35,0.83]
[86.36,0.83]
[86.37,0.83]
[86.38,0.83]
[86.39,0.83]
[86.4,0.83]
[86.41,0.83]
[86.42,0.83]
[86.43,0.83]
[86.44,0.83]
[86.45,0.83]
[86.46,0.83]
[86.47,0.83]
[86.48,0.83]
[86.49,0.83]
[86.5,0.83]
[86.51,0.83]
[86.52,0.83]
[86.53,0.83]
[86.54,0.83]
[86.55,0.83]
[86.56,0.83]
[86.57,0.83]
[86.58,0.83]
[86.59,0.83]
[86.6,0.83]
[86.61,0.83]
[86.62,0.83]
[86.63,0.83]
[86.64,0.83]
[86.65,0.83]
[86.66,0.83]
[86.67,0.83]
[86.68,0.83]
[86.69,0.83]
[86.7,0.83]
[86.71,0.83]
[86.72,0.83]
[86.73,0.83]
[86.74,0.83]
[86.75,0.83]
[86.76,0.83]
[86.77,0.83]
[86.78,0.83]
[86.79,0.83]
[86.8,0.83]
[86.81,0.83]
[86.82,0.83]
[86.83,0.83]
[86.84,0.83]
[86.85,0.83]
[86.86,0.83]
[86.87,0.83]
[86.88,0.83]
[86.89,0.83]
[86.9,0.83]
[86.91,0.83]
[86.92,0.83]
[86.93,0.83]
[86.94,0.83]
[86.95,0.83]
[86.96,0.83]
[86.97,0.83]
[86.98,0.83]
[86.99,0.83]
[87,0.83]
[87.01,0.83]
[87.02,0.83]
[87.03,0.83]
[87.04,0.83]
[87.05,0.83]
[87.06,0.83]
[87.07,0.83]
[87.08,0.83]
[87.09,0.83]
[87.1,0.83]
[87.11,0.83]
[87.12,0.83]
[87.13,0.83]
[87.14,0.83]
[87.15,0.83]
[87.16,0.83]
[87.17,0.83]
[87.18,0.83]
[87.19,0.83]
[87.2,0.83]
[87.21,0.83]
[87.22,0.83]
[87.23,0.83]
[87.24,0.83]
[87.25,0.83]
[87.26,0.83]
[87.27,0.83]
[87.28,0.83]
[87.29,0.83]
[87.3,0.83]
[87.31,0.83]
[87.32,0.83]
[87.33,0.83]
[87.34,0.83]
[87.35,0.83]
[87.36,0.83]
[87.37,0.83]
[87.38,0.83]
[87.39,0.83]
[87.4,0.83]
[87.41,0.83]
[87.42,0.83]
[87.43,0.83]
[87.44,0.83]
[87.45,0.83]
[87.46,0.83]
[87.47,0.83]
[87.48,0.83]
[87.49,0.83]
[87.5,0.83]
[87.51,0.83]
[87.52,0.83]
[87.53,0.83]
[87.54,0.83]
[87.55,0.83]
[87.56,0.83]
[87.57,0.83]
[87.58,0.83]
[87.59,0.83]
[87.6,0.83]
[87.61,0.83]
[87.62,0.83]
[87.63,0.83]
[87.64,0.83]
[87.65,0.83]
[87.66,0.83]
[87.67,0.83]
[87.68,0.83]
[87.69,0.83]
[87.7,0.83]
[87.71,0.83]
[87.72,0.83]
[87.73,0.83]
[87.74,0.83]
[87.75,0.83]
[87.76,0.83]
[87.77,0.83]
[87.78,0.83]
[87.79,0.83]
[87.8,0.83]
[87.81,0.83]
[87.82,0.83]
[87.83,0.83]
[87.84,0.83]
[87.85,0.83]
[87.86,0.83]
[87.87,0.83]
[87.88,0.83]
[87.89,0.83]
[87.9,0.83]
[87.91,0.83]
[87.92,0.83]
[87.93,0.83]
[87.94,0.83]
[87.95,0.83]
[87.96,0.83]
[87.97,0.83]
[87.98,0.83]
[87.99,0.83]
[88,0.83]
[88.01,0.83]
[88.02,0.83]
[88.03,0.83]
[88.04,0.83]
[88.05,0.83]
[88.06,0.83]
[88.07,0.83]
[88.08,0.83]
[88.09,0.83]
[88.1,0.83]
[88.11,0.83]
[88.12,0.83]
[88.13,0.83]
[88.14,0.83]
[88.15,0.83]
[88.16,0.83]
[88.17,0.83]
[88.18,0.83]
[88.19,0.83]
[88.2,0.83]
[88.21,0.83]
[88.22,0.83]
[88.23,0.83]
[88.24,0.83]
[88.25,0.83]
[88.26,0.83]
[88.27,0.83]
[88.28,0.83]
[88.29,0.83]
[88.3,0.83]
[88.31,0.83]
[88.32,0.83]
[88.33,0.83]
[88.34,0.83]
[88.35,0.83]
[88.36,0.83]
[88.37,0.83]
[88.38,0.83]
[88.39,0.83]
[88.4,0.83]
[88.41,0.83]
[88.42,0.83]
[88.43,0.83]
[88.44,0.83]
[88.45,0.83]
[88.46,0.83]
[88.47,0.83]
[88.48,0.83]
[88.49,0.83]
[88.5,0.83]
[88.51,0.83]
[88.52,0.83]
[88.53,0.83]
[88.54,0.83]
[88.55,0.83]
[88.56,0.83]
[88.57,0.83]
[88.58,0.83]
[88.59,0.83]
[88.6,0.83]
[88.61,0.83]
[88.62,0.83]
[88.63,0.83]
[88.64,0.83]
[88.65,0.83]
[88.66,0.83]
[88.67,0.83]
[88.68,0.83]
[88.69,0.83]
[88.7,0.83]
[88.71,0.83]
[88.72,0.83]
[88.73,0.83]
[88.74,0.83]
[88.75,0.83]
[88.76,0.83]
[88.77,0.83]
[88.78,0.83]
[88.79,0.83]
[88.8,0.83]
[88.81,0.83]
[88.82,0.83]
[88.83,0.83]
[88.84,0.83]
[88.85,0.83]
[88.86,0.83]
[88.87,0.83]
[88.88,0.83]
[88.89,0.83]
[88.9,0.83]
[88.91,0.83]
[88.92,0.83]
[88.93,0.83]
[88.94,0.83]
[88.95,0.83]
[88.96,0.83]
[88.97,0.83]
[88.98,0.83]
[88.99,0.83]
[89,0.83]
[89.01,0.83]
[89.02,0.83]
[89.03,0.83]
[89.04,0.83]
[89.05,0.83]
[89.06,0.83]
[89.07,0.83]
[89.08,0.83]
[89.09,0.83]
[89.1,0.83]
[89.11,0.83]
[89.12,0.83]
[89.13,0.83]
[89.14,0.83]
[89.15,0.83]
[89.16,0.83]
[89.17,0.83]
[89.18,0.83]
[89.19,0.83]
[89.2,0.83]
[89.21,0.83]
[89.22,0.83]
[89.23,0.83]
[89.24,0.83]
[89.25,0.83]
[89.26,0.83]
[89.27,0.83]
[89.28,0.83]
[89.29,0.83]
[89.3,0.83]
[89.31,0.83]
[89.32,0.83]
[89.33,0.83]
[89.34,0.83]
[89.35,0.83]
[89.36,0.83]
[89.37,0.83]
[89.38,0.83]
[89.39,0.83]
[89.4,0.83]
[89.41,0.83]
[89.42,0.83]
[89.43,0.83]
[89.44,0.83]
[89.45,0.83]
[89.46,0.83]
[89.47,0.83]
[89.48,0.83]
[89.49,0.83]
[89.5,0.83]
[89.51,0.83]
[89.52,0.83]
[89.53,0.83]
[89.54,0.83]
[89.55,0.83]
[89.56,0.83]
[89.57,0.83]
[89.58,0.83]
[89.59,0.83]
[89.6,0.83]
[89.61,0.83]
[89.62,0.83]
[89.63,0.83]
[89.64,0.83]
[89.65,0.83]
[89.66,0.83]
[89.67,0.83]
[89.68,0.83]
[89.69,0.83]
[89.7,0.83]
[89.71,0.83]
[89.72,0.83]
[89.73,0.83]
[89.74,0.83]
[89.75,0.83]
[89.76,0.83]
[89.77,0.83]
[89.78,0.83]
[89.79,0.83]
[89.8,0.83]
[89.81,0.83]
[89.82,0.83]
[89.83,0.83]
[89.84,0.83]
[89.85,0.83]
[89.86,0.83]
[89.87,0.83]
[89.88,0.83]
[89.89,0.83]
[89.9,0.83]
[89.91,0.83]
[89.92,0.83]
[89.93,0.83]
[89.94,0.83]
[89.95,0.83]
[89.96,0.83]
[89.97,0.83]
[89.98,0.83]
[89.99,0.83]
[90,0.83]
[90.01,0.83]
[90.02,0.83]
[90.03,0.83]
[90.04,0.83]
[90.05,0.83]
[90.06,0.83]
[90.07,0.83]
[90.08,0.83]
[90.09,0.83]
[90.1,0.83]
[90.11,0.83]
[90.12,0.83]
[90.13,0.83]
[90.14,0.83]
[90.15,0.83]
[90.16,0.83]
[90.17,0.83]
[90.18,0.83]
[90.19,0.83]
[90.2,0.83]
[90.21,0.83]
[90.22,0.83]
[90.23,0.83]
[90.24,0.83]
[90.25,0.83]
[90.26,0.83]
[90.27,0.83]
[90.28,0.83]
[90.29,0.83]
[90.3,0.83]
[90.31,0.83]
[90.32,0.83]
[90.33,0.83]
[90.34,0.83]
[90.35,0.83]
[90.36,0.83]
[90.37,0.83]
[90.38,0.83]
[90.39,0.83]
[90.4,0.83]
[90.41,0.83]
[90.42,0.83]
[90.43,0.83]
[90.44,0.83]
[90.45,0.83]
[90.46,0.83]
[90.47,0.83]
[90.48,0.83]
[90.49,0.83]
[90.5,0.83]
[90.51,0.83]
[90.52,0.83]
[90.53,0.83]
[90.54,0.83]
[90.55,0.83]
[90.56,0.83]
[90.57,0.83]
[90.58,0.83]
[90.59,0.83]
[90.6,0.83]
[90.61,0.83]
[90.62,0.83]
[90.63,0.83]
[90.64,0.83]
[90.65,0.83]
[90.66,0.83]
[90.67,0.83]
[90.68,0.83]
[90.69,0.83]
[90.7,0.83]
[90.71,0.83]
[90.72,0.83]
[90.73,0.83]
[90.74,0.83]
[90.75,0.83]
[90.76,0.83]
[90.77,0.83]
[90.78,0.83]
[90.79,0.83]
[90.8,0.83]
[90.81,0.83]
[90.82,0.83]
[90.83,0.83]
[90.84,0.83]
[90.85,0.83]
[90.86,0.83]
[90.87,0.83]
[90.88,0.83]
[90.89,0.83]
[90.9,0.83]
[90.91,0.83]
[90.92,0.83]
[90.93,0.83]
[90.94,0.83]
[90.95,0.83]
[90.96,0.83]
[90.97,0.83]
[90.98,0.83]
[90.99,0.83]
[91,0.83]
[91.01,0.83]
[91.02,0.83]
[91.03,0.83]
[91.04,0.83]
[91.05,0.83]
[91.06,0.83]
[91.07,0.83]
[91.08,0.83]
[91.09,0.83]
[91.1,0.83]
[91.11,0.83]
[91.12,0.83]
[91.13,0.83]
[91.14,0.83]
[91.15,0.83]
[91.16,0.83]
[91.17,0.83]
[91.18,0.83]
[91.19,0.83]
[91.2,0.83]
[91.21,0.83]
[91.22,0.83]
[91.23,0.83]
[91.24,0.83]
[91.25,0.83]
[91.26,0.83]
[91.27,0.83]
[91.28,0.83]
[91.29,0.83]
[91.3,0.83]
[91.31,0.83]
[91.32,0.83]
[91.33,0.83]
[91.34,0.83]
[91.35,0.83]
[91.36,0.83]
[91.37,0.83]
[91.38,0.83]
[91.39,0.83]
[91.4,0.83]
[91.41,0.83]
[91.42,0.83]
[91.43,0.83]
[91.44,0.83]
[91.45,0.83]
[91.46,0.83]
[91.47,0.83]
[91.48,0.83]
[91.49,0.83]
[91.5,0.83]
[91.51,0.83]
[91.52,0.83]
[91.53,0.83]
[91.54,0.83]
[91.55,0.83]
[91.56,0.83]
[91.57,0.83]
[91.58,0.83]
[91.59,0.83]
[91.6,0.83]
[91.61,0.83]
[91.62,0.83]
[91.63,0.83]
[91.64,0.83]
[91.65,0.83]
[91.66,0.83]
[91.67,0.83]
[91.68,0.83]
[91.69,0.83]
[91.7,0.83]
[91.71,0.83]
[91.72,0.83]
[91.73,0.83]
[91.74,0.83]
[91.75,0.83]
[91.76,0.83]
[91.77,0.83]
[91.78,0.83]
[91.79,0.83]
[91.8,0.83]
[91.81,0.83]
[91.82,0.83]
[91.83,0.83]
[91.84,0.83]
[91.85,0.83]
[91.86,0.83]
[91.87,0.83]
[91.88,0.83]
[91.89,0.83]
[91.9,0.83]
[91.91,0.83]
[91.92,0.83]
[91.93,0.83]
[91.94,0.83]
[91.95,0.83]
[91.96,0.83]
[91.97,0.83]
[91.98,0.83]
[91.99,0.83]
[92,0.83]
[92.01,0.83]
[92.02,0.83]
[92.03,0.83]
[92.04,0.83]
[92.05,0.83]
[92.06,0.83]
[92.07,0.83]
[92.08,0.83]
[92.09,0.83]
[92.1,0.83]
[92.11,0.83]
[92.12,0.83]
[92.13,0.83]
[92.14,0.83]
[92.15,0.83]
[92.16,0.83]
[92.17,0.83]
[92.18,0.83]
[92.19,0.83]
[92.2,0.83]
[92.21,0.83]
[92.22,0.83]
[92.23,0.83]
[92.24,0.83]
[92.25,0.83]
[92.26,0.83]
[92.27,0.83]
[92.28,0.83]
[92.29,0.83]
[92.3,0.83]
[92.31,0.83]
[92.32,0.83]
[92.33,0.83]
[92.34,0.83]
[92.35,0.83]
[92.36,0.83]
[92.37,0.83]
[92.38,0.83]
[92.39,0.83]
[92.4,0.83]
[92.41,0.83]
[92.42,0.83]
[92.43,0.83]
[92.44,0.83]
[92.45,0.83]
[92.46,0.83]
[92.47,0.83]
[92.48,0.83]
[92.49,0.83]
[92.5,0.83]
[92.51,0.83]
[92.52,0.83]
[92.53,0.83]
[92.54,0.83]
[92.55,0.83]
[92.56,0.83]
[92.57,0.83]
[92.58,0.83]
[92.59,0.83]
[92.6,0.83]
[92.61,0.83]
[92.62,0.83]
[92.63,0.83]
[92.64,0.83]
[92.65,0.83]
[92.66,0.83]
[92.67,0.83]
[92.68,0.83]
[92.69,0.83]
[92.7,0.83]
[92.71,0.83]
[92.72,0.83]
[92.73,0.83]
[92.74,0.83]
[92.75,0.83]
[92.76,0.83]
[92.77,0.83]
[92.78,0.83]
[92.79,0.83]
[92.8,0.83]
[92.81,0.83]
[92.82,0.83]
[92.83,0.83]
[92.84,0.83]
[92.85,0.83]
[92.86,0.83]
[92.87,0.83]
[92.88,0.83]
[92.89,0.83]
[92.9,0.83]
[92.91,0.83]
[92.92,0.83]
[92.93,0.83]
[92.94,0.83]
[92.95,0.83]
[92.96,0.83]
[92.97,0.83]
[92.98,0.83]
[92.99,0.83]
[93,0.83]
[93.01,0.83]
[93.02,0.83]
[93.03,0.83]
[93.04,0.83]
[93.05,0.83]
[93.06,0.83]
[93.07,0.83]
[93.08,0.83]
[93.09,0.83]
[93.1,0.83]
[93.11,0.83]
[93.12,0.83]
[93.13,0.83]
[93.14,0.83]
[93.15,0.83]
[93.16,0.83]
[93.17,0.83]
[93.18,0.83]
[93.19,0.83]
[93.2,0.83]
[93.21,0.83]
[93.22,0.83]
[93.23,0.83]
[93.24,0.83]
[93.25,0.83]
[93.26,0.83]
[93.27,0.83]
[93.28,0.83]
[93.29,0.83]
[93.3,0.83]
[93.31,0.83]
[93.32,0.83]
[93.33,0.83]
[93.34,0.83]
[93.35,0.83]
[93.36,0.83]
[93.37,0.83]
[93.38,0.83]
[93.39,0.83]
[93.4,0.83]
[93.41,0.83]
[93.42,0.83]
[93.43,0.83]
[93.44,0.83]
[93.45,0.83]
[93.46,0.83]
[93.47,0.83]
[93.48,0.83]
[93.49,0.83]
[93.5,0.83]
[93.51,0.83]
[93.52,0.83]
[93.53,0.83]
[93.54,0.83]
[93.55,0.83]
[93.56,0.83]
[93.57,0.83]
[93.58,0.83]
[93.59,0.83]
[93.6,0.83]
[93.61,0.83]
[93.62,0.83]
[93.63,0.83]
[93.64,0.83]
[93.65,0.83]
[93.66,0.83]
[93.67,0.83]
[93.68,0.83]
[93.69,0.83]
[93.7,0.83]
[93.71,0.83]
[93.72,0.83]
[93.73,0.83]
[93.74,0.83]
[93.75,0.83]
[93.76,0.83]
[93.77,0.83]
[93.78,0.83]
[93.79,0.83]
[93.8,0.83]
[93.81,0.83]
[93.82,0.83]
[93.83,0.83]
[93.84,0.83]
[93.85,0.83]
[93.86,0.83]
[93.87,0.83]
[93.88,0.83]
[93.89,0.83]
[93.9,0.83]
[93.91,0.83]
[93.92,0.83]
[93.93,0.83]
[93.94,0.83]
[93.95,0.83]
[93.96,0.83]
[93.97,0.83]
[93.98,0.83]
[93.99,0.83]
[94,0.83]
[94.01,0.83]
[94.02,0.83]
[94.03,0.83]
[94.04,0.83]
[94.05,0.83]
[94.06,0.83]
[94.07,0.83]
[94.08,0.83]
[94.09,0.83]
[94.1,0.83]
[94.11,0.83]
[94.12,0.83]
[94.13,0.83]
[94.14,0.83]
[94.15,0.83]
[94.16,0.83]
[94.17,0.83]
[94.18,0.83]
[94.19,0.83]
[94.2,0.83]
[94.21,0.83]
[94.22,0.83]
[94.23,0.83]
[94.24,0.83]
[94.25,0.83]
[94.26,0.83]
[94.27,0.83]
[94.28,0.83]
[94.29,0.83]
[94.3,0.83]
[94.31,0.83]
[94.32,0.83]
[94.33,0.83]
[94.34,0.83]
[94.35,0.83]
[94.36,0.83]
[94.37,0.83]
[94.38,0.83]
[94.39,0.83]
[94.4,0.83]
[94.41,0.83]
[94.42,0.83]
[94.43,0.83]
[94.44,0.83]
[94.45,0.83]
[94.46,0.83]
[94.47,0.83]
[94.48,0.83]
[94.49,0.83]
[94.5,0.83]
[94.51,0.83]
[94.52,0.83]
[94.53,0.83]
[94.54,0.83]
[94.55,0.83]
[94.56,0.83]
[94.57,0.83]
[94.58,0.83]
[94.59,0.83]
[94.6,0.83]
[94.61,0.83]
[94.62,0.83]
[94.63,0.83]
[94.64,0.83]
[94.65,0.83]
[94.66,0.83]
[94.67,0.83]
[94.68,0.83]
[94.69,0.83]
[94.7,0.83]
[94.71,0.83]
[94.72,0.83]
[94.73,0.83]
[94.74,0.83]
[94.75,0.83]
[94.76,0.83]
[94.77,0.83]
[94.78,0.83]
[94.79,0.83]
[94.8,0.83]
[94.81,0.83]
[94.82,0.83]
[94.83,0.83]
[94.84,0.83]
[94.85,0.83]
[94.86,0.83]
[94.87,0.83]
[94.88,0.83]
[94.89,0.83]
[94.9,0.83]
[94.91,0.83]
[94.92,0.83]
[94.93,0.83]
[94.94,0.83]
[94.95,0.83]
[94.96,0.83]
[94.97,0.83]
[94.98,0.83]
[94.99,0.83]
[95,0.83]
[95.01,0.83]
[95.02,0.83]
[95.03,0.83]
[95.04,0.83]
[95.05,0.83]
[95.06,0.83]
[95.07,0.83]
[95.08,0.83]
[95.09,0.83]
[95.1,0.83]
[95.11,0.83]
[95.12,0.83]
[95.13,0.83]
[95.14,0.83]
[95.15,0.83]
[95.16,0.83]
[95.17,0.83]
[95.18,0.83]
[95.19,0.83]
[95.2,0.83]
[95.21,0.83]
[95.22,0.83]
[95.23,0.83]
[95.24,0.83]
[95.25,0.83]
[95.26,0.83]
[95.27,0.83]
[95.28,0.83]
[95.29,0.83]
[95.3,0.83]
[95.31,0.83]
[95.32,0.83]
[95.33,0.83]
[95.34,0.83]
[95.35,0.83]
[95.36,0.83]
[95.37,0.83]
[95.38,0.83]
[95.39,0.83]
[95.4,0.83]
[95.41,0.83]
[95.42,0.83]
[95.43,0.83]
[95.44,0.83]
[95.45,0.83]
[95.46,0.83]
[95.47,0.83]
[95.48,0.83]
[95.49,0.83]
[95.5,0.83]
[95.51,0.83]
[95.52,0.83]
[95.53,0.83]
[95.54,0.83]
[95.55,0.83]
[95.56,0.83]
[95.57,0.83]
[95.58,0.83]
[95.59,0.83]
[95.6,0.83]
[95.61,0.83]
[95.62,0.83]
[95.63,0.83]
[95.64,0.83]
[95.65,0.83]
[95.66,0.83]
[95.67,0.83]
[95.68,0.83]
[95.69,0.83]
[95.7,0.83]
[95.71,0.83]
[95.72,0.83]
[95.73,0.83]
[95.74,0.83]
[95.75,0.83]
[95.76,0.83]
[95.77,0.83]
[95.78,0.83]
[95.79,0.83]
[95.8,0.83]
[95.81,0.83]
[95.82,0.83]
[95.83,0.83]
[95.84,0.83]
[95.85,0.83]
[95.86,0.83]
[95.87,0.83]
[95.88,0.83]
[95.89,0.83]
[95.9,0.83]
[95.91,0.83]
[95.92,0.83]
[95.93,0.83]
[95.94,0.83]
[95.95,0.83]
[95.96,0.83]
[95.97,0.83]
[95.98,0.83]
[95.99,0.83]
[96,0.83]
[96.01,0.83]
[96.02,0.83]
[96.03,0.83]
[96.04,0.83]
[96.05,0.83]
[96.06,0.83]
[96.07,0.83]
[96.08,0.83]
[96.09,0.83]
[96.1,0.83]
[96.11,0.83]
[96.12,0.83]
[96.13,0.83]
[96.14,0.83]
[96.15,0.83]
[96.16,0.83]
[96.17,0.83]
[96.18,0.83]
[96.19,0.83]
[96.2,0.83]
[96.21,0.83]
[96.22,0.83]
[96.23,0.83]
[96.24,0.83]
[96.25,0.83]
[96.26,0.83]
[96.27,0.83]
[96.28,0.83]
[96.29,0.83]
[96.3,0.83]
[96.31,0.83]
[96.32,0.83]
[96.33,0.83]
[96.34,0.83]
[96.35,0.83]
[96.36,0.83]
[96.37,0.83]
[96.38,0.83]
[96.39,0.83]
[96.4,0.83]
[96.41,0.83]
[96.42,0.83]
[96.43,0.83]
[96.44,0.83]
[96.45,0.83]
[96.46,0.83]
[96.47,0.83]
[96.48,0.83]
[96.49,0.83]
[96.5,0.83]
[96.51,0.83]
[96.52,0.83]
[96.53,0.83]
[96.54,0.83]
[96.55,0.83]
[96.56,0.83]
[96.57,0.83]
[96.58,0.83]
[96.59,0.83]
[96.6,0.83]
[96.61,0.83]
[96.62,0.83]
[96.63,0.83]
[96.64,0.83]
[96.65,0.83]
[96.66,0.83]
[96.67,0.83]
[96.68,0.83]
[96.69,0.83]
[96.7,0.83]
[96.71,0.83]
[96.72,0.83]
[96.73,0.83]
[96.74,0.83]
[96.75,0.83]
[96.76,0.83]
[96.77,0.83]
[96.78,0.83]
[96.79,0.83]
[96.8,0.83]
[96.81,0.83]
[96.82,0.83]
[96.83,0.83]
[96.84,0.83]
[96.85,0.83]
[96.86,0.83]
[96.87,0.83]
[96.88,0.83]
[96.89,0.83]
[96.9,0.83]
[96.91,0.83]
[96.92,0.83]
[96.93,0.83]
[96.94,0.83]
[96.95,0.83]
[96.96,0.83]
[96.97,0.83]
[96.98,0.83]
[96.99,0.83]
[97,0.83]
[97.01,0.83]
[97.02,0.83]
[97.03,0.83]
[97.04,0.83]
[97.05,0.83]
[97.06,0.83]
[97.07,0.83]
[97.08,0.83]
[97.09,0.83]
[97.1,0.83]
[97.11,0.83]
[97.12,0.83]
[97.13,0.83]
[97.14,0.83]
[97.15,0.83]
[97.16,0.83]
[97.17,0.83]
[97.18,0.83]
[97.19,0.83]
[97.2,0.83]
[97.21,0.83]
[97.22,0.83]
[97.23,0.83]
[97.24,0.83]
[97.25,0.83]
[97.26,0.83]
[97.27,0.83]
[97.28,0.83]
[97.29,0.83]
[97.3,0.83]
[97.31,0.83]
[97.32,0.83]
[97.33,0.83]
[97.34,0.83]
[97.35,0.83]
[97.36,0.83]
[97.37,0.83]
[97.38,0.83]
[97.39,0.83]
[97.4,0.83]
[97.41,0.83]
[97.42,0.83]
[97.43,0.83]
[97.44,0.83]
[97.45,0.83]
[97.46,0.83]
[97.47,0.83]
[97.48,0.83]
[97.49,0.83]
[97.5,0.83]
[97.51,0.83]
[97.52,0.83]
[97.53,0.83]
[97.54,0.83]
[97.55,0.83]
[97.56,0.83]
[97.57,0.83]
[97.58,0.83]
[97.59,0.83]
[97.6,0.83]
[97.61,0.83]
[97.62,0.83]
[97.63,0.83]
[97.64,0.83]
[97.65,0.83]
[97.66,0.83]
[97.67,0.83]
[97.68,0.83]
[97.69,0.83]
[97.7,0.83]
[97.71,0.83]
[97.72,0.83]
[97.73,0.83]
[97.74,0.83]
[97.75,0.83]
[97.76,0.83]
[97.77,0.83]
[97.78,0.83]
[97.79,0.83]
[97.8,0.83]
[97.81,0.83]
[97.82,0.83]
[97.83,0.83]
[97.84,0.83]
[97.85,0.83]
[97.86,0.83]
[97.87,0.83]
[97.88,0.83]
[97.89,0.83]
[97.9,0.83]
[97.91,0.83]
[97.92,0.83]
[97.93,0.83]
[97.94,0.83]
[97.95,0.83]
[97.96,0.83]
[97.97,0.83]
[97.98,0.83]
[97.99,0.83]
[98,0.83]
[98.01,0.83]
[98.02,0.83]
[98.03,0.83]
[98.04,0.83]
[98.05,0.83]
[98.06,0.83]
[98.07,0.83]
[98.08,0.83]
[98.09,0.83]
[98.1,0.83]
[98.11,0.83]
[98.12,0.83]
[98.13,0.83]
[98.14,0.83]
[98.15,0.83]
[98.16,0.83]
[98.17,0.83]
[98.18,0.83]
[98.19,0.83]
[98.2,0.83]
[98.21,0.83]
[98.22,0.83]
[98.23,0.83]
[98.24,0.83]
[98.25,0.83]
[98.26,0.83]
[98.27,0.83]
[98.28,0.83]
[98.29,0.83]
[98.3,0.83]
[98.31,0.83]
[98.32,0.83]
[98.33,0.83]
[98.34,0.83]
[98.35,0.83]
[98.36,0.83]
[98.37,0.83]
[98.38,0.83]
[98.39,0.83]
[98.4,0.83]
[98.41,0.83]
[98.42,0.83]
[98.43,0.83]
[98.44,0.83]
[98.45,0.83]
[98.46,0.83]
[98.47,0.83]
[98.48,0.83]
[98.49,0.83]
[98.5,0.83]
[98.51,0.83]
[98.52,0.83]
[98.53,0.83]
[98.54,0.83]
[98.55,0.83]
[98.56,0.83]
[98.57,0.83]
[98.58,0.83]
[98.59,0.83]
[98.6,0.83]
[98.61,0.83]
[98.62,0.83]
[98.63,0.83]
[98.64,0.83]
[98.65,0.83]
[98.66,0.83]
[98.67,0.83]
[98.68,0.83]
[98.69,0.83]
[98.7,0.83]
[98.71,0.83]
[98.72,0.83]
[98.73,0.83]
[98.74,0.83]
[98.75,0.83]
[98.76,0.83]
[98.77,0.83]
[98.78,0.83]
[98.79,0.83]
[98.8,0.83]
[98.81,0.83]
[98.82,0.83]
[98.83,0.83]
[98.84,0.83]
[98.85,0.83]
[98.86,0.83]
[98.87,0.83]
[98.88,0.83]
[98.89,0.83]
[98.9,0.83]
[98.91,0.83]
[98.92,0.83]
[98.93,0.83]
[98.94,0.83]
[98.95,0.83]
[98.96,0.83]
[98.97,0.83]
[98.98,0.83]
[98.99,0.83]
[99,0.83]
[99.01,0.83]
[99.02,0.83]
[99.03,0.83]
[99.04,0.83]
[99.05,0.83]
[99.06,0.83]
[99.07,0.83]
[99.08,0.83]
[99.09,0.83]
[99.1,0.83]
[99.11,0.83]
[99.12,0.83]
[99.13,0.83]
[99.14,0.83]
[99.15,0.83]
[99.16,0.83]
[99.17,0.83]
[99.18,0.83]
[99.19,0.83]
[99.2,0.83]
[99.21,0.83]
[99.22,0.83]
[99.23,0.83]
[99.24,0.83]
[99.25,0.83]
[99.26,0.83]
[99.27,0.83]
[99.28,0.83]
[99.29,0.83]
[99.3,0.83]
[99.31,0.83]
[99.32,0.83]
[99.33,0.83]
[99.34,0.83]
[99.35,0.83]
[99.36,0.83]
[99.37,0.83]
[99.38,0.83]
[99.39,0.83]
[99.4,0.83]
[99.41,0.83]
[99.42,0.83]
[99.43,0.83]
[99.44,0.83]
[99.45,0.83]
[99.46,0.83]
[99.47,0.83]
[99.48,0.83]
[99.49,0.83]
[99.5,0.83]
[99.51,0.83]
[99.52,0.83]
[99.53,0.83]
[99.54,0.83]
[99.55,0.83]
[99.56,0.83]
[99.57,0.83]
[99.58,0.83]
[99.59,0.83]
[99.6,0.83]
[99.61,0.83]
[99.62,0.83]
[99.63,0.83]
[99.64,0.83]
[99.65,0.83]
[99.66,0.83]
[99.67,0.83]
[99.68,0.83]
[99.69,0.83]
[99.7,0.83]
[99.71,0.83]
[99.72,0.83]
[99.73,0.83]
[99.74,0.83]
[99.75,0.83]
[99.76,0.83]
[99.77,0.83]
[99.78,0.83]
[99.79,0.83]
[99.8,0.83]
[99.81,0.83]
[99.82,0.83]
[99.83,0.83]
[99.84,0.83]
[99.85,0.83]
[99.86,0.83]
[99.87,0.83]
[99.88,0.83]
[99.89,0.83]
[99.9,0.83]
[99.91,0.83]
[99.92,0.83]
[99.93,0.83]
[99.94,0.83]
[99.95,0.83]
[99.96,0.83]
[99.97,0.83]
[99.98,0.83]
[99.99,0.83]
[100,0.83]
[100.01,0.8]