{"text_format":"1","workbook":"xlsx","n_sheets":5,"sheets":["Datu_ievade","VES","Līmeņatzīmes","Kurināmais","k_koef"],"not_rendered":{"charts":0,"images":0,"macros":1,"external_links":0,"defined_names":9,"comments":0,"pivot_tables":0},"unopened":[],"bounds":{"document_bytes":16777216,"sheet_cells":100000,"rows_first":2000,"rows_last":500,"rows_between":2000,"halvings":0,"cell_chars":16384,"cell_head_chars":4096},"cells_cut":0,"cells_raw":0,"read":"whole","date_system":"1900"}

{"sheet":"Datu_ievade","index":0,"n_rows":26,"n_cols":15,"rows_kept":26,"cut":false,"hidden":false,"merged":[[1,2,1,4],[2,2,2,4],[10,1,11,1],[8,1,9,1]]}
[null,null,null,null,null,null,null,null,null,"Elektrostacijas veids","OI sākuma gads","Mēnesis","Atbalsta noteikumi"]
[null,"Komersanta nosaukums",null,null,null,null,null,null,null,"Biogāze",2006,1,221,null,"Jā"]
[null,"Elektrostacijas adrese",null,null,null,null,null,null,null,"Biomasa",2007,2,262,null,"Nē"]
[null,"Elektrostacijas veids","VES",null,null,{"$f":"IF($C$4=$J$5,\"Minimum efficiency of the power plant for the calculation of Natural resources tax\",\" \")","v":" "},0.75,null,null,"Dabasgāze",2008,3]
[null,"Līgumā ar publisko tirgotāju norādītā stacijas uzstādītā elektriskā jauda (MW)",null,null,null,{"$f":"IF($C$4=$J$5,\"Water drop, m\",\" \")","v":" "},3.5,null,null,"HES",2009,4]
[null,{"$f":"IF(OR($C$4=$J$2,$C$4=$J$3,$C$4=$J$4),\"Stacijas uzstādītā neto siltuma jauda (MW)\",\" \")","v":" "},1.2,"Poligongāze?","Nē","Balansēšanas pienākums (Jā/Nē)","Nē",null,null,"VES",2010,5]
[null,"Stacijai šobrīd piemērojamie atbalsta MK noteikumi",262,null,null,null,null,null,null,null,2011,6]
[null,null,null,null,null,null,null,null,null,null,2012,7]
[null,"Obligātā iepirkuma sākuma datums","Gads","Mēnesis",null,null,null,null,null,null,2013,8]
[null,null,null,null,null,null,null,null,null,null,2014,9]
[null,"Obligātā iepirkuma beigu datums","Gads","Mēnesis",null,null,null,null,null,null,2015,10]
[null,null,{"$f":"IF(AND($C$7=262,$D$10=1),$C$10+19,IF($C$7=262,$C$10+20,IF(AND($C$7=221,$D$10=1),$C$10+9,$C$10+10)))","v":20},{"$f":"IF($D$10=1,12,$D$10-1)","v":-1},null,null,null,null,null,null,2016,11]
[null,null,null,null,null,null,null,null,null,null,2017,12]
[null,"Fondu atbalsts investīcijām (EUR)",null,null,null,null,null,null,null,null,2018]
[null,"Gads, kurā saņemts investīciju atbalsts no fondiem",null,null,null,null,null,null,null,null,2019]
[null,"AST pieslēguma izbūves investīcijas (EUR)",null,null,null,null,null,null,null,null,2020]
[null,null,null,null,null,null,null,null,null,null,2021]
[null,null,null,null,null,null,null,null,null,null,2022]
[null,null,null,null,null,null,null,null,null,null,2023]
[null,null,null,null,null,null,null,null,null,null,2024]
[null,null,null,null,null,null,null,null,null,null,2025]
[null,null,null,null,null,null,null,null,null,null,2026]
[null,null,null,null,null,null,null,null,null,null,2027]
[null,null,null,null,null,null,null,null,null,null,2028]
[null,null,null,null,null,null,null,null,null,null,2029]
[null,null,null,null,null,null,null,null,null,null,2030]

{"sheet":"VES","index":1,"n_rows":63,"n_cols":447,"rows_kept":63,"cut":false,"hidden":false,"merged":[[38,420,38,431],[38,433,38,444],[58,55,58,68],[38,303,38,314],[38,316,38,327],[38,329,38,340],[38,342,38,353],[38,147,38,158],[38,160,38,171],[38,173,38,184],[38,186,38,197],[38,199,38,210],[38,212,38,223],[38,69,38,80],[38,82,38,93],[38,95,38,106],[38,108,38,119],[38,121,38,132],[14,420,14,431],[14,277,14,288],[14,290,14,301],[14,147,14,158],[14,160,14,171],[14,173,14,184],[14,186,14,197],[14,199,14,210],[14,212,14,223],[14,264,14,275],[38,134,38,145],[14,381,14,392],[14,394,14,405],[14,407,14,418],[38,368,38,379],[38,225,38,236],[38,238,38,249],[38,251,38,262],[38,264,38,275],[38,277,38,288],[38,290,38,301],[38,381,38,392],[38,394,38,405],[38,407,38,418],[14,121,14,132],[14,433,14,444],[14,303,14,314],[14,316,14,327],[14,329,14,340],[14,342,14,353],[14,355,14,366],[14,368,14,379],[14,225,14,236],[14,238,14,249],[14,251,14,262],[14,134,14,145],[38,355,38,366],[38,4,38,15],[38,17,38,28],[38,30,38,41],[38,43,38,54],[38,56,38,67],[2,172,2,185],[14,56,14,67],[1,1,1,2],[1,120,1,159],[2,1,2,2],[2,120,2,133],[2,146,2,159],[3,16,3,29],[14,4,14,15],[14,17,14,28],[14,30,14,41],[14,43,14,54],[14,69,14,80],[14,82,14,93],[14,95,14,106],[14,108,14,119]]}
["Vēja elektrostacijas"]
["Komersanta nosaukums",{"$f":"IF(Datu_ievade!$C$4=Datu_ievade!$J$6,Datu_ievade!$C$2,\" \")","v":0},null,null,null,null,null,null,null,null,null,null,null,null,null,null,"Stacijai piemērojamās līmeņatzīmes",null,null,null,null,null,null,null,null,null,null,null,null,null,null,null,null,null,null,null,null,null,null,null,null,null,null,null,null,null,null,null,null,null,null,null,null,null,null,null,null,null,null,null,null,null,null,null,null,null,null,null,null,null,null,null,null,null,null,null,null,null,null,null,null,null,null,null,null,null,null,null,null,null,null,null,null,null,null,null,null,null,null,null,null,null,null,null,null,null,null,null,null,null,null,null,null,null,null,null,null,null,null,null,null,null,null,null,null,null,null,null,null,null,null,null,null,null,null,null,null,null,null,null,null,null,null,null,null,null,null,null,null,null,null,null,null,null,null,null,null,null,null,null,null,null,null,null,null,null,null,null,null,null,null,null,null,null,null,null,null,null,null,null,null,null,null,null,null,null,null,null,null,null,null,null,null,null,null,null,null,null,null,null,null,null,null,null,null,null,null,null,null,null,null,null,null,null,null,null,null,null,null,null,null,null,null,null,null,null,null,null,null,null,null,null,null,null,null,null,null,null,null,null,null,null,null,null,null,null,null,null,null,null,null,null,null,null,null,null,null,null,null,null,null,null,null,null,null,null,null,null,null,null,null,null,null,null,null,null,null,null,null,null,null,null,null,null,null,null,null,null,null,null,null,null,null,null,null,null,null,null,null,null,null,null,null,null,null,null,null,null,null,null,null,null,null,null,null,null,null,null,null,null,null,null,null,null,null,null,null,null,null,null,null,null,null,null,null,null,null,null,null,null,null,null,null,null,null,null,null,null,null,null,null,null,null,null,null,null,null,null,null,null,null,null,null,null,null,null,null,null,null,null,null,null,null,null,null,null,null,null,null,null,null,null,null,null,null,null,null,null,null,null,null,null,null,null,null,null,null,null,null,null,null,null,null,null,null,null,null,null,null,null,null,null,null,null,null,null,null,null,null,null,null,null,null,null,null,null,null,null,null,null,null,null,null,null,null,null,null,null,null,null,null,null,null,null,null,-1]
["Elektrostacijas adrese",{"$f":"IF(Datu_ievade!$C$4=Datu_ievade!$J$6,Datu_ievade!$C$3,\" \")","v":0},null,null,null,null,null,null,null,null,null,null,null,null,null,null,null,null,null,null,null,null,null,null,null,null,null,null,null,null,null,null,null,null,null,null,null,null,null,null,null,null,null,null,null,null,null,null,null,null,null,null,null,null,null,null,null,null,null,null,null,null,null,null,null,null,null,null,null,null,null,null,null,null,null,null,null,null,null,null,null,null,null,null,null,null,null,null,null,null,null,null,null,null,null,null,null,null,null,null,null,null,null,null,null,null,null,null,null,null,null,null,null,null,null,null,null,null,null,null,null,null,null,null,null,null,null,null,null,null,null,null,null,null,null,null,null,null,null,null,null,null,null,null,null,null,null,null,null,null,null,null,null,null,null,null,null,null,null,null,null,null,null,null,null,null,null,null,null,null,null,null,null,null,null,null,null,null,null,null,null,null,null,null,null,null,null,null,null,null,null,null,null,null,null,null,null,null,null,null,null,null,null,null,null,null,null,null,null,null,null,null,null,null,null,null,null,null,null,null,null,null,null,null,null,null,null,null,null,null,null,null,null,null,null,null,null,null,null,null,null,null,null,null,null,null,null,null,null,null,null,null,null,null,null,null,null,null,null,null,null,null,null,null,null,null,null,null,null,null,null,null,null,null,null,null,null,null,null,null,null,null,null,null,null,null,null,null,null,null,null,null,null,null,null,null,null,null,null,null,null,null,null,null,null,null,null,null,null,null,null,null,null,null,null,null,null,null,null,null,null,null,null,null,null,null,null,null,null,null,null,null,null,null,null,null,null,null,null,null,null,null,null,null,null,null,null,null,null,null,null,null,null,null,null,null,null,null,null,null,null,null,null,null,null,null,null,null,null,null,null,null,null,null,null,null,null,null,null,null,null,null,null,null,null,null,null,null,null,null,null,null,null,null,null,null,null,null,null,null,null,null,null,null,null,null,null,null,null,null,null,null,null,null,null,null,null,null,null,null,null,null,null,null,null,null,null,null,null,null,null,null,null,null,null,null,null,null,null,null,null,null,null,null,null,0]
["Atbalsta noteikumi",null,{"$f":"IF(Datu_ievade!$C$4=Datu_ievade!$J$6,Datu_ievade!$C$7,\" \")","v":262},null,null,null,null,null,null,null,null,null,null,null,null,null,"Bāzes elektroenerģijas cena (Periodā no 07.2009-)",null,null,null,null,null,null,null,null,null,null,null,null,null,null,null,null,null,null,null,null,null,null,null,null,null,"Īpatnējās inv.",null,null,null,null,null,null,null,null,null,null,null,null,"Darba stundu sk.",null,null,null,null,null,null,null,null,null,null,null,null,"Darba slodzes",null,null,null,null,null,null,null,null,null,null,null,null,"Ekspluatācijas un pārējās darbības izmaksas",null,null,null,null,null,null,null,null,null,null,null,null,"k koeficients",null,null,null,null,null,null,null,null,null,null,null,null,"Balansēšanas izdevumi",null,null,null,null,null,null,null,null,null,null,null,null,null,null,null,null,null,null,null,null,null,null,null,null,null,null,null,null,null,null,null,null,null,null,null,null,null,null,null,null,null,null,null,null,null,null,null,null,null,null,null,null,null,null,null,null,null,null,null,null,null,null,null,null,null,null,null,null,null,null,null,null,null,null,null,null,null,null,null,null,null,null,null,null,null,null,null,null,null,null,null,null,null,null,null,null,null,null,null,null,null,null,null,null,null,null,null,null,null,null,null,null,null,null,null,null,null,null,null,null,null,null,null,null,null,null,null,null,null,null,null,null,null,null,null,null,null,null,null,null,null,null,null,null,null,null,null,null,null,null,null,null,null,null,null,null,null,null,null,null,null,null,null,null,null,null,null,null,null,null,null,null,null,null,null,null,null,null,null,null,null,null,null,null,null,null,null,null,null,null,null,null,null,null,null,null,null,null,null,null,null,null,null,null,null,null,null,null,null,null,null,null,null,null,null,null,null,null,null,null,null,null,null,null,null,null,null,null,null,null,null,null,null,null,null,null,null,null,null,null,null,null,null,null,null,null,null,null,null,null,null,null,null,null,null,null,null,null,null,null,null,null,null,null,null,null,null,null,null,null,null,null,null,null,null,null,null,null,null,null,null,null,null,null,null,null,null,null,null,null,null,null,null,null,null,null,null,null,null,null,null,null,null,null,null,null,null,null,null,null,null,null,null,null,null,null,null,null,null,null,null,null,null,null,null,null,null,null,null,null,null,null,null,null,null,null,null,20]
["Atbalsta perioda sākums (gads un mēnesis)",{"$f":"IF(Datu_ievade!$C$4=Datu_ievade!$J$6,Datu_ievade!$C$10,0)","v":0},{"$f":"IF(Datu_ievade!$C$4=Datu_ievade!$J$6,Datu_ievade!$D$10,0)","v":0},null,null,null,null,null,null,null,null,null,null,null,null,null,"1-10.gads",null,null,null,null,null,null,null,null,null,null,null,null,"11.-20.gads",null,null,null,null,null,null,null,null,null,null,null,null,"EUR/kWe",null,null,null,null,null,null,null,null,null,null,null,null,"h",null,null,null,null,null,null,null,null,null,null,null,null,"sk.",null,null,null,null,null,null,null,null,null,null,null,null,"EUR/MWh",null,null,null,null,null,null,null,null,null,null,null,null,null,null,null,null,null,null,null,null,null,null,null,null,null,"%",null,null,null,null,null,null,null,null,null,null,null,null,null,null,null,null,null,null,null,null,null,null,null,null,null,null,null,null,null,null,null,null,null,null,null,null,null,null,null,null,null,null,null,null,null,null,null,null,null,null,null,null,null,null,null,null,null,null,null,null,null,null,null,null,null,null,null,null,null,null,null,null,null,null,null,null,null,null,null,null,null,null,null,null,null,null,null,null,null,null,null,null,null,null,null,null,null,null,null,null,null,null,null,null,null,null,null,null,null,null,null,null,null,null,null,null,null,null,null,null,null,null,null,null,null,null,null,null,null,null,null,null,null,null,null,null,null,null,null,null,null,null,null,null,null,null,null,null,null,null,null,null,null,null,null,null,null,null,null,null,null,null,null,null,null,null,null,null,null,null,null,null,null,null,null,null,null,null,null,null,null,null,null,null,null,null,null,null,null,null,null,null,null,null,null,null,null,null,null,null,null,null,null,null,null,null,null,null,null,null,null,null,null,null,null,null,null,null,null,null,null,null,null,null,null,null,null,null,null,null,null,null,null,null,null,null,null,null,null,null,null,null,null,null,null,null,null,null,null,null,null,null,null,null,null,null,null,null,null,null,null,null,null,null,null,null,null,null,null,null,null,null,null,null,null,null,null,null,null,null,null,null,null,null,null,null,null,null,null,null,null,null,null,null,null,null,null,null,null,null,null,null,null,null,null,null,null,null,null,null,null,null,null,null,null,null,null,null,null,null,null,null,null,null,null,null,null,null,null,null,null,null,null,null,null,null,null,11]
["Atbalsta perioda beigas (gads un mēnesis)",{"$f":"IF(Datu_ievade!$C$4=Datu_ievade!$J$6,Datu_ievade!$C$12,0)","v":20},{"$f":"IF(Datu_ievade!$C$4=Datu_ievade!$J$6,Datu_ievade!$D$12,0)","v":-1},null,null,null,null,null,null,null,null,null,null,null,null,null,{"$f":"IF(AND($C$7<=$B$61,$C$11=\"Nē\"),BD61,BD62)","v":147},null,null,null,null,null,null,null,null,null,null,null,null,{"$f":"Q6*0.6","v":88.2},null,null,null,null,null,null,null,null,null,null,null,null,{"$f":"IF($C$7<=$B$61,$D$61,IF(AND($C$7>$A$62,$C$7<=$B$62),$D$62,$D$63))","v":2150},null,null,null,null,null,null,null,null,null,null,null,null,{"$f":"IF($C$7<=$B$61,$C$61,IF(AND($C$7>$A$62,$C$7<=$B$62),$C$62,$C$63))","v":1500},null,null,null,null,null,null,null,null,null,null,null,null,{"$f":"IF($C$7<=$B$62,$Q$61,$Q$63)","v":0.5},null,null,null,null,null,null,null,null,null,null,null,null,{"$f":"IF($C$7<=$B$61,$AD$61,IF(AND($C$7>$A$62,$C$7<=$B$62),$AD$62,$AD$63))","v":14},null,null,null,null,null,null,null,null,null,null,null,null,{"$f":"VLOOKUP($C$7,k_koef!$A$2:$B$22333,2,FALSE)","v":1.24},null,null,null,null,null,null,null,null,null,null,null,null,{"$f":"IF(AND($C$7<=$B$61,$C$11=\"Nē\"),AQ61,IF(AND($C$7<=$B$61,$C$11=\"Jā\"),10%,IF(AND($C$7>$A$62,$C$7<=$B$62),$AQ$62,$AQ$63)))","v":0},"jānoskaidro no kura brīža balansēšanas izd.ir spēkā",null,null,null,null,null,null,null,null,null,null,null,null,null,null,null,null,null,null,null,null,null,null,null,null,null,null,null,null,null,null,null,null,null,null,null,null,null,null,null,null,null,null,null,null,null,null,null,null,null,null,null,null,null,null,null,null,null,null,null,null,null,null,null,null,null,null,null,null,null,null,null,null,null,null,null,null,null,null,null,null,null,null,null,null,null,null,null,null,null,null,null,null,null,null,null,null,null,null,null,null,null,null,null,null,null,null,null,null,null,null,null,null,null,null,null,null,null,null,null,null,null,null,null,null,null,null,null,null,null,null,null,null,null,null,null,null,null,null,null,null,null,null,null,null,null,null,null,null,null,null,null,null,null,null,null,null,null,null,null,null,null,null,null,null,null,null,null,null,null,null,null,null,null,null,null,null,null,null,null,null,null,null,null,null,null,null,null,null,null,null,null,null,null,null,null,null,null,null,null,null,null,null,null,null,null,null,null,null,null,null,null,null,null,null,null,null,null,null,null,null,null,null,null,null,null,null,null,null,null,null,null,null,null,null,null,null,null,null,null,null,null,null,null,null,null,null,null,null,null,null,null,null,null,null,null,null,null,null,null,null,null,null,null,null,null,null,null,null,null,null,null,null,null,null,null,null,null,null,null,null,null,null,null,null,null,null,null,null,null,null,null,null,null,null,null,null,null,null,null,null,null,null,null,null,null,null,null,null,null,null,null,null,null,null,null,null,null,null,null,null,null,null,null,null,null,null,null,null,null,null,null,null,null,null,null,null,21,"Pēdējā gada aprēķins (20 vai 21 atkarībā no kura mēneša sākās stacijas OI iepirkums)"]
["Līgumā ar publisko tirgotāju norādītā stacijas uzstādītā elektriskā jauda (MW)","MW",{"$f":"IF(Datu_ievade!$C$4=Datu_ievade!$J$6,Datu_ievade!$C$5,0)","v":0}]
["Investīcijas kopā","EUR",{"$f":"$C$7*$AQ$6*1000","v":0}]
["Investīcijas pieslēgumam AST","EUR",{"$f":"IF(Datu_ievade!$C$4=Datu_ievade!$J$6,Datu_ievade!$C$16,0)","v":0}]
["Subsīdijas no fondiem","EUR",{"$f":"IF(Datu_ievade!$C$4=Datu_ievade!$J$6,Datu_ievade!$C$14,0)","v":0},{"$f":"IF(Datu_ievade!$C$4=Datu_ievade!$J$6,Datu_ievade!$C$15,0)","v":0},{"$f":"IF(Datu_ievade!$C$4=Datu_ievade!$J$6,Datu_ievade!$C$14,0)","v":0},{"$f":"IF(Datu_ievade!$C$4=Datu_ievade!$J$6,Datu_ievade!$C$14,0)","v":0},{"$f":"IF(Datu_ievade!$C$4=Datu_ievade!$J$6,Datu_ievade!$C$14,0)","v":0},{"$f":"IF(Datu_ievade!$C$4=Datu_ievade!$J$6,Datu_ievade!$C$14,0)","v":0},{"$f":"IF(Datu_ievade!$C$4=Datu_ievade!$J$6,Datu_ievade!$C$14,0)","v":0},{"$f":"IF(Datu_ievade!$C$4=Datu_ievade!$J$6,Datu_ievade!$C$14,0)","v":0},{"$f":"IF(Datu_ievade!$C$4=Datu_ievade!$J$6,Datu_ievade!$C$14,0)","v":0},{"$f":"IF(Datu_ievade!$C$4=Datu_ievade!$J$6,Datu_ievade!$C$14,0)","v":0},{"$f":"IF(Datu_ievade!$C$4=Datu_ievade!$J$6,Datu_ievade!$C$14,0)","v":0},{"$f":"IF(Datu_ievade!$C$4=Datu_ievade!$J$6,Datu_ievade!$C$14,0)","v":0},{"$f":"IF(Datu_ievade!$C$4=Datu_ievade!$J$6,Datu_ievade!$C$14,0)","v":0},{"$f":"IF(Datu_ievade!$C$4=Datu_ievade!$J$6,Datu_ievade!$C$14,0)","v":0}]
["Balansēšana saskaņā ar 55.punktu?","Jā/Nē",{"$f":"IF(Datu_ievade!$C$4=Datu_ievade!$J$6,Datu_ievade!$G$6,0)","v":"Nē"}]
[]
[]
["IRR aprēķins (pirms pārkompensācijas koeficienta)"]
["Gads",null,2006,{"$f":"C15+1","v":2007},2007,null,null,null,null,null,null,null,null,null,null,null,{"$f":"D15+1","v":2008},2008,null,null,null,null,null,null,null,null,null,null,null,{"$f":"Q15+1","v":2009},2009,null,null,null,null,null,null,null,null,null,null,null,{"$f":"AD15+1","v":2010},2010,null,null,null,null,null,null,null,null,null,null,null,{"$f":"AQ15+1","v":2011},2011,null,null,null,null,null,null,null,null,null,null,null,2012,2012,null,null,null,null,null,null,null,null,null,null,null,2013,2013,null,null,null,null,null,null,null,null,null,null,null,2014,2014,null,null,null,null,null,null,null,null,null,null,null,2015,2015,null,null,null,null,null,null,null,null,null,null,null,2016,2016,null,null,null,null,null,null,null,null,null,null,null,2017,2017,null,null,null,null,null,null,null,null,null,null,null,2018,2018,null,null,null,null,null,null,null,null,null,null,null,2019,2019,null,null,null,null,null,null,null,null,null,null,null,2020,2020,null,null,null,null,null,null,null,null,null,null,null,2021,2021,null,null,null,null,null,null,null,null,null,null,null,2022,2022,null,null,null,null,null,null,null,null,null,null,null,2023,2023,null,null,null,null,null,null,null,null,null,null,null,2024,2024,null,null,null,null,null,null,null,null,null,null,null,2025,2024,null,null,null,null,null,null,null,null,null,null,null,2026,2026,null,null,null,null,null,null,null,null,null,null,null,2027,2027,null,null,null,null,null,null,null,null,null,null,null,2028,2028,null,null,null,null,null,null,null,null,null,null,null,2029,2029,null,null,null,null,null,null,null,null,null,null,null,2030,2030,null,null,null,null,null,null,null,null,null,null,null,2031,2031,null,null,null,null,null,null,null,null,null,null,null,2032,2032,null,null,null,null,null,null,null,null,null,null,null,2033,2033,null,null,null,null,null,null,null,null,null,null,null,2034,2034,null,null,null,null,null,null,null,null,null,null,null,2035,2035,null,null,null,null,null,null,null,null,null,null,null,2036,2036,null,null,null,null,null,null,null,null,null,null,null,2037,2037,null,null,null,null,null,null,null,null,null,null,null,2038,2038,null,null,null,null,null,null,null,null,null,null,null,2039,2039,null,null,null,null,null,null,null,null,null,null,null,2040,2040]
["Projekta gads",null,{"$f":"IF(C15-$B$5<-1,\" \",IF(C15-$B$5=-1,0,\" \"))","v":" "},{"$f":"IF(D15-$B$5<-1,\" \",IF(D15-$B$5=-1,0,IF(AND(D15>=$B$5,D15<$B$6),C16+1,IF(D15=$B$6,IF($C$6=12,$QD$4,IF($C$6<12,$QD$6,\" \")),\" \"))))","v":" "},{"$f":"D16","v":" "},{"$f":"E16","v":" "}," "," "," "," "," "," "," "," "," "," ",{"$f":"IF(Q15-$B$5<-1,\" \",IF(Q15-$B$5=-1,0,IF(AND(Q15>=$B$5,Q15<$B$6),D16+1,IF(Q15=$B$6,IF($C$6=12,$QD$4,IF($C$6<12,$QD$6,\" \")),\" \"))))","v":" "},{"$f":"Q16","v":" "},{"$f":"R16","v":" "}," "," "," "," "," "," "," "," "," "," ",{"$f":"IF(AD15-$B$5<-1,\" \",IF(AD15-$B$5=-1,0,IF(AND(AD15>=$B$5,AD15<$B$6),Q16+1,IF(AD15=$B$6,IF($C$6=12,$QD$4,IF($C$6<12,$QD$6,\" \")),\" \"))))","v":" "},{"$f":"AD16","v":" "},{"$f":"AE16","v":" "}," "," "," "," "," "," "," "," "," "," ",{"$f":"IF(AQ15-$B$5<-1,\" \",IF(AQ15-$B$5=-1,0,IF(AND(AQ15>=$B$5,AQ15<$B$6),AD16+1,IF(AQ15=$B$6,IF($C$6=12,$QD$4,IF($C$6<12,$QD$6,\" \")),\" \"))))","v":" "},{"$f":"$AQ$16","v":" "},{"$f":"$AQ$16","v":" "}," "," "," "," "," "," "," "," "," "," ",{"$f":"IF(BD15-$B$5<-1,\" \",IF(BD15-$B$5=-1,0,IF(AND(BD15>=$B$5,BD15<$B$6),AQ16+1,IF(BD15=$B$6,IF($C$6=12,$QD$4,IF($C$6<12,$QD$6,\" \")),\" \"))))","v":" "},{"$f":"$BD$16","v":" "},{"$f":"$BD$16","v":" "}," "," "," "," "," "," "," "," "," "," ",{"$f":"IF(BQ15-$B$5<-1,\" \",IF(BQ15-$B$5=-1,0,IF(AND(BQ15>=$B$5,BQ15<$B$6),BD16+1,IF(BQ15=$B$6,IF($C$6=12,$QD$4,IF($C$6<12,$QD$6,\" \")),\" \"))))","v":" "},{"$f":"$BQ$16","v":" "},{"$f":"$BQ$16","v":" "}," "," "," "," "," "," "," "," "," "," ",{"$f":"IF(CD15-$B$5<-1,\" \",IF(CD15-$B$5=-1,0,IF(AND(CD15>=$B$5,CD15<$B$6),BQ16+1,IF(CD15=$B$6,IF($C$6=12,$QD$4,IF($C$6<12,$QD$6,\" \")),\" \"))))","v":" "},{"$f":"$CD$16","v":" "},{"$f":"$CD$16","v":" "}," "," "," "," "," "," "," "," "," "," ",{"$f":"IF(CQ15-$B$5<-1,\" \",IF(CQ15-$B$5=-1,0,IF(AND(CQ15>=$B$5,CQ15<$B$6),CD16+1,IF(CQ15=$B$6,IF($C$6=12,$QD$4,IF($C$6<12,$QD$6,\" \")),\" \"))))","v":" "},{"$f":"$CQ$16","v":" "},{"$f":"$CQ$16","v":" "}," "," "," "," "," "," "," "," "," "," ",{"$f":"IF(DD15-$B$5<-1,\" \",IF(DD15-$B$5=-1,0,IF(AND(DD15>=$B$5,DD15<$B$6),CQ16+1,IF(DD15=$B$6,IF($C$6=12,$QD$4,IF($C$6<12,$QD$6,\" \")),\" \"))))","v":" "},{"$f":"$DD$16","v":" "},{"$f":"$DD$16","v":" "}," "," "," "," "," "," "," "," "," "," ",{"$f":"IF(DQ15-$B$5<-1,\" \",IF(DQ15-$B$5=-1,0,IF(AND(DQ15>=$B$5,DQ15<$B$6),DD16+1,IF(DQ15=$B$6,IF($C$6=12,$QD$4,IF($C$6<12,$QD$6,\" \")),\" \"))))","v":" "},{"$f":"$DQ$16","v":" "},{"$f":"$DQ$16","v":" "}," "," "," "," "," "," "," "," "," "," ",{"$f":"IF(ED15-$B$5<-1,\" \",IF(ED15-$B$5=-1,0,IF(AND(ED15>=$B$5,ED15<$B$6),DQ16+1,IF(ED15=$B$6,IF($C$6=12,$QD$4,IF($C$6<12,$QD$6,\" \")),\" \"))))","v":" "},{"$f":"$ED$16","v":" "},{"$f":"$ED$16","v":" "}," "," "," "," "," "," "," "," "," "," ",{"$f":"IF(EQ15-$B$5<-1,\" \",IF(EQ15-$B$5=-1,0,IF(AND(EQ15>=$B$5,EQ15<$B$6),ED16+1,IF(EQ15=$B$6,IF($C$6=12,$QD$4,IF($C$6<12,$QD$6,\" \")),\" \"))))","v":" "},{"$f":"$EQ$16","v":" "},{"$f":"$EQ$16","v":" "}," "," "," "," "," "," "," "," "," "," ",{"$f":"IF(FD15-$B$5<-1,\" \",IF(FD15-$B$5=-1,0,IF(AND(FD15>=$B$5,FD15<$B$6),EQ16+1,IF(FD15=$B$6,IF($C$6=12,$QD$4,IF($C$6<12,$QD$6,\" \")),\" \"))))","v":" "},{"$f":"$FD$16","v":" "},{"$f":"$FD$16","v":" "}," "," "," "," "," "," "," "," "," "," ",{"$f":"IF(FQ15-$B$5<-1,\" \",IF(FQ15-$B$5=-1,0,IF(AND(FQ15>=$B$5,FQ15<$B$6),FD16+1,IF(FQ15=$B$6,IF($C$6=12,$QD$4,IF($C$6<12,$QD$6,\" \")),\" \"))))","v":" "},{"$f":"$FQ$16","v":" "},{"$f":"$FQ$16","v":" "}," "," "," "," "," "," "," "," "," "," ",{"$f":"IF(GD15-$B$5<-1,\" \",IF(GD15-$B$5=-1,0,IF(AND(GD15>=$B$5,GD15<$B$6),FQ16+1,IF(GD15=$B$6,IF($C$6=12,$QD$4,IF($C$6<12,$QD$6,\" \")),\" \"))))","v":" "},{"$f":"$GD$16","v":" "},{"$f":"$GD$16","v":" "}," "," "," "," "," "," "," "," "," "," ",{"$f":"IF(GQ15-$B$5<-1,\" \",IF(GQ15-$B$5=-1,0,IF(AND(GQ15>=$B$5,GQ15<$B$6),GD16+1,IF(GQ15=$B$6,IF($C$6=12,$QD$4,IF($C$6<12,$QD$6,\" \")),\" \"))))","v":" "},{"$f":"$GQ$16","v":" "},{"$f":"$GQ$16","v":" "}," "," "," "," "," "," "," "," "," "," ",{"$f":"IF(HD15-$B$5<-1,\" \",IF(HD15-$B$5=-1,0,IF(AND(HD15>=$B$5,HD15<$B$6),GQ16+1,IF(HD15=$B$6,IF($C$6=12,$QD$4,IF($C$6<12,$QD$6,\" \")),\" \"))))","v":" "},{"$f":"HD16","v":" "},{"$f":"HE16","v":" "}," "," "," "," "," "," "," "," "," "," ",{"$f":"IF(HQ15-$B$5<-1,\" \",IF(HQ15-$B$5=-1,0,IF(AND(HQ15>=$B$5,HQ15<$B$6),HD16+1,IF(HQ15=$B$6,IF($C$6=12,$QD$4,IF($C$6<12,$QD$6,\" \")),\" \"))))","v":" "},{"$f":"$HQ$16","v":" "},{"$f":"$HQ$16","v":" "}," "," "," "," "," "," "," "," "," "," ",{"$f":"IF(ID15-$B$5<-1,\" \",IF(ID15-$B$5=-1,0,IF(AND(ID15>=$B$5,ID15<$B$6),HQ16+1,IF(ID15=$B$6,IF($C$6=12,$QD$4,IF($C$6<12,$QD$6,\" \")),\" \"))))","v":" "},{"$f":"$ID$16","v":" "},{"$f":"$ID$16","v":" "}," "," "," "," "," "," "," "," "," "," ",{"$f":"IF(IQ15-$B$5<-1,\" \",IF(IQ15-$B$5=-1,0,IF(AND(IQ15>=$B$5,IQ15<$B$6),ID16+1,IF(IQ15=$B$6,IF($C$6=12,$QD$4,IF($C$6<12,$QD$6,\" \")),\" \"))))","v":" "},{"$f":"$IQ$16","v":" "},{"$f":"$IQ$16","v":" "}," "," "," "," "," "," "," "," "," "," ",{"$f":"IF(JD15-$B$5<-1,\" \",IF(JD15-$B$5=-1,0,IF(AND(JD15>=$B$5,JD15<$B$6),IQ16+1,IF(JD15=$B$6,IF($C$6=12,$QD$4,IF($C$6<12,$QD$6,\" \")),\" \"))))","v":" "},{"$f":"$JD$16","v":" "},{"$f":"$JD$16","v":" "}," "," "," "," "," "," "," "," "," "," ",{"$f":"IF(JQ15-$B$5<-1,\" \",IF(JQ15-$B$5=-1,0,IF(AND(JQ15>=$B$5,JQ15<$B$6),JD16+1,IF(JQ15=$B$6,IF($C$6=12,$QD$4,IF($C$6<12,$QD$6,\" \")),\" \"))))","v":" "},{"$f":"JQ16","v":" "},{"$f":"JR16","v":" "}," "," "," "," "," "," "," "," "," "," ",{"$f":"IF(KD15-$B$5<-1,\" \",IF(KD15-$B$5=-1,0,IF(AND(KD15>=$B$5,KD15<$B$6),JQ16+1,IF(KD15=$B$6,IF($C$6=12,$QD$4,IF($C$6<12,$QD$6,\" \")),\" \"))))","v":" "},{"$f":"KD16","v":" "},{"$f":"KE16","v":" "}," "," "," "," "," "," "," "," "," "," ",{"$f":"IF(KQ15-$B$5<-1,\" \",IF(KQ15-$B$5=-1,0,IF(AND(KQ15>=$B$5,KQ15<$B$6),KD16+1,IF(KQ15=$B$6,IF($C$6=12,$QD$4,IF($C$6<12,$QD$6,\" \")),\" \"))))","v":" "},{"$f":"$KQ$16","v":" "},{"$f":"$KQ$16","v":" "}," "," "," "," "," "," "," "," "," "," ",{"$f":"IF(LD15-$B$5<-1,\" \",IF(LD15-$B$5=-1,0,IF(AND(LD15>=$B$5,LD15<$B$6),KQ16+1,IF(LD15=$B$6,IF($C$6=12,$QD$4,IF($C$6<12,$QD$6,\" \")),\" \"))))","v":" "},{"$f":"LD16","v":" "},{"$f":"LE16","v":" "}," "," "," "," "," "," "," "," "," "," ",{"$f":"IF(LQ15-$B$5<-1,\" \",IF(LQ15-$B$5=-1,0,IF(AND(LQ15>=$B$5,LQ15<$B$6),LD16+1,IF(LQ15=$B$6,IF($C$6=12,$QD$4,IF($C$6<12,$QD$6,\" \")),\" \"))))","v":" "},{"$f":"LQ16","v":" "},{"$f":"LR16","v":" "}," "," "," "," "," "," "," "," "," "," ",{"$f":"IF(MD15-$B$5<-1,\" \",IF(MD15-$B$5=-1,0,IF(AND(MD15>=$B$5,MD15<$B$6),LQ16+1,IF(MD15=$B$6,IF($C$6=12,$QD$4,IF($C$6<12,$QD$6,\" \")),\" \"))))","v":" "},{"$f":"MD16","v":" "},{"$f":"ME16","v":" "}," "," "," "," "," "," "," "," "," "," ",{"$f":"IF(MQ15-$B$5<-1,\" \",IF(MQ15-$B$5=-1,0,IF(AND(MQ15>=$B$5,MQ15<$B$6),MD16+1,IF(MQ15=$B$6,IF($C$6=12,$QD$4,IF($C$6<12,$QD$6,\" \")),\" \"))))","v":" "},{"$f":"MQ16","v":" "},{"$f":"MR16","v":" "}," "," "," "," "," "," "," "," "," "," ",{"$f":"IF(ND15-$B$5<-1,\" \",IF(ND15-$B$5=-1,0,IF(AND(ND15>=$B$5,ND15<$B$6),MQ16+1,IF(ND15=$B$6,IF($C$6=12,$QD$4,IF($C$6<12,$QD$6,\" \")),\" \"))))","v":" "},{"$f":"ND16","v":" "},{"$f":"NE16","v":" "}," "," "," "," "," "," "," "," "," "," ",{"$f":"IF(NQ15-$B$5<-1,\" \",IF(NQ15-$B$5=-1,0,IF(AND(NQ15>=$B$5,NQ15<$B$6),ND16+1,IF(NQ15=$B$6,IF($C$6=12,20,IF($C$6<20,21,\" \")),\" \"))))","v":" "},null,null,null,null,null,null,null,null,null,null,null,null,{"$f":"IF(OD15-$B$5<-1,\" \",IF(OD15-$B$5=-1,0,IF(AND(OD15>=$B$5,OD15<$B$6),NQ16+1,IF(OD15=$B$6,IF($C$6=12,20,IF($C$6<20,21,\" \")),\" \"))))","v":" "},null,null,null,null,null,null,null,null,null,null,null,null,{"$f":"IF(OQ15-$B$5<-1,\" \",IF(OQ15-$B$5=-1,0,IF(AND(OQ15>=$B$5,OQ15<$B$6),OD16+1,IF(OQ15=$B$6,IF($C$6=12,20,IF($C$6<20,21,\" \")),\" \"))))","v":" "},null,null,null,null,null,null,null,null,null,null,null,null,{"$f":"IF(PD15-$B$5<-1,\" \",IF(PD15-$B$5=-1,0,IF(AND(PD15>=$B$5,PD15<$B$6),OQ16+1,IF(PD15=$B$6,IF($C$6=12,20,IF($C$6<20,21,\" \")),\" \"))))","v":" "},null,null,null,null,null,null,null,null,null,null,null,null,{"$f":"IF(PQ15-$B$5<-1,\" \",IF(PQ15-$B$5=-1,0,IF(AND(PQ15>=$B$5,PQ15<$B$6),PD16+1,IF(PQ15=$B$6,IF($C$6=12,20,IF($C$6<20,21,\" \")),\" \"))))","v":" "}]
["Mēnesis",null,{"$f":"IF(C16=1,0,\" \")","v":" "},{"$f":"IF(Q16=1,0,\" \")","v":" "},1,2,3,4,5,6,7,8,9,10,11,12,null,1,2,3,4,5,6,7,8,9,10,11,12,null,1,2,3,4,5,6,7,8,9,10,11,12,null,1,2,3,4,5,6,7,8,9,10,11,12,null,1,2,3,4,5,6,7,8,9,10,11,12,null,1,2,3,4,5,6,7,8,9,10,11,12,null,1,2,3,4,5,6,7,8,9,10,11,12,null,1,2,3,4,5,6,7,8,9,10,11,12,null,1,2,3,4,5,6,7,8,9,10,11,12,null,1,2,3,4,5,6,7,8,9,10,11,12,null,1,2,3,4,5,6,7,8,9,10,11,12,null,1,2,3,4,5,6,7,8,9,10,11,12,null,1,2,3,4,5,6,7,8,9,10,11,12,null,1,2,3,4,5,6,7,8,9,10,11,12,null,1,2,3,4,5,6,7,8,9,10,11,12,null,1,2,3,4,5,6,7,8,9,10,11,12,null,1,2,3,4,5,6,7,8,9,10,11,12,null,1,2,3,4,5,6,7,8,9,10,11,12,null,1,2,3,4,5,6,7,8,9,10,11,12,null,1,2,3,4,5,6,7,8,9,10,11,12,null,1,2,3,4,5,6,7,8,9,10,11,12,null,1,2,3,4,5,6,7,8,9,10,11,12,null,1,2,3,4,5,6,7,8,9,10,11,12,null,1,2,3,4,5,6,7,8,9,10,11,12,null,1,2,3,4,5,6,7,8,9,10,11,12,null,1,2,3,4,5,6,7,8,9,10,11,12,null,1,2,3,4,5,6,7,8,9,10,11,12,null,1,2,3,4,5,6,7,8,9,10,11,12,null,1,2,3,4,5,6,7,8,9,10,11,12,null,1,2,3,4,5,6,7,8,9,10,11,12,null,1,2,3,4,5,6,7,8,9,10,11,12,null,1,2,3,4,5,6,7,8,9,10,11,12,null,1,2,3,4,5,6,7,8,9,10,11,12,null,1,2,3,4,5,6,7,8,9,10,11,12]
[null,null,null,null,{"$f":"$D$15&E17","v":"20071"},{"$f":"$D$15&F17","v":"20072"},"20073","20074","20075","20076","20077","20078","20079","200710","200711","200712",null,{"$f":"$Q$15&R17","v":"20081"},{"$f":"$Q$15&S17","v":"20082"},"20083","20084","20085","20086","20087","20088","20089","200810","200811","200812",null,{"$f":"$AD$15&AE17","v":"20091"},{"$f":"$AD$15&AF17","v":"20092"},"20093","20094","20095","20096","20097","20098","20099","200910","200911","200912",null,{"$f":"$AQ$15&AR17","v":"20101"},{"$f":"$AQ$15&AS17","v":"20102"},"20103","20104","20105","20106","20107","20108","20109","201010","201011","201012",null,{"$f":"$BD$15&BE17","v":"20111"},{"$f":"$BD$15&BF17","v":"20112"},"20113","20114","20115","20116","20117","20118","20119","201110","201111","201112",null,{"$f":"$BQ$15&BR17","v":"20121"},{"$f":"$BQ$15&BS17","v":"20122"},"20123","20124","20125","20126","20127","20128","20129","201210","201211","201212",null,{"$f":"$CD$15&CE17","v":"20131"},{"$f":"$CD$15&CF17","v":"20132"},"20133","20134","20135","20136","20137","20138","20139","201310","201311","201312",null,{"$f":"$CQ$15&CR17","v":"20141"},{"$f":"$CQ$15&CS17","v":"20142"},"20143","20144","20145","20146","20147","20148","20149","201410","201411","201412",null,{"$f":"$DD$15&DE17","v":"20151"},{"$f":"$DD$15&DF17","v":"20152"},"20153","20154","20155","20156","20157","20158","20159","201510","201511","201512",null,{"$f":"$DQ$15&DR17","v":"20161"},{"$f":"$DQ$15&DS17","v":"20162"},"20163","20164","20165","20166","20167","20168","20169","201610","201611","201612",null,{"$f":"$ED$15&EE17","v":"20171"},{"$f":"$ED$15&EF17","v":"20172"},"20173","20174","20175","20176","20177","20178","20179","201710","201711","201712",null,{"$f":"$EQ$15&ER17","v":"20181"},{"$f":"$EQ$15&ES17","v":"20182"},"20183","20184","20185","20186","20187","20188","20189","201810","201811","201812",null,{"$f":"$FD$15&FE17","v":"20191"},{"$f":"$FD$15&FF17","v":"20192"},"20193","20194","20195","20196","20197","20198","20199","201910","201911","201912",null,{"$f":"$FQ$15&FR17","v":"20201"},{"$f":"$FQ$15&FS17","v":"20202"},"20203","20204","20205","20206","20207","20208","20209","202010","202011","202012",null,{"$f":"$GD$15&GE17","v":"20211"},{"$f":"$GD$15&GF17","v":"20212"},"20213","20214","20215","20216","20217","20218","20219","202110","202111","202112",null,{"$f":"$GQ$15&GR17","v":"20221"},{"$f":"$GQ$15&GS17","v":"20222"},"20223","20224","20225","20226","20227","20228","20229","202210","202211","202212",null,{"$f":"$HD$15&HE17","v":"20231"},{"$f":"$HD$15&HF17","v":"20232"},"20233","20234","20235","20236","20237","20238","20239","202310","202311","202312",null,{"$f":"$HQ$15&HR17","v":"20241"},{"$f":"$HQ$15&HS17","v":"20242"},"20243","20244","20245","20246","20247","20248","20249","202410","202411","202412",null,{"$f":"$ID$15&IE17","v":"20251"},{"$f":"$ID$15&IF17","v":"20252"},"20253","20254","20255","20256","20257","20258","20259","202510","202511","202512",null,{"$f":"$IQ$15&IR17","v":"20261"},{"$f":"$IQ$15&IS17","v":"20262"},"20263","20264","20265","20266","20267","20268","20269","202610","202611","202612",null,{"$f":"$JD$15&JE17","v":"20271"},{"$f":"$JD$15&JF17","v":"20272"},"20273","20274","20275","20276","20277","20278","20279","202710","202711","202712",null,{"$f":"$JQ$15&JR17","v":"20281"},{"$f":"$JQ$15&JS17","v":"20282"},"20283","20284","20285","20286","20287","20288","20289","202810","202811","202812",null,{"$f":"$KD$15&KE17","v":"20291"},{"$f":"$KD$15&KF17","v":"20292"},"20293","20294","20295","20296","20297","20298","20299","202910","202911","202912",null,{"$f":"$KQ$15&KR17","v":"20301"},{"$f":"$KQ$15&KS17","v":"20302"},"20303","20304","20305","20306","20307","20308","20309","203010","203011","203012",null,{"$f":"$LD$15&LE17","v":"20311"},{"$f":"$LD$15&LF17","v":"20312"},"20313","20314","20315","20316","20317","20318","20319","203110","203111","203112",null,{"$f":"$LQ$15&LR17","v":"20321"},{"$f":"$LQ$15&LS17","v":"20322"},"20323","20324","20325","20326","20327","20328","20329","203210","203211","203212",null,{"$f":"$MD$15&ME17","v":"20331"},{"$f":"$MD$15&MF17","v":"20332"},"20333","20334","20335","20336","20337","20338","20339","203310","203311","203312",null,{"$f":"$MQ$15&MR17","v":"20341"},{"$f":"$MQ$15&MS17","v":"20342"},"20343","20344","20345","20346","20347","20348","20349","203410","203411","203412",null,{"$f":"$ND$15&NE17","v":"20351"},{"$f":"$ND$15&NF17","v":"20352"},"20353","20354","20355","20356","20357","20358","20359","203510","203511","203512",null,{"$f":"$NQ$15&NR17","v":"20361"},{"$f":"$NQ$15&NS17","v":"20362"},"20363","20364","20365","20366","20367","20368","20369","203610","203611","203612",null,{"$f":"$OD$15&OE17","v":"20371"},{"$f":"$OD$15&OF17","v":"20372"},"20373","20374","20375","20376","20377","20378","20379","203710","203711","203712",null,{"$f":"$OQ$15&OR17","v":"20381"},{"$f":"$OQ$15&OS17","v":"20382"},"20383","20384","20385","20386","20387","20388","20389","203810","203811","203812",null,{"$f":"$PD$15&PE17","v":"20391"},{"$f":"$PD$15&PF17","v":"20392"},"20393","20394","20395","20396","20397","20398","20399","203910","203911","203912",null,{"$f":"$PQ$15&PR17","v":"20401"},{"$f":"$PQ$15&PS17","v":"20402"},"20403","20404","20405","20406","20407","20408","20409","204010","204011","204012"]
["Ieņēmumi kopā",null,null,{"$f":"IF(D22=\" \",\" \",SUM(E19:P19))","v":" "},{"$f":"IF(E22=\" \",\" \",(E20+E23)*(1-E24))","v":" "},{"$f":"IF(F22=\" \",\" \",(F20+F23)*(1-F24))","v":" "}," "," "," "," "," "," "," "," "," "," ",{"$f":"IF(Q22=\" \",\" \",SUM(R19:AC19))","v":" "},{"$f":"IF(R22=\" \",\" \",(R20+R23)*(1-R24))","v":" "}," "," "," "," "," "," "," "," "," "," "," ",{"$f":"IF(AD22=\" \",\" \",SUM(AE19:AP19))","v":" "},{"$f":"IF(AE22=\" \",\" \",(AE20+AE23)*(1-AE24))","v":" "}," "," "," "," "," "," "," "," "," "," "," ",{"$f":"IF(AQ22=\" \",\" \",SUM(AR19:BC19))","v":" "},{"$f":"IF(AR22=\" \",\" \",(AR20+AR23)*(1-AR24))","v":" "}," "," "," "," "," "," "," "," "," "," "," ",{"$f":"IF(BD22=\" \",\" \",SUM(BE19:BP19))","v":" "},{"$f":"IF(BE22=\" \",\" \",(BE20+BE23)*(1-BE24))","v":" "}," "," "," "," "," "," "," "," "," "," "," ",{"$f":"IF(BQ22=\" \",\" \",SUM(BR19:CC19))","v":" "},{"$f":"IF(BR22=\" \",\" \",(BR20+BR23)*(1-BR24))","v":" "}," "," "," "," "," "," "," "," "," "," "," ",{"$f":"IF(CD22=\" \",\" \",(CD20*(1-CD24)))","v":" "},{"$f":"IF(CE22=\" \",\" \",(CE20+CE23)*(1-CE24))","v":" "}," "," "," "," "," "," "," "," "," "," "," ",{"$f":"IF(CQ22=\" \",\" \",SUM(CR19:DC19))","v":" "},{"$f":"IF(CR22=\" \",\" \",(CR20+CR23)*(1-CR24))","v":" "}," "," "," "," "," "," "," "," "," "," "," ",{"$f":"IF(DD22=\" \",\" \",SUM(DE19:DP19))","v":" "},{"$f":"IF(DE22=\" \",\" \",(DE20+DE23)*(1-DE24))","v":" "}," "," "," "," "," "," "," "," "," "," "," ",{"$f":"IF(DQ22=\" \",\" \",SUM(DR19:EC19))","v":" "},{"$f":"IF(DR22=\" \",\" \",(DR20+DR23)*(1-DR24))","v":" "}," "," "," "," "," "," "," "," "," "," "," ",{"$f":"IF(ED22=\" \",\" \",SUM(EE19:EP19))","v":" "},{"$f":"IF(EE22=\" \",\" \",(EE20+EE23)*(1-EE24))","v":" "}," "," "," "," "," "," "," "," "," "," "," ",{"$f":"IF(EQ22=\" \",\" \",SUM(ER19:FC19))","v":" "},{"$f":"IF(ER22=\" \",\" \",(ER20+ER23)*(1-ER24))","v":" "}," "," "," "," "," "," "," "," "," "," "," ",{"$f":"IF(FD22=\" \",\" \",SUM(FE19:FP19))","v":" "},{"$f":"IF(FE22=\" \",\" \",(FE20+FE23)*(1-FE24))","v":" "}," "," "," "," "," "," "," "," "," "," "," ",{"$f":"IF(FQ22=\" \",\" \",SUM(FR19:GC19))","v":" "},{"$f":"IF(FR22=\" \",\" \",(FR20+FR23)*(1-FR24))","v":" "}," "," "," "," "," "," "," "," "," "," "," ",{"$f":"IF(GD22=\" \",\" \",SUM(GE19:GP19))","v":" "},{"$f":"IF(GE22=\" \",\" \",(GE20+GE23)*(1-GE24))","v":" "}," "," "," "," "," "," "," "," "," "," "," ",{"$f":"IF(GQ22=\" \",\" \",SUM(GR19:HC19))","v":" "},{"$f":"IF(GR22=\" \",\" \",(GR20+GR23)*(1-GR24))","v":" "}," "," "," "," "," "," "," "," "," "," "," ",{"$f":"IF(HD22=\" \",\" \",SUM(HE19:HP19))","v":" "},{"$f":"IF(HE22=\" \",\" \",(HE20+HE23)*(1-HE24))","v":" "}," "," "," "," "," "," "," "," "," "," "," ",{"$f":"IF(HQ22=\" \",\" \",SUM(HR19:IC19))","v":" "},{"$f":"IF(HR22=\" \",\" \",(HR20+HR23)*(1-HR24))","v":" "}," "," "," "," "," "," "," "," "," "," "," ",{"$f":"IF(ID22=\" \",\" \",SUM(IE19:IP19))","v":" "},{"$f":"IF(IE22=\" \",\" \",(IE20+IE23)*(1-IE24))","v":" "}," "," "," "," "," "," "," "," "," "," "," ",{"$f":"IF(IQ22=\" \",\" \",SUM(IR19:JC19))","v":" "},{"$f":"IF(IR22=\" \",\" \",(IR20+IR23)*(1-IR24))","v":" "}," "," "," "," "," "," "," "," "," "," "," ",{"$f":"IF(JD22=\" \",\" \",SUM(JE19:JP19))","v":" "},{"$f":"IF(JE22=\" \",\" \",(JE20+JE23)*(1-JE24))","v":" "}," "," "," "," "," "," "," "," "," "," "," ",{"$f":"IF(JQ22=\" \",\" \",(JQ20*(1-JQ24)))","v":" "},{"$f":"IF(JR22=\" \",\" \",(JR20+JR23)*(1-JR24))","v":" "}," "," "," "," "," "," "," "," "," "," "," ",{"$f":"IF(KD22=\" \",\" \",(KD20*(1-KD24)))","v":" "},{"$f":"IF(KE22=\" \",\" \",(KE20+KE23)*(1-KE24))","v":" "}," "," "," "," "," "," "," "," "," "," "," ",{"$f":"IF(KQ22=\" \",\" \",(KQ20*(1-KQ24)))","v":" "},{"$f":"IF(KR22=\" \",\" \",(KR20+KR23)*(1-KR24))","v":" "}," "," "," "," "," "," "," "," "," "," "," ",{"$f":"IF(LD22=\" \",\" \",(LD20*(1-LD24)))","v":" "},{"$f":"IF(LE22=\" \",\" \",(LE20+LE23)*(1-LE24))","v":" "}," "," "," "," "," "," "," "," "," "," "," ",{"$f":"IF(LQ22=\" \",\" \",(LQ20*(1-LQ24)))","v":" "},{"$f":"IF(LR22=\" \",\" \",(LR20+LR23)*(1-LR24))","v":" "}," "," "," "," "," "," "," "," "," "," "," ",{"$f":"IF(MD22=\" \",\" \",(MD20*(1-MD24)))","v":" "},{"$f":"IF(ME22=\" \",\" \",(ME20+ME23)*(1-ME24))","v":" "}," "," "," "," "," "," "," "," "," "," "," ",{"$f":"IF(MQ22=\" \",\" \",(MQ20*(1-MQ24)))","v":" "},{"$f":"IF(MR22=\" \",\" \",(MR20+MR23)*(1-MR24))","v":" "}," "," "," "," "," "," "," "," "," "," "," ",{"$f":"IF(ND22=\" \",\" \",(ND20*(1-ND24)))","v":" "},{"$f":"IF(NE22=\" \",\" \",(NE20+NE23)*(1-NE24))","v":" "}," "," "," "," "," "," "," "," "," "," "," ",{"$f":"IF(NQ22=\" \",\" \",(NQ20*(1-NQ24)))","v":" "},{"$f":"IF(NR22=\" \",\" \",(NR20+NR23)*(1-NR24))","v":" "}," "," "," "," "," "," "," "," "," "," "," ",{"$f":"IF(OD22=\" \",\" \",(OD20*(1-OD24)))","v":" "},{"$f":"IF(OE22=\" \",\" \",(OE20+OE23)*(1-OE24))","v":" "}," "," "," "," "," "," "," "," "," "," "," ",{"$f":"IF(OQ22=\" \",\" \",(OQ20*(1-OQ24)))","v":" "},{"$f":"IF(OR22=\" \",\" \",(OR20+OR23)*(1-OR24))","v":" "}," "," "," "," "," "," "," "," "," "," "," ",{"$f":"IF(PD22=\" \",\" \",(PD20*(1-PD24)))","v":" "},{"$f":"IF(PE22=\" \",\" \",(PE20+PE23)*(1-PE24))","v":" "}," "," "," "," "," "," "," "," "," "," "," ",{"$f":"IF(PQ22=\" \",\" \",(PQ20*(1-PQ24)))","v":" "},{"$f":"IF(PR22=\" \",\" \",(PR20+PR23)*(1-PR24))","v":" "}," "," "," "," "," "," "," "," "," "," "," "]
["Ieņēmumi no elektroenerģijas pārdošanas OI ietvaros","EUR"," ",{"$f":"IF(OR(D$16=\" \",D$16=0),\" \",SUM(E20:P20))","v":" "},{"$f":"IF(OR(E22=\" \",E22=0),\" \",E21*ROUND(E22,2))","v":" "},{"$f":"IF(OR(F22=\" \",F22=0),\" \",F21*ROUND(F22,2))","v":" "}," "," "," "," "," "," "," "," "," "," ",{"$f":"IF(OR(Q$16=\" \",Q$16=0),\" \",SUM(R20:AC20))","v":" "},{"$f":"IF(OR(R22=\" \",R22=0),\" \",R21*ROUND(R22,2))","v":" "}," "," "," "," "," "," "," "," "," "," "," ",{"$f":"IF(OR(AD$16=\" \",AD$16=0),\" \",SUM(AE20:AP20))","v":" "},{"$f":"IF(OR(AE22=\" \",AE22=0),\" \",AE21*ROUND(AE22,2))","v":" "}," "," "," "," "," "," "," "," "," "," "," ",{"$f":"IF(OR(AQ$16=\" \",AQ$16=0),\" \",SUM(AR20:BC20))","v":" "},{"$f":"IF(OR(AR22=\" \",AR22=0),\" \",AR21*ROUND(AR22,2))","v":" "}," "," "," "," "," "," "," "," "," "," "," ",{"$f":"IF(OR(BD$16=\" \",BD$16=0),\" \",SUM(BE20:BP20))","v":" "},{"$f":"IF(OR(BE22=\" \",BE22=0),\" \",BE21*ROUND(BE22,2))","v":" "}," "," "," "," "," "," "," "," "," "," "," ",{"$f":"IF(OR(BQ$16=\" \",BQ$16=0),\" \",SUM(BR20:CC20))","v":" "},{"$f":"IF(OR(BR22=\" \",BR22=0),\" \",BR21*ROUND(BR22,2))","v":" "}," "," "," "," "," "," "," "," "," "," "," ",{"$f":"IF(OR(CD$16=\" \",CD$16=0),\" \",SUM(CE20:CP20))","v":" "},{"$f":"IF(OR(CE22=\" \",CE22=0),\" \",CE21*ROUND(CE22,2))","v":" "}," "," "," "," "," "," "," "," "," "," "," ",{"$f":"IF(OR(CQ$16=\" \",CQ$16=0),\" \",SUM(CR20:DC20))","v":" "},{"$f":"IF(OR(CR22=\" \",CR22=0),\" \",CR21*ROUND(CR22,2))","v":" "}," "," "," "," "," "," "," "," "," "," "," ",{"$f":"IF(OR(DD$16=\" \",DD$16=0),\" \",SUM(DE20:DP20))","v":" "},{"$f":"IF(OR(DE22=\" \",DE22=0),\" \",DE21*ROUND(DE22,2))","v":" "}," "," "," "," "," "," "," "," "," "," "," ",{"$f":"IF(OR(DQ$16=\" \",DQ$16=0),\" \",SUM(DR20:EC20))","v":" "},{"$f":"IF(OR(DR22=\" \",DR22=0),\" \",DR21*ROUND(DR22,2))","v":" "}," "," "," "," "," "," "," "," "," "," "," ",{"$f":"IF(OR(ED$16=\" \",ED$16=0),\" \",SUM(EE20:EP20))","v":" "},{"$f":"IF(OR(EE22=\" \",EE22=0),\" \",EE21*ROUND(EE22,2))","v":" "}," "," "," "," "," "," "," "," "," "," "," ",{"$f":"IF(OR(EQ$16=\" \",EQ$16=0),\" \",SUM(ER20:FC20))","v":" "},{"$f":"IF(OR(ER22=\" \",ER22=0),\" \",ER21*ROUND(ER22,2))","v":" "}," "," "," "," "," "," "," "," "," "," "," ",{"$f":"IF(OR(FD$16=\" \",FD$16=0),\" \",SUM(FE20:FP20))","v":" "},{"$f":"IF(OR(FE22=\" \",FE22=0),\" \",FE21*ROUND(FE22,2))","v":" "}," "," "," "," "," "," "," "," "," "," "," ",{"$f":"IF(OR(FQ$16=\" \",FQ$16=0),\" \",SUM(FR20:GC20))","v":" "},{"$f":"IF(OR(FR22=\" \",FR22=0),\" \",FR21*ROUND(FR22,2))","v":" "}," "," "," "," "," "," "," "," "," "," "," ",{"$f":"IF(OR(GD$16=\" \",GD$16=0),\" \",SUM(GE20:GP20))","v":" "},{"$f":"IF(OR(GE22=\" \",GE22=0),\" \",GE21*ROUND(GE22,2))","v":" "}," "," "," "," "," "," "," "," "," "," "," ",{"$f":"IF(OR(GQ$16=\" \",GQ$16=0),\" \",SUM(GR20:HC20))","v":" "},{"$f":"IF(OR(GR22=\" \",GR22=0),\" \",GR21*ROUND(GR22,2))","v":" "}," "," "," "," "," "," "," "," "," "," "," ",{"$f":"IF(OR(HD$16=\" \",HD$16=0),\" \",SUM(HE20:HP20))","v":" "},{"$f":"IF(OR(HE22=\" \",HE22=0),\" \",HE21*ROUND(HE22,2))","v":" "}," "," "," "," "," "," "," "," "," "," "," ",{"$f":"IF(OR(HQ$16=\" \",HQ$16=0),\" \",SUM(HR20:IC20))","v":" "},{"$f":"IF(OR(HR22=\" \",HR22=0),\" \",HR21*ROUND(HR22,2))","v":" "}," "," "," "," "," "," "," "," "," "," "," ",{"$f":"IF(OR(ID$16=\" \",ID$16=0),\" \",SUM(IE20:IP20))","v":" "},{"$f":"IF(OR(IE22=\" \",IE22=0),\" \",IE21*ROUND(IE22,2))","v":" "}," "," "," "," "," "," "," "," "," "," "," ",{"$f":"IF(OR(IQ$16=\" \",IQ$16=0),\" \",SUM(IR20:JC20))","v":" "},{"$f":"IF(OR(IR22=\" \",IR22=0),\" \",IR21*ROUND(IR22,2))","v":" "}," "," "," "," "," "," "," "," "," "," "," ",{"$f":"IF(OR(JD$16=\" \",JD$16=0),\" \",SUM(JE20:JP20))","v":" "},{"$f":"IF(OR(JE22=\" \",JE22=0),\" \",JE21*ROUND(JE22,2))","v":" "}," "," "," "," "," "," "," "," "," "," "," ",{"$f":"IF(OR(JQ$16=\" \",JQ$16=0),\" \",SUM(JR20:KC20))","v":" "},{"$f":"IF(OR(JR22=\" \",JR22=0),\" \",JR21*ROUND(JR22,2))","v":" "}," "," "," "," "," "," "," "," "," "," "," ",{"$f":"IF(OR(KD$16=\" \",KD$16=0),\" \",SUM(KE20:KP20))","v":" "},{"$f":"IF(OR(KE22=\" \",KE22=0),\" \",KE21*ROUND(KE22,2))","v":" "}," "," "," "," "," "," "," "," "," "," "," ",{"$f":"IF(OR(KQ$16=\" \",KQ$16=0),\" \",SUM(KR20:LC20))","v":" "},{"$f":"IF(OR(KR22=\" \",KR22=0),\" \",KR21*ROUND(KR22,2))","v":" "}," "," "," "," "," "," "," "," "," "," "," ",{"$f":"IF(OR(LD$16=\" \",LD$16=0),\" \",SUM(LE20:LP20))","v":" "},{"$f":"IF(OR(LE22=\" \",LE22=0),\" \",LE21*ROUND(LE22,2))","v":" "}," "," "," "," "," "," "," "," "," "," "," ",{"$f":"IF(OR(LQ$16=\" \",LQ$16=0),\" \",SUM(LR20:MC20))","v":" "},{"$f":"IF(OR(LR22=\" \",LR22=0),\" \",LR21*ROUND(LR22,2))","v":" "}," "," "," "," "," "," "," "," "," "," "," ",{"$f":"IF(OR(MD$16=\" \",MD$16=0),\" \",SUM(ME20:MP20))","v":" "},{"$f":"IF(OR(ME22=\" \",ME22=0),\" \",ME21*ROUND(ME22,2))","v":" "}," "," "," "," "," "," "," "," "," "," "," ",{"$f":"IF(OR(MQ$16=\" \",MQ$16=0),\" \",SUM(MR20:NC20))","v":" "},{"$f":"IF(OR(MR22=\" \",MR22=0),\" \",MR21*ROUND(MR22,2))","v":" "}," "," "," "," "," "," "," "," "," "," "," ",{"$f":"IF(OR(ND$16=\" \",ND$16=0),\" \",SUM(NE20:NP20))","v":" "},{"$f":"IF(OR(NE22=\" \",NE22=0),\" \",NE21*ROUND(NE22,2))","v":" "}," "," "," "," "," "," "," "," "," "," "," ",{"$f":"IF(OR(NQ$16=\" \",NQ$16=0),\" \",SUM(NR20:OC20))","v":" "},{"$f":"IF(OR(NR22=\" \",NR22=0),\" \",NR21*ROUND(NR22,2))","v":" "}," "," "," "," "," "," "," "," "," "," "," ",{"$f":"IF(OR(OD$16=\" \",OD$16=0),\" \",SUM(OE20:OP20))","v":" "},{"$f":"IF(OR(OE22=\" \",OE22=0),\" \",OE21*ROUND(OE22,2))","v":" "}," "," "," "," "," "," "," "," "," "," "," ",{"$f":"IF(OR(OQ$16=\" \",OQ$16=0),\" \",SUM(OR20:PC20))","v":" "},{"$f":"IF(OR(OR22=\" \",OR22=0),\" \",OR21*ROUND(OR22,2))","v":" "}," "," "," "," "," "," "," "," "," "," "," ",{"$f":"IF(OR(PD$16=\" \",PD$16=0),\" \",SUM(PE20:PP20))","v":" "},{"$f":"IF(OR(PE22=\" \",PE22=0),\" \",PE21*ROUND(PE22,2))","v":" "}," "," "," "," "," "," "," "," "," "," "," ",{"$f":"IF(OR(PQ$16=\" \",PQ$16=0),\" \",SUM(PR20:QC20))","v":" "},{"$f":"IF(OR(PR22=\" \",PR22=0),\" \",PR21*ROUND(PR22,2))","v":" "}," "," "," "," "," "," "," "," "," "," "," "]
["Pārdotais elektroenerģijas apjoms","MWh"," ",{"$f":"IF(OR(D$16=\" \",D$16=0),\" \",SUM(E21:P21))","v":" "},{"$f":"IF(OR(E22=\" \",E22=0),\" \",$BD$6*$C$7/12)","v":" "},{"$f":"IF(OR(F22=\" \",F22=0),\" \",$BD$6*$C$7/12)","v":" "}," "," "," "," "," "," "," "," "," "," ",{"$f":"IF(OR(Q$16=\" \",Q$16=0),\" \",SUM(R21:AC21))","v":" "}," "," "," "," "," "," "," "," "," "," "," "," ",{"$f":"IF(OR(AD$16=\" \",AD$16=0),\" \",SUM(AE21:AP21))","v":" "},{"$f":"IF(OR(AE22=\" \",AE22=0),\" \",$BD$6*$C$7/12)","v":" "}," "," "," "," "," "," "," "," "," "," "," ",{"$f":"IF(OR(AQ$16=\" \",AQ$16=0),\" \",SUM(AR21:BC21))","v":" "},{"$f":"IF(OR(AR22=\" \",AR22=0),\" \",$BD$6*$C$7/12)","v":" "}," "," "," "," "," "," "," "," "," "," "," ",{"$f":"IF(OR(BD$16=\" \",BD$16=0),\" \",SUM(BE21:BP21))","v":" "},{"$f":"IF(OR(BE22=\" \",BE22=0),\" \",$BD$6*$C$7/12)","v":" "}," "," "," "," "," "," "," "," "," "," "," ",{"$f":"IF(OR(BQ$16=\" \",BQ$16=0),\" \",SUM(BR21:CC21))","v":" "},{"$f":"IF(OR(BR22=\" \",BR22=0),\" \",$BD$6*$C$7/12)","v":" "}," "," "," "," "," "," "," "," "," "," "," ",{"$f":"IF(OR(CD$16=\" \",CD$16=0),\" \",SUM(CE21:CP21))","v":" "},{"$f":"IF(OR(CE22=\" \",CE22=0),\" \",$BD$6*$C$7/12)","v":" "}," "," "," "," "," "," "," "," "," "," "," ",{"$f":"IF(OR(CQ$16=\" \",CQ$16=0),\" \",SUM(CR21:DC21))","v":" "},{"$f":"IF(OR(CR22=\" \",CR22=0),\" \",$BD$6*$C$7/12)","v":" "}," "," "," "," "," "," "," "," "," "," "," ",{"$f":"IF(OR(DD$16=\" \",DD$16=0),\" \",SUM(DE21:DP21))","v":" "},{"$f":"IF(OR(DE22=\" \",DE22=0),\" \",$BD$6*$C$7/12)","v":" "},{"$f":"IF(OR(DF22=\" \",DF22=0),\" \",$BD$6*$C$7/12)","v":" "}," "," "," "," "," "," "," "," "," "," ",{"$f":"IF(OR(DQ$16=\" \",DQ$16=0),\" \",SUM(DR21:EC21))","v":" "},{"$f":"IF(OR(DR22=\" \",DR22=0),\" \",$BD$6*$C$7/12)","v":" "},{"$f":"IF(OR(DS22=\" \",DS22=0),\" \",$BD$6*$C$7/12)","v":" "}," "," "," "," "," "," "," "," "," "," ",{"$f":"IF(OR(ED$16=\" \",ED$16=0),\" \",SUM(EE21:EP21))","v":" "},{"$f":"IF(OR(EE22=\" \",EE22=0),\" \",$BD$6*$C$7/12)","v":" "},{"$f":"IF(OR(EF22=\" \",EF22=0),\" \",$BD$6*$C$7/12)","v":" "}," "," "," "," "," "," "," "," "," "," ",{"$f":"IF(OR(EQ$16=\" \",EQ$16=0),\" \",SUM(ER21:FC21))","v":" "},{"$f":"IF(OR(ER22=\" \",ER22=0),\" \",$BD$6*$C$7/12)","v":" "},{"$f":"IF(OR(ES22=\" \",ES22=0),\" \",$BD$6*$C$7/12)","v":" "}," "," "," "," "," "," "," "," "," "," ",{"$f":"IF(OR(FD$16=\" \",FD$16=0),\" \",SUM(FE21:FP21))","v":" "},{"$f":"IF(OR(FE22=\" \",FE22=0),\" \",$BD$6*$C$7/12)","v":" "},{"$f":"IF(OR(FF22=\" \",FF22=0),\" \",$BD$6*$C$7/12)","v":" "}," "," "," "," "," "," "," "," "," "," ",{"$f":"IF(OR(FQ$16=\" \",FQ$16=0),\" \",SUM(FR21:GC21))","v":" "},{"$f":"IF(OR(FR22=\" \",FR22=0),\" \",$BD$6*$C$7/12)","v":" "},{"$f":"IF(OR(FS22=\" \",FS22=0),\" \",$BD$6*$C$7/12)","v":" "}," "," "," "," "," "," "," "," "," "," ",{"$f":"IF(OR(GD$16=\" \",GD$16=0),\" \",SUM(GE21:GP21))","v":" "},{"$f":"IF(OR(GE22=\" \",GE22=0),\" \",$BD$6*$C$7/12)","v":" "},{"$f":"IF(OR(GF22=\" \",GF22=0),\" \",$BD$6*$C$7/12)","v":" "}," "," "," "," "," "," "," "," "," "," ",{"$f":"IF(OR(GQ$16=\" \",GQ$16=0),\" \",SUM(GR21:HC21))","v":" "},{"$f":"IF(OR(GR22=\" \",GR22=0),\" \",$BD$6*$C$7/12)","v":" "},{"$f":"IF(OR(GS22=\" \",GS22=0),\" \",$BD$6*$C$7/12)","v":" "}," "," "," "," "," "," "," "," "," "," ",{"$f":"IF(OR(HD$16=\" \",HD$16=0),\" \",SUM(HE21:HP21))","v":" "},{"$f":"IF(OR(HE22=\" \",HE22=0),\" \",$BD$6*$C$7/12)","v":" "},{"$f":"IF(OR(HF22=\" \",HF22=0),\" \",$BD$6*$C$7/12)","v":" "}," "," "," "," "," "," "," "," "," "," ",{"$f":"IF(OR(HQ$16=\" \",HQ$16=0),\" \",SUM(HR21:IC21))","v":" "},{"$f":"IF(OR(HR22=\" \",HR22=0),\" \",$BD$6*$C$7/12)","v":" "},{"$f":"IF(OR(HS22=\" \",HS22=0),\" \",$BD$6*$C$7/12)","v":" "}," "," "," "," "," "," "," "," "," "," ",{"$f":"IF(OR(ID$16=\" \",ID$16=0),\" \",SUM(IE21:IP21))","v":" "},{"$f":"IF(OR(IE22=\" \",IE22=0),\" \",$BD$6*$C$7/12)","v":" "},{"$f":"IF(OR(IF22=\" \",IF22=0),\" \",$BD$6*$C$7/12)","v":" "}," "," "," "," "," "," "," "," "," "," ",{"$f":"IF(OR(IQ$16=\" \",IQ$16=0),\" \",SUM(IR21:JC21))","v":" "},{"$f":"IF(OR(IR22=\" \",IR22=0),\" \",$BD$6*$C$7/12)","v":" "},{"$f":"IF(OR(IS22=\" \",IS22=0),\" \",$BD$6*$C$7/12)","v":" "}," "," "," "," "," "," "," "," "," "," ",{"$f":"IF(OR(JD$16=\" \",JD$16=0),\" \",SUM(JE21:JP21))","v":" "},{"$f":"IF(OR(JE22=\" \",JE22=0),\" \",$BD$6*$C$7/12)","v":" "},{"$f":"IF(OR(JF22=\" \",JF22=0),\" \",$BD$6*$C$7/12)","v":" "}," "," "," "," "," "," "," "," "," "," ",{"$f":"IF(OR(JQ$16=\" \",JQ$16=0),\" \",SUM(JR21:KC21))","v":" "},{"$f":"IF(OR(JR22=\" \",JR22=0),\" \",$BD$6*$C$7/12)","v":" "},{"$f":"IF(OR(JS22=\" \",JS22=0),\" \",$BD$6*$C$7/12)","v":" "}," "," "," "," "," "," "," "," "," "," ",{"$f":"IF(OR(KD$16=\" \",KD$16=0),\" \",SUM(KE21:KP21))","v":" "},{"$f":"IF(OR(KE22=\" \",KE22=0),\" \",$BD$6*$C$7/12)","v":" "},{"$f":"IF(OR(KF22=\" \",KF22=0),\" \",$BD$6*$C$7/12)","v":" "}," "," "," "," "," "," "," "," "," "," ",{"$f":"IF(OR(KQ$16=\" \",KQ$16=0),\" \",SUM(KR21:LC21))","v":" "},{"$f":"IF(OR(KR22=\" \",KR22=0),\" \",$BD$6*$C$7/12)","v":" "},{"$f":"IF(OR(KS22=\" \",KS22=0),\" \",$BD$6*$C$7/12)","v":" "}," "," "," "," "," "," "," "," "," "," ",{"$f":"IF(OR(LD$16=\" \",LD$16=0),\" \",SUM(LE21:LP21))","v":" "},{"$f":"IF(OR(LE22=\" \",LE22=0),\" \",$BD$6*$C$7/12)","v":" "},{"$f":"IF(OR(LF22=\" \",LF22=0),\" \",$BD$6*$C$7/12)","v":" "}," "," "," "," "," "," "," "," "," "," ",{"$f":"IF(OR(LQ$16=\" \",LQ$16=0),\" \",SUM(LR21:MC21))","v":" "},{"$f":"IF(OR(LR22=\" \",LR22=0),\" \",$BD$6*$C$7/12)","v":" "},{"$f":"IF(OR(LS22=\" \",LS22=0),\" \",$BD$6*$C$7/12)","v":" "}," "," "," "," "," "," "," "," "," "," ",{"$f":"IF(OR(MD$16=\" \",MD$16=0),\" \",SUM(ME21:MP21))","v":" "},{"$f":"IF(OR(ME22=\" \",ME22=0),\" \",$BD$6*$C$7/12)","v":" "},{"$f":"IF(OR(MF22=\" \",MF22=0),\" \",$BD$6*$C$7/12)","v":" "}," "," "," "," "," "," "," "," "," "," ",{"$f":"IF(OR(MQ$16=\" \",MQ$16=0),\" \",SUM(MR21:NC21))","v":" "},{"$f":"IF(OR(MR22=\" \",MR22=0),\" \",$BD$6*$C$7/12)","v":" "},{"$f":"IF(OR(MS22=\" \",MS22=0),\" \",$BD$6*$C$7/12)","v":" "}," "," "," "," "," "," "," "," "," "," ",{"$f":"IF(OR(ND$16=\" \",ND$16=0),\" \",SUM(NE21:NP21))","v":" "},{"$f":"IF(OR(NE22=\" \",NE22=0),\" \",$BD$6*$C$7/12)","v":" "},{"$f":"IF(OR(NF22=\" \",NF22=0),\" \",$BD$6*$C$7/12)","v":" "}," "," "," "," "," "," "," "," "," "," ",{"$f":"IF(OR(NQ$16=\" \",NQ$16=0),\" \",SUM(NR21:OC21))","v":" "},{"$f":"IF(OR(NR22=\" \",NR22=0),\" \",$BD$6*$C$7/12)","v":" "},{"$f":"IF(OR(NS22=\" \",NS22=0),\" \",$BD$6*$C$7/12)","v":" "}," "," "," "," "," "," "," "," "," "," ",{"$f":"IF(OR(OD$16=\" \",OD$16=0),\" \",SUM(OE21:OP21))","v":" "},{"$f":"IF(OR(OE22=\" \",OE22=0),\" \",$BD$6*$C$7/12)","v":" "},{"$f":"IF(OR(OF22=\" \",OF22=0),\" \",$BD$6*$C$7/12)","v":" "}," "," "," "," "," "," "," "," "," "," ",{"$f":"IF(OR(OQ$16=\" \",OQ$16=0),\" \",SUM(OR21:PC21))","v":" "},{"$f":"IF(OR(OR22=\" \",OR22=0),\" \",$BD$6*$C$7/12)","v":" "},{"$f":"IF(OR(OS22=\" \",OS22=0),\" \",$BD$6*$C$7/12)","v":" "}," "," "," "," "," "," "," "," "," "," ",{"$f":"IF(OR(PD$16=\" \",PD$16=0),\" \",SUM(PE21:PP21))","v":" "},{"$f":"IF(OR(PE22=\" \",PE22=0),\" \",$BD$6*$C$7/12)","v":" "},{"$f":"IF(OR(PF22=\" \",PF22=0),\" \",$BD$6*$C$7/12)","v":" "}," "," "," "," "," "," "," "," "," "," ",{"$f":"IF(OR(PQ$16=\" \",PQ$16=0),\" \",SUM(PR21:QC21))","v":" "},{"$f":"IF(OR(PR22=\" \",PR22=0),\" \",$BD$6*$C$7/12)","v":" "},{"$f":"IF(OR(PS22=\" \",PS22=0),\" \",$BD$6*$C$7/12)","v":" "}," "," "," "," "," "," "," "," "," "," "]
["Elektroenerģijas cena","EUR/MWh"," ",{"$f":"IF(OR(D$16=\" \",D$16=0,D21=0),\" \",SUMPRODUCT(E21:P21,E22:P22)/D21)","v":" "},{"$f":"IF(AND($AD$15>=$B$5,$AD$15<$B$6),IF($D$16=1,IF(E17>=$C$5,((VLOOKUP(E18,Kurināmais!$A$4:$G$303,5,FALSE)*VLOOKUP($C$7,k_koef!$A$2:$B$17833,2,FALSE))/9.2)*3.5,\" \"),IF($D$16=($QD$4+1),IF(E17<=$C$6,((VLOOKUP(E18,Kurināmais!$A$4:$G$303,5,FALSE)*VLOOKUP($C$7,k_koef!$A$2:$B$17833,2,FALSE))/9.2)*3.5,\" \"),((VLOOKUP(E18,Kurināmais!$A$4:$G$303,5,FALSE)*VLOOKUP($C$7,k_koef!$A$2:$B$17833,2,FALSE))/9.2)*3.5)),\" \")","v":" "},{"$f":"IF(AND($AD$15>=$B$5,$AD$15<$B$6),IF($D$16=1,IF(F17>=$C$5,((VLOOKUP(F18,Kurināmais!$A$4:$G$303,5,FALSE)*VLOOKUP($C$7,k_koef!$A$2:$B$17833,2,FALSE))/9.2)*3.5,\" \"),IF($D$16=($QD$4+1),IF(F17<=$C$6,((VLOOKUP(F18,Kurināmais!$A$4:$G$303,5,FALSE)*VLOOKUP($C$7,k_koef!$A$2:$B$17833,2,FALSE))/9.2)*3.5,\" \"),((VLOOKUP(F18,Kurināmais!$A$4:$G$303,5,FALSE)*VLOOKUP($C$7,k_koef!$A$2:$B$17833,2,FALSE))/9.2)*3.5)),\" \")","v":" "},{"$f":"IF(AND($AD$15>=$B$5,$AD$15<$B$6),IF($D$16=1,IF(G17>=$C$5,((VLOOKUP(G18,Kurināmais!$A$4:$G$303,5,FALSE)*VLOOKUP($C$7,k_koef!$A$2:$B$17833,2,FALSE))/9.2)*3.5,\" \"),IF($D$16=($QD$4+1),IF(G17<=$C$6,((VLOOKUP(G18,Kurināmais!$A$4:$G$303,5,FALSE)*VLOOKUP($C$7,k_koef!$A$2:$B$17833,2,FALSE))/9.2)*3.5,\" \"),((VLOOKUP(G18,Kurināmais!$A$4:$G$303,5,FALSE)*VLOOKUP($C$7,k_koef!$A$2:$B$17833,2,FALSE))/9.2)*3.5)),\" \")","v":" "},{"$f":"IF(AND($AD$15>=$B$5,$AD$15<$B$6),IF($D$16=1,IF(H17>=$C$5,((VLOOKUP(H18,Kurināmais!$A$4:$G$303,5,FALSE)*VLOOKUP($C$7,k_koef!$A$2:$B$17833,2,FALSE))/9.2)*3.5,\" \"),IF($D$16=($QD$4+1),IF(H17<=$C$6,((VLOOKUP(H18,Kurināmais!$A$4:$G$303,5,FALSE)*VLOOKUP($C$7,k_koef!$A$2:$B$17833,2,FALSE))/9.2)*3.5,\" \"),((VLOOKUP(H18,Kurināmais!$A$4:$G$303,5,FALSE)*VLOOKUP($C$7,k_koef!$A$2:$B$17833,2,FALSE))/9.2)*3.5)),\" \")","v":" "},{"$f":"IF(AND($AD$15>=$B$5,$AD$15<$B$6),IF($D$16=1,IF(I17>=$C$5,((VLOOKUP(I18,Kurināmais!$A$4:$G$303,5,FALSE)*VLOOKUP($C$7,k_koef!$A$2:$B$17833,2,FALSE))/9.2)*3.5,\" \"),IF($D$16=($QD$4+1),IF(I17<=$C$6,((VLOOKUP(I18,Kurināmais!$A$4:$G$303,5,FALSE)*VLOOKUP($C$7,k_koef!$A$2:$B$17833,2,FALSE))/9.2)*3.5,\" \"),((VLOOKUP(I18,Kurināmais!$A$4:$G$303,5,FALSE)*VLOOKUP($C$7,k_koef!$A$2:$B$17833,2,FALSE))/9.2)*3.5)),\" \")","v":" "},{"$f":"IF(AND($AD$15>=$B$5,$AD$15<$B$6),IF($D$16=1,IF(J17>=$C$5,((VLOOKUP(J18,Kurināmais!$A$4:$G$303,5,FALSE)*VLOOKUP($C$7,k_koef!$A$2:$B$17833,2,FALSE))/9.2)*3.5,\" \"),IF($D$16=($QD$4+1),IF(J17<=$C$6,((VLOOKUP(J18,Kurināmais!$A$4:$G$303,5,FALSE)*VLOOKUP($C$7,k_koef!$A$2:$B$17833,2,FALSE))/9.2)*3.5,\" \"),((VLOOKUP(J18,Kurināmais!$A$4:$G$303,5,FALSE)*VLOOKUP($C$7,k_koef!$A$2:$B$17833,2,FALSE))/9.2)*3.5)),\" \")","v":" "},{"$f":"IF(AND($AD$15>=$B$5,$AD$15<$B$6),IF($D$16=1,IF(K17>=$C$5,((VLOOKUP(K18,Kurināmais!$A$4:$G$303,5,FALSE)*VLOOKUP($C$7,k_koef!$A$2:$B$17833,2,FALSE))/9.2)*3.5,\" \"),IF($D$16=($QD$4+1),IF(K17<=$C$6,((VLOOKUP(K18,Kurināmais!$A$4:$G$303,5,FALSE)*VLOOKUP($C$7,k_koef!$A$2:$B$17833,2,FALSE))/9.2)*3.5,\" \"),((VLOOKUP(K18,Kurināmais!$A$4:$G$303,5,FALSE)*VLOOKUP($C$7,k_koef!$A$2:$B$17833,2,FALSE))/9.2)*3.5)),\" \")","v":" "},{"$f":"IF(AND($AD$15>=$B$5,$AD$15<$B$6),IF($D$16=1,IF(L17>=$C$5,((VLOOKUP(L18,Kurināmais!$A$4:$G$303,5,FALSE)*VLOOKUP($C$7,k_koef!$A$2:$B$17833,2,FALSE))/9.2)*3.5,\" \"),IF($D$16=($QD$4+1),IF(L17<=$C$6,((VLOOKUP(L18,Kurināmais!$A$4:$G$303,5,FALSE)*VLOOKUP($C$7,k_koef!$A$2:$B$17833,2,FALSE))/9.2)*3.5,\" \"),((VLOOKUP(L18,Kurināmais!$A$4:$G$303,5,FALSE)*VLOOKUP($C$7,k_koef!$A$2:$B$17833,2,FALSE))/9.2)*3.5)),\" \")","v":" "},{"$f":"IF(AND($AD$15>=$B$5,$AD$15<$B$6),IF($D$16=1,IF(M17>=$C$5,((VLOOKUP(M18,Kurināmais!$A$4:$G$303,5,FALSE)*VLOOKUP($C$7,k_koef!$A$2:$B$17833,2,FALSE))/9.2)*3.5,\" \"),IF($D$16=($QD$4+1),IF(M17<=$C$6,((VLOOKUP(M18,Kurināmais!$A$4:$G$303,5,FALSE)*VLOOKUP($C$7,k_koef!$A$2:$B$17833,2,FALSE))/9.2)*3.5,\" \"),((VLOOKUP(M18,Kurināmais!$A$4:$G$303,5,FALSE)*VLOOKUP($C$7,k_koef!$A$2:$B$17833,2,FALSE))/9.2)*3.5)),\" \")","v":" "},{"$f":"IF(AND($AD$15>=$B$5,$AD$15<$B$6),IF($D$16=1,IF(N17>=$C$5,((VLOOKUP(N18,Kurināmais!$A$4:$G$303,5,FALSE)*VLOOKUP($C$7,k_koef!$A$2:$B$17833,2,FALSE))/9.2)*3.5,\" \"),IF($D$16=($QD$4+1),IF(N17<=$C$6,((VLOOKUP(N18,Kurināmais!$A$4:$G$303,5,FALSE)*VLOOKUP($C$7,k_koef!$A$2:$B$17833,2,FALSE))/9.2)*3.5,\" \"),((VLOOKUP(N18,Kurināmais!$A$4:$G$303,5,FALSE)*VLOOKUP($C$7,k_koef!$A$2:$B$17833,2,FALSE))/9.2)*3.5)),\" \")","v":" "},{"$f":"IF(AND($AD$15>=$B$5,$AD$15<$B$6),IF($D$16=1,IF(O17>=$C$5,((VLOOKUP(O18,Kurināmais!$A$4:$G$303,5,FALSE)*VLOOKUP($C$7,k_koef!$A$2:$B$17833,2,FALSE))/9.2)*3.5,\" \"),IF($D$16=($QD$4+1),IF(O17<=$C$6,((VLOOKUP(O18,Kurināmais!$A$4:$G$303,5,FALSE)*VLOOKUP($C$7,k_koef!$A$2:$B$17833,2,FALSE))/9.2)*3.5,\" \"),((VLOOKUP(O18,Kurināmais!$A$4:$G$303,5,FALSE)*VLOOKUP($C$7,k_koef!$A$2:$B$17833,2,FALSE))/9.2)*3.5)),\" \")","v":" "},{"$f":"IF(AND($AD$15>=$B$5,$AD$15<$B$6),IF($D$16=1,IF(P17>=$C$5,((VLOOKUP(P18,Kurināmais!$A$4:$G$303,5,FALSE)*VLOOKUP($C$7,k_koef!$A$2:$B$17833,2,FALSE))/9.2)*3.5,\" \"),IF($D$16=($QD$4+1),IF(P17<=$C$6,((VLOOKUP(P18,Kurināmais!$A$4:$G$303,5,FALSE)*VLOOKUP($C$7,k_koef!$A$2:$B$17833,2,FALSE))/9.2)*3.5,\" \"),((VLOOKUP(P18,Kurināmais!$A$4:$G$303,5,FALSE)*VLOOKUP($C$7,k_koef!$A$2:$B$17833,2,FALSE))/9.2)*3.5)),\" \")","v":" "},{"$f":"IF(OR(Q$16=\" \",Q$16=0,Q21=0),\" \",SUMPRODUCT(R21:AC21,R22:AC22)/Q21)","v":" "},{"$f":"IF(AND($AD$15>=$B$5,$AD$15<$B$6),IF($Q$16=1,IF(R17>=$C$5,((VLOOKUP(R18,Kurināmais!$A$4:$G$303,5,FALSE)*VLOOKUP($C$7,k_koef!$A$2:$B$17833,2,FALSE))/9.2)*3.5,\" \"),IF($D$16=($QD$4+1),IF(R17<=$C$6,((VLOOKUP(R18,Kurināmais!$A$4:$G$303,5,FALSE)*VLOOKUP($C$7,k_koef!$A$2:$B$17833,2,FALSE))/9.2)*3.5,\" \"),((VLOOKUP(R18,Kurināmais!$A$4:$G$303,5,FALSE)*VLOOKUP($C$7,k_koef!$A$2:$B$17833,2,FALSE))/9.2)*3.5)),\" \")","v":" "},{"$f":"IF(AND($AD$15>=$B$5,$AD$15<$B$6),IF($Q$16=1,IF(S17>=$C$5,((VLOOKUP(S18,Kurināmais!$A$4:$G$303,5,FALSE)*VLOOKUP($C$7,k_koef!$A$2:$B$17833,2,FALSE))/9.2)*3.5,\" \"),IF($D$16=($QD$4+1),IF(S17<=$C$6,((VLOOKUP(S18,Kurināmais!$A$4:$G$303,5,FALSE)*VLOOKUP($C$7,k_koef!$A$2:$B$17833,2,FALSE))/9.2)*3.5,\" \"),((VLOOKUP(S18,Kurināmais!$A$4:$G$303,5,FALSE)*VLOOKUP($C$7,k_koef!$A$2:$B$17833,2,FALSE))/9.2)*3.5)),\" \")","v":" "},{"$f":"IF(AND($AD$15>=$B$5,$AD$15<$B$6),IF($Q$16=1,IF(T17>=$C$5,((VLOOKUP(T18,Kurināmais!$A$4:$G$303,5,FALSE)*VLOOKUP($C$7,k_koef!$A$2:$B$17833,2,FALSE))/9.2)*3.5,\" \"),IF($D$16=($QD$4+1),IF(T17<=$C$6,((VLOOKUP(T18,Kurināmais!$A$4:$G$303,5,FALSE)*VLOOKUP($C$7,k_koef!$A$2:$B$17833,2,FALSE))/9.2)*3.5,\" \"),((VLOOKUP(T18,Kurināmais!$A$4:$G$303,5,FALSE)*VLOOKUP($C$7,k_koef!$A$2:$B$17833,2,FALSE))/9.2)*3.5)),\" \")","v":" "},{"$f":"IF(AND($AD$15>=$B$5,$AD$15<$B$6),IF($Q$16=1,IF(U17>=$C$5,((VLOOKUP(U18,Kurināmais!$A$4:$G$303,5,FALSE)*VLOOKUP($C$7,k_koef!$A$2:$B$17833,2,FALSE))/9.2)*3.5,\" \"),IF($D$16=($QD$4+1),IF(U17<=$C$6,((VLOOKUP(U18,Kurināmais!$A$4:$G$303,5,FALSE)*VLOOKUP($C$7,k_koef!$A$2:$B$17833,2,FALSE))/9.2)*3.5,\" \"),((VLOOKUP(U18,Kurināmais!$A$4:$G$303,5,FALSE)*VLOOKUP($C$7,k_koef!$A$2:$B$17833,2,FALSE))/9.2)*3.5)),\" \")","v":" "},{"$f":"IF(AND($AD$15>=$B$5,$AD$15<$B$6),IF($Q$16=1,IF(V17>=$C$5,((VLOOKUP(V18,Kurināmais!$A$4:$G$303,5,FALSE)*VLOOKUP($C$7,k_koef!$A$2:$B$17833,2,FALSE))/9.2)*3.5,\" \"),IF($D$16=($QD$4+1),IF(V17<=$C$6,((VLOOKUP(V18,Kurināmais!$A$4:$G$303,5,FALSE)*VLOOKUP($C$7,k_koef!$A$2:$B$17833,2,FALSE))/9.2)*3.5,\" \"),((VLOOKUP(V18,Kurināmais!$A$4:$G$303,5,FALSE)*VLOOKUP($C$7,k_koef!$A$2:$B$17833,2,FALSE))/9.2)*3.5)),\" \")","v":" "},{"$f":"IF(AND($AD$15>=$B$5,$AD$15<$B$6),IF($Q$16=1,IF(W17>=$C$5,((VLOOKUP(W18,Kurināmais!$A$4:$G$303,5,FALSE)*VLOOKUP($C$7,k_koef!$A$2:$B$17833,2,FALSE))/9.2)*3.5,\" \"),IF($D$16=($QD$4+1),IF(W17<=$C$6,((VLOOKUP(W18,Kurināmais!$A$4:$G$303,5,FALSE)*VLOOKUP($C$7,k_koef!$A$2:$B$17833,2,FALSE))/9.2)*3.5,\" \"),((VLOOKUP(W18,Kurināmais!$A$4:$G$303,5,FALSE)*VLOOKUP($C$7,k_koef!$A$2:$B$17833,2,FALSE))/9.2)*3.5)),\" \")","v":" "},{"$f":"IF(AND($AD$15>=$B$5,$AD$15<$B$6),IF($Q$16=1,IF(X17>=$C$5,((VLOOKUP(X18,Kurināmais!$A$4:$G$303,5,FALSE)*VLOOKUP($C$7,k_koef!$A$2:$B$17833,2,FALSE))/9.2)*3.5,\" \"),IF($D$16=($QD$4+1),IF(X17<=$C$6,((VLOOKUP(X18,Kurināmais!$A$4:$G$303,5,FALSE)*VLOOKUP($C$7,k_koef!$A$2:$B$17833,2,FALSE))/9.2)*3.5,\" \"),((VLOOKUP(X18,Kurināmais!$A$4:$G$303,5,FALSE)*VLOOKUP($C$7,k_koef!$A$2:$B$17833,2,FALSE))/9.2)*3.5)),\" \")","v":" "},{"$f":"IF(AND($AD$15>=$B$5,$AD$15<$B$6),IF($Q$16=1,IF(Y17>=$C$5,((VLOOKUP(Y18,Kurināmais!$A$4:$G$303,5,FALSE)*VLOOKUP($C$7,k_koef!$A$2:$B$17833,2,FALSE))/9.2)*3.5,\" \"),IF($D$16=($QD$4+1),IF(Y17<=$C$6,((VLOOKUP(Y18,Kurināmais!$A$4:$G$303,5,FALSE)*VLOOKUP($C$7,k_koef!$A$2:$B$17833,2,FALSE))/9.2)*3.5,\" \"),((VLOOKUP(Y18,Kurināmais!$A$4:$G$303,5,FALSE)*VLOOKUP($C$7,k_koef!$A$2:$B$17833,2,FALSE))/9.2)*3.5)),\" \")","v":" "},{"$f":"IF(AND($AD$15>=$B$5,$AD$15<$B$6),IF($Q$16=1,IF(Z17>=$C$5,((VLOOKUP(Z18,Kurināmais!$A$4:$G$303,5,FALSE)*VLOOKUP($C$7,k_koef!$A$2:$B$17833,2,FALSE))/9.2)*3.5,\" \"),IF($D$16=($QD$4+1),IF(Z17<=$C$6,((VLOOKUP(Z18,Kurināmais!$A$4:$G$303,5,FALSE)*VLOOKUP($C$7,k_koef!$A$2:$B$17833,2,FALSE))/9.2)*3.5,\" \"),((VLOOKUP(Z18,Kurināmais!$A$4:$G$303,5,FALSE)*VLOOKUP($C$7,k_koef!$A$2:$B$17833,2,FALSE))/9.2)*3.5)),\" \")","v":" "},{"$f":"IF(AND($AD$15>=$B$5,$AD$15<$B$6),IF($Q$16=1,IF(AA17>=$C$5,((VLOOKUP(AA18,Kurināmais!$A$4:$G$303,5,FALSE)*VLOOKUP($C$7,k_koef!$A$2:$B$17833,2,FALSE))/9.2)*3.5,\" \"),IF($D$16=($QD$4+1),IF(AA17<=$C$6,((VLOOKUP(AA18,Kurināmais!$A$4:$G$303,5,FALSE)*VLOOKUP($C$7,k_koef!$A$2:$B$17833,2,FALSE))/9.2)*3.5,\" \"),((VLOOKUP(AA18,Kurināmais!$A$4:$G$303,5,FALSE)*VLOOKUP($C$7,k_koef!$A$2:$B$17833,2,FALSE))/9.2)*3.5)),\" \")","v":" "},{"$f":"IF(AND($AD$15>=$B$5,$AD$15<$B$6),IF($Q$16=1,IF(AB17>=$C$5,((VLOOKUP(AB18,Kurināmais!$A$4:$G$303,5,FALSE)*VLOOKUP($C$7,k_koef!$A$2:$B$17833,2,FALSE))/9.2)*3.5,\" \"),IF($D$16=($QD$4+1),IF(AB17<=$C$6,((VLOOKUP(AB18,Kurināmais!$A$4:$G$303,5,FALSE)*VLOOKUP($C$7,k_koef!$A$2:$B$17833,2,FALSE))/9.2)*3.5,\" \"),((VLOOKUP(AB18,Kurināmais!$A$4:$G$303,5,FALSE)*VLOOKUP($C$7,k_koef!$A$2:$B$17833,2,FALSE))/9.2)*3.5)),\" \")","v":" "},{"$f":"IF(AND($AD$15>=$B$5,$AD$15<$B$6),IF($Q$16=1,IF(AC17>=$C$5,((VLOOKUP(AC18,Kurināmais!$A$4:$G$303,5,FALSE)*VLOOKUP($C$7,k_koef!$A$2:$B$17833,2,FALSE))/9.2)*3.5,\" \"),IF($D$16=($QD$4+1),IF(AC17<=$C$6,((VLOOKUP(AC18,Kurināmais!$A$4:$G$303,5,FALSE)*VLOOKUP($C$7,k_koef!$A$2:$B$17833,2,FALSE))/9.2)*3.5,\" \"),((VLOOKUP(AC18,Kurināmais!$A$4:$G$303,5,FALSE)*VLOOKUP($C$7,k_koef!$A$2:$B$17833,2,FALSE))/9.2)*3.5)),\" \")","v":" "},{"$f":"IF(OR(AD$16=\" \",AD$16=0,AD21=0),\" \",SUMPRODUCT(AE21:AP21,AE22:AP22)/AD21)","v":" "},{"$f":"IF(AND($AD$15>=$B$5,$AD$15<$B$6),IF($AD$16=1,IF(AE17>=$C$5,((VLOOKUP(AE18,Kurināmais!$A$4:$G$303,5,FALSE)*VLOOKUP($C$7,k_koef!$A$2:$B$17833,2,FALSE))/9.2)*3.5,\" \"),IF($D$16=($QD$4+1),IF(AE17<=$C$6,((VLOOKUP(AE18,Kurināmais!$A$4:$G$303,5,FALSE)*VLOOKUP($C$7,k_koef!$A$2:$B$17833,2,FALSE))/9.2)*3.5,\" \"),((VLOOKUP(AE18,Kurināmais!$A$4:$G$303,5,FALSE)*VLOOKUP($C$7,k_koef!$A$2:$B$17833,2,FALSE))/9.2)*3.5)),\" \")","v":" "},{"$f":"IF(AND($AD$15>=$B$5,$AD$15<$B$6),IF($AD$16=1,IF(AF17>=$C$5,((VLOOKUP(AF18,Kurināmais!$A$4:$G$303,5,FALSE)*VLOOKUP($C$7,k_koef!$A$2:$B$17833,2,FALSE))/9.2)*3.5,\" \"),IF($D$16=($QD$4+1),IF(AF17<=$C$6,((VLOOKUP(AF18,Kurināmais!$A$4:$G$303,5,FALSE)*VLOOKUP($C$7,k_koef!$A$2:$B$17833,2,FALSE))/9.2)*3.5,\" \"),((VLOOKUP(AF18,Kurināmais!$A$4:$G$303,5,FALSE)*VLOOKUP($C$7,k_koef!$A$2:$B$17833,2,FALSE))/9.2)*3.5)),\" \")","v":" "},{"$f":"IF(AND($AD$15>=$B$5,$AD$15<$B$6),IF($AD$16=1,IF(AG17>=$C$5,((VLOOKUP(AG18,Kurināmais!$A$4:$G$303,5,FALSE)*VLOOKUP($C$7,k_koef!$A$2:$B$17833,2,FALSE))/9.2)*3.5,\" \"),IF($D$16=($QD$4+1),IF(AG17<=$C$6,((VLOOKUP(AG18,Kurināmais!$A$4:$G$303,5,FALSE)*VLOOKUP($C$7,k_koef!$A$2:$B$17833,2,FALSE))/9.2)*3.5,\" \"),((VLOOKUP(AG18,Kurināmais!$A$4:$G$303,5,FALSE)*VLOOKUP($C$7,k_koef!$A$2:$B$17833,2,FALSE))/9.2)*3.5)),\" \")","v":" "},{"$f":"IF(AND($AD$15>=$B$5,$AD$15<$B$6),IF($AD$16=1,IF(AH17>=$C$5,((176*VLOOKUP($C$7,k_koef!$A$2:$B$17833,2,FALSE))*(1+0.15*0.03*VES!$AD$16)),\" \"),IF($AD$16=($QD$4+1),IF(AH17<=$C$6,((164*VLOOKUP($C$7,k_koef!$A$2:$B$17833,2,FALSE))*(1+0.15*0.03*VES!$AD$16)),\" \"),((164*VLOOKUP($C$7,k_koef!$A$2:$B$17833,2,FALSE))*(1+0.15*0.03*VES!$AD$16)))),\" \")","v":" "},{"$f":"IF(AND($AD$15>=$B$5,$AD$15<$B$6),IF($AD$16=1,IF(AI17>=$C$5,((176*VLOOKUP($C$7,k_koef!$A$2:$B$17833,2,FALSE))*(1+0.15*0.03*VES!$AD$16)),\" \"),IF($AD$16=($QD$4+1),IF(AI17<=$C$6,((164*VLOOKUP($C$7,k_koef!$A$2:$B$17833,2,FALSE))*(1+0.15*0.03*VES!$AD$16)),\" \"),((164*VLOOKUP($C$7,k_koef!$A$2:$B$17833,2,FALSE))*(1+0.15*0.03*VES!$AD$16)))),\" \")","v":" "},{"$f":"IF(AND($AD$15>=$B$5,$AD$15<$B$6),IF($AD$16=1,IF(AJ17>=$C$5,((176*VLOOKUP($C$7,k_koef!$A$2:$B$17833,2,FALSE))*(1+0.15*0.03*VES!$AD$16)),\" \"),IF($AD$16=($QD$4+1),IF(AJ17<=$C$6,((164*VLOOKUP($C$7,k_koef!$A$2:$B$17833,2,FALSE))*(1+0.15*0.03*VES!$AD$16)),\" \"),((164*VLOOKUP($C$7,k_koef!$A$2:$B$17833,2,FALSE))*(1+0.15*0.03*VES!$AD$16)))),\" \")","v":" "},{"$f":"IF(AND($AD$15>=$B$5,$AD$15<$B$6),IF($AD$16=1,IF(AK17>=$C$5,$Q$6*$CQ$6,\" \"),IF(AND($AD$16>1,$AD$16<=10),$Q$6*$CQ$6,IF($AD$16=11,IF(AK17<$C$5,$Q$6*$CQ$6,$AD$6*$CQ$6),IF($AD$16>11,$AD$6*$CQ$6)))),IF(AND($AD$16=$QD$4,$C$6=12),$CQ$6*$AD$6,IF(AND($AD$16=$QD$4+1,$C$6<12,AK17<=$C$6),$CQ$6*$AD$6,\" \")))","v":" "},{"$f":"IF(AND($AD$15>=$B$5,$AD$15<$B$6),IF($AD$16=1,IF(AL17>=$C$5,$Q$6*$CQ$6,\" \"),IF(AND($AD$16>1,$AD$16<=10),$Q$6*$CQ$6,IF($AD$16=11,IF(AL17<$C$5,$Q$6*$CQ$6,$AD$6*$CQ$6),IF($AD$16>11,$AD$6*$CQ$6)))),IF(AND($AD$16=$QD$4,$C$6=12),$CQ$6*$AD$6,IF(AND($AD$16=$QD$4+1,$C$6<12,AL17<=$C$6),$CQ$6*$AD$6,\" \")))","v":" "}," "," "," "," ",{"$f":"IF(OR(AQ$16=\" \",AQ$16=0,AQ21=0),\" \",SUMPRODUCT(AR21:BC21,AR22:BC22)/AQ21)","v":" "},{"$f":"IF(AND($AQ$15>=$B$5,$AQ$15<$B$6),IF($AQ$16=1,IF(AR17>=$C$5,$Q$6*$CQ$6,\" \"),IF(AND($AQ$16>1,$AQ$16<=10),$Q$6*$CQ$6,IF($AQ$16=11,IF(AR17<$C$5,$Q$6*$CQ$6,$AD$6*$CQ$6),IF($AQ$16>11,$AD$6*$CQ$6)))),IF(AND($AQ$16=$QD$4,$C$6=12),$CQ$6*$AD$6,IF(AND($AQ$16=$QD$4+1,$C$6<12,AR17<=$C$6),$CQ$6*$AD$6,\" \")))","v":" "},{"$f":"IF(AND($AQ$15>=$B$5,$AQ$15<$B$6),IF($AQ$16=1,IF(AS17>=$C$5,$Q$6*$CQ$6,\" \"),IF(AND($AQ$16>1,$AQ$16<=10),$Q$6*$CQ$6,IF($AQ$16=11,IF(AS17<$C$5,$Q$6*$CQ$6,$AD$6*$CQ$6),IF($AQ$16>11,$AD$6*$CQ$6)))),IF(AND($AQ$16=$QD$4,$C$6=12),$CQ$6*$AD$6,IF(AND($AQ$16=$QD$4+1,$C$6<12,AS17<=$C$6),$CQ$6*$AD$6,\" \")))","v":" "}," "," "," "," "," "," "," "," "," "," ",{"$f":"IF(OR(BD$16=\" \",BD$16=0,BD21=0),\" \",SUMPRODUCT(BE21:BP21,BE22:BP22)/BD21)","v":" "},{"$f":"IF(AND($BD$15>=$B$5,$BD$15<$B$6),IF($BD$16=1,IF(BE17>=$C$5,$Q$6*$CQ$6,\" \"),IF(AND($BD$16>1,$BD$16<=10),$Q$6*$CQ$6,IF($BD$16=11,IF(BE17<$C$5,$Q$6*$CQ$6,$AD$6*$CQ$6),IF($BD$16>11,$AD$6*$CQ$6)))),IF(AND($BD$16=$QD$4,$C$6=12),$CQ$6*$AD$6,IF(AND($BD$16=$QD$4+1,$C$6<12,BE17<=$C$6),$CQ$6*$AD$6,\" \")))","v":" "},{"$f":"IF(AND($BD$15>=$B$5,$BD$15<$B$6),IF($BD$16=1,IF(BF17>=$C$5,$Q$6*$CQ$6,\" \"),IF(AND($BD$16>1,$BD$16<=10),$Q$6*$CQ$6,IF($BD$16=11,IF(BF17<$C$5,$Q$6*$CQ$6,$AD$6*$CQ$6),IF($BD$16>11,$AD$6*$CQ$6)))),IF(AND($BD$16=$QD$4,$C$6=12),$CQ$6*$AD$6,IF(AND($BD$16=$QD$4+1,$C$6<12,BF17<=$C$6),$CQ$6*$AD$6,\" \")))","v":" "}," "," "," "," "," "," "," "," "," "," ",{"$f":"IF(OR(BQ$16=\" \",BQ$16=0,BQ21=0),\" \",SUMPRODUCT(BR21:CC21,BR22:CC22)/BQ21)","v":" "},{"$f":"IF(AND($BQ$15>=$B$5,$BQ$15<$B$6),IF($BQ$16=1,IF(BR17>=$C$5,$Q$6*$CQ$6,\" \"),IF(AND($BQ$16>1,$BQ$16<=10),$Q$6*$CQ$6,IF($BQ$16=11,IF(BR17<$C$5,$Q$6*$CQ$6,$AD$6*$CQ$6),IF($BQ$16>11,$AD$6*$CQ$6)))),IF(AND($BQ$16=$QD$4,$C$6=12),$CQ$6*$AD$6,IF(AND($BQ$16=$QD$4+1,$C$6<12,BR17<=$C$6),$CQ$6*$AD$6,\" \")))","v":" "},{"$f":"IF(AND($BQ$15>=$B$5,$BQ$15<$B$6),IF($BQ$16=1,IF(BS17>=$C$5,$Q$6*$CQ$6,\" \"),IF(AND($BQ$16>1,$BQ$16<=10),$Q$6*$CQ$6,IF($BQ$16=11,IF(BS17<$C$5,$Q$6*$CQ$6,$AD$6*$CQ$6),IF($BQ$16>11,$AD$6*$CQ$6)))),IF(AND($BQ$16=$QD$4,$C$6=12),$CQ$6*$AD$6,IF(AND($BQ$16=$QD$4+1,$C$6<12,BS17<=$C$6),$CQ$6*$AD$6,\" \")))","v":" "}," "," "," "," "," "," "," "," "," "," ",{"$f":"IF(OR(CD$16=\" \",CD$16=0,CD21=0),\" \",SUMPRODUCT(CE21:CP21,CE22:CP22)/CD21)","v":" "},{"$f":"IF(AND($CD$15>=$B$5,$CD$15<$B$6),IF($CD$16=1,IF(CE17>=$C$5,$Q$6*$CQ$6,\" \"),IF(AND($CD$16>1,$CD$16<=10),$Q$6*$CQ$6,IF($CD$16=11,IF(CE17<$C$5,$Q$6*$CQ$6,$AD$6*$CQ$6),IF($CD$16>11,$AD$6*$CQ$6)))),IF(AND($CD$16=$QD$4,$C$6=12),$CQ$6*$AD$6,IF(AND($CD$16=$QD$4+1,$C$6<12,CE17<=$C$6),$CQ$6*$AD$6,\" \")))","v":" "},{"$f":"IF(AND($CD$15>=$B$5,$CD$15<$B$6),IF($CD$16=1,IF(CF17>=$C$5,$Q$6*$CQ$6,\" \"),IF(AND($CD$16>1,$CD$16<=10),$Q$6*$CQ$6,IF($CD$16=11,IF(CF17<$C$5,$Q$6*$CQ$6,$AD$6*$CQ$6),IF($CD$16>11,$AD$6*$CQ$6)))),IF(AND($CD$16=$QD$4,$C$6=12),$CQ$6*$AD$6,IF(AND($CD$16=$QD$4+1,$C$6<12,CF17<=$C$6),$CQ$6*$AD$6,\" \")))","v":" "}," "," "," "," "," "," "," "," "," "," ",{"$f":"IF(OR(CQ$16=\" \",CQ$16=0,CQ21=0),\" \",SUMPRODUCT(CR21:DC21,CR22:DC22)/CQ21)","v":" "},{"$f":"IF(AND($CQ$15>=$B$5,$CQ$15<$B$6),IF($CQ$16=1,IF(CR17>=$C$5,$Q$6*$CQ$6,\" \"),IF(AND($CQ$16>1,$CQ$16<=10),$Q$6*$CQ$6,IF($CQ$16=11,IF(CR17<$C$5,$Q$6*$CQ$6,$AD$6*$CQ$6),IF($CQ$16>11,$AD$6*$CQ$6)))),IF(AND($CQ$16=$QD$4,$C$6=12),$CQ$6*$AD$6,IF(AND($CQ$16=$QD$4+1,$C$6<12,CR17<=$C$6),$CQ$6*$AD$6,\" \")))","v":" "},{"$f":"IF(AND($CQ$15>=$B$5,$CQ$15<$B$6),IF($CQ$16=1,IF(CS17>=$C$5,$Q$6*$CQ$6,\" \"),IF(AND($CQ$16>1,$CQ$16<=10),$Q$6*$CQ$6,IF($CQ$16=11,IF(CS17<$C$5,$Q$6*$CQ$6,$AD$6*$CQ$6),IF($CQ$16>11,$AD$6*$CQ$6)))),IF(AND($CQ$16=$QD$4,$C$6=12),$CQ$6*$AD$6,IF(AND($CQ$16=$QD$4+1,$C$6<12,CS17<=$C$6),$CQ$6*$AD$6,\" \")))","v":" "}," "," "," "," "," "," "," "," "," "," ",{"$f":"IF(OR(DD$16=\" \",DD$16=0,DD21=0),\" \",SUMPRODUCT(DE21:DP21,DE22:DP22)/DD21)","v":" "},{"$f":"IF(AND($DD$15>=$B$5,$DD$15<$B$6),IF($DD$16=1,IF(DE17>=$C$5,$Q$6*$CQ$6,\" \"),IF(AND($DD$16>1,$DD$16<=10),$Q$6*$CQ$6,IF($DD$16=11,IF(DE17<$C$5,$Q$6*$CQ$6,$AD$6*$CQ$6),IF($DD$16>11,$AD$6*$CQ$6)))),IF(AND($DD$16=$QD$4,$C$6=12),$CQ$6*$AD$6,IF(AND($DD$16=$QD$4+1,$C$6<12,DE17<=$C$6),$CQ$6*$AD$6,\" \")))","v":" "},{"$f":"IF(AND($DD$15>=$B$5,$DD$15<$B$6),IF($DD$16=1,IF(DF17>=$C$5,$Q$6*$CQ$6,\" \"),IF(AND($DD$16>1,$DD$16<=10),$Q$6*$CQ$6,IF($DD$16=11,IF(DF17<$C$5,$Q$6*$CQ$6,$AD$6*$CQ$6),IF($DD$16>11,$AD$6*$CQ$6)))),IF(AND($DD$16=$QD$4,$C$6=12),$CQ$6*$AD$6,IF(AND($DD$16=$QD$4+1,$C$6<12,DF17<=$C$6),$CQ$6*$AD$6,\" \")))","v":" "}," "," "," "," "," "," "," "," "," "," ",{"$f":"IF(OR(DQ$16=\" \",DQ$16=0,DQ21=0),\" \",SUMPRODUCT(DR21:EC21,DR22:EC22)/DQ21)","v":" "},{"$f":"IF(AND($DQ$15>=$B$5,$DQ$15<$B$6),IF($DQ$16=1,IF(DR17>=$C$5,$Q$6*$CQ$6,\" \"),IF(AND($DQ$16>1,$DQ$16<=10),$Q$6*$CQ$6,IF($DQ$16=11,IF(DR17<$C$5,$Q$6*$CQ$6,$AD$6*$CQ$6),IF($DQ$16>11,$AD$6*$CQ$6)))),IF(AND($DQ$16=$QD$4,$C$6=12),$CQ$6*$AD$6,IF(AND($DQ$16=$QD$4+1,$C$6<12,DR17<=$C$6),$CQ$6*$AD$6,\" \")))","v":" "},{"$f":"IF(AND($DQ$15>=$B$5,$DQ$15<$B$6),IF($DQ$16=1,IF(DS17>=$C$5,$Q$6*$CQ$6,\" \"),IF(AND($DQ$16>1,$DQ$16<=10),$Q$6*$CQ$6,IF($DQ$16=11,IF(DS17<$C$5,$Q$6*$CQ$6,$AD$6*$CQ$6),IF($DQ$16>11,$AD$6*$CQ$6)))),IF(AND($DQ$16=$QD$4,$C$6=12),$CQ$6*$AD$6,IF(AND($DQ$16=$QD$4+1,$C$6<12,DS17<=$C$6),$CQ$6*$AD$6,\" \")))","v":" "}," "," "," "," "," "," "," "," "," "," ",{"$f":"IF(OR(ED$16=\" \",ED$16=0,ED21=0),\" \",SUMPRODUCT(EE21:EP21,EE22:EP22)/ED21)","v":" "},{"$f":"IF(AND($ED$15>=$B$5,$ED$15<$B$6),IF($ED$16=1,IF(EE17>=$C$5,$Q$6*$CQ$6,\" \"),IF(AND($ED$16>1,$ED$16<=10),$Q$6*$CQ$6,IF($ED$16=11,IF(EE17<$C$5,$Q$6*$CQ$6,$AD$6*$CQ$6),IF($ED$16>11,$AD$6*$CQ$6)))),IF(AND($ED$16=$QD$4,$C$6=12),$CQ$6*$AD$6,IF(AND($ED$16=$QD$4+1,$C$6<12,EE17<=$C$6),$CQ$6*$AD$6,\" \")))","v":" "},{"$f":"IF(AND($ED$15>=$B$5,$ED$15<$B$6),IF($ED$16=1,IF(EF17>=$C$5,$Q$6*$CQ$6,\" \"),IF(AND($ED$16>1,$ED$16<=10),$Q$6*$CQ$6,IF($ED$16=11,IF(EF17<$C$5,$Q$6*$CQ$6,$AD$6*$CQ$6),IF($ED$16>11,$AD$6*$CQ$6)))),IF(AND($ED$16=$QD$4,$C$6=12),$CQ$6*$AD$6,IF(AND($ED$16=$QD$4+1,$C$6<12,EF17<=$C$6),$CQ$6*$AD$6,\" \")))","v":" "}," "," "," "," "," "," "," "," "," "," ",{"$f":"IF(OR(EQ$16=\" \",EQ$16=0,EQ21=0),\" \",SUMPRODUCT(ER21:FC21,ER22:FC22)/EQ21)","v":" "},{"$f":"IF(AND($EQ$15>=$B$5,$EQ$15<$B$6),IF($EQ$16=1,IF(ER17>=$C$5,$Q$6*$CQ$6,\" \"),IF(AND($EQ$16>1,$EQ$16<=10),$Q$6*$CQ$6,IF($EQ$16=11,IF(ER17<$C$5,$Q$6*$CQ$6,$AD$6*$CQ$6),IF($EQ$16>11,$AD$6*$CQ$6)))),IF(AND($EQ$16=$QD$4,$C$6=12),$CQ$6*$AD$6,IF(AND($EQ$16=$QD$4+1,$C$6<12,ER17<=$C$6),$CQ$6*$AD$6,\" \")))","v":" "},{"$f":"IF(AND($EQ$15>=$B$5,$EQ$15<$B$6),IF($EQ$16=1,IF(ES17>=$C$5,$Q$6*$CQ$6,\" \"),IF(AND($EQ$16>1,$EQ$16<=10),$Q$6*$CQ$6,IF($EQ$16=11,IF(ES17<$C$5,$Q$6*$CQ$6,$AD$6*$CQ$6),IF($EQ$16>11,$AD$6*$CQ$6)))),IF(AND($EQ$16=$QD$4,$C$6=12),$CQ$6*$AD$6,IF(AND($EQ$16=$QD$4+1,$C$6<12,ES17<=$C$6),$CQ$6*$AD$6,\" \")))","v":" "}," "," "," "," "," "," "," "," "," "," ",{"$f":"IF(OR(FD$16=\" \",FD$16=0,FD21=0),\" \",SUMPRODUCT(FE21:FP21,FE22:FP22)/FD21)","v":" "},{"$f":"IF(AND($FD$15>=$B$5,$FD$15<$B$6),IF($FD$16=1,IF(FE17>=$C$5,$Q$6*$CQ$6,\" \"),IF(AND($FD$16>1,$FD$16<=10),$Q$6*$CQ$6,IF($FD$16=11,IF(FE17<$C$5,$Q$6*$CQ$6,$AD$6*$CQ$6),IF($FD$16>11,$AD$6*$CQ$6)))),IF(AND($FD$16=$QD$4,$C$6=12),$CQ$6*$AD$6,IF(AND($FD$16=$QD$4+1,$C$6<12,FE17<=$C$6),$CQ$6*$AD$6,\" \")))","v":" "},{"$f":"IF(AND($FD$15>=$B$5,$FD$15<$B$6),IF($FD$16=1,IF(FF17>=$C$5,$Q$6*$CQ$6,\" \"),IF(AND($FD$16>1,$FD$16<=10),$Q$6*$CQ$6,IF($FD$16=11,IF(FF17<$C$5,$Q$6*$CQ$6,$AD$6*$CQ$6),IF($FD$16>11,$AD$6*$CQ$6)))),IF(AND($FD$16=$QD$4,$C$6=12),$CQ$6*$AD$6,IF(AND($FD$16=$QD$4+1,$C$6<12,FF17<=$C$6),$CQ$6*$AD$6,\" \")))","v":" "}," "," "," "," "," "," "," "," "," "," ",{"$f":"IF(OR(FQ$16=\" \",FQ$16=0,FQ21=0),\" \",SUMPRODUCT(FR21:GC21,FR22:GC22)/FQ21)","v":" "},{"$f":"IF(AND($FQ$15>=$B$5,$FQ$15<$B$6),IF($FQ$16=1,IF(FR17>=$C$5,$Q$6*$CQ$6,\" \"),IF(AND($FQ$16>1,$FQ$16<=10),$Q$6*$CQ$6,IF($FQ$16=11,IF(FR17<$C$5,$Q$6*$CQ$6,$AD$6*$CQ$6),IF($FQ$16>11,$AD$6*$CQ$6)))),IF(AND($FQ$16=$QD$4,$C$6=12),$CQ$6*$AD$6,IF(AND($FQ$16=$QD$4+1,$C$6<12,FR17<=$C$6),$CQ$6*$AD$6,\" \")))","v":" "},{"$f":"IF(AND($FQ$15>=$B$5,$FQ$15<$B$6),IF($FQ$16=1,IF(FS17>=$C$5,$Q$6*$CQ$6,\" \"),IF(AND($FQ$16>1,$FQ$16<=10),$Q$6*$CQ$6,IF($FQ$16=11,IF(FS17<$C$5,$Q$6*$CQ$6,$AD$6*$CQ$6),IF($FQ$16>11,$AD$6*$CQ$6)))),IF(AND($FQ$16=$QD$4,$C$6=12),$CQ$6*$AD$6,IF(AND($FQ$16=$QD$4+1,$C$6<12,FS17<=$C$6),$CQ$6*$AD$6,\" \")))","v":" "}," "," "," "," "," "," "," "," "," "," ",{"$f":"IF(OR(GD$16=\" \",GD$16=0,GD21=0),\" \",SUMPRODUCT(GE21:GP21,GE22:GP22)/GD21)","v":" "},{"$f":"IF(AND($GD$15>=$B$5,$GD$15<$B$6),IF($GD$16=1,IF(GE17>=$C$5,$Q$6*$CQ$6,\" \"),IF(AND($GD$16>1,$GD$16<=10),$Q$6*$CQ$6,IF($GD$16=11,IF(GE17<$C$5,$Q$6*$CQ$6,$AD$6*$CQ$6),IF($GD$16>11,$AD$6*$CQ$6)))),IF(AND($GD$16=$QD$4,$C$6=12),$CQ$6*$AD$6,IF(AND($GD$16=$QD$4+1,$C$6<12,GE17<=$C$6),$CQ$6*$AD$6,\" \")))","v":" "},{"$f":"IF(AND($GD$15>=$B$5,$GD$15<$B$6),IF($GD$16=1,IF(GF17>=$C$5,$Q$6*$CQ$6,\" \"),IF(AND($GD$16>1,$GD$16<=10),$Q$6*$CQ$6,IF($GD$16=11,IF(GF17<$C$5,$Q$6*$CQ$6,$AD$6*$CQ$6),IF($GD$16>11,$AD$6*$CQ$6)))),IF(AND($GD$16=$QD$4,$C$6=12),$CQ$6*$AD$6,IF(AND($GD$16=$QD$4+1,$C$6<12,GF17<=$C$6),$CQ$6*$AD$6,\" \")))","v":" "}," "," "," "," "," "," "," "," "," "," ",{"$f":"IF(OR(GQ$16=\" \",GQ$16=0,GQ21=0),\" \",SUMPRODUCT(GR21:HC21,GR22:HC22)/GQ21)","v":" "},{"$f":"IF(AND($GQ$15>=$B$5,$GQ$15<$B$6),IF($GQ$16=1,IF(GR17>=$C$5,$Q$6*$CQ$6,\" \"),IF(AND($GQ$16>1,$GQ$16<=10),$Q$6*$CQ$6,IF($GQ$16=11,IF(GR17<$C$5,$Q$6*$CQ$6,$AD$6*$CQ$6),IF($GQ$16>11,$AD$6*$CQ$6)))),IF(AND($GQ$16=$QD$4,$C$6=12),$CQ$6*$AD$6,IF(AND($GQ$16=$QD$4+1,$C$6<12,GR17<=$C$6),$CQ$6*$AD$6,\" \")))","v":" "},{"$f":"IF(AND($GQ$15>=$B$5,$GQ$15<$B$6),IF($GQ$16=1,IF(GS17>=$C$5,$Q$6*$CQ$6,\" \"),IF(AND($GQ$16>1,$GQ$16<=10),$Q$6*$CQ$6,IF($GQ$16=11,IF(GS17<$C$5,$Q$6*$CQ$6,$AD$6*$CQ$6),IF($GQ$16>11,$AD$6*$CQ$6)))),IF(AND($GQ$16=$QD$4,$C$6=12),$CQ$6*$AD$6,IF(AND($GQ$16=$QD$4+1,$C$6<12,GS17<=$C$6),$CQ$6*$AD$6,\" \")))","v":" "}," "," "," "," "," "," "," "," "," "," ",{"$f":"IF(OR(HD$16=\" \",HD$16=0,HD21=0),\" \",SUMPRODUCT(HE21:HP21,HE22:HP22)/HD21)","v":" "},{"$f":"IF(AND($HD$15>=$B$5,$HD$15<$B$6),IF($HD$16=1,IF(HE17>=$C$5,$Q$6*$CQ$6,\" \"),IF(AND($HD$16>1,$HD$16<=10),$Q$6*$CQ$6,IF($HD$16=11,IF(HE17<$C$5,$Q$6*$CQ$6,$AD$6*$CQ$6),IF($HD$16>11,$AD$6*$CQ$6)))),IF(AND($HD$16=$QD$4,$C$6=12),$CQ$6*$AD$6,IF(AND($HD$16=$QD$4+1,$C$6<12,HE17<=$C$6),$CQ$6*$AD$6,\" \")))","v":" "},{"$f":"IF(AND($HD$15>=$B$5,$HD$15<$B$6),IF($HD$16=1,IF(HF17>=$C$5,$Q$6*$CQ$6,\" \"),IF(AND($HD$16>1,$HD$16<=10),$Q$6*$CQ$6,IF($HD$16=11,IF(HF17<$C$5,$Q$6*$CQ$6,$AD$6*$CQ$6),IF($HD$16>11,$AD$6*$CQ$6)))),IF(AND($HD$16=$QD$4,$C$6=12),$CQ$6*$AD$6,IF(AND($HD$16=$QD$4+1,$C$6<12,HF17<=$C$6),$CQ$6*$AD$6,\" \")))","v":" "}," "," "," "," "," "," "," "," "," "," ",{"$f":"IF(OR(HQ$16=\" \",HQ$16=0,HQ21=0),\" \",SUMPRODUCT(HR21:IC21,HR22:IC22)/HQ21)","v":" "},{"$f":"IF(AND($HQ$15>=$B$5,$HQ$15<$B$6),IF($HQ$16=1,IF(HR17>=$C$5,$Q$6*$CQ$6,\" \"),IF(AND($HQ$16>1,$HQ$16<=10),$Q$6*$CQ$6,IF($HQ$16=11,IF(HR17<$C$5,$Q$6*$CQ$6,$AD$6*$CQ$6),IF($HQ$16>11,$AD$6*$CQ$6)))),IF(AND($HQ$16=$QD$4,$C$6=12),$CQ$6*$AD$6,IF(AND($HQ$16=$QD$4+1,$C$6<12,HR17<=$C$6),$CQ$6*$AD$6,\" \")))","v":" "},{"$f":"IF(AND($HQ$15>=$B$5,$HQ$15<$B$6),IF($HQ$16=1,IF(HS17>=$C$5,$Q$6*$CQ$6,\" \"),IF(AND($HQ$16>1,$HQ$16<=10),$Q$6*$CQ$6,IF($HQ$16=11,IF(HS17<$C$5,$Q$6*$CQ$6,$AD$6*$CQ$6),IF($HQ$16>11,$AD$6*$CQ$6)))),IF(AND($HQ$16=$QD$4,$C$6=12),$CQ$6*$AD$6,IF(AND($HQ$16=$QD$4+1,$C$6<12,HS17<=$C$6),$CQ$6*$AD$6,\" \")))","v":" "}," "," "," "," "," "," "," "," "," "," ",{"$f":"IF(OR(ID$16=\" \",ID$16=0,ID21=0),\" \",SUMPRODUCT(IE21:IP21,IE22:IP22)/ID21)","v":" "},{"$f":"IF(AND($ID$15>=$B$5,$ID$15<$B$6),IF($ID$16=1,IF(IE17>=$C$5,$Q$6*$CQ$6,\" \"),IF(AND($ID$16>1,$ID$16<=10),$Q$6*$CQ$6,IF($ID$16=11,IF(IE17<$C$5,$Q$6*$CQ$6,$AD$6*$CQ$6),IF($ID$16>11,$AD$6*$CQ$6)))),IF(AND($ID$16=$QD$4,$C$6=12),$CQ$6*$AD$6,IF(AND($ID$16=$QD$4+1,$C$6<12,IE17<=$C$6),$CQ$6*$AD$6,\" \")))","v":" "},{"$f":"IF(AND($ID$15>=$B$5,$ID$15<$B$6),IF($ID$16=1,IF(IF17>=$C$5,$Q$6*$CQ$6,\" \"),IF(AND($ID$16>1,$ID$16<=10),$Q$6*$CQ$6,IF($ID$16=11,IF(IF17<$C$5,$Q$6*$CQ$6,$AD$6*$CQ$6),IF($ID$16>11,$AD$6*$CQ$6)))),IF(AND($ID$16=$QD$4,$C$6=12),$CQ$6*$AD$6,IF(AND($ID$16=$QD$4+1,$C$6<12,IF17<=$C$6),$CQ$6*$AD$6,\" \")))","v":" "}," "," "," "," "," "," "," "," "," "," ",{"$f":"IF(OR(IQ$16=\" \",IQ$16=0,IQ21=0),\" \",SUMPRODUCT(IR21:JC21,IR22:JC22)/IQ21)","v":" "},{"$f":"IF(AND($IQ$15>=$B$5,$IQ$15<$B$6),IF($IQ$16=1,IF(IR17>=$C$5,$Q$6*$CQ$6,\" \"),IF(AND($IQ$16>1,$IQ$16<=10),$Q$6*$CQ$6,IF($IQ$16=11,IF(IR17<$C$5,$Q$6*$CQ$6,$AD$6*$CQ$6),IF($IQ$16>11,$AD$6*$CQ$6)))),IF(AND($IQ$16=$QD$4,$C$6=12),$CQ$6*$AD$6,IF(AND($IQ$16=$QD$4+1,$C$6<12,IR17<=$C$6),$CQ$6*$AD$6,\" \")))","v":" "}," "," "," "," "," "," "," "," "," "," ",{"$f":"IF(AND($IQ$15>=$B$5,$IQ$15<$B$6),IF($IQ$16=1,IF(JC17>=$C$5,$Q$6*$CQ$6,\" \"),IF(AND($IQ$16>1,$IQ$16<=10),$Q$6*$CQ$6,IF($IQ$16=11,IF(JC17<$C$5,$Q$6*$CQ$6,$AD$6*$CQ$6),IF($IQ$16>11,$AD$6*$CQ$6)))),IF(AND($IQ$16=$QD$4,$C$6=12),$CQ$6*$AD$6,IF(AND($IQ$16=$QD$4+1,$C$6<12,JC17<=$C$6),$CQ$6*$AD$6,\" \")))","v":" "},{"$f":"IF(OR(JD$16=\" \",JD$16=0,JD21=0),\" \",SUMPRODUCT(JE21:JP21,JE22:JP22)/JD21)","v":" "},{"$f":"IF(AND($JD$15>=$B$5,$JD$15<$B$6),IF($JD$16=1,IF(JE17>=$C$5,$Q$6*$CQ$6,\" \"),IF(AND($JD$16>1,$JD$16<=10),$Q$6*$CQ$6,IF($JD$16=11,IF(JE17<$C$5,$Q$6*$CQ$6,$AD$6*$CQ$6),IF($JD$16>11,$AD$6*$CQ$6)))),IF(AND($JD$16=$QD$4,$C$6=12),$CQ$6*$AD$6,IF(AND($JD$16=$QD$4+1,$C$6<12,JE17<=$C$6),$CQ$6*$AD$6,\" \")))","v":" "},{"$f":"IF(AND($JD$15>=$B$5,$JD$15<$B$6),IF($JD$16=1,IF(JF17>=$C$5,$Q$6*$CQ$6,\" \"),IF(AND($JD$16>1,$JD$16<=10),$Q$6*$CQ$6,IF($JD$16=11,IF(JF17<$C$5,$Q$6*$CQ$6,$AD$6*$CQ$6),IF($JD$16>11,$AD$6*$CQ$6)))),IF(AND($JD$16=$QD$4,$C$6=12),$CQ$6*$AD$6,IF(AND($JD$16=$QD$4+1,$C$6<12,JF17<=$C$6),$CQ$6*$AD$6,\" \")))","v":" "}," "," "," "," "," "," "," "," "," "," ",{"$f":"IF(OR(JQ$16=\" \",JQ$16=0,JQ21=0),\" \",SUMPRODUCT(JR21:KC21,JR22:KC22)/JQ21)","v":" "},{"$f":"IF(AND($JQ$15>=$B$5,$JQ$15<$B$6),IF($JQ$16=1,IF(JR17>=$C$5,$Q$6*$CQ$6,\" \"),IF(AND($JQ$16>1,$JQ$16<=10),$Q$6*$CQ$6,IF($JQ$16=11,IF(JR17<$C$5,$Q$6*$CQ$6,$AD$6*$CQ$6),IF($JQ$16>11,$AD$6*$CQ$6)))),IF(AND($JQ$16=$QD$4,$C$6=12),$CQ$6*$AD$6,IF(AND($JQ$16=$QD$4+1,$C$6<12,JR17<=$C$6),$CQ$6*$AD$6,\" \")))","v":" "},{"$f":"IF(AND($JQ$15>=$B$5,$JQ$15<$B$6),IF($JQ$16=1,IF(JS17>=$C$5,$Q$6*$CQ$6,\" \"),IF(AND($JQ$16>1,$JQ$16<=10),$Q$6*$CQ$6,IF($JQ$16=11,IF(JS17<$C$5,$Q$6*$CQ$6,$AD$6*$CQ$6),IF($JQ$16>11,$AD$6*$CQ$6)))),IF(AND($JQ$16=$QD$4,$C$6=12),$CQ$6*$AD$6,IF(AND($JQ$16=$QD$4+1,$C$6<12,JS17<=$C$6),$CQ$6*$AD$6,\" \")))","v":" "}," "," "," "," "," "," "," "," "," "," ",{"$f":"IF(OR(KD$16=\" \",KD$16=0,KD21=0),\" \",SUMPRODUCT(KE21:KP21,KE22:KP22)/KD21)","v":" "},{"$f":"IF(AND($KD$15>=$B$5,$KD$15<$B$6),IF($KD$16=1,IF(KE17>=$C$5,$Q$6*$CQ$6,\" \"),IF(AND($KD$16>1,$KD$16<=10),$Q$6*$CQ$6,IF($KD$16=11,IF(KE17<$C$5,$Q$6*$CQ$6,$AD$6*$CQ$6),IF($KD$16>11,$AD$6*$CQ$6)))),IF(AND($KD$16=$QD$4,$C$6=12),$CQ$6*$AD$6,IF(AND($KD$16=$QD$4+1,$C$6<12,KE17<=$C$6),$CQ$6*$AD$6,\" \")))","v":" "},{"$f":"IF(AND($KD$15>=$B$5,$KD$15<$B$6),IF($KD$16=1,IF(KF17>=$C$5,$Q$6*$CQ$6,\" \"),IF(AND($KD$16>1,$KD$16<=10),$Q$6*$CQ$6,IF($KD$16=11,IF(KF17<$C$5,$Q$6*$CQ$6,$AD$6*$CQ$6),IF($KD$16>11,$AD$6*$CQ$6)))),IF(AND($KD$16=$QD$4,$C$6=12),$CQ$6*$AD$6,IF(AND($KD$16=$QD$4+1,$C$6<12,KF17<=$C$6),$CQ$6*$AD$6,\" \")))","v":" "}," "," "," "," "," "," "," "," "," "," ",{"$f":"IF(OR(KQ$16=\" \",KQ$16=0,KQ21=0),\" \",SUMPRODUCT(KR21:LC21,KR22:LC22)/KQ21)","v":" "},{"$f":"IF(AND($KQ$15>=$B$5,$KQ$15<$B$6),IF($KQ$16=1,IF(KR17>=$C$5,$Q$6*$CQ$6,\" \"),IF(AND($KQ$16>1,$KQ$16<=10),$Q$6*$CQ$6,IF($KQ$16=11,IF(KR17<$C$5,$Q$6*$CQ$6,$AD$6*$CQ$6),IF($KQ$16>11,$AD$6*$CQ$6)))),IF(AND($KQ$16=$QD$4,$C$6=12),$CQ$6*$AD$6,IF(AND($KQ$16=$QD$4+1,$C$6<12,KR17<=$C$6),$CQ$6*$AD$6,\" \")))","v":" "},{"$f":"IF(AND($KQ$15>=$B$5,$KQ$15<$B$6),IF($KQ$16=1,IF(KS17>=$C$5,$Q$6*$CQ$6,\" \"),IF(AND($KQ$16>1,$KQ$16<=10),$Q$6*$CQ$6,IF($KQ$16=11,IF(KS17<$C$5,$Q$6*$CQ$6,$AD$6*$CQ$6),IF($KQ$16>11,$AD$6*$CQ$6)))),IF(AND($KQ$16=$QD$4,$C$6=12),$CQ$6*$AD$6,IF(AND($KQ$16=$QD$4+1,$C$6<12,KS17<=$C$6),$CQ$6*$AD$6,\" \")))","v":" "}," "," "," "," "," "," "," "," "," "," ",{"$f":"IF(OR(LD$16=\" \",LD$16=0,LD21=0),\" \",SUMPRODUCT(LE21:LP21,LE22:LP22)/LD21)","v":" "},{"$f":"IF(AND($LD$15>=$B$5,$LD$15<$B$6),IF($LD$16=1,IF(LE17>=$C$5,$Q$6*$CQ$6,\" \"),IF(AND($LD$16>1,$LD$16<=10),$Q$6*$CQ$6,IF($LD$16=11,IF(LE17<$C$5,$Q$6*$CQ$6,$AD$6*$CQ$6),IF($LD$16>11,$AD$6*$CQ$6)))),IF(AND($LD$16=$QD$4,$C$6=12),$CQ$6*$AD$6,IF(AND($LD$16=$QD$4+1,$C$6<12,LE17<=$C$6),$CQ$6*$AD$6,\" \")))","v":" "},{"$f":"IF(AND($LD$15>=$B$5,$LD$15<$B$6),IF($LD$16=1,IF(LF17>=$C$5,$Q$6*$CQ$6,\" \"),IF(AND($LD$16>1,$LD$16<=10),$Q$6*$CQ$6,IF($LD$16=11,IF(LF17<$C$5,$Q$6*$CQ$6,$AD$6*$CQ$6),IF($LD$16>11,$AD$6*$CQ$6)))),IF(AND($LD$16=$QD$4,$C$6=12),$CQ$6*$AD$6,IF(AND($LD$16=$QD$4+1,$C$6<12,LF17<=$C$6),$CQ$6*$AD$6,\" \")))","v":" "}," "," "," "," "," "," "," "," "," "," ",{"$f":"IF(OR(LQ$16=\" \",LQ$16=0,LQ21=0),\" \",SUMPRODUCT(LR21:MC21,LR22:MC22)/LQ21)","v":" "},{"$f":"IF(AND($LQ$15>=$B$5,$LQ$15<$B$6),IF($LQ$16=1,IF(LR17>=$C$5,$Q$6*$CQ$6,\" \"),IF(AND($LQ$16>1,$LQ$16<=10),$Q$6*$CQ$6,IF($LQ$16=11,IF(LR17<$C$5,$Q$6*$CQ$6,$AD$6*$CQ$6),IF($LQ$16>11,$AD$6*$CQ$6)))),IF(AND($LQ$16=$QD$4,$C$6=12),$CQ$6*$AD$6,IF(AND($LQ$16=$QD$4+1,$C$6<12,LR17<=$C$6),$CQ$6*$AD$6,\" \")))","v":" "},{"$f":"IF(AND($LQ$15>=$B$5,$LQ$15<$B$6),IF($LQ$16=1,IF(LS17>=$C$5,$Q$6*$CQ$6,\" \"),IF(AND($LQ$16>1,$LQ$16<=10),$Q$6*$CQ$6,IF($LQ$16=11,IF(LS17<$C$5,$Q$6*$CQ$6,$AD$6*$CQ$6),IF($LQ$16>11,$AD$6*$CQ$6)))),IF(AND($LQ$16=$QD$4,$C$6=12),$CQ$6*$AD$6,IF(AND($LQ$16=$QD$4+1,$C$6<12,LS17<=$C$6),$CQ$6*$AD$6,\" \")))","v":" "}," "," "," "," "," "," "," "," "," "," ",{"$f":"IF(OR(MD$16=\" \",MD$16=0,MD21=0),\" \",SUMPRODUCT(ME21:MP21,ME22:MP22)/MD21)","v":" "},{"$f":"IF(AND($MD$15>=$B$5,$MD$15<$B$6),IF($MD$16=1,IF(ME17>=$C$5,$Q$6*$CQ$6,\" \"),IF(AND($MD$16>1,$MD$16<=10),$Q$6*$CQ$6,IF($MD$16=11,IF(ME17<$C$5,$Q$6*$CQ$6,$AD$6*$CQ$6),IF($MD$16>11,$AD$6*$CQ$6)))),IF(AND($MD$16=$QD$4,$C$6=12),$CQ$6*$AD$6,IF(AND($MD$16=$QD$4+1,$C$6<12,ME17<=$C$6),$CQ$6*$AD$6,\" \")))","v":" "},{"$f":"IF(AND($MD$15>=$B$5,$MD$15<$B$6),IF($MD$16=1,IF(MF17>=$C$5,$Q$6*$CQ$6,\" \"),IF(AND($MD$16>1,$MD$16<=10),$Q$6*$CQ$6,IF($MD$16=11,IF(MF17<$C$5,$Q$6*$CQ$6,$AD$6*$CQ$6),IF($MD$16>11,$AD$6*$CQ$6)))),IF(AND($MD$16=$QD$4,$C$6=12),$CQ$6*$AD$6,IF(AND($MD$16=$QD$4+1,$C$6<12,MF17<=$C$6),$CQ$6*$AD$6,\" \")))","v":" "}," "," "," "," "," "," "," "," "," "," ",{"$f":"IF(OR(MQ$16=\" \",MQ$16=0,MQ21=0),\" \",SUMPRODUCT(MR21:NC21,MR22:NC22)/MQ21)","v":" "},{"$f":"IF(AND($MQ$15>=$B$5,$MQ$15<$B$6),IF($MQ$16=1,IF(MR17>=$C$5,$Q$6*$CQ$6,\" \"),IF(AND($MQ$16>1,$MQ$16<=10),$Q$6*$CQ$6,IF($MQ$16=11,IF(MR17<$C$5,$Q$6*$CQ$6,$AD$6*$CQ$6),IF($MQ$16>11,$AD$6*$CQ$6)))),IF(AND($MQ$16=$QD$4,$C$6=12),$CQ$6*$AD$6,IF(AND($MQ$16=$QD$4+1,$C$6<12,MR17<=$C$6),$CQ$6*$AD$6,\" \")))","v":" "},{"$f":"IF(AND($MQ$15>=$B$5,$MQ$15<$B$6),IF($MQ$16=1,IF(MS17>=$C$5,$Q$6*$CQ$6,\" \"),IF(AND($MQ$16>1,$MQ$16<=10),$Q$6*$CQ$6,IF($MQ$16=11,IF(MS17<$C$5,$Q$6*$CQ$6,$AD$6*$CQ$6),IF($MQ$16>11,$AD$6*$CQ$6)))),IF(AND($MQ$16=$QD$4,$C$6=12),$CQ$6*$AD$6,IF(AND($MQ$16=$QD$4+1,$C$6<12,MS17<=$C$6),$CQ$6*$AD$6,\" \")))","v":" "}," "," "," "," "," "," "," "," "," "," ",{"$f":"IF(OR(ND$16=\" \",ND$16=0,ND21=0),\" \",SUMPRODUCT(NE21:NP21,NE22:NP22)/ND21)","v":" "},{"$f":"IF(AND($ND$15>=$B$5,$ND$15<$B$6),IF($ND$16=1,IF(NE17>=$C$5,$Q$6*$CQ$6,\" \"),IF(AND($ND$16>1,$ND$16<=10),$Q$6*$CQ$6,IF($ND$16=11,IF(NE17<$C$5,$Q$6*$CQ$6,$AD$6*$CQ$6),IF($ND$16>11,$AD$6*$CQ$6)))),IF(AND($ND$16=$QD$4,$C$6=12),$CQ$6*$AD$6,IF(AND($ND$16=$QD$4+1,$C$6<12,NE17<=$C$6),$CQ$6*$AD$6,\" \")))","v":" "},{"$f":"IF(AND($ND$15>=$B$5,$ND$15<$B$6),IF($ND$16=1,IF(NF17>=$C$5,$Q$6*$CQ$6,\" \"),IF(AND($ND$16>1,$ND$16<=10),$Q$6*$CQ$6,IF($ND$16=11,IF(NF17<$C$5,$Q$6*$CQ$6,$AD$6*$CQ$6),IF($ND$16>11,$AD$6*$CQ$6)))),IF(AND($ND$16=$QD$4,$C$6=12),$CQ$6*$AD$6,IF(AND($ND$16=$QD$4+1,$C$6<12,NF17<=$C$6),$CQ$6*$AD$6,\" \")))","v":" "}," "," "," "," "," "," "," "," "," "," ",{"$f":"IF(OR(NQ$16=\" \",NQ$16=0,NQ21=0),\" \",SUMPRODUCT(NR21:OC21,NR22:OC22)/NQ21)","v":" "},{"$f":"IF(AND($NQ$15>=$B$5,$NQ$15<$B$6),IF($NQ$16=1,IF(NR17>=$C$5,$Q$6*$CQ$6,\" \"),IF(AND($NQ$16>1,$NQ$16<=10),$Q$6*$CQ$6,IF($NQ$16=11,IF(NR17<$C$5,$Q$6*$CQ$6,$AD$6*$CQ$6),IF($NQ$16>11,$AD$6*$CQ$6)))),IF(AND($NQ$16=$QD$4,$C$6=12),$CQ$6*$AD$6,IF(AND($NQ$16=$QD$4+1,$C$6<12,NR17<=$C$6),$CQ$6*$AD$6,\" \")))","v":" "},{"$f":"IF(AND($NQ$15>=$B$5,$NQ$15<$B$6),IF($NQ$16=1,IF(NS17>=$C$5,$Q$6*$CQ$6,\" \"),IF(AND($NQ$16>1,$NQ$16<=10),$Q$6*$CQ$6,IF($NQ$16=11,IF(NS17<$C$5,$Q$6*$CQ$6,$AD$6*$CQ$6),IF($NQ$16>11,$AD$6*$CQ$6)))),IF(AND($NQ$16=$QD$4,$C$6=12),$CQ$6*$AD$6,IF(AND($NQ$16=$QD$4+1,$C$6<12,NS17<=$C$6),$CQ$6*$AD$6,\" \")))","v":" "}," "," "," "," "," "," "," "," "," "," ",{"$f":"IF(OR(OD$16=\" \",OD$16=0,OD21=0),\" \",SUMPRODUCT(OE21:OP21,OE22:OP22)/OD21)","v":" "},{"$f":"IF(AND($OD$15>=$B$5,$OD$15<$B$6),IF($OD$16=1,IF(OE17>=$C$5,$Q$6*$CQ$6,\" \"),IF(AND($OD$16>1,$OD$16<=10),$Q$6*$CQ$6,IF($OD$16=11,IF(OE17<$C$5,$Q$6*$CQ$6,$AD$6*$CQ$6),IF($OD$16>11,$AD$6*$CQ$6)))),IF(AND($OD$16=$QD$4,$C$6=12),$CQ$6*$AD$6,IF(AND($OD$16=$QD$4+1,$C$6<12,OE17<=$C$6),$CQ$6*$AD$6,\" \")))","v":" "},{"$f":"IF(AND($OD$15>=$B$5,$OD$15<$B$6),IF($OD$16=1,IF(OF17>=$C$5,$Q$6*$CQ$6,\" \"),IF(AND($OD$16>1,$OD$16<=10),$Q$6*$CQ$6,IF($OD$16=11,IF(OF17<$C$5,$Q$6*$CQ$6,$AD$6*$CQ$6),IF($OD$16>11,$AD$6*$CQ$6)))),IF(AND($OD$16=$QD$4,$C$6=12),$CQ$6*$AD$6,IF(AND($OD$16=$QD$4+1,$C$6<12,OF17<=$C$6),$CQ$6*$AD$6,\" \")))","v":" "}," "," "," "," "," "," "," "," "," "," ",{"$f":"IF(OR(OQ$16=\" \",OQ$16=0,OQ21=0),\" \",SUMPRODUCT(OR21:PC21,OR22:PC22)/OQ21)","v":" "},{"$f":"IF(AND($OQ$15>=$B$5,$OQ$15<$B$6),IF($OQ$16=1,IF(OR17>=$C$5,$Q$6*$CQ$6,\" \"),IF(AND($OQ$16>1,$OQ$16<=10),$Q$6*$CQ$6,IF($OQ$16=11,IF(OR17<$C$5,$Q$6*$CQ$6,$AD$6*$CQ$6),IF($OQ$16>11,$AD$6*$CQ$6)))),IF(AND($OQ$16=$QD$4,$C$6=12),$CQ$6*$AD$6,IF(AND($OQ$16=$QD$4+1,$C$6<12,OR17<=$C$6),$CQ$6*$AD$6,\" \")))","v":" "},{"$f":"IF(AND($OQ$15>=$B$5,$OQ$15<$B$6),IF($OQ$16=1,IF(OS17>=$C$5,$Q$6*$CQ$6,\" \"),IF(AND($OQ$16>1,$OQ$16<=10),$Q$6*$CQ$6,IF($OQ$16=11,IF(OS17<$C$5,$Q$6*$CQ$6,$AD$6*$CQ$6),IF($OQ$16>11,$AD$6*$CQ$6)))),IF(AND($OQ$16=$QD$4,$C$6=12),$CQ$6*$AD$6,IF(AND($OQ$16=$QD$4+1,$C$6<12,OS17<=$C$6),$CQ$6*$AD$6,\" \")))","v":" "}," "," "," "," "," "," "," "," "," "," ",{"$f":"IF(OR(PD$16=\" \",PD$16=0,PD21=0),\" \",SUMPRODUCT(PE21:PP21,PE22:PP22)/PD21)","v":" "},{"$f":"IF(AND($PD$15>=$B$5,$PD$15<$B$6),IF($PD$16=1,IF(PE17>=$C$5,$Q$6*$CQ$6,\" \"),IF(AND($PD$16>1,$PD$16<=10),$Q$6*$CQ$6,IF($PD$16=11,IF(PE17<$C$5,$Q$6*$CQ$6,$AD$6*$CQ$6),IF($PD$16>11,$AD$6*$CQ$6)))),IF(AND($PD$16=$QD$4,$C$6=12),$CQ$6*$AD$6,IF(AND($PD$16=$QD$4+1,$C$6<12,PE17<=$C$6),$CQ$6*$AD$6,\" \")))","v":" "},{"$f":"IF(AND($PD$15>=$B$5,$PD$15<$B$6),IF($PD$16=1,IF(PF17>=$C$5,$Q$6*$CQ$6,\" \"),IF(AND($PD$16>1,$PD$16<=10),$Q$6*$CQ$6,IF($PD$16=11,IF(PF17<$C$5,$Q$6*$CQ$6,$AD$6*$CQ$6),IF($PD$16>11,$AD$6*$CQ$6)))),IF(AND($PD$16=$QD$4,$C$6=12),$CQ$6*$AD$6,IF(AND($PD$16=$QD$4+1,$C$6<12,PF17<=$C$6),$CQ$6*$AD$6,\" \")))","v":" "}," "," "," "," "," "," "," "," "," "," ",{"$f":"IF(OR(PQ$16=\" \",PQ$16=0,PQ21=0),\" \",SUMPRODUCT(PR21:QC21,PR22:QC22)/PQ21)","v":" "},{"$f":"IF(AND($PQ$15>=$B$5,$PQ$15<$B$6),IF($PQ$16=1,IF(PR17>=$C$5,$Q$6*$CQ$6,\" \"),IF(AND($PQ$16>1,$PQ$16<=10),$Q$6*$CQ$6,IF($PQ$16=11,IF(PR17<$C$5,$Q$6*$CQ$6,$AD$6*$CQ$6),IF($PQ$16>11,$AD$6*$CQ$6)))),IF(AND($PQ$16=$QD$4,$C$6=12),$CQ$6*$AD$6,IF(AND($PQ$16=$QD$4+1,$C$6<12,PR17<=$C$6),$CQ$6*$AD$6,\" \")))","v":" "},{"$f":"IF(AND($PQ$15>=$B$5,$PQ$15<$B$6),IF($PQ$16=1,IF(PS17>=$C$5,$Q$6*$CQ$6,\" \"),IF(AND($PQ$16>1,$PQ$16<=10),$Q$6*$CQ$6,IF($PQ$16=11,IF(PS17<$C$5,$Q$6*$CQ$6,$AD$6*$CQ$6),IF($PQ$16>11,$AD$6*$CQ$6)))),IF(AND($PQ$16=$QD$4,$C$6=12),$CQ$6*$AD$6,IF(AND($PQ$16=$QD$4+1,$C$6<12,PS17<=$C$6),$CQ$6*$AD$6,\" \")))","v":" "}," "," "," "," "," "," "," "," "," "," "]
["Balansēšanas izdevumi","EUR",null,null,null,null,null,null,null,null,null,null,null,null,null,null,null,null,null,null,null,null,null,null,null,null,null,null,null,{"$f":"IF(OR(AD$16=\" \",AD$16=0),\" \",SUM(AE23:AP23))","v":" "},null,null,null,{"$f":"IF(OR(AH22=\" \",AH22=0),\" \",-$DD$6*AH20)","v":" "}," "," "," "," "," "," "," "," ",{"$f":"IF(OR(AQ$16=\" \",AQ$16=0),\" \",SUM(AR23:BC23))","v":" "},{"$f":"IF(OR(AR22=\" \",AR22=0),\" \",-$DD$6*AR20)","v":" "}," "," "," "," "," "," "," "," "," "," "," ",{"$f":"IF(OR(BD$16=\" \",BD$16=0),\" \",SUM(BE23:BP23))","v":" "},{"$f":"IF(OR(BE22=\" \",BE22=0),\" \",-$DD$6*BE20)","v":" "}," "," "," "," "," "," "," "," "," "," "," ",{"$f":"IF(OR(BQ$16=\" \",BQ$16=0),\" \",SUM(BR23:CC23))","v":" "},{"$f":"IF(OR(BR22=\" \",BR22=0),\" \",-$DD$6*BR20)","v":" "}," "," "," "," "," "," "," "," "," "," "," ",{"$f":"IF(OR(CD$16=\" \",CD$16=0),\" \",SUM(CE23:CP23))","v":" "},{"$f":"IF(OR(CE22=\" \",CE22=0),\" \",-$DD$6*CE20)","v":" "}," "," "," "," "," "," "," "," "," "," "," ",{"$f":"IF(OR(CQ$16=\" \",CQ$16=0),\" \",SUM(CR23:DC23))","v":" "},{"$f":"IF(OR(CR22=\" \",CR22=0),\" \",-$DD$6*CR20)","v":" "}," "," "," "," "," "," "," "," "," "," "," ",{"$f":"IF(OR(DD$16=\" \",DD$16=0),\" \",SUM(DE23:DP23))","v":" "},{"$f":"IF(OR(DE22=\" \",DE22=0),\" \",-$DD$6*DE20)","v":" "}," "," "," "," "," "," "," "," "," "," "," ",{"$f":"IF(OR(DQ$16=\" \",DQ$16=0),\" \",SUM(DR23:EC23))","v":" "},{"$f":"IF(OR(DR22=\" \",DR22=0),\" \",-$DD$6*DR20)","v":" "}," "," "," "," "," "," "," "," "," "," "," ",{"$f":"IF(OR(ED$16=\" \",ED$16=0),\" \",SUM(EE23:EP23))","v":" "},{"$f":"IF(OR(EE22=\" \",EE22=0),\" \",-$DD$6*EE20)","v":" "}," "," "," "," "," "," "," "," "," "," "," ",{"$f":"IF(OR(EQ$16=\" \",EQ$16=0),\" \",SUM(ER23:FC23))","v":" "},{"$f":"IF(OR(ER22=\" \",ER22=0),\" \",-$DD$6*ER20)","v":" "}," "," "," "," "," "," "," "," "," "," "," ",{"$f":"IF(OR(FD$16=\" \",FD$16=0),\" \",SUM(FE23:FP23))","v":" "},{"$f":"IF(OR(FE22=\" \",FE22=0),\" \",-$DD$6*FE20)","v":" "}," "," "," "," "," "," "," "," "," "," "," ",{"$f":"IF(OR(FQ$16=\" \",FQ$16=0),\" \",SUM(FR23:GC23))","v":" "},{"$f":"IF(OR(FR22=\" \",FR22=0),\" \",-$DD$6*FR20)","v":" "}," "," "," "," "," "," "," "," "," "," "," ",{"$f":"IF(OR(GD$16=\" \",GD$16=0),\" \",SUM(GE23:GP23))","v":" "},{"$f":"IF(OR(GE22=\" \",GE22=0),\" \",-$DD$6*GE20)","v":" "}," "," "," "," "," "," "," "," "," "," "," ",{"$f":"IF(OR(GQ$16=\" \",GQ$16=0),\" \",SUM(GR23:HC23))","v":" "},{"$f":"IF(OR(GR22=\" \",GR22=0),\" \",-$DD$6*GR20)","v":" "}," "," "," "," "," "," "," "," "," "," "," ",{"$f":"IF(OR(HD$16=\" \",HD$16=0),\" \",SUM(HE23:HP23))","v":" "},{"$f":"IF(OR(HE22=\" \",HE22=0),\" \",-$DD$6*HE20)","v":" "}," "," "," "," "," "," "," "," "," "," "," ",{"$f":"IF(OR(HQ$16=\" \",HQ$16=0),\" \",SUM(HR23:IC23))","v":" "},{"$f":"IF(OR(HR22=\" \",HR22=0),\" \",-$DD$6*HR20)","v":" "}," "," "," "," "," "," "," "," "," "," "," ",{"$f":"IF(OR(ID$16=\" \",ID$16=0),\" \",SUM(IE23:IP23))","v":" "},{"$f":"IF(OR(IE22=\" \",IE22=0),\" \",-$DD$6*IE20)","v":" "}," "," "," "," "," "," "," "," "," "," "," ",{"$f":"IF(OR(IQ$16=\" \",IQ$16=0),\" \",SUM(IR23:JC23))","v":" "},{"$f":"IF(OR(IR22=\" \",IR22=0),\" \",-$DD$6*IR20)","v":" "}," "," "," "," "," "," "," "," "," "," "," ",{"$f":"IF(OR(JD$16=\" \",JD$16=0),\" \",SUM(JE23:JP23))","v":" "},{"$f":"IF(OR(JE22=\" \",JE22=0),\" \",-$DD$6*JE20)","v":" "}," "," "," "," "," "," "," "," "," "," "," ",{"$f":"IF(OR(JQ$16=\" \",JQ$16=0),\" \",SUM(JR23:KC23))","v":" "},{"$f":"IF(OR(JR22=\" \",JR22=0),\" \",-$DD$6*JR20)","v":" "}," "," "," "," "," "," "," "," "," "," "," ",{"$f":"IF(OR(KD$16=\" \",KD$16=0),\" \",SUM(KE23:KP23))","v":" "},{"$f":"IF(OR(KE22=\" \",KE22=0),\" \",-$DD$6*KE20)","v":" "}," "," "," "," "," "," "," "," "," "," "," ",{"$f":"IF(OR(KQ$16=\" \",KQ$16=0),\" \",SUM(KR23:LC23))","v":" "},{"$f":"IF(OR(KR22=\" \",KR22=0),\" \",-$DD$6*KR20)","v":" "}," "," "," "," "," "," "," "," "," "," "," ",{"$f":"IF(OR(LD$16=\" \",LD$16=0),\" \",SUM(LE23:LP23))","v":" "},{"$f":"IF(OR(LE22=\" \",LE22=0),\" \",-$DD$6*LE20)","v":" "}," "," "," "," "," "," "," "," "," "," "," ",{"$f":"IF(OR(LQ$16=\" \",LQ$16=0),\" \",SUM(LR23:MC23))","v":" "},{"$f":"IF(OR(LR22=\" \",LR22=0),\" \",-$DD$6*LR20)","v":" "}," "," "," "," "," "," "," "," "," "," "," ",{"$f":"IF(OR(MD$16=\" \",MD$16=0),\" \",SUM(ME23:MP23))","v":" "},{"$f":"IF(OR(ME22=\" \",ME22=0),\" \",-$DD$6*ME20)","v":" "}," "," "," "," "," "," "," "," "," "," "," ",{"$f":"IF(OR(MQ$16=\" \",MQ$16=0),\" \",SUM(MR23:NC23))","v":" "},{"$f":"IF(OR(MR22=\" \",MR22=0),\" \",-$DD$6*MR20)","v":" "}," "," "," "," "," "," "," "," "," "," "," ",{"$f":"IF(OR(ND$16=\" \",ND$16=0),\" \",SUM(NE23:NP23))","v":" "},{"$f":"IF(OR(NE22=\" \",NE22=0),\" \",-$DD$6*NE20)","v":" "}," "," "," "," "," "," "," "," "," "," "," ",{"$f":"IF(OR(NQ$16=\" \",NQ$16=0),\" \",SUM(NR23:OC23))","v":" "},{"$f":"IF(OR(NR22=\" \",NR22=0),\" \",-$DD$6*NR20)","v":" "}," "," "," "," "," "," "," "," "," "," "," ",{"$f":"IF(OR(OD$16=\" \",OD$16=0),\" \",SUM(OE23:OP23))","v":" "},{"$f":"IF(OR(OE22=\" \",OE22=0),\" \",-$DD$6*OE20)","v":" "}," "," "," "," "," "," "," "," "," "," "," ",{"$f":"IF(OR(OQ$16=\" \",OQ$16=0),\" \",SUM(OR23:PC23))","v":" "},{"$f":"IF(OR(OR22=\" \",OR22=0),\" \",-$DD$6*OR20)","v":" "}," "," "," "," "," "," "," "," "," "," "," ",{"$f":"IF(OR(PD$16=\" \",PD$16=0),\" \",SUM(PE23:PP23))","v":" "},{"$f":"IF(OR(PE22=\" \",PE22=0),\" \",-$DD$6*PE20)","v":" "}," "," "," "," "," "," "," "," "," "," "," ",{"$f":"IF(OR(PQ$16=\" \",PQ$16=0),\" \",SUM(PR23:QC23))","v":" "},{"$f":"IF(OR(PR22=\" \",PR22=0),\" \",-$DD$6*PR20)","v":" "}," "," "," "," "," "," "," "," "," "," "," "]
["SEN (jāaizpilda ar faktisko likmi pa mēnešiem)","%",null,null,null,null,null,null,null,null,null,null,null,null,null,null,null,null,null,null,null,null,null,null,null,null,null,null,null,null,null,null,null,null,null,null,null,null,null,null,null,null,null,null,null,null,null,null,null,null,null,null,null,null,null,null,null,null,null,null,null,null,null,null,null,null,null,null,null,null,null,null,null,null,null,null,null,null,null,null,null,null,null,null,null,null,null,null,null,null,null,null,null,null,null,0.1,0.1,0.1,0.1,0.1,0.1,0.1,0.1,0.1,0.1,0.1,0.1,null,0.1,0.1,0.1,0.1,0.1,0.1,0.1,0.1,0.1,0.1,0.1,0.1,null,0.1,0.1,0.1,0.1,0.1,0.1,0.1,0.1,0.1,0.1,0.1,0.1,null,0.1,0.1,0.1,0.1,0.1,0.1,0.1,0.1,0.1,0.1,0.1,0.1]
["Izdevumi kopā","EUR",null,{"$f":"IF(D22=\" \",\" \",D26+D27+D28)","v":" "},{"$f":"IF(E22=\" \",\" \",E26+E27+E28)","v":" "},{"$f":"IF(F22=\" \",\" \",F26+F27+F28)","v":" "}," "," "," "," "," "," "," "," "," "," ",{"$f":"IF(Q22=\" \",\" \",Q26+Q27+Q28)","v":" "},{"$f":"IF(R22=\" \",\" \",R26+R27+R28)","v":" "},{"$f":"IF(S22=\" \",\" \",S26+S27+S28)","v":" "}," "," "," "," "," "," "," "," "," "," ",{"$f":"IF(AD22=\" \",\" \",AD26+AD27+AD28)","v":" "},{"$f":"IF(AE22=\" \",\" \",AE26+AE27+AE28)","v":" "},{"$f":"IF(AF22=\" \",\" \",AF26+AF27+AF28)","v":" "}," "," "," "," "," "," "," "," "," "," ",{"$f":"IF(AQ22=\" \",\" \",AQ26+AQ27+AQ28)","v":" "},{"$f":"IF(AR22=\" \",\" \",AR26+AR27+AR28)","v":" "},{"$f":"IF(AS22=\" \",\" \",AS26+AS27+AS28)","v":" "}," "," "," "," "," "," "," "," "," "," ",{"$f":"IF(BD22=\" \",\" \",BD26+BD27+BD28)","v":" "},{"$f":"IF(BE22=\" \",\" \",BE26+BE27+BE28)","v":" "},{"$f":"IF(BF22=\" \",\" \",BF26+BF27+BF28)","v":" "}," "," "," "," "," "," "," "," "," "," ",{"$f":"IF(BQ22=\" \",\" \",BQ26+BQ27+BQ28)","v":" "},{"$f":"IF(BR22=\" \",\" \",BR26+BR27+BR28)","v":" "},{"$f":"IF(BS22=\" \",\" \",BS26+BS27+BS28)","v":" "}," "," "," "," "," "," "," "," "," "," ",{"$f":"IF(CD22=\" \",\" \",CD26+CD27+CD28)","v":" "},{"$f":"IF(CE22=\" \",\" \",CE26+CE27+CE28)","v":" "},{"$f":"IF(CF22=\" \",\" \",CF26+CF27+CF28)","v":" "}," "," "," "," "," "," "," "," "," "," ",{"$f":"IF(CQ22=\" \",\" \",CQ26+CQ27+CQ28)","v":" "},{"$f":"IF(CR22=\" \",\" \",CR26+CR27+CR28)","v":" "},{"$f":"IF(CS22=\" \",\" \",CS26+CS27+CS28)","v":" "}," "," "," "," "," "," "," "," "," "," ",{"$f":"IF(DD22=\" \",\" \",DD26+DD27+DD28)","v":" "},{"$f":"IF(DE22=\" \",\" \",DE26+DE27+DE28)","v":" "},{"$f":"IF(DF22=\" \",\" \",DF26+DF27+DF28)","v":" "}," "," "," "," "," "," "," "," "," "," ",{"$f":"IF(DQ22=\" \",\" \",DQ26+DQ27+DQ28)","v":" "},{"$f":"IF(DR22=\" \",\" \",DR26+DR27+DR28)","v":" "},{"$f":"IF(DS22=\" \",\" \",DS26+DS27+DS28)","v":" "}," "," "," "," "," "," "," "," "," ",{"$f":"IF(EC22=\" \",\" \",EC26+EC27+EC28)","v":" "},{"$f":"IF(ED22=\" \",\" \",ED26+ED27+ED28)","v":" "},{"$f":"IF(EE22=\" \",\" \",EE26+EE27+EE28)","v":" "},{"$f":"IF(EF22=\" \",\" \",EF26+EF27+EF28)","v":" "}," "," "," "," "," "," "," "," "," "," ",{"$f":"IF(EQ22=\" \",\" \",EQ26+EQ27+EQ28)","v":" "},{"$f":"IF(ER22=\" \",\" \",ER26+ER27+ER28)","v":" "},{"$f":"IF(ES22=\" \",\" \",ES26+ES27+ES28)","v":" "}," "," "," "," "," "," "," "," "," "," ",{"$f":"IF(FD22=\" \",\" \",FD26+FD27+FD28)","v":" "},{"$f":"IF(FE22=\" \",\" \",FE26+FE27+FE28)","v":" "},{"$f":"IF(FF22=\" \",\" \",FF26+FF27+FF28)","v":" "}," "," "," "," "," "," "," "," "," "," ",{"$f":"IF(FQ22=\" \",\" \",FQ26+FQ27+FQ28)","v":" "},{"$f":"IF(FR22=\" \",\" \",FR26+FR27+FR28)","v":" "},{"$f":"IF(FS22=\" \",\" \",FS26+FS27+FS28)","v":" "}," "," "," "," "," "," "," "," "," "," ",{"$f":"IF(GD22=\" \",\" \",GD26+GD27+GD28)","v":" "},{"$f":"IF(GE22=\" \",\" \",GE26+GE27+GE28)","v":" "},{"$f":"IF(GF22=\" \",\" \",GF26+GF27+GF28)","v":" "}," "," "," "," "," "," "," "," "," "," ",{"$f":"IF(GQ22=\" \",\" \",GQ26+GQ27+GQ28)","v":" "},{"$f":"IF(GR22=\" \",\" \",GR26+GR27+GR28)","v":" "},{"$f":"IF(GS22=\" \",\" \",GS26+GS27+GS28)","v":" "}," "," "," "," "," "," "," "," "," "," ",{"$f":"IF(HD22=\" \",\" \",HD26+HD27+HD28)","v":" "},{"$f":"IF(HE22=\" \",\" \",HE26+HE27+HE28)","v":" "},{"$f":"IF(HF22=\" \",\" \",HF26+HF27+HF28)","v":" "}," "," "," "," "," "," "," "," "," "," ",{"$f":"IF(HQ22=\" \",\" \",HQ26+HQ27+HQ28)","v":" "},{"$f":"IF(HR22=\" \",\" \",HR26+HR27+HR28)","v":" "},{"$f":"IF(HS22=\" \",\" \",HS26+HS27+HS28)","v":" "}," "," "," "," "," "," "," "," "," "," ",{"$f":"IF(ID22=\" \",\" \",ID26+ID27+ID28)","v":" "},{"$f":"IF(IE22=\" \",\" \",IE26+IE27+IE28)","v":" "},{"$f":"IF(IF22=\" \",\" \",IF26+IF27+IF28)","v":" "}," "," "," "," "," "," "," "," "," "," ",{"$f":"IF(IQ22=\" \",\" \",IQ26+IQ27+IQ28)","v":" "},{"$f":"IF(IR22=\" \",\" \",IR26+IR27+IR28)","v":" "},{"$f":"IF(IS22=\" \",\" \",IS26+IS27+IS28)","v":" "}," "," "," "," "," "," "," "," "," "," ",{"$f":"IF(JD22=\" \",\" \",JD26+JD27+JD28)","v":" "},{"$f":"IF(JE22=\" \",\" \",JE26+JE27+JE28)","v":" "},{"$f":"IF(JF22=\" \",\" \",JF26+JF27+JF28)","v":" "}," "," "," "," "," "," "," "," "," "," ",{"$f":"IF(JQ22=\" \",\" \",JQ26+JQ27+JQ28)","v":" "},{"$f":"IF(JR22=\" \",\" \",JR26+JR27+JR28)","v":" "},{"$f":"IF(JS22=\" \",\" \",JS26+JS27+JS28)","v":" "}," "," "," "," "," "," "," "," "," "," ",{"$f":"IF(KD22=\" \",\" \",KD26+KD27+KD28)","v":" "},{"$f":"IF(KE22=\" \",\" \",KE26+KE27+KE28)","v":" "},{"$f":"IF(KF22=\" \",\" \",KF26+KF27+KF28)","v":" "}," "," "," "," "," "," "," "," "," "," ",{"$f":"IF(KQ22=\" \",\" \",KQ26+KQ27+KQ28)","v":" "},{"$f":"IF(KR22=\" \",\" \",KR26+KR27+KR28)","v":" "},{"$f":"IF(KS22=\" \",\" \",KS26+KS27+KS28)","v":" "}," "," "," "," "," "," "," "," "," "," ",{"$f":"IF(LD22=\" \",\" \",LD26+LD27+LD28)","v":" "},{"$f":"IF(LE22=\" \",\" \",LE26+LE27+LE28)","v":" "},{"$f":"IF(LF22=\" \",\" \",LF26+LF27+LF28)","v":" "}," "," "," "," "," "," "," "," "," "," ",{"$f":"IF(LQ22=\" \",\" \",LQ26+LQ27+LQ28)","v":" "},{"$f":"IF(LR22=\" \",\" \",LR26+LR27+LR28)","v":" "},{"$f":"IF(LS22=\" \",\" \",LS26+LS27+LS28)","v":" "}," "," "," "," "," "," "," "," "," "," ",{"$f":"IF(MD22=\" \",\" \",MD26+MD27+MD28)","v":" "},{"$f":"IF(ME22=\" \",\" \",ME26+ME27+ME28)","v":" "},{"$f":"IF(MF22=\" \",\" \",MF26+MF27+MF28)","v":" "}," "," "," "," "," "," "," "," "," "," ",{"$f":"IF(MQ22=\" \",\" \",MQ26+MQ27+MQ28)","v":" "},{"$f":"IF(MR22=\" \",\" \",MR26+MR27+MR28)","v":" "},{"$f":"IF(MS22=\" \",\" \",MS26+MS27+MS28)","v":" "}," "," "," "," "," "," "," "," "," "," ",{"$f":"IF(ND22=\" \",\" \",ND26+ND27+ND28)","v":" "},{"$f":"IF(NE22=\" \",\" \",NE26+NE27+NE28)","v":" "},{"$f":"IF(NF22=\" \",\" \",NF26+NF27+NF28)","v":" "}," "," "," "," "," "," "," "," "," "," ",{"$f":"IF(NQ22=\" \",\" \",NQ26+NQ27+NQ28)","v":" "},{"$f":"IF(NR22=\" \",\" \",NR26+NR27+NR28)","v":" "},null,null,null,null,null,null,null,null,null,null,null,{"$f":"IF(OD22=\" \",\" \",OD26+OD27+OD28)","v":" "},{"$f":"IF(OE22=\" \",\" \",OE26+OE27+OE28)","v":" "},{"$f":"IF(OF22=\" \",\" \",OF26+OF27+OF28)","v":" "}," "," "," "," "," "," "," "," "," "," ",{"$f":"IF(OQ22=\" \",\" \",OQ26+OQ27+OQ28)","v":" "},{"$f":"IF(OR22=\" \",\" \",OR26+OR27+OR28)","v":" "},{"$f":"IF(OS22=\" \",\" \",OS26+OS27+OS28)","v":" "}," "," "," "," "," "," "," "," "," "," ",{"$f":"IF(PD22=\" \",\" \",PD26+PD27+PD28)","v":" "},{"$f":"IF(PE22=\" \",\" \",PE26+PE27+PE28)","v":" "},{"$f":"IF(PF22=\" \",\" \",PF26+PF27+PF28)","v":" "}," "," "," "," "," "," "," "," "," "," ",{"$f":"IF(PQ22=\" \",\" \",PQ26+PQ27+PQ28)","v":" "},{"$f":"IF(PR22=\" \",\" \",PR26+PR27+PR28)","v":" "},{"$f":"IF(PS22=\" \",\" \",PS26+PS27+PS28)","v":" "}," "," "," "," "," "," "," "," "," "," "]
["Personālizmaksas","EUR/gadā"," ",{"$f":"IF(OR(D$16=\" \",D$16=0),\" \",SUM(E26:P26))","v":" "},{"$f":"IF(E22=\" \",\" \",$BQ$6*HLOOKUP($D$15,Līmeņatzīmes!$B$6:$AI$7,2,FALSE))","v":" "},{"$f":"IF(F22=\" \",\" \",$BQ$6*HLOOKUP($D$15,Līmeņatzīmes!$B$6:$AI$7,2,FALSE))","v":" "},{"$f":"IF(G22=\" \",\" \",$BQ$6*HLOOKUP($D$15,Līmeņatzīmes!$B$6:$AI$7,2,FALSE))","v":" "},{"$f":"IF(H22=\" \",\" \",$BQ$6*HLOOKUP($D$15,Līmeņatzīmes!$B$6:$AI$7,2,FALSE))","v":" "},{"$f":"IF(I22=\" \",\" \",$BQ$6*HLOOKUP($D$15,Līmeņatzīmes!$B$6:$AI$7,2,FALSE))","v":" "},{"$f":"IF(J22=\" \",\" \",$BQ$6*HLOOKUP($D$15,Līmeņatzīmes!$B$6:$AI$7,2,FALSE))","v":" "},{"$f":"IF(K22=\" \",\" \",$BQ$6*HLOOKUP($D$15,Līmeņatzīmes!$B$6:$AI$7,2,FALSE))","v":" "},{"$f":"IF(L22=\" \",\" \",$BQ$6*HLOOKUP($D$15,Līmeņatzīmes!$B$6:$AI$7,2,FALSE))","v":" "},{"$f":"IF(M22=\" \",\" \",$BQ$6*HLOOKUP($D$15,Līmeņatzīmes!$B$6:$AI$7,2,FALSE))","v":" "},{"$f":"IF(N22=\" \",\" \",$BQ$6*HLOOKUP($D$15,Līmeņatzīmes!$B$6:$AI$7,2,FALSE))","v":" "},{"$f":"IF(O22=\" \",\" \",$BQ$6*HLOOKUP($D$15,Līmeņatzīmes!$B$6:$AI$7,2,FALSE))","v":" "},{"$f":"IF(P22=\" \",\" \",$BQ$6*HLOOKUP($D$15,Līmeņatzīmes!$B$6:$AI$7,2,FALSE))","v":" "},{"$f":"IF(OR(Q$16=\" \",Q$16=0),\" \",SUM(R26:AC26))","v":" "},{"$f":"IF(R22=\" \",\" \",$BQ$6*HLOOKUP($Q$15,Līmeņatzīmes!$B$6:$AI$7,2,FALSE))","v":" "},{"$f":"IF(S22=\" \",\" \",$BQ$6*HLOOKUP($Q$15,Līmeņatzīmes!$B$6:$AI$7,2,FALSE))","v":" "},{"$f":"IF(T22=\" \",\" \",$BQ$6*HLOOKUP($Q$15,Līmeņatzīmes!$B$6:$AI$7,2,FALSE))","v":" "},{"$f":"IF(U22=\" \",\" \",$BQ$6*HLOOKUP($Q$15,Līmeņatzīmes!$B$6:$AI$7,2,FALSE))","v":" "},{"$f":"IF(V22=\" \",\" \",$BQ$6*HLOOKUP($Q$15,Līmeņatzīmes!$B$6:$AI$7,2,FALSE))","v":" "},{"$f":"IF(W22=\" \",\" \",$BQ$6*HLOOKUP($Q$15,Līmeņatzīmes!$B$6:$AI$7,2,FALSE))","v":" "},{"$f":"IF(X22=\" \",\" \",$BQ$6*HLOOKUP($Q$15,Līmeņatzīmes!$B$6:$AI$7,2,FALSE))","v":" "},{"$f":"IF(Y22=\" \",\" \",$BQ$6*HLOOKUP($Q$15,Līmeņatzīmes!$B$6:$AI$7,2,FALSE))","v":" "},{"$f":"IF(Z22=\" \",\" \",$BQ$6*HLOOKUP($Q$15,Līmeņatzīmes!$B$6:$AI$7,2,FALSE))","v":" "},{"$f":"IF(AA22=\" \",\" \",$BQ$6*HLOOKUP($Q$15,Līmeņatzīmes!$B$6:$AI$7,2,FALSE))","v":" "},{"$f":"IF(AB22=\" \",\" \",$BQ$6*HLOOKUP($Q$15,Līmeņatzīmes!$B$6:$AI$7,2,FALSE))","v":" "},{"$f":"IF(AC22=\" \",\" \",$BQ$6*HLOOKUP($Q$15,Līmeņatzīmes!$B$6:$AI$7,2,FALSE))","v":" "},{"$f":"IF(OR(AD$16=\" \",AD$16=0),\" \",SUM(AE26:AP26))","v":" "},{"$f":"IF(AE22=\" \",\" \",$BQ$6*HLOOKUP($AD$15,Līmeņatzīmes!$B$6:$AI$7,2,FALSE))","v":" "},{"$f":"IF(AF22=\" \",\" \",$BQ$6*HLOOKUP($AD$15,Līmeņatzīmes!$B$6:$AI$7,2,FALSE))","v":" "},{"$f":"IF(AG22=\" \",\" \",$BQ$6*HLOOKUP($AD$15,Līmeņatzīmes!$B$6:$AI$7,2,FALSE))","v":" "},{"$f":"IF(AH22=\" \",\" \",$BQ$6*HLOOKUP($AD$15,Līmeņatzīmes!$B$6:$AI$7,2,FALSE))","v":" "},{"$f":"IF(AI22=\" \",\" \",$BQ$6*HLOOKUP($AD$15,Līmeņatzīmes!$B$6:$AI$7,2,FALSE))","v":" "},{"$f":"IF(AJ22=\" \",\" \",$BQ$6*HLOOKUP($AD$15,Līmeņatzīmes!$B$6:$AI$7,2,FALSE))","v":" "},{"$f":"IF(AK22=\" \",\" \",$BQ$6*HLOOKUP($AD$15,Līmeņatzīmes!$B$6:$AI$7,2,FALSE))","v":" "},{"$f":"IF(AL22=\" \",\" \",$BQ$6*HLOOKUP($AD$15,Līmeņatzīmes!$B$6:$AI$7,2,FALSE))","v":" "},{"$f":"IF(AM22=\" \",\" \",$BQ$6*HLOOKUP($AD$15,Līmeņatzīmes!$B$6:$AI$7,2,FALSE))","v":" "},{"$f":"IF(AN22=\" \",\" \",$BQ$6*HLOOKUP($AD$15,Līmeņatzīmes!$B$6:$AI$7,2,FALSE))","v":" "},{"$f":"IF(AO22=\" \",\" \",$BQ$6*HLOOKUP($AD$15,Līmeņatzīmes!$B$6:$AI$7,2,FALSE))","v":" "},{"$f":"IF(AP22=\" \",\" \",$BQ$6*HLOOKUP($AD$15,Līmeņatzīmes!$B$6:$AI$7,2,FALSE))","v":" "},{"$f":"IF(OR(AQ$16=\" \",AQ$16=0),\" \",SUM(AR26:BC26))","v":" "},{"$f":"IF(AR22=\" \",\" \",$BQ$6*HLOOKUP($AQ$15,Līmeņatzīmes!$B$6:$AI$7,2,FALSE))","v":" "},{"$f":"IF(AS22=\" \",\" \",$BQ$6*HLOOKUP($AQ$15,Līmeņatzīmes!$B$6:$AI$7,2,FALSE))","v":" "},{"$f":"IF(AT22=\" \",\" \",$BQ$6*HLOOKUP($AQ$15,Līmeņatzīmes!$B$6:$AI$7,2,FALSE))","v":" "},{"$f":"IF(AU22=\" \",\" \",$BQ$6*HLOOKUP($AQ$15,Līmeņatzīmes!$B$6:$AI$7,2,FALSE))","v":" "},{"$f":"IF(AV22=\" \",\" \",$BQ$6*HLOOKUP($AQ$15,Līmeņatzīmes!$B$6:$AI$7,2,FALSE))","v":" "},{"$f":"IF(AW22=\" \",\" \",$BQ$6*HLOOKUP($AQ$15,Līmeņatzīmes!$B$6:$AI$7,2,FALSE))","v":" "},{"$f":"IF(AX22=\" \",\" \",$BQ$6*HLOOKUP($AQ$15,Līmeņatzīmes!$B$6:$AI$7,2,FALSE))","v":" "},{"$f":"IF(AY22=\" \",\" \",$BQ$6*HLOOKUP($AQ$15,Līmeņatzīmes!$B$6:$AI$7,2,FALSE))","v":" "},{"$f":"IF(AZ22=\" \",\" \",$BQ$6*HLOOKUP($AQ$15,Līmeņatzīmes!$B$6:$AI$7,2,FALSE))","v":" "},{"$f":"IF(BA22=\" \",\" \",$BQ$6*HLOOKUP($AQ$15,Līmeņatzīmes!$B$6:$AI$7,2,FALSE))","v":" "},{"$f":"IF(BB22=\" \",\" \",$BQ$6*HLOOKUP($AQ$15,Līmeņatzīmes!$B$6:$AI$7,2,FALSE))","v":" "},{"$f":"IF(BC22=\" \",\" \",$BQ$6*HLOOKUP($AQ$15,Līmeņatzīmes!$B$6:$AI$7,2,FALSE))","v":" "},{"$f":"IF(OR(BD$16=\" \",BD$16=0),\" \",SUM(BE26:BP26))","v":" "},{"$f":"IF(BE22=\" \",\" \",$BQ$6*HLOOKUP($BD$15,Līmeņatzīmes!$B$6:$AI$7,2,FALSE))","v":" "},{"$f":"IF(BF22=\" \",\" \",$BQ$6*HLOOKUP($BD$15,Līmeņatzīmes!$B$6:$AI$7,2,FALSE))","v":" "},{"$f":"IF(BG22=\" \",\" \",$BQ$6*HLOOKUP($BD$15,Līmeņatzīmes!$B$6:$AI$7,2,FALSE))","v":" "},{"$f":"IF(BH22=\" \",\" \",$BQ$6*HLOOKUP($BD$15,Līmeņatzīmes!$B$6:$AI$7,2,FALSE))","v":" "},{"$f":"IF(BI22=\" \",\" \",$BQ$6*HLOOKUP($BD$15,Līmeņatzīmes!$B$6:$AI$7,2,FALSE))","v":" "},{"$f":"IF(BJ22=\" \",\" \",$BQ$6*HLOOKUP($BD$15,Līmeņatzīmes!$B$6:$AI$7,2,FALSE))","v":" "},{"$f":"IF(BK22=\" \",\" \",$BQ$6*HLOOKUP($BD$15,Līmeņatzīmes!$B$6:$AI$7,2,FALSE))","v":" "},{"$f":"IF(BL22=\" \",\" \",$BQ$6*HLOOKUP($BD$15,Līmeņatzīmes!$B$6:$AI$7,2,FALSE))","v":" "},{"$f":"IF(BM22=\" \",\" \",$BQ$6*HLOOKUP($BD$15,Līmeņatzīmes!$B$6:$AI$7,2,FALSE))","v":" "},{"$f":"IF(BN22=\" \",\" \",$BQ$6*HLOOKUP($BD$15,Līmeņatzīmes!$B$6:$AI$7,2,FALSE))","v":" "},{"$f":"IF(BO22=\" \",\" \",$BQ$6*HLOOKUP($BD$15,Līmeņatzīmes!$B$6:$AI$7,2,FALSE))","v":" "},{"$f":"IF(BP22=\" \",\" \",$BQ$6*HLOOKUP($BD$15,Līmeņatzīmes!$B$6:$AI$7,2,FALSE))","v":" "},{"$f":"IF(OR(BQ$16=\" \",BQ$16=0),\" \",SUM(BR26:CC26))","v":" "},{"$f":"IF(BR22=\" \",\" \",$BQ$6*HLOOKUP($BQ$15,Līmeņatzīmes!$B$6:$AI$7,2,FALSE))","v":" "},{"$f":"IF(BS22=\" \",\" \",$BQ$6*HLOOKUP($BQ$15,Līmeņatzīmes!$B$6:$AI$7,2,FALSE))","v":" "},{"$f":"IF(BT22=\" \",\" \",$BQ$6*HLOOKUP($BQ$15,Līmeņatzīmes!$B$6:$AI$7,2,FALSE))","v":" "},{"$f":"IF(BU22=\" \",\" \",$BQ$6*HLOOKUP($BQ$15,Līmeņatzīmes!$B$6:$AI$7,2,FALSE))","v":" "},{"$f":"IF(BV22=\" \",\" \",$BQ$6*HLOOKUP($BQ$15,Līmeņatzīmes!$B$6:$AI$7,2,FALSE))","v":" "},{"$f":"IF(BW22=\" \",\" \",$BQ$6*HLOOKUP($BQ$15,Līmeņatzīmes!$B$6:$AI$7,2,FALSE))","v":" "},{"$f":"IF(BX22=\" \",\" \",$BQ$6*HLOOKUP($BQ$15,Līmeņatzīmes!$B$6:$AI$7,2,FALSE))","v":" "},{"$f":"IF(BY22=\" \",\" \",$BQ$6*HLOOKUP($BQ$15,Līmeņatzīmes!$B$6:$AI$7,2,FALSE))","v":" "},{"$f":"IF(BZ22=\" \",\" \",$BQ$6*HLOOKUP($BQ$15,Līmeņatzīmes!$B$6:$AI$7,2,FALSE))","v":" "},{"$f":"IF(CA22=\" \",\" \",$BQ$6*HLOOKUP($BQ$15,Līmeņatzīmes!$B$6:$AI$7,2,FALSE))","v":" "},{"$f":"IF(CB22=\" \",\" \",$BQ$6*HLOOKUP($BQ$15,Līmeņatzīmes!$B$6:$AI$7,2,FALSE))","v":" "},{"$f":"IF(CC22=\" \",\" \",$BQ$6*HLOOKUP($BQ$15,Līmeņatzīmes!$B$6:$AI$7,2,FALSE))","v":" "},{"$f":"IF(OR(CD$16=\" \",CD$16=0),\" \",SUM(CE26:CP26))","v":" "},{"$f":"IF(CE22=\" \",\" \",$BQ$6*HLOOKUP($CD$15,Līmeņatzīmes!$B$6:$AI$7,2,FALSE))","v":" "},{"$f":"IF(CF22=\" \",\" \",$BQ$6*HLOOKUP($CD$15,Līmeņatzīmes!$B$6:$AI$7,2,FALSE))","v":" "},{"$f":"IF(CG22=\" \",\" \",$BQ$6*HLOOKUP($CD$15,Līmeņatzīmes!$B$6:$AI$7,2,FALSE))","v":" "},{"$f":"IF(CH22=\" \",\" \",$BQ$6*HLOOKUP($CD$15,Līmeņatzīmes!$B$6:$AI$7,2,FALSE))","v":" "},{"$f":"IF(CI22=\" \",\" \",$BQ$6*HLOOKUP($CD$15,Līmeņatzīmes!$B$6:$AI$7,2,FALSE))","v":" "},{"$f":"IF(CJ22=\" \",\" \",$BQ$6*HLOOKUP($CD$15,Līmeņatzīmes!$B$6:$AI$7,2,FALSE))","v":" "},{"$f":"IF(CK22=\" \",\" \",$BQ$6*HLOOKUP($CD$15,Līmeņatzīmes!$B$6:$AI$7,2,FALSE))","v":" "},{"$f":"IF(CL22=\" \",\" \",$BQ$6*HLOOKUP($CD$15,Līmeņatzīmes!$B$6:$AI$7,2,FALSE))","v":" "},{"$f":"IF(CM22=\" \",\" \",$BQ$6*HLOOKUP($CD$15,Līmeņatzīmes!$B$6:$AI$7,2,FALSE))","v":" "},{"$f":"IF(CN22=\" \",\" \",$BQ$6*HLOOKUP($CD$15,Līmeņatzīmes!$B$6:$AI$7,2,FALSE))","v":" "},{"$f":"IF(CO22=\" \",\" \",$BQ$6*HLOOKUP($CD$15,Līmeņatzīmes!$B$6:$AI$7,2,FALSE))","v":" "},{"$f":"IF(CP22=\" \",\" \",$BQ$6*HLOOKUP($CD$15,Līmeņatzīmes!$B$6:$AI$7,2,FALSE))","v":" "},{"$f":"IF(OR(CQ$16=\" \",CQ$16=0),\" \",SUM(CR26:DC26))","v":" "},{"$f":"IF(CR22=\" \",\" \",$BQ$6*HLOOKUP($CQ$15,Līmeņatzīmes!$B$6:$AI$7,2,FALSE))","v":" "},{"$f":"IF(CS22=\" \",\" \",$BQ$6*HLOOKUP($CQ$15,Līmeņatzīmes!$B$6:$AI$7,2,FALSE))","v":" "},{"$f":"IF(CT22=\" \",\" \",$BQ$6*HLOOKUP($CQ$15,Līmeņatzīmes!$B$6:$AI$7,2,FALSE))","v":" "},{"$f":"IF(CU22=\" \",\" \",$BQ$6*HLOOKUP($CQ$15,Līmeņatzīmes!$B$6:$AI$7,2,FALSE))","v":" "},{"$f":"IF(CV22=\" \",\" \",$BQ$6*HLOOKUP($CQ$15,Līmeņatzīmes!$B$6:$AI$7,2,FALSE))","v":" "},{"$f":"IF(CW22=\" \",\" \",$BQ$6*HLOOKUP($CQ$15,Līmeņatzīmes!$B$6:$AI$7,2,FALSE))","v":" "},{"$f":"IF(CX22=\" \",\" \",$BQ$6*HLOOKUP($CQ$15,Līmeņatzīmes!$B$6:$AI$7,2,FALSE))","v":" "},{"$f":"IF(CY22=\" \",\" \",$BQ$6*HLOOKUP($CQ$15,Līmeņatzīmes!$B$6:$AI$7,2,FALSE))","v":" "},{"$f":"IF(CZ22=\" \",\" \",$BQ$6*HLOOKUP($CQ$15,Līmeņatzīmes!$B$6:$AI$7,2,FALSE))","v":" "},{"$f":"IF(DA22=\" \",\" \",$BQ$6*HLOOKUP($CQ$15,Līmeņatzīmes!$B$6:$AI$7,2,FALSE))","v":" "},{"$f":"IF(DB22=\" \",\" \",$BQ$6*HLOOKUP($CQ$15,Līmeņatzīmes!$B$6:$AI$7,2,FALSE))","v":" "},{"$f":"IF(DC22=\" \",\" \",$BQ$6*HLOOKUP($CQ$15,Līmeņatzīmes!$B$6:$AI$7,2,FALSE))","v":" "},{"$f":"IF(OR(DD$16=\" \",DD$16=0),\" \",SUM(DE26:DP26))","v":" "},{"$f":"IF(DE22=\" \",\" \",$BQ$6*HLOOKUP($DD$15,Līmeņatzīmes!$B$6:$AI$7,2,FALSE))","v":" "},{"$f":"IF(DF22=\" \",\" \",$BQ$6*HLOOKUP($DD$15,Līmeņatzīmes!$B$6:$AI$7,2,FALSE))","v":" "},{"$f":"IF(DG22=\" \",\" \",$BQ$6*HLOOKUP($DD$15,Līmeņatzīmes!$B$6:$AI$7,2,FALSE))","v":" "},{"$f":"IF(DH22=\" \",\" \",$BQ$6*HLOOKUP($DD$15,Līmeņatzīmes!$B$6:$AI$7,2,FALSE))","v":" "},{"$f":"IF(DI22=\" \",\" \",$BQ$6*HLOOKUP($DD$15,Līmeņatzīmes!$B$6:$AI$7,2,FALSE))","v":" "},{"$f":"IF(DJ22=\" \",\" \",$BQ$6*HLOOKUP($DD$15,Līmeņatzīmes!$B$6:$AI$7,2,FALSE))","v":" "},{"$f":"IF(DK22=\" \",\" \",$BQ$6*HLOOKUP($DD$15,Līmeņatzīmes!$B$6:$AI$7,2,FALSE))","v":" "},{"$f":"IF(DL22=\" \",\" \",$BQ$6*HLOOKUP($DD$15,Līmeņatzīmes!$B$6:$AI$7,2,FALSE))","v":" "},{"$f":"IF(DM22=\" \",\" \",$BQ$6*HLOOKUP($DD$15,Līmeņatzīmes!$B$6:$AI$7,2,FALSE))","v":" "},{"$f":"IF(DN22=\" \",\" \",$BQ$6*HLOOKUP($DD$15,Līmeņatzīmes!$B$6:$AI$7,2,FALSE))","v":" "},{"$f":"IF(DO22=\" \",\" \",$BQ$6*HLOOKUP($DD$15,Līmeņatzīmes!$B$6:$AI$7,2,FALSE))","v":" "},{"$f":"IF(DP22=\" \",\" \",$BQ$6*HLOOKUP($DD$15,Līmeņatzīmes!$B$6:$AI$7,2,FALSE))","v":" "},{"$f":"IF(OR(DQ$16=\" \",DQ$16=0),\" \",SUM(DR26:EC26))","v":" "},{"$f":"IF(DR22=\" \",\" \",$BQ$6*HLOOKUP($DQ$15,Līmeņatzīmes!$B$6:$AI$7,2,FALSE))","v":" "},{"$f":"IF(DS22=\" \",\" \",$BQ$6*HLOOKUP($DQ$15,Līmeņatzīmes!$B$6:$AI$7,2,FALSE))","v":" "},{"$f":"IF(DT22=\" \",\" \",$BQ$6*HLOOKUP($DQ$15,Līmeņatzīmes!$B$6:$AI$7,2,FALSE))","v":" "},{"$f":"IF(DU22=\" \",\" \",$BQ$6*HLOOKUP($DQ$15,Līmeņatzīmes!$B$6:$AI$7,2,FALSE))","v":" "},{"$f":"IF(DV22=\" \",\" \",$BQ$6*HLOOKUP($DQ$15,Līmeņatzīmes!$B$6:$AI$7,2,FALSE))","v":" "},{"$f":"IF(DW22=\" \",\" \",$BQ$6*HLOOKUP($DQ$15,Līmeņatzīmes!$B$6:$AI$7,2,FALSE))","v":" "},{"$f":"IF(DX22=\" \",\" \",$BQ$6*HLOOKUP($DQ$15,Līmeņatzīmes!$B$6:$AI$7,2,FALSE))","v":" "},{"$f":"IF(DY22=\" \",\" \",$BQ$6*HLOOKUP($DQ$15,Līmeņatzīmes!$B$6:$AI$7,2,FALSE))","v":" "},{"$f":"IF(DZ22=\" \",\" \",$BQ$6*HLOOKUP($DQ$15,Līmeņatzīmes!$B$6:$AI$7,2,FALSE))","v":" "},{"$f":"IF(EA22=\" \",\" \",$BQ$6*HLOOKUP($DQ$15,Līmeņatzīmes!$B$6:$AI$7,2,FALSE))","v":" "},{"$f":"IF(EB22=\" \",\" \",$BQ$6*HLOOKUP($DQ$15,Līmeņatzīmes!$B$6:$AI$7,2,FALSE))","v":" "},{"$f":"IF(EC22=\" \",\" \",$BQ$6*HLOOKUP($DQ$15,Līmeņatzīmes!$B$6:$AI$7,2,FALSE))","v":" "},{"$f":"IF(OR(ED$16=\" \",ED$16=0),\" \",SUM(EE26:EP26))","v":" "},{"$f":"IF(EE22=\" \",\" \",$BQ$6*HLOOKUP($ED$15,Līmeņatzīmes!$B$6:$AI$7,2,FALSE))","v":" "},{"$f":"IF(EF22=\" \",\" \",$BQ$6*HLOOKUP($ED$15,Līmeņatzīmes!$B$6:$AI$7,2,FALSE))","v":" "},{"$f":"IF(EG22=\" \",\" \",$BQ$6*HLOOKUP($ED$15,Līmeņatzīmes!$B$6:$AI$7,2,FALSE))","v":" "},{"$f":"IF(EH22=\" \",\" \",$BQ$6*HLOOKUP($ED$15,Līmeņatzīmes!$B$6:$AI$7,2,FALSE))","v":" "},{"$f":"IF(EI22=\" \",\" \",$BQ$6*HLOOKUP($ED$15,Līmeņatzīmes!$B$6:$AI$7,2,FALSE))","v":" "},{"$f":"IF(EJ22=\" \",\" \",$BQ$6*HLOOKUP($ED$15,Līmeņatzīmes!$B$6:$AI$7,2,FALSE))","v":" "},{"$f":"IF(EK22=\" \",\" \",$BQ$6*HLOOKUP($ED$15,Līmeņatzīmes!$B$6:$AI$7,2,FALSE))","v":" "},{"$f":"IF(EL22=\" \",\" \",$BQ$6*HLOOKUP($ED$15,Līmeņatzīmes!$B$6:$AI$7,2,FALSE))","v":" "},{"$f":"IF(EM22=\" \",\" \",$BQ$6*HLOOKUP($ED$15,Līmeņatzīmes!$B$6:$AI$7,2,FALSE))","v":" "},{"$f":"IF(EN22=\" \",\" \",$BQ$6*HLOOKUP($ED$15,Līmeņatzīmes!$B$6:$AI$7,2,FALSE))","v":" "},{"$f":"IF(EO22=\" \",\" \",$BQ$6*HLOOKUP($ED$15,Līmeņatzīmes!$B$6:$AI$7,2,FALSE))","v":" "},{"$f":"IF(EP22=\" \",\" \",$BQ$6*HLOOKUP($ED$15,Līmeņatzīmes!$B$6:$AI$7,2,FALSE))","v":" "},{"$f":"IF(OR(EQ$16=\" \",EQ$16=0),\" \",SUM(ER26:FC26))","v":" "},{"$f":"IF(ER22=\" \",\" \",$BQ$6*HLOOKUP($EQ$15,Līmeņatzīmes!$B$6:$AI$7,2,FALSE))","v":" "},{"$f":"IF(ES22=\" \",\" \",$BQ$6*HLOOKUP($EQ$15,Līmeņatzīmes!$B$6:$AI$7,2,FALSE))","v":" "},{"$f":"IF(ET22=\" \",\" \",$BQ$6*HLOOKUP($EQ$15,Līmeņatzīmes!$B$6:$AI$7,2,FALSE))","v":" "},{"$f":"IF(EU22=\" \",\" \",$BQ$6*HLOOKUP($EQ$15,Līmeņatzīmes!$B$6:$AI$7,2,FALSE))","v":" "},{"$f":"IF(EV22=\" \",\" \",$BQ$6*HLOOKUP($EQ$15,Līmeņatzīmes!$B$6:$AI$7,2,FALSE))","v":" "},{"$f":"IF(EW22=\" \",\" \",$BQ$6*HLOOKUP($EQ$15,Līmeņatzīmes!$B$6:$AI$7,2,FALSE))","v":" "},{"$f":"IF(EX22=\" \",\" \",$BQ$6*HLOOKUP($EQ$15,Līmeņatzīmes!$B$6:$AI$7,2,FALSE))","v":" "},{"$f":"IF(EY22=\" \",\" \",$BQ$6*HLOOKUP($EQ$15,Līmeņatzīmes!$B$6:$AI$7,2,FALSE))","v":" "},{"$f":"IF(EZ22=\" \",\" \",$BQ$6*HLOOKUP($EQ$15,Līmeņatzīmes!$B$6:$AI$7,2,FALSE))","v":" "},{"$f":"IF(FA22=\" \",\" \",$BQ$6*HLOOKUP($EQ$15,Līmeņatzīmes!$B$6:$AI$7,2,FALSE))","v":" "},{"$f":"IF(FB22=\" \",\" \",$BQ$6*HLOOKUP($EQ$15,Līmeņatzīmes!$B$6:$AI$7,2,FALSE))","v":" "},{"$f":"IF(FC22=\" \",\" \",$BQ$6*HLOOKUP($EQ$15,Līmeņatzīmes!$B$6:$AI$7,2,FALSE))","v":" "},{"$f":"IF(OR(FD$16=\" \",FD$16=0),\" \",SUM(FE26:FP26))","v":" "},{"$f":"IF(FE22=\" \",\" \",$BQ$6*HLOOKUP($FD$15,Līmeņatzīmes!$B$6:$AI$7,2,FALSE))","v":" "},{"$f":"IF(FF22=\" \",\" \",$BQ$6*HLOOKUP($FD$15,Līmeņatzīmes!$B$6:$AI$7,2,FALSE))","v":" "},{"$f":"IF(FG22=\" \",\" \",$BQ$6*HLOOKUP($FD$15,Līmeņatzīmes!$B$6:$AI$7,2,FALSE))","v":" "},{"$f":"IF(FH22=\" \",\" \",$BQ$6*HLOOKUP($FD$15,Līmeņatzīmes!$B$6:$AI$7,2,FALSE))","v":" "},{"$f":"IF(FI22=\" \",\" \",$BQ$6*HLOOKUP($FD$15,Līmeņatzīmes!$B$6:$AI$7,2,FALSE))","v":" "},{"$f":"IF(FJ22=\" \",\" \",$BQ$6*HLOOKUP($FD$15,Līmeņatzīmes!$B$6:$AI$7,2,FALSE))","v":" "},{"$f":"IF(FK22=\" \",\" \",$BQ$6*HLOOKUP($FD$15,Līmeņatzīmes!$B$6:$AI$7,2,FALSE))","v":" "},{"$f":"IF(FL22=\" \",\" \",$BQ$6*HLOOKUP($FD$15,Līmeņatzīmes!$B$6:$AI$7,2,FALSE))","v":" "},{"$f":"IF(FM22=\" \",\" \",$BQ$6*HLOOKUP($FD$15,Līmeņatzīmes!$B$6:$AI$7,2,FALSE))","v":" "},{"$f":"IF(FN22=\" \",\" \",$BQ$6*HLOOKUP($FD$15,Līmeņatzīmes!$B$6:$AI$7,2,FALSE))","v":" "},{"$f":"IF(FO22=\" \",\" \",$BQ$6*HLOOKUP($FD$15,Līmeņatzīmes!$B$6:$AI$7,2,FALSE))","v":" "},{"$f":"IF(FP22=\" \",\" \",$BQ$6*HLOOKUP($FD$15,Līmeņatzīmes!$B$6:$AI$7,2,FALSE))","v":" "},{"$f":"IF(OR(FQ$16=\" \",FQ$16=0),\" \",SUM(FR26:GC26))","v":" "},{"$f":"IF(FR22=\" \",\" \",$BQ$6*HLOOKUP($FQ$15,Līmeņatzīmes!$B$6:$AI$7,2,FALSE))","v":" "},{"$f":"IF(FS22=\" \",\" \",$BQ$6*HLOOKUP($FQ$15,Līmeņatzīmes!$B$6:$AI$7,2,FALSE))","v":" "},{"$f":"IF(FT22=\" \",\" \",$BQ$6*HLOOKUP($FQ$15,Līmeņatzīmes!$B$6:$AI$7,2,FALSE))","v":" "},{"$f":"IF(FU22=\" \",\" \",$BQ$6*HLOOKUP($FQ$15,Līmeņatzīmes!$B$6:$AI$7,2,FALSE))","v":" "},{"$f":"IF(FV22=\" \",\" \",$BQ$6*HLOOKUP($FQ$15,Līmeņatzīmes!$B$6:$AI$7,2,FALSE))","v":" "},{"$f":"IF(FW22=\" \",\" \",$BQ$6*HLOOKUP($FQ$15,Līmeņatzīmes!$B$6:$AI$7,2,FALSE))","v":" "},{"$f":"IF(FX22=\" \",\" \",$BQ$6*HLOOKUP($FQ$15,Līmeņatzīmes!$B$6:$AI$7,2,FALSE))","v":" "},{"$f":"IF(FY22=\" \",\" \",$BQ$6*HLOOKUP($FQ$15,Līmeņatzīmes!$B$6:$AI$7,2,FALSE))","v":" "},{"$f":"IF(FZ22=\" \",\" \",$BQ$6*HLOOKUP($FQ$15,Līmeņatzīmes!$B$6:$AI$7,2,FALSE))","v":" "},{"$f":"IF(GA22=\" \",\" \",$BQ$6*HLOOKUP($FQ$15,Līmeņatzīmes!$B$6:$AI$7,2,FALSE))","v":" "},{"$f":"IF(GB22=\" \",\" \",$BQ$6*HLOOKUP($FQ$15,Līmeņatzīmes!$B$6:$AI$7,2,FALSE))","v":" "},{"$f":"IF(GC22=\" \",\" \",$BQ$6*HLOOKUP($FQ$15,Līmeņatzīmes!$B$6:$AI$7,2,FALSE))","v":" "},{"$f":"IF(OR(GD$16=\" \",GD$16=0),\" \",SUM(GE26:GP26))","v":" "},{"$f":"IF(GE22=\" \",\" \",$BQ$6*HLOOKUP($GD$15,Līmeņatzīmes!$B$6:$AI$7,2,FALSE))","v":" "},{"$f":"IF(GF22=\" \",\" \",$BQ$6*HLOOKUP($GD$15,Līmeņatzīmes!$B$6:$AI$7,2,FALSE))","v":" "},{"$f":"IF(GG22=\" \",\" \",$BQ$6*HLOOKUP($GD$15,Līmeņatzīmes!$B$6:$AI$7,2,FALSE))","v":" "},{"$f":"IF(GH22=\" \",\" \",$BQ$6*HLOOKUP($GD$15,Līmeņatzīmes!$B$6:$AI$7,2,FALSE))","v":" "},{"$f":"IF(GI22=\" \",\" \",$BQ$6*HLOOKUP($GD$15,Līmeņatzīmes!$B$6:$AI$7,2,FALSE))","v":" "},{"$f":"IF(GJ22=\" \",\" \",$BQ$6*HLOOKUP($GD$15,Līmeņatzīmes!$B$6:$AI$7,2,FALSE))","v":" "},{"$f":"IF(GK22=\" \",\" \",$BQ$6*HLOOKUP($GD$15,Līmeņatzīmes!$B$6:$AI$7,2,FALSE))","v":" "},{"$f":"IF(GL22=\" \",\" \",$BQ$6*HLOOKUP($GD$15,Līmeņatzīmes!$B$6:$AI$7,2,FALSE))","v":" "},{"$f":"IF(GM22=\" \",\" \",$BQ$6*HLOOKUP($GD$15,Līmeņatzīmes!$B$6:$AI$7,2,FALSE))","v":" "},{"$f":"IF(GN22=\" \",\" \",$BQ$6*HLOOKUP($GD$15,Līmeņatzīmes!$B$6:$AI$7,2,FALSE))","v":" "},{"$f":"IF(GO22=\" \",\" \",$BQ$6*HLOOKUP($GD$15,Līmeņatzīmes!$B$6:$AI$7,2,FALSE))","v":" "},{"$f":"IF(GP22=\" \",\" \",$BQ$6*HLOOKUP($GD$15,Līmeņatzīmes!$B$6:$AI$7,2,FALSE))","v":" "},{"$f":"IF(OR(GQ$16=\" \",GQ$16=0),\" \",SUM(GR26:HC26))","v":" "},{"$f":"IF(GR22=\" \",\" \",$BQ$6*HLOOKUP($GQ$15,Līmeņatzīmes!$B$6:$AI$7,2,FALSE))","v":" "},{"$f":"IF(GS22=\" \",\" \",$BQ$6*HLOOKUP($GQ$15,Līmeņatzīmes!$B$6:$AI$7,2,FALSE))","v":" "},{"$f":"IF(GT22=\" \",\" \",$BQ$6*HLOOKUP($GQ$15,Līmeņatzīmes!$B$6:$AI$7,2,FALSE))","v":" "},{"$f":"IF(GU22=\" \",\" \",$BQ$6*HLOOKUP($GQ$15,Līmeņatzīmes!$B$6:$AI$7,2,FALSE))","v":" "},{"$f":"IF(GV22=\" \",\" \",$BQ$6*HLOOKUP($GQ$15,Līmeņatzīmes!$B$6:$AI$7,2,FALSE))","v":" "},{"$f":"IF(GW22=\" \",\" \",$BQ$6*HLOOKUP($GQ$15,Līmeņatzīmes!$B$6:$AI$7,2,FALSE))","v":" "},{"$f":"IF(GX22=\" \",\" \",$BQ$6*HLOOKUP($GQ$15,Līmeņatzīmes!$B$6:$AI$7,2,FALSE))","v":" "},{"$f":"IF(GY22=\" \",\" \",$BQ$6*HLOOKUP($GQ$15,Līmeņatzīmes!$B$6:$AI$7,2,FALSE))","v":" "},{"$f":"IF(GZ22=\" \",\" \",$BQ$6*HLOOKUP($GQ$15,Līmeņatzīmes!$B$6:$AI$7,2,FALSE))","v":" "},{"$f":"IF(HA22=\" \",\" \",$BQ$6*HLOOKUP($GQ$15,Līmeņatzīmes!$B$6:$AI$7,2,FALSE))","v":" "},{"$f":"IF(HB22=\" \",\" \",$BQ$6*HLOOKUP($GQ$15,Līmeņatzīmes!$B$6:$AI$7,2,FALSE))","v":" "},{"$f":"IF(HC22=\" \",\" \",$BQ$6*HLOOKUP($GQ$15,Līmeņatzīmes!$B$6:$AI$7,2,FALSE))","v":" "},{"$f":"IF(OR(HD$16=\" \",HD$16=0),\" \",SUM(HE26:HP26))","v":" "},{"$f":"IF(HE22=\" \",\" \",$BQ$6*HLOOKUP($HD$15,Līmeņatzīmes!$B$6:$AI$7,2,FALSE))","v":" "},{"$f":"IF(HF22=\" \",\" \",$BQ$6*HLOOKUP($HD$15,Līmeņatzīmes!$B$6:$AI$7,2,FALSE))","v":" "},{"$f":"IF(HG22=\" \",\" \",$BQ$6*HLOOKUP($HD$15,Līmeņatzīmes!$B$6:$AI$7,2,FALSE))","v":" "},{"$f":"IF(HH22=\" \",\" \",$BQ$6*HLOOKUP($HD$15,Līmeņatzīmes!$B$6:$AI$7,2,FALSE))","v":" "},{"$f":"IF(HI22=\" \",\" \",$BQ$6*HLOOKUP($HD$15,Līmeņatzīmes!$B$6:$AI$7,2,FALSE))","v":" "},{"$f":"IF(HJ22=\" \",\" \",$BQ$6*HLOOKUP($HD$15,Līmeņatzīmes!$B$6:$AI$7,2,FALSE))","v":" "},{"$f":"IF(HK22=\" \",\" \",$BQ$6*HLOOKUP($HD$15,Līmeņatzīmes!$B$6:$AI$7,2,FALSE))","v":" "},{"$f":"IF(HL22=\" \",\" \",$BQ$6*HLOOKUP($HD$15,Līmeņatzīmes!$B$6:$AI$7,2,FALSE))","v":" "},{"$f":"IF(HM22=\" \",\" \",$BQ$6*HLOOKUP($HD$15,Līmeņatzīmes!$B$6:$AI$7,2,FALSE))","v":" "},{"$f":"IF(HN22=\" \",\" \",$BQ$6*HLOOKUP($HD$15,Līmeņatzīmes!$B$6:$AI$7,2,FALSE))","v":" "},{"$f":"IF(HO22=\" \",\" \",$BQ$6*HLOOKUP($HD$15,Līmeņatzīmes!$B$6:$AI$7,2,FALSE))","v":" "},{"$f":"IF(HP22=\" \",\" \",$BQ$6*HLOOKUP($HD$15,Līmeņatzīmes!$B$6:$AI$7,2,FALSE))","v":" "},{"$f":"IF(OR(HQ$16=\" \",HQ$16=0),\" \",SUM(HR26:IC26))","v":" "},{"$f":"IF(HR22=\" \",\" \",$BQ$6*HLOOKUP($HQ$15,Līmeņatzīmes!$B$6:$AI$7,2,FALSE))","v":" "},{"$f":"IF(HS22=\" \",\" \",$BQ$6*HLOOKUP($HQ$15,Līmeņatzīmes!$B$6:$AI$7,2,FALSE))","v":" "},{"$f":"IF(HT22=\" \",\" \",$BQ$6*HLOOKUP($HQ$15,Līmeņatzīmes!$B$6:$AI$7,2,FALSE))","v":" "},{"$f":"IF(HU22=\" \",\" \",$BQ$6*HLOOKUP($HQ$15,Līmeņatzīmes!$B$6:$AI$7,2,FALSE))","v":" "},{"$f":"IF(HV22=\" \",\" \",$BQ$6*HLOOKUP($HQ$15,Līmeņatzīmes!$B$6:$AI$7,2,FALSE))","v":" "},{"$f":"IF(HW22=\" \",\" \",$BQ$6*HLOOKUP($HQ$15,Līmeņatzīmes!$B$6:$AI$7,2,FALSE))","v":" "},{"$f":"IF(HX22=\" \",\" \",$BQ$6*HLOOKUP($HQ$15,Līmeņatzīmes!$B$6:$AI$7,2,FALSE))","v":" "},{"$f":"IF(HY22=\" \",\" \",$BQ$6*HLOOKUP($HQ$15,Līmeņatzīmes!$B$6:$AI$7,2,FALSE))","v":" "},{"$f":"IF(HZ22=\" \",\" \",$BQ$6*HLOOKUP($HQ$15,Līmeņatzīmes!$B$6:$AI$7,2,FALSE))","v":" "},{"$f":"IF(IA22=\" \",\" \",$BQ$6*HLOOKUP($HQ$15,Līmeņatzīmes!$B$6:$AI$7,2,FALSE))","v":" "},{"$f":"IF(IB22=\" \",\" \",$BQ$6*HLOOKUP($HQ$15,Līmeņatzīmes!$B$6:$AI$7,2,FALSE))","v":" "},{"$f":"IF(IC22=\" \",\" \",$BQ$6*HLOOKUP($HQ$15,Līmeņatzīmes!$B$6:$AI$7,2,FALSE))","v":" "},{"$f":"IF(OR(ID$16=\" \",ID$16=0),\" \",SUM(IE26:IP26))","v":" "},{"$f":"IF(IE22=\" \",\" \",$BQ$6*HLOOKUP($ID$15,Līmeņatzīmes!$B$6:$AI$7,2,FALSE))","v":" "},{"$f":"IF(IF22=\" \",\" \",$BQ$6*HLOOKUP($ID$15,Līmeņatzīmes!$B$6:$AI$7,2,FALSE))","v":" "},{"$f":"IF(IG22=\" \",\" \",$BQ$6*HLOOKUP($ID$15,Līmeņatzīmes!$B$6:$AI$7,2,FALSE))","v":" "},{"$f":"IF(IH22=\" \",\" \",$BQ$6*HLOOKUP($ID$15,Līmeņatzīmes!$B$6:$AI$7,2,FALSE))","v":" "},{"$f":"IF(II22=\" \",\" \",$BQ$6*HLOOKUP($ID$15,Līmeņatzīmes!$B$6:$AI$7,2,FALSE))","v":" "},{"$f":"IF(IJ22=\" \",\" \",$BQ$6*HLOOKUP($ID$15,Līmeņatzīmes!$B$6:$AI$7,2,FALSE))","v":" "},{"$f":"IF(IK22=\" \",\" \",$BQ$6*HLOOKUP($ID$15,Līmeņatzīmes!$B$6:$AI$7,2,FALSE))","v":" "},{"$f":"IF(IL22=\" \",\" \",$BQ$6*HLOOKUP($ID$15,Līmeņatzīmes!$B$6:$AI$7,2,FALSE))","v":" "},{"$f":"IF(IM22=\" \",\" \",$BQ$6*HLOOKUP($ID$15,Līmeņatzīmes!$B$6:$AI$7,2,FALSE))","v":" "},{"$f":"IF(IN22=\" \",\" \",$BQ$6*HLOOKUP($ID$15,Līmeņatzīmes!$B$6:$AI$7,2,FALSE))","v":" "},{"$f":"IF(IO22=\" \",\" \",$BQ$6*HLOOKUP($ID$15,Līmeņatzīmes!$B$6:$AI$7,2,FALSE))","v":" "},{"$f":"IF(IP22=\" \",\" \",$BQ$6*HLOOKUP($ID$15,Līmeņatzīmes!$B$6:$AI$7,2,FALSE))","v":" "},{"$f":"IF(OR(IQ$16=\" \",IQ$16=0),\" \",SUM(IR26:JC26))","v":" "},{"$f":"IF(IR22=\" \",\" \",$BQ$6*HLOOKUP($IQ$15,Līmeņatzīmes!$B$6:$AI$7,2,FALSE))","v":" "},{"$f":"IF(IS22=\" \",\" \",$BQ$6*HLOOKUP($IQ$15,Līmeņatzīmes!$B$6:$AI$7,2,FALSE))","v":" "},{"$f":"IF(IT22=\" \",\" \",$BQ$6*HLOOKUP($IQ$15,Līmeņatzīmes!$B$6:$AI$7,2,FALSE))","v":" "},{"$f":"IF(IU22=\" \",\" \",$BQ$6*HLOOKUP($IQ$15,Līmeņatzīmes!$B$6:$AI$7,2,FALSE))","v":" "},{"$f":"IF(IV22=\" \",\" \",$BQ$6*HLOOKUP($IQ$15,Līmeņatzīmes!$B$6:$AI$7,2,FALSE))","v":" "},{"$f":"IF(IW22=\" \",\" \",$BQ$6*HLOOKUP($IQ$15,Līmeņatzīmes!$B$6:$AI$7,2,FALSE))","v":" "},{"$f":"IF(IX22=\" \",\" \",$BQ$6*HLOOKUP($IQ$15,Līmeņatzīmes!$B$6:$AI$7,2,FALSE))","v":" "},{"$f":"IF(IY22=\" \",\" \",$BQ$6*HLOOKUP($IQ$15,Līmeņatzīmes!$B$6:$AI$7,2,FALSE))","v":" "},{"$f":"IF(IZ22=\" \",\" \",$BQ$6*HLOOKUP($IQ$15,Līmeņatzīmes!$B$6:$AI$7,2,FALSE))","v":" "},{"$f":"IF(JA22=\" \",\" \",$BQ$6*HLOOKUP($IQ$15,Līmeņatzīmes!$B$6:$AI$7,2,FALSE))","v":" "},{"$f":"IF(JB22=\" \",\" \",$BQ$6*HLOOKUP($IQ$15,Līmeņatzīmes!$B$6:$AI$7,2,FALSE))","v":" "},{"$f":"IF(JC22=\" \",\" \",$BQ$6*HLOOKUP($IQ$15,Līmeņatzīmes!$B$6:$AI$7,2,FALSE))","v":" "},{"$f":"IF(OR(JD$16=\" \",JD$16=0),\" \",SUM(JE26:JP26))","v":" "},{"$f":"IF(JE22=\" \",\" \",$BQ$6*HLOOKUP($JD$15,Līmeņatzīmes!$B$6:$AI$7,2,FALSE))","v":" "},{"$f":"IF(JF22=\" \",\" \",$BQ$6*HLOOKUP($JD$15,Līmeņatzīmes!$B$6:$AI$7,2,FALSE))","v":" "},{"$f":"IF(JG22=\" \",\" \",$BQ$6*HLOOKUP($JD$15,Līmeņatzīmes!$B$6:$AI$7,2,FALSE))","v":" "},{"$f":"IF(JH22=\" \",\" \",$BQ$6*HLOOKUP($JD$15,Līmeņatzīmes!$B$6:$AI$7,2,FALSE))","v":" "},{"$f":"IF(JI22=\" \",\" \",$BQ$6*HLOOKUP($JD$15,Līmeņatzīmes!$B$6:$AI$7,2,FALSE))","v":" "},{"$f":"IF(JJ22=\" \",\" \",$BQ$6*HLOOKUP($JD$15,Līmeņatzīmes!$B$6:$AI$7,2,FALSE))","v":" "},{"$f":"IF(JK22=\" \",\" \",$BQ$6*HLOOKUP($JD$15,Līmeņatzīmes!$B$6:$AI$7,2,FALSE))","v":" "},{"$f":"IF(JL22=\" \",\" \",$BQ$6*HLOOKUP($JD$15,Līmeņatzīmes!$B$6:$AI$7,2,FALSE))","v":" "},{"$f":"IF(JM22=\" \",\" \",$BQ$6*HLOOKUP($JD$15,Līmeņatzīmes!$B$6:$AI$7,2,FALSE))","v":" "},{"$f":"IF(JN22=\" \",\" \",$BQ$6*HLOOKUP($JD$15,Līmeņatzīmes!$B$6:$AI$7,2,FALSE))","v":" "},{"$f":"IF(JO22=\" \",\" \",$BQ$6*HLOOKUP($JD$15,Līmeņatzīmes!$B$6:$AI$7,2,FALSE))","v":" "},{"$f":"IF(JP22=\" \",\" \",$BQ$6*HLOOKUP($JD$15,Līmeņatzīmes!$B$6:$AI$7,2,FALSE))","v":" "},{"$f":"IF(OR(JQ$16=\" \",JQ$16=0),\" \",SUM(JR26:KC26))","v":" "},{"$f":"IF(JR22=\" \",\" \",$BQ$6*HLOOKUP($JQ$15,Līmeņatzīmes!$B$6:$AI$7,2,FALSE))","v":" "},{"$f":"IF(JS22=\" \",\" \",$BQ$6*HLOOKUP($JQ$15,Līmeņatzīmes!$B$6:$AI$7,2,FALSE))","v":" "},{"$f":"IF(JT22=\" \",\" \",$BQ$6*HLOOKUP($JQ$15,Līmeņatzīmes!$B$6:$AI$7,2,FALSE))","v":" "},{"$f":"IF(JU22=\" \",\" \",$BQ$6*HLOOKUP($JQ$15,Līmeņatzīmes!$B$6:$AI$7,2,FALSE))","v":" "},{"$f":"IF(JV22=\" \",\" \",$BQ$6*HLOOKUP($JQ$15,Līmeņatzīmes!$B$6:$AI$7,2,FALSE))","v":" "},{"$f":"IF(JW22=\" \",\" \",$BQ$6*HLOOKUP($JQ$15,Līmeņatzīmes!$B$6:$AI$7,2,FALSE))","v":" "},{"$f":"IF(JX22=\" \",\" \",$BQ$6*HLOOKUP($JQ$15,Līmeņatzīmes!$B$6:$AI$7,2,FALSE))","v":" "},{"$f":"IF(JY22=\" \",\" \",$BQ$6*HLOOKUP($JQ$15,Līmeņatzīmes!$B$6:$AI$7,2,FALSE))","v":" "},{"$f":"IF(JZ22=\" \",\" \",$BQ$6*HLOOKUP($JQ$15,Līmeņatzīmes!$B$6:$AI$7,2,FALSE))","v":" "},{"$f":"IF(KA22=\" \",\" \",$BQ$6*HLOOKUP($JQ$15,Līmeņatzīmes!$B$6:$AI$7,2,FALSE))","v":" "},{"$f":"IF(KB22=\" \",\" \",$BQ$6*HLOOKUP($JQ$15,Līmeņatzīmes!$B$6:$AI$7,2,FALSE))","v":" "},{"$f":"IF(KC22=\" \",\" \",$BQ$6*HLOOKUP($JQ$15,Līmeņatzīmes!$B$6:$AI$7,2,FALSE))","v":" "},{"$f":"IF(OR(KD$16=\" \",KD$16=0),\" \",SUM(KE26:KP26))","v":" "},{"$f":"IF(KE22=\" \",\" \",$BQ$6*HLOOKUP($KD$15,Līmeņatzīmes!$B$6:$AI$7,2,FALSE))","v":" "},{"$f":"IF(KF22=\" \",\" \",$BQ$6*HLOOKUP($KD$15,Līmeņatzīmes!$B$6:$AI$7,2,FALSE))","v":" "},{"$f":"IF(KG22=\" \",\" \",$BQ$6*HLOOKUP($KD$15,Līmeņatzīmes!$B$6:$AI$7,2,FALSE))","v":" "},{"$f":"IF(KH22=\" \",\" \",$BQ$6*HLOOKUP($KD$15,Līmeņatzīmes!$B$6:$AI$7,2,FALSE))","v":" "},{"$f":"IF(KI22=\" \",\" \",$BQ$6*HLOOKUP($KD$15,Līmeņatzīmes!$B$6:$AI$7,2,FALSE))","v":" "},{"$f":"IF(KJ22=\" \",\" \",$BQ$6*HLOOKUP($KD$15,Līmeņatzīmes!$B$6:$AI$7,2,FALSE))","v":" "},{"$f":"IF(KK22=\" \",\" \",$BQ$6*HLOOKUP($KD$15,Līmeņatzīmes!$B$6:$AI$7,2,FALSE))","v":" "},{"$f":"IF(KL22=\" \",\" \",$BQ$6*HLOOKUP($KD$15,Līmeņatzīmes!$B$6:$AI$7,2,FALSE))","v":" "},{"$f":"IF(KM22=\" \",\" \",$BQ$6*HLOOKUP($KD$15,Līmeņatzīmes!$B$6:$AI$7,2,FALSE))","v":" "},{"$f":"IF(KN22=\" \",\" \",$BQ$6*HLOOKUP($KD$15,Līmeņatzīmes!$B$6:$AI$7,2,FALSE))","v":" "},{"$f":"IF(KO22=\" \",\" \",$BQ$6*HLOOKUP($KD$15,Līmeņatzīmes!$B$6:$AI$7,2,FALSE))","v":" "},{"$f":"IF(KP22=\" \",\" \",$BQ$6*HLOOKUP($KD$15,Līmeņatzīmes!$B$6:$AI$7,2,FALSE))","v":" "},{"$f":"IF(OR(KQ$16=\" \",KQ$16=0),\" \",SUM(KR26:LC26))","v":" "},{"$f":"IF(KR22=\" \",\" \",$BQ$6*HLOOKUP($KQ$15,Līmeņatzīmes!$B$6:$AI$7,2,FALSE))","v":" "},{"$f":"IF(KS22=\" \",\" \",$BQ$6*HLOOKUP($KQ$15,Līmeņatzīmes!$B$6:$AI$7,2,FALSE))","v":" "},{"$f":"IF(KT22=\" \",\" \",$BQ$6*HLOOKUP($KQ$15,Līmeņatzīmes!$B$6:$AI$7,2,FALSE))","v":" "},{"$f":"IF(KU22=\" \",\" \",$BQ$6*HLOOKUP($KQ$15,Līmeņatzīmes!$B$6:$AI$7,2,FALSE))","v":" "},{"$f":"IF(KV22=\" \",\" \",$BQ$6*HLOOKUP($KQ$15,Līmeņatzīmes!$B$6:$AI$7,2,FALSE))","v":" "},{"$f":"IF(KW22=\" \",\" \",$BQ$6*HLOOKUP($KQ$15,Līmeņatzīmes!$B$6:$AI$7,2,FALSE))","v":" "},{"$f":"IF(KX22=\" \",\" \",$BQ$6*HLOOKUP($KQ$15,Līmeņatzīmes!$B$6:$AI$7,2,FALSE))","v":" "},{"$f":"IF(KY22=\" \",\" \",$BQ$6*HLOOKUP($KQ$15,Līmeņatzīmes!$B$6:$AI$7,2,FALSE))","v":" "},{"$f":"IF(KZ22=\" \",\" \",$BQ$6*HLOOKUP($KQ$15,Līmeņatzīmes!$B$6:$AI$7,2,FALSE))","v":" "},{"$f":"IF(LA22=\" \",\" \",$BQ$6*HLOOKUP($KQ$15,Līmeņatzīmes!$B$6:$AI$7,2,FALSE))","v":" "},{"$f":"IF(LB22=\" \",\" \",$BQ$6*HLOOKUP($KQ$15,Līmeņatzīmes!$B$6:$AI$7,2,FALSE))","v":" "},{"$f":"IF(LC22=\" \",\" \",$BQ$6*HLOOKUP($KQ$15,Līmeņatzīmes!$B$6:$AI$7,2,FALSE))","v":" "},{"$f":"IF(OR(LD$16=\" \",LD$16=0),\" \",SUM(LE26:LP26))","v":" "},{"$f":"IF(LE22=\" \",\" \",$BQ$6*HLOOKUP($LD$15,Līmeņatzīmes!$B$6:$AI$7,2,FALSE))","v":" "},{"$f":"IF(LF22=\" \",\" \",$BQ$6*HLOOKUP($LD$15,Līmeņatzīmes!$B$6:$AI$7,2,FALSE))","v":" "},{"$f":"IF(LG22=\" \",\" \",$BQ$6*HLOOKUP($LD$15,Līmeņatzīmes!$B$6:$AI$7,2,FALSE))","v":" "},{"$f":"IF(LH22=\" \",\" \",$BQ$6*HLOOKUP($LD$15,Līmeņatzīmes!$B$6:$AI$7,2,FALSE))","v":" "},{"$f":"IF(LI22=\" \",\" \",$BQ$6*HLOOKUP($LD$15,Līmeņatzīmes!$B$6:$AI$7,2,FALSE))","v":" "},{"$f":"IF(LJ22=\" \",\" \",$BQ$6*HLOOKUP($LD$15,Līmeņatzīmes!$B$6:$AI$7,2,FALSE))","v":" "},{"$f":"IF(LK22=\" \",\" \",$BQ$6*HLOOKUP($LD$15,Līmeņatzīmes!$B$6:$AI$7,2,FALSE))","v":" "},{"$f":"IF(LL22=\" \",\" \",$BQ$6*HLOOKUP($LD$15,Līmeņatzīmes!$B$6:$AI$7,2,FALSE))","v":" "},{"$f":"IF(LM22=\" \",\" \",$BQ$6*HLOOKUP($LD$15,Līmeņatzīmes!$B$6:$AI$7,2,FALSE))","v":" "},{"$f":"IF(LN22=\" \",\" \",$BQ$6*HLOOKUP($LD$15,Līmeņatzīmes!$B$6:$AI$7,2,FALSE))","v":" "},{"$f":"IF(LO22=\" \",\" \",$BQ$6*HLOOKUP($LD$15,Līmeņatzīmes!$B$6:$AI$7,2,FALSE))","v":" "},{"$f":"IF(LP22=\" \",\" \",$BQ$6*HLOOKUP($LD$15,Līmeņatzīmes!$B$6:$AI$7,2,FALSE))","v":" "},{"$f":"IF(OR(LQ$16=\" \",LQ$16=0),\" \",SUM(LR26:MC26))","v":" "},{"$f":"IF(LR22=\" \",\" \",$BQ$6*HLOOKUP($LQ$15,Līmeņatzīmes!$B$6:$AI$7,2,FALSE))","v":" "},{"$f":"IF(LS22=\" \",\" \",$BQ$6*HLOOKUP($LQ$15,Līmeņatzīmes!$B$6:$AI$7,2,FALSE))","v":" "},{"$f":"IF(LT22=\" \",\" \",$BQ$6*HLOOKUP($LQ$15,Līmeņatzīmes!$B$6:$AI$7,2,FALSE))","v":" "},{"$f":"IF(LU22=\" \",\" \",$BQ$6*HLOOKUP($LQ$15,Līmeņatzīmes!$B$6:$AI$7,2,FALSE))","v":" "},{"$f":"IF(LV22=\" \",\" \",$BQ$6*HLOOKUP($LQ$15,Līmeņatzīmes!$B$6:$AI$7,2,FALSE))","v":" "},{"$f":"IF(LW22=\" \",\" \",$BQ$6*HLOOKUP($LQ$15,Līmeņatzīmes!$B$6:$AI$7,2,FALSE))","v":" "},{"$f":"IF(LX22=\" \",\" \",$BQ$6*HLOOKUP($LQ$15,Līmeņatzīmes!$B$6:$AI$7,2,FALSE))","v":" "},{"$f":"IF(LY22=\" \",\" \",$BQ$6*HLOOKUP($LQ$15,Līmeņatzīmes!$B$6:$AI$7,2,FALSE))","v":" "},{"$f":"IF(LZ22=\" \",\" \",$BQ$6*HLOOKUP($LQ$15,Līmeņatzīmes!$B$6:$AI$7,2,FALSE))","v":" "},{"$f":"IF(MA22=\" \",\" \",$BQ$6*HLOOKUP($LQ$15,Līmeņatzīmes!$B$6:$AI$7,2,FALSE))","v":" "},{"$f":"IF(MB22=\" \",\" \",$BQ$6*HLOOKUP($LQ$15,Līmeņatzīmes!$B$6:$AI$7,2,FALSE))","v":" "},{"$f":"IF(MC22=\" \",\" \",$BQ$6*HLOOKUP($LQ$15,Līmeņatzīmes!$B$6:$AI$7,2,FALSE))","v":" "},{"$f":"IF(OR(MD$16=\" \",MD$16=0),\" \",SUM(ME26:MP26))","v":" "},{"$f":"IF(ME22=\" \",\" \",$BQ$6*HLOOKUP($MD$15,Līmeņatzīmes!$B$6:$AI$7,2,FALSE))","v":" "},{"$f":"IF(MF22=\" \",\" \",$BQ$6*HLOOKUP($MD$15,Līmeņatzīmes!$B$6:$AI$7,2,FALSE))","v":" "},{"$f":"IF(MG22=\" \",\" \",$BQ$6*HLOOKUP($MD$15,Līmeņatzīmes!$B$6:$AI$7,2,FALSE))","v":" "},{"$f":"IF(MH22=\" \",\" \",$BQ$6*HLOOKUP($MD$15,Līmeņatzīmes!$B$6:$AI$7,2,FALSE))","v":" "},{"$f":"IF(MI22=\" \",\" \",$BQ$6*HLOOKUP($MD$15,Līmeņatzīmes!$B$6:$AI$7,2,FALSE))","v":" "},{"$f":"IF(MJ22=\" \",\" \",$BQ$6*HLOOKUP($MD$15,Līmeņatzīmes!$B$6:$AI$7,2,FALSE))","v":" "},{"$f":"IF(MK22=\" \",\" \",$BQ$6*HLOOKUP($MD$15,Līmeņatzīmes!$B$6:$AI$7,2,FALSE))","v":" "},{"$f":"IF(ML22=\" \",\" \",$BQ$6*HLOOKUP($MD$15,Līmeņatzīmes!$B$6:$AI$7,2,FALSE))","v":" "},{"$f":"IF(MM22=\" \",\" \",$BQ$6*HLOOKUP($MD$15,Līmeņatzīmes!$B$6:$AI$7,2,FALSE))","v":" "},{"$f":"IF(MN22=\" \",\" \",$BQ$6*HLOOKUP($MD$15,Līmeņatzīmes!$B$6:$AI$7,2,FALSE))","v":" "},{"$f":"IF(MO22=\" \",\" \",$BQ$6*HLOOKUP($MD$15,Līmeņatzīmes!$B$6:$AI$7,2,FALSE))","v":" "},{"$f":"IF(MP22=\" \",\" \",$BQ$6*HLOOKUP($MD$15,Līmeņatzīmes!$B$6:$AI$7,2,FALSE))","v":" "},{"$f":"IF(OR(MQ$16=\" \",MQ$16=0),\" \",SUM(MR26:NC26))","v":" "},{"$f":"IF(MR22=\" \",\" \",$BQ$6*HLOOKUP($MQ$15,Līmeņatzīmes!$B$6:$AI$7,2,FALSE))","v":" "},{"$f":"IF(MS22=\" \",\" \",$BQ$6*HLOOKUP($MQ$15,Līmeņatzīmes!$B$6:$AI$7,2,FALSE))","v":" "},{"$f":"IF(MT22=\" \",\" \",$BQ$6*HLOOKUP($MQ$15,Līmeņatzīmes!$B$6:$AI$7,2,FALSE))","v":" "},{"$f":"IF(MU22=\" \",\" \",$BQ$6*HLOOKUP($MQ$15,Līmeņatzīmes!$B$6:$AI$7,2,FALSE))","v":" "},{"$f":"IF(MV22=\" \",\" \",$BQ$6*HLOOKUP($MQ$15,Līmeņatzīmes!$B$6:$AI$7,2,FALSE))","v":" "},{"$f":"IF(MW22=\" \",\" \",$BQ$6*HLOOKUP($MQ$15,Līmeņatzīmes!$B$6:$AI$7,2,FALSE))","v":" "},{"$f":"IF(MX22=\" \",\" \",$BQ$6*HLOOKUP($MQ$15,Līmeņatzīmes!$B$6:$AI$7,2,FALSE))","v":" "},{"$f":"IF(MY22=\" \",\" \",$BQ$6*HLOOKUP($MQ$15,Līmeņatzīmes!$B$6:$AI$7,2,FALSE))","v":" "},{"$f":"IF(MZ22=\" \",\" \",$BQ$6*HLOOKUP($MQ$15,Līmeņatzīmes!$B$6:$AI$7,2,FALSE))","v":" "},{"$f":"IF(NA22=\" \",\" \",$BQ$6*HLOOKUP($MQ$15,Līmeņatzīmes!$B$6:$AI$7,2,FALSE))","v":" "},{"$f":"IF(NB22=\" \",\" \",$BQ$6*HLOOKUP($MQ$15,Līmeņatzīmes!$B$6:$AI$7,2,FALSE))","v":" "},{"$f":"IF(NC22=\" \",\" \",$BQ$6*HLOOKUP($MQ$15,Līmeņatzīmes!$B$6:$AI$7,2,FALSE))","v":" "},{"$f":"IF(OR(ND$16=\" \",ND$16=0),\" \",SUM(NE26:NP26))","v":" "},{"$f":"IF(NE22=\" \",\" \",$BQ$6*HLOOKUP($ND$15,Līmeņatzīmes!$B$6:$AI$7,2,FALSE))","v":" "},{"$f":"IF(NF22=\" \",\" \",$BQ$6*HLOOKUP($ND$15,Līmeņatzīmes!$B$6:$AI$7,2,FALSE))","v":" "},{"$f":"IF(NG22=\" \",\" \",$BQ$6*HLOOKUP($ND$15,Līmeņatzīmes!$B$6:$AI$7,2,FALSE))","v":" "},{"$f":"IF(NH22=\" \",\" \",$BQ$6*HLOOKUP($ND$15,Līmeņatzīmes!$B$6:$AI$7,2,FALSE))","v":" "},{"$f":"IF(NI22=\" \",\" \",$BQ$6*HLOOKUP($ND$15,Līmeņatzīmes!$B$6:$AI$7,2,FALSE))","v":" "},{"$f":"IF(NJ22=\" \",\" \",$BQ$6*HLOOKUP($ND$15,Līmeņatzīmes!$B$6:$AI$7,2,FALSE))","v":" "},{"$f":"IF(NK22=\" \",\" \",$BQ$6*HLOOKUP($ND$15,Līmeņatzīmes!$B$6:$AI$7,2,FALSE))","v":" "},{"$f":"IF(NL22=\" \",\" \",$BQ$6*HLOOKUP($ND$15,Līmeņatzīmes!$B$6:$AI$7,2,FALSE))","v":" "},{"$f":"IF(NM22=\" \",\" \",$BQ$6*HLOOKUP($ND$15,Līmeņatzīmes!$B$6:$AI$7,2,FALSE))","v":" "},{"$f":"IF(NN22=\" \",\" \",$BQ$6*HLOOKUP($ND$15,Līmeņatzīmes!$B$6:$AI$7,2,FALSE))","v":" "},{"$f":"IF(NO22=\" \",\" \",$BQ$6*HLOOKUP($ND$15,Līmeņatzīmes!$B$6:$AI$7,2,FALSE))","v":" "},{"$f":"IF(NP22=\" \",\" \",$BQ$6*HLOOKUP($ND$15,Līmeņatzīmes!$B$6:$AI$7,2,FALSE))","v":" "},{"$f":"IF(OR(NQ$16=\" \",NQ$16=0),\" \",SUM(NR26:OC26))","v":" "},{"$f":"IF(NR22=\" \",\" \",$BQ$6*HLOOKUP($NQ$15,Līmeņatzīmes!$B$6:$AI$7,2,FALSE))","v":" "},{"$f":"IF(NS22=\" \",\" \",$BQ$6*HLOOKUP($NQ$15,Līmeņatzīmes!$B$6:$AI$7,2,FALSE))","v":" "},{"$f":"IF(NT22=\" \",\" \",$BQ$6*HLOOKUP($NQ$15,Līmeņatzīmes!$B$6:$AI$7,2,FALSE))","v":" "},{"$f":"IF(NU22=\" \",\" \",$BQ$6*HLOOKUP($NQ$15,Līmeņatzīmes!$B$6:$AI$7,2,FALSE))","v":" "},{"$f":"IF(NV22=\" \",\" \",$BQ$6*HLOOKUP($NQ$15,Līmeņatzīmes!$B$6:$AI$7,2,FALSE))","v":" "},{"$f":"IF(NW22=\" \",\" \",$BQ$6*HLOOKUP($NQ$15,Līmeņatzīmes!$B$6:$AI$7,2,FALSE))","v":" "},{"$f":"IF(NX22=\" \",\" \",$BQ$6*HLOOKUP($NQ$15,Līmeņatzīmes!$B$6:$AI$7,2,FALSE))","v":" "},{"$f":"IF(NY22=\" \",\" \",$BQ$6*HLOOKUP($NQ$15,Līmeņatzīmes!$B$6:$AI$7,2,FALSE))","v":" "},{"$f":"IF(NZ22=\" \",\" \",$BQ$6*HLOOKUP($NQ$15,Līmeņatzīmes!$B$6:$AI$7,2,FALSE))","v":" "},{"$f":"IF(OA22=\" \",\" \",$BQ$6*HLOOKUP($NQ$15,Līmeņatzīmes!$B$6:$AI$7,2,FALSE))","v":" "},{"$f":"IF(OB22=\" \",\" \",$BQ$6*HLOOKUP($NQ$15,Līmeņatzīmes!$B$6:$AI$7,2,FALSE))","v":" "},{"$f":"IF(OC22=\" \",\" \",$BQ$6*HLOOKUP($NQ$15,Līmeņatzīmes!$B$6:$AI$7,2,FALSE))","v":" "},{"$f":"IF(OR(OD$16=\" \",OD$16=0),\" \",SUM(OE26:OP26))","v":" "},{"$f":"IF(OE22=\" \",\" \",$BQ$6*HLOOKUP($OD$15,Līmeņatzīmes!$B$6:$AI$7,2,FALSE))","v":" "},{"$f":"IF(OF22=\" \",\" \",$BQ$6*HLOOKUP($OD$15,Līmeņatzīmes!$B$6:$AI$7,2,FALSE))","v":" "},{"$f":"IF(OG22=\" \",\" \",$BQ$6*HLOOKUP($OD$15,Līmeņatzīmes!$B$6:$AI$7,2,FALSE))","v":" "},{"$f":"IF(OH22=\" \",\" \",$BQ$6*HLOOKUP($OD$15,Līmeņatzīmes!$B$6:$AI$7,2,FALSE))","v":" "},{"$f":"IF(OI22=\" \",\" \",$BQ$6*HLOOKUP($OD$15,Līmeņatzīmes!$B$6:$AI$7,2,FALSE))","v":" "},{"$f":"IF(OJ22=\" \",\" \",$BQ$6*HLOOKUP($OD$15,Līmeņatzīmes!$B$6:$AI$7,2,FALSE))","v":" "},{"$f":"IF(OK22=\" \",\" \",$BQ$6*HLOOKUP($OD$15,Līmeņatzīmes!$B$6:$AI$7,2,FALSE))","v":" "},{"$f":"IF(OL22=\" \",\" \",$BQ$6*HLOOKUP($OD$15,Līmeņatzīmes!$B$6:$AI$7,2,FALSE))","v":" "},{"$f":"IF(OM22=\" \",\" \",$BQ$6*HLOOKUP($OD$15,Līmeņatzīmes!$B$6:$AI$7,2,FALSE))","v":" "},{"$f":"IF(ON22=\" \",\" \",$BQ$6*HLOOKUP($OD$15,Līmeņatzīmes!$B$6:$AI$7,2,FALSE))","v":" "},{"$f":"IF(OO22=\" \",\" \",$BQ$6*HLOOKUP($OD$15,Līmeņatzīmes!$B$6:$AI$7,2,FALSE))","v":" "},{"$f":"IF(OP22=\" \",\" \",$BQ$6*HLOOKUP($OD$15,Līmeņatzīmes!$B$6:$AI$7,2,FALSE))","v":" "},{"$f":"IF(OR(OQ$16=\" \",OQ$16=0),\" \",SUM(OR26:PC26))","v":" "},{"$f":"IF(OR22=\" \",\" \",$BQ$6*HLOOKUP($OQ$15,Līmeņatzīmes!$B$6:$AI$7,2,FALSE))","v":" "},{"$f":"IF(OS22=\" \",\" \",$BQ$6*HLOOKUP($OQ$15,Līmeņatzīmes!$B$6:$AI$7,2,FALSE))","v":" "},{"$f":"IF(OT22=\" \",\" \",$BQ$6*HLOOKUP($OQ$15,Līmeņatzīmes!$B$6:$AI$7,2,FALSE))","v":" "},{"$f":"IF(OU22=\" \",\" \",$BQ$6*HLOOKUP($OQ$15,Līmeņatzīmes!$B$6:$AI$7,2,FALSE))","v":" "},{"$f":"IF(OV22=\" \",\" \",$BQ$6*HLOOKUP($OQ$15,Līmeņatzīmes!$B$6:$AI$7,2,FALSE))","v":" "},{"$f":"IF(OW22=\" \",\" \",$BQ$6*HLOOKUP($OQ$15,Līmeņatzīmes!$B$6:$AI$7,2,FALSE))","v":" "},{"$f":"IF(OX22=\" \",\" \",$BQ$6*HLOOKUP($OQ$15,Līmeņatzīmes!$B$6:$AI$7,2,FALSE))","v":" "},{"$f":"IF(OY22=\" \",\" \",$BQ$6*HLOOKUP($OQ$15,Līmeņatzīmes!$B$6:$AI$7,2,FALSE))","v":" "},{"$f":"IF(OZ22=\" \",\" \",$BQ$6*HLOOKUP($OQ$15,Līmeņatzīmes!$B$6:$AI$7,2,FALSE))","v":" "},{"$f":"IF(PA22=\" \",\" \",$BQ$6*HLOOKUP($OQ$15,Līmeņatzīmes!$B$6:$AI$7,2,FALSE))","v":" "},{"$f":"IF(PB22=\" \",\" \",$BQ$6*HLOOKUP($OQ$15,Līmeņatzīmes!$B$6:$AI$7,2,FALSE))","v":" "},{"$f":"IF(PC22=\" \",\" \",$BQ$6*HLOOKUP($OQ$15,Līmeņatzīmes!$B$6:$AI$7,2,FALSE))","v":" "},{"$f":"IF(OR(PD$16=\" \",PD$16=0),\" \",SUM(PE26:PP26))","v":" "},{"$f":"IF(PE22=\" \",\" \",$BQ$6*HLOOKUP($PD$15,Līmeņatzīmes!$B$6:$AI$7,2,FALSE))","v":" "},{"$f":"IF(PF22=\" \",\" \",$BQ$6*HLOOKUP($PD$15,Līmeņatzīmes!$B$6:$AI$7,2,FALSE))","v":" "},{"$f":"IF(PG22=\" \",\" \",$BQ$6*HLOOKUP($PD$15,Līmeņatzīmes!$B$6:$AI$7,2,FALSE))","v":" "},{"$f":"IF(PH22=\" \",\" \",$BQ$6*HLOOKUP($PD$15,Līmeņatzīmes!$B$6:$AI$7,2,FALSE))","v":" "},{"$f":"IF(PI22=\" \",\" \",$BQ$6*HLOOKUP($PD$15,Līmeņatzīmes!$B$6:$AI$7,2,FALSE))","v":" "},{"$f":"IF(PJ22=\" \",\" \",$BQ$6*HLOOKUP($PD$15,Līmeņatzīmes!$B$6:$AI$7,2,FALSE))","v":" "},{"$f":"IF(PK22=\" \",\" \",$BQ$6*HLOOKUP($PD$15,Līmeņatzīmes!$B$6:$AI$7,2,FALSE))","v":" "},{"$f":"IF(PL22=\" \",\" \",$BQ$6*HLOOKUP($PD$15,Līmeņatzīmes!$B$6:$AI$7,2,FALSE))","v":" "},{"$f":"IF(PM22=\" \",\" \",$BQ$6*HLOOKUP($PD$15,Līmeņatzīmes!$B$6:$AI$7,2,FALSE))","v":" "},{"$f":"IF(PN22=\" \",\" \",$BQ$6*HLOOKUP($PD$15,Līmeņatzīmes!$B$6:$AI$7,2,FALSE))","v":" "},{"$f":"IF(PO22=\" \",\" \",$BQ$6*HLOOKUP($PD$15,Līmeņatzīmes!$B$6:$AI$7,2,FALSE))","v":" "},{"$f":"IF(PP22=\" \",\" \",$BQ$6*HLOOKUP($PD$15,Līmeņatzīmes!$B$6:$AI$7,2,FALSE))","v":" "},{"$f":"IF(OR(PQ$16=\" \",PQ$16=0),\" \",SUM(PR26:QC26))","v":" "},{"$f":"IF(PR22=\" \",\" \",$BQ$6*HLOOKUP($PQ$15,Līmeņatzīmes!$B$6:$AI$7,2,FALSE))","v":" "},{"$f":"IF(PS22=\" \",\" \",$BQ$6*HLOOKUP($PQ$15,Līmeņatzīmes!$B$6:$AI$7,2,FALSE))","v":" "},{"$f":"IF(PT22=\" \",\" \",$BQ$6*HLOOKUP($PQ$15,Līmeņatzīmes!$B$6:$AI$7,2,FALSE))","v":" "},{"$f":"IF(PU22=\" \",\" \",$BQ$6*HLOOKUP($PQ$15,Līmeņatzīmes!$B$6:$AI$7,2,FALSE))","v":" "},{"$f":"IF(PV22=\" \",\" \",$BQ$6*HLOOKUP($PQ$15,Līmeņatzīmes!$B$6:$AI$7,2,FALSE))","v":" "},{"$f":"IF(PW22=\" \",\" \",$BQ$6*HLOOKUP($PQ$15,Līmeņatzīmes!$B$6:$AI$7,2,FALSE))","v":" "},{"$f":"IF(PX22=\" \",\" \",$BQ$6*HLOOKUP($PQ$15,Līmeņatzīmes!$B$6:$AI$7,2,FALSE))","v":" "},{"$f":"IF(PY22=\" \",\" \",$BQ$6*HLOOKUP($PQ$15,Līmeņatzīmes!$B$6:$AI$7,2,FALSE))","v":" "},{"$f":"IF(PZ22=\" \",\" \",$BQ$6*HLOOKUP($PQ$15,Līmeņatzīmes!$B$6:$AI$7,2,FALSE))","v":" "},{"$f":"IF(QA22=\" \",\" \",$BQ$6*HLOOKUP($PQ$15,Līmeņatzīmes!$B$6:$AI$7,2,FALSE))","v":" "},{"$f":"IF(QB22=\" \",\" \",$BQ$6*HLOOKUP($PQ$15,Līmeņatzīmes!$B$6:$AI$7,2,FALSE))","v":" "},{"$f":"IF(QC22=\" \",\" \",$BQ$6*HLOOKUP($PQ$15,Līmeņatzīmes!$B$6:$AI$7,2,FALSE))","v":" "}]
["Ekspluatācijas un pārējās darbības izmaksas","EUR/gadā"," ",{"$f":"IF(OR(D$16=\" \",D$16=0),\" \",SUM(E27:P27))","v":" "},{"$f":"IF(E22=\" \",\" \",IF($C$27=\" \",$CD$6*E21,$C$27*(1+HLOOKUP($D$15,Līmeņatzīmes!$B$3:$AI$4,2,FALSE))))","v":" "},{"$f":"IF(F22=\" \",\" \",IF($C$27=\" \",$CD$6*F21,$C$27*(1+HLOOKUP($D$15,Līmeņatzīmes!$B$3:$AI$4,2,FALSE))))","v":" "},{"$f":"IF(G22=\" \",\" \",IF($C$27=\" \",$CD$6*G21,$C$27*(1+HLOOKUP($D$15,Līmeņatzīmes!$B$3:$AI$4,2,FALSE))))","v":" "},{"$f":"IF(H22=\" \",\" \",IF($C$27=\" \",$CD$6*H21,$C$27*(1+HLOOKUP($D$15,Līmeņatzīmes!$B$3:$AI$4,2,FALSE))))","v":" "},{"$f":"IF(I22=\" \",\" \",IF($C$27=\" \",$CD$6*I21,$C$27*(1+HLOOKUP($D$15,Līmeņatzīmes!$B$3:$AI$4,2,FALSE))))","v":" "},{"$f":"IF(J22=\" \",\" \",IF($C$27=\" \",$CD$6*J21,$C$27*(1+HLOOKUP($D$15,Līmeņatzīmes!$B$3:$AI$4,2,FALSE))))","v":" "},{"$f":"IF(K22=\" \",\" \",IF($C$27=\" \",$CD$6*K21,$C$27*(1+HLOOKUP($D$15,Līmeņatzīmes!$B$3:$AI$4,2,FALSE))))","v":" "},{"$f":"IF(L22=\" \",\" \",IF($C$27=\" \",$CD$6*L21,$C$27*(1+HLOOKUP($D$15,Līmeņatzīmes!$B$3:$AI$4,2,FALSE))))","v":" "},{"$f":"IF(M22=\" \",\" \",IF($C$27=\" \",$CD$6*M21,$C$27*(1+HLOOKUP($D$15,Līmeņatzīmes!$B$3:$AI$4,2,FALSE))))","v":" "},{"$f":"IF(N22=\" \",\" \",IF($C$27=\" \",$CD$6*N21,$C$27*(1+HLOOKUP($D$15,Līmeņatzīmes!$B$3:$AI$4,2,FALSE))))","v":" "},{"$f":"IF(O22=\" \",\" \",IF($C$27=\" \",$CD$6*O21,$C$27*(1+HLOOKUP($D$15,Līmeņatzīmes!$B$3:$AI$4,2,FALSE))))","v":" "},{"$f":"IF(P22=\" \",\" \",IF($C$27=\" \",$CD$6*P21,$C$27*(1+HLOOKUP($D$15,Līmeņatzīmes!$B$3:$AI$4,2,FALSE))))","v":" "},{"$f":"IF(OR(Q$16=\" \",Q$16=0),\" \",SUM(R27:AC27))","v":" "},{"$f":"IF(R22=\" \",\" \",IF($P$27=\" \",$CD$6*R21,$P$27*(1+HLOOKUP($Q$15,Līmeņatzīmes!$B$3:$AI$4,2,FALSE))))","v":" "},{"$f":"IF(S22=\" \",\" \",IF($P$27=\" \",$CD$6*S21,$P$27*(1+HLOOKUP($Q$15,Līmeņatzīmes!$B$3:$AI$4,2,FALSE))))","v":" "},{"$f":"IF(T22=\" \",\" \",IF($P$27=\" \",$CD$6*T21,$P$27*(1+HLOOKUP($Q$15,Līmeņatzīmes!$B$3:$AI$4,2,FALSE))))","v":" "},{"$f":"IF(U22=\" \",\" \",IF($P$27=\" \",$CD$6*U21,$P$27*(1+HLOOKUP($Q$15,Līmeņatzīmes!$B$3:$AI$4,2,FALSE))))","v":" "},{"$f":"IF(V22=\" \",\" \",IF($P$27=\" \",$CD$6*V21,$P$27*(1+HLOOKUP($Q$15,Līmeņatzīmes!$B$3:$AI$4,2,FALSE))))","v":" "},{"$f":"IF(W22=\" \",\" \",IF($P$27=\" \",$CD$6*W21,$P$27*(1+HLOOKUP($Q$15,Līmeņatzīmes!$B$3:$AI$4,2,FALSE))))","v":" "},{"$f":"IF(X22=\" \",\" \",IF($P$27=\" \",$CD$6*X21,$P$27*(1+HLOOKUP($Q$15,Līmeņatzīmes!$B$3:$AI$4,2,FALSE))))","v":" "},{"$f":"IF(Y22=\" \",\" \",IF($P$27=\" \",$CD$6*Y21,$P$27*(1+HLOOKUP($Q$15,Līmeņatzīmes!$B$3:$AI$4,2,FALSE))))","v":" "},{"$f":"IF(Z22=\" \",\" \",IF($P$27=\" \",$CD$6*Z21,$P$27*(1+HLOOKUP($Q$15,Līmeņatzīmes!$B$3:$AI$4,2,FALSE))))","v":" "},{"$f":"IF(AA22=\" \",\" \",IF($P$27=\" \",$CD$6*AA21,$P$27*(1+HLOOKUP($Q$15,Līmeņatzīmes!$B$3:$AI$4,2,FALSE))))","v":" "},{"$f":"IF(AB22=\" \",\" \",IF($P$27=\" \",$CD$6*AB21,$P$27*(1+HLOOKUP($Q$15,Līmeņatzīmes!$B$3:$AI$4,2,FALSE))))","v":" "},{"$f":"IF(AC22=\" \",\" \",IF($P$27=\" \",$CD$6*AC21,$P$27*(1+HLOOKUP($Q$15,Līmeņatzīmes!$B$3:$AI$4,2,FALSE))))","v":" "},{"$f":"IF(OR(AD$16=\" \",AD$16=0),\" \",SUM(AE27:AP27))","v":" "},{"$f":"IF(AE22=\" \",\" \",IF($AC$27=\" \",$CD$6*AE21,$AC$27*(1+HLOOKUP($AD$15,Līmeņatzīmes!$B$3:$AI$4,2,FALSE))))","v":" "},{"$f":"IF(AF22=\" \",\" \",IF($AC$27=\" \",$CD$6*AF21,$AC$27*(1+HLOOKUP($AD$15,Līmeņatzīmes!$B$3:$AI$4,2,FALSE))))","v":" "},{"$f":"IF(AG22=\" \",\" \",IF($AC$27=\" \",$CD$6*AG21,$AC$27*(1+HLOOKUP($AD$15,Līmeņatzīmes!$B$3:$AI$4,2,FALSE))))","v":" "},{"$f":"IF(AH22=\" \",\" \",IF($AC$27=\" \",$CD$6*AH21,$AC$27*(1+HLOOKUP($AD$15,Līmeņatzīmes!$B$3:$AI$4,2,FALSE))))","v":" "},{"$f":"IF(AI22=\" \",\" \",IF($AC$27=\" \",$CD$6*AI21,$AC$27*(1+HLOOKUP($AD$15,Līmeņatzīmes!$B$3:$AI$4,2,FALSE))))","v":" "},{"$f":"IF(AJ22=\" \",\" \",IF($AC$27=\" \",$CD$6*AJ21,$AC$27*(1+HLOOKUP($AD$15,Līmeņatzīmes!$B$3:$AI$4,2,FALSE))))","v":" "},{"$f":"IF(AK22=\" \",\" \",IF($AC$27=\" \",$CD$6*AK21,$AC$27*(1+HLOOKUP($AD$15,Līmeņatzīmes!$B$3:$AI$4,2,FALSE))))","v":" "},{"$f":"IF(AL22=\" \",\" \",IF($AC$27=\" \",$CD$6*AL21,$AC$27*(1+HLOOKUP($AD$15,Līmeņatzīmes!$B$3:$AI$4,2,FALSE))))","v":" "},{"$f":"IF(AM22=\" \",\" \",IF($AC$27=\" \",$CD$6*AM21,$AC$27*(1+HLOOKUP($AD$15,Līmeņatzīmes!$B$3:$AI$4,2,FALSE))))","v":" "},{"$f":"IF(AN22=\" \",\" \",IF($AC$27=\" \",$CD$6*AN21,$AC$27*(1+HLOOKUP($AD$15,Līmeņatzīmes!$B$3:$AI$4,2,FALSE))))","v":" "},{"$f":"IF(AO22=\" \",\" \",IF($AC$27=\" \",$CD$6*AO21,$AC$27*(1+HLOOKUP($AD$15,Līmeņatzīmes!$B$3:$AI$4,2,FALSE))))","v":" "},{"$f":"IF(AP22=\" \",\" \",IF($AC$27=\" \",$CD$6*AP21,$AC$27*(1+HLOOKUP($AD$15,Līmeņatzīmes!$B$3:$AI$4,2,FALSE))))","v":" "},{"$f":"IF(OR(AQ$16=\" \",AQ$16=0),\" \",SUM(AR27:BC27))","v":" "},{"$f":"IF(AR22=\" \",\" \",IF($AP$27=\" \",$CD$6*AR21,$AP$27*(1+HLOOKUP($AQ$15,Līmeņatzīmes!$B$3:$AI$4,2,FALSE))))","v":" "},{"$f":"IF(AS22=\" \",\" \",IF($AP$27=\" \",$CD$6*AS21,$AP$27*(1+HLOOKUP($AQ$15,Līmeņatzīmes!$B$3:$AI$4,2,FALSE))))","v":" "},{"$f":"IF(AT22=\" \",\" \",IF($AP$27=\" \",$CD$6*AT21,$AP$27*(1+HLOOKUP($AQ$15,Līmeņatzīmes!$B$3:$AI$4,2,FALSE))))","v":" "},{"$f":"IF(AU22=\" \",\" \",IF($AP$27=\" \",$CD$6*AU21,$AP$27*(1+HLOOKUP($AQ$15,Līmeņatzīmes!$B$3:$AI$4,2,FALSE))))","v":" "},{"$f":"IF(AV22=\" \",\" \",IF($AP$27=\" \",$CD$6*AV21,$AP$27*(1+HLOOKUP($AQ$15,Līmeņatzīmes!$B$3:$AI$4,2,FALSE))))","v":" "},{"$f":"IF(AW22=\" \",\" \",IF($AP$27=\" \",$CD$6*AW21,$AP$27*(1+HLOOKUP($AQ$15,Līmeņatzīmes!$B$3:$AI$4,2,FALSE))))","v":" "},{"$f":"IF(AX22=\" \",\" \",IF($AP$27=\" \",$CD$6*AX21,$AP$27*(1+HLOOKUP($AQ$15,Līmeņatzīmes!$B$3:$AI$4,2,FALSE))))","v":" "},{"$f":"IF(AY22=\" \",\" \",IF($AP$27=\" \",$CD$6*AY21,$AP$27*(1+HLOOKUP($AQ$15,Līmeņatzīmes!$B$3:$AI$4,2,FALSE))))","v":" "},{"$f":"IF(AZ22=\" \",\" \",IF($AP$27=\" \",$CD$6*AZ21,$AP$27*(1+HLOOKUP($AQ$15,Līmeņatzīmes!$B$3:$AI$4,2,FALSE))))","v":" "},{"$f":"IF(BA22=\" \",\" \",IF($AP$27=\" \",$CD$6*BA21,$AP$27*(1+HLOOKUP($AQ$15,Līmeņatzīmes!$B$3:$AI$4,2,FALSE))))","v":" "},{"$f":"IF(BB22=\" \",\" \",IF($AP$27=\" \",$CD$6*BB21,$AP$27*(1+HLOOKUP($AQ$15,Līmeņatzīmes!$B$3:$AI$4,2,FALSE))))","v":" "},{"$f":"IF(BC22=\" \",\" \",IF($AP$27=\" \",$CD$6*BC21,$AP$27*(1+HLOOKUP($AQ$15,Līmeņatzīmes!$B$3:$AI$4,2,FALSE))))","v":" "},{"$f":"IF(OR(BD$16=\" \",BD$16=0),\" \",SUM(BE27:BP27))","v":" "},{"$f":"IF(BE22=\" \",\" \",IF($BC$27=\" \",$CD$6*BE21,$BC$27*(1+HLOOKUP($BD$15,Līmeņatzīmes!$B$3:$AI$4,2,FALSE))))","v":" "},{"$f":"IF(BF22=\" \",\" \",IF($BC$27=\" \",$CD$6*BF21,$BC$27*(1+HLOOKUP($BD$15,Līmeņatzīmes!$B$3:$AI$4,2,FALSE))))","v":" "},{"$f":"IF(BG22=\" \",\" \",IF($BC$27=\" \",$CD$6*BG21,$BC$27*(1+HLOOKUP($BD$15,Līmeņatzīmes!$B$3:$AI$4,2,FALSE))))","v":" "},{"$f":"IF(BH22=\" \",\" \",IF($BC$27=\" \",$CD$6*BH21,$BC$27*(1+HLOOKUP($BD$15,Līmeņatzīmes!$B$3:$AI$4,2,FALSE))))","v":" "},{"$f":"IF(BI22=\" \",\" \",IF($BC$27=\" \",$CD$6*BI21,$BC$27*(1+HLOOKUP($BD$15,Līmeņatzīmes!$B$3:$AI$4,2,FALSE))))","v":" "},{"$f":"IF(BJ22=\" \",\" \",IF($BC$27=\" \",$CD$6*BJ21,$BC$27*(1+HLOOKUP($BD$15,Līmeņatzīmes!$B$3:$AI$4,2,FALSE))))","v":" "},{"$f":"IF(BK22=\" \",\" \",IF($BC$27=\" \",$CD$6*BK21,$BC$27*(1+HLOOKUP($BD$15,Līmeņatzīmes!$B$3:$AI$4,2,FALSE))))","v":" "},{"$f":"IF(BL22=\" \",\" \",IF($BC$27=\" \",$CD$6*BL21,$BC$27*(1+HLOOKUP($BD$15,Līmeņatzīmes!$B$3:$AI$4,2,FALSE))))","v":" "},{"$f":"IF(BM22=\" \",\" \",IF($BC$27=\" \",$CD$6*BM21,$BC$27*(1+HLOOKUP($BD$15,Līmeņatzīmes!$B$3:$AI$4,2,FALSE))))","v":" "},{"$f":"IF(BN22=\" \",\" \",IF($BC$27=\" \",$CD$6*BN21,$BC$27*(1+HLOOKUP($BD$15,Līmeņatzīmes!$B$3:$AI$4,2,FALSE))))","v":" "},{"$f":"IF(BO22=\" \",\" \",IF($BC$27=\" \",$CD$6*BO21,$BC$27*(1+HLOOKUP($BD$15,Līmeņatzīmes!$B$3:$AI$4,2,FALSE))))","v":" "},{"$f":"IF(BP22=\" \",\" \",IF($BC$27=\" \",$CD$6*BP21,$BC$27*(1+HLOOKUP($BD$15,Līmeņatzīmes!$B$3:$AI$4,2,FALSE))))","v":" "},{"$f":"IF(OR(BQ$16=\" \",BQ$16=0),\" \",SUM(BR27:CC27))","v":" "},{"$f":"IF(BR22=\" \",\" \",IF($BP$27=\" \",$CD$6*BR21,$BP$27*(1+HLOOKUP($BQ$15,Līmeņatzīmes!$B$3:$AI$4,2,FALSE))))","v":" "},{"$f":"IF(BS22=\" \",\" \",IF($BP$27=\" \",$CD$6*BS21,$BP$27*(1+HLOOKUP($BQ$15,Līmeņatzīmes!$B$3:$AI$4,2,FALSE))))","v":" "},{"$f":"IF(BT22=\" \",\" \",IF($BP$27=\" \",$CD$6*BT21,$BP$27*(1+HLOOKUP($BQ$15,Līmeņatzīmes!$B$3:$AI$4,2,FALSE))))","v":" "},{"$f":"IF(BU22=\" \",\" \",IF($BP$27=\" \",$CD$6*BU21,$BP$27*(1+HLOOKUP($BQ$15,Līmeņatzīmes!$B$3:$AI$4,2,FALSE))))","v":" "},{"$f":"IF(BV22=\" \",\" \",IF($BP$27=\" \",$CD$6*BV21,$BP$27*(1+HLOOKUP($BQ$15,Līmeņatzīmes!$B$3:$AI$4,2,FALSE))))","v":" "},{"$f":"IF(BW22=\" \",\" \",IF($BP$27=\" \",$CD$6*BW21,$BP$27*(1+HLOOKUP($BQ$15,Līmeņatzīmes!$B$3:$AI$4,2,FALSE))))","v":" "},{"$f":"IF(BX22=\" \",\" \",IF($BP$27=\" \",$CD$6*BX21,$BP$27*(1+HLOOKUP($BQ$15,Līmeņatzīmes!$B$3:$AI$4,2,FALSE))))","v":" "},{"$f":"IF(BY22=\" \",\" \",IF($BP$27=\" \",$CD$6*BY21,$BP$27*(1+HLOOKUP($BQ$15,Līmeņatzīmes!$B$3:$AI$4,2,FALSE))))","v":" "},{"$f":"IF(BZ22=\" \",\" \",IF($BP$27=\" \",$CD$6*BZ21,$BP$27*(1+HLOOKUP($BQ$15,Līmeņatzīmes!$B$3:$AI$4,2,FALSE))))","v":" "},{"$f":"IF(CA22=\" \",\" \",IF($BP$27=\" \",$CD$6*CA21,$BP$27*(1+HLOOKUP($BQ$15,Līmeņatzīmes!$B$3:$AI$4,2,FALSE))))","v":" "},{"$f":"IF(CB22=\" \",\" \",IF($BP$27=\" \",$CD$6*CB21,$BP$27*(1+HLOOKUP($BQ$15,Līmeņatzīmes!$B$3:$AI$4,2,FALSE))))","v":" "},{"$f":"IF(CC22=\" \",\" \",IF($BP$27=\" \",$CD$6*CC21,$BP$27*(1+HLOOKUP($BQ$15,Līmeņatzīmes!$B$3:$AI$4,2,FALSE))))","v":" "},{"$f":"IF(OR(CD$16=\" \",CD$16=0),\" \",SUM(CE27:CP27))","v":" "},{"$f":"IF(CE22=\" \",\" \",IF($CC$27=\" \",$CD$6*CE21,$CC$27*(1+HLOOKUP($CD$15,Līmeņatzīmes!$B$3:$AI$4,2,FALSE))))","v":" "},{"$f":"IF(CF22=\" \",\" \",IF($CC$27=\" \",$CD$6*CF21,$CC$27*(1+HLOOKUP($CD$15,Līmeņatzīmes!$B$3:$AI$4,2,FALSE))))","v":" "},{"$f":"IF(CG22=\" \",\" \",IF($CC$27=\" \",$CD$6*CG21,$CC$27*(1+HLOOKUP($CD$15,Līmeņatzīmes!$B$3:$AI$4,2,FALSE))))","v":" "},{"$f":"IF(CH22=\" \",\" \",IF($CC$27=\" \",$CD$6*CH21,$CC$27*(1+HLOOKUP($CD$15,Līmeņatzīmes!$B$3:$AI$4,2,FALSE))))","v":" "},{"$f":"IF(CI22=\" \",\" \",IF($CC$27=\" \",$CD$6*CI21,$CC$27*(1+HLOOKUP($CD$15,Līmeņatzīmes!$B$3:$AI$4,2,FALSE))))","v":" "},{"$f":"IF(CJ22=\" \",\" \",IF($CC$27=\" \",$CD$6*CJ21,$CC$27*(1+HLOOKUP($CD$15,Līmeņatzīmes!$B$3:$AI$4,2,FALSE))))","v":" "},{"$f":"IF(CK22=\" \",\" \",IF($CC$27=\" \",$CD$6*CK21,$CC$27*(1+HLOOKUP($CD$15,Līmeņatzīmes!$B$3:$AI$4,2,FALSE))))","v":" "},{"$f":"IF(CL22=\" \",\" \",IF($CC$27=\" \",$CD$6*CL21,$CC$27*(1+HLOOKUP($CD$15,Līmeņatzīmes!$B$3:$AI$4,2,FALSE))))","v":" "},{"$f":"IF(CM22=\" \",\" \",IF($CC$27=\" \",$CD$6*CM21,$CC$27*(1+HLOOKUP($CD$15,Līmeņatzīmes!$B$3:$AI$4,2,FALSE))))","v":" "},{"$f":"IF(CN22=\" \",\" \",IF($CC$27=\" \",$CD$6*CN21,$CC$27*(1+HLOOKUP($CD$15,Līmeņatzīmes!$B$3:$AI$4,2,FALSE))))","v":" "},{"$f":"IF(CO22=\" \",\" \",IF($CC$27=\" \",$CD$6*CO21,$CC$27*(1+HLOOKUP($CD$15,Līmeņatzīmes!$B$3:$AI$4,2,FALSE))))","v":" "},{"$f":"IF(CP22=\" \",\" \",IF($CC$27=\" \",$CD$6*CP21,$CC$27*(1+HLOOKUP($CD$15,Līmeņatzīmes!$B$3:$AI$4,2,FALSE))))","v":" "},{"$f":"IF(OR(CQ$16=\" \",CQ$16=0),\" \",SUM(CR27:DC27))","v":" "},{"$f":"IF(CR22=\" \",\" \",IF($CP$27=\" \",$CD$6*CR21,$CP$27*(1+HLOOKUP($CQ$15,Līmeņatzīmes!$B$3:$AI$4,2,FALSE))))","v":" "},{"$f":"IF(CS22=\" \",\" \",IF($CP$27=\" \",$CD$6*CS21,$CP$27*(1+HLOOKUP($CQ$15,Līmeņatzīmes!$B$3:$AI$4,2,FALSE))))","v":" "},{"$f":"IF(CT22=\" \",\" \",IF($CP$27=\" \",$CD$6*CT21,$CP$27*(1+HLOOKUP($CQ$15,Līmeņatzīmes!$B$3:$AI$4,2,FALSE))))","v":" "},{"$f":"IF(CU22=\" \",\" \",IF($CP$27=\" \",$CD$6*CU21,$CP$27*(1+HLOOKUP($CQ$15,Līmeņatzīmes!$B$3:$AI$4,2,FALSE))))","v":" "},{"$f":"IF(CV22=\" \",\" \",IF($CP$27=\" \",$CD$6*CV21,$CP$27*(1+HLOOKUP($CQ$15,Līmeņatzīmes!$B$3:$AI$4,2,FALSE))))","v":" "},{"$f":"IF(CW22=\" \",\" \",IF($CP$27=\" \",$CD$6*CW21,$CP$27*(1+HLOOKUP($CQ$15,Līmeņatzīmes!$B$3:$AI$4,2,FALSE))))","v":" "},{"$f":"IF(CX22=\" \",\" \",IF($CP$27=\" \",$CD$6*CX21,$CP$27*(1+HLOOKUP($CQ$15,Līmeņatzīmes!$B$3:$AI$4,2,FALSE))))","v":" "},{"$f":"IF(CY22=\" \",\" \",IF($CP$27=\" \",$CD$6*CY21,$CP$27*(1+HLOOKUP($CQ$15,Līmeņatzīmes!$B$3:$AI$4,2,FALSE))))","v":" "},{"$f":"IF(CZ22=\" \",\" \",IF($CP$27=\" \",$CD$6*CZ21,$CP$27*(1+HLOOKUP($CQ$15,Līmeņatzīmes!$B$3:$AI$4,2,FALSE))))","v":" "},{"$f":"IF(DA22=\" \",\" \",IF($CP$27=\" \",$CD$6*DA21,$CP$27*(1+HLOOKUP($CQ$15,Līmeņatzīmes!$B$3:$AI$4,2,FALSE))))","v":" "},{"$f":"IF(DB22=\" \",\" \",IF($CP$27=\" \",$CD$6*DB21,$CP$27*(1+HLOOKUP($CQ$15,Līmeņatzīmes!$B$3:$AI$4,2,FALSE))))","v":" "},{"$f":"IF(DC22=\" \",\" \",IF($CP$27=\" \",$CD$6*DC21,$CP$27*(1+HLOOKUP($CQ$15,Līmeņatzīmes!$B$3:$AI$4,2,FALSE))))","v":" "},{"$f":"IF(OR(DD$16=\" \",DD$16=0),\" \",SUM(DE27:DP27))","v":" "},{"$f":"IF(DE22=\" \",\" \",IF($DC$27=\" \",$CD$6*DE21,$DC$27*(1+HLOOKUP($DD$15,Līmeņatzīmes!$B$3:$AI$4,2,FALSE))))","v":" "},{"$f":"IF(DF22=\" \",\" \",IF($DC$27=\" \",$CD$6*DF21,$DC$27*(1+HLOOKUP($DD$15,Līmeņatzīmes!$B$3:$AI$4,2,FALSE))))","v":" "},{"$f":"IF(DG22=\" \",\" \",IF($DC$27=\" \",$CD$6*DG21,$DC$27*(1+HLOOKUP($DD$15,Līmeņatzīmes!$B$3:$AI$4,2,FALSE))))","v":" "},{"$f":"IF(DH22=\" \",\" \",IF($DC$27=\" \",$CD$6*DH21,$DC$27*(1+HLOOKUP($DD$15,Līmeņatzīmes!$B$3:$AI$4,2,FALSE))))","v":" "},{"$f":"IF(DI22=\" \",\" \",IF($DC$27=\" \",$CD$6*DI21,$DC$27*(1+HLOOKUP($DD$15,Līmeņatzīmes!$B$3:$AI$4,2,FALSE))))","v":" "},{"$f":"IF(DJ22=\" \",\" \",IF($DC$27=\" \",$CD$6*DJ21,$DC$27*(1+HLOOKUP($DD$15,Līmeņatzīmes!$B$3:$AI$4,2,FALSE))))","v":" "},{"$f":"IF(DK22=\" \",\" \",IF($DC$27=\" \",$CD$6*DK21,$DC$27*(1+HLOOKUP($DD$15,Līmeņatzīmes!$B$3:$AI$4,2,FALSE))))","v":" "},{"$f":"IF(DL22=\" \",\" \",IF($DC$27=\" \",$CD$6*DL21,$DC$27*(1+HLOOKUP($DD$15,Līmeņatzīmes!$B$3:$AI$4,2,FALSE))))","v":" "},{"$f":"IF(DM22=\" \",\" \",IF($DC$27=\" \",$CD$6*DM21,$DC$27*(1+HLOOKUP($DD$15,Līmeņatzīmes!$B$3:$AI$4,2,FALSE))))","v":" "},{"$f":"IF(DN22=\" \",\" \",IF($DC$27=\" \",$CD$6*DN21,$DC$27*(1+HLOOKUP($DD$15,Līmeņatzīmes!$B$3:$AI$4,2,FALSE))))","v":" "},{"$f":"IF(DO22=\" \",\" \",IF($DC$27=\" \",$CD$6*DO21,$DC$27*(1+HLOOKUP($DD$15,Līmeņatzīmes!$B$3:$AI$4,2,FALSE))))","v":" "},{"$f":"IF(DP22=\" \",\" \",IF($DC$27=\" \",$CD$6*DP21,$DC$27*(1+HLOOKUP($DD$15,Līmeņatzīmes!$B$3:$AI$4,2,FALSE))))","v":" "},{"$f":"IF(OR(DQ$16=\" \",DQ$16=0),\" \",SUM(DR27:EC27))","v":" "},{"$f":"IF(DR22=\" \",\" \",IF($DP$27=\" \",$CD$6*DR21,$DP$27*(1+HLOOKUP($DQ$15,Līmeņatzīmes!$B$3:$AI$4,2,FALSE))))","v":" "},{"$f":"IF(DS22=\" \",\" \",IF($DP$27=\" \",$CD$6*DS21,$DP$27*(1+HLOOKUP($DQ$15,Līmeņatzīmes!$B$3:$AI$4,2,FALSE))))","v":" "},{"$f":"IF(DT22=\" \",\" \",IF($DP$27=\" \",$CD$6*DT21,$DP$27*(1+HLOOKUP($DQ$15,Līmeņatzīmes!$B$3:$AI$4,2,FALSE))))","v":" "},{"$f":"IF(DU22=\" \",\" \",IF($DP$27=\" \",$CD$6*DU21,$DP$27*(1+HLOOKUP($DQ$15,Līmeņatzīmes!$B$3:$AI$4,2,FALSE))))","v":" "},{"$f":"IF(DV22=\" \",\" \",IF($DP$27=\" \",$CD$6*DV21,$DP$27*(1+HLOOKUP($DQ$15,Līmeņatzīmes!$B$3:$AI$4,2,FALSE))))","v":" "},{"$f":"IF(DW22=\" \",\" \",IF($DP$27=\" \",$CD$6*DW21,$DP$27*(1+HLOOKUP($DQ$15,Līmeņatzīmes!$B$3:$AI$4,2,FALSE))))","v":" "},{"$f":"IF(DX22=\" \",\" \",IF($DP$27=\" \",$CD$6*DX21,$DP$27*(1+HLOOKUP($DQ$15,Līmeņatzīmes!$B$3:$AI$4,2,FALSE))))","v":" "},{"$f":"IF(DY22=\" \",\" \",IF($DP$27=\" \",$CD$6*DY21,$DP$27*(1+HLOOKUP($DQ$15,Līmeņatzīmes!$B$3:$AI$4,2,FALSE))))","v":" "},{"$f":"IF(DZ22=\" \",\" \",IF($DP$27=\" \",$CD$6*DZ21,$DP$27*(1+HLOOKUP($DQ$15,Līmeņatzīmes!$B$3:$AI$4,2,FALSE))))","v":" "},{"$f":"IF(EA22=\" \",\" \",IF($DP$27=\" \",$CD$6*EA21,$DP$27*(1+HLOOKUP($DQ$15,Līmeņatzīmes!$B$3:$AI$4,2,FALSE))))","v":" "},{"$f":"IF(EB22=\" \",\" \",IF($DP$27=\" \",$CD$6*EB21,$DP$27*(1+HLOOKUP($DQ$15,Līmeņatzīmes!$B$3:$AI$4,2,FALSE))))","v":" "},{"$f":"IF(EC22=\" \",\" \",IF($DP$27=\" \",$CD$6*EC21,$DP$27*(1+HLOOKUP($DQ$15,Līmeņatzīmes!$B$3:$AI$4,2,FALSE))))","v":" "},{"$f":"IF(OR(ED$16=\" \",ED$16=0),\" \",SUM(EE27:EP27))","v":" "},{"$f":"IF(EE22=\" \",\" \",IF($EC$27=\" \",$CD$6*EE21,$EC$27*(1+HLOOKUP($ED$15,Līmeņatzīmes!$B$3:$AI$4,2,FALSE))))","v":" "},{"$f":"IF(EF22=\" \",\" \",IF($EC$27=\" \",$CD$6*EF21,$EC$27*(1+HLOOKUP($ED$15,Līmeņatzīmes!$B$3:$AI$4,2,FALSE))))","v":" "},{"$f":"IF(EG22=\" \",\" \",IF($EC$27=\" \",$CD$6*EG21,$EC$27*(1+HLOOKUP($ED$15,Līmeņatzīmes!$B$3:$AI$4,2,FALSE))))","v":" "},{"$f":"IF(EH22=\" \",\" \",IF($EC$27=\" \",$CD$6*EH21,$EC$27*(1+HLOOKUP($ED$15,Līmeņatzīmes!$B$3:$AI$4,2,FALSE))))","v":" "},{"$f":"IF(EI22=\" \",\" \",IF($EC$27=\" \",$CD$6*EI21,$EC$27*(1+HLOOKUP($ED$15,Līmeņatzīmes!$B$3:$AI$4,2,FALSE))))","v":" "},{"$f":"IF(EJ22=\" \",\" \",IF($EC$27=\" \",$CD$6*EJ21,$EC$27*(1+HLOOKUP($ED$15,Līmeņatzīmes!$B$3:$AI$4,2,FALSE))))","v":" "},{"$f":"IF(EK22=\" \",\" \",IF($EC$27=\" \",$CD$6*EK21,$EC$27*(1+HLOOKUP($ED$15,Līmeņatzīmes!$B$3:$AI$4,2,FALSE))))","v":" "},{"$f":"IF(EL22=\" \",\" \",IF($EC$27=\" \",$CD$6*EL21,$EC$27*(1+HLOOKUP($ED$15,Līmeņatzīmes!$B$3:$AI$4,2,FALSE))))","v":" "},{"$f":"IF(EM22=\" \",\" \",IF($EC$27=\" \",$CD$6*EM21,$EC$27*(1+HLOOKUP($ED$15,Līmeņatzīmes!$B$3:$AI$4,2,FALSE))))","v":" "},{"$f":"IF(EN22=\" \",\" \",IF($EC$27=\" \",$CD$6*EN21,$EC$27*(1+HLOOKUP($ED$15,Līmeņatzīmes!$B$3:$AI$4,2,FALSE))))","v":" "},{"$f":"IF(EO22=\" \",\" \",IF($EC$27=\" \",$CD$6*EO21,$EC$27*(1+HLOOKUP($ED$15,Līmeņatzīmes!$B$3:$AI$4,2,FALSE))))","v":" "},{"$f":"IF(EP22=\" \",\" \",IF($EC$27=\" \",$CD$6*EP21,$EC$27*(1+HLOOKUP($ED$15,Līmeņatzīmes!$B$3:$AI$4,2,FALSE))))","v":" "},{"$f":"IF(OR(EQ$16=\" \",EQ$16=0),\" \",SUM(ER27:FC27))","v":" "},{"$f":"IF(ER22=\" \",\" \",IF($EP$27=\" \",$CD$6*ER21,$EP$27*(1+HLOOKUP($EQ$15,Līmeņatzīmes!$B$3:$AI$4,2,FALSE))))","v":" "},{"$f":"IF(ES22=\" \",\" \",IF($EP$27=\" \",$CD$6*ES21,$EP$27*(1+HLOOKUP($EQ$15,Līmeņatzīmes!$B$3:$AI$4,2,FALSE))))","v":" "},{"$f":"IF(ET22=\" \",\" \",IF($EP$27=\" \",$CD$6*ET21,$EP$27*(1+HLOOKUP($EQ$15,Līmeņatzīmes!$B$3:$AI$4,2,FALSE))))","v":" "},{"$f":"IF(EU22=\" \",\" \",IF($EP$27=\" \",$CD$6*EU21,$EP$27*(1+HLOOKUP($EQ$15,Līmeņatzīmes!$B$3:$AI$4,2,FALSE))))","v":" "},{"$f":"IF(EV22=\" \",\" \",IF($EP$27=\" \",$CD$6*EV21,$EP$27*(1+HLOOKUP($EQ$15,Līmeņatzīmes!$B$3:$AI$4,2,FALSE))))","v":" "},{"$f":"IF(EW22=\" \",\" \",IF($EP$27=\" \",$CD$6*EW21,$EP$27*(1+HLOOKUP($EQ$15,Līmeņatzīmes!$B$3:$AI$4,2,FALSE))))","v":" "},{"$f":"IF(EX22=\" \",\" \",IF($EP$27=\" \",$CD$6*EX21,$EP$27*(1+HLOOKUP($EQ$15,Līmeņatzīmes!$B$3:$AI$4,2,FALSE))))","v":" "},{"$f":"IF(EY22=\" \",\" \",IF($EP$27=\" \",$CD$6*EY21,$EP$27*(1+HLOOKUP($EQ$15,Līmeņatzīmes!$B$3:$AI$4,2,FALSE))))","v":" "},{"$f":"IF(EZ22=\" \",\" \",IF($EP$27=\" \",$CD$6*EZ21,$EP$27*(1+HLOOKUP($EQ$15,Līmeņatzīmes!$B$3:$AI$4,2,FALSE))))","v":" "},{"$f":"IF(FA22=\" \",\" \",IF($EP$27=\" \",$CD$6*FA21,$EP$27*(1+HLOOKUP($EQ$15,Līmeņatzīmes!$B$3:$AI$4,2,FALSE))))","v":" "},{"$f":"IF(FB22=\" \",\" \",IF($EP$27=\" \",$CD$6*FB21,$EP$27*(1+HLOOKUP($EQ$15,Līmeņatzīmes!$B$3:$AI$4,2,FALSE))))","v":" "},{"$f":"IF(FC22=\" \",\" \",IF($EP$27=\" \",$CD$6*FC21,$EP$27*(1+HLOOKUP($EQ$15,Līmeņatzīmes!$B$3:$AI$4,2,FALSE))))","v":" "},{"$f":"IF(OR(FD$16=\" \",FD$16=0),\" \",SUM(FE27:FP27))","v":" "},{"$f":"IF(FE22=\" \",\" \",IF($FC$27=\" \",$CD$6*FE21,$FC$27*(1+HLOOKUP($FD$15,Līmeņatzīmes!$B$3:$AI$4,2,FALSE))))","v":" "},{"$f":"IF(FF22=\" \",\" \",IF($FC$27=\" \",$CD$6*FF21,$FC$27*(1+HLOOKUP($FD$15,Līmeņatzīmes!$B$3:$AI$4,2,FALSE))))","v":" "},{"$f":"IF(FG22=\" \",\" \",IF($FC$27=\" \",$CD$6*FG21,$FC$27*(1+HLOOKUP($FD$15,Līmeņatzīmes!$B$3:$AI$4,2,FALSE))))","v":" "},{"$f":"IF(FH22=\" \",\" \",IF($FC$27=\" \",$CD$6*FH21,$FC$27*(1+HLOOKUP($FD$15,Līmeņatzīmes!$B$3:$AI$4,2,FALSE))))","v":" "},{"$f":"IF(FI22=\" \",\" \",IF($FC$27=\" \",$CD$6*FI21,$FC$27*(1+HLOOKUP($FD$15,Līmeņatzīmes!$B$3:$AI$4,2,FALSE))))","v":" "},{"$f":"IF(FJ22=\" \",\" \",IF($FC$27=\" \",$CD$6*FJ21,$FC$27*(1+HLOOKUP($FD$15,Līmeņatzīmes!$B$3:$AI$4,2,FALSE))))","v":" "},{"$f":"IF(FK22=\" \",\" \",IF($FC$27=\" \",$CD$6*FK21,$FC$27*(1+HLOOKUP($FD$15,Līmeņatzīmes!$B$3:$AI$4,2,FALSE))))","v":" "},{"$f":"IF(FL22=\" \",\" \",IF($FC$27=\" \",$CD$6*FL21,$FC$27*(1+HLOOKUP($FD$15,Līmeņatzīmes!$B$3:$AI$4,2,FALSE))))","v":" "},{"$f":"IF(FM22=\" \",\" \",IF($FC$27=\" \",$CD$6*FM21,$FC$27*(1+HLOOKUP($FD$15,Līmeņatzīmes!$B$3:$AI$4,2,FALSE))))","v":" "},{"$f":"IF(FN22=\" \",\" \",IF($FC$27=\" \",$CD$6*FN21,$FC$27*(1+HLOOKUP($FD$15,Līmeņatzīmes!$B$3:$AI$4,2,FALSE))))","v":" "},{"$f":"IF(FO22=\" \",\" \",IF($FC$27=\" \",$CD$6*FO21,$FC$27*(1+HLOOKUP($FD$15,Līmeņatzīmes!$B$3:$AI$4,2,FALSE))))","v":" "},{"$f":"IF(FP22=\" \",\" \",IF($FC$27=\" \",$CD$6*FP21,$FC$27*(1+HLOOKUP($FD$15,Līmeņatzīmes!$B$3:$AI$4,2,FALSE))))","v":" "},{"$f":"IF(OR(FQ$16=\" \",FQ$16=0),\" \",SUM(FR27:GC27))","v":" "},{"$f":"IF(FR22=\" \",\" \",IF($FP$27=\" \",$CD$6*FR21,$FP$27*(1+HLOOKUP($FQ$15,Līmeņatzīmes!$B$3:$AI$4,2,FALSE))))","v":" "},{"$f":"IF(FS22=\" \",\" \",IF($FP$27=\" \",$CD$6*FS21,$FP$27*(1+HLOOKUP($FQ$15,Līmeņatzīmes!$B$3:$AI$4,2,FALSE))))","v":" "},{"$f":"IF(FT22=\" \",\" \",IF($FP$27=\" \",$CD$6*FT21,$FP$27*(1+HLOOKUP($FQ$15,Līmeņatzīmes!$B$3:$AI$4,2,FALSE))))","v":" "},{"$f":"IF(FU22=\" \",\" \",IF($FP$27=\" \",$CD$6*FU21,$FP$27*(1+HLOOKUP($FQ$15,Līmeņatzīmes!$B$3:$AI$4,2,FALSE))))","v":" "},{"$f":"IF(FV22=\" \",\" \",IF($FP$27=\" \",$CD$6*FV21,$FP$27*(1+HLOOKUP($FQ$15,Līmeņatzīmes!$B$3:$AI$4,2,FALSE))))","v":" "},{"$f":"IF(FW22=\" \",\" \",IF($FP$27=\" \",$CD$6*FW21,$FP$27*(1+HLOOKUP($FQ$15,Līmeņatzīmes!$B$3:$AI$4,2,FALSE))))","v":" "},{"$f":"IF(FX22=\" \",\" \",IF($FP$27=\" \",$CD$6*FX21,$FP$27*(1+HLOOKUP($FQ$15,Līmeņatzīmes!$B$3:$AI$4,2,FALSE))))","v":" "},{"$f":"IF(FY22=\" \",\" \",IF($FP$27=\" \",$CD$6*FY21,$FP$27*(1+HLOOKUP($FQ$15,Līmeņatzīmes!$B$3:$AI$4,2,FALSE))))","v":" "},{"$f":"IF(FZ22=\" \",\" \",IF($FP$27=\" \",$CD$6*FZ21,$FP$27*(1+HLOOKUP($FQ$15,Līmeņatzīmes!$B$3:$AI$4,2,FALSE))))","v":" "},{"$f":"IF(GA22=\" \",\" \",IF($FP$27=\" \",$CD$6*GA21,$FP$27*(1+HLOOKUP($FQ$15,Līmeņatzīmes!$B$3:$AI$4,2,FALSE))))","v":" "},{"$f":"IF(GB22=\" \",\" \",IF($FP$27=\" \",$CD$6*GB21,$FP$27*(1+HLOOKUP($FQ$15,Līmeņatzīmes!$B$3:$AI$4,2,FALSE))))","v":" "},{"$f":"IF(GC22=\" \",\" \",IF($FP$27=\" \",$CD$6*GC21,$FP$27*(1+HLOOKUP($FQ$15,Līmeņatzīmes!$B$3:$AI$4,2,FALSE))))","v":" "},{"$f":"IF(OR(GD$16=\" \",GD$16=0),\" \",SUM(GE27:GP27))","v":" "},{"$f":"IF(GE22=\" \",\" \",IF($GC$27=\" \",$CD$6*GE21,$GC$27*(1+HLOOKUP($GD$15,Līmeņatzīmes!$B$3:$AI$4,2,FALSE))))","v":" "},{"$f":"IF(GF22=\" \",\" \",IF($GC$27=\" \",$CD$6*GF21,$GC$27*(1+HLOOKUP($GD$15,Līmeņatzīmes!$B$3:$AI$4,2,FALSE))))","v":" "},{"$f":"IF(GG22=\" \",\" \",IF($GC$27=\" \",$CD$6*GG21,$GC$27*(1+HLOOKUP($GD$15,Līmeņatzīmes!$B$3:$AI$4,2,FALSE))))","v":" "},{"$f":"IF(GH22=\" \",\" \",IF($GC$27=\" \",$CD$6*GH21,$GC$27*(1+HLOOKUP($GD$15,Līmeņatzīmes!$B$3:$AI$4,2,FALSE))))","v":" "},{"$f":"IF(GI22=\" \",\" \",IF($GC$27=\" \",$CD$6*GI21,$GC$27*(1+HLOOKUP($GD$15,Līmeņatzīmes!$B$3:$AI$4,2,FALSE))))","v":" "},{"$f":"IF(GJ22=\" \",\" \",IF($GC$27=\" \",$CD$6*GJ21,$GC$27*(1+HLOOKUP($GD$15,Līmeņatzīmes!$B$3:$AI$4,2,FALSE))))","v":" "},{"$f":"IF(GK22=\" \",\" \",IF($GC$27=\" \",$CD$6*GK21,$GC$27*(1+HLOOKUP($GD$15,Līmeņatzīmes!$B$3:$AI$4,2,FALSE))))","v":" "},{"$f":"IF(GL22=\" \",\" \",IF($GC$27=\" \",$CD$6*GL21,$GC$27*(1+HLOOKUP($GD$15,Līmeņatzīmes!$B$3:$AI$4,2,FALSE))))","v":" "},{"$f":"IF(GM22=\" \",\" \",IF($GC$27=\" \",$CD$6*GM21,$GC$27*(1+HLOOKUP($GD$15,Līmeņatzīmes!$B$3:$AI$4,2,FALSE))))","v":" "},{"$f":"IF(GN22=\" \",\" \",IF($GC$27=\" \",$CD$6*GN21,$GC$27*(1+HLOOKUP($GD$15,Līmeņatzīmes!$B$3:$AI$4,2,FALSE))))","v":" "},{"$f":"IF(GO22=\" \",\" \",IF($GC$27=\" \",$CD$6*GO21,$GC$27*(1+HLOOKUP($GD$15,Līmeņatzīmes!$B$3:$AI$4,2,FALSE))))","v":" "},{"$f":"IF(GP22=\" \",\" \",IF($GC$27=\" \",$CD$6*GP21,$GC$27*(1+HLOOKUP($GD$15,Līmeņatzīmes!$B$3:$AI$4,2,FALSE))))","v":" "},{"$f":"IF(OR(GQ$16=\" \",GQ$16=0),\" \",SUM(GR27:HC27))","v":" "},{"$f":"IF(GR22=\" \",\" \",IF($GP$27=\" \",$CD$6*GR21,$GP$27*(1+HLOOKUP($GQ$15,Līmeņatzīmes!$B$3:$AI$4,2,FALSE))))","v":" "},{"$f":"IF(GS22=\" \",\" \",IF($GP$27=\" \",$CD$6*GS21,$GP$27*(1+HLOOKUP($GQ$15,Līmeņatzīmes!$B$3:$AI$4,2,FALSE))))","v":" "},{"$f":"IF(GT22=\" \",\" \",IF($GP$27=\" \",$CD$6*GT21,$GP$27*(1+HLOOKUP($GQ$15,Līmeņatzīmes!$B$3:$AI$4,2,FALSE))))","v":" "},{"$f":"IF(GU22=\" \",\" \",IF($GP$27=\" \",$CD$6*GU21,$GP$27*(1+HLOOKUP($GQ$15,Līmeņatzīmes!$B$3:$AI$4,2,FALSE))))","v":" "},{"$f":"IF(GV22=\" \",\" \",IF($GP$27=\" \",$CD$6*GV21,$GP$27*(1+HLOOKUP($GQ$15,Līmeņatzīmes!$B$3:$AI$4,2,FALSE))))","v":" "},{"$f":"IF(GW22=\" \",\" \",IF($GP$27=\" \",$CD$6*GW21,$GP$27*(1+HLOOKUP($GQ$15,Līmeņatzīmes!$B$3:$AI$4,2,FALSE))))","v":" "},{"$f":"IF(GX22=\" \",\" \",IF($GP$27=\" \",$CD$6*GX21,$GP$27*(1+HLOOKUP($GQ$15,Līmeņatzīmes!$B$3:$AI$4,2,FALSE))))","v":" "},{"$f":"IF(GY22=\" \",\" \",IF($GP$27=\" \",$CD$6*GY21,$GP$27*(1+HLOOKUP($GQ$15,Līmeņatzīmes!$B$3:$AI$4,2,FALSE))))","v":" "},{"$f":"IF(GZ22=\" \",\" \",IF($GP$27=\" \",$CD$6*GZ21,$GP$27*(1+HLOOKUP($GQ$15,Līmeņatzīmes!$B$3:$AI$4,2,FALSE))))","v":" "},{"$f":"IF(HA22=\" \",\" \",IF($GP$27=\" \",$CD$6*HA21,$GP$27*(1+HLOOKUP($GQ$15,Līmeņatzīmes!$B$3:$AI$4,2,FALSE))))","v":" "},{"$f":"IF(HB22=\" \",\" \",IF($GP$27=\" \",$CD$6*HB21,$GP$27*(1+HLOOKUP($GQ$15,Līmeņatzīmes!$B$3:$AI$4,2,FALSE))))","v":" "},{"$f":"IF(HC22=\" \",\" \",IF($GP$27=\" \",$CD$6*HC21,$GP$27*(1+HLOOKUP($GQ$15,Līmeņatzīmes!$B$3:$AI$4,2,FALSE))))","v":" "},{"$f":"IF(OR(HD$16=\" \",HD$16=0),\" \",SUM(HE27:HP27))","v":" "},{"$f":"IF(HE22=\" \",\" \",IF($HC$27=\" \",$CD$6*HE21,$HC$27*(1+HLOOKUP($HD$15,Līmeņatzīmes!$B$3:$AI$4,2,FALSE))))","v":" "},{"$f":"IF(HF22=\" \",\" \",IF($HC$27=\" \",$CD$6*HF21,$HC$27*(1+HLOOKUP($HD$15,Līmeņatzīmes!$B$3:$AI$4,2,FALSE))))","v":" "},{"$f":"IF(HG22=\" \",\" \",IF($HC$27=\" \",$CD$6*HG21,$HC$27*(1+HLOOKUP($HD$15,Līmeņatzīmes!$B$3:$AI$4,2,FALSE))))","v":" "},{"$f":"IF(HH22=\" \",\" \",IF($HC$27=\" \",$CD$6*HH21,$HC$27*(1+HLOOKUP($HD$15,Līmeņatzīmes!$B$3:$AI$4,2,FALSE))))","v":" "},{"$f":"IF(HI22=\" \",\" \",IF($HC$27=\" \",$CD$6*HI21,$HC$27*(1+HLOOKUP($HD$15,Līmeņatzīmes!$B$3:$AI$4,2,FALSE))))","v":" "},{"$f":"IF(HJ22=\" \",\" \",IF($HC$27=\" \",$CD$6*HJ21,$HC$27*(1+HLOOKUP($HD$15,Līmeņatzīmes!$B$3:$AI$4,2,FALSE))))","v":" "},{"$f":"IF(HK22=\" \",\" \",IF($HC$27=\" \",$CD$6*HK21,$HC$27*(1+HLOOKUP($HD$15,Līmeņatzīmes!$B$3:$AI$4,2,FALSE))))","v":" "},{"$f":"IF(HL22=\" \",\" \",IF($HC$27=\" \",$CD$6*HL21,$HC$27*(1+HLOOKUP($HD$15,Līmeņatzīmes!$B$3:$AI$4,2,FALSE))))","v":" "},{"$f":"IF(HM22=\" \",\" \",IF($HC$27=\" \",$CD$6*HM21,$HC$27*(1+HLOOKUP($HD$15,Līmeņatzīmes!$B$3:$AI$4,2,FALSE))))","v":" "},{"$f":"IF(HN22=\" \",\" \",IF($HC$27=\" \",$CD$6*HN21,$HC$27*(1+HLOOKUP($HD$15,Līmeņatzīmes!$B$3:$AI$4,2,FALSE))))","v":" "},{"$f":"IF(HO22=\" \",\" \",IF($HC$27=\" \",$CD$6*HO21,$HC$27*(1+HLOOKUP($HD$15,Līmeņatzīmes!$B$3:$AI$4,2,FALSE))))","v":" "},{"$f":"IF(HP22=\" \",\" \",IF($HC$27=\" \",$CD$6*HP21,$HC$27*(1+HLOOKUP($HD$15,Līmeņatzīmes!$B$3:$AI$4,2,FALSE))))","v":" "},{"$f":"IF(OR(HQ$16=\" \",HQ$16=0),\" \",SUM(HR27:IC27))","v":" "},{"$f":"IF(HR22=\" \",\" \",IF($HP$27=\" \",$CD$6*HR21,$HP$27*(1+HLOOKUP($HQ$15,Līmeņatzīmes!$B$3:$AI$4,2,FALSE))))","v":" "},{"$f":"IF(HS22=\" \",\" \",IF($HP$27=\" \",$CD$6*HS21,$HP$27*(1+HLOOKUP($HQ$15,Līmeņatzīmes!$B$3:$AI$4,2,FALSE))))","v":" "},{"$f":"IF(HT22=\" \",\" \",IF($HP$27=\" \",$CD$6*HT21,$HP$27*(1+HLOOKUP($HQ$15,Līmeņatzīmes!$B$3:$AI$4,2,FALSE))))","v":" "},{"$f":"IF(HU22=\" \",\" \",IF($HP$27=\" \",$CD$6*HU21,$HP$27*(1+HLOOKUP($HQ$15,Līmeņatzīmes!$B$3:$AI$4,2,FALSE))))","v":" "},{"$f":"IF(HV22=\" \",\" \",IF($HP$27=\" \",$CD$6*HV21,$HP$27*(1+HLOOKUP($HQ$15,Līmeņatzīmes!$B$3:$AI$4,2,FALSE))))","v":" "},{"$f":"IF(HW22=\" \",\" \",IF($HP$27=\" \",$CD$6*HW21,$HP$27*(1+HLOOKUP($HQ$15,Līmeņatzīmes!$B$3:$AI$4,2,FALSE))))","v":" "},{"$f":"IF(HX22=\" \",\" \",IF($HP$27=\" \",$CD$6*HX21,$HP$27*(1+HLOOKUP($HQ$15,Līmeņatzīmes!$B$3:$AI$4,2,FALSE))))","v":" "},{"$f":"IF(HY22=\" \",\" \",IF($HP$27=\" \",$CD$6*HY21,$HP$27*(1+HLOOKUP($HQ$15,Līmeņatzīmes!$B$3:$AI$4,2,FALSE))))","v":" "},{"$f":"IF(HZ22=\" \",\" \",IF($HP$27=\" \",$CD$6*HZ21,$HP$27*(1+HLOOKUP($HQ$15,Līmeņatzīmes!$B$3:$AI$4,2,FALSE))))","v":" "},{"$f":"IF(IA22=\" \",\" \",IF($HP$27=\" \",$CD$6*IA21,$HP$27*(1+HLOOKUP($HQ$15,Līmeņatzīmes!$B$3:$AI$4,2,FALSE))))","v":" "},{"$f":"IF(IB22=\" \",\" \",IF($HP$27=\" \",$CD$6*IB21,$HP$27*(1+HLOOKUP($HQ$15,Līmeņatzīmes!$B$3:$AI$4,2,FALSE))))","v":" "},{"$f":"IF(IC22=\" \",\" \",IF($HP$27=\" \",$CD$6*IC21,$HP$27*(1+HLOOKUP($HQ$15,Līmeņatzīmes!$B$3:$AI$4,2,FALSE))))","v":" "},{"$f":"IF(OR(ID$16=\" \",ID$16=0),\" \",SUM(IE27:IP27))","v":" "},{"$f":"IF(IE22=\" \",\" \",IF($IC$27=\" \",$CD$6*IE21,$IC$27*(1+HLOOKUP($ID$15,Līmeņatzīmes!$B$3:$AI$4,2,FALSE))))","v":" "},{"$f":"IF(IF22=\" \",\" \",IF($IC$27=\" \",$CD$6*IF21,$IC$27*(1+HLOOKUP($ID$15,Līmeņatzīmes!$B$3:$AI$4,2,FALSE))))","v":" "},{"$f":"IF(IG22=\" \",\" \",IF($IC$27=\" \",$CD$6*IG21,$IC$27*(1+HLOOKUP($ID$15,Līmeņatzīmes!$B$3:$AI$4,2,FALSE))))","v":" "},{"$f":"IF(IH22=\" \",\" \",IF($IC$27=\" \",$CD$6*IH21,$IC$27*(1+HLOOKUP($ID$15,Līmeņatzīmes!$B$3:$AI$4,2,FALSE))))","v":" "},{"$f":"IF(II22=\" \",\" \",IF($IC$27=\" \",$CD$6*II21,$IC$27*(1+HLOOKUP($ID$15,Līmeņatzīmes!$B$3:$AI$4,2,FALSE))))","v":" "},{"$f":"IF(IJ22=\" \",\" \",IF($IC$27=\" \",$CD$6*IJ21,$IC$27*(1+HLOOKUP($ID$15,Līmeņatzīmes!$B$3:$AI$4,2,FALSE))))","v":" "},{"$f":"IF(IK22=\" \",\" \",IF($IC$27=\" \",$CD$6*IK21,$IC$27*(1+HLOOKUP($ID$15,Līmeņatzīmes!$B$3:$AI$4,2,FALSE))))","v":" "},{"$f":"IF(IL22=\" \",\" \",IF($IC$27=\" \",$CD$6*IL21,$IC$27*(1+HLOOKUP($ID$15,Līmeņatzīmes!$B$3:$AI$4,2,FALSE))))","v":" "},{"$f":"IF(IM22=\" \",\" \",IF($IC$27=\" \",$CD$6*IM21,$IC$27*(1+HLOOKUP($ID$15,Līmeņatzīmes!$B$3:$AI$4,2,FALSE))))","v":" "},{"$f":"IF(IN22=\" \",\" \",IF($IC$27=\" \",$CD$6*IN21,$IC$27*(1+HLOOKUP($ID$15,Līmeņatzīmes!$B$3:$AI$4,2,FALSE))))","v":" "},{"$f":"IF(IO22=\" \",\" \",IF($IC$27=\" \",$CD$6*IO21,$IC$27*(1+HLOOKUP($ID$15,Līmeņatzīmes!$B$3:$AI$4,2,FALSE))))","v":" "},{"$f":"IF(IP22=\" \",\" \",IF($IC$27=\" \",$CD$6*IP21,$IC$27*(1+HLOOKUP($ID$15,Līmeņatzīmes!$B$3:$AI$4,2,FALSE))))","v":" "},{"$f":"IF(OR(IQ$16=\" \",IQ$16=0),\" \",SUM(IR27:JC27))","v":" "},{"$f":"IF(IR22=\" \",\" \",IF($IP$27=\" \",$CD$6*IR21,$IP$27*(1+HLOOKUP($IQ$15,Līmeņatzīmes!$B$3:$AI$4,2,FALSE))))","v":" "},{"$f":"IF(IS22=\" \",\" \",IF($IP$27=\" \",$CD$6*IS21,$IP$27*(1+HLOOKUP($IQ$15,Līmeņatzīmes!$B$3:$AI$4,2,FALSE))))","v":" "},{"$f":"IF(IT22=\" \",\" \",IF($IP$27=\" \",$CD$6*IT21,$IP$27*(1+HLOOKUP($IQ$15,Līmeņatzīmes!$B$3:$AI$4,2,FALSE))))","v":" "},{"$f":"IF(IU22=\" \",\" \",IF($IP$27=\" \",$CD$6*IU21,$IP$27*(1+HLOOKUP($IQ$15,Līmeņatzīmes!$B$3:$AI$4,2,FALSE))))","v":" "},{"$f":"IF(IV22=\" \",\" \",IF($IP$27=\" \",$CD$6*IV21,$IP$27*(1+HLOOKUP($IQ$15,Līmeņatzīmes!$B$3:$AI$4,2,FALSE))))","v":" "},{"$f":"IF(IW22=\" \",\" \",IF($IP$27=\" \",$CD$6*IW21,$IP$27*(1+HLOOKUP($IQ$15,Līmeņatzīmes!$B$3:$AI$4,2,FALSE))))","v":" "},{"$f":"IF(IX22=\" \",\" \",IF($IP$27=\" \",$CD$6*IX21,$IP$27*(1+HLOOKUP($IQ$15,Līmeņatzīmes!$B$3:$AI$4,2,FALSE))))","v":" "},{"$f":"IF(IY22=\" \",\" \",IF($IP$27=\" \",$CD$6*IY21,$IP$27*(1+HLOOKUP($IQ$15,Līmeņatzīmes!$B$3:$AI$4,2,FALSE))))","v":" "},{"$f":"IF(IZ22=\" \",\" \",IF($IP$27=\" \",$CD$6*IZ21,$IP$27*(1+HLOOKUP($IQ$15,Līmeņatzīmes!$B$3:$AI$4,2,FALSE))))","v":" "},{"$f":"IF(JA22=\" \",\" \",IF($IP$27=\" \",$CD$6*JA21,$IP$27*(1+HLOOKUP($IQ$15,Līmeņatzīmes!$B$3:$AI$4,2,FALSE))))","v":" "},{"$f":"IF(JB22=\" \",\" \",IF($IP$27=\" \",$CD$6*JB21,$IP$27*(1+HLOOKUP($IQ$15,Līmeņatzīmes!$B$3:$AI$4,2,FALSE))))","v":" "},{"$f":"IF(JC22=\" \",\" \",IF($IP$27=\" \",$CD$6*JC21,$IP$27*(1+HLOOKUP($IQ$15,Līmeņatzīmes!$B$3:$AI$4,2,FALSE))))","v":" "},{"$f":"IF(OR(JD$16=\" \",JD$16=0),\" \",SUM(JE27:JP27))","v":" "},{"$f":"IF(JE22=\" \",\" \",IF($JC$27=\" \",$CD$6*JE21,$JC$27*(1+HLOOKUP($JD$15,Līmeņatzīmes!$B$3:$AI$4,2,FALSE))))","v":" "},{"$f":"IF(JF22=\" \",\" \",IF($JC$27=\" \",$CD$6*JF21,$JC$27*(1+HLOOKUP($JD$15,Līmeņatzīmes!$B$3:$AI$4,2,FALSE))))","v":" "},{"$f":"IF(JG22=\" \",\" \",IF($JC$27=\" \",$CD$6*JG21,$JC$27*(1+HLOOKUP($JD$15,Līmeņatzīmes!$B$3:$AI$4,2,FALSE))))","v":" "},{"$f":"IF(JH22=\" \",\" \",IF($JC$27=\" \",$CD$6*JH21,$JC$27*(1+HLOOKUP($JD$15,Līmeņatzīmes!$B$3:$AI$4,2,FALSE))))","v":" "},{"$f":"IF(JI22=\" \",\" \",IF($JC$27=\" \",$CD$6*JI21,$JC$27*(1+HLOOKUP($JD$15,Līmeņatzīmes!$B$3:$AI$4,2,FALSE))))","v":" "},{"$f":"IF(JJ22=\" \",\" \",IF($JC$27=\" \",$CD$6*JJ21,$JC$27*(1+HLOOKUP($JD$15,Līmeņatzīmes!$B$3:$AI$4,2,FALSE))))","v":" "},{"$f":"IF(JK22=\" \",\" \",IF($JC$27=\" \",$CD$6*JK21,$JC$27*(1+HLOOKUP($JD$15,Līmeņatzīmes!$B$3:$AI$4,2,FALSE))))","v":" "},{"$f":"IF(JL22=\" \",\" \",IF($JC$27=\" \",$CD$6*JL21,$JC$27*(1+HLOOKUP($JD$15,Līmeņatzīmes!$B$3:$AI$4,2,FALSE))))","v":" "},{"$f":"IF(JM22=\" \",\" \",IF($JC$27=\" \",$CD$6*JM21,$JC$27*(1+HLOOKUP($JD$15,Līmeņatzīmes!$B$3:$AI$4,2,FALSE))))","v":" "},{"$f":"IF(JN22=\" \",\" \",IF($JC$27=\" \",$CD$6*JN21,$JC$27*(1+HLOOKUP($JD$15,Līmeņatzīmes!$B$3:$AI$4,2,FALSE))))","v":" "},{"$f":"IF(JO22=\" \",\" \",IF($JC$27=\" \",$CD$6*JO21,$JC$27*(1+HLOOKUP($JD$15,Līmeņatzīmes!$B$3:$AI$4,2,FALSE))))","v":" "},{"$f":"IF(JP22=\" \",\" \",IF($JC$27=\" \",$CD$6*JP21,$JC$27*(1+HLOOKUP($JD$15,Līmeņatzīmes!$B$3:$AI$4,2,FALSE))))","v":" "},{"$f":"IF(OR(JQ$16=\" \",JQ$16=0),\" \",SUM(JR27:KC27))","v":" "},{"$f":"IF(JR22=\" \",\" \",IF($JP$27=\" \",$CD$6*JR21,$JP$27*(1+HLOOKUP($JQ$15,Līmeņatzīmes!$B$3:$AI$4,2,FALSE))))","v":" "},{"$f":"IF(JS22=\" \",\" \",IF($JP$27=\" \",$CD$6*JS21,$JP$27*(1+HLOOKUP($JQ$15,Līmeņatzīmes!$B$3:$AI$4,2,FALSE))))","v":" "},{"$f":"IF(JT22=\" \",\" \",IF($JP$27=\" \",$CD$6*JT21,$JP$27*(1+HLOOKUP($JQ$15,Līmeņatzīmes!$B$3:$AI$4,2,FALSE))))","v":" "},{"$f":"IF(JU22=\" \",\" \",IF($JP$27=\" \",$CD$6*JU21,$JP$27*(1+HLOOKUP($JQ$15,Līmeņatzīmes!$B$3:$AI$4,2,FALSE))))","v":" "},{"$f":"IF(JV22=\" \",\" \",IF($JP$27=\" \",$CD$6*JV21,$JP$27*(1+HLOOKUP($JQ$15,Līmeņatzīmes!$B$3:$AI$4,2,FALSE))))","v":" "},{"$f":"IF(JW22=\" \",\" \",IF($JP$27=\" \",$CD$6*JW21,$JP$27*(1+HLOOKUP($JQ$15,Līmeņatzīmes!$B$3:$AI$4,2,FALSE))))","v":" "},{"$f":"IF(JX22=\" \",\" \",IF($JP$27=\" \",$CD$6*JX21,$JP$27*(1+HLOOKUP($JQ$15,Līmeņatzīmes!$B$3:$AI$4,2,FALSE))))","v":" "},{"$f":"IF(JY22=\" \",\" \",IF($JP$27=\" \",$CD$6*JY21,$JP$27*(1+HLOOKUP($JQ$15,Līmeņatzīmes!$B$3:$AI$4,2,FALSE))))","v":" "},{"$f":"IF(JZ22=\" \",\" \",IF($JP$27=\" \",$CD$6*JZ21,$JP$27*(1+HLOOKUP($JQ$15,Līmeņatzīmes!$B$3:$AI$4,2,FALSE))))","v":" "},{"$f":"IF(KA22=\" \",\" \",IF($JP$27=\" \",$CD$6*KA21,$JP$27*(1+HLOOKUP($JQ$15,Līmeņatzīmes!$B$3:$AI$4,2,FALSE))))","v":" "},{"$f":"IF(KB22=\" \",\" \",IF($JP$27=\" \",$CD$6*KB21,$JP$27*(1+HLOOKUP($JQ$15,Līmeņatzīmes!$B$3:$AI$4,2,FALSE))))","v":" "},{"$f":"IF(KC22=\" \",\" \",IF($JP$27=\" \",$CD$6*KC21,$JP$27*(1+HLOOKUP($JQ$15,Līmeņatzīmes!$B$3:$AI$4,2,FALSE))))","v":" "},{"$f":"IF(OR(KD$16=\" \",KD$16=0),\" \",SUM(KE27:KP27))","v":" "},{"$f":"IF(KE22=\" \",\" \",IF($KC$27=\" \",$CD$6*KE21,$KC$27*(1+HLOOKUP($KD$15,Līmeņatzīmes!$B$3:$AI$4,2,FALSE))))","v":" "},{"$f":"IF(KF22=\" \",\" \",IF($KC$27=\" \",$CD$6*KF21,$KC$27*(1+HLOOKUP($KD$15,Līmeņatzīmes!$B$3:$AI$4,2,FALSE))))","v":" "},{"$f":"IF(KG22=\" \",\" \",IF($KC$27=\" \",$CD$6*KG21,$KC$27*(1+HLOOKUP($KD$15,Līmeņatzīmes!$B$3:$AI$4,2,FALSE))))","v":" "},{"$f":"IF(KH22=\" \",\" \",IF($KC$27=\" \",$CD$6*KH21,$KC$27*(1+HLOOKUP($KD$15,Līmeņatzīmes!$B$3:$AI$4,2,FALSE))))","v":" "},{"$f":"IF(KI22=\" \",\" \",IF($KC$27=\" \",$CD$6*KI21,$KC$27*(1+HLOOKUP($KD$15,Līmeņatzīmes!$B$3:$AI$4,2,FALSE))))","v":" "},{"$f":"IF(KJ22=\" \",\" \",IF($KC$27=\" \",$CD$6*KJ21,$KC$27*(1+HLOOKUP($KD$15,Līmeņatzīmes!$B$3:$AI$4,2,FALSE))))","v":" "},{"$f":"IF(KK22=\" \",\" \",IF($KC$27=\" \",$CD$6*KK21,$KC$27*(1+HLOOKUP($KD$15,Līmeņatzīmes!$B$3:$AI$4,2,FALSE))))","v":" "},{"$f":"IF(KL22=\" \",\" \",IF($KC$27=\" \",$CD$6*KL21,$KC$27*(1+HLOOKUP($KD$15,Līmeņatzīmes!$B$3:$AI$4,2,FALSE))))","v":" "},{"$f":"IF(KM22=\" \",\" \",IF($KC$27=\" \",$CD$6*KM21,$KC$27*(1+HLOOKUP($KD$15,Līmeņatzīmes!$B$3:$AI$4,2,FALSE))))","v":" "},{"$f":"IF(KN22=\" \",\" \",IF($KC$27=\" \",$CD$6*KN21,$KC$27*(1+HLOOKUP($KD$15,Līmeņatzīmes!$B$3:$AI$4,2,FALSE))))","v":" "},{"$f":"IF(KO22=\" \",\" \",IF($KC$27=\" \",$CD$6*KO21,$KC$27*(1+HLOOKUP($KD$15,Līmeņatzīmes!$B$3:$AI$4,2,FALSE))))","v":" "},{"$f":"IF(KP22=\" \",\" \",IF($KC$27=\" \",$CD$6*KP21,$KC$27*(1+HLOOKUP($KD$15,Līmeņatzīmes!$B$3:$AI$4,2,FALSE))))","v":" "},{"$f":"IF(OR(KQ$16=\" \",KQ$16=0),\" \",SUM(KR27:LC27))","v":" "},{"$f":"IF(KR22=\" \",\" \",IF($KP$27=\" \",$CD$6*KR21,$KP$27*(1+HLOOKUP($KQ$15,Līmeņatzīmes!$B$3:$AI$4,2,FALSE))))","v":" "},{"$f":"IF(KS22=\" \",\" \",IF($KP$27=\" \",$CD$6*KS21,$KP$27*(1+HLOOKUP($KQ$15,Līmeņatzīmes!$B$3:$AI$4,2,FALSE))))","v":" "},{"$f":"IF(KT22=\" \",\" \",IF($KP$27=\" \",$CD$6*KT21,$KP$27*(1+HLOOKUP($KQ$15,Līmeņatzīmes!$B$3:$AI$4,2,FALSE))))","v":" "},{"$f":"IF(KU22=\" \",\" \",IF($KP$27=\" \",$CD$6*KU21,$KP$27*(1+HLOOKUP($KQ$15,Līmeņatzīmes!$B$3:$AI$4,2,FALSE))))","v":" "},{"$f":"IF(KV22=\" \",\" \",IF($KP$27=\" \",$CD$6*KV21,$KP$27*(1+HLOOKUP($KQ$15,Līmeņatzīmes!$B$3:$AI$4,2,FALSE))))","v":" "},{"$f":"IF(KW22=\" \",\" \",IF($KP$27=\" \",$CD$6*KW21,$KP$27*(1+HLOOKUP($KQ$15,Līmeņatzīmes!$B$3:$AI$4,2,FALSE))))","v":" "},{"$f":"IF(KX22=\" \",\" \",IF($KP$27=\" \",$CD$6*KX21,$KP$27*(1+HLOOKUP($KQ$15,Līmeņatzīmes!$B$3:$AI$4,2,FALSE))))","v":" "},{"$f":"IF(KY22=\" \",\" \",IF($KP$27=\" \",$CD$6*KY21,$KP$27*(1+HLOOKUP($KQ$15,Līmeņatzīmes!$B$3:$AI$4,2,FALSE))))","v":" "},{"$f":"IF(KZ22=\" \",\" \",IF($KP$27=\" \",$CD$6*KZ21,$KP$27*(1+HLOOKUP($KQ$15,Līmeņatzīmes!$B$3:$AI$4,2,FALSE))))","v":" "},{"$f":"IF(LA22=\" \",\" \",IF($KP$27=\" \",$CD$6*LA21,$KP$27*(1+HLOOKUP($KQ$15,Līmeņatzīmes!$B$3:$AI$4,2,FALSE))))","v":" "},{"$f":"IF(LB22=\" \",\" \",IF($KP$27=\" \",$CD$6*LB21,$KP$27*(1+HLOOKUP($KQ$15,Līmeņatzīmes!$B$3:$AI$4,2,FALSE))))","v":" "},{"$f":"IF(LC22=\" \",\" \",IF($KP$27=\" \",$CD$6*LC21,$KP$27*(1+HLOOKUP($KQ$15,Līmeņatzīmes!$B$3:$AI$4,2,FALSE))))","v":" "},{"$f":"IF(OR(LD$16=\" \",LD$16=0),\" \",SUM(LE27:LP27))","v":" "},{"$f":"IF(LE22=\" \",\" \",IF($LC$27=\" \",$CD$6*LE21,$LC$27*(1+HLOOKUP($LD$15,Līmeņatzīmes!$B$3:$AI$4,2,FALSE))))","v":" "},{"$f":"IF(LF22=\" \",\" \",IF($LC$27=\" \",$CD$6*LF21,$LC$27*(1+HLOOKUP($LD$15,Līmeņatzīmes!$B$3:$AI$4,2,FALSE))))","v":" "},{"$f":"IF(LG22=\" \",\" \",IF($LC$27=\" \",$CD$6*LG21,$LC$27*(1+HLOOKUP($LD$15,Līmeņatzīmes!$B$3:$AI$4,2,FALSE))))","v":" "},{"$f":"IF(LH22=\" \",\" \",IF($LC$27=\" \",$CD$6*LH21,$LC$27*(1+HLOOKUP($LD$15,Līmeņatzīmes!$B$3:$AI$4,2,FALSE))))","v":" "},{"$f":"IF(LI22=\" \",\" \",IF($LC$27=\" \",$CD$6*LI21,$LC$27*(1+HLOOKUP($LD$15,Līmeņatzīmes!$B$3:$AI$4,2,FALSE))))","v":" "},{"$f":"IF(LJ22=\" \",\" \",IF($LC$27=\" \",$CD$6*LJ21,$LC$27*(1+HLOOKUP($LD$15,Līmeņatzīmes!$B$3:$AI$4,2,FALSE))))","v":" "},{"$f":"IF(LK22=\" \",\" \",IF($LC$27=\" \",$CD$6*LK21,$LC$27*(1+HLOOKUP($LD$15,Līmeņatzīmes!$B$3:$AI$4,2,FALSE))))","v":" "},{"$f":"IF(LL22=\" \",\" \",IF($LC$27=\" \",$CD$6*LL21,$LC$27*(1+HLOOKUP($LD$15,Līmeņatzīmes!$B$3:$AI$4,2,FALSE))))","v":" "},{"$f":"IF(LM22=\" \",\" \",IF($LC$27=\" \",$CD$6*LM21,$LC$27*(1+HLOOKUP($LD$15,Līmeņatzīmes!$B$3:$AI$4,2,FALSE))))","v":" "},{"$f":"IF(LN22=\" \",\" \",IF($LC$27=\" \",$CD$6*LN21,$LC$27*(1+HLOOKUP($LD$15,Līmeņatzīmes!$B$3:$AI$4,2,FALSE))))","v":" "},{"$f":"IF(LO22=\" \",\" \",IF($LC$27=\" \",$CD$6*LO21,$LC$27*(1+HLOOKUP($LD$15,Līmeņatzīmes!$B$3:$AI$4,2,FALSE))))","v":" "},{"$f":"IF(LP22=\" \",\" \",IF($LC$27=\" \",$CD$6*LP21,$LC$27*(1+HLOOKUP($LD$15,Līmeņatzīmes!$B$3:$AI$4,2,FALSE))))","v":" "},{"$f":"IF(OR(LQ$16=\" \",LQ$16=0),\" \",SUM(LR27:MC27))","v":" "},{"$f":"IF(LR22=\" \",\" \",IF($LP$27=\" \",$CD$6*LR21,$LP$27*(1+HLOOKUP($LQ$15,Līmeņatzīmes!$B$3:$AI$4,2,FALSE))))","v":" "},{"$f":"IF(LS22=\" \",\" \",IF($LP$27=\" \",$CD$6*LS21,$LP$27*(1+HLOOKUP($LQ$15,Līmeņatzīmes!$B$3:$AI$4,2,FALSE))))","v":" "},{"$f":"IF(LT22=\" \",\" \",IF($LP$27=\" \",$CD$6*LT21,$LP$27*(1+HLOOKUP($LQ$15,Līmeņatzīmes!$B$3:$AI$4,2,FALSE))))","v":" "},{"$f":"IF(LU22=\" \",\" \",IF($LP$27=\" \",$CD$6*LU21,$LP$27*(1+HLOOKUP($LQ$15,Līmeņatzīmes!$B$3:$AI$4,2,FALSE))))","v":" "},{"$f":"IF(LV22=\" \",\" \",IF($LP$27=\" \",$CD$6*LV21,$LP$27*(1+HLOOKUP($LQ$15,Līmeņatzīmes!$B$3:$AI$4,2,FALSE))))","v":" "},{"$f":"IF(LW22=\" \",\" \",IF($LP$27=\" \",$CD$6*LW21,$LP$27*(1+HLOOKUP($LQ$15,Līmeņatzīmes!$B$3:$AI$4,2,FALSE))))","v":" "},{"$f":"IF(LX22=\" \",\" \",IF($LP$27=\" \",$CD$6*LX21,$LP$27*(1+HLOOKUP($LQ$15,Līmeņatzīmes!$B$3:$AI$4,2,FALSE))))","v":" "},{"$f":"IF(LY22=\" \",\" \",IF($LP$27=\" \",$CD$6*LY21,$LP$27*(1+HLOOKUP($LQ$15,Līmeņatzīmes!$B$3:$AI$4,2,FALSE))))","v":" "},{"$f":"IF(LZ22=\" \",\" \",IF($LP$27=\" \",$CD$6*LZ21,$LP$27*(1+HLOOKUP($LQ$15,Līmeņatzīmes!$B$3:$AI$4,2,FALSE))))","v":" "},{"$f":"IF(MA22=\" \",\" \",IF($LP$27=\" \",$CD$6*MA21,$LP$27*(1+HLOOKUP($LQ$15,Līmeņatzīmes!$B$3:$AI$4,2,FALSE))))","v":" "},{"$f":"IF(MB22=\" \",\" \",IF($LP$27=\" \",$CD$6*MB21,$LP$27*(1+HLOOKUP($LQ$15,Līmeņatzīmes!$B$3:$AI$4,2,FALSE))))","v":" "},{"$f":"IF(MC22=\" \",\" \",IF($LP$27=\" \",$CD$6*MC21,$LP$27*(1+HLOOKUP($LQ$15,Līmeņatzīmes!$B$3:$AI$4,2,FALSE))))","v":" "},{"$f":"IF(OR(MD$16=\" \",MD$16=0),\" \",SUM(ME27:MP27))","v":" "},{"$f":"IF(ME22=\" \",\" \",IF($MC$27=\" \",$CD$6*ME21,$MC$27*(1+HLOOKUP($MD$15,Līmeņatzīmes!$B$3:$AI$4,2,FALSE))))","v":" "},{"$f":"IF(MF22=\" \",\" \",IF($MC$27=\" \",$CD$6*MF21,$MC$27*(1+HLOOKUP($MD$15,Līmeņatzīmes!$B$3:$AI$4,2,FALSE))))","v":" "},{"$f":"IF(MG22=\" \",\" \",IF($MC$27=\" \",$CD$6*MG21,$MC$27*(1+HLOOKUP($MD$15,Līmeņatzīmes!$B$3:$AI$4,2,FALSE))))","v":" "},{"$f":"IF(MH22=\" \",\" \",IF($MC$27=\" \",$CD$6*MH21,$MC$27*(1+HLOOKUP($MD$15,Līmeņatzīmes!$B$3:$AI$4,2,FALSE))))","v":" "},{"$f":"IF(MI22=\" \",\" \",IF($MC$27=\" \",$CD$6*MI21,$MC$27*(1+HLOOKUP($MD$15,Līmeņatzīmes!$B$3:$AI$4,2,FALSE))))","v":" "},{"$f":"IF(MJ22=\" \",\" \",IF($MC$27=\" \",$CD$6*MJ21,$MC$27*(1+HLOOKUP($MD$15,Līmeņatzīmes!$B$3:$AI$4,2,FALSE))))","v":" "},{"$f":"IF(MK22=\" \",\" \",IF($MC$27=\" \",$CD$6*MK21,$MC$27*(1+HLOOKUP($MD$15,Līmeņatzīmes!$B$3:$AI$4,2,FALSE))))","v":" "},{"$f":"IF(ML22=\" \",\" \",IF($MC$27=\" \",$CD$6*ML21,$MC$27*(1+HLOOKUP($MD$15,Līmeņatzīmes!$B$3:$AI$4,2,FALSE))))","v":" "},{"$f":"IF(MM22=\" \",\" \",IF($MC$27=\" \",$CD$6*MM21,$MC$27*(1+HLOOKUP($MD$15,Līmeņatzīmes!$B$3:$AI$4,2,FALSE))))","v":" "},{"$f":"IF(MN22=\" \",\" \",IF($MC$27=\" \",$CD$6*MN21,$MC$27*(1+HLOOKUP($MD$15,Līmeņatzīmes!$B$3:$AI$4,2,FALSE))))","v":" "},{"$f":"IF(MO22=\" \",\" \",IF($MC$27=\" \",$CD$6*MO21,$MC$27*(1+HLOOKUP($MD$15,Līmeņatzīmes!$B$3:$AI$4,2,FALSE))))","v":" "},{"$f":"IF(MP22=\" \",\" \",IF($MC$27=\" \",$CD$6*MP21,$MC$27*(1+HLOOKUP($MD$15,Līmeņatzīmes!$B$3:$AI$4,2,FALSE))))","v":" "},{"$f":"IF(OR(MQ$16=\" \",MQ$16=0),\" \",SUM(MR27:NC27))","v":" "},{"$f":"IF(MR22=\" \",\" \",IF($MP$27=\" \",$CD$6*MR21,$MP$27*(1+HLOOKUP($MQ$15,Līmeņatzīmes!$B$3:$AI$4,2,FALSE))))","v":" "},{"$f":"IF(MS22=\" \",\" \",IF($MP$27=\" \",$CD$6*MS21,$MP$27*(1+HLOOKUP($MQ$15,Līmeņatzīmes!$B$3:$AI$4,2,FALSE))))","v":" "},{"$f":"IF(MT22=\" \",\" \",IF($MP$27=\" \",$CD$6*MT21,$MP$27*(1+HLOOKUP($MQ$15,Līmeņatzīmes!$B$3:$AI$4,2,FALSE))))","v":" "},{"$f":"IF(MU22=\" \",\" \",IF($MP$27=\" \",$CD$6*MU21,$MP$27*(1+HLOOKUP($MQ$15,Līmeņatzīmes!$B$3:$AI$4,2,FALSE))))","v":" "},{"$f":"IF(MV22=\" \",\" \",IF($MP$27=\" \",$CD$6*MV21,$MP$27*(1+HLOOKUP($MQ$15,Līmeņatzīmes!$B$3:$AI$4,2,FALSE))))","v":" "},{"$f":"IF(MW22=\" \",\" \",IF($MP$27=\" \",$CD$6*MW21,$MP$27*(1+HLOOKUP($MQ$15,Līmeņatzīmes!$B$3:$AI$4,2,FALSE))))","v":" "},{"$f":"IF(MX22=\" \",\" \",IF($MP$27=\" \",$CD$6*MX21,$MP$27*(1+HLOOKUP($MQ$15,Līmeņatzīmes!$B$3:$AI$4,2,FALSE))))","v":" "},{"$f":"IF(MY22=\" \",\" \",IF($MP$27=\" \",$CD$6*MY21,$MP$27*(1+HLOOKUP($MQ$15,Līmeņatzīmes!$B$3:$AI$4,2,FALSE))))","v":" "},{"$f":"IF(MZ22=\" \",\" \",IF($MP$27=\" \",$CD$6*MZ21,$MP$27*(1+HLOOKUP($MQ$15,Līmeņatzīmes!$B$3:$AI$4,2,FALSE))))","v":" "},{"$f":"IF(NA22=\" \",\" \",IF($MP$27=\" \",$CD$6*NA21,$MP$27*(1+HLOOKUP($MQ$15,Līmeņatzīmes!$B$3:$AI$4,2,FALSE))))","v":" "},{"$f":"IF(NB22=\" \",\" \",IF($MP$27=\" \",$CD$6*NB21,$MP$27*(1+HLOOKUP($MQ$15,Līmeņatzīmes!$B$3:$AI$4,2,FALSE))))","v":" "},{"$f":"IF(NC22=\" \",\" \",IF($MP$27=\" \",$CD$6*NC21,$MP$27*(1+HLOOKUP($MQ$15,Līmeņatzīmes!$B$3:$AI$4,2,FALSE))))","v":" "},{"$f":"IF(OR(ND$16=\" \",ND$16=0),\" \",SUM(NE27:NP27))","v":" "},{"$f":"IF(NE22=\" \",\" \",IF($NC$27=\" \",$CD$6*NE21,$NC$27*(1+HLOOKUP($ND$15,Līmeņatzīmes!$B$3:$AI$4,2,FALSE))))","v":" "},{"$f":"IF(NF22=\" \",\" \",IF($NC$27=\" \",$CD$6*NF21,$NC$27*(1+HLOOKUP($ND$15,Līmeņatzīmes!$B$3:$AI$4,2,FALSE))))","v":" "},{"$f":"IF(NG22=\" \",\" \",IF($NC$27=\" \",$CD$6*NG21,$NC$27*(1+HLOOKUP($ND$15,Līmeņatzīmes!$B$3:$AI$4,2,FALSE))))","v":" "},{"$f":"IF(NH22=\" \",\" \",IF($NC$27=\" \",$CD$6*NH21,$NC$27*(1+HLOOKUP($ND$15,Līmeņatzīmes!$B$3:$AI$4,2,FALSE))))","v":" "},{"$f":"IF(NI22=\" \",\" \",IF($NC$27=\" \",$CD$6*NI21,$NC$27*(1+HLOOKUP($ND$15,Līmeņatzīmes!$B$3:$AI$4,2,FALSE))))","v":" "},{"$f":"IF(NJ22=\" \",\" \",IF($NC$27=\" \",$CD$6*NJ21,$NC$27*(1+HLOOKUP($ND$15,Līmeņatzīmes!$B$3:$AI$4,2,FALSE))))","v":" "},{"$f":"IF(NK22=\" \",\" \",IF($NC$27=\" \",$CD$6*NK21,$NC$27*(1+HLOOKUP($ND$15,Līmeņatzīmes!$B$3:$AI$4,2,FALSE))))","v":" "},{"$f":"IF(NL22=\" \",\" \",IF($NC$27=\" \",$CD$6*NL21,$NC$27*(1+HLOOKUP($ND$15,Līmeņatzīmes!$B$3:$AI$4,2,FALSE))))","v":" "},{"$f":"IF(NM22=\" \",\" \",IF($NC$27=\" \",$CD$6*NM21,$NC$27*(1+HLOOKUP($ND$15,Līmeņatzīmes!$B$3:$AI$4,2,FALSE))))","v":" "},{"$f":"IF(NN22=\" \",\" \",IF($NC$27=\" \",$CD$6*NN21,$NC$27*(1+HLOOKUP($ND$15,Līmeņatzīmes!$B$3:$AI$4,2,FALSE))))","v":" "},{"$f":"IF(NO22=\" \",\" \",IF($NC$27=\" \",$CD$6*NO21,$NC$27*(1+HLOOKUP($ND$15,Līmeņatzīmes!$B$3:$AI$4,2,FALSE))))","v":" "},{"$f":"IF(NP22=\" \",\" \",IF($NC$27=\" \",$CD$6*NP21,$NC$27*(1+HLOOKUP($ND$15,Līmeņatzīmes!$B$3:$AI$4,2,FALSE))))","v":" "},{"$f":"IF(OR(NQ$16=\" \",NQ$16=0),\" \",SUM(NR27:OC27))","v":" "},{"$f":"IF(NR22=\" \",\" \",IF($NP$27=\" \",$CD$6*NR21,$NP$27*(1+HLOOKUP($NQ$15,Līmeņatzīmes!$B$3:$AI$4,2,FALSE))))","v":" "},{"$f":"IF(NS22=\" \",\" \",IF($NP$27=\" \",$CD$6*NS21,$NP$27*(1+HLOOKUP($NQ$15,Līmeņatzīmes!$B$3:$AI$4,2,FALSE))))","v":" "},{"$f":"IF(NT22=\" \",\" \",IF($NP$27=\" \",$CD$6*NT21,$NP$27*(1+HLOOKUP($NQ$15,Līmeņatzīmes!$B$3:$AI$4,2,FALSE))))","v":" "},{"$f":"IF(NU22=\" \",\" \",IF($NP$27=\" \",$CD$6*NU21,$NP$27*(1+HLOOKUP($NQ$15,Līmeņatzīmes!$B$3:$AI$4,2,FALSE))))","v":" "},{"$f":"IF(NV22=\" \",\" \",IF($NP$27=\" \",$CD$6*NV21,$NP$27*(1+HLOOKUP($NQ$15,Līmeņatzīmes!$B$3:$AI$4,2,FALSE))))","v":" "},{"$f":"IF(NW22=\" \",\" \",IF($NP$27=\" \",$CD$6*NW21,$NP$27*(1+HLOOKUP($NQ$15,Līmeņatzīmes!$B$3:$AI$4,2,FALSE))))","v":" "},{"$f":"IF(NX22=\" \",\" \",IF($NP$27=\" \",$CD$6*NX21,$NP$27*(1+HLOOKUP($NQ$15,Līmeņatzīmes!$B$3:$AI$4,2,FALSE))))","v":" "},{"$f":"IF(NY22=\" \",\" \",IF($NP$27=\" \",$CD$6*NY21,$NP$27*(1+HLOOKUP($NQ$15,Līmeņatzīmes!$B$3:$AI$4,2,FALSE))))","v":" "},{"$f":"IF(NZ22=\" \",\" \",IF($NP$27=\" \",$CD$6*NZ21,$NP$27*(1+HLOOKUP($NQ$15,Līmeņatzīmes!$B$3:$AI$4,2,FALSE))))","v":" "},{"$f":"IF(OA22=\" \",\" \",IF($NP$27=\" \",$CD$6*OA21,$NP$27*(1+HLOOKUP($NQ$15,Līmeņatzīmes!$B$3:$AI$4,2,FALSE))))","v":" "},{"$f":"IF(OB22=\" \",\" \",IF($NP$27=\" \",$CD$6*OB21,$NP$27*(1+HLOOKUP($NQ$15,Līmeņatzīmes!$B$3:$AI$4,2,FALSE))))","v":" "},{"$f":"IF(OC22=\" \",\" \",IF($NP$27=\" \",$CD$6*OC21,$NP$27*(1+HLOOKUP($NQ$15,Līmeņatzīmes!$B$3:$AI$4,2,FALSE))))","v":" "},{"$f":"IF(OR(OD$16=\" \",OD$16=0),\" \",SUM(OE27:OP27))","v":" "},{"$f":"IF(OE22=\" \",\" \",IF($OC$27=\" \",$CD$6*OE21,$OC$27*(1+HLOOKUP($OD$15,Līmeņatzīmes!$B$3:$AI$4,2,FALSE))))","v":" "},{"$f":"IF(OF22=\" \",\" \",IF($OC$27=\" \",$CD$6*OF21,$OC$27*(1+HLOOKUP($OD$15,Līmeņatzīmes!$B$3:$AI$4,2,FALSE))))","v":" "},{"$f":"IF(OG22=\" \",\" \",IF($OC$27=\" \",$CD$6*OG21,$OC$27*(1+HLOOKUP($OD$15,Līmeņatzīmes!$B$3:$AI$4,2,FALSE))))","v":" "},{"$f":"IF(OH22=\" \",\" \",IF($OC$27=\" \",$CD$6*OH21,$OC$27*(1+HLOOKUP($OD$15,Līmeņatzīmes!$B$3:$AI$4,2,FALSE))))","v":" "},{"$f":"IF(OI22=\" \",\" \",IF($OC$27=\" \",$CD$6*OI21,$OC$27*(1+HLOOKUP($OD$15,Līmeņatzīmes!$B$3:$AI$4,2,FALSE))))","v":" "},{"$f":"IF(OJ22=\" \",\" \",IF($OC$27=\" \",$CD$6*OJ21,$OC$27*(1+HLOOKUP($OD$15,Līmeņatzīmes!$B$3:$AI$4,2,FALSE))))","v":" "},{"$f":"IF(OK22=\" \",\" \",IF($OC$27=\" \",$CD$6*OK21,$OC$27*(1+HLOOKUP($OD$15,Līmeņatzīmes!$B$3:$AI$4,2,FALSE))))","v":" "},{"$f":"IF(OL22=\" \",\" \",IF($OC$27=\" \",$CD$6*OL21,$OC$27*(1+HLOOKUP($OD$15,Līmeņatzīmes!$B$3:$AI$4,2,FALSE))))","v":" "},{"$f":"IF(OM22=\" \",\" \",IF($OC$27=\" \",$CD$6*OM21,$OC$27*(1+HLOOKUP($OD$15,Līmeņatzīmes!$B$3:$AI$4,2,FALSE))))","v":" "},{"$f":"IF(ON22=\" \",\" \",IF($OC$27=\" \",$CD$6*ON21,$OC$27*(1+HLOOKUP($OD$15,Līmeņatzīmes!$B$3:$AI$4,2,FALSE))))","v":" "},{"$f":"IF(OO22=\" \",\" \",IF($OC$27=\" \",$CD$6*OO21,$OC$27*(1+HLOOKUP($OD$15,Līmeņatzīmes!$B$3:$AI$4,2,FALSE))))","v":" "},{"$f":"IF(OP22=\" \",\" \",IF($OC$27=\" \",$CD$6*OP21,$OC$27*(1+HLOOKUP($OD$15,Līmeņatzīmes!$B$3:$AI$4,2,FALSE))))","v":" "},{"$f":"IF(OR(OQ$16=\" \",OQ$16=0),\" \",SUM(OR27:PC27))","v":" "},{"$f":"IF(OR22=\" \",\" \",IF($OP$27=\" \",$CD$6*OR21,$OP$27*(1+HLOOKUP($OQ$15,Līmeņatzīmes!$B$3:$AI$4,2,FALSE))))","v":" "},{"$f":"IF(OS22=\" \",\" \",IF($OP$27=\" \",$CD$6*OS21,$OP$27*(1+HLOOKUP($OQ$15,Līmeņatzīmes!$B$3:$AI$4,2,FALSE))))","v":" "},{"$f":"IF(OT22=\" \",\" \",IF($OP$27=\" \",$CD$6*OT21,$OP$27*(1+HLOOKUP($OQ$15,Līmeņatzīmes!$B$3:$AI$4,2,FALSE))))","v":" "},{"$f":"IF(OU22=\" \",\" \",IF($OP$27=\" \",$CD$6*OU21,$OP$27*(1+HLOOKUP($OQ$15,Līmeņatzīmes!$B$3:$AI$4,2,FALSE))))","v":" "},{"$f":"IF(OV22=\" \",\" \",IF($OP$27=\" \",$CD$6*OV21,$OP$27*(1+HLOOKUP($OQ$15,Līmeņatzīmes!$B$3:$AI$4,2,FALSE))))","v":" "},{"$f":"IF(OW22=\" \",\" \",IF($OP$27=\" \",$CD$6*OW21,$OP$27*(1+HLOOKUP($OQ$15,Līmeņatzīmes!$B$3:$AI$4,2,FALSE))))","v":" "},{"$f":"IF(OX22=\" \",\" \",IF($OP$27=\" \",$CD$6*OX21,$OP$27*(1+HLOOKUP($OQ$15,Līmeņatzīmes!$B$3:$AI$4,2,FALSE))))","v":" "},{"$f":"IF(OY22=\" \",\" \",IF($OP$27=\" \",$CD$6*OY21,$OP$27*(1+HLOOKUP($OQ$15,Līmeņatzīmes!$B$3:$AI$4,2,FALSE))))","v":" "},{"$f":"IF(OZ22=\" \",\" \",IF($OP$27=\" \",$CD$6*OZ21,$OP$27*(1+HLOOKUP($OQ$15,Līmeņatzīmes!$B$3:$AI$4,2,FALSE))))","v":" "},{"$f":"IF(PA22=\" \",\" \",IF($OP$27=\" \",$CD$6*PA21,$OP$27*(1+HLOOKUP($OQ$15,Līmeņatzīmes!$B$3:$AI$4,2,FALSE))))","v":" "},{"$f":"IF(PB22=\" \",\" \",IF($OP$27=\" \",$CD$6*PB21,$OP$27*(1+HLOOKUP($OQ$15,Līmeņatzīmes!$B$3:$AI$4,2,FALSE))))","v":" "},{"$f":"IF(PC22=\" \",\" \",IF($OP$27=\" \",$CD$6*PC21,$OP$27*(1+HLOOKUP($OQ$15,Līmeņatzīmes!$B$3:$AI$4,2,FALSE))))","v":" "},{"$f":"IF(OR(PD$16=\" \",PD$16=0),\" \",SUM(PE27:PP27))","v":" "},{"$f":"IF(PE22=\" \",\" \",IF($PC$27=\" \",$CD$6*PE21,$PC$27*(1+HLOOKUP($PD$15,Līmeņatzīmes!$B$3:$AI$4,2,FALSE))))","v":" "},{"$f":"IF(PF22=\" \",\" \",IF($PC$27=\" \",$CD$6*PF21,$PC$27*(1+HLOOKUP($PD$15,Līmeņatzīmes!$B$3:$AI$4,2,FALSE))))","v":" "},{"$f":"IF(PG22=\" \",\" \",IF($PC$27=\" \",$CD$6*PG21,$PC$27*(1+HLOOKUP($PD$15,Līmeņatzīmes!$B$3:$AI$4,2,FALSE))))","v":" "},{"$f":"IF(PH22=\" \",\" \",IF($PC$27=\" \",$CD$6*PH21,$PC$27*(1+HLOOKUP($PD$15,Līmeņatzīmes!$B$3:$AI$4,2,FALSE))))","v":" "},{"$f":"IF(PI22=\" \",\" \",IF($PC$27=\" \",$CD$6*PI21,$PC$27*(1+HLOOKUP($PD$15,Līmeņatzīmes!$B$3:$AI$4,2,FALSE))))","v":" "},{"$f":"IF(PJ22=\" \",\" \",IF($PC$27=\" \",$CD$6*PJ21,$PC$27*(1+HLOOKUP($PD$15,Līmeņatzīmes!$B$3:$AI$4,2,FALSE))))","v":" "},{"$f":"IF(PK22=\" \",\" \",IF($PC$27=\" \",$CD$6*PK21,$PC$27*(1+HLOOKUP($PD$15,Līmeņatzīmes!$B$3:$AI$4,2,FALSE))))","v":" "},{"$f":"IF(PL22=\" \",\" \",IF($PC$27=\" \",$CD$6*PL21,$PC$27*(1+HLOOKUP($PD$15,Līmeņatzīmes!$B$3:$AI$4,2,FALSE))))","v":" "},{"$f":"IF(PM22=\" \",\" \",IF($PC$27=\" \",$CD$6*PM21,$PC$27*(1+HLOOKUP($PD$15,Līmeņatzīmes!$B$3:$AI$4,2,FALSE))))","v":" "},{"$f":"IF(PN22=\" \",\" \",IF($PC$27=\" \",$CD$6*PN21,$PC$27*(1+HLOOKUP($PD$15,Līmeņatzīmes!$B$3:$AI$4,2,FALSE))))","v":" "},{"$f":"IF(PO22=\" \",\" \",IF($PC$27=\" \",$CD$6*PO21,$PC$27*(1+HLOOKUP($PD$15,Līmeņatzīmes!$B$3:$AI$4,2,FALSE))))","v":" "},{"$f":"IF(PP22=\" \",\" \",IF($PC$27=\" \",$CD$6*PP21,$PC$27*(1+HLOOKUP($PD$15,Līmeņatzīmes!$B$3:$AI$4,2,FALSE))))","v":" "},{"$f":"IF(OR(PQ$16=\" \",PQ$16=0),\" \",SUM(PR27:QC27))","v":" "},{"$f":"IF(PR22=\" \",\" \",IF($PP$27=\" \",$CD$6*PR21,$PP$27*(1+HLOOKUP($PQ$15,Līmeņatzīmes!$B$3:$AI$4,2,FALSE))))","v":" "},{"$f":"IF(PS22=\" \",\" \",IF($PP$27=\" \",$CD$6*PS21,$PP$27*(1+HLOOKUP($PQ$15,Līmeņatzīmes!$B$3:$AI$4,2,FALSE))))","v":" "},{"$f":"IF(PT22=\" \",\" \",IF($PP$27=\" \",$CD$6*PT21,$PP$27*(1+HLOOKUP($PQ$15,Līmeņatzīmes!$B$3:$AI$4,2,FALSE))))","v":" "},{"$f":"IF(PU22=\" \",\" \",IF($PP$27=\" \",$CD$6*PU21,$PP$27*(1+HLOOKUP($PQ$15,Līmeņatzīmes!$B$3:$AI$4,2,FALSE))))","v":" "},{"$f":"IF(PV22=\" \",\" \",IF($PP$27=\" \",$CD$6*PV21,$PP$27*(1+HLOOKUP($PQ$15,Līmeņatzīmes!$B$3:$AI$4,2,FALSE))))","v":" "},{"$f":"IF(PW22=\" \",\" \",IF($PP$27=\" \",$CD$6*PW21,$PP$27*(1+HLOOKUP($PQ$15,Līmeņatzīmes!$B$3:$AI$4,2,FALSE))))","v":" "},{"$f":"IF(PX22=\" \",\" \",IF($PP$27=\" \",$CD$6*PX21,$PP$27*(1+HLOOKUP($PQ$15,Līmeņatzīmes!$B$3:$AI$4,2,FALSE))))","v":" "},{"$f":"IF(PY22=\" \",\" \",IF($PP$27=\" \",$CD$6*PY21,$PP$27*(1+HLOOKUP($PQ$15,Līmeņatzīmes!$B$3:$AI$4,2,FALSE))))","v":" "},{"$f":"IF(PZ22=\" \",\" \",IF($PP$27=\" \",$CD$6*PZ21,$PP$27*(1+HLOOKUP($PQ$15,Līmeņatzīmes!$B$3:$AI$4,2,FALSE))))","v":" "},{"$f":"IF(QA22=\" \",\" \",IF($PP$27=\" \",$CD$6*QA21,$PP$27*(1+HLOOKUP($PQ$15,Līmeņatzīmes!$B$3:$AI$4,2,FALSE))))","v":" "},{"$f":"IF(QB22=\" \",\" \",IF($PP$27=\" \",$CD$6*QB21,$PP$27*(1+HLOOKUP($PQ$15,Līmeņatzīmes!$B$3:$AI$4,2,FALSE))))","v":" "},{"$f":"IF(QC22=\" \",\" \",IF($PP$27=\" \",$CD$6*QC21,$PP$27*(1+HLOOKUP($PQ$15,Līmeņatzīmes!$B$3:$AI$4,2,FALSE))))","v":" "}]
[null,null," "]
["Tīrā Naudas Plūsma","EUR/gadā",null,{"$f":"IF(D22=\" \",\" \",SUM(E29:P29))","v":" "},{"$f":"IF(OR(E22=\" \",E22=0),\" \",E19-E25)","v":" "},{"$f":"IF(OR(F22=\" \",F22=0),\" \",F19-F25)","v":" "}," "," "," "," "," "," "," "," "," "," ",{"$f":"IF(Q22=\" \",\" \",SUM(R29:AC29))","v":" "}," "," "," "," "," "," "," "," "," "," "," "," ",{"$f":"IF(AD22=\" \",\" \",SUM(AE29:AP29))","v":" "}," "," "," "," "," "," "," "," "," "," "," "," ",{"$f":"IF(AQ22=\" \",\" \",SUM(AR29:BC29))","v":" "}," "," "," "," "," "," "," "," "," "," "," "," ",{"$f":"IF(BD22=\" \",\" \",SUM(BE29:BP29))","v":" "}," "," "," "," "," "," "," "," "," "," "," "," ",{"$f":"IF(BQ22=\" \",\" \",SUM(BR29:CC29))","v":" "}," ",{"$f":"IF(OR(BS22=\" \",BS22=0),\" \",BS19-BS25)","v":" "}," "," "," "," "," "," "," "," "," "," ",{"$f":"IF(CD22=\" \",\" \",SUM(CE29:CP29))","v":" "},{"$f":"IF(OR(CE22=\" \",CE22=0),\" \",CE19-CE25)","v":" "}," "," "," "," "," "," "," "," "," "," "," ",{"$f":"IF(CQ22=\" \",\" \",SUM(CR29:DC29))","v":" "},{"$f":"IF(OR(CR22=\" \",CR22=0),\" \",CR19-CR25)","v":" "}," "," "," "," "," "," "," "," "," "," "," ",{"$f":"IF(DD22=\" \",\" \",SUM(DE29:DP29))","v":" "},{"$f":"IF(OR(DE22=\" \",DE22=0),\" \",DE19-DE25)","v":" "}," "," "," "," "," "," "," "," "," "," "," ",{"$f":"IF(DQ22=\" \",\" \",SUM(DR29:EC29))","v":" "},{"$f":"IF(OR(DR22=\" \",DR22=0),\" \",DR19-DR25)","v":" "}," "," "," "," "," "," "," "," "," "," "," ",{"$f":"IF(ED22=\" \",\" \",SUM(EE29:EP29))","v":" "},{"$f":"IF(OR(EE22=\" \",EE22=0),\" \",EE19-EE25)","v":" "}," "," "," "," "," "," "," "," "," "," "," ",{"$f":"IF(EQ22=\" \",\" \",SUM(ER29:FC29))","v":" "},{"$f":"IF(OR(ER22=\" \",ER22=0),\" \",ER19-ER25)","v":" "}," "," "," "," "," "," "," "," "," "," "," ",{"$f":"IF(FD22=\" \",\" \",SUM(FE29:FP29))","v":" "},{"$f":"IF(OR(FE22=\" \",FE22=0),\" \",FE19-FE25)","v":" "}," "," "," "," "," "," "," "," "," "," "," ",{"$f":"IF(FQ22=\" \",\" \",SUM(FR29:GC29))","v":" "},{"$f":"IF(OR(FR22=\" \",FR22=0),\" \",FR19-FR25)","v":" "}," "," "," "," "," "," "," "," "," "," "," ",{"$f":"IF(GD22=\" \",\" \",SUM(GE29:GP29))","v":" "},{"$f":"IF(OR(GE22=\" \",GE22=0),\" \",GE19-GE25)","v":" "}," "," "," "," "," "," "," "," "," "," "," ",{"$f":"IF(GQ22=\" \",\" \",SUM(GR29:HC29))","v":" "},{"$f":"IF(OR(GR22=\" \",GR22=0),\" \",GR19-GR25)","v":" "}," "," "," "," "," "," "," "," "," "," "," ",{"$f":"IF(HD22=\" \",\" \",SUM(HE29:HP29))","v":" "},{"$f":"IF(OR(HE22=\" \",HE22=0),\" \",HE19-HE25)","v":" "}," "," "," "," "," "," "," "," "," "," "," ",{"$f":"IF(HQ22=\" \",\" \",SUM(HR29:IC29))","v":" "},{"$f":"IF(OR(HR22=\" \",HR22=0),\" \",HR19-HR25)","v":" "}," "," "," "," "," "," "," "," "," "," "," ",{"$f":"IF(ID22=\" \",\" \",SUM(IE29:IP29))","v":" "},{"$f":"IF(OR(IE22=\" \",IE22=0),\" \",IE19-IE25)","v":" "}," "," "," "," "," "," "," "," "," "," "," ",{"$f":"IF(IQ22=\" \",\" \",SUM(IR29:JC29))","v":" "},{"$f":"IF(OR(IR22=\" \",IR22=0),\" \",IR19-IR25)","v":" "}," "," "," "," "," "," "," "," "," "," "," ",{"$f":"IF(JD22=\" \",\" \",SUM(JE29:JP29))","v":" "},{"$f":"IF(OR(JE22=\" \",JE22=0),\" \",JE19-JE25)","v":" "}," "," "," "," "," "," "," "," "," "," "," ",{"$f":"IF(JQ22=\" \",\" \",SUM(JR29:KC29))","v":" "},{"$f":"IF(OR(JR22=\" \",JR22=0),\" \",JR19-JR25)","v":" "}," "," "," "," "," "," "," "," "," "," "," ",{"$f":"IF(KD22=\" \",\" \",SUM(KE29:KP29))","v":" "},{"$f":"IF(OR(KE22=\" \",KE22=0),\" \",KE19-KE25)","v":" "}," "," "," "," "," "," "," "," "," "," "," ",{"$f":"IF(KQ22=\" \",\" \",SUM(KR29:LC29))","v":" "},{"$f":"IF(OR(KR22=\" \",KR22=0),\" \",KR19-KR25)","v":" "}," "," "," "," "," "," "," "," "," "," "," ",{"$f":"IF(LD22=\" \",\" \",SUM(LE29:LP29))","v":" "},{"$f":"IF(OR(LE22=\" \",LE22=0),\" \",LE19-LE25)","v":" "}," "," "," "," "," "," "," "," "," "," "," ",{"$f":"IF(LQ22=\" \",\" \",SUM(LR29:MC29))","v":" "},{"$f":"IF(OR(LR22=\" \",LR22=0),\" \",LR19-LR25)","v":" "}," "," "," "," "," "," "," "," "," "," "," ",{"$f":"IF(MD22=\" \",\" \",SUM(ME29:MP29))","v":" "},{"$f":"IF(OR(ME22=\" \",ME22=0),\" \",ME19-ME25)","v":" "}," "," "," "," "," "," "," "," "," "," "," ",{"$f":"IF(MQ22=\" \",\" \",SUM(MR29:NC29))","v":" "},{"$f":"IF(OR(MR22=\" \",MR22=0),\" \",MR19-MR25)","v":" "}," "," "," "," "," "," "," "," "," "," "," ",{"$f":"IF(ND22=\" \",\" \",SUM(NE29:NP29))","v":" "},{"$f":"IF(OR(NE22=\" \",NE22=0),\" \",NE19-NE25)","v":" "}," "," "," "," "," "," "," "," "," "," "," ",{"$f":"IF(NQ22=\" \",\" \",SUM(NR29:OC29))","v":" "},{"$f":"IF(OR(NR22=\" \",NR22=0),\" \",NR19-NR25)","v":" "}," "," "," "," "," "," "," "," "," "," "," ",{"$f":"IF(OD22=\" \",\" \",SUM(OE29:OP29))","v":" "},{"$f":"IF(OR(OE22=\" \",OE22=0),\" \",OE19-OE25)","v":" "}," "," "," "," "," "," "," "," "," "," "," ",{"$f":"IF(OQ22=\" \",\" \",SUM(OR29:PC29))","v":" "},{"$f":"IF(OR(OR22=\" \",OR22=0),\" \",OR19-OR25)","v":" "}," "," "," "," "," "," "," "," "," "," "," ",{"$f":"IF(PD22=\" \",\" \",SUM(PE29:PP29))","v":" "},{"$f":"IF(OR(PE22=\" \",PE22=0),\" \",PE19-PE25)","v":" "}," "," "," "," "," "," "," "," "," "," "," ",{"$f":"IF(PQ22=\" \",\" \",SUM(PR29:QC29))","v":" "},{"$f":"IF(OR(PR22=\" \",PR22=0),\" \",PR19-PR25)","v":" "}," "," "," "," "," "," "," "," "," "," "," "]
["Tīrā Naudas Plūsma un investīcijas",null,{"$f":"IF(AND(C$16>=0,C$16<=$QD$4+1),IF(C$16=0,IF(C$15=$D$10,-$C$8-$C$9+$C$10,-$C$8-$C$9),IF(C$15=$D$10,C29+$C$10,C29)),\" \")","v":" "},{"$f":"IF(AND(D$16>=0,D$16<=$QD$4+1),IF(D$16=0,IF(D$15=$D$10,-$C$8-$C$9+$C$10,-$C$8-$C$9),IF(D$15=$D$10,D29+$C$10,D29)),\" \")","v":" "},null,null,null,null,null,null,null,null,null,null,null,null,{"$f":"IF(AND(Q$16>=0,Q$16<=$QD$4+1),IF(Q$16=0,IF(Q$15=$D$10,-$C$8-$C$9+$C$10,-$C$8-$C$9),IF(Q$15=$D$10,Q29+$C$10,Q29)),\" \")","v":" "},null,null,null,null,null,null,null,null,null,null,null,null,{"$f":"IF(AND(AD$16>=0,AD$16<=$QD$4+1),IF(AD$16=0,IF(AD$15=$D$10,-$C$8-$C$9+$C$10,-$C$8-$C$9),IF(AD$15=$D$10,AD29+$C$10,AD29)),\" \")","v":" "},null,null,null,null,null,null,null,null,null,null,null,null,{"$f":"IF(AND(AQ$16>=0,AQ$16<=$QD$4+1),IF(AQ$16=0,IF(AQ$15=$D$10,-$C$8-$C$9+$C$10,-$C$8-$C$9),IF(AQ$15=$D$10,AQ29+$C$10,AQ29)),\" \")","v":" "},null,null,null,null,null,null,null,null,null,null,null,null,{"$f":"IF(AND(BD$16>=0,BD$16<=$QD$4+1),IF(BD$16=0,IF(BD$15=$D$10,-$C$8-$C$9+$C$10,-$C$8-$C$9),IF(BD$15=$D$10,BD29+$C$10,BD29)),\" \")","v":" "},null,null,null,null,null,null,null,null,null,null,null,null,{"$f":"IF(AND(BQ$16>=0,BQ$16<=$QD$4+1),IF(BQ$16=0,IF(BQ$15=$D$10,-$C$8-$C$9+$C$10,-$C$8-$C$9),IF(BQ$15=$D$10,BQ29+$C$10,BQ29)),\" \")","v":" "},null,null,null,null,null,null,null,null,null,null,null,null,{"$f":"IF(AND(CD$16>=0,CD$16<=$QD$4+1),IF(CD$16=0,IF(CD$15=$D$10,-$C$8-$C$9+$C$10,-$C$8-$C$9),IF(CD$15=$D$10,CD29+$C$10,CD29)),\" \")","v":" "},null,null,null,null,null,null,null,null,null,null,null,null,{"$f":"IF(AND(CQ$16>=0,CQ$16<=$QD$4+1),IF(CQ$16=0,IF(CQ$15=$D$10,-$C$8-$C$9+$C$10,-$C$8-$C$9),IF(CQ$15=$D$10,CQ29+$C$10,CQ29)),\" \")","v":" "},null,null,null,null,null,null,null,null,null,null,null,null,{"$f":"IF(AND(DD$16>=0,DD$16<=$QD$4+1),IF(DD$16=0,IF(DD$15=$D$10,-$C$8-$C$9+$C$10,-$C$8-$C$9),IF(DD$15=$D$10,DD29+$C$10,DD29)),\" \")","v":" "},null,null,null,null,null,null,null,null,null,null,null,null,{"$f":"IF(AND(DQ$16>=0,DQ$16<=$QD$4+1),IF(DQ$16=0,IF(DQ$15=$D$10,-$C$8-$C$9+$C$10,-$C$8-$C$9),IF(DQ$15=$D$10,DQ29+$C$10,DQ29)),\" \")","v":" "},null,null,null,null,null,null,null,null,null,null,null,null,{"$f":"IF(AND(ED$16>=0,ED$16<=$QD$4+1),IF(ED$16=0,IF(ED$15=$D$10,-$C$8-$C$9+$C$10,-$C$8-$C$9),IF(ED$15=$D$10,ED29+$C$10,ED29)),\" \")","v":" "},null,null,null,null,null,null,null,null,null,null,null,null,{"$f":"IF(AND(EQ$16>=0,EQ$16<=$QD$4+1),IF(EQ$16=0,IF(EQ$15=$D$10,-$C$8-$C$9+$C$10,-$C$8-$C$9),IF(EQ$15=$D$10,EQ29+$C$10,EQ29)),\" \")","v":" "},null,null,null,null,null,null,null,null,null,null,null,null,{"$f":"IF(AND(FD$16>=0,FD$16<=$QD$4+1),IF(FD$16=0,IF(FD$15=$D$10,-$C$8-$C$9+$C$10,-$C$8-$C$9),IF(FD$15=$D$10,FD29+$C$10,FD29)),\" \")","v":" "},null,null,null,null,null,null,null,null,null,null,null,null,{"$f":"IF(AND(FQ$16>=0,FQ$16<=$QD$4+1),IF(FQ$16=0,IF(FQ$15=$D$10,-$C$8-$C$9+$C$10,-$C$8-$C$9),IF(FQ$15=$D$10,FQ29+$C$10,FQ29)),\" \")","v":" "},null,null,null,null,null,null,null,null,null,null,null,null,{"$f":"IF(AND(GD$16>=0,GD$16<=$QD$4+1),IF(GD$16=0,IF(GD$15=$D$10,-$C$8-$C$9+$C$10,-$C$8-$C$9),IF(GD$15=$D$10,GD29+$C$10,GD29)),\" \")","v":" "},null,null,null,null,null,null,null,null,null,null,null,null,{"$f":"IF(AND(GQ$16>=0,GQ$16<=$QD$4+1),IF(GQ$16=0,IF(GQ$15=$D$10,-$C$8-$C$9+$C$10,-$C$8-$C$9),IF(GQ$15=$D$10,GQ29+$C$10,GQ29)),\" \")","v":" "},null,null,null,null,null,null,null,null,null,null,null,null,{"$f":"IF(AND(HD$16>=0,HD$16<=$QD$4+1),IF(HD$16=0,IF(HD$15=$D$10,-$C$8-$C$9+$C$10,-$C$8-$C$9),IF(HD$15=$D$10,HD29+$C$10,HD29)),\" \")","v":" "},null,null,null,null,null,null,null,null,null,null,null,null,{"$f":"IF(AND(HQ$16>=0,HQ$16<=$QD$4+1),IF(HQ$16=0,IF(HQ$15=$D$10,-$C$8-$C$9+$C$10,-$C$8-$C$9),IF(HQ$15=$D$10,HQ29+$C$10,HQ29)),\" \")","v":" "},null,null,null,null,null,null,null,null,null,null,null,null,{"$f":"IF(AND(ID$16>=0,ID$16<=$QD$4+1),IF(ID$16=0,IF(ID$15=$D$10,-$C$8-$C$9+$C$10,-$C$8-$C$9),IF(ID$15=$D$10,ID29+$C$10,ID29)),\" \")","v":" "},null,null,null,null,null,null,null,null,null,null,null,null,{"$f":"IF(AND(IQ$16>=0,IQ$16<=$QD$4+1),IF(IQ$16=0,IF(IQ$15=$D$10,-$C$8-$C$9+$C$10,-$C$8-$C$9),IF(IQ$15=$D$10,IQ29+$C$10,IQ29)),\" \")","v":" "},null,null,null,null,null,null,null,null,null,null,null,null,{"$f":"IF(AND(JD$16>=0,JD$16<=$QD$4+1),IF(JD$16=0,IF(JD$15=$D$10,-$C$8-$C$9+$C$10,-$C$8-$C$9),IF(JD$15=$D$10,JD29+$C$10,JD29)),\" \")","v":" "},null,null,null,null,null,null,null,null,null,null,null,null,{"$f":"IF(AND(JQ$16>=0,JQ$16<=$QD$4+1),IF(JQ$16=0,IF(JQ$15=$D$10,-$C$8-$C$9+$C$10,-$C$8-$C$9),IF(JQ$15=$D$10,JQ29+$C$10,JQ29)),\" \")","v":" "},null,null,null,null,null,null,null,null,null,null,null,null,{"$f":"IF(AND(KD$16>=0,KD$16<=$QD$4+1),IF(KD$16=0,IF(KD$15=$D$10,-$C$8-$C$9+$C$10,-$C$8-$C$9),IF(KD$15=$D$10,KD29+$C$10,KD29)),\" \")","v":" "},null,null,null,null,null,null,null,null,null,null,null,null,{"$f":"IF(AND(KQ$16>=0,KQ$16<=$QD$4+1),IF(KQ$16=0,IF(KQ$15=$D$10,-$C$8-$C$9+$C$10,-$C$8-$C$9),IF(KQ$15=$D$10,KQ29+$C$10,KQ29)),\" \")","v":" "},null,null,null,null,null,null,null,null,null,null,null,null,{"$f":"IF(AND(LD$16>=0,LD$16<=$QD$4+1),IF(LD$16=0,IF(LD$15=$D$10,-$C$8-$C$9+$C$10,-$C$8-$C$9),IF(LD$15=$D$10,LD29+$C$10,LD29)),\" \")","v":" "},null,null,null,null,null,null,null,null,null,null,null,null,{"$f":"IF(AND(LQ$16>=0,LQ$16<=$QD$4+1),IF(LQ$16=0,IF(LQ$15=$D$10,-$C$8-$C$9+$C$10,-$C$8-$C$9),IF(LQ$15=$D$10,LQ29+$C$10,LQ29)),\" \")","v":" "},null,null,null,null,null,null,null,null,null,null,null,null,{"$f":"IF(AND(MD$16>=0,MD$16<=$QD$4+1),IF(MD$16=0,IF(MD$15=$D$10,-$C$8-$C$9+$C$10,-$C$8-$C$9),IF(MD$15=$D$10,MD29+$C$10,MD29)),\" \")","v":" "},null,null,null,null,null,null,null,null,null,null,null,null,{"$f":"IF(AND(MQ$16>=0,MQ$16<=$QD$4+1),IF(MQ$16=0,IF(MQ$15=$D$10,-$C$8-$C$9+$C$10,-$C$8-$C$9),IF(MQ$15=$D$10,MQ29+$C$10,MQ29)),\" \")","v":" "},null,null,null,null,null,null,null,null,null,null,null,null,{"$f":"IF(AND(ND$16>=0,ND$16<=$QD$4+1),IF(ND$16=0,IF(ND$15=$D$10,-$C$8-$C$9+$C$10,-$C$8-$C$9),IF(ND$15=$D$10,ND29+$C$10,ND29)),\" \")","v":" "},null,null,null,null,null,null,null,null,null,null,null,null,{"$f":"IF(AND(NQ$16>=0,NQ$16<=$QD$4+1),IF(NQ$16=0,IF(NQ$15=$D$10,-$C$8-$C$9+$C$10,-$C$8-$C$9),IF(NQ$15=$D$10,NQ29+$C$10,NQ29)),\" \")","v":" "},null,null,null,null,null,null,null,null,null,null,null,null,{"$f":"IF(AND(OD$16>=0,OD$16<=$QD$4+1),IF(OD$16=0,IF(OD$15=$D$10,-$C$8-$C$9+$C$10,-$C$8-$C$9),IF(OD$15=$D$10,OD29+$C$10,OD29)),\" \")","v":" "},null,null,null,null,null,null,null,null,null,null,null,null,{"$f":"IF(AND(OQ$16>=0,OQ$16<=$QD$4+1),IF(OQ$16=0,IF(OQ$15=$D$10,-$C$8-$C$9+$C$10,-$C$8-$C$9),IF(OQ$15=$D$10,OQ29+$C$10,OQ29)),\" \")","v":" "},null,null,null,null,null,null,null,null,null,null,null,null,{"$f":"IF(AND(PD$16>=0,PD$16<=$QD$4+1),IF(PD$16=0,IF(PD$15=$D$10,-$C$8-$C$9+$C$10,-$C$8-$C$9),IF(PD$15=$D$10,PD29+$C$10,PD29)),\" \")","v":" "},null,null,null,null,null,null,null,null,null,null,null,null,{"$f":"IF(AND(PQ$16>=0,PQ$16<=$QD$4+1),IF(PQ$16=0,IF(PQ$15=$D$10,-$C$8-$C$9+$C$10,-$C$8-$C$9),IF(PQ$15=$D$10,PQ29+$C$10,PQ29)),\" \")","v":" "}]
["IRR",null,null,{"$f":"IF(OR(D30=\" \",D$16<=0),\" \",IRR($C$30:D$30))","v":" "},null,null,null,null,null,null,null,null,null,null,null,null,{"$f":"IF(OR(Q30=\" \",Q$16<=0),\" \",IRR($C$30:Q$30))","v":" "},null,null,null,null,null,null,null,null,null,null,null,null,{"$f":"IF(OR(AD30=\" \",AD$16<=0),\" \",IRR($C$30:AD$30))","v":" "},null,null,null,null,null,null,null,null,null,null,null,null,{"$f":"IF(OR(AQ30=\" \",AQ$16<=0),\" \",IRR($C$30:AQ$30))","v":" "},null,null,null,null,null,null,null,null,null,null,null,null,{"$f":"IF(OR(BD30=\" \",BD$16<=0),\" \",IRR($C$30:BD$30))","v":" "},null,null,null,null,null,null,null,null,null,null,null,null,{"$f":"IF(OR(BQ30=\" \",BQ$16<=0),\" \",IRR($C$30:BQ$30))","v":" "},null,null,null,null,null,null,null,null,null,null,null,null,{"$f":"IF(OR(CD30=\" \",CD$16<=0),\" \",IRR($C$30:CD$30))","v":" "},null,null,null,null,null,null,null,null,null,null,null,null,{"$f":"IF(OR(CQ30=\" \",CQ$16<=0),\" \",IRR($C$30:CQ$30))","v":" "},null,null,null,null,null,null,null,null,null,null,null,null,{"$f":"IF(OR(DD30=\" \",DD$16<=0),\" \",IRR($C$30:DD$30))","v":" "},null,null,null,null,null,null,null,null,null,null,null,null,{"$f":"IF(OR(DQ30=\" \",DQ$16<=0),\" \",IRR($C$30:DQ$30))","v":" "},null,null,null,null,null,null,null,null,null,null,null,null,{"$f":"IF(OR(ED30=\" \",ED$16<=0),\" \",IRR($C$30:ED$30))","v":" "},null,null,null,null,null,null,null,null,null,null,null,null,{"$f":"IF(OR(EQ30=\" \",EQ$16<=0),\" \",IRR($C$30:EQ$30))","v":" "},null,null,null,null,null,null,null,null,null,null,null,null,{"$f":"IF(OR(FD30=\" \",FD$16<=0),\" \",IRR($C$30:FD$30))","v":" "},null,null,null,null,null,null,null,null,null,null,null,null,{"$f":"IF(OR(FQ30=\" \",FQ$16<=0),\" \",IRR($C$30:FQ$30))","v":" "},null,null,null,null,null,null,null,null,null,null,null,null,{"$f":"IF(OR(GD30=\" \",GD$16<=0),\" \",IRR($C$30:GD$30))","v":" "},null,null,null,null,null,null,null,null,null,null,null,null,{"$f":"IF(OR(GQ30=\" \",GQ$16<=0),\" \",IRR($C$30:GQ$30))","v":" "},null,null,null,null,null,null,null,null,null,null,null,null,{"$f":"IF(OR(HD30=\" \",HD$16<=0),\" \",IRR($C$30:HD$30))","v":" "},null,null,null,null,null,null,null,null,null,null,null,null,{"$f":"IF(OR(HQ30=\" \",HQ$16<=0),\" \",IRR($C$30:HQ$30))","v":" "},null,null,null,null,null,null,null,null,null,null,null,null,{"$f":"IF(OR(ID30=\" \",ID$16<=0),\" \",IRR($C$30:ID$30))","v":" "},null,null,null,null,null,null,null,null,null,null,null,null,{"$f":"IF(OR(IQ30=\" \",IQ$16<=0),\" \",IRR($C$30:IQ$30))","v":" "},null,null,null,null,null,null,null,null,null,null,null,null,{"$f":"IF(OR(JD30=\" \",JD$16<=0),\" \",IRR($C$30:JD$30))","v":" "},null,null,null,null,null,null,null,null,null,null,null,null,{"$f":"IF(OR(JQ30=\" \",JQ$16<=0),\" \",IRR($C$30:JQ$30))","v":" "},null,null,null,null,null,null,null,null,null,null,null,null,{"$f":"IF(OR(KD30=\" \",KD$16<=0),\" \",IRR($C$30:KD$30))","v":" "},null,null,null,null,null,null,null,null,null,null,null,null,{"$f":"IF(OR(KQ30=\" \",KQ$16<=0),\" \",IRR($C$30:KQ$30))","v":" "},null,null,null,null,null,null,null,null,null,null,null,null,{"$f":"IF(OR(LD30=\" \",LD$16<=0),\" \",IRR($C$30:LD$30))","v":" "},null,null,null,null,null,null,null,null,null,null,null,null,{"$f":"IF(OR(LQ30=\" \",LQ$16<=0),\" \",IRR($C$30:LQ$30))","v":" "},null,null,null,null,null,null,null,null,null,null,null,null,{"$f":"IF(OR(MD30=\" \",MD$16<=0),\" \",IRR($C$30:MD$30))","v":" "},null,null,null,null,null,null,null,null,null,null,null,null,{"$f":"IF(OR(MQ30=\" \",MQ$16<=0),\" \",IRR($C$30:MQ$30))","v":" "},null,null,null,null,null,null,null,null,null,null,null,null,{"$f":"IF(OR(ND30=\" \",ND$16<=0),\" \",IRR($C$30:ND$30))","v":" "},null,null,null,null,null,null,null,null,null,null,null,null,{"$f":"IF(OR(NQ30=\" \",NQ$16<=0),\" \",IRR($C$30:NQ$30))","v":" "},null,null,null,null,null,null,null,null,null,null,null,null,{"$f":"IF(OR(OD30=\" \",OD$16<=0),\" \",IRR($C$30:OD$30))","v":" "},null,null,null,null,null,null,null,null,null,null,null,null,{"$f":"IF(OR(OQ30=\" \",OQ$16<=0),\" \",IRR($C$30:OQ$30))","v":" "},null,null,null,null,null,null,null,null,null,null,null,null,{"$f":"IF(OR(PD30=\" \",PD$16<=0),\" \",IRR($C$30:PD$30))","v":" "},null,null,null,null,null,null,null,null,null,null,null,null,{"$f":"IF(OR(PQ30=\" \",PQ$16<=0),\" \",IRR($C$30:PQ$30))","v":" "}]
[]
["Pārkompensācijas koeficients",1]
["Pārkompensācijas koeficients spēkā no",2017,7]
["IRR pirms pārkompen.koeficienta piemērošanas",{"$f":"IF($C$6=12,HLOOKUP(QD4,A16:PQ31,14,FALSE),HLOOKUP(QD6,A16:PQ31,16,FALSE))","v":{"$error":"#N/A"}}]
["IRR pēc pārkompen.koeficienta piemērošanas",{"$f":"IF($C$6=12,HLOOKUP(QD4,A40:PQ55,15,FALSE),HLOOKUP(QD6,A40:PQ55,16,FALSE))","v":{"$error":"#N/A"}}]
[]
["IRR aprēķins (pēc pārkompensācijas koeficienta)"]
["Gads",null,2006,{"$f":"C39+1","v":2007},2007,null,null,null,null,null,null,null,null,null,null,null,{"$f":"D39+1","v":2008},2008,null,null,null,null,null,null,null,null,null,null,null,{"$f":"Q39+1","v":2009},2009,null,null,null,null,null,null,null,null,null,null,null,{"$f":"AD39+1","v":2010},2010,null,null,null,null,null,null,null,null,null,null,null,{"$f":"AQ39+1","v":2011},2011,null,null,null,null,null,null,null,null,null,null,null,2012,2012,null,null,null,null,null,null,null,null,null,null,null,2013,2013,null,null,null,null,null,null,null,null,null,null,null,2014,2014,null,null,null,null,null,null,null,null,null,null,null,2015,2015,null,null,null,null,null,null,null,null,null,null,null,2016,2016,null,null,null,null,null,null,null,null,null,null,null,2017,2017,null,null,null,null,null,null,null,null,null,null,null,2018,2018,null,null,null,null,null,null,null,null,null,null,null,2019,2019,null,null,null,null,null,null,null,null,null,null,null,2020,2020,null,null,null,null,null,null,null,null,null,null,null,2021,2021,null,null,null,null,null,null,null,null,null,null,null,2022,2022,null,null,null,null,null,null,null,null,null,null,null,2023,2023,null,null,null,null,null,null,null,null,null,null,null,2024,2024,null,null,null,null,null,null,null,null,null,null,null,2025,2024,null,null,null,null,null,null,null,null,null,null,null,2026,2026,null,null,null,null,null,null,null,null,null,null,null,2027,2027,null,null,null,null,null,null,null,null,null,null,null,2028,2028,null,null,null,null,null,null,null,null,null,null,null,2029,2029,null,null,null,null,null,null,null,null,null,null,null,2030,2030,null,null,null,null,null,null,null,null,null,null,null,2031,2031,null,null,null,null,null,null,null,null,null,null,null,2032,2032,null,null,null,null,null,null,null,null,null,null,null,2033,2033,null,null,null,null,null,null,null,null,null,null,null,2034,2034,null,null,null,null,null,null,null,null,null,null,null,2035,2035,null,null,null,null,null,null,null,null,null,null,null,2036,2036,null,null,null,null,null,null,null,null,null,null,null,2037,2037,null,null,null,null,null,null,null,null,null,null,null,2038,2038,null,null,null,null,null,null,null,null,null,null,null,2039,2039,null,null,null,null,null,null,null,null,null,null,null,2040,2040]
["Projekta gads",null,{"$f":"IF(C39-$B$5<-1,\" \",IF(C39-$B$5=-1,0,\" \"))","v":" "},{"$f":"IF(D39-$B$5<-1,\" \",IF(D39-$B$5=-1,0,IF(OR(C40=0,C40<$QD$4),C40+1,IF(C40=$QD$4,21,\" \"))))","v":" "},null,null,null,null,null,null,null,null,null,null,null,null,{"$f":"IF(Q39-$B$5<-1,\" \",IF(Q39-$B$5=-1,0,IF(OR(D40=0,D40<$QD$4),D40+1,IF(D40=$QD$4,21,\" \"))))","v":" "},null,{"$f":"IF(S41-$B$5<-1,\" \",IF(S41-$B$5=-1,0,IF(R40=0,R40+1,IF(R40=$QD$4,21,\" \"))))","v":1}," "," "," "," "," "," "," "," "," "," ",{"$f":"IF(AD39-$B$5<-1,\" \",IF(AD39-$B$5=-1,0,IF(OR(Q40=0,Q40<$QD$4),Q40+1,IF(Q40=$QD$4,21,\" \"))))","v":" "},{"$f":"IF(AE41-$B$5<-1,\" \",IF(AE41-$B$5=-1,0,IF(AD40=0,AD40+1,IF(AD40=$QD$4,21,\" \"))))","v":" "}," "," "," "," "," "," "," "," "," "," "," ",{"$f":"IF(AQ39-$B$5<-1,\" \",IF(AQ39-$B$5=-1,0,IF(OR(AD40=0,AD40<$QD$4),AD40+1,IF(AD40=$QD$4,21,\" \"))))","v":" "},{"$f":"IF(AR41-$B$5<-1,\" \",IF(AR41-$B$5=-1,0,IF(AQ40=0,AQ40+1,IF(AQ40=$QD$4,21,\" \"))))","v":" "}," "," "," "," "," "," "," "," "," "," "," ",{"$f":"IF(BD39-$B$5<-1,\" \",IF(BD39-$B$5=-1,0,IF(OR(AQ40=0,AQ40<$QD$4),AQ40+1,IF(AQ40=$QD$4,21,\" \"))))","v":" "},{"$f":"IF(BE41-$B$5<-1,\" \",IF(BE41-$B$5=-1,0,IF(BD40=0,BD40+1,IF(BD40=$QD$4,21,\" \"))))","v":" "}," "," "," "," "," "," "," "," "," "," "," ",{"$f":"IF(BQ39-$B$5<-1,\" \",IF(BQ39-$B$5=-1,0,IF(OR(BD40=0,BD40<$QD$4),BD40+1,IF(BD40=$QD$4,21,\" \"))))","v":" "},null,null,null,null,null,null,null,null,null,null,null,null,{"$f":"IF(CD39-$B$5<-1,\" \",IF(CD39-$B$5=-1,0,IF(OR(BQ40=0,BQ40<$QD$4),BQ40+1,IF(BQ40=$QD$4,21,\" \"))))","v":" "},null,null,null,null,null,null,null,null,null,null,null,null,{"$f":"IF(CQ39-$B$5<-1,\" \",IF(CQ39-$B$5=-1,0,IF(OR(CD40=0,CD40<$QD$4),CD40+1,IF(CD40=$QD$4,21,\" \"))))","v":" "},null,null,null,null,null,null,null,null,null,null,null,null,{"$f":"IF(DD39-$B$5<-1,\" \",IF(DD39-$B$5=-1,0,IF(OR(CQ40=0,CQ40<$QD$4),CQ40+1,IF(CQ40=$QD$4,21,\" \"))))","v":" "},null,null,null,null,null,null,null,null,null,null,null,null,{"$f":"IF(DQ39-$B$5<-1,\" \",IF(DQ39-$B$5=-1,0,IF(OR(DD40=0,DD40<$QD$4),DD40+1,IF(DD40=$QD$4,21,\" \"))))","v":" "},null,null,null,null,null,null,null,null,null,null,null,null,{"$f":"IF(ED39-$B$5<-1,\" \",IF(ED39-$B$5=-1,0,IF(OR(DQ40=0,DQ40<$QD$4),DQ40+1,IF(DQ40=$QD$4,21,\" \"))))","v":" "},null,null,null,null,null,null,null,null,null,null,null,null,{"$f":"IF(EQ39-$B$5<-1,\" \",IF(EQ39-$B$5=-1,0,IF(OR(ED40=0,ED40<$QD$4),ED40+1,IF(ED40=$QD$4,21,\" \"))))","v":" "},null,null,null,null,null,null,null,null,null,null,null,null,{"$f":"IF(FD39-$B$5<-1,\" \",IF(FD39-$B$5=-1,0,IF(OR(EQ40=0,EQ40<$QD$4),EQ40+1,IF(EQ40=$QD$4,21,\" \"))))","v":" "},null,null,null,null,null,null,null,null,null,null,null,null,{"$f":"IF(FQ39-$B$5<-1,\" \",IF(FQ39-$B$5=-1,0,IF(OR(FD40=0,FD40<$QD$4),FD40+1,IF(FD40=$QD$4,21,\" \"))))","v":" "},null,null,null,null,null,null,null,null,null,null,null,null,{"$f":"IF(GD39-$B$5<-1,\" \",IF(GD39-$B$5=-1,0,IF(OR(FQ40=0,FQ40<$QD$4),FQ40+1,IF(FQ40=$QD$4,21,\" \"))))","v":" "},null,null,null,null,null,null,null,null,null,null,null,null,{"$f":"IF(GQ39-$B$5<-1,\" \",IF(GQ39-$B$5=-1,0,IF(OR(GD40=0,GD40<$QD$4),GD40+1,IF(GD40=$QD$4,21,\" \"))))","v":" "},null,null,null,null,null,null,null,null,null,null,null,null,{"$f":"IF(HD39-$B$5<-1,\" \",IF(HD39-$B$5=-1,0,IF(OR(GQ40=0,GQ40<$QD$4),GQ40+1,IF(GQ40=$QD$4,21,\" \"))))","v":" "},null,null,null,null,null,null,null,null,null,null,null,null,{"$f":"IF(HQ39-$B$5<-1,\" \",IF(HQ39-$B$5=-1,0,IF(OR(HD40=0,HD40<$QD$4),HD40+1,IF(HD40=$QD$4,21,\" \"))))","v":" "},null,null,null,null,null,null,null,null,null,null,null,null,{"$f":"IF(ID39-$B$5<-1,\" \",IF(ID39-$B$5=-1,0,IF(OR(HQ40=0,HQ40<$QD$4),HQ40+1,IF(HQ40=$QD$4,21,\" \"))))","v":" "},null,null,null,null,null,null,null,null,null,null,null,null,{"$f":"IF(IQ39-$B$5<-1,\" \",IF(IQ39-$B$5=-1,0,IF(OR(ID40=0,ID40<$QD$4),ID40+1,IF(ID40=$QD$4,21,\" \"))))","v":" "},null,null,null,null,null,null,null,null,null,null,null,null,{"$f":"IF(JD39-$B$5<-1,\" \",IF(JD39-$B$5=-1,0,IF(OR(IQ40=0,IQ40<$QD$4),IQ40+1,IF(IQ40=$QD$4,21,\" \"))))","v":" "},null,null,null,null,null,null,null,null,null,null,null,null,{"$f":"IF(JQ39-$B$5<-1,\" \",IF(JQ39-$B$5=-1,0,IF(OR(JD40=0,JD40<$QD$4),JD40+1,IF(JD40=$QD$4,21,\" \"))))","v":" "},null,null,null,null,null,null,null,null,null,null,null,null,{"$f":"IF(KD39-$B$5<-1,\" \",IF(KD39-$B$5=-1,0,IF(OR(JQ40=0,JQ40<$QD$4),JQ40+1,IF(JQ40=$QD$4,21,\" \"))))","v":" "},null,null,null,null,null,null,null,null,null,null,null,null,{"$f":"IF(KQ39-$B$5<-1,\" \",IF(KQ39-$B$5=-1,0,IF(OR(KD40=0,KD40<$QD$4),KD40+1,IF(KD40=$QD$4,21,\" \"))))","v":" "},null,null,null,null,null,null,null,null,null,null,null,null,{"$f":"IF(LD39-$B$5<-1,\" \",IF(LD39-$B$5=-1,0,IF(OR(KQ40=0,KQ40<$QD$4),KQ40+1,IF(KQ40=$QD$4,21,\" \"))))","v":" "},null,null,null,null,null,null,null,null,null,null,null,null,{"$f":"IF(LQ39-$B$5<-1,\" \",IF(LQ39-$B$5=-1,0,IF(OR(LD40=0,LD40<$QD$4),LD40+1,IF(LD40=$QD$4,21,\" \"))))","v":" "},null,null,null,null,null,null,null,null,null,null,null,null,{"$f":"IF(MD39-$B$5<-1,\" \",IF(MD39-$B$5=-1,0,IF(OR(LQ40=0,LQ40<$QD$4),LQ40+1,IF(LQ40=$QD$4,21,\" \"))))","v":" "},null,null,null,null,null,null,null,null,null,null,null,null,{"$f":"IF(MQ39-$B$5<-1,\" \",IF(MQ39-$B$5=-1,0,IF(OR(MD40=0,MD40<$QD$4),MD40+1,IF(MD40=$QD$4,21,\" \"))))","v":" "},null,null,null,null,null,null,null,null,null,null,null,null,{"$f":"IF(ND39-$B$5<-1,\" \",IF(ND39-$B$5=-1,0,IF(OR(MQ40=0,MQ40<$QD$4),MQ40+1,IF(MQ40=$QD$4,21,\" \"))))","v":" "},null,null,null,null,null,null,null,null,null,null,null,null,{"$f":"IF(NQ39-$B$5<-1,\" \",IF(NQ39-$B$5=-1,0,IF(OR(ND40=0,ND40<$QD$4),ND40+1,IF(ND40=$QD$4,21,\" \"))))","v":" "},null,null,null,null,null,null,null,null,null,null,null,null,{"$f":"IF(OD39-$B$5<-1,\" \",IF(OD39-$B$5=-1,0,IF(OR(NQ40=0,NQ40<$QD$4),NQ40+1,IF(NQ40=$QD$4,21,\" \"))))","v":" "},null,null,null,null,null,null,null,null,null,null,null,null,{"$f":"IF(OQ39-$B$5<-1,\" \",IF(OQ39-$B$5=-1,0,IF(OR(OD40=0,OD40<$QD$4),OD40+1,IF(OD40=$QD$4,21,\" \"))))","v":" "},null,null,null,null,null,null,null,null,null,null,null,null,{"$f":"IF(PD39-$B$5<-1,\" \",IF(PD39-$B$5=-1,0,IF(OR(OQ40=0,OQ40<$QD$4),OQ40+1,IF(OQ40=$QD$4,21,\" \"))))","v":" "},null,null,null,null,null,null,null,null,null,null,null,null,{"$f":"IF(PQ39-$B$5<-1,\" \",IF(PQ39-$B$5=-1,0,IF(OR(PD40=0,PD40<$QD$4),PD40+1,IF(PD40=$QD$4,21,\" \"))))","v":" "}]
["Mēnesis",null,{"$f":"IF(C40=1,0,\" \")","v":" "},{"$f":"IF(Q40=1,0,\" \")","v":" "},1,2,3,4,5,6,7,8,9,10,11,12,null,1,2,3,4,5,6,7,8,9,10,11,12,null,1,2,3,4,5,6,7,8,9,10,11,12,null,1,2,3,4,5,6,7,8,9,10,11,12,null,1,2,3,4,5,6,7,8,9,10,11,12,null,1,2,3,4,5,6,7,8,9,10,11,12,null,1,2,3,4,5,6,7,8,9,10,11,12,null,1,2,3,4,5,6,7,8,9,10,11,12,null,1,2,3,4,5,6,7,8,9,10,11,12,null,1,2,3,4,5,6,7,8,9,10,11,12,null,1,2,3,4,5,6,7,8,9,10,11,12,null,1,2,3,4,5,6,7,8,9,10,11,12,null,1,2,3,4,5,6,7,8,9,10,11,12,null,1,2,3,4,5,6,7,8,9,10,11,12,null,1,2,3,4,5,6,7,8,9,10,11,12,null,1,2,3,4,5,6,7,8,9,10,11,12,null,1,2,3,4,5,6,7,8,9,10,11,12,null,1,2,3,4,5,6,7,8,9,10,11,12,null,1,2,3,4,5,6,7,8,9,10,11,12,null,1,2,3,4,5,6,7,8,9,10,11,12,null,1,2,3,4,5,6,7,8,9,10,11,12,null,1,2,3,4,5,6,7,8,9,10,11,12,null,1,2,3,4,5,6,7,8,9,10,11,12,null,1,2,3,4,5,6,7,8,9,10,11,12,null,1,2,3,4,5,6,7,8,9,10,11,12,null,1,2,3,4,5,6,7,8,9,10,11,12,null,1,2,3,4,5,6,7,8,9,10,11,12,null,1,2,3,4,5,6,7,8,9,10,11,12,null,1,2,3,4,5,6,7,8,9,10,11,12,null,1,2,3,4,5,6,7,8,9,10,11,12,null,1,2,3,4,5,6,7,8,9,10,11,12,null,1,2,3,4,5,6,7,8,9,10,11,12,null,1,2,3,4,5,6,7,8,9,10,11,12,null,1,2,3,4,5,6,7,8,9,10,11,12]
[null,null,null,null,{"$f":"$D$15&E41","v":"20071"},{"$f":"$D$15&F41","v":"20072"},"20073","20074","20075","20076","20077","20078","20079","200710","200711","200712",null,{"$f":"$Q$15&R41","v":"20081"},{"$f":"$Q$15&S41","v":"20082"},"20083","20084","20085","20086","20087","20088","20089","200810","200811","200812",null,{"$f":"$AD$15&AE41","v":"20091"},{"$f":"$AD$15&AF41","v":"20092"},"20093","20094","20095","20096","20097","20098","20099","200910","200911","200912",null,{"$f":"$AQ$15&AR41","v":"20101"},{"$f":"$AQ$15&AS41","v":"20102"},"20103","20104","20105","20106","20107","20108","20109","201010","201011","201012",null,{"$f":"$BD$15&BE41","v":"20111"},{"$f":"$BD$15&BF41","v":"20112"},"20113","20114","20115","20116","20117","20118","20119","201110","201111","201112",null,{"$f":"$BQ$15&BR41","v":"20121"},{"$f":"$BQ$15&BS41","v":"20122"},"20123","20124","20125","20126","20127","20128","20129","201210","201211","201212",null,{"$f":"$CD$15&CE41","v":"20131"},{"$f":"$CD$15&CF41","v":"20132"},"20133","20134","20135","20136","20137","20138","20139","201310","201311","201312",null,{"$f":"$CQ$15&CR41","v":"20141"},{"$f":"$CQ$15&CS41","v":"20142"},"20143","20144","20145","20146","20147","20148","20149","201410","201411","201412",null,{"$f":"$DD$15&DE41","v":"20151"},{"$f":"$DD$15&DF41","v":"20152"},"20153","20154","20155","20156","20157","20158","20159","201510","201511","201512",null,{"$f":"$DQ$15&DR41","v":"20161"},{"$f":"$DQ$15&DS41","v":"20162"},"20163","20164","20165","20166","20167","20168","20169","201610","201611","201612",null,{"$f":"$ED$15&EE41","v":"20171"},{"$f":"$ED$15&EF41","v":"20172"},"20173","20174","20175","20176","20177","20178","20179","201710","201711","201712",null,{"$f":"$EQ$15&ER41","v":"20181"},{"$f":"$EQ$15&ES41","v":"20182"},"20183","20184","20185","20186","20187","20188","20189","201810","201811","201812",null,{"$f":"$FD$15&FE41","v":"20191"},{"$f":"$FD$15&FF41","v":"20192"},"20193","20194","20195","20196","20197","20198","20199","201910","201911","201912",null,{"$f":"$FQ$15&FR41","v":"20201"},{"$f":"$FQ$15&FS41","v":"20202"},"20203","20204","20205","20206","20207","20208","20209","202010","202011","202012",null,{"$f":"$GD$15&GE41","v":"20211"},{"$f":"$GD$15&GF41","v":"20212"},"20213","20214","20215","20216","20217","20218","20219","202110","202111","202112",null,{"$f":"$GQ$15&GR41","v":"20221"},{"$f":"$GQ$15&GS41","v":"20222"},"20223","20224","20225","20226","20227","20228","20229","202210","202211","202212",null,{"$f":"$HD$15&HE41","v":"20231"},{"$f":"$HD$15&HF41","v":"20232"},"20233","20234","20235","20236","20237","20238","20239","202310","202311","202312",null,{"$f":"$HQ$15&HR41","v":"20241"},{"$f":"$HQ$15&HS41","v":"20242"},"20243","20244","20245","20246","20247","20248","20249","202410","202411","202412",null,{"$f":"$ID$15&IE41","v":"20251"},{"$f":"$ID$15&IF41","v":"20252"},"20253","20254","20255","20256","20257","20258","20259","202510","202511","202512",null,{"$f":"$IQ$15&IR41","v":"20261"},{"$f":"$IQ$15&IS41","v":"20262"},"20263","20264","20265","20266","20267","20268","20269","202610","202611","202612",null,{"$f":"$JD$15&JE41","v":"20271"},{"$f":"$JD$15&JF41","v":"20272"},"20273","20274","20275","20276","20277","20278","20279","202710","202711","202712",null,{"$f":"$JQ$15&JR41","v":"20281"},{"$f":"$JQ$15&JS41","v":"20282"},"20283","20284","20285","20286","20287","20288","20289","202810","202811","202812",null,{"$f":"$KD$15&KE41","v":"20291"},{"$f":"$KD$15&KF41","v":"20292"},"20293","20294","20295","20296","20297","20298","20299","202910","202911","202912",null,{"$f":"$KQ$15&KR41","v":"20301"},{"$f":"$KQ$15&KS41","v":"20302"},"20303","20304","20305","20306","20307","20308","20309","203010","203011","203012",null,{"$f":"$LD$15&LE41","v":"20311"},{"$f":"$LD$15&LF41","v":"20312"},"20313","20314","20315","20316","20317","20318","20319","203110","203111","203112",null,{"$f":"$LQ$15&LR41","v":"20321"},{"$f":"$LQ$15&LS41","v":"20322"},"20323","20324","20325","20326","20327","20328","20329","203210","203211","203212",null,{"$f":"$MD$15&ME41","v":"20331"},{"$f":"$MD$15&MF41","v":"20332"},"20333","20334","20335","20336","20337","20338","20339","203310","203311","203312",null,{"$f":"$MQ$15&MR41","v":"20341"},{"$f":"$MQ$15&MS41","v":"20342"},"20343","20344","20345","20346","20347","20348","20349","203410","203411","203412",null,{"$f":"$ND$15&NE41","v":"20351"},{"$f":"$ND$15&NF41","v":"20352"},"20353","20354","20355","20356","20357","20358","20359","203510","203511","203512",null,{"$f":"$NQ$15&NR41","v":"20361"},{"$f":"$NQ$15&NS41","v":"20362"},"20363","20364","20365","20366","20367","20368","20369","203610","203611","203612",null,{"$f":"$OD$15&OE41","v":"20371"},{"$f":"$OD$15&OF41","v":"20372"},"20373","20374","20375","20376","20377","20378","20379","203710","203711","203712",null,{"$f":"$OQ$15&OR41","v":"20381"},{"$f":"$OQ$15&OS41","v":"20382"},"20383","20384","20385","20386","20387","20388","20389","203810","203811","203812",null,{"$f":"$PD$15&PE41","v":"20391"},{"$f":"$PD$15&PF41","v":"20392"},"20393","20394","20395","20396","20397","20398","20399","203910","203911","203912",null,{"$f":"$PQ$15&PR41","v":"20401"},{"$f":"$PQ$15&PS41","v":"20402"},"20403","20404","20405","20406","20407","20408","20409","204010","204011","204012"]
["Ieņēmumi kopā",null,null,{"$f":"IF(D46=\" \",\" \",SUM(E43:P43))","v":" "},{"$f":"IF(E46=\" \",\" \",(E44+E47)*(1-E48))","v":" "}," "," "," "," "," "," "," "," "," "," "," ",{"$f":"IF(Q46=\" \",\" \",SUM(R43:AC43))","v":" "},{"$f":"IF(R46=\" \",\" \",(R44+R47)*(1-R48))","v":" "}," "," "," "," "," "," "," "," "," "," "," ",{"$f":"IF(AD46=\" \",\" \",SUM(AE43:AP43))","v":" "},{"$f":"IF(AE46=\" \",\" \",(AE44+AE47)*(1-AE48))","v":" "}," "," "," "," "," "," "," "," "," "," "," ",{"$f":"IF(AQ46=\" \",\" \",SUM(AR43:BC43))","v":" "},{"$f":"IF(AR46=\" \",\" \",(AR44+AR47)*(1-AR48))","v":" "}," "," "," "," "," "," "," "," "," "," "," ",{"$f":"IF(BD46=\" \",\" \",SUM(BE43:BP43))","v":" "},{"$f":"IF(BE46=\" \",\" \",(BE44+BE47)*(1-BE48))","v":" "}," "," "," "," "," "," "," "," "," "," "," ",{"$f":"IF(BQ46=\" \",\" \",SUM(BR43:CC43))","v":" "},{"$f":"IF(BR46=\" \",\" \",(BR44+BR47)*(1-BR48))","v":" "}," "," "," "," "," "," "," "," "," "," "," ",{"$f":"IF(CD46=\" \",\" \",(CD44*(1-CD48)))","v":" "},{"$f":"IF(CE46=\" \",\" \",(CE44+CE47)*(1-CE48))","v":" "}," "," "," "," "," "," "," "," "," "," "," ",{"$f":"IF(CQ46=\" \",\" \",SUM(CR43:DC43))","v":" "},{"$f":"IF(CR46=\" \",\" \",(CR44+CR47)*(1-CR48))","v":" "}," "," "," "," "," "," "," "," "," "," "," ",{"$f":"IF(DD46=\" \",\" \",SUM(DE43:DP43))","v":" "},{"$f":"IF(DE46=\" \",\" \",(DE44+DE47)*(1-DE48))","v":" "}," "," "," "," "," "," "," "," "," "," "," ",{"$f":"IF(DQ46=\" \",\" \",SUM(DR43:EC43))","v":" "},{"$f":"IF(DR46=\" \",\" \",(DR44+DR47)*(1-DR48))","v":" "}," "," "," "," "," "," "," "," "," "," "," ",{"$f":"IF(ED46=\" \",\" \",SUM(EE43:EP43))","v":" "},{"$f":"IF(EE46=\" \",\" \",(EE44+EE47)*(1-EE48))","v":" "}," "," "," "," "," "," "," "," "," "," "," ",{"$f":"IF(EQ46=\" \",\" \",SUM(ER43:FC43))","v":" "},{"$f":"IF(ER46=\" \",\" \",(ER44+ER47)*(1-ER48))","v":" "}," "," "," "," "," "," "," "," "," "," "," ",{"$f":"IF(FD46=\" \",\" \",SUM(FE43:FP43))","v":" "},{"$f":"IF(FE46=\" \",\" \",(FE44+FE47)*(1-FE48))","v":" "}," "," "," "," "," "," "," "," "," "," "," ",{"$f":"IF(FQ46=\" \",\" \",SUM(FR43:GC43))","v":" "},{"$f":"IF(FR46=\" \",\" \",(FR44+FR47)*(1-FR48))","v":" "}," "," "," "," "," "," "," "," "," "," "," ",{"$f":"IF(GD46=\" \",\" \",SUM(GE43:GP43))","v":" "},{"$f":"IF(GE46=\" \",\" \",(GE44+GE47)*(1-GE48))","v":" "}," "," "," "," "," "," "," "," "," "," "," ",{"$f":"IF(GQ46=\" \",\" \",SUM(GR43:HC43))","v":" "},{"$f":"IF(GR46=\" \",\" \",(GR44+GR47)*(1-GR48))","v":" "}," "," "," "," "," "," "," "," "," "," "," ",{"$f":"IF(HD46=\" \",\" \",SUM(HE43:HP43))","v":" "},{"$f":"IF(HE46=\" \",\" \",(HE44+HE47)*(1-HE48))","v":" "}," "," "," "," "," "," "," "," "," "," "," ",{"$f":"IF(HQ46=\" \",\" \",SUM(HR43:IC43))","v":" "},{"$f":"IF(HR46=\" \",\" \",(HR44+HR47)*(1-HR48))","v":" "}," "," "," "," "," "," "," "," "," "," "," ",{"$f":"IF(ID46=\" \",\" \",SUM(IE43:IP43))","v":" "},{"$f":"IF(IE46=\" \",\" \",(IE44+IE47)*(1-IE48))","v":" "}," "," "," "," "," "," "," "," "," "," "," ",{"$f":"IF(IQ46=\" \",\" \",SUM(IR43:JC43))","v":" "},{"$f":"IF(IR46=\" \",\" \",(IR44+IR47)*(1-IR48))","v":" "}," "," "," "," "," "," "," "," "," "," "," ",{"$f":"IF(JD46=\" \",\" \",SUM(JE43:JP43))","v":" "},{"$f":"IF(JE46=\" \",\" \",(JE44+JE47)*(1-JE48))","v":" "}," "," "," "," "," "," "," "," "," "," "," ",{"$f":"IF(JQ46=\" \",\" \",(JQ44*(1-JQ48)))","v":" "},{"$f":"IF(JR46=\" \",\" \",(JR44+JR47)*(1-JR48))","v":" "}," "," "," "," "," "," "," "," "," "," "," ",{"$f":"IF(KD46=\" \",\" \",(KD44*(1-KD48)))","v":" "},{"$f":"IF(KE46=\" \",\" \",(KE44+KE47)*(1-KE48))","v":" "}," "," "," "," "," "," "," "," "," "," "," ",{"$f":"IF(KQ46=\" \",\" \",(KQ44*(1-KQ48)))","v":" "},{"$f":"IF(KR46=\" \",\" \",(KR44+KR47)*(1-KR48))","v":" "}," "," "," "," "," "," "," "," "," "," "," ",{"$f":"IF(LD46=\" \",\" \",(LD44*(1-LD48)))","v":" "},{"$f":"IF(LE46=\" \",\" \",(LE44+LE47)*(1-LE48))","v":" "}," "," "," "," "," "," "," "," "," "," "," ",{"$f":"IF(LQ46=\" \",\" \",(LQ44*(1-LQ48)))","v":" "},{"$f":"IF(LR46=\" \",\" \",(LR44+LR47)*(1-LR48))","v":" "}," "," "," "," "," "," "," "," "," "," "," ",{"$f":"IF(MD46=\" \",\" \",(MD44*(1-MD48)))","v":" "},{"$f":"IF(ME46=\" \",\" \",(ME44+ME47)*(1-ME48))","v":" "}," "," "," "," "," "," "," "," "," "," "," ",{"$f":"IF(MQ46=\" \",\" \",(MQ44*(1-MQ48)))","v":" "},{"$f":"IF(MR46=\" \",\" \",(MR44+MR47)*(1-MR48))","v":" "}," "," "," "," "," "," "," "," "," "," "," ",{"$f":"IF(ND46=\" \",\" \",(ND44*(1-ND48)))","v":" "},{"$f":"IF(NE46=\" \",\" \",(NE44+NE47)*(1-NE48))","v":" "}," "," "," "," "," "," "," "," "," "," "," ",{"$f":"IF(NQ46=\" \",\" \",(NQ44*(1-NQ48)))","v":" "},{"$f":"IF(NR46=\" \",\" \",(NR44+NR47)*(1-NR48))","v":" "}," "," "," "," "," "," "," "," "," "," "," ",{"$f":"IF(OD46=\" \",\" \",(OD44*(1-OD48)))","v":" "},{"$f":"IF(OE46=\" \",\" \",(OE44+OE47)*(1-OE48))","v":" "}," "," "," "," "," "," "," "," "," "," "," ",{"$f":"IF(OQ46=\" \",\" \",(OQ44*(1-OQ48)))","v":" "},{"$f":"IF(OR46=\" \",\" \",(OR44+OR47)*(1-OR48))","v":" "}," "," "," "," "," "," "," "," "," "," "," ",{"$f":"IF(PD46=\" \",\" \",(PD44*(1-PD48)))","v":" "},{"$f":"IF(PE46=\" \",\" \",(PE44+PE47)*(1-PE48))","v":" "}," "," "," "," "," "," "," "," "," "," "," ",{"$f":"IF(PQ46=\" \",\" \",(PQ44*(1-PQ48)))","v":" "},{"$f":"IF(PR46=\" \",\" \",(PR44+PR47)*(1-PR48))","v":" "}," "," "," "," "," "," "," "," "," "," "," "]
["Ieņēmumi no elektroenerģijas pārdošanas OI ietvaros","EUR"," ",{"$f":"IF(OR(D$16=\" \",D$16=0),\" \",SUM(E44:P44))","v":" "},{"$f":"IF(OR(E46=\" \",E46=0),\" \",E45*ROUND(E46,2))","v":" "},{"$f":"IF(OR(F46=\" \",F46=0),\" \",F45*ROUND(F46,2))","v":" "}," "," "," "," "," "," "," "," "," "," ",{"$f":"IF(OR(Q$16=\" \",Q$16=0),\" \",SUM(R44:AC44))","v":" "},{"$f":"IF(OR(R46=\" \",R46=0),\" \",R45*ROUND(R46,2))","v":" "}," "," "," "," "," "," "," "," "," "," "," ",{"$f":"IF(OR(AD$16=\" \",AD$16=0),\" \",SUM(AE44:AP44))","v":" "},{"$f":"IF(OR(AE46=\" \",AE46=0),\" \",AE45*ROUND(AE46,2))","v":" "}," "," "," "," "," "," "," "," "," "," "," ",{"$f":"IF(OR(AQ$16=\" \",AQ$16=0),\" \",SUM(AR44:BC44))","v":" "},{"$f":"IF(OR(AR46=\" \",AR46=0),\" \",AR45*ROUND(AR46,2))","v":" "}," "," "," "," "," "," "," "," "," "," "," ",{"$f":"IF(OR(BD$16=\" \",BD$16=0),\" \",SUM(BE44:BP44))","v":" "},{"$f":"IF(OR(BE46=\" \",BE46=0),\" \",BE45*ROUND(BE46,2))","v":" "}," "," "," "," "," "," "," "," "," "," "," ",{"$f":"IF(OR(BQ$16=\" \",BQ$16=0),\" \",SUM(BR44:CC44))","v":" "},{"$f":"IF(OR(BR46=\" \",BR46=0),\" \",BR45*ROUND(BR46,2))","v":" "}," "," "," "," "," "," "," "," "," "," "," ",{"$f":"IF(OR(CD$16=\" \",CD$16=0),\" \",SUM(CE44:CP44))","v":" "},{"$f":"IF(OR(CE46=\" \",CE46=0),\" \",CE45*ROUND(CE46,2))","v":" "}," "," "," "," "," "," "," "," "," "," "," ",{"$f":"IF(OR(CQ$16=\" \",CQ$16=0),\" \",SUM(CR44:DC44))","v":" "},{"$f":"IF(OR(CR46=\" \",CR46=0),\" \",CR45*ROUND(CR46,2))","v":" "}," "," "," "," "," "," "," "," "," "," "," ",{"$f":"IF(OR(DD$16=\" \",DD$16=0),\" \",SUM(DE44:DP44))","v":" "},{"$f":"IF(OR(DE46=\" \",DE46=0),\" \",DE45*ROUND(DE46,2))","v":" "}," "," "," "," "," "," "," "," "," "," "," ",{"$f":"IF(OR(DQ$16=\" \",DQ$16=0),\" \",SUM(DR44:EC44))","v":" "},{"$f":"IF(OR(DR46=\" \",DR46=0),\" \",DR45*ROUND(DR46,2))","v":" "}," "," "," "," "," "," "," "," "," "," "," ",{"$f":"IF(OR(ED$16=\" \",ED$16=0),\" \",SUM(EE44:EP44))","v":" "},{"$f":"IF(OR(EE46=\" \",EE46=0),\" \",EE45*ROUND(EE46,2))","v":" "}," "," "," "," "," "," "," "," "," "," "," ",{"$f":"IF(OR(EQ$16=\" \",EQ$16=0),\" \",SUM(ER44:FC44))","v":" "},{"$f":"IF(OR(ER46=\" \",ER46=0),\" \",ER45*ROUND(ER46,2))","v":" "}," "," "," "," "," "," "," "," "," "," "," ",{"$f":"IF(OR(FD$16=\" \",FD$16=0),\" \",SUM(FE44:FP44))","v":" "},{"$f":"IF(OR(FE46=\" \",FE46=0),\" \",FE45*ROUND(FE46,2))","v":" "}," "," "," "," "," "," "," "," "," "," "," ",{"$f":"IF(OR(FQ$16=\" \",FQ$16=0),\" \",SUM(FR44:GC44))","v":" "},{"$f":"IF(OR(FR46=\" \",FR46=0),\" \",FR45*ROUND(FR46,2))","v":" "}," "," "," "," "," "," "," "," "," "," "," ",{"$f":"IF(OR(GD$16=\" \",GD$16=0),\" \",SUM(GE44:GP44))","v":" "},{"$f":"IF(OR(GE46=\" \",GE46=0),\" \",GE45*ROUND(GE46,2))","v":" "}," "," "," "," "," "," "," "," "," "," "," ",{"$f":"IF(OR(GQ$16=\" \",GQ$16=0),\" \",SUM(GR44:HC44))","v":" "},{"$f":"IF(OR(GR46=\" \",GR46=0),\" \",GR45*ROUND(GR46,2))","v":" "}," "," "," "," "," "," "," "," "," "," "," ",{"$f":"IF(OR(HD$16=\" \",HD$16=0),\" \",SUM(HE44:HP44))","v":" "},{"$f":"IF(OR(HE46=\" \",HE46=0),\" \",HE45*ROUND(HE46,2))","v":" "}," "," "," "," "," "," "," "," "," "," "," ",{"$f":"IF(OR(HQ$16=\" \",HQ$16=0),\" \",SUM(HR44:IC44))","v":" "},{"$f":"IF(OR(HR46=\" \",HR46=0),\" \",HR45*ROUND(HR46,2))","v":" "}," "," "," "," "," "," "," "," "," "," "," ",{"$f":"IF(OR(ID$16=\" \",ID$16=0),\" \",SUM(IE44:IP44))","v":" "},{"$f":"IF(OR(IE46=\" \",IE46=0),\" \",IE45*ROUND(IE46,2))","v":" "}," "," "," "," "," "," "," "," "," "," "," ",{"$f":"IF(OR(IQ$16=\" \",IQ$16=0),\" \",SUM(IR44:JC44))","v":" "},{"$f":"IF(OR(IR46=\" \",IR46=0),\" \",IR45*ROUND(IR46,2))","v":" "}," "," "," "," "," "," "," "," "," "," "," ",{"$f":"IF(OR(JD$16=\" \",JD$16=0),\" \",SUM(JE44:JP44))","v":" "},{"$f":"IF(OR(JE46=\" \",JE46=0),\" \",JE45*ROUND(JE46,2))","v":" "}," "," "," "," "," "," "," "," "," "," "," ",{"$f":"IF(OR(JQ$16=\" \",JQ$16=0),\" \",SUM(JR44:KC44))","v":" "},{"$f":"IF(OR(JR46=\" \",JR46=0),\" \",JR45*ROUND(JR46,2))","v":" "}," "," "," "," "," "," "," "," "," "," "," ",{"$f":"IF(OR(KD$16=\" \",KD$16=0),\" \",SUM(KE44:KP44))","v":" "},{"$f":"IF(OR(KE46=\" \",KE46=0),\" \",KE45*ROUND(KE46,2))","v":" "}," "," "," "," "," "," "," "," "," "," "," ",{"$f":"IF(OR(KQ$16=\" \",KQ$16=0),\" \",SUM(KR44:LC44))","v":" "},{"$f":"IF(OR(KR46=\" \",KR46=0),\" \",KR45*ROUND(KR46,2))","v":" "}," "," "," "," "," "," "," "," "," "," "," ",{"$f":"IF(OR(LD$16=\" \",LD$16=0),\" \",SUM(LE44:LP44))","v":" "},{"$f":"IF(OR(LE46=\" \",LE46=0),\" \",LE45*ROUND(LE46,2))","v":" "}," "," "," "," "," "," "," "," "," "," "," ",{"$f":"IF(OR(LQ$16=\" \",LQ$16=0),\" \",SUM(LR44:MC44))","v":" "},{"$f":"IF(OR(LR46=\" \",LR46=0),\" \",LR45*ROUND(LR46,2))","v":" "}," "," "," "," "," "," "," "," "," "," "," ",{"$f":"IF(OR(MD$16=\" \",MD$16=0),\" \",SUM(ME44:MP44))","v":" "},{"$f":"IF(OR(ME46=\" \",ME46=0),\" \",ME45*ROUND(ME46,2))","v":" "}," "," "," "," "," "," "," "," "," "," "," ",{"$f":"IF(OR(MQ$16=\" \",MQ$16=0),\" \",SUM(MR44:NC44))","v":" "},{"$f":"IF(OR(MR46=\" \",MR46=0),\" \",MR45*ROUND(MR46,2))","v":" "}," "," "," "," "," "," "," "," "," "," "," ",{"$f":"IF(OR(ND$16=\" \",ND$16=0),\" \",SUM(NE44:NP44))","v":" "},{"$f":"IF(OR(NE46=\" \",NE46=0),\" \",NE45*ROUND(NE46,2))","v":" "}," "," "," "," "," "," "," "," "," "," "," ",{"$f":"IF(OR(NQ$16=\" \",NQ$16=0),\" \",SUM(NR44:OC44))","v":" "},{"$f":"IF(OR(NR46=\" \",NR46=0),\" \",NR45*ROUND(NR46,2))","v":" "}," "," "," "," "," "," "," "," "," "," "," ",{"$f":"IF(OR(OD$16=\" \",OD$16=0),\" \",SUM(OE44:OP44))","v":" "},{"$f":"IF(OR(OE46=\" \",OE46=0),\" \",OE45*ROUND(OE46,2))","v":" "}," "," "," "," "," "," "," "," "," "," "," ",{"$f":"IF(OR(OQ$16=\" \",OQ$16=0),\" \",SUM(OR44:PC44))","v":" "},{"$f":"IF(OR(OR46=\" \",OR46=0),\" \",OR45*ROUND(OR46,2))","v":" "}," "," "," "," "," "," "," "," "," "," "," ",{"$f":"IF(OR(PD$16=\" \",PD$16=0),\" \",SUM(PE44:PP44))","v":" "},{"$f":"IF(OR(PE46=\" \",PE46=0),\" \",PE45*ROUND(PE46,2))","v":" "}," "," "," "," "," "," "," "," "," "," "," ",{"$f":"IF(OR(PQ$16=\" \",PQ$16=0),\" \",SUM(PR44:QC44))","v":" "},{"$f":"IF(OR(PR46=\" \",PR46=0),\" \",PR45*ROUND(PR46,2))","v":" "}," "," "," "," "," "," "," "," "," "," "," "]
["Pārdotais elektroenerģijas apjoms","MWh"," ",{"$f":"IF(OR(D$16=\" \",D$16=0),\" \",SUM(E45:P45))","v":" "},{"$f":"IF(OR(E46=\" \",E46=0),\" \",$BD$6*$C$7/12)","v":" "},{"$f":"IF(OR(F46=\" \",F46=0),\" \",$BD$6*$C$7/12)","v":" "}," "," "," "," "," "," "," "," "," "," ",{"$f":"IF(OR(Q$16=\" \",Q$16=0),\" \",SUM(R45:AC45))","v":" "},{"$f":"IF(OR(R46=\" \",R46=0),\" \",$BD$6*$C$7/12)","v":" "}," "," "," "," "," "," "," "," "," "," "," ",{"$f":"IF(OR(AD$16=\" \",AD$16=0),\" \",SUM(AE45:AP45))","v":" "},{"$f":"IF(OR(AE46=\" \",AE46=0),\" \",$BD$6*$C$7/12)","v":" "}," "," "," "," "," "," "," "," "," "," "," ",{"$f":"IF(OR(AQ$16=\" \",AQ$16=0),\" \",SUM(AR45:BC45))","v":" "},{"$f":"IF(OR(AR46=\" \",AR46=0),\" \",$BD$6*$C$7/12)","v":" "}," "," "," "," "," "," "," "," "," "," "," ",{"$f":"IF(OR(BD$16=\" \",BD$16=0),\" \",SUM(BE45:BP45))","v":" "},{"$f":"IF(OR(BE46=\" \",BE46=0),\" \",$BD$6*$C$7/12)","v":" "}," "," "," "," "," "," "," "," "," "," "," ",{"$f":"IF(OR(BQ$16=\" \",BQ$16=0),\" \",SUM(BR45:CC45))","v":" "},{"$f":"IF(OR(BR46=\" \",BR46=0),\" \",$BD$6*$C$7/12)","v":" "}," "," "," "," "," "," "," "," "," "," "," ",{"$f":"IF(OR(CD$16=\" \",CD$16=0),\" \",SUM(CE45:CP45))","v":" "},{"$f":"IF(OR(CE46=\" \",CE46=0),\" \",$BD$6*$C$7/12)","v":" "}," "," "," "," "," "," "," "," "," "," "," ",{"$f":"IF(OR(CQ$16=\" \",CQ$16=0),\" \",SUM(CR45:DC45))","v":" "},{"$f":"IF(OR(CR46=\" \",CR46=0),\" \",$BD$6*$C$7/12)","v":" "}," "," "," "," "," "," "," "," "," "," "," ",{"$f":"IF(OR(DD$16=\" \",DD$16=0),\" \",SUM(DE45:DP45))","v":" "},{"$f":"IF(OR(DE46=\" \",DE46=0),\" \",$BD$6*$C$7/12)","v":" "},{"$f":"IF(OR(DF46=\" \",DF46=0),\" \",$BD$6*$C$7/12)","v":" "}," "," "," "," "," "," "," "," "," "," ",{"$f":"IF(OR(DQ$16=\" \",DQ$16=0),\" \",SUM(DR45:EC45))","v":" "},{"$f":"IF(OR(DR46=\" \",DR46=0),\" \",$BD$6*$C$7/12)","v":" "},{"$f":"IF(OR(DS46=\" \",DS46=0),\" \",$BD$6*$C$7/12)","v":" "}," "," "," "," "," "," "," "," "," "," ",{"$f":"IF(OR(ED$16=\" \",ED$16=0),\" \",SUM(EE45:EP45))","v":" "},{"$f":"IF(OR(EE46=\" \",EE46=0),\" \",$BD$6*$C$7/12)","v":" "},{"$f":"IF(OR(EF46=\" \",EF46=0),\" \",$BD$6*$C$7/12)","v":" "}," "," "," "," "," "," "," "," "," "," ",{"$f":"IF(OR(EQ$16=\" \",EQ$16=0),\" \",SUM(ER45:FC45))","v":" "},{"$f":"IF(OR(ER46=\" \",ER46=0),\" \",$BD$6*$C$7/12)","v":" "},{"$f":"IF(OR(ES46=\" \",ES46=0),\" \",$BD$6*$C$7/12)","v":" "}," "," "," "," "," "," "," "," "," "," ",{"$f":"IF(OR(FD$16=\" \",FD$16=0),\" \",SUM(FE45:FP45))","v":" "},{"$f":"IF(OR(FE46=\" \",FE46=0),\" \",$BD$6*$C$7/12)","v":" "},{"$f":"IF(OR(FF46=\" \",FF46=0),\" \",$BD$6*$C$7/12)","v":" "}," "," "," "," "," "," "," "," "," "," ",{"$f":"IF(OR(FQ$16=\" \",FQ$16=0),\" \",SUM(FR45:GC45))","v":" "},{"$f":"IF(OR(FR46=\" \",FR46=0),\" \",$BD$6*$C$7/12)","v":" "},{"$f":"IF(OR(FS46=\" \",FS46=0),\" \",$BD$6*$C$7/12)","v":" "}," "," "," "," "," "," "," "," "," "," ",{"$f":"IF(OR(GD$16=\" \",GD$16=0),\" \",SUM(GE45:GP45))","v":" "},{"$f":"IF(OR(GE46=\" \",GE46=0),\" \",$BD$6*$C$7/12)","v":" "},{"$f":"IF(OR(GF46=\" \",GF46=0),\" \",$BD$6*$C$7/12)","v":" "}," "," "," "," "," "," "," "," "," "," ",{"$f":"IF(OR(GQ$16=\" \",GQ$16=0),\" \",SUM(GR45:HC45))","v":" "},{"$f":"IF(OR(GR46=\" \",GR46=0),\" \",$BD$6*$C$7/12)","v":" "},{"$f":"IF(OR(GS46=\" \",GS46=0),\" \",$BD$6*$C$7/12)","v":" "}," "," "," "," "," "," "," "," "," "," ",{"$f":"IF(OR(HD$16=\" \",HD$16=0),\" \",SUM(HE45:HP45))","v":" "},{"$f":"IF(OR(HE46=\" \",HE46=0),\" \",$BD$6*$C$7/12)","v":" "},{"$f":"IF(OR(HF46=\" \",HF46=0),\" \",$BD$6*$C$7/12)","v":" "}," "," "," "," "," "," "," "," "," "," ",{"$f":"IF(OR(HQ$16=\" \",HQ$16=0),\" \",SUM(HR45:IC45))","v":" "},{"$f":"IF(OR(HR46=\" \",HR46=0),\" \",$BD$6*$C$7/12)","v":" "},{"$f":"IF(OR(HS46=\" \",HS46=0),\" \",$BD$6*$C$7/12)","v":" "}," "," "," "," "," "," "," "," "," "," ",{"$f":"IF(OR(ID$16=\" \",ID$16=0),\" \",SUM(IE45:IP45))","v":" "},{"$f":"IF(OR(IE46=\" \",IE46=0),\" \",$BD$6*$C$7/12)","v":" "},{"$f":"IF(OR(IF46=\" \",IF46=0),\" \",$BD$6*$C$7/12)","v":" "}," "," "," "," "," "," "," "," "," "," ",{"$f":"IF(OR(IQ$16=\" \",IQ$16=0),\" \",SUM(IR45:JC45))","v":" "},{"$f":"IF(OR(IR46=\" \",IR46=0),\" \",$BD$6*$C$7/12)","v":" "},{"$f":"IF(OR(IS46=\" \",IS46=0),\" \",$BD$6*$C$7/12)","v":" "}," "," "," "," "," "," "," "," "," "," ",{"$f":"IF(OR(JD$16=\" \",JD$16=0),\" \",SUM(JE45:JP45))","v":" "},{"$f":"IF(OR(JE46=\" \",JE46=0),\" \",$BD$6*$C$7/12)","v":" "},{"$f":"IF(OR(JF46=\" \",JF46=0),\" \",$BD$6*$C$7/12)","v":" "}," "," "," "," "," "," "," "," "," "," ",{"$f":"IF(OR(JQ$16=\" \",JQ$16=0),\" \",SUM(JR45:KC45))","v":" "},{"$f":"IF(OR(JR46=\" \",JR46=0),\" \",$BD$6*$C$7/12)","v":" "},{"$f":"IF(OR(JS46=\" \",JS46=0),\" \",$BD$6*$C$7/12)","v":" "}," "," "," "," "," "," "," "," "," "," ",{"$f":"IF(OR(KD$16=\" \",KD$16=0),\" \",SUM(KE45:KP45))","v":" "},{"$f":"IF(OR(KE46=\" \",KE46=0),\" \",$BD$6*$C$7/12)","v":" "},{"$f":"IF(OR(KF46=\" \",KF46=0),\" \",$BD$6*$C$7/12)","v":" "}," "," "," "," "," "," "," "," "," "," ",{"$f":"IF(OR(KQ$16=\" \",KQ$16=0),\" \",SUM(KR45:LC45))","v":" "},{"$f":"IF(OR(KR46=\" \",KR46=0),\" \",$BD$6*$C$7/12)","v":" "},{"$f":"IF(OR(KS46=\" \",KS46=0),\" \",$BD$6*$C$7/12)","v":" "}," "," "," "," "," "," "," "," "," "," ",{"$f":"IF(OR(LD$16=\" \",LD$16=0),\" \",SUM(LE45:LP45))","v":" "},{"$f":"IF(OR(LE46=\" \",LE46=0),\" \",$BD$6*$C$7/12)","v":" "},{"$f":"IF(OR(LF46=\" \",LF46=0),\" \",$BD$6*$C$7/12)","v":" "}," "," "," "," "," "," "," "," "," "," ",{"$f":"IF(OR(LQ$16=\" \",LQ$16=0),\" \",SUM(LR45:MC45))","v":" "},{"$f":"IF(OR(LR46=\" \",LR46=0),\" \",$BD$6*$C$7/12)","v":" "},{"$f":"IF(OR(LS46=\" \",LS46=0),\" \",$BD$6*$C$7/12)","v":" "}," "," "," "," "," "," "," "," "," "," ",{"$f":"IF(OR(MD$16=\" \",MD$16=0),\" \",SUM(ME45:MP45))","v":" "},{"$f":"IF(OR(ME46=\" \",ME46=0),\" \",$BD$6*$C$7/12)","v":" "},{"$f":"IF(OR(MF46=\" \",MF46=0),\" \",$BD$6*$C$7/12)","v":" "}," "," "," "," "," "," "," "," "," "," ",{"$f":"IF(OR(MQ$16=\" \",MQ$16=0),\" \",SUM(MR45:NC45))","v":" "},{"$f":"IF(OR(MR46=\" \",MR46=0),\" \",$BD$6*$C$7/12)","v":" "},{"$f":"IF(OR(MS46=\" \",MS46=0),\" \",$BD$6*$C$7/12)","v":" "}," "," "," "," "," "," "," "," "," "," ",{"$f":"IF(OR(ND$16=\" \",ND$16=0),\" \",SUM(NE45:NP45))","v":" "},{"$f":"IF(OR(NE46=\" \",NE46=0),\" \",$BD$6*$C$7/12)","v":" "},{"$f":"IF(OR(NF46=\" \",NF46=0),\" \",$BD$6*$C$7/12)","v":" "}," "," "," "," "," "," "," "," "," "," ",{"$f":"IF(OR(NQ$16=\" \",NQ$16=0),\" \",SUM(NR45:OC45))","v":" "},{"$f":"IF(OR(NR46=\" \",NR46=0),\" \",$BD$6*$C$7/12)","v":" "},{"$f":"IF(OR(NS46=\" \",NS46=0),\" \",$BD$6*$C$7/12)","v":" "}," "," "," "," "," "," "," "," "," "," ",{"$f":"IF(OR(OD$16=\" \",OD$16=0),\" \",SUM(OE45:OP45))","v":" "},{"$f":"IF(OR(OE46=\" \",OE46=0),\" \",$BD$6*$C$7/12)","v":" "},{"$f":"IF(OR(OF46=\" \",OF46=0),\" \",$BD$6*$C$7/12)","v":" "}," "," "," "," "," "," "," "," "," "," ",{"$f":"IF(OR(OQ$16=\" \",OQ$16=0),\" \",SUM(OR45:PC45))","v":" "},{"$f":"IF(OR(OR46=\" \",OR46=0),\" \",$BD$6*$C$7/12)","v":" "},{"$f":"IF(OR(OS46=\" \",OS46=0),\" \",$BD$6*$C$7/12)","v":" "}," "," "," "," "," "," "," "," "," "," ",{"$f":"IF(OR(PD$16=\" \",PD$16=0),\" \",SUM(PE45:PP45))","v":" "},{"$f":"IF(OR(PE46=\" \",PE46=0),\" \",$BD$6*$C$7/12)","v":" "},{"$f":"IF(OR(PF46=\" \",PF46=0),\" \",$BD$6*$C$7/12)","v":" "}," "," "," "," "," "," "," "," "," "," ",{"$f":"IF(OR(PQ$16=\" \",PQ$16=0),\" \",SUM(PR45:QC45))","v":" "},{"$f":"IF(OR(PR46=\" \",PR46=0),\" \",$BD$6*$C$7/12)","v":" "},{"$f":"IF(OR(PS46=\" \",PS46=0),\" \",$BD$6*$C$7/12)","v":" "}," "," "," "," "," "," "," "," "," "," "]
["Elektroenerģijas cena","EUR/MWh"," ",{"$f":"IF(OR(D$16=\" \",D$16=0,D45=0),\" \",SUMPRODUCT(E45:P45,E46:P46)/D45)","v":" "},{"$f":"IF(E22=\" \",\" \",IF($D$39=$B$34,IF(E41>=$C$34,$B$33*E22,E22),IF($D$39>$B$34,$B$33*E22,E22)))","v":" "},{"$f":"IF(F22=\" \",\" \",IF($D$39=$B$34,IF(F41>=$C$34,$B$33*F22,F22),IF($D$39>$B$34,$B$33*F22,F22)))","v":" "}," "," "," "," "," "," "," "," "," "," ",{"$f":"IF(OR(Q$16=\" \",Q$16=0,Q45=0),\" \",SUMPRODUCT(R45:AC45,R46:AC46)/Q45)","v":" "},{"$f":"IF(R22=\" \",\" \",IF($Q$39=$B$34,IF(R41>=$C$34,$B$33*R22,R22),IF($Q$39>$B$34,$B$33*R22,R22)))","v":" "},{"$f":"IF(S22=\" \",\" \",IF($Q$39=$B$34,IF(S41>=$C$34,$B$33*S22,S22),IF($Q$39>$B$34,$B$33*S22,S22)))","v":" "}," "," "," "," "," "," "," "," "," "," ",{"$f":"IF(OR(AD$16=\" \",AD$16=0,AD45=0),\" \",SUMPRODUCT(AE45:AP45,AE46:AP46)/AD45)","v":" "},{"$f":"IF(AE22=\" \",\" \",IF($AD$39=$B$34,IF(AE41>=$C$34,$B$33*AE22,AE22),IF($AD$39>$B$34,$B$33*AE22,AE22)))","v":" "},{"$f":"IF(AF22=\" \",\" \",IF($AD$39=$B$34,IF(AF41>=$C$34,$B$33*AF22,AF22),IF($AD$39>$B$34,$B$33*AF22,AF22)))","v":" "}," "," "," "," "," "," "," "," "," "," ",{"$f":"IF(OR(AQ$16=\" \",AQ$16=0,AQ45=0),\" \",SUMPRODUCT(AR45:BC45,AR46:BC46)/AQ45)","v":" "},{"$f":"IF(AR22=\" \",\" \",IF($AQ$39=$B$34,IF(AR41>=$C$34,$B$33*AR22,AR22),IF($AQ$39>$B$34,$B$33*AR22,AR22)))","v":" "},{"$f":"IF(AS22=\" \",\" \",IF($AQ$39=$B$34,IF(AS41>=$C$34,$B$33*AS22,AS22),IF($AQ$39>$B$34,$B$33*AS22,AS22)))","v":" "}," "," "," "," "," "," "," "," "," "," ",{"$f":"IF(OR(BD$16=\" \",BD$16=0,BD45=0),\" \",SUMPRODUCT(BE45:BP45,BE46:BP46)/BD45)","v":" "},{"$f":"IF(BE22=\" \",\" \",IF($BD$39=$B$34,IF(BE41>=$C$34,$B$33*BE22,BE22),IF($BD$39>$B$34,$B$33*BE22,BE22)))","v":" "},{"$f":"IF(BF22=\" \",\" \",IF($BD$39=$B$34,IF(BF41>=$C$34,$B$33*BF22,BF22),IF($BD$39>$B$34,$B$33*BF22,BF22)))","v":" "}," "," "," "," "," "," "," "," "," "," ",{"$f":"IF(OR(BQ$16=\" \",BQ$16=0,BQ45=0),\" \",SUMPRODUCT(BR45:CC45,BR46:CC46)/BQ45)","v":" "},{"$f":"IF(BR22=\" \",\" \",IF($BQ$39=$B$34,IF(BR41>=$C$34,$B$33*BR22,BR22),IF($BQ$39>$B$34,$B$33*BR22,BR22)))","v":" "},{"$f":"IF(BS22=\" \",\" \",IF($BQ$39=$B$34,IF(BS41>=$C$34,$B$33*BS22,BS22),IF($BQ$39>$B$34,$B$33*BS22,BS22)))","v":" "}," "," "," "," "," "," "," "," "," "," ",{"$f":"IF(OR(CD$16=\" \",CD$16=0,CD45=0),\" \",SUMPRODUCT(CE45:CP45,CE46:CP46)/CD45)","v":" "},{"$f":"IF(CE22=\" \",\" \",IF($CD$39=$B$34,IF(CE41>=$C$34,$B$33*CE22,CE22),IF($CD$39>$B$34,$B$33*CE22,CE22)))","v":" "},{"$f":"IF(CF22=\" \",\" \",IF($CD$39=$B$34,IF(CF41>=$C$34,$B$33*CF22,CF22),IF($CD$39>$B$34,$B$33*CF22,CF22)))","v":" "}," "," "," "," "," "," "," "," "," "," ",{"$f":"IF(OR(CQ$16=\" \",CQ$16=0,CQ45=0),\" \",SUMPRODUCT(CR45:DC45,CR46:DC46)/CQ45)","v":" "},{"$f":"IF(CR22=\" \",\" \",IF($CQ$39=$B$34,IF(CR41>=$C$34,$B$33*CR22,CR22),IF($CQ$39>$B$34,$B$33*CR22,CR22)))","v":" "},{"$f":"IF(CS22=\" \",\" \",IF($CQ$39=$B$34,IF(CS41>=$C$34,$B$33*CS22,CS22),IF($CQ$39>$B$34,$B$33*CS22,CS22)))","v":" "}," "," "," "," "," "," "," "," "," "," ",{"$f":"IF(OR(DD$16=\" \",DD$16=0,DD45=0),\" \",SUMPRODUCT(DE45:DP45,DE46:DP46)/DD45)","v":" "},{"$f":"IF(DE22=\" \",\" \",IF($DD$39=$B$34,IF(DE41>=$C$34,$B$33*DE22,DE22),IF($DD$39>$B$34,$B$33*DE22,DE22)))","v":" "},{"$f":"IF(DF22=\" \",\" \",IF($DD$39=$B$34,IF(DF41>=$C$34,$B$33*DF22,DF22),IF($DD$39>$B$34,$B$33*DF22,DF22)))","v":" "}," "," "," "," "," "," "," "," "," "," ",{"$f":"IF(OR(DQ$16=\" \",DQ$16=0,DQ45=0),\" \",SUMPRODUCT(DR45:EC45,DR46:EC46)/DQ45)","v":" "},{"$f":"IF(DR22=\" \",\" \",IF($DQ$39=$B$34,IF(DR41>=$C$34,$B$33*DR22,DR22),IF($DQ$39>$B$34,$B$33*DR22,DR22)))","v":" "},{"$f":"IF(DS22=\" \",\" \",IF($DQ$39=$B$34,IF(DS41>=$C$34,$B$33*DS22,DS22),IF($DQ$39>$B$34,$B$33*DS22,DS22)))","v":" "}," "," "," "," "," "," "," "," "," "," ",{"$f":"IF(OR(ED$16=\" \",ED$16=0,ED45=0),\" \",SUMPRODUCT(EE45:EP45,EE46:EP46)/ED45)","v":" "},{"$f":"IF(EE22=\" \",\" \",IF($ED$39=$B$34,IF(EE41>=$C$34,$B$33*EE22,EE22),IF($ED$39>$B$34,$B$33*EE22,EE22)))","v":" "},{"$f":"IF(EF22=\" \",\" \",IF($ED$39=$B$34,IF(EF41>=$C$34,$B$33*EF22,EF22),IF($ED$39>$B$34,$B$33*EF22,EF22)))","v":" "}," "," "," "," "," "," "," "," "," "," ",{"$f":"IF(OR(EQ$16=\" \",EQ$16=0,EQ45=0),\" \",SUMPRODUCT(ER45:FC45,ER46:FC46)/EQ45)","v":" "},{"$f":"IF(ER22=\" \",\" \",IF($EQ$39=$B$34,IF(ER41>=$C$34,$B$33*ER22,ER22),IF($EQ$39>$B$34,$B$33*ER22,ER22)))","v":" "},{"$f":"IF(ES22=\" \",\" \",IF($EQ$39=$B$34,IF(ES41>=$C$34,$B$33*ES22,ES22),IF($EQ$39>$B$34,$B$33*ES22,ES22)))","v":" "}," "," "," "," "," "," "," "," "," "," ",{"$f":"IF(OR(FD$16=\" \",FD$16=0,FD45=0),\" \",SUMPRODUCT(FE45:FP45,FE46:FP46)/FD45)","v":" "},{"$f":"IF(FE22=\" \",\" \",IF($FD$39=$B$34,IF(FE41>=$C$34,$B$33*FE22,FE22),IF($FD$39>$B$34,$B$33*FE22,FE22)))","v":" "}," "," "," "," "," "," "," "," "," "," "," ",{"$f":"IF(OR(FQ$16=\" \",FQ$16=0,FQ45=0),\" \",SUMPRODUCT(FR45:GC45,FR46:GC46)/FQ45)","v":" "},{"$f":"IF(FR22=\" \",\" \",IF($FQ$39=$B$34,IF(FR41>=$C$34,$B$33*FR22,FR22),IF($FQ$39>$B$34,$B$33*FR22,FR22)))","v":" "}," "," "," "," "," "," "," "," "," "," "," ",{"$f":"IF(OR(GD$16=\" \",GD$16=0,GD45=0),\" \",SUMPRODUCT(GE45:GP45,GE46:GP46)/GD45)","v":" "},{"$f":"IF(GE22=\" \",\" \",IF($GD$39=$B$34,IF(GE41>=$C$34,$B$33*GE22,GE22),IF($GD$39>$B$34,$B$33*GE22,GE22)))","v":" "}," "," "," "," "," "," "," "," "," "," "," ",{"$f":"IF(OR(GQ$16=\" \",GQ$16=0,GQ45=0),\" \",SUMPRODUCT(GR45:HC45,GR46:HC46)/GQ45)","v":" "},{"$f":"IF(GR22=\" \",\" \",IF($GQ$39=$B$34,IF(GR41>=$C$34,$B$33*GR22,GR22),IF($GQ$39>$B$34,$B$33*GR22,GR22)))","v":" "}," "," "," "," "," "," "," "," "," "," "," ",{"$f":"IF(OR(HD$16=\" \",HD$16=0,HD45=0),\" \",SUMPRODUCT(HE45:HP45,HE46:HP46)/HD45)","v":" "},{"$f":"IF(HE22=\" \",\" \",IF($HD$39=$B$34,IF(HE41>=$C$34,$B$33*HE22,HE22),IF($HD$39>$B$34,$B$33*HE22,HE22)))","v":" "}," "," "," "," "," "," "," "," "," "," "," ",{"$f":"IF(OR(HQ$16=\" \",HQ$16=0,HQ45=0),\" \",SUMPRODUCT(HR45:IC45,HR46:IC46)/HQ45)","v":" "},{"$f":"IF(HR22=\" \",\" \",IF($HQ$39=$B$34,IF(HR41>=$C$34,$B$33*HR22,HR22),IF($HQ$39>$B$34,$B$33*HR22,HR22)))","v":" "}," "," "," "," "," "," "," "," "," "," "," ",{"$f":"IF(OR(ID$16=\" \",ID$16=0,ID45=0),\" \",SUMPRODUCT(IE45:IP45,IE46:IP46)/ID45)","v":" "},{"$f":"IF(IE22=\" \",\" \",IF($ID$39=$B$34,IF(IE41>=$C$34,$B$33*IE22,IE22),IF($ID$39>$B$34,$B$33*IE22,IE22)))","v":" "}," "," "," "," "," "," "," "," "," "," "," ",{"$f":"IF(OR(IQ$16=\" \",IQ$16=0,IQ45=0),\" \",SUMPRODUCT(IR45:JC45,IR46:JC46)/IQ45)","v":" "},{"$f":"IF(IR22=\" \",\" \",IF($IQ$39=$B$34,IF(IR41>=$C$34,$B$33*IR22,IR22),IF($IQ$39>$B$34,$B$33*IR22,IR22)))","v":" "}," "," "," "," "," "," "," "," "," "," "," ",{"$f":"IF(OR(JD$16=\" \",JD$16=0,JD45=0),\" \",SUMPRODUCT(JE45:JP45,JE46:JP46)/JD45)","v":" "},{"$f":"IF(JE22=\" \",\" \",IF($JD$39=$B$34,IF(JE41>=$C$34,$B$33*JE22,JE22),IF($JD$39>$B$34,$B$33*JE22,JE22)))","v":" "}," "," "," "," "," "," "," "," "," "," "," ",{"$f":"IF(OR(JQ$16=\" \",JQ$16=0,JQ45=0),\" \",SUMPRODUCT(JR45:KC45,JR46:KC46)/JQ45)","v":" "},{"$f":"IF(JR22=\" \",\" \",IF($JQ$39=$B$34,IF(JR41>=$C$34,$B$33*JR22,JR22),IF($JQ$39>$B$34,$B$33*JR22,JR22)))","v":" "}," "," "," "," "," "," "," "," "," "," "," ",{"$f":"IF(OR(KD$16=\" \",KD$16=0,KD45=0),\" \",SUMPRODUCT(KE45:KP45,KE46:KP46)/KD45)","v":" "},{"$f":"IF(KE22=\" \",\" \",IF($KD$39=$B$34,IF(KE41>=$C$34,$B$33*KE22,KE22),IF($KD$39>$B$34,$B$33*KE22,KE22)))","v":" "}," "," "," "," "," "," "," "," "," "," "," ",{"$f":"IF(OR(KQ$16=\" \",KQ$16=0,KQ45=0),\" \",SUMPRODUCT(KR45:LC45,KR46:LC46)/KQ45)","v":" "},{"$f":"IF(KR22=\" \",\" \",IF($KQ$39=$B$34,IF(KR41>=$C$34,$B$33*KR22,KR22),IF($KQ$39>$B$34,$B$33*KR22,KR22)))","v":" "}," "," "," "," "," "," "," "," "," "," "," ",{"$f":"IF(OR(LD$16=\" \",LD$16=0,LD45=0),\" \",SUMPRODUCT(LE45:LP45,LE46:LP46)/LD45)","v":" "},{"$f":"IF(LE22=\" \",\" \",IF($LD$39=$B$34,IF(LE41>=$C$34,$B$33*LE22,LE22),IF($LD$39>$B$34,$B$33*LE22,LE22)))","v":" "}," "," "," "," "," "," "," "," "," "," "," ",{"$f":"IF(OR(LQ$16=\" \",LQ$16=0,LQ45=0),\" \",SUMPRODUCT(LR45:MC45,LR46:MC46)/LQ45)","v":" "},{"$f":"IF(LR22=\" \",\" \",IF($LQ$39=$B$34,IF(LR41>=$C$34,$B$33*LR22,LR22),IF($LQ$39>$B$34,$B$33*LR22,LR22)))","v":" "}," "," "," "," "," "," "," "," "," "," "," ",{"$f":"IF(OR(MD$16=\" \",MD$16=0,MD45=0),\" \",SUMPRODUCT(ME45:MP45,ME46:MP46)/MD45)","v":" "},{"$f":"IF(ME22=\" \",\" \",IF($MD$39=$B$34,IF(ME41>=$C$34,$B$33*ME22,ME22),IF($MD$39>$B$34,$B$33*ME22,ME22)))","v":" "}," "," "," "," "," "," "," "," "," "," "," ",{"$f":"IF(OR(MQ$16=\" \",MQ$16=0,MQ45=0),\" \",SUMPRODUCT(MR45:NC45,MR46:NC46)/MQ45)","v":" "},{"$f":"IF(MR22=\" \",\" \",IF($MQ$39=$B$34,IF(MR41>=$C$34,$B$33*MR22,MR22),IF($MQ$39>$B$34,$B$33*MR22,MR22)))","v":" "}," "," "," "," "," "," "," "," "," "," "," ",{"$f":"IF(OR(ND$16=\" \",ND$16=0,ND45=0),\" \",SUMPRODUCT(NE45:NP45,NE46:NP46)/ND45)","v":" "},{"$f":"IF(NE22=\" \",\" \",IF($ND$39=$B$34,IF(NE41>=$C$34,$B$33*NE22,NE22),IF($ND$39>$B$34,$B$33*NE22,NE22)))","v":" "}," "," "," "," "," "," "," "," "," "," "," ",{"$f":"IF(OR(NQ$16=\" \",NQ$16=0,NQ45=0),\" \",SUMPRODUCT(NR45:OC45,NR46:OC46)/NQ45)","v":" "},{"$f":"IF(NR22=\" \",\" \",IF($NQ$39=$B$34,IF(NR41>=$C$34,$B$33*NR22,NR22),IF($NQ$39>$B$34,$B$33*NR22,NR22)))","v":" "}," "," "," "," "," "," "," "," "," "," "," ",{"$f":"IF(OR(OD$16=\" \",OD$16=0,OD45=0),\" \",SUMPRODUCT(OE45:OP45,OE46:OP46)/OD45)","v":" "},{"$f":"IF(OE22=\" \",\" \",IF($OD$39=$B$34,IF(OE41>=$C$34,$B$33*OE22,OE22),IF($OD$39>$B$34,$B$33*OE22,OE22)))","v":" "}," "," "," "," "," "," "," "," "," "," "," ",{"$f":"IF(OR(OQ$16=\" \",OQ$16=0,OQ45=0),\" \",SUMPRODUCT(OR45:PC45,OR46:PC46)/OQ45)","v":" "},{"$f":"IF(OR22=\" \",\" \",IF($OQ$39=$B$34,IF(OR41>=$C$34,$B$33*OR22,OR22),IF($OQ$39>$B$34,$B$33*OR22,OR22)))","v":" "}," "," "," "," "," "," "," "," "," "," "," ",{"$f":"IF(OR(PD$16=\" \",PD$16=0,PD45=0),\" \",SUMPRODUCT(PE45:PP45,PE46:PP46)/PD45)","v":" "},{"$f":"IF(PE22=\" \",\" \",IF($PD$39=$B$34,IF(PE41>=$C$34,$B$33*PE22,PE22),IF($PD$39>$B$34,$B$33*PE22,PE22)))","v":" "}," "," "," "," "," "," "," "," "," "," "," ",{"$f":"IF(OR(PQ$16=\" \",PQ$16=0,PQ45=0),\" \",SUMPRODUCT(PR45:QC45,PR46:QC46)/PQ45)","v":" "},{"$f":"IF(PR22=\" \",\" \",IF($PQ$39=$B$34,IF(PR41>=$C$34,$B$33*PR22,PR22),IF($PQ$39>$B$34,$B$33*PR22,PR22)))","v":" "},{"$f":"IF(PS22=\" \",\" \",IF($PQ$39=$B$34,IF(PS41>=$C$34,$B$33*PS22,PS22),IF($PQ$39>$B$34,$B$33*PS22,PS22)))","v":" "}," "," "," "," "," "," "," "," "," "," "]
["Balansēšanas izdevumi","EUR",null,null,null,null,null,null,null,null,null,null,null,null,null,null,null,null,null,null,null,null,null,null,null,null,null,null,null,{"$f":"IF(OR(AD$16=\" \",AD$16=0),\" \",SUM(AE47:AP47))","v":" "},null,null,null,{"$f":"IF(OR(AH46=\" \",AH46=0),\" \",-$DD$6*AH44)","v":" "}," "," "," "," "," "," "," "," ",{"$f":"IF(OR(AQ$16=\" \",AQ$16=0),\" \",SUM(AR47:BC47))","v":" "},{"$f":"IF(OR(AR46=\" \",AR46=0),\" \",-$DD$6*AR44)","v":" "}," "," "," "," "," "," "," "," "," "," "," ",{"$f":"IF(OR(BD$16=\" \",BD$16=0),\" \",SUM(BE47:BP47))","v":" "},{"$f":"IF(OR(BE46=\" \",BE46=0),\" \",-$DD$6*BE44)","v":" "}," "," "," "," "," "," "," "," "," "," "," ",{"$f":"IF(OR(BQ$16=\" \",BQ$16=0),\" \",SUM(BR47:CC47))","v":" "},{"$f":"IF(OR(BR46=\" \",BR46=0),\" \",-$DD$6*BR44)","v":" "}," "," "," "," "," "," "," "," "," "," "," ",{"$f":"IF(OR(CD$16=\" \",CD$16=0),\" \",SUM(CE47:CP47))","v":" "},{"$f":"IF(OR(CE46=\" \",CE46=0),\" \",-$DD$6*CE44)","v":" "}," "," "," "," "," "," "," "," "," "," "," ",{"$f":"IF(OR(CQ$16=\" \",CQ$16=0),\" \",SUM(CR47:DC47))","v":" "},{"$f":"IF(OR(CR46=\" \",CR46=0),\" \",-$DD$6*CR44)","v":" "}," "," "," "," "," "," "," "," "," "," "," ",{"$f":"IF(OR(DD$16=\" \",DD$16=0),\" \",SUM(DE47:DP47))","v":" "},{"$f":"IF(OR(DE46=\" \",DE46=0),\" \",-$DD$6*DE44)","v":" "}," "," "," "," "," "," "," "," "," "," "," ",{"$f":"IF(OR(DQ$16=\" \",DQ$16=0),\" \",SUM(DR47:EC47))","v":" "},{"$f":"IF(OR(DR46=\" \",DR46=0),\" \",-$DD$6*DR44)","v":" "}," "," "," "," "," "," "," "," "," "," "," ",{"$f":"IF(OR(ED$16=\" \",ED$16=0),\" \",SUM(EE47:EP47))","v":" "},{"$f":"IF(OR(EE46=\" \",EE46=0),\" \",-$DD$6*EE44)","v":" "}," "," "," "," "," "," "," "," "," "," "," ",{"$f":"IF(OR(EQ$16=\" \",EQ$16=0),\" \",SUM(ER47:FC47))","v":" "},{"$f":"IF(OR(ER46=\" \",ER46=0),\" \",-$DD$6*ER44)","v":" "}," "," "," "," "," "," "," "," "," "," "," ",{"$f":"IF(OR(FD$16=\" \",FD$16=0),\" \",SUM(FE47:FP47))","v":" "},{"$f":"IF(OR(FE46=\" \",FE46=0),\" \",-$DD$6*FE44)","v":" "}," "," "," "," "," "," "," "," "," "," "," ",{"$f":"IF(OR(FQ$16=\" \",FQ$16=0),\" \",SUM(FR47:GC47))","v":" "},{"$f":"IF(OR(FR46=\" \",FR46=0),\" \",-$DD$6*FR44)","v":" "}," "," "," "," "," "," "," "," "," "," "," ",{"$f":"IF(OR(GD$16=\" \",GD$16=0),\" \",SUM(GE47:GP47))","v":" "},{"$f":"IF(OR(GE46=\" \",GE46=0),\" \",-$DD$6*GE44)","v":" "}," "," "," "," "," "," "," "," "," "," "," ",{"$f":"IF(OR(GQ$16=\" \",GQ$16=0),\" \",SUM(GR47:HC47))","v":" "},{"$f":"IF(OR(GR46=\" \",GR46=0),\" \",-$DD$6*GR44)","v":" "}," "," "," "," "," "," "," "," "," "," "," ",{"$f":"IF(OR(HD$16=\" \",HD$16=0),\" \",SUM(HE47:HP47))","v":" "},{"$f":"IF(OR(HE46=\" \",HE46=0),\" \",-$DD$6*HE44)","v":" "}," "," "," "," "," "," "," "," "," "," "," ",{"$f":"IF(OR(HQ$16=\" \",HQ$16=0),\" \",SUM(HR47:IC47))","v":" "},{"$f":"IF(OR(HR46=\" \",HR46=0),\" \",-$DD$6*HR44)","v":" "}," "," "," "," "," "," "," "," "," "," "," ",{"$f":"IF(OR(ID$16=\" \",ID$16=0),\" \",SUM(IE47:IP47))","v":" "},{"$f":"IF(OR(IE46=\" \",IE46=0),\" \",-$DD$6*IE44)","v":" "}," "," "," "," "," "," "," "," "," "," "," ",{"$f":"IF(OR(IQ$16=\" \",IQ$16=0),\" \",SUM(IR47:JC47))","v":" "},{"$f":"IF(OR(IR46=\" \",IR46=0),\" \",-$DD$6*IR44)","v":" "}," "," "," "," "," "," "," "," "," "," "," ",{"$f":"IF(OR(JD$16=\" \",JD$16=0),\" \",SUM(JE47:JP47))","v":" "},{"$f":"IF(OR(JE46=\" \",JE46=0),\" \",-$DD$6*JE44)","v":" "}," "," "," "," "," "," "," "," "," "," "," ",{"$f":"IF(OR(JQ$16=\" \",JQ$16=0),\" \",SUM(JR47:KC47))","v":" "},{"$f":"IF(OR(JR46=\" \",JR46=0),\" \",-$DD$6*JR44)","v":" "}," "," "," "," "," "," "," "," "," "," "," ",{"$f":"IF(OR(KD$16=\" \",KD$16=0),\" \",SUM(KE47:KP47))","v":" "},{"$f":"IF(OR(KE46=\" \",KE46=0),\" \",-$DD$6*KE44)","v":" "}," "," "," "," "," "," "," "," "," "," "," ",{"$f":"IF(OR(KQ$16=\" \",KQ$16=0),\" \",SUM(KR47:LC47))","v":" "},{"$f":"IF(OR(KR46=\" \",KR46=0),\" \",-$DD$6*KR44)","v":" "}," "," "," "," "," "," "," "," "," "," "," ",{"$f":"IF(OR(LD$16=\" \",LD$16=0),\" \",SUM(LE47:LP47))","v":" "},{"$f":"IF(OR(LE46=\" \",LE46=0),\" \",-$DD$6*LE44)","v":" "}," "," "," "," "," "," "," "," "," "," "," ",{"$f":"IF(OR(LQ$16=\" \",LQ$16=0),\" \",SUM(LR47:MC47))","v":" "},{"$f":"IF(OR(LR46=\" \",LR46=0),\" \",-$DD$6*LR44)","v":" "}," "," "," "," "," "," "," "," "," "," "," ",{"$f":"IF(OR(MD$16=\" \",MD$16=0),\" \",SUM(ME47:MP47))","v":" "},{"$f":"IF(OR(ME46=\" \",ME46=0),\" \",-$DD$6*ME44)","v":" "}," "," "," "," "," "," "," "," "," "," "," ",{"$f":"IF(OR(MQ$16=\" \",MQ$16=0),\" \",SUM(MR47:NC47))","v":" "},{"$f":"IF(OR(MR46=\" \",MR46=0),\" \",-$DD$6*MR44)","v":" "}," "," "," "," "," "," "," "," "," "," "," ",{"$f":"IF(OR(ND$16=\" \",ND$16=0),\" \",SUM(NE47:NP47))","v":" "},{"$f":"IF(OR(NE46=\" \",NE46=0),\" \",-$DD$6*NE44)","v":" "}," "," "," "," "," "," "," "," "," "," "," ",{"$f":"IF(OR(NQ$16=\" \",NQ$16=0),\" \",SUM(NR47:OC47))","v":" "},{"$f":"IF(OR(NR46=\" \",NR46=0),\" \",-$DD$6*NR44)","v":" "}," "," "," "," "," "," "," "," "," "," "," ",{"$f":"IF(OR(OD$16=\" \",OD$16=0),\" \",SUM(OE47:OP47))","v":" "},{"$f":"IF(OR(OE46=\" \",OE46=0),\" \",-$DD$6*OE44)","v":" "}," "," "," "," "," "," "," "," "," "," "," ",{"$f":"IF(OR(OQ$16=\" \",OQ$16=0),\" \",SUM(OR47:PC47))","v":" "},{"$f":"IF(OR(OR46=\" \",OR46=0),\" \",-$DD$6*OR44)","v":" "}," "," "," "," "," "," "," "," "," "," "," ",{"$f":"IF(OR(PD$16=\" \",PD$16=0),\" \",SUM(PE47:PP47))","v":" "},{"$f":"IF(OR(PE46=\" \",PE46=0),\" \",-$DD$6*PE44)","v":" "}," "," "," "," "," "," "," "," "," "," "," ",{"$f":"IF(OR(PQ$16=\" \",PQ$16=0),\" \",SUM(PR47:QC47))","v":" "},{"$f":"IF(OR(PR46=\" \",PR46=0),\" \",-$DD$6*PR44)","v":" "}," "," "," "," "," "," "," "," "," "," "," "]
["SEN","%",null,null,null,null,null,null,null,null,null,null,null,null,null,null,null,null,null,null,null,null,null,null,null,null,null,null,null,null,null,null,null,null,null,null,null,null,null,null,null,null,null,null,null,null,null,null,null,null,null,null,null,null,null,null,null,null,null,null,null,null,null,null,null,null,null,null,null,null,null,null,null,null,null,null,null,null,null,null,null,null,null,null,null,null,null,null,null,null,null,null,null,null,null,{"$f":"CR24","v":0.1},{"$f":"CS24","v":0.1},0.1,0.1,0.1,0.1,0.1,0.1,0.1,0.1,0.1,0.1,null,{"$f":"DE24","v":0.1},{"$f":"DF24","v":0.1},0.1,0.1,0.1,0.1,0.1,0.1,0.1,0.1,0.1,0.1,null,{"$f":"DR24","v":0.1},{"$f":"DS24","v":0.1},0.1,0.1,0.1,0.1,0.1,0.1,0.1,0.1,0.1,0.1,null,{"$f":"EE24","v":0.1},{"$f":"EF24","v":0.1},0.1,0.1,0.1,0.1,0.1,0.1,0.1,0.1,0.1,0.1]
["Izdevumi kopā","EUR",null,{"$f":"IF(D46=\" \",\" \",D50+D51+D52)","v":" "},{"$f":"IF(E46=\" \",\" \",E50+E51+E52)","v":" "},{"$f":"IF(F46=\" \",\" \",F50+F51+F52)","v":" "}," "," "," "," "," "," "," "," "," "," ",{"$f":"IF(Q46=\" \",\" \",Q50+Q51+Q52)","v":" "},{"$f":"IF(R46=\" \",\" \",R50+R51+R52)","v":" "},{"$f":"IF(S46=\" \",\" \",S50+S51+S52)","v":" "}," "," "," "," "," "," "," "," "," "," ",{"$f":"IF(AD46=\" \",\" \",AD50+AD51+AD52)","v":" "},{"$f":"IF(AE46=\" \",\" \",AE50+AE51+AE52)","v":" "},{"$f":"IF(AF46=\" \",\" \",AF50+AF51+AF52)","v":" "}," "," "," "," "," "," "," "," "," "," ",{"$f":"IF(AQ46=\" \",\" \",AQ50+AQ51+AQ52)","v":" "},{"$f":"IF(AR46=\" \",\" \",AR50+AR51+AR52)","v":" "},{"$f":"IF(AS46=\" \",\" \",AS50+AS51+AS52)","v":" "}," "," "," "," "," "," "," "," "," "," ",{"$f":"IF(BD46=\" \",\" \",BD50+BD51+BD52)","v":" "},{"$f":"IF(BE46=\" \",\" \",BE50+BE51+BE52)","v":" "},{"$f":"IF(BF46=\" \",\" \",BF50+BF51+BF52)","v":" "}," "," "," "," "," "," "," "," "," "," ",{"$f":"IF(BQ46=\" \",\" \",BQ50+BQ51+BQ52)","v":" "},{"$f":"IF(BR46=\" \",\" \",BR50+BR51+BR52)","v":" "},{"$f":"IF(BS46=\" \",\" \",BS50+BS51+BS52)","v":" "}," "," "," "," "," "," "," "," "," "," ",{"$f":"IF(CD46=\" \",\" \",CD50+CD51+CD52)","v":" "},{"$f":"IF(CE46=\" \",\" \",CE50+CE51+CE52)","v":" "},{"$f":"IF(CF46=\" \",\" \",CF50+CF51+CF52)","v":" "}," "," "," "," "," "," "," "," "," "," ",{"$f":"IF(CQ46=\" \",\" \",CQ50+CQ51+CQ52)","v":" "},{"$f":"IF(CR46=\" \",\" \",CR50+CR51+CR52)","v":" "},{"$f":"IF(CS46=\" \",\" \",CS50+CS51+CS52)","v":" "}," "," "," "," "," "," "," "," "," "," ",{"$f":"IF(DD46=\" \",\" \",DD50+DD51+DD52)","v":" "},{"$f":"IF(DE46=\" \",\" \",DE50+DE51+DE52)","v":" "},{"$f":"IF(DF46=\" \",\" \",DF50+DF51+DF52)","v":" "}," "," "," "," "," "," "," "," "," "," ",{"$f":"IF(DQ46=\" \",\" \",DQ50+DQ51+DQ52)","v":" "},{"$f":"IF(DR46=\" \",\" \",DR50+DR51+DR52)","v":" "},{"$f":"IF(DS46=\" \",\" \",DS50+DS51+DS52)","v":" "}," "," "," "," "," "," "," "," "," ",{"$f":"IF(EC46=\" \",\" \",EC50+EC51+EC52)","v":" "},{"$f":"IF(ED46=\" \",\" \",ED50+ED51+ED52)","v":" "},{"$f":"IF(EE46=\" \",\" \",EE50+EE51+EE52)","v":" "},{"$f":"IF(EF46=\" \",\" \",EF50+EF51+EF52)","v":" "}," "," "," "," "," "," "," "," "," "," ",{"$f":"IF(EQ46=\" \",\" \",EQ50+EQ51+EQ52)","v":" "},{"$f":"IF(ER46=\" \",\" \",ER50+ER51+ER52)","v":" "},{"$f":"IF(ES46=\" \",\" \",ES50+ES51+ES52)","v":" "}," "," "," "," "," "," "," "," "," "," ",{"$f":"IF(FD46=\" \",\" \",FD50+FD51+FD52)","v":" "},{"$f":"IF(FE46=\" \",\" \",FE50+FE51+FE52)","v":" "},{"$f":"IF(FF46=\" \",\" \",FF50+FF51+FF52)","v":" "}," "," "," "," "," "," "," "," "," "," ",{"$f":"IF(FQ46=\" \",\" \",FQ50+FQ51+FQ52)","v":" "},{"$f":"IF(FR46=\" \",\" \",FR50+FR51+FR52)","v":" "},{"$f":"IF(FS46=\" \",\" \",FS50+FS51+FS52)","v":" "}," "," "," "," "," "," "," "," "," "," ",{"$f":"IF(GD46=\" \",\" \",GD50+GD51+GD52)","v":" "},{"$f":"IF(GE46=\" \",\" \",GE50+GE51+GE52)","v":" "},{"$f":"IF(GF46=\" \",\" \",GF50+GF51+GF52)","v":" "}," "," "," "," "," "," "," "," "," "," ",{"$f":"IF(GQ46=\" \",\" \",GQ50+GQ51+GQ52)","v":" "},{"$f":"IF(GR46=\" \",\" \",GR50+GR51+GR52)","v":" "},{"$f":"IF(GS46=\" \",\" \",GS50+GS51+GS52)","v":" "}," "," "," "," "," "," "," "," "," "," ",{"$f":"IF(HD46=\" \",\" \",HD50+HD51+HD52)","v":" "},{"$f":"IF(HE46=\" \",\" \",HE50+HE51+HE52)","v":" "},{"$f":"IF(HF46=\" \",\" \",HF50+HF51+HF52)","v":" "}," "," "," "," "," "," "," "," "," "," ",{"$f":"IF(HQ46=\" \",\" \",HQ50+HQ51+HQ52)","v":" "},{"$f":"IF(HR46=\" \",\" \",HR50+HR51+HR52)","v":" "},{"$f":"IF(HS46=\" \",\" \",HS50+HS51+HS52)","v":" "}," "," "," "," "," "," "," "," "," "," ",{"$f":"IF(ID46=\" \",\" \",ID50+ID51+ID52)","v":" "},{"$f":"IF(IE46=\" \",\" \",IE50+IE51+IE52)","v":" "},{"$f":"IF(IF46=\" \",\" \",IF50+IF51+IF52)","v":" "}," "," "," "," "," "," "," "," "," "," ",{"$f":"IF(IQ46=\" \",\" \",IQ50+IQ51+IQ52)","v":" "},{"$f":"IF(IR46=\" \",\" \",IR50+IR51+IR52)","v":" "},{"$f":"IF(IS46=\" \",\" \",IS50+IS51+IS52)","v":" "}," "," "," "," "," "," "," "," "," "," ",{"$f":"IF(JD46=\" \",\" \",JD50+JD51+JD52)","v":" "},{"$f":"IF(JE46=\" \",\" \",JE50+JE51+JE52)","v":" "},{"$f":"IF(JF46=\" \",\" \",JF50+JF51+JF52)","v":" "}," "," "," "," "," "," "," "," "," "," ",{"$f":"IF(JQ46=\" \",\" \",JQ50+JQ51+JQ52)","v":" "},{"$f":"IF(JR46=\" \",\" \",JR50+JR51+JR52)","v":" "},{"$f":"IF(JS46=\" \",\" \",JS50+JS51+JS52)","v":" "}," "," "," "," "," "," "," "," "," "," ",{"$f":"IF(KD46=\" \",\" \",KD50+KD51+KD52)","v":" "},{"$f":"IF(KE46=\" \",\" \",KE50+KE51+KE52)","v":" "},{"$f":"IF(KF46=\" \",\" \",KF50+KF51+KF52)","v":" "}," "," "," "," "," "," "," "," "," "," ",{"$f":"IF(KQ46=\" \",\" \",KQ50+KQ51+KQ52)","v":" "},{"$f":"IF(KR46=\" \",\" \",KR50+KR51+KR52)","v":" "},{"$f":"IF(KS46=\" \",\" \",KS50+KS51+KS52)","v":" "}," "," "," "," "," "," "," "," "," "," ",{"$f":"IF(LD46=\" \",\" \",LD50+LD51+LD52)","v":" "},{"$f":"IF(LE46=\" \",\" \",LE50+LE51+LE52)","v":" "},{"$f":"IF(LF46=\" \",\" \",LF50+LF51+LF52)","v":" "}," "," "," "," "," "," "," "," "," "," ",{"$f":"IF(LQ46=\" \",\" \",LQ50+LQ51+LQ52)","v":" "},{"$f":"IF(LR46=\" \",\" \",LR50+LR51+LR52)","v":" "},{"$f":"IF(LS46=\" \",\" \",LS50+LS51+LS52)","v":" "}," "," "," "," "," "," "," "," "," "," ",{"$f":"IF(MD46=\" \",\" \",MD50+MD51+MD52)","v":" "},{"$f":"IF(ME46=\" \",\" \",ME50+ME51+ME52)","v":" "},{"$f":"IF(MF46=\" \",\" \",MF50+MF51+MF52)","v":" "}," "," "," "," "," "," "," "," "," "," ",{"$f":"IF(MQ46=\" \",\" \",MQ50+MQ51+MQ52)","v":" "},{"$f":"IF(MR46=\" \",\" \",MR50+MR51+MR52)","v":" "},{"$f":"IF(MS46=\" \",\" \",MS50+MS51+MS52)","v":" "}," "," "," "," "," "," "," "," "," "," ",{"$f":"IF(ND46=\" \",\" \",ND50+ND51+ND52)","v":" "},{"$f":"IF(NE46=\" \",\" \",NE50+NE51+NE52)","v":" "},{"$f":"IF(NF46=\" \",\" \",NF50+NF51+NF52)","v":" "}," "," "," "," "," "," "," "," "," "," ",{"$f":"IF(NQ46=\" \",\" \",NQ50+NQ51+NQ52)","v":" "},{"$f":"IF(NR46=\" \",\" \",NR50+NR51+NR52)","v":" "},null,null,null,null,null,null,null,null,null,null,null,{"$f":"IF(OD46=\" \",\" \",OD50+OD51+OD52)","v":" "},{"$f":"IF(OE46=\" \",\" \",OE50+OE51+OE52)","v":" "},{"$f":"IF(OF46=\" \",\" \",OF50+OF51+OF52)","v":" "}," "," "," "," "," "," "," "," "," "," ",{"$f":"IF(OQ46=\" \",\" \",OQ50+OQ51+OQ52)","v":" "},{"$f":"IF(OR46=\" \",\" \",OR50+OR51+OR52)","v":" "},{"$f":"IF(OS46=\" \",\" \",OS50+OS51+OS52)","v":" "}," "," "," "," "," "," "," "," "," "," ",{"$f":"IF(PD46=\" \",\" \",PD50+PD51+PD52)","v":" "},{"$f":"IF(PE46=\" \",\" \",PE50+PE51+PE52)","v":" "},{"$f":"IF(PF46=\" \",\" \",PF50+PF51+PF52)","v":" "}," "," "," "," "," "," "," "," "," "," ",{"$f":"IF(PQ46=\" \",\" \",PQ50+PQ51+PQ52)","v":" "},{"$f":"IF(PR46=\" \",\" \",PR50+PR51+PR52)","v":" "},{"$f":"IF(PS46=\" \",\" \",PS50+PS51+PS52)","v":" "}," "," "," "," "," "," "," "," "," "," "]
["Personālizmaksas","EUR/gadā"," ",{"$f":"IF(OR(D$16=\" \",D$16=0),\" \",SUM(E50:P50))","v":" "},{"$f":"IF(E46=\" \",\" \",$BQ$6*HLOOKUP($D$15,Līmeņatzīmes!$B$6:$AI$7,2,FALSE))","v":" "},{"$f":"IF(F46=\" \",\" \",$BQ$6*HLOOKUP($D$15,Līmeņatzīmes!$B$6:$AI$7,2,FALSE))","v":" "},{"$f":"IF(G46=\" \",\" \",$BQ$6*HLOOKUP($D$15,Līmeņatzīmes!$B$6:$AI$7,2,FALSE))","v":" "},{"$f":"IF(H46=\" \",\" \",$BQ$6*HLOOKUP($D$15,Līmeņatzīmes!$B$6:$AI$7,2,FALSE))","v":" "},{"$f":"IF(I46=\" \",\" \",$BQ$6*HLOOKUP($D$15,Līmeņatzīmes!$B$6:$AI$7,2,FALSE))","v":" "},{"$f":"IF(J46=\" \",\" \",$BQ$6*HLOOKUP($D$15,Līmeņatzīmes!$B$6:$AI$7,2,FALSE))","v":" "},{"$f":"IF(K46=\" \",\" \",$BQ$6*HLOOKUP($D$15,Līmeņatzīmes!$B$6:$AI$7,2,FALSE))","v":" "},{"$f":"IF(L46=\" \",\" \",$BQ$6*HLOOKUP($D$15,Līmeņatzīmes!$B$6:$AI$7,2,FALSE))","v":" "},{"$f":"IF(M46=\" \",\" \",$BQ$6*HLOOKUP($D$15,Līmeņatzīmes!$B$6:$AI$7,2,FALSE))","v":" "},{"$f":"IF(N46=\" \",\" \",$BQ$6*HLOOKUP($D$15,Līmeņatzīmes!$B$6:$AI$7,2,FALSE))","v":" "},{"$f":"IF(O46=\" \",\" \",$BQ$6*HLOOKUP($D$15,Līmeņatzīmes!$B$6:$AI$7,2,FALSE))","v":" "},{"$f":"IF(P46=\" \",\" \",$BQ$6*HLOOKUP($D$15,Līmeņatzīmes!$B$6:$AI$7,2,FALSE))","v":" "},{"$f":"IF(OR(Q$16=\" \",Q$16=0),\" \",SUM(R50:AC50))","v":" "},{"$f":"IF(R46=\" \",\" \",$BQ$6*HLOOKUP($Q$15,Līmeņatzīmes!$B$6:$AI$7,2,FALSE))","v":" "},{"$f":"IF(S46=\" \",\" \",$BQ$6*HLOOKUP($Q$15,Līmeņatzīmes!$B$6:$AI$7,2,FALSE))","v":" "},{"$f":"IF(T46=\" \",\" \",$BQ$6*HLOOKUP($Q$15,Līmeņatzīmes!$B$6:$AI$7,2,FALSE))","v":" "},{"$f":"IF(U46=\" \",\" \",$BQ$6*HLOOKUP($Q$15,Līmeņatzīmes!$B$6:$AI$7,2,FALSE))","v":" "},{"$f":"IF(V46=\" \",\" \",$BQ$6*HLOOKUP($Q$15,Līmeņatzīmes!$B$6:$AI$7,2,FALSE))","v":" "},{"$f":"IF(W46=\" \",\" \",$BQ$6*HLOOKUP($Q$15,Līmeņatzīmes!$B$6:$AI$7,2,FALSE))","v":" "},{"$f":"IF(X46=\" \",\" \",$BQ$6*HLOOKUP($Q$15,Līmeņatzīmes!$B$6:$AI$7,2,FALSE))","v":" "},{"$f":"IF(Y46=\" \",\" \",$BQ$6*HLOOKUP($Q$15,Līmeņatzīmes!$B$6:$AI$7,2,FALSE))","v":" "},{"$f":"IF(Z46=\" \",\" \",$BQ$6*HLOOKUP($Q$15,Līmeņatzīmes!$B$6:$AI$7,2,FALSE))","v":" "},{"$f":"IF(AA46=\" \",\" \",$BQ$6*HLOOKUP($Q$15,Līmeņatzīmes!$B$6:$AI$7,2,FALSE))","v":" "},{"$f":"IF(AB46=\" \",\" \",$BQ$6*HLOOKUP($Q$15,Līmeņatzīmes!$B$6:$AI$7,2,FALSE))","v":" "},{"$f":"IF(AC46=\" \",\" \",$BQ$6*HLOOKUP($Q$15,Līmeņatzīmes!$B$6:$AI$7,2,FALSE))","v":" "},{"$f":"IF(OR(AD$16=\" \",AD$16=0),\" \",SUM(AE50:AP50))","v":" "},{"$f":"IF(AE46=\" \",\" \",$BQ$6*HLOOKUP($AD$15,Līmeņatzīmes!$B$6:$AI$7,2,FALSE))","v":" "},{"$f":"IF(AF46=\" \",\" \",$BQ$6*HLOOKUP($AD$15,Līmeņatzīmes!$B$6:$AI$7,2,FALSE))","v":" "},{"$f":"IF(AG46=\" \",\" \",$BQ$6*HLOOKUP($AD$15,Līmeņatzīmes!$B$6:$AI$7,2,FALSE))","v":" "},{"$f":"IF(AH46=\" \",\" \",$BQ$6*HLOOKUP($AD$15,Līmeņatzīmes!$B$6:$AI$7,2,FALSE))","v":" "},{"$f":"IF(AI46=\" \",\" \",$BQ$6*HLOOKUP($AD$15,Līmeņatzīmes!$B$6:$AI$7,2,FALSE))","v":" "},{"$f":"IF(AJ46=\" \",\" \",$BQ$6*HLOOKUP($AD$15,Līmeņatzīmes!$B$6:$AI$7,2,FALSE))","v":" "},{"$f":"IF(AK46=\" \",\" \",$BQ$6*HLOOKUP($AD$15,Līmeņatzīmes!$B$6:$AI$7,2,FALSE))","v":" "},{"$f":"IF(AL46=\" \",\" \",$BQ$6*HLOOKUP($AD$15,Līmeņatzīmes!$B$6:$AI$7,2,FALSE))","v":" "},{"$f":"IF(AM46=\" \",\" \",$BQ$6*HLOOKUP($AD$15,Līmeņatzīmes!$B$6:$AI$7,2,FALSE))","v":" "},{"$f":"IF(AN46=\" \",\" \",$BQ$6*HLOOKUP($AD$15,Līmeņatzīmes!$B$6:$AI$7,2,FALSE))","v":" "},{"$f":"IF(AO46=\" \",\" \",$BQ$6*HLOOKUP($AD$15,Līmeņatzīmes!$B$6:$AI$7,2,FALSE))","v":" "},{"$f":"IF(AP46=\" \",\" \",$BQ$6*HLOOKUP($AD$15,Līmeņatzīmes!$B$6:$AI$7,2,FALSE))","v":" "},{"$f":"IF(OR(AQ$16=\" \",AQ$16=0),\" \",SUM(AR50:BC50))","v":" "},{"$f":"IF(AR46=\" \",\" \",$BQ$6*HLOOKUP($AQ$15,Līmeņatzīmes!$B$6:$AI$7,2,FALSE))","v":" "},{"$f":"IF(AS46=\" \",\" \",$BQ$6*HLOOKUP($AQ$15,Līmeņatzīmes!$B$6:$AI$7,2,FALSE))","v":" "},{"$f":"IF(AT46=\" \",\" \",$BQ$6*HLOOKUP($AQ$15,Līmeņatzīmes!$B$6:$AI$7,2,FALSE))","v":" "},{"$f":"IF(AU46=\" \",\" \",$BQ$6*HLOOKUP($AQ$15,Līmeņatzīmes!$B$6:$AI$7,2,FALSE))","v":" "},{"$f":"IF(AV46=\" \",\" \",$BQ$6*HLOOKUP($AQ$15,Līmeņatzīmes!$B$6:$AI$7,2,FALSE))","v":" "},{"$f":"IF(AW46=\" \",\" \",$BQ$6*HLOOKUP($AQ$15,Līmeņatzīmes!$B$6:$AI$7,2,FALSE))","v":" "},{"$f":"IF(AX46=\" \",\" \",$BQ$6*HLOOKUP($AQ$15,Līmeņatzīmes!$B$6:$AI$7,2,FALSE))","v":" "},{"$f":"IF(AY46=\" \",\" \",$BQ$6*HLOOKUP($AQ$15,Līmeņatzīmes!$B$6:$AI$7,2,FALSE))","v":" "},{"$f":"IF(AZ46=\" \",\" \",$BQ$6*HLOOKUP($AQ$15,Līmeņatzīmes!$B$6:$AI$7,2,FALSE))","v":" "},{"$f":"IF(BA46=\" \",\" \",$BQ$6*HLOOKUP($AQ$15,Līmeņatzīmes!$B$6:$AI$7,2,FALSE))","v":" "},{"$f":"IF(BB46=\" \",\" \",$BQ$6*HLOOKUP($AQ$15,Līmeņatzīmes!$B$6:$AI$7,2,FALSE))","v":" "},{"$f":"IF(BC46=\" \",\" \",$BQ$6*HLOOKUP($AQ$15,Līmeņatzīmes!$B$6:$AI$7,2,FALSE))","v":" "},{"$f":"IF(OR(BD$16=\" \",BD$16=0),\" \",SUM(BE50:BP50))","v":" "},{"$f":"IF(BE46=\" \",\" \",$BQ$6*HLOOKUP($BD$15,Līmeņatzīmes!$B$6:$AI$7,2,FALSE))","v":" "},{"$f":"IF(BF46=\" \",\" \",$BQ$6*HLOOKUP($BD$15,Līmeņatzīmes!$B$6:$AI$7,2,FALSE))","v":" "},{"$f":"IF(BG46=\" \",\" \",$BQ$6*HLOOKUP($BD$15,Līmeņatzīmes!$B$6:$AI$7,2,FALSE))","v":" "},{"$f":"IF(BH46=\" \",\" \",$BQ$6*HLOOKUP($BD$15,Līmeņatzīmes!$B$6:$AI$7,2,FALSE))","v":" "},{"$f":"IF(BI46=\" \",\" \",$BQ$6*HLOOKUP($BD$15,Līmeņatzīmes!$B$6:$AI$7,2,FALSE))","v":" "},{"$f":"IF(BJ46=\" \",\" \",$BQ$6*HLOOKUP($BD$15,Līmeņatzīmes!$B$6:$AI$7,2,FALSE))","v":" "},{"$f":"IF(BK46=\" \",\" \",$BQ$6*HLOOKUP($BD$15,Līmeņatzīmes!$B$6:$AI$7,2,FALSE))","v":" "},{"$f":"IF(BL46=\" \",\" \",$BQ$6*HLOOKUP($BD$15,Līmeņatzīmes!$B$6:$AI$7,2,FALSE))","v":" "},{"$f":"IF(BM46=\" \",\" \",$BQ$6*HLOOKUP($BD$15,Līmeņatzīmes!$B$6:$AI$7,2,FALSE))","v":" "},{"$f":"IF(BN46=\" \",\" \",$BQ$6*HLOOKUP($BD$15,Līmeņatzīmes!$B$6:$AI$7,2,FALSE))","v":" "},{"$f":"IF(BO46=\" \",\" \",$BQ$6*HLOOKUP($BD$15,Līmeņatzīmes!$B$6:$AI$7,2,FALSE))","v":" "},{"$f":"IF(BP46=\" \",\" \",$BQ$6*HLOOKUP($BD$15,Līmeņatzīmes!$B$6:$AI$7,2,FALSE))","v":" "},{"$f":"IF(OR(BQ$16=\" \",BQ$16=0),\" \",SUM(BR50:CC50))","v":" "},{"$f":"IF(BR46=\" \",\" \",$BQ$6*HLOOKUP($BQ$15,Līmeņatzīmes!$B$6:$AI$7,2,FALSE))","v":" "},{"$f":"IF(BS46=\" \",\" \",$BQ$6*HLOOKUP($BQ$15,Līmeņatzīmes!$B$6:$AI$7,2,FALSE))","v":" "},{"$f":"IF(BT46=\" \",\" \",$BQ$6*HLOOKUP($BQ$15,Līmeņatzīmes!$B$6:$AI$7,2,FALSE))","v":" "},{"$f":"IF(BU46=\" \",\" \",$BQ$6*HLOOKUP($BQ$15,Līmeņatzīmes!$B$6:$AI$7,2,FALSE))","v":" "},{"$f":"IF(BV46=\" \",\" \",$BQ$6*HLOOKUP($BQ$15,Līmeņatzīmes!$B$6:$AI$7,2,FALSE))","v":" "},{"$f":"IF(BW46=\" \",\" \",$BQ$6*HLOOKUP($BQ$15,Līmeņatzīmes!$B$6:$AI$7,2,FALSE))","v":" "},{"$f":"IF(BX46=\" \",\" \",$BQ$6*HLOOKUP($BQ$15,Līmeņatzīmes!$B$6:$AI$7,2,FALSE))","v":" "},{"$f":"IF(BY46=\" \",\" \",$BQ$6*HLOOKUP($BQ$15,Līmeņatzīmes!$B$6:$AI$7,2,FALSE))","v":" "},{"$f":"IF(BZ46=\" \",\" \",$BQ$6*HLOOKUP($BQ$15,Līmeņatzīmes!$B$6:$AI$7,2,FALSE))","v":" "},{"$f":"IF(CA46=\" \",\" \",$BQ$6*HLOOKUP($BQ$15,Līmeņatzīmes!$B$6:$AI$7,2,FALSE))","v":" "},{"$f":"IF(CB46=\" \",\" \",$BQ$6*HLOOKUP($BQ$15,Līmeņatzīmes!$B$6:$AI$7,2,FALSE))","v":" "},{"$f":"IF(CC46=\" \",\" \",$BQ$6*HLOOKUP($BQ$15,Līmeņatzīmes!$B$6:$AI$7,2,FALSE))","v":" "},{"$f":"IF(OR(CD$16=\" \",CD$16=0),\" \",SUM(CE50:CP50))","v":" "},{"$f":"IF(CE46=\" \",\" \",$BQ$6*HLOOKUP($CD$15,Līmeņatzīmes!$B$6:$AI$7,2,FALSE))","v":" "},{"$f":"IF(CF46=\" \",\" \",$BQ$6*HLOOKUP($CD$15,Līmeņatzīmes!$B$6:$AI$7,2,FALSE))","v":" "},{"$f":"IF(CG46=\" \",\" \",$BQ$6*HLOOKUP($CD$15,Līmeņatzīmes!$B$6:$AI$7,2,FALSE))","v":" "},{"$f":"IF(CH46=\" \",\" \",$BQ$6*HLOOKUP($CD$15,Līmeņatzīmes!$B$6:$AI$7,2,FALSE))","v":" "},{"$f":"IF(CI46=\" \",\" \",$BQ$6*HLOOKUP($CD$15,Līmeņatzīmes!$B$6:$AI$7,2,FALSE))","v":" "},{"$f":"IF(CJ46=\" \",\" \",$BQ$6*HLOOKUP($CD$15,Līmeņatzīmes!$B$6:$AI$7,2,FALSE))","v":" "},{"$f":"IF(CK46=\" \",\" \",$BQ$6*HLOOKUP($CD$15,Līmeņatzīmes!$B$6:$AI$7,2,FALSE))","v":" "},{"$f":"IF(CL46=\" \",\" \",$BQ$6*HLOOKUP($CD$15,Līmeņatzīmes!$B$6:$AI$7,2,FALSE))","v":" "},{"$f":"IF(CM46=\" \",\" \",$BQ$6*HLOOKUP($CD$15,Līmeņatzīmes!$B$6:$AI$7,2,FALSE))","v":" "},{"$f":"IF(CN46=\" \",\" \",$BQ$6*HLOOKUP($CD$15,Līmeņatzīmes!$B$6:$AI$7,2,FALSE))","v":" "},{"$f":"IF(CO46=\" \",\" \",$BQ$6*HLOOKUP($CD$15,Līmeņatzīmes!$B$6:$AI$7,2,FALSE))","v":" "},{"$f":"IF(CP46=\" \",\" \",$BQ$6*HLOOKUP($CD$15,Līmeņatzīmes!$B$6:$AI$7,2,FALSE))","v":" "},{"$f":"IF(OR(CQ$16=\" \",CQ$16=0),\" \",SUM(CR50:DC50))","v":" "},{"$f":"IF(CR46=\" \",\" \",$BQ$6*HLOOKUP($CQ$15,Līmeņatzīmes!$B$6:$AI$7,2,FALSE))","v":" "},{"$f":"IF(CS46=\" \",\" \",$BQ$6*HLOOKUP($CQ$15,Līmeņatzīmes!$B$6:$AI$7,2,FALSE))","v":" "},{"$f":"IF(CT46=\" \",\" \",$BQ$6*HLOOKUP($CQ$15,Līmeņatzīmes!$B$6:$AI$7,2,FALSE))","v":" "},{"$f":"IF(CU46=\" \",\" \",$BQ$6*HLOOKUP($CQ$15,Līmeņatzīmes!$B$6:$AI$7,2,FALSE))","v":" "},{"$f":"IF(CV46=\" \",\" \",$BQ$6*HLOOKUP($CQ$15,Līmeņatzīmes!$B$6:$AI$7,2,FALSE))","v":" "},{"$f":"IF(CW46=\" \",\" \",$BQ$6*HLOOKUP($CQ$15,Līmeņatzīmes!$B$6:$AI$7,2,FALSE))","v":" "},{"$f":"IF(CX46=\" \",\" \",$BQ$6*HLOOKUP($CQ$15,Līmeņatzīmes!$B$6:$AI$7,2,FALSE))","v":" "},{"$f":"IF(CY46=\" \",\" \",$BQ$6*HLOOKUP($CQ$15,Līmeņatzīmes!$B$6:$AI$7,2,FALSE))","v":" "},{"$f":"IF(CZ46=\" \",\" \",$BQ$6*HLOOKUP($CQ$15,Līmeņatzīmes!$B$6:$AI$7,2,FALSE))","v":" "},{"$f":"IF(DA46=\" \",\" \",$BQ$6*HLOOKUP($CQ$15,Līmeņatzīmes!$B$6:$AI$7,2,FALSE))","v":" "},{"$f":"IF(DB46=\" \",\" \",$BQ$6*HLOOKUP($CQ$15,Līmeņatzīmes!$B$6:$AI$7,2,FALSE))","v":" "},{"$f":"IF(DC46=\" \",\" \",$BQ$6*HLOOKUP($CQ$15,Līmeņatzīmes!$B$6:$AI$7,2,FALSE))","v":" "},{"$f":"IF(OR(DD$16=\" \",DD$16=0),\" \",SUM(DE50:DP50))","v":" "},{"$f":"IF(DE46=\" \",\" \",$BQ$6*HLOOKUP($DD$15,Līmeņatzīmes!$B$6:$AI$7,2,FALSE))","v":" "},{"$f":"IF(DF46=\" \",\" \",$BQ$6*HLOOKUP($DD$15,Līmeņatzīmes!$B$6:$AI$7,2,FALSE))","v":" "},{"$f":"IF(DG46=\" \",\" \",$BQ$6*HLOOKUP($DD$15,Līmeņatzīmes!$B$6:$AI$7,2,FALSE))","v":" "},{"$f":"IF(DH46=\" \",\" \",$BQ$6*HLOOKUP($DD$15,Līmeņatzīmes!$B$6:$AI$7,2,FALSE))","v":" "},{"$f":"IF(DI46=\" \",\" \",$BQ$6*HLOOKUP($DD$15,Līmeņatzīmes!$B$6:$AI$7,2,FALSE))","v":" "},{"$f":"IF(DJ46=\" \",\" \",$BQ$6*HLOOKUP($DD$15,Līmeņatzīmes!$B$6:$AI$7,2,FALSE))","v":" "},{"$f":"IF(DK46=\" \",\" \",$BQ$6*HLOOKUP($DD$15,Līmeņatzīmes!$B$6:$AI$7,2,FALSE))","v":" "},{"$f":"IF(DL46=\" \",\" \",$BQ$6*HLOOKUP($DD$15,Līmeņatzīmes!$B$6:$AI$7,2,FALSE))","v":" "},{"$f":"IF(DM46=\" \",\" \",$BQ$6*HLOOKUP($DD$15,Līmeņatzīmes!$B$6:$AI$7,2,FALSE))","v":" "},{"$f":"IF(DN46=\" \",\" \",$BQ$6*HLOOKUP($DD$15,Līmeņatzīmes!$B$6:$AI$7,2,FALSE))","v":" "},{"$f":"IF(DO46=\" \",\" \",$BQ$6*HLOOKUP($DD$15,Līmeņatzīmes!$B$6:$AI$7,2,FALSE))","v":" "},{"$f":"IF(DP46=\" \",\" \",$BQ$6*HLOOKUP($DD$15,Līmeņatzīmes!$B$6:$AI$7,2,FALSE))","v":" "},{"$f":"IF(OR(DQ$16=\" \",DQ$16=0),\" \",SUM(DR50:EC50))","v":" "},{"$f":"IF(DR46=\" \",\" \",$BQ$6*HLOOKUP($DQ$15,Līmeņatzīmes!$B$6:$AI$7,2,FALSE))","v":" "},{"$f":"IF(DS46=\" \",\" \",$BQ$6*HLOOKUP($DQ$15,Līmeņatzīmes!$B$6:$AI$7,2,FALSE))","v":" "},{"$f":"IF(DT46=\" \",\" \",$BQ$6*HLOOKUP($DQ$15,Līmeņatzīmes!$B$6:$AI$7,2,FALSE))","v":" "},{"$f":"IF(DU46=\" \",\" \",$BQ$6*HLOOKUP($DQ$15,Līmeņatzīmes!$B$6:$AI$7,2,FALSE))","v":" "},{"$f":"IF(DV46=\" \",\" \",$BQ$6*HLOOKUP($DQ$15,Līmeņatzīmes!$B$6:$AI$7,2,FALSE))","v":" "},{"$f":"IF(DW46=\" \",\" \",$BQ$6*HLOOKUP($DQ$15,Līmeņatzīmes!$B$6:$AI$7,2,FALSE))","v":" "},{"$f":"IF(DX46=\" \",\" \",$BQ$6*HLOOKUP($DQ$15,Līmeņatzīmes!$B$6:$AI$7,2,FALSE))","v":" "},{"$f":"IF(DY46=\" \",\" \",$BQ$6*HLOOKUP($DQ$15,Līmeņatzīmes!$B$6:$AI$7,2,FALSE))","v":" "},{"$f":"IF(DZ46=\" \",\" \",$BQ$6*HLOOKUP($DQ$15,Līmeņatzīmes!$B$6:$AI$7,2,FALSE))","v":" "},{"$f":"IF(EA46=\" \",\" \",$BQ$6*HLOOKUP($DQ$15,Līmeņatzīmes!$B$6:$AI$7,2,FALSE))","v":" "},{"$f":"IF(EB46=\" \",\" \",$BQ$6*HLOOKUP($DQ$15,Līmeņatzīmes!$B$6:$AI$7,2,FALSE))","v":" "},{"$f":"IF(EC46=\" \",\" \",$BQ$6*HLOOKUP($DQ$15,Līmeņatzīmes!$B$6:$AI$7,2,FALSE))","v":" "},{"$f":"IF(OR(ED$16=\" \",ED$16=0),\" \",SUM(EE50:EP50))","v":" "},{"$f":"IF(EE46=\" \",\" \",$BQ$6*HLOOKUP($ED$15,Līmeņatzīmes!$B$6:$AI$7,2,FALSE))","v":" "},{"$f":"IF(EF46=\" \",\" \",$BQ$6*HLOOKUP($ED$15,Līmeņatzīmes!$B$6:$AI$7,2,FALSE))","v":" "},{"$f":"IF(EG46=\" \",\" \",$BQ$6*HLOOKUP($ED$15,Līmeņatzīmes!$B$6:$AI$7,2,FALSE))","v":" "},{"$f":"IF(EH46=\" \",\" \",$BQ$6*HLOOKUP($ED$15,Līmeņatzīmes!$B$6:$AI$7,2,FALSE))","v":" "},{"$f":"IF(EI46=\" \",\" \",$BQ$6*HLOOKUP($ED$15,Līmeņatzīmes!$B$6:$AI$7,2,FALSE))","v":" "},{"$f":"IF(EJ46=\" \",\" \",$BQ$6*HLOOKUP($ED$15,Līmeņatzīmes!$B$6:$AI$7,2,FALSE))","v":" "},{"$f":"IF(EK46=\" \",\" \",$BQ$6*HLOOKUP($ED$15,Līmeņatzīmes!$B$6:$AI$7,2,FALSE))","v":" "},{"$f":"IF(EL46=\" \",\" \",$BQ$6*HLOOKUP($ED$15,Līmeņatzīmes!$B$6:$AI$7,2,FALSE))","v":" "},{"$f":"IF(EM46=\" \",\" \",$BQ$6*HLOOKUP($ED$15,Līmeņatzīmes!$B$6:$AI$7,2,FALSE))","v":" "},{"$f":"IF(EN46=\" \",\" \",$BQ$6*HLOOKUP($ED$15,Līmeņatzīmes!$B$6:$AI$7,2,FALSE))","v":" "},{"$f":"IF(EO46=\" \",\" \",$BQ$6*HLOOKUP($ED$15,Līmeņatzīmes!$B$6:$AI$7,2,FALSE))","v":" "},{"$f":"IF(EP46=\" \",\" \",$BQ$6*HLOOKUP($ED$15,Līmeņatzīmes!$B$6:$AI$7,2,FALSE))","v":" "},{"$f":"IF(OR(EQ$16=\" \",EQ$16=0),\" \",SUM(ER50:FC50))","v":" "},{"$f":"IF(ER46=\" \",\" \",$BQ$6*HLOOKUP($EQ$15,Līmeņatzīmes!$B$6:$AI$7,2,FALSE))","v":" "},{"$f":"IF(ES46=\" \",\" \",$BQ$6*HLOOKUP($EQ$15,Līmeņatzīmes!$B$6:$AI$7,2,FALSE))","v":" "},{"$f":"IF(ET46=\" \",\" \",$BQ$6*HLOOKUP($EQ$15,Līmeņatzīmes!$B$6:$AI$7,2,FALSE))","v":" "},{"$f":"IF(EU46=\" \",\" \",$BQ$6*HLOOKUP($EQ$15,Līmeņatzīmes!$B$6:$AI$7,2,FALSE))","v":" "},{"$f":"IF(EV46=\" \",\" \",$BQ$6*HLOOKUP($EQ$15,Līmeņatzīmes!$B$6:$AI$7,2,FALSE))","v":" "},{"$f":"IF(EW46=\" \",\" \",$BQ$6*HLOOKUP($EQ$15,Līmeņatzīmes!$B$6:$AI$7,2,FALSE))","v":" "},{"$f":"IF(EX46=\" \",\" \",$BQ$6*HLOOKUP($EQ$15,Līmeņatzīmes!$B$6:$AI$7,2,FALSE))","v":" "},{"$f":"IF(EY46=\" \",\" \",$BQ$6*HLOOKUP($EQ$15,Līmeņatzīmes!$B$6:$AI$7,2,FALSE))","v":" "},{"$f":"IF(EZ46=\" \",\" \",$BQ$6*HLOOKUP($EQ$15,Līmeņatzīmes!$B$6:$AI$7,2,FALSE))","v":" "},{"$f":"IF(FA46=\" \",\" \",$BQ$6*HLOOKUP($EQ$15,Līmeņatzīmes!$B$6:$AI$7,2,FALSE))","v":" "},{"$f":"IF(FB46=\" \",\" \",$BQ$6*HLOOKUP($EQ$15,Līmeņatzīmes!$B$6:$AI$7,2,FALSE))","v":" "},{"$f":"IF(FC46=\" \",\" \",$BQ$6*HLOOKUP($EQ$15,Līmeņatzīmes!$B$6:$AI$7,2,FALSE))","v":" "},{"$f":"IF(OR(FD$16=\" \",FD$16=0),\" \",SUM(FE50:FP50))","v":" "},{"$f":"IF(FE46=\" \",\" \",$BQ$6*HLOOKUP($FD$15,Līmeņatzīmes!$B$6:$AI$7,2,FALSE))","v":" "},{"$f":"IF(FF46=\" \",\" \",$BQ$6*HLOOKUP($FD$15,Līmeņatzīmes!$B$6:$AI$7,2,FALSE))","v":" "},{"$f":"IF(FG46=\" \",\" \",$BQ$6*HLOOKUP($FD$15,Līmeņatzīmes!$B$6:$AI$7,2,FALSE))","v":" "},{"$f":"IF(FH46=\" \",\" \",$BQ$6*HLOOKUP($FD$15,Līmeņatzīmes!$B$6:$AI$7,2,FALSE))","v":" "},{"$f":"IF(FI46=\" \",\" \",$BQ$6*HLOOKUP($FD$15,Līmeņatzīmes!$B$6:$AI$7,2,FALSE))","v":" "},{"$f":"IF(FJ46=\" \",\" \",$BQ$6*HLOOKUP($FD$15,Līmeņatzīmes!$B$6:$AI$7,2,FALSE))","v":" "},{"$f":"IF(FK46=\" \",\" \",$BQ$6*HLOOKUP($FD$15,Līmeņatzīmes!$B$6:$AI$7,2,FALSE))","v":" "},{"$f":"IF(FL46=\" \",\" \",$BQ$6*HLOOKUP($FD$15,Līmeņatzīmes!$B$6:$AI$7,2,FALSE))","v":" "},{"$f":"IF(FM46=\" \",\" \",$BQ$6*HLOOKUP($FD$15,Līmeņatzīmes!$B$6:$AI$7,2,FALSE))","v":" "},{"$f":"IF(FN46=\" \",\" \",$BQ$6*HLOOKUP($FD$15,Līmeņatzīmes!$B$6:$AI$7,2,FALSE))","v":" "},{"$f":"IF(FO46=\" \",\" \",$BQ$6*HLOOKUP($FD$15,Līmeņatzīmes!$B$6:$AI$7,2,FALSE))","v":" "},{"$f":"IF(FP46=\" \",\" \",$BQ$6*HLOOKUP($FD$15,Līmeņatzīmes!$B$6:$AI$7,2,FALSE))","v":" "},{"$f":"IF(OR(FQ$16=\" \",FQ$16=0),\" \",SUM(FR50:GC50))","v":" "},{"$f":"IF(FR46=\" \",\" \",$BQ$6*HLOOKUP($FQ$15,Līmeņatzīmes!$B$6:$AI$7,2,FALSE))","v":" "},{"$f":"IF(FS46=\" \",\" \",$BQ$6*HLOOKUP($FQ$15,Līmeņatzīmes!$B$6:$AI$7,2,FALSE))","v":" "},{"$f":"IF(FT46=\" \",\" \",$BQ$6*HLOOKUP($FQ$15,Līmeņatzīmes!$B$6:$AI$7,2,FALSE))","v":" "},{"$f":"IF(FU46=\" \",\" \",$BQ$6*HLOOKUP($FQ$15,Līmeņatzīmes!$B$6:$AI$7,2,FALSE))","v":" "},{"$f":"IF(FV46=\" \",\" \",$BQ$6*HLOOKUP($FQ$15,Līmeņatzīmes!$B$6:$AI$7,2,FALSE))","v":" "},{"$f":"IF(FW46=\" \",\" \",$BQ$6*HLOOKUP($FQ$15,Līmeņatzīmes!$B$6:$AI$7,2,FALSE))","v":" "},{"$f":"IF(FX46=\" \",\" \",$BQ$6*HLOOKUP($FQ$15,Līmeņatzīmes!$B$6:$AI$7,2,FALSE))","v":" "},{"$f":"IF(FY46=\" \",\" \",$BQ$6*HLOOKUP($FQ$15,Līmeņatzīmes!$B$6:$AI$7,2,FALSE))","v":" "},{"$f":"IF(FZ46=\" \",\" \",$BQ$6*HLOOKUP($FQ$15,Līmeņatzīmes!$B$6:$AI$7,2,FALSE))","v":" "},{"$f":"IF(GA46=\" \",\" \",$BQ$6*HLOOKUP($FQ$15,Līmeņatzīmes!$B$6:$AI$7,2,FALSE))","v":" "},{"$f":"IF(GB46=\" \",\" \",$BQ$6*HLOOKUP($FQ$15,Līmeņatzīmes!$B$6:$AI$7,2,FALSE))","v":" "},{"$f":"IF(GC46=\" \",\" \",$BQ$6*HLOOKUP($FQ$15,Līmeņatzīmes!$B$6:$AI$7,2,FALSE))","v":" "},{"$f":"IF(OR(GD$16=\" \",GD$16=0),\" \",SUM(GE50:GP50))","v":" "},{"$f":"IF(GE46=\" \",\" \",$BQ$6*HLOOKUP($GD$15,Līmeņatzīmes!$B$6:$AI$7,2,FALSE))","v":" "},{"$f":"IF(GF46=\" \",\" \",$BQ$6*HLOOKUP($GD$15,Līmeņatzīmes!$B$6:$AI$7,2,FALSE))","v":" "},{"$f":"IF(GG46=\" \",\" \",$BQ$6*HLOOKUP($GD$15,Līmeņatzīmes!$B$6:$AI$7,2,FALSE))","v":" "},{"$f":"IF(GH46=\" \",\" \",$BQ$6*HLOOKUP($GD$15,Līmeņatzīmes!$B$6:$AI$7,2,FALSE))","v":" "},{"$f":"IF(GI46=\" \",\" \",$BQ$6*HLOOKUP($GD$15,Līmeņatzīmes!$B$6:$AI$7,2,FALSE))","v":" "},{"$f":"IF(GJ46=\" \",\" \",$BQ$6*HLOOKUP($GD$15,Līmeņatzīmes!$B$6:$AI$7,2,FALSE))","v":" "},{"$f":"IF(GK46=\" \",\" \",$BQ$6*HLOOKUP($GD$15,Līmeņatzīmes!$B$6:$AI$7,2,FALSE))","v":" "},{"$f":"IF(GL46=\" \",\" \",$BQ$6*HLOOKUP($GD$15,Līmeņatzīmes!$B$6:$AI$7,2,FALSE))","v":" "},{"$f":"IF(GM46=\" \",\" \",$BQ$6*HLOOKUP($GD$15,Līmeņatzīmes!$B$6:$AI$7,2,FALSE))","v":" "},{"$f":"IF(GN46=\" \",\" \",$BQ$6*HLOOKUP($GD$15,Līmeņatzīmes!$B$6:$AI$7,2,FALSE))","v":" "},{"$f":"IF(GO46=\" \",\" \",$BQ$6*HLOOKUP($GD$15,Līmeņatzīmes!$B$6:$AI$7,2,FALSE))","v":" "},{"$f":"IF(GP46=\" \",\" \",$BQ$6*HLOOKUP($GD$15,Līmeņatzīmes!$B$6:$AI$7,2,FALSE))","v":" "},{"$f":"IF(OR(GQ$16=\" \",GQ$16=0),\" \",SUM(GR50:HC50))","v":" "},{"$f":"IF(GR46=\" \",\" \",$BQ$6*HLOOKUP($GQ$15,Līmeņatzīmes!$B$6:$AI$7,2,FALSE))","v":" "},{"$f":"IF(GS46=\" \",\" \",$BQ$6*HLOOKUP($GQ$15,Līmeņatzīmes!$B$6:$AI$7,2,FALSE))","v":" "},{"$f":"IF(GT46=\" \",\" \",$BQ$6*HLOOKUP($GQ$15,Līmeņatzīmes!$B$6:$AI$7,2,FALSE))","v":" "},{"$f":"IF(GU46=\" \",\" \",$BQ$6*HLOOKUP($GQ$15,Līmeņatzīmes!$B$6:$AI$7,2,FALSE))","v":" "},{"$f":"IF(GV46=\" \",\" \",$BQ$6*HLOOKUP($GQ$15,Līmeņatzīmes!$B$6:$AI$7,2,FALSE))","v":" "},{"$f":"IF(GW46=\" \",\" \",$BQ$6*HLOOKUP($GQ$15,Līmeņatzīmes!$B$6:$AI$7,2,FALSE))","v":" "},{"$f":"IF(GX46=\" \",\" \",$BQ$6*HLOOKUP($GQ$15,Līmeņatzīmes!$B$6:$AI$7,2,FALSE))","v":" "},{"$f":"IF(GY46=\" \",\" \",$BQ$6*HLOOKUP($GQ$15,Līmeņatzīmes!$B$6:$AI$7,2,FALSE))","v":" "},{"$f":"IF(GZ46=\" \",\" \",$BQ$6*HLOOKUP($GQ$15,Līmeņatzīmes!$B$6:$AI$7,2,FALSE))","v":" "},{"$f":"IF(HA46=\" \",\" \",$BQ$6*HLOOKUP($GQ$15,Līmeņatzīmes!$B$6:$AI$7,2,FALSE))","v":" "},{"$f":"IF(HB46=\" \",\" \",$BQ$6*HLOOKUP($GQ$15,Līmeņatzīmes!$B$6:$AI$7,2,FALSE))","v":" "},{"$f":"IF(HC46=\" \",\" \",$BQ$6*HLOOKUP($GQ$15,Līmeņatzīmes!$B$6:$AI$7,2,FALSE))","v":" "},{"$f":"IF(OR(HD$16=\" \",HD$16=0),\" \",SUM(HE50:HP50))","v":" "},{"$f":"IF(HE46=\" \",\" \",$BQ$6*HLOOKUP($HD$15,Līmeņatzīmes!$B$6:$AI$7,2,FALSE))","v":" "},{"$f":"IF(HF46=\" \",\" \",$BQ$6*HLOOKUP($HD$15,Līmeņatzīmes!$B$6:$AI$7,2,FALSE))","v":" "},{"$f":"IF(HG46=\" \",\" \",$BQ$6*HLOOKUP($HD$15,Līmeņatzīmes!$B$6:$AI$7,2,FALSE))","v":" "},{"$f":"IF(HH46=\" \",\" \",$BQ$6*HLOOKUP($HD$15,Līmeņatzīmes!$B$6:$AI$7,2,FALSE))","v":" "},{"$f":"IF(HI46=\" \",\" \",$BQ$6*HLOOKUP($HD$15,Līmeņatzīmes!$B$6:$AI$7,2,FALSE))","v":" "},{"$f":"IF(HJ46=\" \",\" \",$BQ$6*HLOOKUP($HD$15,Līmeņatzīmes!$B$6:$AI$7,2,FALSE))","v":" "},{"$f":"IF(HK46=\" \",\" \",$BQ$6*HLOOKUP($HD$15,Līmeņatzīmes!$B$6:$AI$7,2,FALSE))","v":" "},{"$f":"IF(HL46=\" \",\" \",$BQ$6*HLOOKUP($HD$15,Līmeņatzīmes!$B$6:$AI$7,2,FALSE))","v":" "},{"$f":"IF(HM46=\" \",\" \",$BQ$6*HLOOKUP($HD$15,Līmeņatzīmes!$B$6:$AI$7,2,FALSE))","v":" "},{"$f":"IF(HN46=\" \",\" \",$BQ$6*HLOOKUP($HD$15,Līmeņatzīmes!$B$6:$AI$7,2,FALSE))","v":" "},{"$f":"IF(HO46=\" \",\" \",$BQ$6*HLOOKUP($HD$15,Līmeņatzīmes!$B$6:$AI$7,2,FALSE))","v":" "},{"$f":"IF(HP46=\" \",\" \",$BQ$6*HLOOKUP($HD$15,Līmeņatzīmes!$B$6:$AI$7,2,FALSE))","v":" "},{"$f":"IF(OR(HQ$16=\" \",HQ$16=0),\" \",SUM(HR50:IC50))","v":" "},{"$f":"IF(HR46=\" \",\" \",$BQ$6*HLOOKUP($HQ$15,Līmeņatzīmes!$B$6:$AI$7,2,FALSE))","v":" "},{"$f":"IF(HS46=\" \",\" \",$BQ$6*HLOOKUP($HQ$15,Līmeņatzīmes!$B$6:$AI$7,2,FALSE))","v":" "},{"$f":"IF(HT46=\" \",\" \",$BQ$6*HLOOKUP($HQ$15,Līmeņatzīmes!$B$6:$AI$7,2,FALSE))","v":" "},{"$f":"IF(HU46=\" \",\" \",$BQ$6*HLOOKUP($HQ$15,Līmeņatzīmes!$B$6:$AI$7,2,FALSE))","v":" "},{"$f":"IF(HV46=\" \",\" \",$BQ$6*HLOOKUP($HQ$15,Līmeņatzīmes!$B$6:$AI$7,2,FALSE))","v":" "},{"$f":"IF(HW46=\" \",\" \",$BQ$6*HLOOKUP($HQ$15,Līmeņatzīmes!$B$6:$AI$7,2,FALSE))","v":" "},{"$f":"IF(HX46=\" \",\" \",$BQ$6*HLOOKUP($HQ$15,Līmeņatzīmes!$B$6:$AI$7,2,FALSE))","v":" "},{"$f":"IF(HY46=\" \",\" \",$BQ$6*HLOOKUP($HQ$15,Līmeņatzīmes!$B$6:$AI$7,2,FALSE))","v":" "},{"$f":"IF(HZ46=\" \",\" \",$BQ$6*HLOOKUP($HQ$15,Līmeņatzīmes!$B$6:$AI$7,2,FALSE))","v":" "},{"$f":"IF(IA46=\" \",\" \",$BQ$6*HLOOKUP($HQ$15,Līmeņatzīmes!$B$6:$AI$7,2,FALSE))","v":" "},{"$f":"IF(IB46=\" \",\" \",$BQ$6*HLOOKUP($HQ$15,Līmeņatzīmes!$B$6:$AI$7,2,FALSE))","v":" "},{"$f":"IF(IC46=\" \",\" \",$BQ$6*HLOOKUP($HQ$15,Līmeņatzīmes!$B$6:$AI$7,2,FALSE))","v":" "},{"$f":"IF(OR(ID$16=\" \",ID$16=0),\" \",SUM(IE50:IP50))","v":" "},{"$f":"IF(IE46=\" \",\" \",$BQ$6*HLOOKUP($ID$15,Līmeņatzīmes!$B$6:$AI$7,2,FALSE))","v":" "},{"$f":"IF(IF46=\" \",\" \",$BQ$6*HLOOKUP($ID$15,Līmeņatzīmes!$B$6:$AI$7,2,FALSE))","v":" "},{"$f":"IF(IG46=\" \",\" \",$BQ$6*HLOOKUP($ID$15,Līmeņatzīmes!$B$6:$AI$7,2,FALSE))","v":" "},{"$f":"IF(IH46=\" \",\" \",$BQ$6*HLOOKUP($ID$15,Līmeņatzīmes!$B$6:$AI$7,2,FALSE))","v":" "},{"$f":"IF(II46=\" \",\" \",$BQ$6*HLOOKUP($ID$15,Līmeņatzīmes!$B$6:$AI$7,2,FALSE))","v":" "},{"$f":"IF(IJ46=\" \",\" \",$BQ$6*HLOOKUP($ID$15,Līmeņatzīmes!$B$6:$AI$7,2,FALSE))","v":" "},{"$f":"IF(IK46=\" \",\" \",$BQ$6*HLOOKUP($ID$15,Līmeņatzīmes!$B$6:$AI$7,2,FALSE))","v":" "},{"$f":"IF(IL46=\" \",\" \",$BQ$6*HLOOKUP($ID$15,Līmeņatzīmes!$B$6:$AI$7,2,FALSE))","v":" "},{"$f":"IF(IM46=\" \",\" \",$BQ$6*HLOOKUP($ID$15,Līmeņatzīmes!$B$6:$AI$7,2,FALSE))","v":" "},{"$f":"IF(IN46=\" \",\" \",$BQ$6*HLOOKUP($ID$15,Līmeņatzīmes!$B$6:$AI$7,2,FALSE))","v":" "},{"$f":"IF(IO46=\" \",\" \",$BQ$6*HLOOKUP($ID$15,Līmeņatzīmes!$B$6:$AI$7,2,FALSE))","v":" "},{"$f":"IF(IP46=\" \",\" \",$BQ$6*HLOOKUP($ID$15,Līmeņatzīmes!$B$6:$AI$7,2,FALSE))","v":" "},{"$f":"IF(OR(IQ$16=\" \",IQ$16=0),\" \",SUM(IR50:JC50))","v":" "},{"$f":"IF(IR46=\" \",\" \",$BQ$6*HLOOKUP($IQ$15,Līmeņatzīmes!$B$6:$AI$7,2,FALSE))","v":" "},{"$f":"IF(IS46=\" \",\" \",$BQ$6*HLOOKUP($IQ$15,Līmeņatzīmes!$B$6:$AI$7,2,FALSE))","v":" "},{"$f":"IF(IT46=\" \",\" \",$BQ$6*HLOOKUP($IQ$15,Līmeņatzīmes!$B$6:$AI$7,2,FALSE))","v":" "},{"$f":"IF(IU46=\" \",\" \",$BQ$6*HLOOKUP($IQ$15,Līmeņatzīmes!$B$6:$AI$7,2,FALSE))","v":" "},{"$f":"IF(IV46=\" \",\" \",$BQ$6*HLOOKUP($IQ$15,Līmeņatzīmes!$B$6:$AI$7,2,FALSE))","v":" "},{"$f":"IF(IW46=\" \",\" \",$BQ$6*HLOOKUP($IQ$15,Līmeņatzīmes!$B$6:$AI$7,2,FALSE))","v":" "},{"$f":"IF(IX46=\" \",\" \",$BQ$6*HLOOKUP($IQ$15,Līmeņatzīmes!$B$6:$AI$7,2,FALSE))","v":" "},{"$f":"IF(IY46=\" \",\" \",$BQ$6*HLOOKUP($IQ$15,Līmeņatzīmes!$B$6:$AI$7,2,FALSE))","v":" "},{"$f":"IF(IZ46=\" \",\" \",$BQ$6*HLOOKUP($IQ$15,Līmeņatzīmes!$B$6:$AI$7,2,FALSE))","v":" "},{"$f":"IF(JA46=\" \",\" \",$BQ$6*HLOOKUP($IQ$15,Līmeņatzīmes!$B$6:$AI$7,2,FALSE))","v":" "},{"$f":"IF(JB46=\" \",\" \",$BQ$6*HLOOKUP($IQ$15,Līmeņatzīmes!$B$6:$AI$7,2,FALSE))","v":" "},{"$f":"IF(JC46=\" \",\" \",$BQ$6*HLOOKUP($IQ$15,Līmeņatzīmes!$B$6:$AI$7,2,FALSE))","v":" "},{"$f":"IF(OR(JD$16=\" \",JD$16=0),\" \",SUM(JE50:JP50))","v":" "},{"$f":"IF(JE46=\" \",\" \",$BQ$6*HLOOKUP($JD$15,Līmeņatzīmes!$B$6:$AI$7,2,FALSE))","v":" "},{"$f":"IF(JF46=\" \",\" \",$BQ$6*HLOOKUP($JD$15,Līmeņatzīmes!$B$6:$AI$7,2,FALSE))","v":" "},{"$f":"IF(JG46=\" \",\" \",$BQ$6*HLOOKUP($JD$15,Līmeņatzīmes!$B$6:$AI$7,2,FALSE))","v":" "},{"$f":"IF(JH46=\" \",\" \",$BQ$6*HLOOKUP($JD$15,Līmeņatzīmes!$B$6:$AI$7,2,FALSE))","v":" "},{"$f":"IF(JI46=\" \",\" \",$BQ$6*HLOOKUP($JD$15,Līmeņatzīmes!$B$6:$AI$7,2,FALSE))","v":" "},{"$f":"IF(JJ46=\" \",\" \",$BQ$6*HLOOKUP($JD$15,Līmeņatzīmes!$B$6:$AI$7,2,FALSE))","v":" "},{"$f":"IF(JK46=\" \",\" \",$BQ$6*HLOOKUP($JD$15,Līmeņatzīmes!$B$6:$AI$7,2,FALSE))","v":" "},{"$f":"IF(JL46=\" \",\" \",$BQ$6*HLOOKUP($JD$15,Līmeņatzīmes!$B$6:$AI$7,2,FALSE))","v":" "},{"$f":"IF(JM46=\" \",\" \",$BQ$6*HLOOKUP($JD$15,Līmeņatzīmes!$B$6:$AI$7,2,FALSE))","v":" "},{"$f":"IF(JN46=\" \",\" \",$BQ$6*HLOOKUP($JD$15,Līmeņatzīmes!$B$6:$AI$7,2,FALSE))","v":" "},{"$f":"IF(JO46=\" \",\" \",$BQ$6*HLOOKUP($JD$15,Līmeņatzīmes!$B$6:$AI$7,2,FALSE))","v":" "},{"$f":"IF(JP46=\" \",\" \",$BQ$6*HLOOKUP($JD$15,Līmeņatzīmes!$B$6:$AI$7,2,FALSE))","v":" "},{"$f":"IF(OR(JQ$16=\" \",JQ$16=0),\" \",SUM(JR50:KC50))","v":" "},{"$f":"IF(JR46=\" \",\" \",$BQ$6*HLOOKUP($JQ$15,Līmeņatzīmes!$B$6:$AI$7,2,FALSE))","v":" "},{"$f":"IF(JS46=\" \",\" \",$BQ$6*HLOOKUP($JQ$15,Līmeņatzīmes!$B$6:$AI$7,2,FALSE))","v":" "},{"$f":"IF(JT46=\" \",\" \",$BQ$6*HLOOKUP($JQ$15,Līmeņatzīmes!$B$6:$AI$7,2,FALSE))","v":" "},{"$f":"IF(JU46=\" \",\" \",$BQ$6*HLOOKUP($JQ$15,Līmeņatzīmes!$B$6:$AI$7,2,FALSE))","v":" "},{"$f":"IF(JV46=\" \",\" \",$BQ$6*HLOOKUP($JQ$15,Līmeņatzīmes!$B$6:$AI$7,2,FALSE))","v":" "},{"$f":"IF(JW46=\" \",\" \",$BQ$6*HLOOKUP($JQ$15,Līmeņatzīmes!$B$6:$AI$7,2,FALSE))","v":" "},{"$f":"IF(JX46=\" \",\" \",$BQ$6*HLOOKUP($JQ$15,Līmeņatzīmes!$B$6:$AI$7,2,FALSE))","v":" "},{"$f":"IF(JY46=\" \",\" \",$BQ$6*HLOOKUP($JQ$15,Līmeņatzīmes!$B$6:$AI$7,2,FALSE))","v":" "},{"$f":"IF(JZ46=\" \",\" \",$BQ$6*HLOOKUP($JQ$15,Līmeņatzīmes!$B$6:$AI$7,2,FALSE))","v":" "},{"$f":"IF(KA46=\" \",\" \",$BQ$6*HLOOKUP($JQ$15,Līmeņatzīmes!$B$6:$AI$7,2,FALSE))","v":" "},{"$f":"IF(KB46=\" \",\" \",$BQ$6*HLOOKUP($JQ$15,Līmeņatzīmes!$B$6:$AI$7,2,FALSE))","v":" "},{"$f":"IF(KC46=\" \",\" \",$BQ$6*HLOOKUP($JQ$15,Līmeņatzīmes!$B$6:$AI$7,2,FALSE))","v":" "},{"$f":"IF(OR(KD$16=\" \",KD$16=0),\" \",SUM(KE50:KP50))","v":" "},{"$f":"IF(KE46=\" \",\" \",$BQ$6*HLOOKUP($KD$15,Līmeņatzīmes!$B$6:$AI$7,2,FALSE))","v":" "},{"$f":"IF(KF46=\" \",\" \",$BQ$6*HLOOKUP($KD$15,Līmeņatzīmes!$B$6:$AI$7,2,FALSE))","v":" "},{"$f":"IF(KG46=\" \",\" \",$BQ$6*HLOOKUP($KD$15,Līmeņatzīmes!$B$6:$AI$7,2,FALSE))","v":" "},{"$f":"IF(KH46=\" \",\" \",$BQ$6*HLOOKUP($KD$15,Līmeņatzīmes!$B$6:$AI$7,2,FALSE))","v":" "},{"$f":"IF(KI46=\" \",\" \",$BQ$6*HLOOKUP($KD$15,Līmeņatzīmes!$B$6:$AI$7,2,FALSE))","v":" "},{"$f":"IF(KJ46=\" \",\" \",$BQ$6*HLOOKUP($KD$15,Līmeņatzīmes!$B$6:$AI$7,2,FALSE))","v":" "},{"$f":"IF(KK46=\" \",\" \",$BQ$6*HLOOKUP($KD$15,Līmeņatzīmes!$B$6:$AI$7,2,FALSE))","v":" "},{"$f":"IF(KL46=\" \",\" \",$BQ$6*HLOOKUP($KD$15,Līmeņatzīmes!$B$6:$AI$7,2,FALSE))","v":" "},{"$f":"IF(KM46=\" \",\" \",$BQ$6*HLOOKUP($KD$15,Līmeņatzīmes!$B$6:$AI$7,2,FALSE))","v":" "},{"$f":"IF(KN46=\" \",\" \",$BQ$6*HLOOKUP($KD$15,Līmeņatzīmes!$B$6:$AI$7,2,FALSE))","v":" "},{"$f":"IF(KO46=\" \",\" \",$BQ$6*HLOOKUP($KD$15,Līmeņatzīmes!$B$6:$AI$7,2,FALSE))","v":" "},{"$f":"IF(KP46=\" \",\" \",$BQ$6*HLOOKUP($KD$15,Līmeņatzīmes!$B$6:$AI$7,2,FALSE))","v":" "},{"$f":"IF(OR(KQ$16=\" \",KQ$16=0),\" \",SUM(KR50:LC50))","v":" "},{"$f":"IF(KR46=\" \",\" \",$BQ$6*HLOOKUP($KQ$15,Līmeņatzīmes!$B$6:$AI$7,2,FALSE))","v":" "},{"$f":"IF(KS46=\" \",\" \",$BQ$6*HLOOKUP($KQ$15,Līmeņatzīmes!$B$6:$AI$7,2,FALSE))","v":" "},{"$f":"IF(KT46=\" \",\" \",$BQ$6*HLOOKUP($KQ$15,Līmeņatzīmes!$B$6:$AI$7,2,FALSE))","v":" "},{"$f":"IF(KU46=\" \",\" \",$BQ$6*HLOOKUP($KQ$15,Līmeņatzīmes!$B$6:$AI$7,2,FALSE))","v":" "},{"$f":"IF(KV46=\" \",\" \",$BQ$6*HLOOKUP($KQ$15,Līmeņatzīmes!$B$6:$AI$7,2,FALSE))","v":" "},{"$f":"IF(KW46=\" \",\" \",$BQ$6*HLOOKUP($KQ$15,Līmeņatzīmes!$B$6:$AI$7,2,FALSE))","v":" "},{"$f":"IF(KX46=\" \",\" \",$BQ$6*HLOOKUP($KQ$15,Līmeņatzīmes!$B$6:$AI$7,2,FALSE))","v":" "},{"$f":"IF(KY46=\" \",\" \",$BQ$6*HLOOKUP($KQ$15,Līmeņatzīmes!$B$6:$AI$7,2,FALSE))","v":" "},{"$f":"IF(KZ46=\" \",\" \",$BQ$6*HLOOKUP($KQ$15,Līmeņatzīmes!$B$6:$AI$7,2,FALSE))","v":" "},{"$f":"IF(LA46=\" \",\" \",$BQ$6*HLOOKUP($KQ$15,Līmeņatzīmes!$B$6:$AI$7,2,FALSE))","v":" "},{"$f":"IF(LB46=\" \",\" \",$BQ$6*HLOOKUP($KQ$15,Līmeņatzīmes!$B$6:$AI$7,2,FALSE))","v":" "},{"$f":"IF(LC46=\" \",\" \",$BQ$6*HLOOKUP($KQ$15,Līmeņatzīmes!$B$6:$AI$7,2,FALSE))","v":" "},{"$f":"IF(OR(LD$16=\" \",LD$16=0),\" \",SUM(LE50:LP50))","v":" "},{"$f":"IF(LE46=\" \",\" \",$BQ$6*HLOOKUP($LD$15,Līmeņatzīmes!$B$6:$AI$7,2,FALSE))","v":" "},{"$f":"IF(LF46=\" \",\" \",$BQ$6*HLOOKUP($LD$15,Līmeņatzīmes!$B$6:$AI$7,2,FALSE))","v":" "},{"$f":"IF(LG46=\" \",\" \",$BQ$6*HLOOKUP($LD$15,Līmeņatzīmes!$B$6:$AI$7,2,FALSE))","v":" "},{"$f":"IF(LH46=\" \",\" \",$BQ$6*HLOOKUP($LD$15,Līmeņatzīmes!$B$6:$AI$7,2,FALSE))","v":" "},{"$f":"IF(LI46=\" \",\" \",$BQ$6*HLOOKUP($LD$15,Līmeņatzīmes!$B$6:$AI$7,2,FALSE))","v":" "},{"$f":"IF(LJ46=\" \",\" \",$BQ$6*HLOOKUP($LD$15,Līmeņatzīmes!$B$6:$AI$7,2,FALSE))","v":" "},{"$f":"IF(LK46=\" \",\" \",$BQ$6*HLOOKUP($LD$15,Līmeņatzīmes!$B$6:$AI$7,2,FALSE))","v":" "},{"$f":"IF(LL46=\" \",\" \",$BQ$6*HLOOKUP($LD$15,Līmeņatzīmes!$B$6:$AI$7,2,FALSE))","v":" "},{"$f":"IF(LM46=\" \",\" \",$BQ$6*HLOOKUP($LD$15,Līmeņatzīmes!$B$6:$AI$7,2,FALSE))","v":" "},{"$f":"IF(LN46=\" \",\" \",$BQ$6*HLOOKUP($LD$15,Līmeņatzīmes!$B$6:$AI$7,2,FALSE))","v":" "},{"$f":"IF(LO46=\" \",\" \",$BQ$6*HLOOKUP($LD$15,Līmeņatzīmes!$B$6:$AI$7,2,FALSE))","v":" "},{"$f":"IF(LP46=\" \",\" \",$BQ$6*HLOOKUP($LD$15,Līmeņatzīmes!$B$6:$AI$7,2,FALSE))","v":" "},{"$f":"IF(OR(LQ$16=\" \",LQ$16=0),\" \",SUM(LR50:MC50))","v":" "},{"$f":"IF(LR46=\" \",\" \",$BQ$6*HLOOKUP($LQ$15,Līmeņatzīmes!$B$6:$AI$7,2,FALSE))","v":" "},{"$f":"IF(LS46=\" \",\" \",$BQ$6*HLOOKUP($LQ$15,Līmeņatzīmes!$B$6:$AI$7,2,FALSE))","v":" "},{"$f":"IF(LT46=\" \",\" \",$BQ$6*HLOOKUP($LQ$15,Līmeņatzīmes!$B$6:$AI$7,2,FALSE))","v":" "},{"$f":"IF(LU46=\" \",\" \",$BQ$6*HLOOKUP($LQ$15,Līmeņatzīmes!$B$6:$AI$7,2,FALSE))","v":" "},{"$f":"IF(LV46=\" \",\" \",$BQ$6*HLOOKUP($LQ$15,Līmeņatzīmes!$B$6:$AI$7,2,FALSE))","v":" "},{"$f":"IF(LW46=\" \",\" \",$BQ$6*HLOOKUP($LQ$15,Līmeņatzīmes!$B$6:$AI$7,2,FALSE))","v":" "},{"$f":"IF(LX46=\" \",\" \",$BQ$6*HLOOKUP($LQ$15,Līmeņatzīmes!$B$6:$AI$7,2,FALSE))","v":" "},{"$f":"IF(LY46=\" \",\" \",$BQ$6*HLOOKUP($LQ$15,Līmeņatzīmes!$B$6:$AI$7,2,FALSE))","v":" "},{"$f":"IF(LZ46=\" \",\" \",$BQ$6*HLOOKUP($LQ$15,Līmeņatzīmes!$B$6:$AI$7,2,FALSE))","v":" "},{"$f":"IF(MA46=\" \",\" \",$BQ$6*HLOOKUP($LQ$15,Līmeņatzīmes!$B$6:$AI$7,2,FALSE))","v":" "},{"$f":"IF(MB46=\" \",\" \",$BQ$6*HLOOKUP($LQ$15,Līmeņatzīmes!$B$6:$AI$7,2,FALSE))","v":" "},{"$f":"IF(MC46=\" \",\" \",$BQ$6*HLOOKUP($LQ$15,Līmeņatzīmes!$B$6:$AI$7,2,FALSE))","v":" "},{"$f":"IF(OR(MD$16=\" \",MD$16=0),\" \",SUM(ME50:MP50))","v":" "},{"$f":"IF(ME46=\" \",\" \",$BQ$6*HLOOKUP($MD$15,Līmeņatzīmes!$B$6:$AI$7,2,FALSE))","v":" "},{"$f":"IF(MF46=\" \",\" \",$BQ$6*HLOOKUP($MD$15,Līmeņatzīmes!$B$6:$AI$7,2,FALSE))","v":" "},{"$f":"IF(MG46=\" \",\" \",$BQ$6*HLOOKUP($MD$15,Līmeņatzīmes!$B$6:$AI$7,2,FALSE))","v":" "},{"$f":"IF(MH46=\" \",\" \",$BQ$6*HLOOKUP($MD$15,Līmeņatzīmes!$B$6:$AI$7,2,FALSE))","v":" "},{"$f":"IF(MI46=\" \",\" \",$BQ$6*HLOOKUP($MD$15,Līmeņatzīmes!$B$6:$AI$7,2,FALSE))","v":" "},{"$f":"IF(MJ46=\" \",\" \",$BQ$6*HLOOKUP($MD$15,Līmeņatzīmes!$B$6:$AI$7,2,FALSE))","v":" "},{"$f":"IF(MK46=\" \",\" \",$BQ$6*HLOOKUP($MD$15,Līmeņatzīmes!$B$6:$AI$7,2,FALSE))","v":" "},{"$f":"IF(ML46=\" \",\" \",$BQ$6*HLOOKUP($MD$15,Līmeņatzīmes!$B$6:$AI$7,2,FALSE))","v":" "},{"$f":"IF(MM46=\" \",\" \",$BQ$6*HLOOKUP($MD$15,Līmeņatzīmes!$B$6:$AI$7,2,FALSE))","v":" "},{"$f":"IF(MN46=\" \",\" \",$BQ$6*HLOOKUP($MD$15,Līmeņatzīmes!$B$6:$AI$7,2,FALSE))","v":" "},{"$f":"IF(MO46=\" \",\" \",$BQ$6*HLOOKUP($MD$15,Līmeņatzīmes!$B$6:$AI$7,2,FALSE))","v":" "},{"$f":"IF(MP46=\" \",\" \",$BQ$6*HLOOKUP($MD$15,Līmeņatzīmes!$B$6:$AI$7,2,FALSE))","v":" "},{"$f":"IF(OR(MQ$16=\" \",MQ$16=0),\" \",SUM(MR50:NC50))","v":" "},{"$f":"IF(MR46=\" \",\" \",$BQ$6*HLOOKUP($MQ$15,Līmeņatzīmes!$B$6:$AI$7,2,FALSE))","v":" "},{"$f":"IF(MS46=\" \",\" \",$BQ$6*HLOOKUP($MQ$15,Līmeņatzīmes!$B$6:$AI$7,2,FALSE))","v":" "},{"$f":"IF(MT46=\" \",\" \",$BQ$6*HLOOKUP($MQ$15,Līmeņatzīmes!$B$6:$AI$7,2,FALSE))","v":" "},{"$f":"IF(MU46=\" \",\" \",$BQ$6*HLOOKUP($MQ$15,Līmeņatzīmes!$B$6:$AI$7,2,FALSE))","v":" "},{"$f":"IF(MV46=\" \",\" \",$BQ$6*HLOOKUP($MQ$15,Līmeņatzīmes!$B$6:$AI$7,2,FALSE))","v":" "},{"$f":"IF(MW46=\" \",\" \",$BQ$6*HLOOKUP($MQ$15,Līmeņatzīmes!$B$6:$AI$7,2,FALSE))","v":" "},{"$f":"IF(MX46=\" \",\" \",$BQ$6*HLOOKUP($MQ$15,Līmeņatzīmes!$B$6:$AI$7,2,FALSE))","v":" "},{"$f":"IF(MY46=\" \",\" \",$BQ$6*HLOOKUP($MQ$15,Līmeņatzīmes!$B$6:$AI$7,2,FALSE))","v":" "},{"$f":"IF(MZ46=\" \",\" \",$BQ$6*HLOOKUP($MQ$15,Līmeņatzīmes!$B$6:$AI$7,2,FALSE))","v":" "},{"$f":"IF(NA46=\" \",\" \",$BQ$6*HLOOKUP($MQ$15,Līmeņatzīmes!$B$6:$AI$7,2,FALSE))","v":" "},{"$f":"IF(NB46=\" \",\" \",$BQ$6*HLOOKUP($MQ$15,Līmeņatzīmes!$B$6:$AI$7,2,FALSE))","v":" "},{"$f":"IF(NC46=\" \",\" \",$BQ$6*HLOOKUP($MQ$15,Līmeņatzīmes!$B$6:$AI$7,2,FALSE))","v":" "},{"$f":"IF(OR(ND$16=\" \",ND$16=0),\" \",SUM(NE50:NP50))","v":" "},{"$f":"IF(NE46=\" \",\" \",$BQ$6*HLOOKUP($ND$15,Līmeņatzīmes!$B$6:$AI$7,2,FALSE))","v":" "},{"$f":"IF(NF46=\" \",\" \",$BQ$6*HLOOKUP($ND$15,Līmeņatzīmes!$B$6:$AI$7,2,FALSE))","v":" "},{"$f":"IF(NG46=\" \",\" \",$BQ$6*HLOOKUP($ND$15,Līmeņatzīmes!$B$6:$AI$7,2,FALSE))","v":" "},{"$f":"IF(NH46=\" \",\" \",$BQ$6*HLOOKUP($ND$15,Līmeņatzīmes!$B$6:$AI$7,2,FALSE))","v":" "},{"$f":"IF(NI46=\" \",\" \",$BQ$6*HLOOKUP($ND$15,Līmeņatzīmes!$B$6:$AI$7,2,FALSE))","v":" "},{"$f":"IF(NJ46=\" \",\" \",$BQ$6*HLOOKUP($ND$15,Līmeņatzīmes!$B$6:$AI$7,2,FALSE))","v":" "},{"$f":"IF(NK46=\" \",\" \",$BQ$6*HLOOKUP($ND$15,Līmeņatzīmes!$B$6:$AI$7,2,FALSE))","v":" "},{"$f":"IF(NL46=\" \",\" \",$BQ$6*HLOOKUP($ND$15,Līmeņatzīmes!$B$6:$AI$7,2,FALSE))","v":" "},{"$f":"IF(NM46=\" \",\" \",$BQ$6*HLOOKUP($ND$15,Līmeņatzīmes!$B$6:$AI$7,2,FALSE))","v":" "},{"$f":"IF(NN46=\" \",\" \",$BQ$6*HLOOKUP($ND$15,Līmeņatzīmes!$B$6:$AI$7,2,FALSE))","v":" "},{"$f":"IF(NO46=\" \",\" \",$BQ$6*HLOOKUP($ND$15,Līmeņatzīmes!$B$6:$AI$7,2,FALSE))","v":" "},{"$f":"IF(NP46=\" \",\" \",$BQ$6*HLOOKUP($ND$15,Līmeņatzīmes!$B$6:$AI$7,2,FALSE))","v":" "},{"$f":"IF(OR(NQ$16=\" \",NQ$16=0),\" \",SUM(NR50:OC50))","v":" "},{"$f":"IF(NR46=\" \",\" \",$BQ$6*HLOOKUP($NQ$15,Līmeņatzīmes!$B$6:$AI$7,2,FALSE))","v":" "},{"$f":"IF(NS46=\" \",\" \",$BQ$6*HLOOKUP($NQ$15,Līmeņatzīmes!$B$6:$AI$7,2,FALSE))","v":" "},{"$f":"IF(NT46=\" \",\" \",$BQ$6*HLOOKUP($NQ$15,Līmeņatzīmes!$B$6:$AI$7,2,FALSE))","v":" "},{"$f":"IF(NU46=\" \",\" \",$BQ$6*HLOOKUP($NQ$15,Līmeņatzīmes!$B$6:$AI$7,2,FALSE))","v":" "},{"$f":"IF(NV46=\" \",\" \",$BQ$6*HLOOKUP($NQ$15,Līmeņatzīmes!$B$6:$AI$7,2,FALSE))","v":" "},{"$f":"IF(NW46=\" \",\" \",$BQ$6*HLOOKUP($NQ$15,Līmeņatzīmes!$B$6:$AI$7,2,FALSE))","v":" "},{"$f":"IF(NX46=\" \",\" \",$BQ$6*HLOOKUP($NQ$15,Līmeņatzīmes!$B$6:$AI$7,2,FALSE))","v":" "},{"$f":"IF(NY46=\" \",\" \",$BQ$6*HLOOKUP($NQ$15,Līmeņatzīmes!$B$6:$AI$7,2,FALSE))","v":" "},{"$f":"IF(NZ46=\" \",\" \",$BQ$6*HLOOKUP($NQ$15,Līmeņatzīmes!$B$6:$AI$7,2,FALSE))","v":" "},{"$f":"IF(OA46=\" \",\" \",$BQ$6*HLOOKUP($NQ$15,Līmeņatzīmes!$B$6:$AI$7,2,FALSE))","v":" "},{"$f":"IF(OB46=\" \",\" \",$BQ$6*HLOOKUP($NQ$15,Līmeņatzīmes!$B$6:$AI$7,2,FALSE))","v":" "},{"$f":"IF(OC46=\" \",\" \",$BQ$6*HLOOKUP($NQ$15,Līmeņatzīmes!$B$6:$AI$7,2,FALSE))","v":" "},{"$f":"IF(OR(OD$16=\" \",OD$16=0),\" \",SUM(OE50:OP50))","v":" "},{"$f":"IF(OE46=\" \",\" \",$BQ$6*HLOOKUP($OD$15,Līmeņatzīmes!$B$6:$AI$7,2,FALSE))","v":" "},{"$f":"IF(OF46=\" \",\" \",$BQ$6*HLOOKUP($OD$15,Līmeņatzīmes!$B$6:$AI$7,2,FALSE))","v":" "},{"$f":"IF(OG46=\" \",\" \",$BQ$6*HLOOKUP($OD$15,Līmeņatzīmes!$B$6:$AI$7,2,FALSE))","v":" "},{"$f":"IF(OH46=\" \",\" \",$BQ$6*HLOOKUP($OD$15,Līmeņatzīmes!$B$6:$AI$7,2,FALSE))","v":" "},{"$f":"IF(OI46=\" \",\" \",$BQ$6*HLOOKUP($OD$15,Līmeņatzīmes!$B$6:$AI$7,2,FALSE))","v":" "},{"$f":"IF(OJ46=\" \",\" \",$BQ$6*HLOOKUP($OD$15,Līmeņatzīmes!$B$6:$AI$7,2,FALSE))","v":" "},{"$f":"IF(OK46=\" \",\" \",$BQ$6*HLOOKUP($OD$15,Līmeņatzīmes!$B$6:$AI$7,2,FALSE))","v":" "},{"$f":"IF(OL46=\" \",\" \",$BQ$6*HLOOKUP($OD$15,Līmeņatzīmes!$B$6:$AI$7,2,FALSE))","v":" "},{"$f":"IF(OM46=\" \",\" \",$BQ$6*HLOOKUP($OD$15,Līmeņatzīmes!$B$6:$AI$7,2,FALSE))","v":" "},{"$f":"IF(ON46=\" \",\" \",$BQ$6*HLOOKUP($OD$15,Līmeņatzīmes!$B$6:$AI$7,2,FALSE))","v":" "},{"$f":"IF(OO46=\" \",\" \",$BQ$6*HLOOKUP($OD$15,Līmeņatzīmes!$B$6:$AI$7,2,FALSE))","v":" "},{"$f":"IF(OP46=\" \",\" \",$BQ$6*HLOOKUP($OD$15,Līmeņatzīmes!$B$6:$AI$7,2,FALSE))","v":" "},{"$f":"IF(OR(OQ$16=\" \",OQ$16=0),\" \",SUM(OR50:PC50))","v":" "},{"$f":"IF(OR46=\" \",\" \",$BQ$6*HLOOKUP($OQ$15,Līmeņatzīmes!$B$6:$AI$7,2,FALSE))","v":" "},{"$f":"IF(OS46=\" \",\" \",$BQ$6*HLOOKUP($OQ$15,Līmeņatzīmes!$B$6:$AI$7,2,FALSE))","v":" "},{"$f":"IF(OT46=\" \",\" \",$BQ$6*HLOOKUP($OQ$15,Līmeņatzīmes!$B$6:$AI$7,2,FALSE))","v":" "},{"$f":"IF(OU46=\" \",\" \",$BQ$6*HLOOKUP($OQ$15,Līmeņatzīmes!$B$6:$AI$7,2,FALSE))","v":" "},{"$f":"IF(OV46=\" \",\" \",$BQ$6*HLOOKUP($OQ$15,Līmeņatzīmes!$B$6:$AI$7,2,FALSE))","v":" "},{"$f":"IF(OW46=\" \",\" \",$BQ$6*HLOOKUP($OQ$15,Līmeņatzīmes!$B$6:$AI$7,2,FALSE))","v":" "},{"$f":"IF(OX46=\" \",\" \",$BQ$6*HLOOKUP($OQ$15,Līmeņatzīmes!$B$6:$AI$7,2,FALSE))","v":" "},{"$f":"IF(OY46=\" \",\" \",$BQ$6*HLOOKUP($OQ$15,Līmeņatzīmes!$B$6:$AI$7,2,FALSE))","v":" "},{"$f":"IF(OZ46=\" \",\" \",$BQ$6*HLOOKUP($OQ$15,Līmeņatzīmes!$B$6:$AI$7,2,FALSE))","v":" "},{"$f":"IF(PA46=\" \",\" \",$BQ$6*HLOOKUP($OQ$15,Līmeņatzīmes!$B$6:$AI$7,2,FALSE))","v":" "},{"$f":"IF(PB46=\" \",\" \",$BQ$6*HLOOKUP($OQ$15,Līmeņatzīmes!$B$6:$AI$7,2,FALSE))","v":" "},{"$f":"IF(PC46=\" \",\" \",$BQ$6*HLOOKUP($OQ$15,Līmeņatzīmes!$B$6:$AI$7,2,FALSE))","v":" "},{"$f":"IF(OR(PD$16=\" \",PD$16=0),\" \",SUM(PE50:PP50))","v":" "},{"$f":"IF(PE46=\" \",\" \",$BQ$6*HLOOKUP($PD$15,Līmeņatzīmes!$B$6:$AI$7,2,FALSE))","v":" "},{"$f":"IF(PF46=\" \",\" \",$BQ$6*HLOOKUP($PD$15,Līmeņatzīmes!$B$6:$AI$7,2,FALSE))","v":" "},{"$f":"IF(PG46=\" \",\" \",$BQ$6*HLOOKUP($PD$15,Līmeņatzīmes!$B$6:$AI$7,2,FALSE))","v":" "},{"$f":"IF(PH46=\" \",\" \",$BQ$6*HLOOKUP($PD$15,Līmeņatzīmes!$B$6:$AI$7,2,FALSE))","v":" "},{"$f":"IF(PI46=\" \",\" \",$BQ$6*HLOOKUP($PD$15,Līmeņatzīmes!$B$6:$AI$7,2,FALSE))","v":" "},{"$f":"IF(PJ46=\" \",\" \",$BQ$6*HLOOKUP($PD$15,Līmeņatzīmes!$B$6:$AI$7,2,FALSE))","v":" "},{"$f":"IF(PK46=\" \",\" \",$BQ$6*HLOOKUP($PD$15,Līmeņatzīmes!$B$6:$AI$7,2,FALSE))","v":" "},{"$f":"IF(PL46=\" \",\" \",$BQ$6*HLOOKUP($PD$15,Līmeņatzīmes!$B$6:$AI$7,2,FALSE))","v":" "},{"$f":"IF(PM46=\" \",\" \",$BQ$6*HLOOKUP($PD$15,Līmeņatzīmes!$B$6:$AI$7,2,FALSE))","v":" "},{"$f":"IF(PN46=\" \",\" \",$BQ$6*HLOOKUP($PD$15,Līmeņatzīmes!$B$6:$AI$7,2,FALSE))","v":" "},{"$f":"IF(PO46=\" \",\" \",$BQ$6*HLOOKUP($PD$15,Līmeņatzīmes!$B$6:$AI$7,2,FALSE))","v":" "},{"$f":"IF(PP46=\" \",\" \",$BQ$6*HLOOKUP($PD$15,Līmeņatzīmes!$B$6:$AI$7,2,FALSE))","v":" "},{"$f":"IF(OR(PQ$16=\" \",PQ$16=0),\" \",SUM(PR50:QC50))","v":" "},{"$f":"IF(PR46=\" \",\" \",$BQ$6*HLOOKUP($PQ$15,Līmeņatzīmes!$B$6:$AI$7,2,FALSE))","v":" "},{"$f":"IF(PS46=\" \",\" \",$BQ$6*HLOOKUP($PQ$15,Līmeņatzīmes!$B$6:$AI$7,2,FALSE))","v":" "},{"$f":"IF(PT46=\" \",\" \",$BQ$6*HLOOKUP($PQ$15,Līmeņatzīmes!$B$6:$AI$7,2,FALSE))","v":" "},{"$f":"IF(PU46=\" \",\" \",$BQ$6*HLOOKUP($PQ$15,Līmeņatzīmes!$B$6:$AI$7,2,FALSE))","v":" "},{"$f":"IF(PV46=\" \",\" \",$BQ$6*HLOOKUP($PQ$15,Līmeņatzīmes!$B$6:$AI$7,2,FALSE))","v":" "},{"$f":"IF(PW46=\" \",\" \",$BQ$6*HLOOKUP($PQ$15,Līmeņatzīmes!$B$6:$AI$7,2,FALSE))","v":" "},{"$f":"IF(PX46=\" \",\" \",$BQ$6*HLOOKUP($PQ$15,Līmeņatzīmes!$B$6:$AI$7,2,FALSE))","v":" "},{"$f":"IF(PY46=\" \",\" \",$BQ$6*HLOOKUP($PQ$15,Līmeņatzīmes!$B$6:$AI$7,2,FALSE))","v":" "},{"$f":"IF(PZ46=\" \",\" \",$BQ$6*HLOOKUP($PQ$15,Līmeņatzīmes!$B$6:$AI$7,2,FALSE))","v":" "},{"$f":"IF(QA46=\" \",\" \",$BQ$6*HLOOKUP($PQ$15,Līmeņatzīmes!$B$6:$AI$7,2,FALSE))","v":" "},{"$f":"IF(QB46=\" \",\" \",$BQ$6*HLOOKUP($PQ$15,Līmeņatzīmes!$B$6:$AI$7,2,FALSE))","v":" "},{"$f":"IF(QC46=\" \",\" \",$BQ$6*HLOOKUP($PQ$15,Līmeņatzīmes!$B$6:$AI$7,2,FALSE))","v":" "}]
["Ekspluatācijas un pārējās darbības izmaksas","EUR/gadā"," ",{"$f":"IF(OR(D$16=\" \",D$16=0),\" \",SUM(E51:P51))","v":" "},{"$f":"IF(E46=\" \",\" \",IF($C$27=\" \",$CD$6*E45,$C$27*(1+HLOOKUP($D$15,Līmeņatzīmes!$B$3:$AI$4,2,FALSE))))","v":" "},{"$f":"IF(F46=\" \",\" \",IF($C$27=\" \",$CD$6*F45,$C$27*(1+HLOOKUP($D$15,Līmeņatzīmes!$B$3:$AI$4,2,FALSE))))","v":" "},{"$f":"IF(G46=\" \",\" \",IF($C$27=\" \",$CD$6*G45,$C$27*(1+HLOOKUP($D$15,Līmeņatzīmes!$B$3:$AI$4,2,FALSE))))","v":" "},{"$f":"IF(H46=\" \",\" \",IF($C$27=\" \",$CD$6*H45,$C$27*(1+HLOOKUP($D$15,Līmeņatzīmes!$B$3:$AI$4,2,FALSE))))","v":" "},{"$f":"IF(I46=\" \",\" \",IF($C$27=\" \",$CD$6*I45,$C$27*(1+HLOOKUP($D$15,Līmeņatzīmes!$B$3:$AI$4,2,FALSE))))","v":" "},{"$f":"IF(J46=\" \",\" \",IF($C$27=\" \",$CD$6*J45,$C$27*(1+HLOOKUP($D$15,Līmeņatzīmes!$B$3:$AI$4,2,FALSE))))","v":" "},{"$f":"IF(K46=\" \",\" \",IF($C$27=\" \",$CD$6*K45,$C$27*(1+HLOOKUP($D$15,Līmeņatzīmes!$B$3:$AI$4,2,FALSE))))","v":" "},{"$f":"IF(L46=\" \",\" \",IF($C$27=\" \",$CD$6*L45,$C$27*(1+HLOOKUP($D$15,Līmeņatzīmes!$B$3:$AI$4,2,FALSE))))","v":" "},{"$f":"IF(M46=\" \",\" \",IF($C$27=\" \",$CD$6*M45,$C$27*(1+HLOOKUP($D$15,Līmeņatzīmes!$B$3:$AI$4,2,FALSE))))","v":" "},{"$f":"IF(N46=\" \",\" \",IF($C$27=\" \",$CD$6*N45,$C$27*(1+HLOOKUP($D$15,Līmeņatzīmes!$B$3:$AI$4,2,FALSE))))","v":" "},{"$f":"IF(O46=\" \",\" \",IF($C$27=\" \",$CD$6*O45,$C$27*(1+HLOOKUP($D$15,Līmeņatzīmes!$B$3:$AI$4,2,FALSE))))","v":" "},{"$f":"IF(P46=\" \",\" \",IF($C$27=\" \",$CD$6*P45,$C$27*(1+HLOOKUP($D$15,Līmeņatzīmes!$B$3:$AI$4,2,FALSE))))","v":" "},{"$f":"IF(OR(Q$16=\" \",Q$16=0),\" \",SUM(R51:AC51))","v":" "},{"$f":"IF(R46=\" \",\" \",IF($P$27=\" \",$CD$6*R45,$P$27*(1+HLOOKUP($Q$15,Līmeņatzīmes!$B$3:$AI$4,2,FALSE))))","v":" "},{"$f":"IF(S46=\" \",\" \",IF($P$27=\" \",$CD$6*S45,$P$27*(1+HLOOKUP($Q$15,Līmeņatzīmes!$B$3:$AI$4,2,FALSE))))","v":" "},{"$f":"IF(T46=\" \",\" \",IF($P$27=\" \",$CD$6*T45,$P$27*(1+HLOOKUP($Q$15,Līmeņatzīmes!$B$3:$AI$4,2,FALSE))))","v":" "},{"$f":"IF(U46=\" \",\" \",IF($P$27=\" \",$CD$6*U45,$P$27*(1+HLOOKUP($Q$15,Līmeņatzīmes!$B$3:$AI$4,2,FALSE))))","v":" "},{"$f":"IF(V46=\" \",\" \",IF($P$27=\" \",$CD$6*V45,$P$27*(1+HLOOKUP($Q$15,Līmeņatzīmes!$B$3:$AI$4,2,FALSE))))","v":" "},{"$f":"IF(W46=\" \",\" \",IF($P$27=\" \",$CD$6*W45,$P$27*(1+HLOOKUP($Q$15,Līmeņatzīmes!$B$3:$AI$4,2,FALSE))))","v":" "},{"$f":"IF(X46=\" \",\" \",IF($P$27=\" \",$CD$6*X45,$P$27*(1+HLOOKUP($Q$15,Līmeņatzīmes!$B$3:$AI$4,2,FALSE))))","v":" "},{"$f":"IF(Y46=\" \",\" \",IF($P$27=\" \",$CD$6*Y45,$P$27*(1+HLOOKUP($Q$15,Līmeņatzīmes!$B$3:$AI$4,2,FALSE))))","v":" "},{"$f":"IF(Z46=\" \",\" \",IF($P$27=\" \",$CD$6*Z45,$P$27*(1+HLOOKUP($Q$15,Līmeņatzīmes!$B$3:$AI$4,2,FALSE))))","v":" "},{"$f":"IF(AA46=\" \",\" \",IF($P$27=\" \",$CD$6*AA45,$P$27*(1+HLOOKUP($Q$15,Līmeņatzīmes!$B$3:$AI$4,2,FALSE))))","v":" "},{"$f":"IF(AB46=\" \",\" \",IF($P$27=\" \",$CD$6*AB45,$P$27*(1+HLOOKUP($Q$15,Līmeņatzīmes!$B$3:$AI$4,2,FALSE))))","v":" "},{"$f":"IF(AC46=\" \",\" \",IF($P$27=\" \",$CD$6*AC45,$P$27*(1+HLOOKUP($Q$15,Līmeņatzīmes!$B$3:$AI$4,2,FALSE))))","v":" "},{"$f":"IF(OR(AD$16=\" \",AD$16=0),\" \",SUM(AE51:AP51))","v":" "},{"$f":"IF(AE46=\" \",\" \",IF($AC$27=\" \",$CD$6*AE45,$AC$27*(1+HLOOKUP($AD$15,Līmeņatzīmes!$B$3:$AI$4,2,FALSE))))","v":" "},{"$f":"IF(AF46=\" \",\" \",IF($AC$27=\" \",$CD$6*AF45,$AC$27*(1+HLOOKUP($AD$15,Līmeņatzīmes!$B$3:$AI$4,2,FALSE))))","v":" "},{"$f":"IF(AG46=\" \",\" \",IF($AC$27=\" \",$CD$6*AG45,$AC$27*(1+HLOOKUP($AD$15,Līmeņatzīmes!$B$3:$AI$4,2,FALSE))))","v":" "},{"$f":"IF(AH46=\" \",\" \",IF($AC$27=\" \",$CD$6*AH45,$AC$27*(1+HLOOKUP($AD$15,Līmeņatzīmes!$B$3:$AI$4,2,FALSE))))","v":" "},{"$f":"IF(AI46=\" \",\" \",IF($AC$27=\" \",$CD$6*AI45,$AC$27*(1+HLOOKUP($AD$15,Līmeņatzīmes!$B$3:$AI$4,2,FALSE))))","v":" "},{"$f":"IF(AJ46=\" \",\" \",IF($AC$27=\" \",$CD$6*AJ45,$AC$27*(1+HLOOKUP($AD$15,Līmeņatzīmes!$B$3:$AI$4,2,FALSE))))","v":" "},{"$f":"IF(AK46=\" \",\" \",IF($AC$27=\" \",$CD$6*AK45,$AC$27*(1+HLOOKUP($AD$15,Līmeņatzīmes!$B$3:$AI$4,2,FALSE))))","v":" "},{"$f":"IF(AL46=\" \",\" \",IF($AC$27=\" \",$CD$6*AL45,$AC$27*(1+HLOOKUP($AD$15,Līmeņatzīmes!$B$3:$AI$4,2,FALSE))))","v":" "},{"$f":"IF(AM46=\" \",\" \",IF($AC$27=\" \",$CD$6*AM45,$AC$27*(1+HLOOKUP($AD$15,Līmeņatzīmes!$B$3:$AI$4,2,FALSE))))","v":" "},{"$f":"IF(AN46=\" \",\" \",IF($AC$27=\" \",$CD$6*AN45,$AC$27*(1+HLOOKUP($AD$15,Līmeņatzīmes!$B$3:$AI$4,2,FALSE))))","v":" "},{"$f":"IF(AO46=\" \",\" \",IF($AC$27=\" \",$CD$6*AO45,$AC$27*(1+HLOOKUP($AD$15,Līmeņatzīmes!$B$3:$AI$4,2,FALSE))))","v":" "},{"$f":"IF(AP46=\" \",\" \",IF($AC$27=\" \",$CD$6*AP45,$AC$27*(1+HLOOKUP($AD$15,Līmeņatzīmes!$B$3:$AI$4,2,FALSE))))","v":" "},{"$f":"IF(OR(AQ$16=\" \",AQ$16=0),\" \",SUM(AR51:BC51))","v":" "},{"$f":"IF(AR46=\" \",\" \",IF($AP$27=\" \",$CD$6*AR45,$AP$27*(1+HLOOKUP($AQ$15,Līmeņatzīmes!$B$3:$AI$4,2,FALSE))))","v":" "},{"$f":"IF(AS46=\" \",\" \",IF($AP$27=\" \",$CD$6*AS45,$AP$27*(1+HLOOKUP($AQ$15,Līmeņatzīmes!$B$3:$AI$4,2,FALSE))))","v":" "},{"$f":"IF(AT46=\" \",\" \",IF($AP$27=\" \",$CD$6*AT45,$AP$27*(1+HLOOKUP($AQ$15,Līmeņatzīmes!$B$3:$AI$4,2,FALSE))))","v":" "},{"$f":"IF(AU46=\" \",\" \",IF($AP$27=\" \",$CD$6*AU45,$AP$27*(1+HLOOKUP($AQ$15,Līmeņatzīmes!$B$3:$AI$4,2,FALSE))))","v":" "},{"$f":"IF(AV46=\" \",\" \",IF($AP$27=\" \",$CD$6*AV45,$AP$27*(1+HLOOKUP($AQ$15,Līmeņatzīmes!$B$3:$AI$4,2,FALSE))))","v":" "},{"$f":"IF(AW46=\" \",\" \",IF($AP$27=\" \",$CD$6*AW45,$AP$27*(1+HLOOKUP($AQ$15,Līmeņatzīmes!$B$3:$AI$4,2,FALSE))))","v":" "},{"$f":"IF(AX46=\" \",\" \",IF($AP$27=\" \",$CD$6*AX45,$AP$27*(1+HLOOKUP($AQ$15,Līmeņatzīmes!$B$3:$AI$4,2,FALSE))))","v":" "},{"$f":"IF(AY46=\" \",\" \",IF($AP$27=\" \",$CD$6*AY45,$AP$27*(1+HLOOKUP($AQ$15,Līmeņatzīmes!$B$3:$AI$4,2,FALSE))))","v":" "},{"$f":"IF(AZ46=\" \",\" \",IF($AP$27=\" \",$CD$6*AZ45,$AP$27*(1+HLOOKUP($AQ$15,Līmeņatzīmes!$B$3:$AI$4,2,FALSE))))","v":" "},{"$f":"IF(BA46=\" \",\" \",IF($AP$27=\" \",$CD$6*BA45,$AP$27*(1+HLOOKUP($AQ$15,Līmeņatzīmes!$B$3:$AI$4,2,FALSE))))","v":" "},{"$f":"IF(BB46=\" \",\" \",IF($AP$27=\" \",$CD$6*BB45,$AP$27*(1+HLOOKUP($AQ$15,Līmeņatzīmes!$B$3:$AI$4,2,FALSE))))","v":" "},{"$f":"IF(BC46=\" \",\" \",IF($AP$27=\" \",$CD$6*BC45,$AP$27*(1+HLOOKUP($AQ$15,Līmeņatzīmes!$B$3:$AI$4,2,FALSE))))","v":" "},{"$f":"IF(OR(BD$16=\" \",BD$16=0),\" \",SUM(BE51:BP51))","v":" "},{"$f":"IF(BE46=\" \",\" \",IF($BC$27=\" \",$CD$6*BE45,$BC$27*(1+HLOOKUP($BD$15,Līmeņatzīmes!$B$3:$AI$4,2,FALSE))))","v":" "},{"$f":"IF(BF46=\" \",\" \",IF($BC$27=\" \",$CD$6*BF45,$BC$27*(1+HLOOKUP($BD$15,Līmeņatzīmes!$B$3:$AI$4,2,FALSE))))","v":" "},{"$f":"IF(BG46=\" \",\" \",IF($BC$27=\" \",$CD$6*BG45,$BC$27*(1+HLOOKUP($BD$15,Līmeņatzīmes!$B$3:$AI$4,2,FALSE))))","v":" "},{"$f":"IF(BH46=\" \",\" \",IF($BC$27=\" \",$CD$6*BH45,$BC$27*(1+HLOOKUP($BD$15,Līmeņatzīmes!$B$3:$AI$4,2,FALSE))))","v":" "},{"$f":"IF(BI46=\" \",\" \",IF($BC$27=\" \",$CD$6*BI45,$BC$27*(1+HLOOKUP($BD$15,Līmeņatzīmes!$B$3:$AI$4,2,FALSE))))","v":" "},{"$f":"IF(BJ46=\" \",\" \",IF($BC$27=\" \",$CD$6*BJ45,$BC$27*(1+HLOOKUP($BD$15,Līmeņatzīmes!$B$3:$AI$4,2,FALSE))))","v":" "},{"$f":"IF(BK46=\" \",\" \",IF($BC$27=\" \",$CD$6*BK45,$BC$27*(1+HLOOKUP($BD$15,Līmeņatzīmes!$B$3:$AI$4,2,FALSE))))","v":" "},{"$f":"IF(BL46=\" \",\" \",IF($BC$27=\" \",$CD$6*BL45,$BC$27*(1+HLOOKUP($BD$15,Līmeņatzīmes!$B$3:$AI$4,2,FALSE))))","v":" "},{"$f":"IF(BM46=\" \",\" \",IF($BC$27=\" \",$CD$6*BM45,$BC$27*(1+HLOOKUP($BD$15,Līmeņatzīmes!$B$3:$AI$4,2,FALSE))))","v":" "},{"$f":"IF(BN46=\" \",\" \",IF($BC$27=\" \",$CD$6*BN45,$BC$27*(1+HLOOKUP($BD$15,Līmeņatzīmes!$B$3:$AI$4,2,FALSE))))","v":" "},{"$f":"IF(BO46=\" \",\" \",IF($BC$27=\" \",$CD$6*BO45,$BC$27*(1+HLOOKUP($BD$15,Līmeņatzīmes!$B$3:$AI$4,2,FALSE))))","v":" "},{"$f":"IF(BP46=\" \",\" \",IF($BC$27=\" \",$CD$6*BP45,$BC$27*(1+HLOOKUP($BD$15,Līmeņatzīmes!$B$3:$AI$4,2,FALSE))))","v":" "},{"$f":"IF(OR(BQ$16=\" \",BQ$16=0),\" \",SUM(BR51:CC51))","v":" "},{"$f":"IF(BR46=\" \",\" \",IF($BP$27=\" \",$CD$6*BR45,$BP$27*(1+HLOOKUP($BQ$15,Līmeņatzīmes!$B$3:$AI$4,2,FALSE))))","v":" "},{"$f":"IF(BS46=\" \",\" \",IF($BP$27=\" \",$CD$6*BS45,$BP$27*(1+HLOOKUP($BQ$15,Līmeņatzīmes!$B$3:$AI$4,2,FALSE))))","v":" "},{"$f":"IF(BT46=\" \",\" \",IF($BP$27=\" \",$CD$6*BT45,$BP$27*(1+HLOOKUP($BQ$15,Līmeņatzīmes!$B$3:$AI$4,2,FALSE))))","v":" "},{"$f":"IF(BU46=\" \",\" \",IF($BP$27=\" \",$CD$6*BU45,$BP$27*(1+HLOOKUP($BQ$15,Līmeņatzīmes!$B$3:$AI$4,2,FALSE))))","v":" "},{"$f":"IF(BV46=\" \",\" \",IF($BP$27=\" \",$CD$6*BV45,$BP$27*(1+HLOOKUP($BQ$15,Līmeņatzīmes!$B$3:$AI$4,2,FALSE))))","v":" "},{"$f":"IF(BW46=\" \",\" \",IF($BP$27=\" \",$CD$6*BW45,$BP$27*(1+HLOOKUP($BQ$15,Līmeņatzīmes!$B$3:$AI$4,2,FALSE))))","v":" "},{"$f":"IF(BX46=\" \",\" \",IF($BP$27=\" \",$CD$6*BX45,$BP$27*(1+HLOOKUP($BQ$15,Līmeņatzīmes!$B$3:$AI$4,2,FALSE))))","v":" "},{"$f":"IF(BY46=\" \",\" \",IF($BP$27=\" \",$CD$6*BY45,$BP$27*(1+HLOOKUP($BQ$15,Līmeņatzīmes!$B$3:$AI$4,2,FALSE))))","v":" "},{"$f":"IF(BZ46=\" \",\" \",IF($BP$27=\" \",$CD$6*BZ45,$BP$27*(1+HLOOKUP($BQ$15,Līmeņatzīmes!$B$3:$AI$4,2,FALSE))))","v":" "},{"$f":"IF(CA46=\" \",\" \",IF($BP$27=\" \",$CD$6*CA45,$BP$27*(1+HLOOKUP($BQ$15,Līmeņatzīmes!$B$3:$AI$4,2,FALSE))))","v":" "},{"$f":"IF(CB46=\" \",\" \",IF($BP$27=\" \",$CD$6*CB45,$BP$27*(1+HLOOKUP($BQ$15,Līmeņatzīmes!$B$3:$AI$4,2,FALSE))))","v":" "},{"$f":"IF(CC46=\" \",\" \",IF($BP$27=\" \",$CD$6*CC45,$BP$27*(1+HLOOKUP($BQ$15,Līmeņatzīmes!$B$3:$AI$4,2,FALSE))))","v":" "},{"$f":"IF(OR(CD$16=\" \",CD$16=0),\" \",SUM(CE51:CP51))","v":" "},{"$f":"IF(CE46=\" \",\" \",IF($CC$27=\" \",$CD$6*CE45,$CC$27*(1+HLOOKUP($CD$15,Līmeņatzīmes!$B$3:$AI$4,2,FALSE))))","v":" "},{"$f":"IF(CF46=\" \",\" \",IF($CC$27=\" \",$CD$6*CF45,$CC$27*(1+HLOOKUP($CD$15,Līmeņatzīmes!$B$3:$AI$4,2,FALSE))))","v":" "},{"$f":"IF(CG46=\" \",\" \",IF($CC$27=\" \",$CD$6*CG45,$CC$27*(1+HLOOKUP($CD$15,Līmeņatzīmes!$B$3:$AI$4,2,FALSE))))","v":" "},{"$f":"IF(CH46=\" \",\" \",IF($CC$27=\" \",$CD$6*CH45,$CC$27*(1+HLOOKUP($CD$15,Līmeņatzīmes!$B$3:$AI$4,2,FALSE))))","v":" "},{"$f":"IF(CI46=\" \",\" \",IF($CC$27=\" \",$CD$6*CI45,$CC$27*(1+HLOOKUP($CD$15,Līmeņatzīmes!$B$3:$AI$4,2,FALSE))))","v":" "},{"$f":"IF(CJ46=\" \",\" \",IF($CC$27=\" \",$CD$6*CJ45,$CC$27*(1+HLOOKUP($CD$15,Līmeņatzīmes!$B$3:$AI$4,2,FALSE))))","v":" "},{"$f":"IF(CK46=\" \",\" \",IF($CC$27=\" \",$CD$6*CK45,$CC$27*(1+HLOOKUP($CD$15,Līmeņatzīmes!$B$3:$AI$4,2,FALSE))))","v":" "},{"$f":"IF(CL46=\" \",\" \",IF($CC$27=\" \",$CD$6*CL45,$CC$27*(1+HLOOKUP($CD$15,Līmeņatzīmes!$B$3:$AI$4,2,FALSE))))","v":" "},{"$f":"IF(CM46=\" \",\" \",IF($CC$27=\" \",$CD$6*CM45,$CC$27*(1+HLOOKUP($CD$15,Līmeņatzīmes!$B$3:$AI$4,2,FALSE))))","v":" "},{"$f":"IF(CN46=\" \",\" \",IF($CC$27=\" \",$CD$6*CN45,$CC$27*(1+HLOOKUP($CD$15,Līmeņatzīmes!$B$3:$AI$4,2,FALSE))))","v":" "},{"$f":"IF(CO46=\" \",\" \",IF($CC$27=\" \",$CD$6*CO45,$CC$27*(1+HLOOKUP($CD$15,Līmeņatzīmes!$B$3:$AI$4,2,FALSE))))","v":" "},{"$f":"IF(CP46=\" \",\" \",IF($CC$27=\" \",$CD$6*CP45,$CC$27*(1+HLOOKUP($CD$15,Līmeņatzīmes!$B$3:$AI$4,2,FALSE))))","v":" "},{"$f":"IF(OR(CQ$16=\" \",CQ$16=0),\" \",SUM(CR51:DC51))","v":" "},{"$f":"IF(CR46=\" \",\" \",IF($CP$27=\" \",$CD$6*CR45,$CP$27*(1+HLOOKUP($CQ$15,Līmeņatzīmes!$B$3:$AI$4,2,FALSE))))","v":" "},{"$f":"IF(CS46=\" \",\" \",IF($CP$27=\" \",$CD$6*CS45,$CP$27*(1+HLOOKUP($CQ$15,Līmeņatzīmes!$B$3:$AI$4,2,FALSE))))","v":" "},{"$f":"IF(CT46=\" \",\" \",IF($CP$27=\" \",$CD$6*CT45,$CP$27*(1+HLOOKUP($CQ$15,Līmeņatzīmes!$B$3:$AI$4,2,FALSE))))","v":" "},{"$f":"IF(CU46=\" \",\" \",IF($CP$27=\" \",$CD$6*CU45,$CP$27*(1+HLOOKUP($CQ$15,Līmeņatzīmes!$B$3:$AI$4,2,FALSE))))","v":" "},{"$f":"IF(CV46=\" \",\" \",IF($CP$27=\" \",$CD$6*CV45,$CP$27*(1+HLOOKUP($CQ$15,Līmeņatzīmes!$B$3:$AI$4,2,FALSE))))","v":" "},{"$f":"IF(CW46=\" \",\" \",IF($CP$27=\" \",$CD$6*CW45,$CP$27*(1+HLOOKUP($CQ$15,Līmeņatzīmes!$B$3:$AI$4,2,FALSE))))","v":" "},{"$f":"IF(CX46=\" \",\" \",IF($CP$27=\" \",$CD$6*CX45,$CP$27*(1+HLOOKUP($CQ$15,Līmeņatzīmes!$B$3:$AI$4,2,FALSE))))","v":" "},{"$f":"IF(CY46=\" \",\" \",IF($CP$27=\" \",$CD$6*CY45,$CP$27*(1+HLOOKUP($CQ$15,Līmeņatzīmes!$B$3:$AI$4,2,FALSE))))","v":" "},{"$f":"IF(CZ46=\" \",\" \",IF($CP$27=\" \",$CD$6*CZ45,$CP$27*(1+HLOOKUP($CQ$15,Līmeņatzīmes!$B$3:$AI$4,2,FALSE))))","v":" "},{"$f":"IF(DA46=\" \",\" \",IF($CP$27=\" \",$CD$6*DA45,$CP$27*(1+HLOOKUP($CQ$15,Līmeņatzīmes!$B$3:$AI$4,2,FALSE))))","v":" "},{"$f":"IF(DB46=\" \",\" \",IF($CP$27=\" \",$CD$6*DB45,$CP$27*(1+HLOOKUP($CQ$15,Līmeņatzīmes!$B$3:$AI$4,2,FALSE))))","v":" "},{"$f":"IF(DC46=\" \",\" \",IF($CP$27=\" \",$CD$6*DC45,$CP$27*(1+HLOOKUP($CQ$15,Līmeņatzīmes!$B$3:$AI$4,2,FALSE))))","v":" "},{"$f":"IF(OR(DD$16=\" \",DD$16=0),\" \",SUM(DE51:DP51))","v":" "},{"$f":"IF(DE46=\" \",\" \",IF($DC$27=\" \",$CD$6*DE45,$DC$27*(1+HLOOKUP($DD$15,Līmeņatzīmes!$B$3:$AI$4,2,FALSE))))","v":" "},{"$f":"IF(DF46=\" \",\" \",IF($DC$27=\" \",$CD$6*DF45,$DC$27*(1+HLOOKUP($DD$15,Līmeņatzīmes!$B$3:$AI$4,2,FALSE))))","v":" "},{"$f":"IF(DG46=\" \",\" \",IF($DC$27=\" \",$CD$6*DG45,$DC$27*(1+HLOOKUP($DD$15,Līmeņatzīmes!$B$3:$AI$4,2,FALSE))))","v":" "},{"$f":"IF(DH46=\" \",\" \",IF($DC$27=\" \",$CD$6*DH45,$DC$27*(1+HLOOKUP($DD$15,Līmeņatzīmes!$B$3:$AI$4,2,FALSE))))","v":" "},{"$f":"IF(DI46=\" \",\" \",IF($DC$27=\" \",$CD$6*DI45,$DC$27*(1+HLOOKUP($DD$15,Līmeņatzīmes!$B$3:$AI$4,2,FALSE))))","v":" "},{"$f":"IF(DJ46=\" \",\" \",IF($DC$27=\" \",$CD$6*DJ45,$DC$27*(1+HLOOKUP($DD$15,Līmeņatzīmes!$B$3:$AI$4,2,FALSE))))","v":" "},{"$f":"IF(DK46=\" \",\" \",IF($DC$27=\" \",$CD$6*DK45,$DC$27*(1+HLOOKUP($DD$15,Līmeņatzīmes!$B$3:$AI$4,2,FALSE))))","v":" "},{"$f":"IF(DL46=\" \",\" \",IF($DC$27=\" \",$CD$6*DL45,$DC$27*(1+HLOOKUP($DD$15,Līmeņatzīmes!$B$3:$AI$4,2,FALSE))))","v":" "},{"$f":"IF(DM46=\" \",\" \",IF($DC$27=\" \",$CD$6*DM45,$DC$27*(1+HLOOKUP($DD$15,Līmeņatzīmes!$B$3:$AI$4,2,FALSE))))","v":" "},{"$f":"IF(DN46=\" \",\" \",IF($DC$27=\" \",$CD$6*DN45,$DC$27*(1+HLOOKUP($DD$15,Līmeņatzīmes!$B$3:$AI$4,2,FALSE))))","v":" "},{"$f":"IF(DO46=\" \",\" \",IF($DC$27=\" \",$CD$6*DO45,$DC$27*(1+HLOOKUP($DD$15,Līmeņatzīmes!$B$3:$AI$4,2,FALSE))))","v":" "},{"$f":"IF(DP46=\" \",\" \",IF($DC$27=\" \",$CD$6*DP45,$DC$27*(1+HLOOKUP($DD$15,Līmeņatzīmes!$B$3:$AI$4,2,FALSE))))","v":" "},{"$f":"IF(OR(DQ$16=\" \",DQ$16=0),\" \",SUM(DR51:EC51))","v":" "},{"$f":"IF(DR46=\" \",\" \",IF($DP$27=\" \",$CD$6*DR45,$DP$27*(1+HLOOKUP($DQ$15,Līmeņatzīmes!$B$3:$AI$4,2,FALSE))))","v":" "},{"$f":"IF(DS46=\" \",\" \",IF($DP$27=\" \",$CD$6*DS45,$DP$27*(1+HLOOKUP($DQ$15,Līmeņatzīmes!$B$3:$AI$4,2,FALSE))))","v":" "},{"$f":"IF(DT46=\" \",\" \",IF($DP$27=\" \",$CD$6*DT45,$DP$27*(1+HLOOKUP($DQ$15,Līmeņatzīmes!$B$3:$AI$4,2,FALSE))))","v":" "},{"$f":"IF(DU46=\" \",\" \",IF($DP$27=\" \",$CD$6*DU45,$DP$27*(1+HLOOKUP($DQ$15,Līmeņatzīmes!$B$3:$AI$4,2,FALSE))))","v":" "},{"$f":"IF(DV46=\" \",\" \",IF($DP$27=\" \",$CD$6*DV45,$DP$27*(1+HLOOKUP($DQ$15,Līmeņatzīmes!$B$3:$AI$4,2,FALSE))))","v":" "},{"$f":"IF(DW46=\" \",\" \",IF($DP$27=\" \",$CD$6*DW45,$DP$27*(1+HLOOKUP($DQ$15,Līmeņatzīmes!$B$3:$AI$4,2,FALSE))))","v":" "},{"$f":"IF(DX46=\" \",\" \",IF($DP$27=\" \",$CD$6*DX45,$DP$27*(1+HLOOKUP($DQ$15,Līmeņatzīmes!$B$3:$AI$4,2,FALSE))))","v":" "},{"$f":"IF(DY46=\" \",\" \",IF($DP$27=\" \",$CD$6*DY45,$DP$27*(1+HLOOKUP($DQ$15,Līmeņatzīmes!$B$3:$AI$4,2,FALSE))))","v":" "},{"$f":"IF(DZ46=\" \",\" \",IF($DP$27=\" \",$CD$6*DZ45,$DP$27*(1+HLOOKUP($DQ$15,Līmeņatzīmes!$B$3:$AI$4,2,FALSE))))","v":" "},{"$f":"IF(EA46=\" \",\" \",IF($DP$27=\" \",$CD$6*EA45,$DP$27*(1+HLOOKUP($DQ$15,Līmeņatzīmes!$B$3:$AI$4,2,FALSE))))","v":" "},{"$f":"IF(EB46=\" \",\" \",IF($DP$27=\" \",$CD$6*EB45,$DP$27*(1+HLOOKUP($DQ$15,Līmeņatzīmes!$B$3:$AI$4,2,FALSE))))","v":" "},{"$f":"IF(EC46=\" \",\" \",IF($DP$27=\" \",$CD$6*EC45,$DP$27*(1+HLOOKUP($DQ$15,Līmeņatzīmes!$B$3:$AI$4,2,FALSE))))","v":" "},{"$f":"IF(OR(ED$16=\" \",ED$16=0),\" \",SUM(EE51:EP51))","v":" "},{"$f":"IF(EE46=\" \",\" \",IF($EC$27=\" \",$CD$6*EE45,$EC$27*(1+HLOOKUP($ED$15,Līmeņatzīmes!$B$3:$AI$4,2,FALSE))))","v":" "},{"$f":"IF(EF46=\" \",\" \",IF($EC$27=\" \",$CD$6*EF45,$EC$27*(1+HLOOKUP($ED$15,Līmeņatzīmes!$B$3:$AI$4,2,FALSE))))","v":" "},{"$f":"IF(EG46=\" \",\" \",IF($EC$27=\" \",$CD$6*EG45,$EC$27*(1+HLOOKUP($ED$15,Līmeņatzīmes!$B$3:$AI$4,2,FALSE))))","v":" "},{"$f":"IF(EH46=\" \",\" \",IF($EC$27=\" \",$CD$6*EH45,$EC$27*(1+HLOOKUP($ED$15,Līmeņatzīmes!$B$3:$AI$4,2,FALSE))))","v":" "},{"$f":"IF(EI46=\" \",\" \",IF($EC$27=\" \",$CD$6*EI45,$EC$27*(1+HLOOKUP($ED$15,Līmeņatzīmes!$B$3:$AI$4,2,FALSE))))","v":" "},{"$f":"IF(EJ46=\" \",\" \",IF($EC$27=\" \",$CD$6*EJ45,$EC$27*(1+HLOOKUP($ED$15,Līmeņatzīmes!$B$3:$AI$4,2,FALSE))))","v":" "},{"$f":"IF(EK46=\" \",\" \",IF($EC$27=\" \",$CD$6*EK45,$EC$27*(1+HLOOKUP($ED$15,Līmeņatzīmes!$B$3:$AI$4,2,FALSE))))","v":" "},{"$f":"IF(EL46=\" \",\" \",IF($EC$27=\" \",$CD$6*EL45,$EC$27*(1+HLOOKUP($ED$15,Līmeņatzīmes!$B$3:$AI$4,2,FALSE))))","v":" "},{"$f":"IF(EM46=\" \",\" \",IF($EC$27=\" \",$CD$6*EM45,$EC$27*(1+HLOOKUP($ED$15,Līmeņatzīmes!$B$3:$AI$4,2,FALSE))))","v":" "},{"$f":"IF(EN46=\" \",\" \",IF($EC$27=\" \",$CD$6*EN45,$EC$27*(1+HLOOKUP($ED$15,Līmeņatzīmes!$B$3:$AI$4,2,FALSE))))","v":" "},{"$f":"IF(EO46=\" \",\" \",IF($EC$27=\" \",$CD$6*EO45,$EC$27*(1+HLOOKUP($ED$15,Līmeņatzīmes!$B$3:$AI$4,2,FALSE))))","v":" "},{"$f":"IF(EP46=\" \",\" \",IF($EC$27=\" \",$CD$6*EP45,$EC$27*(1+HLOOKUP($ED$15,Līmeņatzīmes!$B$3:$AI$4,2,FALSE))))","v":" "},{"$f":"IF(OR(EQ$16=\" \",EQ$16=0),\" \",SUM(ER51:FC51))","v":" "},{"$f":"IF(ER46=\" \",\" \",IF($EP$27=\" \",$CD$6*ER45,$EP$27*(1+HLOOKUP($EQ$15,Līmeņatzīmes!$B$3:$AI$4,2,FALSE))))","v":" "},{"$f":"IF(ES46=\" \",\" \",IF($EP$27=\" \",$CD$6*ES45,$EP$27*(1+HLOOKUP($EQ$15,Līmeņatzīmes!$B$3:$AI$4,2,FALSE))))","v":" "},{"$f":"IF(ET46=\" \",\" \",IF($EP$27=\" \",$CD$6*ET45,$EP$27*(1+HLOOKUP($EQ$15,Līmeņatzīmes!$B$3:$AI$4,2,FALSE))))","v":" "},{"$f":"IF(EU46=\" \",\" \",IF($EP$27=\" \",$CD$6*EU45,$EP$27*(1+HLOOKUP($EQ$15,Līmeņatzīmes!$B$3:$AI$4,2,FALSE))))","v":" "},{"$f":"IF(EV46=\" \",\" \",IF($EP$27=\" \",$CD$6*EV45,$EP$27*(1+HLOOKUP($EQ$15,Līmeņatzīmes!$B$3:$AI$4,2,FALSE))))","v":" "},{"$f":"IF(EW46=\" \",\" \",IF($EP$27=\" \",$CD$6*EW45,$EP$27*(1+HLOOKUP($EQ$15,Līmeņatzīmes!$B$3:$AI$4,2,FALSE))))","v":" "},{"$f":"IF(EX46=\" \",\" \",IF($EP$27=\" \",$CD$6*EX45,$EP$27*(1+HLOOKUP($EQ$15,Līmeņatzīmes!$B$3:$AI$4,2,FALSE))))","v":" "},{"$f":"IF(EY46=\" \",\" \",IF($EP$27=\" \",$CD$6*EY45,$EP$27*(1+HLOOKUP($EQ$15,Līmeņatzīmes!$B$3:$AI$4,2,FALSE))))","v":" "},{"$f":"IF(EZ46=\" \",\" \",IF($EP$27=\" \",$CD$6*EZ45,$EP$27*(1+HLOOKUP($EQ$15,Līmeņatzīmes!$B$3:$AI$4,2,FALSE))))","v":" "},{"$f":"IF(FA46=\" \",\" \",IF($EP$27=\" \",$CD$6*FA45,$EP$27*(1+HLOOKUP($EQ$15,Līmeņatzīmes!$B$3:$AI$4,2,FALSE))))","v":" "},{"$f":"IF(FB46=\" \",\" \",IF($EP$27=\" \",$CD$6*FB45,$EP$27*(1+HLOOKUP($EQ$15,Līmeņatzīmes!$B$3:$AI$4,2,FALSE))))","v":" "},{"$f":"IF(FC46=\" \",\" \",IF($EP$27=\" \",$CD$6*FC45,$EP$27*(1+HLOOKUP($EQ$15,Līmeņatzīmes!$B$3:$AI$4,2,FALSE))))","v":" "},{"$f":"IF(OR(FD$16=\" \",FD$16=0),\" \",SUM(FE51:FP51))","v":" "},{"$f":"IF(FE46=\" \",\" \",IF($FC$27=\" \",$CD$6*FE45,$FC$27*(1+HLOOKUP($FD$15,Līmeņatzīmes!$B$3:$AI$4,2,FALSE))))","v":" "},{"$f":"IF(FF46=\" \",\" \",IF($FC$27=\" \",$CD$6*FF45,$FC$27*(1+HLOOKUP($FD$15,Līmeņatzīmes!$B$3:$AI$4,2,FALSE))))","v":" "},{"$f":"IF(FG46=\" \",\" \",IF($FC$27=\" \",$CD$6*FG45,$FC$27*(1+HLOOKUP($FD$15,Līmeņatzīmes!$B$3:$AI$4,2,FALSE))))","v":" "},{"$f":"IF(FH46=\" \",\" \",IF($FC$27=\" \",$CD$6*FH45,$FC$27*(1+HLOOKUP($FD$15,Līmeņatzīmes!$B$3:$AI$4,2,FALSE))))","v":" "},{"$f":"IF(FI46=\" \",\" \",IF($FC$27=\" \",$CD$6*FI45,$FC$27*(1+HLOOKUP($FD$15,Līmeņatzīmes!$B$3:$AI$4,2,FALSE))))","v":" "},{"$f":"IF(FJ46=\" \",\" \",IF($FC$27=\" \",$CD$6*FJ45,$FC$27*(1+HLOOKUP($FD$15,Līmeņatzīmes!$B$3:$AI$4,2,FALSE))))","v":" "},{"$f":"IF(FK46=\" \",\" \",IF($FC$27=\" \",$CD$6*FK45,$FC$27*(1+HLOOKUP($FD$15,Līmeņatzīmes!$B$3:$AI$4,2,FALSE))))","v":" "},{"$f":"IF(FL46=\" \",\" \",IF($FC$27=\" \",$CD$6*FL45,$FC$27*(1+HLOOKUP($FD$15,Līmeņatzīmes!$B$3:$AI$4,2,FALSE))))","v":" "},{"$f":"IF(FM46=\" \",\" \",IF($FC$27=\" \",$CD$6*FM45,$FC$27*(1+HLOOKUP($FD$15,Līmeņatzīmes!$B$3:$AI$4,2,FALSE))))","v":" "},{"$f":"IF(FN46=\" \",\" \",IF($FC$27=\" \",$CD$6*FN45,$FC$27*(1+HLOOKUP($FD$15,Līmeņatzīmes!$B$3:$AI$4,2,FALSE))))","v":" "},{"$f":"IF(FO46=\" \",\" \",IF($FC$27=\" \",$CD$6*FO45,$FC$27*(1+HLOOKUP($FD$15,Līmeņatzīmes!$B$3:$AI$4,2,FALSE))))","v":" "},{"$f":"IF(FP46=\" \",\" \",IF($FC$27=\" \",$CD$6*FP45,$FC$27*(1+HLOOKUP($FD$15,Līmeņatzīmes!$B$3:$AI$4,2,FALSE))))","v":" "},{"$f":"IF(OR(FQ$16=\" \",FQ$16=0),\" \",SUM(FR51:GC51))","v":" "},{"$f":"IF(FR46=\" \",\" \",IF($FP$27=\" \",$CD$6*FR45,$FP$27*(1+HLOOKUP($FQ$15,Līmeņatzīmes!$B$3:$AI$4,2,FALSE))))","v":" "},{"$f":"IF(FS46=\" \",\" \",IF($FP$27=\" \",$CD$6*FS45,$FP$27*(1+HLOOKUP($FQ$15,Līmeņatzīmes!$B$3:$AI$4,2,FALSE))))","v":" "},{"$f":"IF(FT46=\" \",\" \",IF($FP$27=\" \",$CD$6*FT45,$FP$27*(1+HLOOKUP($FQ$15,Līmeņatzīmes!$B$3:$AI$4,2,FALSE))))","v":" "},{"$f":"IF(FU46=\" \",\" \",IF($FP$27=\" \",$CD$6*FU45,$FP$27*(1+HLOOKUP($FQ$15,Līmeņatzīmes!$B$3:$AI$4,2,FALSE))))","v":" "},{"$f":"IF(FV46=\" \",\" \",IF($FP$27=\" \",$CD$6*FV45,$FP$27*(1+HLOOKUP($FQ$15,Līmeņatzīmes!$B$3:$AI$4,2,FALSE))))","v":" "},{"$f":"IF(FW46=\" \",\" \",IF($FP$27=\" \",$CD$6*FW45,$FP$27*(1+HLOOKUP($FQ$15,Līmeņatzīmes!$B$3:$AI$4,2,FALSE))))","v":" "},{"$f":"IF(FX46=\" \",\" \",IF($FP$27=\" \",$CD$6*FX45,$FP$27*(1+HLOOKUP($FQ$15,Līmeņatzīmes!$B$3:$AI$4,2,FALSE))))","v":" "},{"$f":"IF(FY46=\" \",\" \",IF($FP$27=\" \",$CD$6*FY45,$FP$27*(1+HLOOKUP($FQ$15,Līmeņatzīmes!$B$3:$AI$4,2,FALSE))))","v":" "},{"$f":"IF(FZ46=\" \",\" \",IF($FP$27=\" \",$CD$6*FZ45,$FP$27*(1+HLOOKUP($FQ$15,Līmeņatzīmes!$B$3:$AI$4,2,FALSE))))","v":" "},{"$f":"IF(GA46=\" \",\" \",IF($FP$27=\" \",$CD$6*GA45,$FP$27*(1+HLOOKUP($FQ$15,Līmeņatzīmes!$B$3:$AI$4,2,FALSE))))","v":" "},{"$f":"IF(GB46=\" \",\" \",IF($FP$27=\" \",$CD$6*GB45,$FP$27*(1+HLOOKUP($FQ$15,Līmeņatzīmes!$B$3:$AI$4,2,FALSE))))","v":" "},{"$f":"IF(GC46=\" \",\" \",IF($FP$27=\" \",$CD$6*GC45,$FP$27*(1+HLOOKUP($FQ$15,Līmeņatzīmes!$B$3:$AI$4,2,FALSE))))","v":" "},{"$f":"IF(OR(GD$16=\" \",GD$16=0),\" \",SUM(GE51:GP51))","v":" "},{"$f":"IF(GE46=\" \",\" \",IF($GC$27=\" \",$CD$6*GE45,$GC$27*(1+HLOOKUP($GD$15,Līmeņatzīmes!$B$3:$AI$4,2,FALSE))))","v":" "},{"$f":"IF(GF46=\" \",\" \",IF($GC$27=\" \",$CD$6*GF45,$GC$27*(1+HLOOKUP($GD$15,Līmeņatzīmes!$B$3:$AI$4,2,FALSE))))","v":" "},{"$f":"IF(GG46=\" \",\" \",IF($GC$27=\" \",$CD$6*GG45,$GC$27*(1+HLOOKUP($GD$15,Līmeņatzīmes!$B$3:$AI$4,2,FALSE))))","v":" "},{"$f":"IF(GH46=\" \",\" \",IF($GC$27=\" \",$CD$6*GH45,$GC$27*(1+HLOOKUP($GD$15,Līmeņatzīmes!$B$3:$AI$4,2,FALSE))))","v":" "},{"$f":"IF(GI46=\" \",\" \",IF($GC$27=\" \",$CD$6*GI45,$GC$27*(1+HLOOKUP($GD$15,Līmeņatzīmes!$B$3:$AI$4,2,FALSE))))","v":" "},{"$f":"IF(GJ46=\" \",\" \",IF($GC$27=\" \",$CD$6*GJ45,$GC$27*(1+HLOOKUP($GD$15,Līmeņatzīmes!$B$3:$AI$4,2,FALSE))))","v":" "},{"$f":"IF(GK46=\" \",\" \",IF($GC$27=\" \",$CD$6*GK45,$GC$27*(1+HLOOKUP($GD$15,Līmeņatzīmes!$B$3:$AI$4,2,FALSE))))","v":" "},{"$f":"IF(GL46=\" \",\" \",IF($GC$27=\" \",$CD$6*GL45,$GC$27*(1+HLOOKUP($GD$15,Līmeņatzīmes!$B$3:$AI$4,2,FALSE))))","v":" "},{"$f":"IF(GM46=\" \",\" \",IF($GC$27=\" \",$CD$6*GM45,$GC$27*(1+HLOOKUP($GD$15,Līmeņatzīmes!$B$3:$AI$4,2,FALSE))))","v":" "},{"$f":"IF(GN46=\" \",\" \",IF($GC$27=\" \",$CD$6*GN45,$GC$27*(1+HLOOKUP($GD$15,Līmeņatzīmes!$B$3:$AI$4,2,FALSE))))","v":" "},{"$f":"IF(GO46=\" \",\" \",IF($GC$27=\" \",$CD$6*GO45,$GC$27*(1+HLOOKUP($GD$15,Līmeņatzīmes!$B$3:$AI$4,2,FALSE))))","v":" "},{"$f":"IF(GP46=\" \",\" \",IF($GC$27=\" \",$CD$6*GP45,$GC$27*(1+HLOOKUP($GD$15,Līmeņatzīmes!$B$3:$AI$4,2,FALSE))))","v":" "},{"$f":"IF(OR(GQ$16=\" \",GQ$16=0),\" \",SUM(GR51:HC51))","v":" "},{"$f":"IF(GR46=\" \",\" \",IF($GP$27=\" \",$CD$6*GR45,$GP$27*(1+HLOOKUP($GQ$15,Līmeņatzīmes!$B$3:$AI$4,2,FALSE))))","v":" "},{"$f":"IF(GS46=\" \",\" \",IF($GP$27=\" \",$CD$6*GS45,$GP$27*(1+HLOOKUP($GQ$15,Līmeņatzīmes!$B$3:$AI$4,2,FALSE))))","v":" "},{"$f":"IF(GT46=\" \",\" \",IF($GP$27=\" \",$CD$6*GT45,$GP$27*(1+HLOOKUP($GQ$15,Līmeņatzīmes!$B$3:$AI$4,2,FALSE))))","v":" "},{"$f":"IF(GU46=\" \",\" \",IF($GP$27=\" \",$CD$6*GU45,$GP$27*(1+HLOOKUP($GQ$15,Līmeņatzīmes!$B$3:$AI$4,2,FALSE))))","v":" "},{"$f":"IF(GV46=\" \",\" \",IF($GP$27=\" \",$CD$6*GV45,$GP$27*(1+HLOOKUP($GQ$15,Līmeņatzīmes!$B$3:$AI$4,2,FALSE))))","v":" "},{"$f":"IF(GW46=\" \",\" \",IF($GP$27=\" \",$CD$6*GW45,$GP$27*(1+HLOOKUP($GQ$15,Līmeņatzīmes!$B$3:$AI$4,2,FALSE))))","v":" "},{"$f":"IF(GX46=\" \",\" \",IF($GP$27=\" \",$CD$6*GX45,$GP$27*(1+HLOOKUP($GQ$15,Līmeņatzīmes!$B$3:$AI$4,2,FALSE))))","v":" "},{"$f":"IF(GY46=\" \",\" \",IF($GP$27=\" \",$CD$6*GY45,$GP$27*(1+HLOOKUP($GQ$15,Līmeņatzīmes!$B$3:$AI$4,2,FALSE))))","v":" "},{"$f":"IF(GZ46=\" \",\" \",IF($GP$27=\" \",$CD$6*GZ45,$GP$27*(1+HLOOKUP($GQ$15,Līmeņatzīmes!$B$3:$AI$4,2,FALSE))))","v":" "},{"$f":"IF(HA46=\" \",\" \",IF($GP$27=\" \",$CD$6*HA45,$GP$27*(1+HLOOKUP($GQ$15,Līmeņatzīmes!$B$3:$AI$4,2,FALSE))))","v":" "},{"$f":"IF(HB46=\" \",\" \",IF($GP$27=\" \",$CD$6*HB45,$GP$27*(1+HLOOKUP($GQ$15,Līmeņatzīmes!$B$3:$AI$4,2,FALSE))))","v":" "},{"$f":"IF(HC46=\" \",\" \",IF($GP$27=\" \",$CD$6*HC45,$GP$27*(1+HLOOKUP($GQ$15,Līmeņatzīmes!$B$3:$AI$4,2,FALSE))))","v":" "},{"$f":"IF(OR(HD$16=\" \",HD$16=0),\" \",SUM(HE51:HP51))","v":" "},{"$f":"IF(HE46=\" \",\" \",IF($HC$27=\" \",$CD$6*HE45,$HC$27*(1+HLOOKUP($HD$15,Līmeņatzīmes!$B$3:$AI$4,2,FALSE))))","v":" "},{"$f":"IF(HF46=\" \",\" \",IF($HC$27=\" \",$CD$6*HF45,$HC$27*(1+HLOOKUP($HD$15,Līmeņatzīmes!$B$3:$AI$4,2,FALSE))))","v":" "},{"$f":"IF(HG46=\" \",\" \",IF($HC$27=\" \",$CD$6*HG45,$HC$27*(1+HLOOKUP($HD$15,Līmeņatzīmes!$B$3:$AI$4,2,FALSE))))","v":" "},{"$f":"IF(HH46=\" \",\" \",IF($HC$27=\" \",$CD$6*HH45,$HC$27*(1+HLOOKUP($HD$15,Līmeņatzīmes!$B$3:$AI$4,2,FALSE))))","v":" "},{"$f":"IF(HI46=\" \",\" \",IF($HC$27=\" \",$CD$6*HI45,$HC$27*(1+HLOOKUP($HD$15,Līmeņatzīmes!$B$3:$AI$4,2,FALSE))))","v":" "},{"$f":"IF(HJ46=\" \",\" \",IF($HC$27=\" \",$CD$6*HJ45,$HC$27*(1+HLOOKUP($HD$15,Līmeņatzīmes!$B$3:$AI$4,2,FALSE))))","v":" "},{"$f":"IF(HK46=\" \",\" \",IF($HC$27=\" \",$CD$6*HK45,$HC$27*(1+HLOOKUP($HD$15,Līmeņatzīmes!$B$3:$AI$4,2,FALSE))))","v":" "},{"$f":"IF(HL46=\" \",\" \",IF($HC$27=\" \",$CD$6*HL45,$HC$27*(1+HLOOKUP($HD$15,Līmeņatzīmes!$B$3:$AI$4,2,FALSE))))","v":" "},{"$f":"IF(HM46=\" \",\" \",IF($HC$27=\" \",$CD$6*HM45,$HC$27*(1+HLOOKUP($HD$15,Līmeņatzīmes!$B$3:$AI$4,2,FALSE))))","v":" "},{"$f":"IF(HN46=\" \",\" \",IF($HC$27=\" \",$CD$6*HN45,$HC$27*(1+HLOOKUP($HD$15,Līmeņatzīmes!$B$3:$AI$4,2,FALSE))))","v":" "},{"$f":"IF(HO46=\" \",\" \",IF($HC$27=\" \",$CD$6*HO45,$HC$27*(1+HLOOKUP($HD$15,Līmeņatzīmes!$B$3:$AI$4,2,FALSE))))","v":" "},{"$f":"IF(HP46=\" \",\" \",IF($HC$27=\" \",$CD$6*HP45,$HC$27*(1+HLOOKUP($HD$15,Līmeņatzīmes!$B$3:$AI$4,2,FALSE))))","v":" "},{"$f":"IF(OR(HQ$16=\" \",HQ$16=0),\" \",SUM(HR51:IC51))","v":" "},{"$f":"IF(HR46=\" \",\" \",IF($HP$27=\" \",$CD$6*HR45,$HP$27*(1+HLOOKUP($HQ$15,Līmeņatzīmes!$B$3:$AI$4,2,FALSE))))","v":" "},{"$f":"IF(HS46=\" \",\" \",IF($HP$27=\" \",$CD$6*HS45,$HP$27*(1+HLOOKUP($HQ$15,Līmeņatzīmes!$B$3:$AI$4,2,FALSE))))","v":" "},{"$f":"IF(HT46=\" \",\" \",IF($HP$27=\" \",$CD$6*HT45,$HP$27*(1+HLOOKUP($HQ$15,Līmeņatzīmes!$B$3:$AI$4,2,FALSE))))","v":" "},{"$f":"IF(HU46=\" \",\" \",IF($HP$27=\" \",$CD$6*HU45,$HP$27*(1+HLOOKUP($HQ$15,Līmeņatzīmes!$B$3:$AI$4,2,FALSE))))","v":" "},{"$f":"IF(HV46=\" \",\" \",IF($HP$27=\" \",$CD$6*HV45,$HP$27*(1+HLOOKUP($HQ$15,Līmeņatzīmes!$B$3:$AI$4,2,FALSE))))","v":" "},{"$f":"IF(HW46=\" \",\" \",IF($HP$27=\" \",$CD$6*HW45,$HP$27*(1+HLOOKUP($HQ$15,Līmeņatzīmes!$B$3:$AI$4,2,FALSE))))","v":" "},{"$f":"IF(HX46=\" \",\" \",IF($HP$27=\" \",$CD$6*HX45,$HP$27*(1+HLOOKUP($HQ$15,Līmeņatzīmes!$B$3:$AI$4,2,FALSE))))","v":" "},{"$f":"IF(HY46=\" \",\" \",IF($HP$27=\" \",$CD$6*HY45,$HP$27*(1+HLOOKUP($HQ$15,Līmeņatzīmes!$B$3:$AI$4,2,FALSE))))","v":" "},{"$f":"IF(HZ46=\" \",\" \",IF($HP$27=\" \",$CD$6*HZ45,$HP$27*(1+HLOOKUP($HQ$15,Līmeņatzīmes!$B$3:$AI$4,2,FALSE))))","v":" "},{"$f":"IF(IA46=\" \",\" \",IF($HP$27=\" \",$CD$6*IA45,$HP$27*(1+HLOOKUP($HQ$15,Līmeņatzīmes!$B$3:$AI$4,2,FALSE))))","v":" "},{"$f":"IF(IB46=\" \",\" \",IF($HP$27=\" \",$CD$6*IB45,$HP$27*(1+HLOOKUP($HQ$15,Līmeņatzīmes!$B$3:$AI$4,2,FALSE))))","v":" "},{"$f":"IF(IC46=\" \",\" \",IF($HP$27=\" \",$CD$6*IC45,$HP$27*(1+HLOOKUP($HQ$15,Līmeņatzīmes!$B$3:$AI$4,2,FALSE))))","v":" "},{"$f":"IF(OR(ID$16=\" \",ID$16=0),\" \",SUM(IE51:IP51))","v":" "},{"$f":"IF(IE46=\" \",\" \",IF($IC$27=\" \",$CD$6*IE45,$IC$27*(1+HLOOKUP($ID$15,Līmeņatzīmes!$B$3:$AI$4,2,FALSE))))","v":" "},{"$f":"IF(IF46=\" \",\" \",IF($IC$27=\" \",$CD$6*IF45,$IC$27*(1+HLOOKUP($ID$15,Līmeņatzīmes!$B$3:$AI$4,2,FALSE))))","v":" "},{"$f":"IF(IG46=\" \",\" \",IF($IC$27=\" \",$CD$6*IG45,$IC$27*(1+HLOOKUP($ID$15,Līmeņatzīmes!$B$3:$AI$4,2,FALSE))))","v":" "},{"$f":"IF(IH46=\" \",\" \",IF($IC$27=\" \",$CD$6*IH45,$IC$27*(1+HLOOKUP($ID$15,Līmeņatzīmes!$B$3:$AI$4,2,FALSE))))","v":" "},{"$f":"IF(II46=\" \",\" \",IF($IC$27=\" \",$CD$6*II45,$IC$27*(1+HLOOKUP($ID$15,Līmeņatzīmes!$B$3:$AI$4,2,FALSE))))","v":" "},{"$f":"IF(IJ46=\" \",\" \",IF($IC$27=\" \",$CD$6*IJ45,$IC$27*(1+HLOOKUP($ID$15,Līmeņatzīmes!$B$3:$AI$4,2,FALSE))))","v":" "},{"$f":"IF(IK46=\" \",\" \",IF($IC$27=\" \",$CD$6*IK45,$IC$27*(1+HLOOKUP($ID$15,Līmeņatzīmes!$B$3:$AI$4,2,FALSE))))","v":" "},{"$f":"IF(IL46=\" \",\" \",IF($IC$27=\" \",$CD$6*IL45,$IC$27*(1+HLOOKUP($ID$15,Līmeņatzīmes!$B$3:$AI$4,2,FALSE))))","v":" "},{"$f":"IF(IM46=\" \",\" \",IF($IC$27=\" \",$CD$6*IM45,$IC$27*(1+HLOOKUP($ID$15,Līmeņatzīmes!$B$3:$AI$4,2,FALSE))))","v":" "},{"$f":"IF(IN46=\" \",\" \",IF($IC$27=\" \",$CD$6*IN45,$IC$27*(1+HLOOKUP($ID$15,Līmeņatzīmes!$B$3:$AI$4,2,FALSE))))","v":" "},{"$f":"IF(IO46=\" \",\" \",IF($IC$27=\" \",$CD$6*IO45,$IC$27*(1+HLOOKUP($ID$15,Līmeņatzīmes!$B$3:$AI$4,2,FALSE))))","v":" "},{"$f":"IF(IP46=\" \",\" \",IF($IC$27=\" \",$CD$6*IP45,$IC$27*(1+HLOOKUP($ID$15,Līmeņatzīmes!$B$3:$AI$4,2,FALSE))))","v":" "},{"$f":"IF(OR(IQ$16=\" \",IQ$16=0),\" \",SUM(IR51:JC51))","v":" "},{"$f":"IF(IR46=\" \",\" \",IF($IP$27=\" \",$CD$6*IR45,$IP$27*(1+HLOOKUP($IQ$15,Līmeņatzīmes!$B$3:$AI$4,2,FALSE))))","v":" "},{"$f":"IF(IS46=\" \",\" \",IF($IP$27=\" \",$CD$6*IS45,$IP$27*(1+HLOOKUP($IQ$15,Līmeņatzīmes!$B$3:$AI$4,2,FALSE))))","v":" "},{"$f":"IF(IT46=\" \",\" \",IF($IP$27=\" \",$CD$6*IT45,$IP$27*(1+HLOOKUP($IQ$15,Līmeņatzīmes!$B$3:$AI$4,2,FALSE))))","v":" "},{"$f":"IF(IU46=\" \",\" \",IF($IP$27=\" \",$CD$6*IU45,$IP$27*(1+HLOOKUP($IQ$15,Līmeņatzīmes!$B$3:$AI$4,2,FALSE))))","v":" "},{"$f":"IF(IV46=\" \",\" \",IF($IP$27=\" \",$CD$6*IV45,$IP$27*(1+HLOOKUP($IQ$15,Līmeņatzīmes!$B$3:$AI$4,2,FALSE))))","v":" "},{"$f":"IF(IW46=\" \",\" \",IF($IP$27=\" \",$CD$6*IW45,$IP$27*(1+HLOOKUP($IQ$15,Līmeņatzīmes!$B$3:$AI$4,2,FALSE))))","v":" "},{"$f":"IF(IX46=\" \",\" \",IF($IP$27=\" \",$CD$6*IX45,$IP$27*(1+HLOOKUP($IQ$15,Līmeņatzīmes!$B$3:$AI$4,2,FALSE))))","v":" "},{"$f":"IF(IY46=\" \",\" \",IF($IP$27=\" \",$CD$6*IY45,$IP$27*(1+HLOOKUP($IQ$15,Līmeņatzīmes!$B$3:$AI$4,2,FALSE))))","v":" "},{"$f":"IF(IZ46=\" \",\" \",IF($IP$27=\" \",$CD$6*IZ45,$IP$27*(1+HLOOKUP($IQ$15,Līmeņatzīmes!$B$3:$AI$4,2,FALSE))))","v":" "},{"$f":"IF(JA46=\" \",\" \",IF($IP$27=\" \",$CD$6*JA45,$IP$27*(1+HLOOKUP($IQ$15,Līmeņatzīmes!$B$3:$AI$4,2,FALSE))))","v":" "},{"$f":"IF(JB46=\" \",\" \",IF($IP$27=\" \",$CD$6*JB45,$IP$27*(1+HLOOKUP($IQ$15,Līmeņatzīmes!$B$3:$AI$4,2,FALSE))))","v":" "},{"$f":"IF(JC46=\" \",\" \",IF($IP$27=\" \",$CD$6*JC45,$IP$27*(1+HLOOKUP($IQ$15,Līmeņatzīmes!$B$3:$AI$4,2,FALSE))))","v":" "},{"$f":"IF(OR(JD$16=\" \",JD$16=0),\" \",SUM(JE51:JP51))","v":" "},{"$f":"IF(JE46=\" \",\" \",IF($JC$27=\" \",$CD$6*JE45,$JC$27*(1+HLOOKUP($JD$15,Līmeņatzīmes!$B$3:$AI$4,2,FALSE))))","v":" "},{"$f":"IF(JF46=\" \",\" \",IF($JC$27=\" \",$CD$6*JF45,$JC$27*(1+HLOOKUP($JD$15,Līmeņatzīmes!$B$3:$AI$4,2,FALSE))))","v":" "},{"$f":"IF(JG46=\" \",\" \",IF($JC$27=\" \",$CD$6*JG45,$JC$27*(1+HLOOKUP($JD$15,Līmeņatzīmes!$B$3:$AI$4,2,FALSE))))","v":" "},{"$f":"IF(JH46=\" \",\" \",IF($JC$27=\" \",$CD$6*JH45,$JC$27*(1+HLOOKUP($JD$15,Līmeņatzīmes!$B$3:$AI$4,2,FALSE))))","v":" "},{"$f":"IF(JI46=\" \",\" \",IF($JC$27=\" \",$CD$6*JI45,$JC$27*(1+HLOOKUP($JD$15,Līmeņatzīmes!$B$3:$AI$4,2,FALSE))))","v":" "},{"$f":"IF(JJ46=\" \",\" \",IF($JC$27=\" \",$CD$6*JJ45,$JC$27*(1+HLOOKUP($JD$15,Līmeņatzīmes!$B$3:$AI$4,2,FALSE))))","v":" "},{"$f":"IF(JK46=\" \",\" \",IF($JC$27=\" \",$CD$6*JK45,$JC$27*(1+HLOOKUP($JD$15,Līmeņatzīmes!$B$3:$AI$4,2,FALSE))))","v":" "},{"$f":"IF(JL46=\" \",\" \",IF($JC$27=\" \",$CD$6*JL45,$JC$27*(1+HLOOKUP($JD$15,Līmeņatzīmes!$B$3:$AI$4,2,FALSE))))","v":" "},{"$f":"IF(JM46=\" \",\" \",IF($JC$27=\" \",$CD$6*JM45,$JC$27*(1+HLOOKUP($JD$15,Līmeņatzīmes!$B$3:$AI$4,2,FALSE))))","v":" "},{"$f":"IF(JN46=\" \",\" \",IF($JC$27=\" \",$CD$6*JN45,$JC$27*(1+HLOOKUP($JD$15,Līmeņatzīmes!$B$3:$AI$4,2,FALSE))))","v":" "},{"$f":"IF(JO46=\" \",\" \",IF($JC$27=\" \",$CD$6*JO45,$JC$27*(1+HLOOKUP($JD$15,Līmeņatzīmes!$B$3:$AI$4,2,FALSE))))","v":" "},{"$f":"IF(JP46=\" \",\" \",IF($JC$27=\" \",$CD$6*JP45,$JC$27*(1+HLOOKUP($JD$15,Līmeņatzīmes!$B$3:$AI$4,2,FALSE))))","v":" "},{"$f":"IF(OR(JQ$16=\" \",JQ$16=0),\" \",SUM(JR51:KC51))","v":" "},{"$f":"IF(JR46=\" \",\" \",IF($JP$27=\" \",$CD$6*JR45,$JP$27*(1+HLOOKUP($JQ$15,Līmeņatzīmes!$B$3:$AI$4,2,FALSE))))","v":" "},{"$f":"IF(JS46=\" \",\" \",IF($JP$27=\" \",$CD$6*JS45,$JP$27*(1+HLOOKUP($JQ$15,Līmeņatzīmes!$B$3:$AI$4,2,FALSE))))","v":" "},{"$f":"IF(JT46=\" \",\" \",IF($JP$27=\" \",$CD$6*JT45,$JP$27*(1+HLOOKUP($JQ$15,Līmeņatzīmes!$B$3:$AI$4,2,FALSE))))","v":" "},{"$f":"IF(JU46=\" \",\" \",IF($JP$27=\" \",$CD$6*JU45,$JP$27*(1+HLOOKUP($JQ$15,Līmeņatzīmes!$B$3:$AI$4,2,FALSE))))","v":" "},{"$f":"IF(JV46=\" \",\" \",IF($JP$27=\" \",$CD$6*JV45,$JP$27*(1+HLOOKUP($JQ$15,Līmeņatzīmes!$B$3:$AI$4,2,FALSE))))","v":" "},{"$f":"IF(JW46=\" \",\" \",IF($JP$27=\" \",$CD$6*JW45,$JP$27*(1+HLOOKUP($JQ$15,Līmeņatzīmes!$B$3:$AI$4,2,FALSE))))","v":" "},{"$f":"IF(JX46=\" \",\" \",IF($JP$27=\" \",$CD$6*JX45,$JP$27*(1+HLOOKUP($JQ$15,Līmeņatzīmes!$B$3:$AI$4,2,FALSE))))","v":" "},{"$f":"IF(JY46=\" \",\" \",IF($JP$27=\" \",$CD$6*JY45,$JP$27*(1+HLOOKUP($JQ$15,Līmeņatzīmes!$B$3:$AI$4,2,FALSE))))","v":" "},{"$f":"IF(JZ46=\" \",\" \",IF($JP$27=\" \",$CD$6*JZ45,$JP$27*(1+HLOOKUP($JQ$15,Līmeņatzīmes!$B$3:$AI$4,2,FALSE))))","v":" "},{"$f":"IF(KA46=\" \",\" \",IF($JP$27=\" \",$CD$6*KA45,$JP$27*(1+HLOOKUP($JQ$15,Līmeņatzīmes!$B$3:$AI$4,2,FALSE))))","v":" "},{"$f":"IF(KB46=\" \",\" \",IF($JP$27=\" \",$CD$6*KB45,$JP$27*(1+HLOOKUP($JQ$15,Līmeņatzīmes!$B$3:$AI$4,2,FALSE))))","v":" "},{"$f":"IF(KC46=\" \",\" \",IF($JP$27=\" \",$CD$6*KC45,$JP$27*(1+HLOOKUP($JQ$15,Līmeņatzīmes!$B$3:$AI$4,2,FALSE))))","v":" "},{"$f":"IF(OR(KD$16=\" \",KD$16=0),\" \",SUM(KE51:KP51))","v":" "},{"$f":"IF(KE46=\" \",\" \",IF($KC$27=\" \",$CD$6*KE45,$KC$27*(1+HLOOKUP($KD$15,Līmeņatzīmes!$B$3:$AI$4,2,FALSE))))","v":" "},{"$f":"IF(KF46=\" \",\" \",IF($KC$27=\" \",$CD$6*KF45,$KC$27*(1+HLOOKUP($KD$15,Līmeņatzīmes!$B$3:$AI$4,2,FALSE))))","v":" "},{"$f":"IF(KG46=\" \",\" \",IF($KC$27=\" \",$CD$6*KG45,$KC$27*(1+HLOOKUP($KD$15,Līmeņatzīmes!$B$3:$AI$4,2,FALSE))))","v":" "},{"$f":"IF(KH46=\" \",\" \",IF($KC$27=\" \",$CD$6*KH45,$KC$27*(1+HLOOKUP($KD$15,Līmeņatzīmes!$B$3:$AI$4,2,FALSE))))","v":" "},{"$f":"IF(KI46=\" \",\" \",IF($KC$27=\" \",$CD$6*KI45,$KC$27*(1+HLOOKUP($KD$15,Līmeņatzīmes!$B$3:$AI$4,2,FALSE))))","v":" "},{"$f":"IF(KJ46=\" \",\" \",IF($KC$27=\" \",$CD$6*KJ45,$KC$27*(1+HLOOKUP($KD$15,Līmeņatzīmes!$B$3:$AI$4,2,FALSE))))","v":" "},{"$f":"IF(KK46=\" \",\" \",IF($KC$27=\" \",$CD$6*KK45,$KC$27*(1+HLOOKUP($KD$15,Līmeņatzīmes!$B$3:$AI$4,2,FALSE))))","v":" "},{"$f":"IF(KL46=\" \",\" \",IF($KC$27=\" \",$CD$6*KL45,$KC$27*(1+HLOOKUP($KD$15,Līmeņatzīmes!$B$3:$AI$4,2,FALSE))))","v":" "},{"$f":"IF(KM46=\" \",\" \",IF($KC$27=\" \",$CD$6*KM45,$KC$27*(1+HLOOKUP($KD$15,Līmeņatzīmes!$B$3:$AI$4,2,FALSE))))","v":" "},{"$f":"IF(KN46=\" \",\" \",IF($KC$27=\" \",$CD$6*KN45,$KC$27*(1+HLOOKUP($KD$15,Līmeņatzīmes!$B$3:$AI$4,2,FALSE))))","v":" "},{"$f":"IF(KO46=\" \",\" \",IF($KC$27=\" \",$CD$6*KO45,$KC$27*(1+HLOOKUP($KD$15,Līmeņatzīmes!$B$3:$AI$4,2,FALSE))))","v":" "},{"$f":"IF(KP46=\" \",\" \",IF($KC$27=\" \",$CD$6*KP45,$KC$27*(1+HLOOKUP($KD$15,Līmeņatzīmes!$B$3:$AI$4,2,FALSE))))","v":" "},{"$f":"IF(OR(KQ$16=\" \",KQ$16=0),\" \",SUM(KR51:LC51))","v":" "},{"$f":"IF(KR46=\" \",\" \",IF($KP$27=\" \",$CD$6*KR45,$KP$27*(1+HLOOKUP($KQ$15,Līmeņatzīmes!$B$3:$AI$4,2,FALSE))))","v":" "},{"$f":"IF(KS46=\" \",\" \",IF($KP$27=\" \",$CD$6*KS45,$KP$27*(1+HLOOKUP($KQ$15,Līmeņatzīmes!$B$3:$AI$4,2,FALSE))))","v":" "},{"$f":"IF(KT46=\" \",\" \",IF($KP$27=\" \",$CD$6*KT45,$KP$27*(1+HLOOKUP($KQ$15,Līmeņatzīmes!$B$3:$AI$4,2,FALSE))))","v":" "},{"$f":"IF(KU46=\" \",\" \",IF($KP$27=\" \",$CD$6*KU45,$KP$27*(1+HLOOKUP($KQ$15,Līmeņatzīmes!$B$3:$AI$4,2,FALSE))))","v":" "},{"$f":"IF(KV46=\" \",\" \",IF($KP$27=\" \",$CD$6*KV45,$KP$27*(1+HLOOKUP($KQ$15,Līmeņatzīmes!$B$3:$AI$4,2,FALSE))))","v":" "},{"$f":"IF(KW46=\" \",\" \",IF($KP$27=\" \",$CD$6*KW45,$KP$27*(1+HLOOKUP($KQ$15,Līmeņatzīmes!$B$3:$AI$4,2,FALSE))))","v":" "},{"$f":"IF(KX46=\" \",\" \",IF($KP$27=\" \",$CD$6*KX45,$KP$27*(1+HLOOKUP($KQ$15,Līmeņatzīmes!$B$3:$AI$4,2,FALSE))))","v":" "},{"$f":"IF(KY46=\" \",\" \",IF($KP$27=\" \",$CD$6*KY45,$KP$27*(1+HLOOKUP($KQ$15,Līmeņatzīmes!$B$3:$AI$4,2,FALSE))))","v":" "},{"$f":"IF(KZ46=\" \",\" \",IF($KP$27=\" \",$CD$6*KZ45,$KP$27*(1+HLOOKUP($KQ$15,Līmeņatzīmes!$B$3:$AI$4,2,FALSE))))","v":" "},{"$f":"IF(LA46=\" \",\" \",IF($KP$27=\" \",$CD$6*LA45,$KP$27*(1+HLOOKUP($KQ$15,Līmeņatzīmes!$B$3:$AI$4,2,FALSE))))","v":" "},{"$f":"IF(LB46=\" \",\" \",IF($KP$27=\" \",$CD$6*LB45,$KP$27*(1+HLOOKUP($KQ$15,Līmeņatzīmes!$B$3:$AI$4,2,FALSE))))","v":" "},{"$f":"IF(LC46=\" \",\" \",IF($KP$27=\" \",$CD$6*LC45,$KP$27*(1+HLOOKUP($KQ$15,Līmeņatzīmes!$B$3:$AI$4,2,FALSE))))","v":" "},{"$f":"IF(OR(LD$16=\" \",LD$16=0),\" \",SUM(LE51:LP51))","v":" "},{"$f":"IF(LE46=\" \",\" \",IF($LC$27=\" \",$CD$6*LE45,$LC$27*(1+HLOOKUP($LD$15,Līmeņatzīmes!$B$3:$AI$4,2,FALSE))))","v":" "},{"$f":"IF(LF46=\" \",\" \",IF($LC$27=\" \",$CD$6*LF45,$LC$27*(1+HLOOKUP($LD$15,Līmeņatzīmes!$B$3:$AI$4,2,FALSE))))","v":" "},{"$f":"IF(LG46=\" \",\" \",IF($LC$27=\" \",$CD$6*LG45,$LC$27*(1+HLOOKUP($LD$15,Līmeņatzīmes!$B$3:$AI$4,2,FALSE))))","v":" "},{"$f":"IF(LH46=\" \",\" \",IF($LC$27=\" \",$CD$6*LH45,$LC$27*(1+HLOOKUP($LD$15,Līmeņatzīmes!$B$3:$AI$4,2,FALSE))))","v":" "},{"$f":"IF(LI46=\" \",\" \",IF($LC$27=\" \",$CD$6*LI45,$LC$27*(1+HLOOKUP($LD$15,Līmeņatzīmes!$B$3:$AI$4,2,FALSE))))","v":" "},{"$f":"IF(LJ46=\" \",\" \",IF($LC$27=\" \",$CD$6*LJ45,$LC$27*(1+HLOOKUP($LD$15,Līmeņatzīmes!$B$3:$AI$4,2,FALSE))))","v":" "},{"$f":"IF(LK46=\" \",\" \",IF($LC$27=\" \",$CD$6*LK45,$LC$27*(1+HLOOKUP($LD$15,Līmeņatzīmes!$B$3:$AI$4,2,FALSE))))","v":" "},{"$f":"IF(LL46=\" \",\" \",IF($LC$27=\" \",$CD$6*LL45,$LC$27*(1+HLOOKUP($LD$15,Līmeņatzīmes!$B$3:$AI$4,2,FALSE))))","v":" "},{"$f":"IF(LM46=\" \",\" \",IF($LC$27=\" \",$CD$6*LM45,$LC$27*(1+HLOOKUP($LD$15,Līmeņatzīmes!$B$3:$AI$4,2,FALSE))))","v":" "},{"$f":"IF(LN46=\" \",\" \",IF($LC$27=\" \",$CD$6*LN45,$LC$27*(1+HLOOKUP($LD$15,Līmeņatzīmes!$B$3:$AI$4,2,FALSE))))","v":" "},{"$f":"IF(LO46=\" \",\" \",IF($LC$27=\" \",$CD$6*LO45,$LC$27*(1+HLOOKUP($LD$15,Līmeņatzīmes!$B$3:$AI$4,2,FALSE))))","v":" "},{"$f":"IF(LP46=\" \",\" \",IF($LC$27=\" \",$CD$6*LP45,$LC$27*(1+HLOOKUP($LD$15,Līmeņatzīmes!$B$3:$AI$4,2,FALSE))))","v":" "},{"$f":"IF(OR(LQ$16=\" \",LQ$16=0),\" \",SUM(LR51:MC51))","v":" "},{"$f":"IF(LR46=\" \",\" \",IF($LP$27=\" \",$CD$6*LR45,$LP$27*(1+HLOOKUP($LQ$15,Līmeņatzīmes!$B$3:$AI$4,2,FALSE))))","v":" "},{"$f":"IF(LS46=\" \",\" \",IF($LP$27=\" \",$CD$6*LS45,$LP$27*(1+HLOOKUP($LQ$15,Līmeņatzīmes!$B$3:$AI$4,2,FALSE))))","v":" "},{"$f":"IF(LT46=\" \",\" \",IF($LP$27=\" \",$CD$6*LT45,$LP$27*(1+HLOOKUP($LQ$15,Līmeņatzīmes!$B$3:$AI$4,2,FALSE))))","v":" "},{"$f":"IF(LU46=\" \",\" \",IF($LP$27=\" \",$CD$6*LU45,$LP$27*(1+HLOOKUP($LQ$15,Līmeņatzīmes!$B$3:$AI$4,2,FALSE))))","v":" "},{"$f":"IF(LV46=\" \",\" \",IF($LP$27=\" \",$CD$6*LV45,$LP$27*(1+HLOOKUP($LQ$15,Līmeņatzīmes!$B$3:$AI$4,2,FALSE))))","v":" "},{"$f":"IF(LW46=\" \",\" \",IF($LP$27=\" \",$CD$6*LW45,$LP$27*(1+HLOOKUP($LQ$15,Līmeņatzīmes!$B$3:$AI$4,2,FALSE))))","v":" "},{"$f":"IF(LX46=\" \",\" \",IF($LP$27=\" \",$CD$6*LX45,$LP$27*(1+HLOOKUP($LQ$15,Līmeņatzīmes!$B$3:$AI$4,2,FALSE))))","v":" "},{"$f":"IF(LY46=\" \",\" \",IF($LP$27=\" \",$CD$6*LY45,$LP$27*(1+HLOOKUP($LQ$15,Līmeņatzīmes!$B$3:$AI$4,2,FALSE))))","v":" "},{"$f":"IF(LZ46=\" \",\" \",IF($LP$27=\" \",$CD$6*LZ45,$LP$27*(1+HLOOKUP($LQ$15,Līmeņatzīmes!$B$3:$AI$4,2,FALSE))))","v":" "},{"$f":"IF(MA46=\" \",\" \",IF($LP$27=\" \",$CD$6*MA45,$LP$27*(1+HLOOKUP($LQ$15,Līmeņatzīmes!$B$3:$AI$4,2,FALSE))))","v":" "},{"$f":"IF(MB46=\" \",\" \",IF($LP$27=\" \",$CD$6*MB45,$LP$27*(1+HLOOKUP($LQ$15,Līmeņatzīmes!$B$3:$AI$4,2,FALSE))))","v":" "},{"$f":"IF(MC46=\" \",\" \",IF($LP$27=\" \",$CD$6*MC45,$LP$27*(1+HLOOKUP($LQ$15,Līmeņatzīmes!$B$3:$AI$4,2,FALSE))))","v":" "},{"$f":"IF(OR(MD$16=\" \",MD$16=0),\" \",SUM(ME51:MP51))","v":" "},{"$f":"IF(ME46=\" \",\" \",IF($MC$27=\" \",$CD$6*ME45,$MC$27*(1+HLOOKUP($MD$15,Līmeņatzīmes!$B$3:$AI$4,2,FALSE))))","v":" "},{"$f":"IF(MF46=\" \",\" \",IF($MC$27=\" \",$CD$6*MF45,$MC$27*(1+HLOOKUP($MD$15,Līmeņatzīmes!$B$3:$AI$4,2,FALSE))))","v":" "},{"$f":"IF(MG46=\" \",\" \",IF($MC$27=\" \",$CD$6*MG45,$MC$27*(1+HLOOKUP($MD$15,Līmeņatzīmes!$B$3:$AI$4,2,FALSE))))","v":" "},{"$f":"IF(MH46=\" \",\" \",IF($MC$27=\" \",$CD$6*MH45,$MC$27*(1+HLOOKUP($MD$15,Līmeņatzīmes!$B$3:$AI$4,2,FALSE))))","v":" "},{"$f":"IF(MI46=\" \",\" \",IF($MC$27=\" \",$CD$6*MI45,$MC$27*(1+HLOOKUP($MD$15,Līmeņatzīmes!$B$3:$AI$4,2,FALSE))))","v":" "},{"$f":"IF(MJ46=\" \",\" \",IF($MC$27=\" \",$CD$6*MJ45,$MC$27*(1+HLOOKUP($MD$15,Līmeņatzīmes!$B$3:$AI$4,2,FALSE))))","v":" "},{"$f":"IF(MK46=\" \",\" \",IF($MC$27=\" \",$CD$6*MK45,$MC$27*(1+HLOOKUP($MD$15,Līmeņatzīmes!$B$3:$AI$4,2,FALSE))))","v":" "},{"$f":"IF(ML46=\" \",\" \",IF($MC$27=\" \",$CD$6*ML45,$MC$27*(1+HLOOKUP($MD$15,Līmeņatzīmes!$B$3:$AI$4,2,FALSE))))","v":" "},{"$f":"IF(MM46=\" \",\" \",IF($MC$27=\" \",$CD$6*MM45,$MC$27*(1+HLOOKUP($MD$15,Līmeņatzīmes!$B$3:$AI$4,2,FALSE))))","v":" "},{"$f":"IF(MN46=\" \",\" \",IF($MC$27=\" \",$CD$6*MN45,$MC$27*(1+HLOOKUP($MD$15,Līmeņatzīmes!$B$3:$AI$4,2,FALSE))))","v":" "},{"$f":"IF(MO46=\" \",\" \",IF($MC$27=\" \",$CD$6*MO45,$MC$27*(1+HLOOKUP($MD$15,Līmeņatzīmes!$B$3:$AI$4,2,FALSE))))","v":" "},{"$f":"IF(MP46=\" \",\" \",IF($MC$27=\" \",$CD$6*MP45,$MC$27*(1+HLOOKUP($MD$15,Līmeņatzīmes!$B$3:$AI$4,2,FALSE))))","v":" "},{"$f":"IF(OR(MQ$16=\" \",MQ$16=0),\" \",SUM(MR51:NC51))","v":" "},{"$f":"IF(MR46=\" \",\" \",IF($MP$27=\" \",$CD$6*MR45,$MP$27*(1+HLOOKUP($MQ$15,Līmeņatzīmes!$B$3:$AI$4,2,FALSE))))","v":" "},{"$f":"IF(MS46=\" \",\" \",IF($MP$27=\" \",$CD$6*MS45,$MP$27*(1+HLOOKUP($MQ$15,Līmeņatzīmes!$B$3:$AI$4,2,FALSE))))","v":" "},{"$f":"IF(MT46=\" \",\" \",IF($MP$27=\" \",$CD$6*MT45,$MP$27*(1+HLOOKUP($MQ$15,Līmeņatzīmes!$B$3:$AI$4,2,FALSE))))","v":" "},{"$f":"IF(MU46=\" \",\" \",IF($MP$27=\" \",$CD$6*MU45,$MP$27*(1+HLOOKUP($MQ$15,Līmeņatzīmes!$B$3:$AI$4,2,FALSE))))","v":" "},{"$f":"IF(MV46=\" \",\" \",IF($MP$27=\" \",$CD$6*MV45,$MP$27*(1+HLOOKUP($MQ$15,Līmeņatzīmes!$B$3:$AI$4,2,FALSE))))","v":" "},{"$f":"IF(MW46=\" \",\" \",IF($MP$27=\" \",$CD$6*MW45,$MP$27*(1+HLOOKUP($MQ$15,Līmeņatzīmes!$B$3:$AI$4,2,FALSE))))","v":" "},{"$f":"IF(MX46=\" \",\" \",IF($MP$27=\" \",$CD$6*MX45,$MP$27*(1+HLOOKUP($MQ$15,Līmeņatzīmes!$B$3:$AI$4,2,FALSE))))","v":" "},{"$f":"IF(MY46=\" \",\" \",IF($MP$27=\" \",$CD$6*MY45,$MP$27*(1+HLOOKUP($MQ$15,Līmeņatzīmes!$B$3:$AI$4,2,FALSE))))","v":" "},{"$f":"IF(MZ46=\" \",\" \",IF($MP$27=\" \",$CD$6*MZ45,$MP$27*(1+HLOOKUP($MQ$15,Līmeņatzīmes!$B$3:$AI$4,2,FALSE))))","v":" "},{"$f":"IF(NA46=\" \",\" \",IF($MP$27=\" \",$CD$6*NA45,$MP$27*(1+HLOOKUP($MQ$15,Līmeņatzīmes!$B$3:$AI$4,2,FALSE))))","v":" "},{"$f":"IF(NB46=\" \",\" \",IF($MP$27=\" \",$CD$6*NB45,$MP$27*(1+HLOOKUP($MQ$15,Līmeņatzīmes!$B$3:$AI$4,2,FALSE))))","v":" "},{"$f":"IF(NC46=\" \",\" \",IF($MP$27=\" \",$CD$6*NC45,$MP$27*(1+HLOOKUP($MQ$15,Līmeņatzīmes!$B$3:$AI$4,2,FALSE))))","v":" "},{"$f":"IF(OR(ND$16=\" \",ND$16=0),\" \",SUM(NE51:NP51))","v":" "},{"$f":"IF(NE46=\" \",\" \",IF($NC$27=\" \",$CD$6*NE45,$NC$27*(1+HLOOKUP($ND$15,Līmeņatzīmes!$B$3:$AI$4,2,FALSE))))","v":" "},{"$f":"IF(NF46=\" \",\" \",IF($NC$27=\" \",$CD$6*NF45,$NC$27*(1+HLOOKUP($ND$15,Līmeņatzīmes!$B$3:$AI$4,2,FALSE))))","v":" "},{"$f":"IF(NG46=\" \",\" \",IF($NC$27=\" \",$CD$6*NG45,$NC$27*(1+HLOOKUP($ND$15,Līmeņatzīmes!$B$3:$AI$4,2,FALSE))))","v":" "},{"$f":"IF(NH46=\" \",\" \",IF($NC$27=\" \",$CD$6*NH45,$NC$27*(1+HLOOKUP($ND$15,Līmeņatzīmes!$B$3:$AI$4,2,FALSE))))","v":" "},{"$f":"IF(NI46=\" \",\" \",IF($NC$27=\" \",$CD$6*NI45,$NC$27*(1+HLOOKUP($ND$15,Līmeņatzīmes!$B$3:$AI$4,2,FALSE))))","v":" "},{"$f":"IF(NJ46=\" \",\" \",IF($NC$27=\" \",$CD$6*NJ45,$NC$27*(1+HLOOKUP($ND$15,Līmeņatzīmes!$B$3:$AI$4,2,FALSE))))","v":" "},{"$f":"IF(NK46=\" \",\" \",IF($NC$27=\" \",$CD$6*NK45,$NC$27*(1+HLOOKUP($ND$15,Līmeņatzīmes!$B$3:$AI$4,2,FALSE))))","v":" "},{"$f":"IF(NL46=\" \",\" \",IF($NC$27=\" \",$CD$6*NL45,$NC$27*(1+HLOOKUP($ND$15,Līmeņatzīmes!$B$3:$AI$4,2,FALSE))))","v":" "},{"$f":"IF(NM46=\" \",\" \",IF($NC$27=\" \",$CD$6*NM45,$NC$27*(1+HLOOKUP($ND$15,Līmeņatzīmes!$B$3:$AI$4,2,FALSE))))","v":" "},{"$f":"IF(NN46=\" \",\" \",IF($NC$27=\" \",$CD$6*NN45,$NC$27*(1+HLOOKUP($ND$15,Līmeņatzīmes!$B$3:$AI$4,2,FALSE))))","v":" "},{"$f":"IF(NO46=\" \",\" \",IF($NC$27=\" \",$CD$6*NO45,$NC$27*(1+HLOOKUP($ND$15,Līmeņatzīmes!$B$3:$AI$4,2,FALSE))))","v":" "},{"$f":"IF(NP46=\" \",\" \",IF($NC$27=\" \",$CD$6*NP45,$NC$27*(1+HLOOKUP($ND$15,Līmeņatzīmes!$B$3:$AI$4,2,FALSE))))","v":" "},{"$f":"IF(OR(NQ$16=\" \",NQ$16=0),\" \",SUM(NR51:OC51))","v":" "},{"$f":"IF(NR46=\" \",\" \",IF($NP$27=\" \",$CD$6*NR45,$NP$27*(1+HLOOKUP($NQ$15,Līmeņatzīmes!$B$3:$AI$4,2,FALSE))))","v":" "},{"$f":"IF(NS46=\" \",\" \",IF($NP$27=\" \",$CD$6*NS45,$NP$27*(1+HLOOKUP($NQ$15,Līmeņatzīmes!$B$3:$AI$4,2,FALSE))))","v":" "},{"$f":"IF(NT46=\" \",\" \",IF($NP$27=\" \",$CD$6*NT45,$NP$27*(1+HLOOKUP($NQ$15,Līmeņatzīmes!$B$3:$AI$4,2,FALSE))))","v":" "},{"$f":"IF(NU46=\" \",\" \",IF($NP$27=\" \",$CD$6*NU45,$NP$27*(1+HLOOKUP($NQ$15,Līmeņatzīmes!$B$3:$AI$4,2,FALSE))))","v":" "},{"$f":"IF(NV46=\" \",\" \",IF($NP$27=\" \",$CD$6*NV45,$NP$27*(1+HLOOKUP($NQ$15,Līmeņatzīmes!$B$3:$AI$4,2,FALSE))))","v":" "},{"$f":"IF(NW46=\" \",\" \",IF($NP$27=\" \",$CD$6*NW45,$NP$27*(1+HLOOKUP($NQ$15,Līmeņatzīmes!$B$3:$AI$4,2,FALSE))))","v":" "},{"$f":"IF(NX46=\" \",\" \",IF($NP$27=\" \",$CD$6*NX45,$NP$27*(1+HLOOKUP($NQ$15,Līmeņatzīmes!$B$3:$AI$4,2,FALSE))))","v":" "},{"$f":"IF(NY46=\" \",\" \",IF($NP$27=\" \",$CD$6*NY45,$NP$27*(1+HLOOKUP($NQ$15,Līmeņatzīmes!$B$3:$AI$4,2,FALSE))))","v":" "},{"$f":"IF(NZ46=\" \",\" \",IF($NP$27=\" \",$CD$6*NZ45,$NP$27*(1+HLOOKUP($NQ$15,Līmeņatzīmes!$B$3:$AI$4,2,FALSE))))","v":" "},{"$f":"IF(OA46=\" \",\" \",IF($NP$27=\" \",$CD$6*OA45,$NP$27*(1+HLOOKUP($NQ$15,Līmeņatzīmes!$B$3:$AI$4,2,FALSE))))","v":" "},{"$f":"IF(OB46=\" \",\" \",IF($NP$27=\" \",$CD$6*OB45,$NP$27*(1+HLOOKUP($NQ$15,Līmeņatzīmes!$B$3:$AI$4,2,FALSE))))","v":" "},{"$f":"IF(OC46=\" \",\" \",IF($NP$27=\" \",$CD$6*OC45,$NP$27*(1+HLOOKUP($NQ$15,Līmeņatzīmes!$B$3:$AI$4,2,FALSE))))","v":" "},{"$f":"IF(OR(OD$16=\" \",OD$16=0),\" \",SUM(OE51:OP51))","v":" "},{"$f":"IF(OE46=\" \",\" \",IF($OC$27=\" \",$CD$6*OE45,$OC$27*(1+HLOOKUP($OD$15,Līmeņatzīmes!$B$3:$AI$4,2,FALSE))))","v":" "},{"$f":"IF(OF46=\" \",\" \",IF($OC$27=\" \",$CD$6*OF45,$OC$27*(1+HLOOKUP($OD$15,Līmeņatzīmes!$B$3:$AI$4,2,FALSE))))","v":" "},{"$f":"IF(OG46=\" \",\" \",IF($OC$27=\" \",$CD$6*OG45,$OC$27*(1+HLOOKUP($OD$15,Līmeņatzīmes!$B$3:$AI$4,2,FALSE))))","v":" "},{"$f":"IF(OH46=\" \",\" \",IF($OC$27=\" \",$CD$6*OH45,$OC$27*(1+HLOOKUP($OD$15,Līmeņatzīmes!$B$3:$AI$4,2,FALSE))))","v":" "},{"$f":"IF(OI46=\" \",\" \",IF($OC$27=\" \",$CD$6*OI45,$OC$27*(1+HLOOKUP($OD$15,Līmeņatzīmes!$B$3:$AI$4,2,FALSE))))","v":" "},{"$f":"IF(OJ46=\" \",\" \",IF($OC$27=\" \",$CD$6*OJ45,$OC$27*(1+HLOOKUP($OD$15,Līmeņatzīmes!$B$3:$AI$4,2,FALSE))))","v":" "},{"$f":"IF(OK46=\" \",\" \",IF($OC$27=\" \",$CD$6*OK45,$OC$27*(1+HLOOKUP($OD$15,Līmeņatzīmes!$B$3:$AI$4,2,FALSE))))","v":" "},{"$f":"IF(OL46=\" \",\" \",IF($OC$27=\" \",$CD$6*OL45,$OC$27*(1+HLOOKUP($OD$15,Līmeņatzīmes!$B$3:$AI$4,2,FALSE))))","v":" "},{"$f":"IF(OM46=\" \",\" \",IF($OC$27=\" \",$CD$6*OM45,$OC$27*(1+HLOOKUP($OD$15,Līmeņatzīmes!$B$3:$AI$4,2,FALSE))))","v":" "},{"$f":"IF(ON46=\" \",\" \",IF($OC$27=\" \",$CD$6*ON45,$OC$27*(1+HLOOKUP($OD$15,Līmeņatzīmes!$B$3:$AI$4,2,FALSE))))","v":" "},{"$f":"IF(OO46=\" \",\" \",IF($OC$27=\" \",$CD$6*OO45,$OC$27*(1+HLOOKUP($OD$15,Līmeņatzīmes!$B$3:$AI$4,2,FALSE))))","v":" "},{"$f":"IF(OP46=\" \",\" \",IF($OC$27=\" \",$CD$6*OP45,$OC$27*(1+HLOOKUP($OD$15,Līmeņatzīmes!$B$3:$AI$4,2,FALSE))))","v":" "},{"$f":"IF(OR(OQ$16=\" \",OQ$16=0),\" \",SUM(OR51:PC51))","v":" "},{"$f":"IF(OR46=\" \",\" \",IF($OP$27=\" \",$CD$6*OR45,$OP$27*(1+HLOOKUP($OQ$15,Līmeņatzīmes!$B$3:$AI$4,2,FALSE))))","v":" "},{"$f":"IF(OS46=\" \",\" \",IF($OP$27=\" \",$CD$6*OS45,$OP$27*(1+HLOOKUP($OQ$15,Līmeņatzīmes!$B$3:$AI$4,2,FALSE))))","v":" "},{"$f":"IF(OT46=\" \",\" \",IF($OP$27=\" \",$CD$6*OT45,$OP$27*(1+HLOOKUP($OQ$15,Līmeņatzīmes!$B$3:$AI$4,2,FALSE))))","v":" "},{"$f":"IF(OU46=\" \",\" \",IF($OP$27=\" \",$CD$6*OU45,$OP$27*(1+HLOOKUP($OQ$15,Līmeņatzīmes!$B$3:$AI$4,2,FALSE))))","v":" "},{"$f":"IF(OV46=\" \",\" \",IF($OP$27=\" \",$CD$6*OV45,$OP$27*(1+HLOOKUP($OQ$15,Līmeņatzīmes!$B$3:$AI$4,2,FALSE))))","v":" "},{"$f":"IF(OW46=\" \",\" \",IF($OP$27=\" \",$CD$6*OW45,$OP$27*(1+HLOOKUP($OQ$15,Līmeņatzīmes!$B$3:$AI$4,2,FALSE))))","v":" "},{"$f":"IF(OX46=\" \",\" \",IF($OP$27=\" \",$CD$6*OX45,$OP$27*(1+HLOOKUP($OQ$15,Līmeņatzīmes!$B$3:$AI$4,2,FALSE))))","v":" "},{"$f":"IF(OY46=\" \",\" \",IF($OP$27=\" \",$CD$6*OY45,$OP$27*(1+HLOOKUP($OQ$15,Līmeņatzīmes!$B$3:$AI$4,2,FALSE))))","v":" "},{"$f":"IF(OZ46=\" \",\" \",IF($OP$27=\" \",$CD$6*OZ45,$OP$27*(1+HLOOKUP($OQ$15,Līmeņatzīmes!$B$3:$AI$4,2,FALSE))))","v":" "},{"$f":"IF(PA46=\" \",\" \",IF($OP$27=\" \",$CD$6*PA45,$OP$27*(1+HLOOKUP($OQ$15,Līmeņatzīmes!$B$3:$AI$4,2,FALSE))))","v":" "},{"$f":"IF(PB46=\" \",\" \",IF($OP$27=\" \",$CD$6*PB45,$OP$27*(1+HLOOKUP($OQ$15,Līmeņatzīmes!$B$3:$AI$4,2,FALSE))))","v":" "},{"$f":"IF(PC46=\" \",\" \",IF($OP$27=\" \",$CD$6*PC45,$OP$27*(1+HLOOKUP($OQ$15,Līmeņatzīmes!$B$3:$AI$4,2,FALSE))))","v":" "},{"$f":"IF(OR(PD$16=\" \",PD$16=0),\" \",SUM(PE51:PP51))","v":" "},{"$f":"IF(PE46=\" \",\" \",IF($PC$27=\" \",$CD$6*PE45,$PC$27*(1+HLOOKUP($PD$15,Līmeņatzīmes!$B$3:$AI$4,2,FALSE))))","v":" "},{"$f":"IF(PF46=\" \",\" \",IF($PC$27=\" \",$CD$6*PF45,$PC$27*(1+HLOOKUP($PD$15,Līmeņatzīmes!$B$3:$AI$4,2,FALSE))))","v":" "},{"$f":"IF(PG46=\" \",\" \",IF($PC$27=\" \",$CD$6*PG45,$PC$27*(1+HLOOKUP($PD$15,Līmeņatzīmes!$B$3:$AI$4,2,FALSE))))","v":" "},{"$f":"IF(PH46=\" \",\" \",IF($PC$27=\" \",$CD$6*PH45,$PC$27*(1+HLOOKUP($PD$15,Līmeņatzīmes!$B$3:$AI$4,2,FALSE))))","v":" "},{"$f":"IF(PI46=\" \",\" \",IF($PC$27=\" \",$CD$6*PI45,$PC$27*(1+HLOOKUP($PD$15,Līmeņatzīmes!$B$3:$AI$4,2,FALSE))))","v":" "},{"$f":"IF(PJ46=\" \",\" \",IF($PC$27=\" \",$CD$6*PJ45,$PC$27*(1+HLOOKUP($PD$15,Līmeņatzīmes!$B$3:$AI$4,2,FALSE))))","v":" "},{"$f":"IF(PK46=\" \",\" \",IF($PC$27=\" \",$CD$6*PK45,$PC$27*(1+HLOOKUP($PD$15,Līmeņatzīmes!$B$3:$AI$4,2,FALSE))))","v":" "},{"$f":"IF(PL46=\" \",\" \",IF($PC$27=\" \",$CD$6*PL45,$PC$27*(1+HLOOKUP($PD$15,Līmeņatzīmes!$B$3:$AI$4,2,FALSE))))","v":" "},{"$f":"IF(PM46=\" \",\" \",IF($PC$27=\" \",$CD$6*PM45,$PC$27*(1+HLOOKUP($PD$15,Līmeņatzīmes!$B$3:$AI$4,2,FALSE))))","v":" "},{"$f":"IF(PN46=\" \",\" \",IF($PC$27=\" \",$CD$6*PN45,$PC$27*(1+HLOOKUP($PD$15,Līmeņatzīmes!$B$3:$AI$4,2,FALSE))))","v":" "},{"$f":"IF(PO46=\" \",\" \",IF($PC$27=\" \",$CD$6*PO45,$PC$27*(1+HLOOKUP($PD$15,Līmeņatzīmes!$B$3:$AI$4,2,FALSE))))","v":" "},{"$f":"IF(PP46=\" \",\" \",IF($PC$27=\" \",$CD$6*PP45,$PC$27*(1+HLOOKUP($PD$15,Līmeņatzīmes!$B$3:$AI$4,2,FALSE))))","v":" "},{"$f":"IF(OR(PQ$16=\" \",PQ$16=0),\" \",SUM(PR51:QC51))","v":" "},{"$f":"IF(PR46=\" \",\" \",IF($PP$27=\" \",$CD$6*PR45,$PP$27*(1+HLOOKUP($PQ$15,Līmeņatzīmes!$B$3:$AI$4,2,FALSE))))","v":" "},{"$f":"IF(PS46=\" \",\" \",IF($PP$27=\" \",$CD$6*PS45,$PP$27*(1+HLOOKUP($PQ$15,Līmeņatzīmes!$B$3:$AI$4,2,FALSE))))","v":" "},{"$f":"IF(PT46=\" \",\" \",IF($PP$27=\" \",$CD$6*PT45,$PP$27*(1+HLOOKUP($PQ$15,Līmeņatzīmes!$B$3:$AI$4,2,FALSE))))","v":" "},{"$f":"IF(PU46=\" \",\" \",IF($PP$27=\" \",$CD$6*PU45,$PP$27*(1+HLOOKUP($PQ$15,Līmeņatzīmes!$B$3:$AI$4,2,FALSE))))","v":" "},{"$f":"IF(PV46=\" \",\" \",IF($PP$27=\" \",$CD$6*PV45,$PP$27*(1+HLOOKUP($PQ$15,Līmeņatzīmes!$B$3:$AI$4,2,FALSE))))","v":" "},{"$f":"IF(PW46=\" \",\" \",IF($PP$27=\" \",$CD$6*PW45,$PP$27*(1+HLOOKUP($PQ$15,Līmeņatzīmes!$B$3:$AI$4,2,FALSE))))","v":" "},{"$f":"IF(PX46=\" \",\" \",IF($PP$27=\" \",$CD$6*PX45,$PP$27*(1+HLOOKUP($PQ$15,Līmeņatzīmes!$B$3:$AI$4,2,FALSE))))","v":" "},{"$f":"IF(PY46=\" \",\" \",IF($PP$27=\" \",$CD$6*PY45,$PP$27*(1+HLOOKUP($PQ$15,Līmeņatzīmes!$B$3:$AI$4,2,FALSE))))","v":" "},{"$f":"IF(PZ46=\" \",\" \",IF($PP$27=\" \",$CD$6*PZ45,$PP$27*(1+HLOOKUP($PQ$15,Līmeņatzīmes!$B$3:$AI$4,2,FALSE))))","v":" "},{"$f":"IF(QA46=\" \",\" \",IF($PP$27=\" \",$CD$6*QA45,$PP$27*(1+HLOOKUP($PQ$15,Līmeņatzīmes!$B$3:$AI$4,2,FALSE))))","v":" "},{"$f":"IF(QB46=\" \",\" \",IF($PP$27=\" \",$CD$6*QB45,$PP$27*(1+HLOOKUP($PQ$15,Līmeņatzīmes!$B$3:$AI$4,2,FALSE))))","v":" "},{"$f":"IF(QC46=\" \",\" \",IF($PP$27=\" \",$CD$6*QC45,$PP$27*(1+HLOOKUP($PQ$15,Līmeņatzīmes!$B$3:$AI$4,2,FALSE))))","v":" "}]
[null,null,null,null,null,null,null,null,null,null,null,null,null,null,null,null,null,null,null,null,null,null,null,null,null,null,null,null,null,null,null,null,null,null,null,null,null,null,null,null,null,null,null,null,null,null,null,null,null,null,null,null,null,null,null,null,null,null,null,null,null,null,null,null,null,null,null,null,null,null,null,null,null,null,null,null,null,null,null,null,null,null,null,null,null,null,null,null,null,null,null,null,null,null,null,null,null,null,null,null,null,null,null,null,null,null,null,null,null,null,null,null,null,null,null,null,null,null,null,null,null,null,null,null,null,null,null,null,null,null,null,null,null,null,null,null,null,null,null,null,null,null,null,null,null,null,null,null,null,null,null,null,null,null,null,null,null,null,null,null,null,null,null,null,null,null,null,null,null,null,null,null,null,null,null,null,null,null,null,null,null,null,null,null,null,null,null,null,null,null,null,null,null,null,null,null,null,null,null,null,null,null,null,null,null,null,null,null,null,null,null,null,null,null,null,null,null,null,null,null,null,null,null,null,null,null,null,null,null,null,null,null,null,null,null,null,null,null,null,null,null,null,null,null,null,null,null,null,null,null,null,null,null,null,null,null,null,null,null,null,null,null,null,null,null,null,null,null,null,null,null,null,null,null,null,null,null,null,null,null,null,null,null,null,null,null,null,null,null,null,null,null,null,null,null,null,null,null,null,null,null,null,null,null,null,null,null,null,null,null,null,null,null,null,null,null,null,null,null,null,null,null,null,null,null,null,null,null,null,null,null,null,null,null,null,null,null,null,null,null,null,null,null,null,null,null,null,null,null,null,null,null,null,null,null,null,null,null,null,null,null,null,null,null,null,null,null,null,null,null,null,null,null,null,null,null,null,null,null,null,null,null,null,null,null,null,null,null,null,null,null,null,null,null,null,null,null,null,null,null,null,null,null,null,null,null,null,null,null,null,null,null,null,null,null,null,null,null,null,null,null,null,null,null,null,null,null,null,null,null,null,null,null,{"$f":"IF(PR46=\" \",\" \",((PR45*1000)/(0.002725*$C$11*$C$12))*0.01*0.00853)","v":" "},{"$f":"IF(PS46=\" \",\" \",((PS45*1000)/(0.002725*$C$11*$C$12))*0.01*0.00853)","v":" "}," "," "," "," "," "," "," "," "," "," "]
["Tīrā Naudas Plūsma","EUR/gadā",null,{"$f":"IF(D46=\" \",\" \",SUM(E53:P53))","v":" "},{"$f":"IF(OR(E46=\" \",E46=0),\" \",E43-E49)","v":" "},{"$f":"IF(OR(F46=\" \",F46=0),\" \",F43-F49)","v":" "}," "," "," "," "," "," "," "," "," "," ",{"$f":"IF(Q46=\" \",\" \",SUM(R53:AC53))","v":" "},{"$f":"IF(OR(R46=\" \",R46=0),\" \",R43-R49)","v":" "}," "," "," "," "," "," "," "," "," "," "," ",{"$f":"IF(AD46=\" \",\" \",SUM(AE53:AP53))","v":" "},{"$f":"IF(OR(AE46=\" \",AE46=0),\" \",AE43-AE49)","v":" "}," "," "," "," "," "," "," "," "," "," "," ",{"$f":"IF(AQ46=\" \",\" \",SUM(AR53:BC53))","v":" "},{"$f":"IF(OR(AR46=\" \",AR46=0),\" \",AR43-AR49)","v":" "}," "," "," "," "," "," "," "," "," "," "," ",{"$f":"IF(BD46=\" \",\" \",SUM(BE53:BP53))","v":" "},{"$f":"IF(OR(BE46=\" \",BE46=0),\" \",BE43-BE49)","v":" "}," "," "," "," "," "," "," "," "," "," "," ",{"$f":"IF(BQ46=\" \",\" \",SUM(BR53:CC53))","v":" "},{"$f":"IF(OR(BR46=\" \",BR46=0),\" \",BR43-BR49)","v":" "}," "," "," "," "," "," "," "," "," "," "," ",{"$f":"IF(CD46=\" \",\" \",SUM(CE53:CP53))","v":" "},{"$f":"IF(OR(CE46=\" \",CE46=0),\" \",CE43-CE49)","v":" "}," "," "," "," "," "," "," "," "," "," "," ",{"$f":"IF(CQ46=\" \",\" \",SUM(CR53:DC53))","v":" "},{"$f":"IF(OR(CR46=\" \",CR46=0),\" \",CR43-CR49)","v":" "}," "," "," "," "," "," "," "," "," "," "," ",{"$f":"IF(DD46=\" \",\" \",SUM(DE53:DP53))","v":" "},{"$f":"IF(OR(DE46=\" \",DE46=0),\" \",DE43-DE49)","v":" "}," "," "," "," "," "," "," "," "," "," "," ",{"$f":"IF(DQ46=\" \",\" \",SUM(DR53:EC53))","v":" "},{"$f":"IF(OR(DR46=\" \",DR46=0),\" \",DR43-DR49)","v":" "}," "," "," "," "," "," "," "," "," "," "," ",{"$f":"IF(ED46=\" \",\" \",SUM(EE53:EP53))","v":" "},{"$f":"IF(OR(EE46=\" \",EE46=0),\" \",EE43-EE49)","v":" "}," "," "," "," "," "," "," "," "," "," "," ",{"$f":"IF(EQ46=\" \",\" \",SUM(ER53:FC53))","v":" "},{"$f":"IF(OR(ER46=\" \",ER46=0),\" \",ER43-ER49)","v":" "}," "," "," "," "," "," "," "," "," "," "," ",{"$f":"IF(FD46=\" \",\" \",SUM(FE53:FP53))","v":" "},{"$f":"IF(OR(FE46=\" \",FE46=0),\" \",FE43-FE49)","v":" "}," "," "," "," "," "," "," "," "," "," "," ",{"$f":"IF(FQ46=\" \",\" \",SUM(FR53:GC53))","v":" "},{"$f":"IF(OR(FR46=\" \",FR46=0),\" \",FR43-FR49)","v":" "}," "," "," "," "," "," "," "," "," "," "," ",{"$f":"IF(GD46=\" \",\" \",SUM(GE53:GP53))","v":" "},{"$f":"IF(OR(GE46=\" \",GE46=0),\" \",GE43-GE49)","v":" "}," "," "," "," "," "," "," "," "," "," "," ",{"$f":"IF(GQ46=\" \",\" \",SUM(GR53:HC53))","v":" "},{"$f":"IF(OR(GR46=\" \",GR46=0),\" \",GR43-GR49)","v":" "}," "," "," "," "," "," "," "," "," "," "," ",{"$f":"IF(HD46=\" \",\" \",SUM(HE53:HP53))","v":" "},{"$f":"IF(OR(HE46=\" \",HE46=0),\" \",HE43-HE49)","v":" "}," "," "," "," "," "," "," "," "," "," "," ",{"$f":"IF(HQ46=\" \",\" \",SUM(HR53:IC53))","v":" "},{"$f":"IF(OR(HR46=\" \",HR46=0),\" \",HR43-HR49)","v":" "}," "," "," "," "," "," "," "," "," "," "," ",{"$f":"IF(ID46=\" \",\" \",SUM(IE53:IP53))","v":" "},{"$f":"IF(OR(IE46=\" \",IE46=0),\" \",IE43-IE49)","v":" "}," "," "," "," "," "," "," "," "," "," "," ",{"$f":"IF(IQ46=\" \",\" \",SUM(IR53:JC53))","v":" "},{"$f":"IF(OR(IR46=\" \",IR46=0),\" \",IR43-IR49)","v":" "}," "," "," "," "," "," "," "," "," "," "," ",{"$f":"IF(JD46=\" \",\" \",SUM(JE53:JP53))","v":" "},{"$f":"IF(OR(JE46=\" \",JE46=0),\" \",JE43-JE49)","v":" "}," "," "," "," "," "," "," "," "," "," "," ",{"$f":"IF(JQ46=\" \",\" \",SUM(JR53:KC53))","v":" "},{"$f":"IF(OR(JR46=\" \",JR46=0),\" \",JR43-JR49)","v":" "}," "," "," "," "," "," "," "," "," "," "," ",{"$f":"IF(KD46=\" \",\" \",SUM(KE53:KP53))","v":" "},{"$f":"IF(OR(KE46=\" \",KE46=0),\" \",KE43-KE49)","v":" "}," "," "," "," "," "," "," "," "," "," "," ",{"$f":"IF(KQ46=\" \",\" \",SUM(KR53:LC53))","v":" "},{"$f":"IF(OR(KR46=\" \",KR46=0),\" \",KR43-KR49)","v":" "}," "," "," "," "," "," "," "," "," "," "," ",{"$f":"IF(LD46=\" \",\" \",SUM(LE53:LP53))","v":" "},{"$f":"IF(OR(LE46=\" \",LE46=0),\" \",LE43-LE49)","v":" "}," "," "," "," "," "," "," "," "," "," "," ",{"$f":"IF(LQ46=\" \",\" \",SUM(LR53:MC53))","v":" "},{"$f":"IF(OR(LR46=\" \",LR46=0),\" \",LR43-LR49)","v":" "}," "," "," "," "," "," "," "," "," "," "," ",{"$f":"IF(MD46=\" \",\" \",SUM(ME53:MP53))","v":" "},{"$f":"IF(OR(ME46=\" \",ME46=0),\" \",ME43-ME49)","v":" "}," "," "," "," "," "," "," "," "," "," "," ",{"$f":"IF(MQ46=\" \",\" \",SUM(MR53:NC53))","v":" "},{"$f":"IF(OR(MR46=\" \",MR46=0),\" \",MR43-MR49)","v":" "}," "," "," "," "," "," "," "," "," "," "," ",{"$f":"IF(ND46=\" \",\" \",SUM(NE53:NP53))","v":" "},{"$f":"IF(OR(NE46=\" \",NE46=0),\" \",NE43-NE49)","v":" "}," "," "," "," "," "," "," "," "," "," "," ",{"$f":"IF(NQ46=\" \",\" \",SUM(NR53:OC53))","v":" "},{"$f":"IF(OR(NR46=\" \",NR46=0),\" \",NR43-NR49)","v":" "}," "," "," "," "," "," "," "," "," "," "," ",{"$f":"IF(OD46=\" \",\" \",SUM(OE53:OP53))","v":" "},{"$f":"IF(OR(OE46=\" \",OE46=0),\" \",OE43-OE49)","v":" "}," "," "," "," "," "," "," "," "," "," "," ",{"$f":"IF(OQ46=\" \",\" \",SUM(OR53:PC53))","v":" "},{"$f":"IF(OR(OR46=\" \",OR46=0),\" \",OR43-OR49)","v":" "}," "," "," "," "," "," "," "," "," "," "," ",{"$f":"IF(PD46=\" \",\" \",SUM(PE53:PP53))","v":" "},{"$f":"IF(OR(PE46=\" \",PE46=0),\" \",PE43-PE49)","v":" "}," "," "," "," "," "," "," "," "," "," "," ",{"$f":"IF(PQ46=\" \",\" \",SUM(PR53:QC53))","v":" "},{"$f":"IF(OR(PR46=\" \",PR46=0),\" \",PR43-PR49)","v":" "}," "," "," "," "," "," "," "," "," "," "," "]
["Tīrā Naudas Plūsma un investīcijas",null,null,{"$f":"IF(AND(D$16>=0,D$16<=$QD$4+1),IF(D$16=0,IF(D$15=$D$10,-$C$8-$C$9+$C$10,-$C$8-$C$9),IF(D$15=$D$10,D53+$C$10,D53)),\" \")","v":" "},null,null,null,null,null,null,null,null,null,null,null,null,{"$f":"IF(AND(Q$16>=0,Q$16<=$QD$4+1),IF(Q$16=0,IF(Q$15=$D$10,-$C$8-$C$9+$C$10,-$C$8-$C$9),IF(Q$15=$D$10,Q53+$C$10,Q53)),\" \")","v":" "},null,null,null,null,null,null,null,null,null,null,null,null,{"$f":"IF(AND(AD$16>=0,AD$16<=$QD$4+1),IF(AD$16=0,IF(AD$15=$D$10,-$C$8-$C$9+$C$10,-$C$8-$C$9),IF(AD$15=$D$10,AD53+$C$10,AD53)),\" \")","v":" "},null,null,null,null,null,null,null,null,null,null,null,null,{"$f":"IF(AND(AQ$16>=0,AQ$16<=$QD$4+1),IF(AQ$16=0,IF(AQ$15=$D$10,-$C$8-$C$9+$C$10,-$C$8-$C$9),IF(AQ$15=$D$10,AQ53+$C$10,AQ53)),\" \")","v":" "},null,null,null,null,null,null,null,null,null,null,null,null,{"$f":"IF(AND(BD$16>=0,BD$16<=$QD$4+1),IF(BD$16=0,IF(BD$15=$D$10,-$C$8-$C$9+$C$10,-$C$8-$C$9),IF(BD$15=$D$10,BD53+$C$10,BD53)),\" \")","v":" "},null,null,null,null,null,null,null,null,null,null,null,null,{"$f":"IF(AND(BQ$16>=0,BQ$16<=$QD$4+1),IF(BQ$16=0,IF(BQ$15=$D$10,-$C$8-$C$9+$C$10,-$C$8-$C$9),IF(BQ$15=$D$10,BQ53+$C$10,BQ53)),\" \")","v":" "},null,null,null,null,null,null,null,null,null,null,null,null,{"$f":"IF(AND(CD$16>=0,CD$16<=$QD$4+1),IF(CD$16=0,IF(CD$15=$D$10,-$C$8-$C$9+$C$10,-$C$8-$C$9),IF(CD$15=$D$10,CD53+$C$10,CD53)),\" \")","v":" "},null,null,null,null,null,null,null,null,null,null,null,null,{"$f":"IF(AND(CQ$16>=0,CQ$16<=$QD$4+1),IF(CQ$16=0,IF(CQ$15=$D$10,-$C$8-$C$9+$C$10,-$C$8-$C$9),IF(CQ$15=$D$10,CQ53+$C$10,CQ53)),\" \")","v":" "},null,null,null,null,null,null,null,null,null,null,null,null,{"$f":"IF(AND(DD$16>=0,DD$16<=$QD$4+1),IF(DD$16=0,IF(DD$15=$D$10,-$C$8-$C$9+$C$10,-$C$8-$C$9),IF(DD$15=$D$10,DD53+$C$10,DD53)),\" \")","v":" "},null,null,null,null,null,null,null,null,null,null,null,null,{"$f":"IF(AND(DQ$16>=0,DQ$16<=$QD$4+1),IF(DQ$16=0,IF(DQ$15=$D$10,-$C$8-$C$9+$C$10,-$C$8-$C$9),IF(DQ$15=$D$10,DQ53+$C$10,DQ53)),\" \")","v":" "},null,null,null,null,null,null,null,null,null,null,null,null,{"$f":"IF(AND(ED$16>=0,ED$16<=$QD$4+1),IF(ED$16=0,IF(ED$15=$D$10,-$C$8-$C$9+$C$10,-$C$8-$C$9),IF(ED$15=$D$10,ED53+$C$10,ED53)),\" \")","v":" "},null,null,null,null,null,null,null,null,null,null,null,null,{"$f":"IF(AND(EQ$16>=0,EQ$16<=$QD$4+1),IF(EQ$16=0,IF(EQ$15=$D$10,-$C$8-$C$9+$C$10,-$C$8-$C$9),IF(EQ$15=$D$10,EQ53+$C$10,EQ53)),\" \")","v":" "},null,null,null,null,null,null,null,null,null,null,null,null,{"$f":"IF(AND(FD$16>=0,FD$16<=$QD$4+1),IF(FD$16=0,IF(FD$15=$D$10,-$C$8-$C$9+$C$10,-$C$8-$C$9),IF(FD$15=$D$10,FD53+$C$10,FD53)),\" \")","v":" "},null,null,null,null,null,null,null,null,null,null,null,null,{"$f":"IF(AND(FQ$16>=0,FQ$16<=$QD$4+1),IF(FQ$16=0,IF(FQ$15=$D$10,-$C$8-$C$9+$C$10,-$C$8-$C$9),IF(FQ$15=$D$10,FQ53+$C$10,FQ53)),\" \")","v":" "},null,null,null,null,null,null,null,null,null,null,null,null,{"$f":"IF(AND(GD$16>=0,GD$16<=$QD$4+1),IF(GD$16=0,IF(GD$15=$D$10,-$C$8-$C$9+$C$10,-$C$8-$C$9),IF(GD$15=$D$10,GD53+$C$10,GD53)),\" \")","v":" "},null,null,null,null,null,null,null,null,null,null,null,null,{"$f":"IF(AND(GQ$16>=0,GQ$16<=$QD$4+1),IF(GQ$16=0,IF(GQ$15=$D$10,-$C$8-$C$9+$C$10,-$C$8-$C$9),IF(GQ$15=$D$10,GQ53+$C$10,GQ53)),\" \")","v":" "},null,null,null,null,null,null,null,null,null,null,null,null,{"$f":"IF(AND(HD$16>=0,HD$16<=$QD$4+1),IF(HD$16=0,IF(HD$15=$D$10,-$C$8-$C$9+$C$10,-$C$8-$C$9),IF(HD$15=$D$10,HD53+$C$10,HD53)),\" \")","v":" "},null,null,null,null,null,null,null,null,null,null,null,null,{"$f":"IF(AND(HQ$16>=0,HQ$16<=$QD$4+1),IF(HQ$16=0,IF(HQ$15=$D$10,-$C$8-$C$9+$C$10,-$C$8-$C$9),IF(HQ$15=$D$10,HQ53+$C$10,HQ53)),\" \")","v":" "},null,null,null,null,null,null,null,null,null,null,null,null,{"$f":"IF(AND(ID$16>=0,ID$16<=$QD$4+1),IF(ID$16=0,IF(ID$15=$D$10,-$C$8-$C$9+$C$10,-$C$8-$C$9),IF(ID$15=$D$10,ID53+$C$10,ID53)),\" \")","v":" "},null,null,null,null,null,null,null,null,null,null,null,null,{"$f":"IF(AND(IQ$16>=0,IQ$16<=$QD$4+1),IF(IQ$16=0,IF(IQ$15=$D$10,-$C$8-$C$9+$C$10,-$C$8-$C$9),IF(IQ$15=$D$10,IQ53+$C$10,IQ53)),\" \")","v":" "},null,null,null,null,null,null,null,null,null,null,null,null,{"$f":"IF(AND(JD$16>=0,JD$16<=$QD$4+1),IF(JD$16=0,IF(JD$15=$D$10,-$C$8-$C$9+$C$10,-$C$8-$C$9),IF(JD$15=$D$10,JD53+$C$10,JD53)),\" \")","v":" "},null,null,null,null,null,null,null,null,null,null,null,null,{"$f":"IF(AND(JQ$16>=0,JQ$16<=$QD$4+1),IF(JQ$16=0,IF(JQ$15=$D$10,-$C$8-$C$9+$C$10,-$C$8-$C$9),IF(JQ$15=$D$10,JQ53+$C$10,JQ53)),\" \")","v":" "},null,null,null,null,null,null,null,null,null,null,null,null,{"$f":"IF(AND(KD$16>=0,KD$16<=$QD$4+1),IF(KD$16=0,IF(KD$15=$D$10,-$C$8-$C$9+$C$10,-$C$8-$C$9),IF(KD$15=$D$10,KD53+$C$10,KD53)),\" \")","v":" "},null,null,null,null,null,null,null,null,null,null,null,null,{"$f":"IF(AND(KQ$16>=0,KQ$16<=$QD$4+1),IF(KQ$16=0,IF(KQ$15=$D$10,-$C$8-$C$9+$C$10,-$C$8-$C$9),IF(KQ$15=$D$10,KQ53+$C$10,KQ53)),\" \")","v":" "},null,null,null,null,null,null,null,null,null,null,null,null,{"$f":"IF(AND(LD$16>=0,LD$16<=$QD$4+1),IF(LD$16=0,IF(LD$15=$D$10,-$C$8-$C$9+$C$10,-$C$8-$C$9),IF(LD$15=$D$10,LD53+$C$10,LD53)),\" \")","v":" "},null,null,null,null,null,null,null,null,null,null,null,null,{"$f":"IF(AND(LQ$16>=0,LQ$16<=$QD$4+1),IF(LQ$16=0,IF(LQ$15=$D$10,-$C$8-$C$9+$C$10,-$C$8-$C$9),IF(LQ$15=$D$10,LQ53+$C$10,LQ53)),\" \")","v":" "},null,null,null,null,null,null,null,null,null,null,null,null,{"$f":"IF(AND(MD$16>=0,MD$16<=$QD$4+1),IF(MD$16=0,IF(MD$15=$D$10,-$C$8-$C$9+$C$10,-$C$8-$C$9),IF(MD$15=$D$10,MD53+$C$10,MD53)),\" \")","v":" "},null,null,null,null,null,null,null,null,null,null,null,null,{"$f":"IF(AND(MQ$16>=0,MQ$16<=$QD$4+1),IF(MQ$16=0,IF(MQ$15=$D$10,-$C$8-$C$9+$C$10,-$C$8-$C$9),IF(MQ$15=$D$10,MQ53+$C$10,MQ53)),\" \")","v":" "},null,null,null,null,null,null,null,null,null,null,null,null,{"$f":"IF(AND(ND$16>=0,ND$16<=$QD$4+1),IF(ND$16=0,IF(ND$15=$D$10,-$C$8-$C$9+$C$10,-$C$8-$C$9),IF(ND$15=$D$10,ND53+$C$10,ND53)),\" \")","v":" "},null,null,null,null,null,null,null,null,null,null,null,null,{"$f":"IF(AND(NQ$16>=0,NQ$16<=$QD$4+1),IF(NQ$16=0,IF(NQ$15=$D$10,-$C$8-$C$9+$C$10,-$C$8-$C$9),IF(NQ$15=$D$10,NQ53+$C$10,NQ53)),\" \")","v":" "},null,null,null,null,null,null,null,null,null,null,null,null,{"$f":"IF(AND(OD$16>=0,OD$16<=$QD$4+1),IF(OD$16=0,IF(OD$15=$D$10,-$C$8-$C$9+$C$10,-$C$8-$C$9),IF(OD$15=$D$10,OD53+$C$10,OD53)),\" \")","v":" "},null,null,null,null,null,null,null,null,null,null,null,null,{"$f":"IF(AND(OQ$16>=0,OQ$16<=$QD$4+1),IF(OQ$16=0,IF(OQ$15=$D$10,-$C$8-$C$9+$C$10,-$C$8-$C$9),IF(OQ$15=$D$10,OQ53+$C$10,OQ53)),\" \")","v":" "},null,null,null,null,null,null,null,null,null,null,null,null,{"$f":"IF(AND(PD$16>=0,PD$16<=$QD$4+1),IF(PD$16=0,IF(PD$15=$D$10,-$C$8-$C$9+$C$10,-$C$8-$C$9),IF(PD$15=$D$10,PD53+$C$10,PD53)),\" \")","v":" "},null,null,null,null,null,null,null,null,null,null,null,null,{"$f":"IF(AND(PQ$16>=0,PQ$16<=$QD$4+1),IF(PQ$16=0,IF(PQ$15=$D$10,-$C$8-$C$9+$C$10,-$C$8-$C$9),IF(PQ$15=$D$10,PQ53+$C$10,PQ53)),\" \")","v":" "}]
["IRR",null,null,{"$f":"IF(OR(D54=\" \",D$16<=0),\" \",IRR($C$54:D$54))","v":" "},null,null,null,null,null,null,null,null,null,null,null,null,{"$f":"IF(OR(Q54=\" \",Q$16<=0),\" \",IRR($C$54:Q$54))","v":" "},null,null,null,null,null,null,null,null,null,null,null,null,{"$f":"IF(OR(AD54=\" \",AD$16<=0),\" \",IRR($C$54:AD$54))","v":" "},null,null,null,null,null,null,null,null,null,null,null,null,{"$f":"IF(OR(AQ54=\" \",AQ$16<=0),\" \",IRR($C$54:AQ$54))","v":" "},null,null,null,null,null,null,null,null,null,null,null,null,{"$f":"IF(OR(BD54=\" \",BD$16<=0),\" \",IRR($C$54:BD$54))","v":" "},null,null,null,null,null,null,null,null,null,null,null,null,{"$f":"IF(OR(BQ54=\" \",BQ$16<=0),\" \",IRR($C$54:BQ$54))","v":" "},null,null,null,null,null,null,null,null,null,null,null,null,{"$f":"IF(OR(CD54=\" \",CD$16<=0),\" \",IRR($C$54:CD$54))","v":" "},null,null,null,null,null,null,null,null,null,null,null,null,{"$f":"IF(OR(CQ54=\" \",CQ$16<=0),\" \",IRR($C$54:CQ$54))","v":" "},null,null,null,null,null,null,null,null,null,null,null,null,{"$f":"IF(OR(DD54=\" \",DD$16<=0),\" \",IRR($C$54:DD$54))","v":" "},null,null,null,null,null,null,null,null,null,null,null,null,{"$f":"IF(OR(DQ54=\" \",DQ$16<=0),\" \",IRR($C$54:DQ$54))","v":" "},null,null,null,null,null,null,null,null,null,null,null,null,{"$f":"IF(OR(ED54=\" \",ED$16<=0),\" \",IRR($C$54:ED$54))","v":" "},null,null,null,null,null,null,null,null,null,null,null,null,{"$f":"IF(OR(EQ54=\" \",EQ$16<=0),\" \",IRR($C$54:EQ$54))","v":" "},null,null,null,null,null,null,null,null,null,null,null,null,{"$f":"IF(OR(FD54=\" \",FD$16<=0),\" \",IRR($C$54:FD$54))","v":" "},null,null,null,null,null,null,null,null,null,null,null,null,{"$f":"IF(OR(FQ54=\" \",FQ$16<=0),\" \",IRR($C$54:FQ$54))","v":" "},null,null,null,null,null,null,null,null,null,null,null,null,{"$f":"IF(OR(GD54=\" \",GD$16<=0),\" \",IRR($C$54:GD$54))","v":" "},null,null,null,null,null,null,null,null,null,null,null,null,{"$f":"IF(OR(GQ54=\" \",GQ$16<=0),\" \",IRR($C$54:GQ$54))","v":" "},null,null,null,null,null,null,null,null,null,null,null,null,{"$f":"IF(OR(HD54=\" \",HD$16<=0),\" \",IRR($C$54:HD$54))","v":" "},null,null,null,null,null,null,null,null,null,null,null,null,{"$f":"IF(OR(HQ54=\" \",HQ$16<=0),\" \",IRR($C$54:HQ$54))","v":" "},null,null,null,null,null,null,null,null,null,null,null,null,{"$f":"IF(OR(ID54=\" \",ID$16<=0),\" \",IRR($C$54:ID$54))","v":" "},null,null,null,null,null,null,null,null,null,null,null,null,{"$f":"IF(OR(IQ54=\" \",IQ$16<=0),\" \",IRR($C$54:IQ$54))","v":" "},null,null,null,null,null,null,null,null,null,null,null,null,{"$f":"IF(OR(JD54=\" \",JD$16<=0),\" \",IRR($C$54:JD$54))","v":" "},null,null,null,null,null,null,null,null,null,null,null,null,{"$f":"IF(OR(JQ54=\" \",JQ$16<=0),\" \",IRR($C$54:JQ$54))","v":" "},null,null,null,null,null,null,null,null,null,null,null,null,{"$f":"IF(OR(KD54=\" \",KD$16<=0),\" \",IRR($C$54:KD$54))","v":" "},null,null,null,null,null,null,null,null,null,null,null,null,{"$f":"IF(OR(KQ54=\" \",KQ$16<=0),\" \",IRR($C$54:KQ$54))","v":" "},null,null,null,null,null,null,null,null,null,null,null,null,{"$f":"IF(OR(LD54=\" \",LD$16<=0),\" \",IRR($C$54:LD$54))","v":" "},null,null,null,null,null,null,null,null,null,null,null,null,{"$f":"IF(OR(LQ54=\" \",LQ$16<=0),\" \",IRR($C$54:LQ$54))","v":" "},null,null,null,null,null,null,null,null,null,null,null,null,{"$f":"IF(OR(MD54=\" \",MD$16<=0),\" \",IRR($C$54:MD$54))","v":" "},null,null,null,null,null,null,null,null,null,null,null,null,{"$f":"IF(OR(MQ54=\" \",MQ$16<=0),\" \",IRR($C$54:MQ$54))","v":" "},null,null,null,null,null,null,null,null,null,null,null,null,{"$f":"IF(OR(ND54=\" \",ND$16<=0),\" \",IRR($C$54:ND$54))","v":" "},null,null,null,null,null,null,null,null,null,null,null,null,{"$f":"IF(OR(NQ54=\" \",NQ$16<=0),\" \",IRR($C$54:NQ$54))","v":" "},null,null,null,null,null,null,null,null,null,null,null,null,{"$f":"IF(OR(OD54=\" \",OD$16<=0),\" \",IRR($C$54:OD$54))","v":" "},null,null,null,null,null,null,null,null,null,null,null,null,{"$f":"IF(OR(OQ54=\" \",OQ$16<=0),\" \",IRR($C$54:OQ$54))","v":" "},null,null,null,null,null,null,null,null,null,null,null,null,{"$f":"IF(OR(PD54=\" \",PD$16<=0),\" \",IRR($C$54:PD$54))","v":" "},null,null,null,null,null,null,null,null,null,null,null,null,{"$f":"IF(OR(PQ54=\" \",PQ$16<=0),\" \",IRR($C$54:PQ$54))","v":" "}]
[]
[]
[]
["Jauda no (>)","Līdz (iesk)","Darba stundu skaits gadā","Īpatnējās Investīcijas",null,null,null,null,null,null,null,null,null,null,null,null,"Darbinieku sk",null,null,null,null,null,null,null,null,null,null,null,null,"Ekspluatācijas un pārējās darbības izmaksas",null,null,null,null,null,null,null,null,null,null,null,null,"Balansēšanas izdevumi",null,null,null,null,null,null,null,null,null,null,null,null,"Elektroenerģijas cena"]
["MWe","MWe","h","EUR/KWe",null,null,null,null,null,null,null,null,null,null,null,null,"Attiecināmās darba slodzes",null,null,null,null,null,null,null,null,null,null,null,null,"EUR/MWh",null,null,null,null,null,null,null,null,null,null,null,null,"% no ieņēmumiem par pārdoto elektroenerģiju",null,null,null,null,null,null,null,null,null,null,null,null,"Pirmie 10 gadi, EUR/MWh",null,null,null,null,null,null,null,null,null,null,null,null,"Otrie 10 gadi, EUR/MWh"]
[{"$f":"Līmeņatzīmes!A26","v":0},{"$f":"Līmeņatzīmes!B14","v":0.25},{"$f":"Līmeņatzīmes!C14","v":1500},{"$f":"Līmeņatzīmes!D14","v":2150},null,null,null,null,null,null,null,null,null,null,null,null,{"$f":"Līmeņatzīmes!E14","v":0.5},null,null,null,null,null,null,null,null,null,null,null,null,14,null,null,null,null,null,null,null,null,null,null,null,null,{"$f":"Līmeņatzīmes!G14","v":0},null,null,null,null,null,null,null,null,null,null,null,null,147,null,null,null,null,null,null,null,null,null,null,null,null,{"$f":"147*0.6","v":88.2}]
[{"$f":"Līmeņatzīmes!A15","v":0.25},{"$f":"Līmeņatzīmes!B16","v":2},{"$f":"Līmeņatzīmes!C15","v":2100},{"$f":"Līmeņatzīmes!D15","v":1400},null,null,null,null,null,null,null,null,null,null,null,null,{"$f":"Līmeņatzīmes!E15","v":0.5},null,null,null,null,null,null,null,null,null,null,null,null,14,null,null,null,null,null,null,null,null,null,null,null,null,{"$f":"Līmeņatzīmes!G15","v":0.15},null,null,null,null,null,null,null,null,null,null,null,null,120,null,null,null,null,null,null,null,null,null,null,null,null,{"$f":"120*0.6","v":72}]
[{"$f":"Līmeņatzīmes!A17","v":2},{"$f":"Līmeņatzīmes!B17","v":100},{"$f":"Līmeņatzīmes!C17","v":2100},{"$f":"Līmeņatzīmes!D17","v":1400},null,null,null,null,null,null,null,null,null,null,null,null,{"$f":"Līmeņatzīmes!E17","v":5},null,null,null,null,null,null,null,null,null,null,null,null,14,null,null,null,null,null,null,null,null,null,null,null,null,{"$f":"Līmeņatzīmes!G17","v":0.1},null,null,null,null,null,null,null,null,null,null,null,null,120,null,null,null,null,null,null,null,null,null,null,null,null,{"$f":"120*0.6","v":72}]

{"sheet":"Līmeņatzīmes","index":2,"n_rows":72,"n_cols":35,"rows_kept":72,"cut":false,"hidden":false,"merged":[[49,5,49,6],[30,4,30,5],[30,6,30,7],[2,0,3,0],[5,0,6,0],[30,2,30,3]]}
["Kopējās"]
[]
["Inflācija",2007,2008,2009,2010,2011,2012,2013,2014,2015,2016,2017,2018,2019,2020,2021,2022,2023,2024,2025,2026,2027,2028,2029,2030,2031,2032,2033,2034,2035,2036,2037,2038,2039,2040]
[null,0.10100000000000001,0.153,3.3000000000000002E-2,-1.2E-2,4.2000000000000003E-2,2.3E-2,0,7.0000000000000001E-3,2E-3,4.0000000000000001E-3,0.02,2.5000000000000001E-2,2.5000000000000001E-2,1.7999999999999999E-2,1.7999999999999999E-2,1.7999999999999999E-2,1.7999999999999999E-2,1.7999999999999999E-2,1.7999999999999999E-2,1.7999999999999999E-2,1.7999999999999999E-2,1.7999999999999999E-2,1.7999999999999999E-2,1.7999999999999999E-2,1.7999999999999999E-2,1.7999999999999999E-2,1.7999999999999999E-2,1.7999999999999999E-2,1.7999999999999999E-2,1.7999999999999999E-2,1.7999999999999999E-2,1.7999999999999999E-2,1.7999999999999999E-2,1.7999999999999999E-2]
[]
["Personāla izmaksas (EUR/mēn)",2007,2008,2009,2010,2011,2012,2013,2014,2015,2016,2017,2018,2019,2020,2021,2022,2023,2024,2025,2026,2027,2028,2029,2030,2031,2032,2033,2034,2035,2036,2037,2038,2039,2040]
[null,1082,1140,1083,1143,1180,1237,1248,1310,1379,1379,1396,1417,1438,1464,1490,1517,1544,1572,1600,1629,1659,1688,1719,1750,1781,1813,1846,1879,1913,1947,1982,2018,2054,2091]
[]
["Vēja elektrostacijas"]
[]
["Līmeņatzīmes"]
["Jauda no (>)","Līdz (iesk)","Darba stundu skaits gadā","Īpatnējās Investīcijas","Darbinieku sk","Ekspluatācijas un pārējās darbības izmaksas","Balansēšanas izdevumi"]
["MWe","MWe","h","EUR/KWe","Attiecināmās darba slodzes","EUR/MWh","% no ieņēmumiem par pārdoto elektroenerģiju"]
[0,0.25,1500,2150,0.5,14,0,"10 %, ja vēja elektrostacijai piemēro Ministru kabineta 2010. gada 16. marta noteikumu Nr. 262 \"Noteikumi par elektroenerģijas ražošanu, izmantojot atjaunojamos energoresursus, un cenu noteikšanas kārtību\" 55.2. apakšpunktu."]
[0.25,1,2100,1400,{"$f":"E14","v":0.5},14,0.15]
[1,2,2100,1400,{"$f":"E15","v":0.5},14,0.15]
[2,100,2100,1400,5,14,0.1]
[]
[]
[]
["Hidroelektrostacijas"]
[]
["Benchmarks"]
["Capacity from (>)","up to (including)","Working hours per year","Specific Investment","Number of employees","Operational and other operating costs"]
["MWe","MWe","h","EUR/KWe","Eligible workload","EUR/MWh"]
[0,0.5,2500,2500,0.4,3.5999999999999997E-2]
[0.5,1,2500,2000,0.4,3.7999999999999999E-2]
[1,5,2500,1500,1.8,3.9E-2]
[]
[]
["Electricity purchase prices",null,"09.2007-03.2009",null,"04.2009-06.2009",null,"07.2009-"]
["Capacity from (>)","up to (including)","First 10 years","Second 10 years","First 10 years","Second 10 years","First 10 years","Second 10 years"]
["MWe","MWe","EUR/MWh","EUR/MWh","EUR/MWh","EUR/MWh","EUR/MWh","EUR/MWh"]
[0,0.5,"(Tg*k)/9.2*3.8","(Tg*k)/9.2*3.8","176*k*(1+0.03*0.15*consecutive year since MP rights received)","176*k*(1+0.03*0.15*consecutive year since MP rights received)","159*k","159*k*0.8"]
[0.5,1,"(Tg*k)/9.2*3.8","(Tg*k)/9.2*3.8","176*k*(1+0.03*0.15*consecutive year since MP rights received)","176*k*(1+0.03*0.15*consecutive year since MP rights received)","159*k","159*k*0.8"]
[1,5,"(Tg*k)/9.2*3.8","(Tg*k)/9.2*3.8","176*k*(1+0.03*0.15*consecutive year since MP rights received)","176*k*(1+0.03*0.15*consecutive year since MP rights received)","159*k","159*k*0.8"]
[]
[null,"Tg - 126 thsd n.m3 to 1260 thsd n.m3 per year "]
[]
["Biomasas elektrostacijas"]
[]
["Capacity from (>)","up to (including)","Working hours per year","Specific Investment","Number of employees","Operational costs","Other operating costs","Proportion of the useful thermal energy sold","Efficiency coefficient for the calculation of the heat sales price","Total efficiency of the power plant"]
["MWe","MWe","h","EUR/KWe","Eligible workload","% from total investment","% from total investment","% from useful thermal energy","%","%"]
[0,1,5500,4500,3,0.02,0.02,1,0.8,0.75]
[1,4,{"$f":"C44","v":5500},4000,5,{"$f":"F44","v":0.02},{"$f":"G44","v":0.02},1,0.8,0.75]
[4,null,{"$f":"C45","v":5500},3600,7,{"$f":"F45","v":0.02},{"$f":"G45","v":0.02},1,0.8,0.75]
[]
["Biogāzes elektrostacijas"]
[]
["Capacity from (>)","up to (including)","Working hours per year","Specific Investment","Number of employees","Operational costs",null,"Other operating costs","Proportion of self-consumption of the useful thermal energy","Efficiency coefficient for the calculation of the heat sales price","Total efficiency of the power plant"]
["MWe","MWe","h","EUR/KWe","Eligible workload","10 year support; % from total investment","20 year support; % from total investment","% from total investment","% from useful thermal energy","%","%"]
[0,0.5,6800,4000,3,3.3000000000000002E-2,4.7E-2,0.02,0.35,0.92,0.75]
[0.5,1,{"$f":"C52","v":6800},3800,5,3.1E-2,4.2999999999999997E-2,{"$f":"H52","v":0.02},0.35,0.92,0.75]
[1,2,{"$f":"C53","v":6800},3800,6,2.8000000000000001E-2,3.9E-2,{"$f":"H53","v":0.02},0.35,0.92,0.75]
[2,4,{"$f":"C54","v":6800},3300,6,2.5999999999999999E-2,3.5999999999999997E-2,{"$f":"H54","v":0.02},0.35,0.92,0.75]
[]
[]
["Raw material","Amount of biogas prouced","Price",null,"Biogas","up to 0,5MW","0,5MW-1MW","1MW-2MW","over 2MW"]
[null,"m3/t","EUR/t",null,"Type of raw materials","%","%","%","%"]
["Maize silage",200,42.5,null,"Maize silage",0.10877192982456138,0.26264150943396225,0.34238805970149255,0.34238805970149255]
["Manure",30,3.5,null,"Manure",0.8,0.52,0.38,0.38]
["Grass silage",124,27.5,null,"Grass silage",1.7543859649122806E-2,7.2452830188679235E-2,0.12029850746268658,0.12029850746268658]
["Cereal silage and other raw materials",105,36,null,"Cereal silage and other raw materials",7.3684210526315769E-2,0.14490566037735844,0.15731343283582092,0.15731343283582092]
[null,null,null,null,"Weighted average cost 2016.g. (EUR/MWhg)",{"$f":"(($C60/$B60)*F60+($C61/$B61)*F61+($C62/$B62)*F62+($C63/$B63)*F63)/0.00625","v":23.296208262591964},{"$f":"(($C60/$B60)*G60+($C61/$B61)*G61+($C62/$B62)*G62+($C63/$B63)*G63)/0.00625","v":29.156495377213574},{"$f":"(($C60/$B60)*H60+($C61/$B61)*H61+($C62/$B62)*H62+($C63/$B63)*H63)/0.00625","v":31.63294953802416},{"$f":"(($C60/$B60)*I60+($C61/$B61)*I61+($C62/$B62)*I62+($C63/$B63)*I63)/0.00625","v":31.63294953802416}]
[]
["Dabasgāzes elektrostacijas"]
[]
["Capacity from (>)","up to (including)","Working hours per year","Specific Investment","Number of employees","Operational costs","Other operating costs","Proportion of the useful thermal energy sold","Efficiency coefficient for the calculation of the heat sales price"]
["MWe","MWe","h","EUR/KWe","Eligible workload","EUR/MWhe","% from total investment","% from useful thermal energy","%"]
[0,1,6000,1600,1,13,1.4999999999999999E-2,1,0.92]
[1,2,6000,1300,3,12,1.4999999999999999E-2,1,0.92]
[2,4,6000,1200,4,11,1.4999999999999999E-2,1,0.92]

{"sheet":"Kurināmais","index":3,"n_rows":375,"n_cols":17,"rows_kept":375,"cut":false,"hidden":false,"merged":[[0,13,0,16],[0,3,0,6],[0,1,2,1],[0,2,2,2],[0,7,2,7],[0,9,0,12]]}
[null,"Gads","Mēnesis","Gāzes cenu grupa, EUR/1000m3",null,null,null,"Akcīze (tikai gāzes stacijām)","Šķeldas cena","Biogāze",null,null,null,"Dabasgāze; Grupa, EUR/1000m3"]
[null,null,null,3,4,5,6,null,null,"Līdz 0,5MW","0,5MW-1MW","1MW-2MW"," Virs 2MW",3,4,5,6]
[null,null,null,"25k-126k","126k-1260k","1260k-12600k","12600k-20000k",null,"EUR/MWhg","EUR/MWhg","EUR/MWhg","EUR/MWhg","EUR/MWhg","25k-126k","126k-1260k","1260k-12600k","12600k-20000k"]
[{"$f":"B4&C4","v":"20071"},2007,1,172.78,166.02,159.26,154.75,null,11.3,{"$f":"ROUND(J16/(1+Līmeņatzīmes!$C$4),2)","v":18.32},{"$f":"ROUND(K16/(1+Līmeņatzīmes!$C$4),2)","v":22.95},{"$f":"ROUND(L16/(1+Līmeņatzīmes!$C$4),2)","v":24.9},{"$f":"ROUND(M16/(1+Līmeņatzīmes!$C$4),2)","v":24.9},{"$f":"D4","v":172.78},{"$f":"E4","v":166.02},159.26,154.75]
[{"$f":"B5&C5","v":"20072"},2007,2,172.78,166.02,159.26,154.75,null,11.3,{"$f":"ROUND(J17/(1+Līmeņatzīmes!$C$4),2)","v":18.32},{"$f":"ROUND(K17/(1+Līmeņatzīmes!$C$4),2)","v":22.95},{"$f":"ROUND(L17/(1+Līmeņatzīmes!$C$4),2)","v":24.9},{"$f":"ROUND(M17/(1+Līmeņatzīmes!$C$4),2)","v":24.9},{"$f":"D5","v":172.78},166.02,159.26,154.75]
["20073",2007,3,170.35,163.59,156.81,152.30000000000001,null,11.3,{"$f":"ROUND(J18/(1+Līmeņatzīmes!$C$4),2)","v":18.32},{"$f":"ROUND(K18/(1+Līmeņatzīmes!$C$4),2)","v":22.95},{"$f":"ROUND(L18/(1+Līmeņatzīmes!$C$4),2)","v":24.9},{"$f":"ROUND(M18/(1+Līmeņatzīmes!$C$4),2)","v":24.9},170.35,163.59,156.81,152.30000000000001]
["20074",2007,4,167.9,161.13999999999999,154.38,149.87,null,11.3,{"$f":"ROUND(J19/(1+Līmeņatzīmes!$C$4),2)","v":18.32},{"$f":"ROUND(K19/(1+Līmeņatzīmes!$C$4),2)","v":22.95},{"$f":"ROUND(L19/(1+Līmeņatzīmes!$C$4),2)","v":24.9},{"$f":"ROUND(M19/(1+Līmeņatzīmes!$C$4),2)","v":24.9},167.9,161.13999999999999,154.38,149.87]
["20075",2007,5,224.16,214.26,205.78,199.42,null,11.3,{"$f":"ROUND(J20/(1+Līmeņatzīmes!$C$4),2)","v":18.32},{"$f":"ROUND(K20/(1+Līmeņatzīmes!$C$4),2)","v":22.95},{"$f":"ROUND(L20/(1+Līmeņatzīmes!$C$4),2)","v":24.9},{"$f":"ROUND(M20/(1+Līmeņatzīmes!$C$4),2)","v":24.9},224.16,214.26,205.78,199.42]
["20076",2007,6,224.16,214.26,205.78,199.42,null,11.3,{"$f":"ROUND(J21/(1+Līmeņatzīmes!$C$4),2)","v":18.32},{"$f":"ROUND(K21/(1+Līmeņatzīmes!$C$4),2)","v":22.95},{"$f":"ROUND(L21/(1+Līmeņatzīmes!$C$4),2)","v":24.9},{"$f":"ROUND(M21/(1+Līmeņatzīmes!$C$4),2)","v":24.9},224.16,214.26,205.78,199.42]
["20077",2007,7,236.35,226.45,217.97,211.61,null,11.3,{"$f":"ROUND(J22/(1+Līmeņatzīmes!$C$4),2)","v":18.32},{"$f":"ROUND(K22/(1+Līmeņatzīmes!$C$4),2)","v":22.95},{"$f":"ROUND(L22/(1+Līmeņatzīmes!$C$4),2)","v":24.9},{"$f":"ROUND(M22/(1+Līmeņatzīmes!$C$4),2)","v":24.9},236.35,226.45,217.97,211.61]
["20078",2007,8,242.54,232.64,224.16,217.78,null,11.3,{"$f":"ROUND(J23/(1+Līmeņatzīmes!$C$4),2)","v":18.32},{"$f":"ROUND(K23/(1+Līmeņatzīmes!$C$4),2)","v":22.95},{"$f":"ROUND(L23/(1+Līmeņatzīmes!$C$4),2)","v":24.9},{"$f":"ROUND(M23/(1+Līmeņatzīmes!$C$4),2)","v":24.9},242.54,232.64,224.16,217.78]
["20079",2007,9,261.3,251.39,242.91,236.55,null,11.3,{"$f":"ROUND(J24/(1+Līmeņatzīmes!$C$4),2)","v":18.32},{"$f":"ROUND(K24/(1+Līmeņatzīmes!$C$4),2)","v":22.95},{"$f":"ROUND(L24/(1+Līmeņatzīmes!$C$4),2)","v":24.9},{"$f":"ROUND(M24/(1+Līmeņatzīmes!$C$4),2)","v":24.9},261.3,251.39,242.91,236.55]
["200710",2007,10,267.58999999999997,257.68,249.2,242.84,null,11.3,{"$f":"ROUND(J25/(1+Līmeņatzīmes!$C$4),2)","v":18.32},{"$f":"ROUND(K25/(1+Līmeņatzīmes!$C$4),2)","v":22.95},{"$f":"ROUND(L25/(1+Līmeņatzīmes!$C$4),2)","v":24.9},{"$f":"ROUND(M25/(1+Līmeņatzīmes!$C$4),2)","v":24.9},267.58999999999997,257.68,249.2,242.84]
["200711",2007,11,286.5,276.58999999999997,268.11,261.74,null,11.3,{"$f":"ROUND(J26/(1+Līmeņatzīmes!$C$4),2)","v":18.32},{"$f":"ROUND(K26/(1+Līmeņatzīmes!$C$4),2)","v":22.95},{"$f":"ROUND(L26/(1+Līmeņatzīmes!$C$4),2)","v":24.9},{"$f":"ROUND(M26/(1+Līmeņatzīmes!$C$4),2)","v":24.9},286.5,276.58999999999997,268.11,261.74]
["200712",2007,12,299.13,289.23,280.73,274.37,null,11.3,{"$f":"ROUND(J27/(1+Līmeņatzīmes!$C$4),2)","v":18.32},{"$f":"ROUND(K27/(1+Līmeņatzīmes!$C$4),2)","v":22.95},{"$f":"ROUND(L27/(1+Līmeņatzīmes!$C$4),2)","v":24.9},{"$f":"ROUND(M27/(1+Līmeņatzīmes!$C$4),2)","v":24.9},299.13,289.23,280.73,274.37]
["20081",2008,1,255.02,245.13,236.64,230.28,null,12.6,{"$f":"ROUND(J28/(1+Līmeņatzīmes!$D$4),2)","v":21.12},{"$f":"ROUND(K28/(1+Līmeņatzīmes!$D$4),2)","v":26.46},{"$f":"ROUND(L28/(1+Līmeņatzīmes!$D$4),2)","v":28.71},{"$f":"ROUND(M28/(1+Līmeņatzīmes!$D$4),2)","v":28.71},255.02,245.13,236.64,230.28]
["20082",2008,2,261.3,251.39,242.91,236.55,null,12.6,{"$f":"ROUND(J29/(1+Līmeņatzīmes!$D$4),2)","v":21.12},{"$f":"ROUND(K29/(1+Līmeņatzīmes!$D$4),2)","v":26.46},{"$f":"ROUND(L29/(1+Līmeņatzīmes!$D$4),2)","v":28.71},{"$f":"ROUND(M29/(1+Līmeņatzīmes!$D$4),2)","v":28.71},261.3,251.39,242.91,236.55]
["20083",2008,3,267.58999999999997,257.68,249.2,242.84,null,12.6,{"$f":"ROUND(J30/(1+Līmeņatzīmes!$D$4),2)","v":21.12},{"$f":"ROUND(K30/(1+Līmeņatzīmes!$D$4),2)","v":26.46},{"$f":"ROUND(L30/(1+Līmeņatzīmes!$D$4),2)","v":28.71},{"$f":"ROUND(M30/(1+Līmeņatzīmes!$D$4),2)","v":28.71},267.58999999999997,257.68,249.2,242.84]
["20084",2008,4,311.77,301.86,293.38,287.01,null,12.6,{"$f":"ROUND(J31/(1+Līmeņatzīmes!$D$4),2)","v":21.12},{"$f":"ROUND(K31/(1+Līmeņatzīmes!$D$4),2)","v":26.46},{"$f":"ROUND(L31/(1+Līmeņatzīmes!$D$4),2)","v":28.71},{"$f":"ROUND(M31/(1+Līmeņatzīmes!$D$4),2)","v":28.71},311.77,301.86,293.38,287.01]
["20085",2008,5,311.77,301.86,293.38,287.01,null,12.6,{"$f":"ROUND(J32/(1+Līmeņatzīmes!$D$4),2)","v":21.12},{"$f":"ROUND(K32/(1+Līmeņatzīmes!$D$4),2)","v":26.46},{"$f":"ROUND(L32/(1+Līmeņatzīmes!$D$4),2)","v":28.71},{"$f":"ROUND(M32/(1+Līmeņatzīmes!$D$4),2)","v":28.71},311.77,301.86,293.38,287.01]
["20086",2008,6,311.77,301.86,293.38,287.01,null,12.6,{"$f":"ROUND(J33/(1+Līmeņatzīmes!$D$4),2)","v":21.12},{"$f":"ROUND(K33/(1+Līmeņatzīmes!$D$4),2)","v":26.46},{"$f":"ROUND(L33/(1+Līmeņatzīmes!$D$4),2)","v":28.71},{"$f":"ROUND(M33/(1+Līmeņatzīmes!$D$4),2)","v":28.71},311.77,301.86,293.38,287.01]
["20087",2008,7,311.77,301.86,293.38,287.01,null,12.6,{"$f":"ROUND(J34/(1+Līmeņatzīmes!$D$4),2)","v":21.12},{"$f":"ROUND(K34/(1+Līmeņatzīmes!$D$4),2)","v":26.46},{"$f":"ROUND(L34/(1+Līmeņatzīmes!$D$4),2)","v":28.71},{"$f":"ROUND(M34/(1+Līmeņatzīmes!$D$4),2)","v":28.71},311.77,301.86,293.38,287.01]
["20088",2008,8,311.77,301.86,293.38,287.01,null,12.6,{"$f":"ROUND(J35/(1+Līmeņatzīmes!$D$4),2)","v":21.12},{"$f":"ROUND(K35/(1+Līmeņatzīmes!$D$4),2)","v":26.46},{"$f":"ROUND(L35/(1+Līmeņatzīmes!$D$4),2)","v":28.71},{"$f":"ROUND(M35/(1+Līmeņatzīmes!$D$4),2)","v":28.71},311.77,301.86,293.38,287.01]
["20089",2008,9,311.77,301.86,293.38,287.01,null,12.6,{"$f":"ROUND(J36/(1+Līmeņatzīmes!$D$4),2)","v":21.12},{"$f":"ROUND(K36/(1+Līmeņatzīmes!$D$4),2)","v":26.46},{"$f":"ROUND(L36/(1+Līmeņatzīmes!$D$4),2)","v":28.71},{"$f":"ROUND(M36/(1+Līmeņatzīmes!$D$4),2)","v":28.71},311.77,301.86,293.38,287.01]
["200810",2008,10,461.26,426.84,407.08,393.72,null,12.6,{"$f":"ROUND(J37/(1+Līmeņatzīmes!$D$4),2)","v":21.12},{"$f":"ROUND(K37/(1+Līmeņatzīmes!$D$4),2)","v":26.46},{"$f":"ROUND(L37/(1+Līmeņatzīmes!$D$4),2)","v":28.71},{"$f":"ROUND(M37/(1+Līmeņatzīmes!$D$4),2)","v":28.71},461.26,426.84,407.08,393.72]
["200811",2008,11,454.15,419.73,399.97,386.61,null,12.6,{"$f":"ROUND(J38/(1+Līmeņatzīmes!$D$4),2)","v":21.12},{"$f":"ROUND(K38/(1+Līmeņatzīmes!$D$4),2)","v":26.46},{"$f":"ROUND(L38/(1+Līmeņatzīmes!$D$4),2)","v":28.71},{"$f":"ROUND(M38/(1+Līmeņatzīmes!$D$4),2)","v":28.71},454.15,419.73,399.97,386.61]
["200812",2008,12,454.15,419.73,399.97,386.61,null,12.6,{"$f":"ROUND(J39/(1+Līmeņatzīmes!$D$4),2)","v":21.12},{"$f":"ROUND(K39/(1+Līmeņatzīmes!$D$4),2)","v":26.46},{"$f":"ROUND(L39/(1+Līmeņatzīmes!$D$4),2)","v":28.71},{"$f":"ROUND(M39/(1+Līmeņatzīmes!$D$4),2)","v":28.71},454.15,419.73,399.97,386.61]
["20091",2009,1,425.69,391.27,371.51,358.15,null,9.1999999999999993,{"$f":"ROUND(J40/(1+Līmeņatzīmes!$E$4),2)","v":21.82},{"$f":"ROUND(K40/(1+Līmeņatzīmes!$E$4),2)","v":27.33},{"$f":"ROUND(L40/(1+Līmeņatzīmes!$E$4),2)","v":29.66},{"$f":"ROUND(M40/(1+Līmeņatzīmes!$E$4),2)","v":29.66},425.69,391.27,371.51,358.15]
["20092",2009,2,425.69,391.27,371.51,358.15,null,9.1999999999999993,{"$f":"ROUND(J41/(1+Līmeņatzīmes!$E$4),2)","v":21.82},{"$f":"ROUND(K41/(1+Līmeņatzīmes!$E$4),2)","v":27.33},{"$f":"ROUND(L41/(1+Līmeņatzīmes!$E$4),2)","v":29.66},{"$f":"ROUND(M41/(1+Līmeņatzīmes!$E$4),2)","v":29.66},425.69,391.27,371.51,358.15]
["20093",2009,3,425.69,391.27,371.51,358.15,null,9.1999999999999993,{"$f":"ROUND(J42/(1+Līmeņatzīmes!$E$4),2)","v":21.82},{"$f":"ROUND(K42/(1+Līmeņatzīmes!$E$4),2)","v":27.33},{"$f":"ROUND(L42/(1+Līmeņatzīmes!$E$4),2)","v":29.66},{"$f":"ROUND(M42/(1+Līmeņatzīmes!$E$4),2)","v":29.66},425.69,391.27,371.51,358.15]
["20094",2009,4,425.69,391.27,371.51,358.15,null,9.1999999999999993,{"$f":"ROUND(J43/(1+Līmeņatzīmes!$E$4),2)","v":21.82},{"$f":"ROUND(K43/(1+Līmeņatzīmes!$E$4),2)","v":27.33},{"$f":"ROUND(L43/(1+Līmeņatzīmes!$E$4),2)","v":29.66},{"$f":"ROUND(M43/(1+Līmeņatzīmes!$E$4),2)","v":29.66},425.69,391.27,371.51,358.15]
["20095",2009,5,368.78,334.36,314.60000000000002,301.24,null,9.1999999999999993,{"$f":"ROUND(J44/(1+Līmeņatzīmes!$E$4),2)","v":21.82},{"$f":"ROUND(K44/(1+Līmeņatzīmes!$E$4),2)","v":27.33},{"$f":"ROUND(L44/(1+Līmeņatzīmes!$E$4),2)","v":29.66},{"$f":"ROUND(M44/(1+Līmeņatzīmes!$E$4),2)","v":29.66},368.78,334.36,314.60000000000002,301.24]
["20096",2009,6,318.98,284.56,264.8,251.44,null,9.1999999999999993,{"$f":"ROUND(J45/(1+Līmeņatzīmes!$E$4),2)","v":21.82},{"$f":"ROUND(K45/(1+Līmeņatzīmes!$E$4),2)","v":27.33},{"$f":"ROUND(L45/(1+Līmeņatzīmes!$E$4),2)","v":29.66},{"$f":"ROUND(M45/(1+Līmeņatzīmes!$E$4),2)","v":29.66},318.98,284.56,264.8,251.44]
["20097",2009,7,311.86,277.44,257.68,244.32,null,9.1999999999999993,{"$f":"ROUND(J46/(1+Līmeņatzīmes!$E$4),2)","v":21.82},{"$f":"ROUND(K46/(1+Līmeņatzīmes!$E$4),2)","v":27.33},{"$f":"ROUND(L46/(1+Līmeņatzīmes!$E$4),2)","v":29.66},{"$f":"ROUND(M46/(1+Līmeņatzīmes!$E$4),2)","v":29.66},311.86,277.44,257.68,244.32]
["20098",2009,8,311.86,277.44,257.68,244.32,null,9.1999999999999993,{"$f":"ROUND(J47/(1+Līmeņatzīmes!$E$4),2)","v":21.82},{"$f":"ROUND(K47/(1+Līmeņatzīmes!$E$4),2)","v":27.33},{"$f":"ROUND(L47/(1+Līmeņatzīmes!$E$4),2)","v":29.66},{"$f":"ROUND(M47/(1+Līmeņatzīmes!$E$4),2)","v":29.66},311.86,277.44,257.68,244.32]
["20099",2009,9,311.86,277.44,257.68,244.32,null,9.1999999999999993,{"$f":"ROUND(J48/(1+Līmeņatzīmes!$E$4),2)","v":21.82},{"$f":"ROUND(K48/(1+Līmeņatzīmes!$E$4),2)","v":27.33},{"$f":"ROUND(L48/(1+Līmeņatzīmes!$E$4),2)","v":29.66},{"$f":"ROUND(M48/(1+Līmeņatzīmes!$E$4),2)","v":29.66},311.86,277.44,257.68,244.32]
["200910",2009,10,304.75,270.33,250.57,237.21,null,9.1999999999999993,{"$f":"ROUND(J49/(1+Līmeņatzīmes!$E$4),2)","v":21.82},{"$f":"ROUND(K49/(1+Līmeņatzīmes!$E$4),2)","v":27.33},{"$f":"ROUND(L49/(1+Līmeņatzīmes!$E$4),2)","v":29.66},{"$f":"ROUND(M49/(1+Līmeņatzīmes!$E$4),2)","v":29.66},304.75,270.33,250.57,237.21]
["200911",2009,11,290.52,256.10000000000002,236.34,222.98,null,9.1999999999999993,{"$f":"ROUND(J50/(1+Līmeņatzīmes!$E$4),2)","v":21.82},{"$f":"ROUND(K50/(1+Līmeņatzīmes!$E$4),2)","v":27.33},{"$f":"ROUND(L50/(1+Līmeņatzīmes!$E$4),2)","v":29.66},{"$f":"ROUND(M50/(1+Līmeņatzīmes!$E$4),2)","v":29.66},290.52,256.10000000000002,236.34,222.98]
["200912",2009,12,290.52,256.10000000000002,236.34,222.98,null,9.1999999999999993,{"$f":"ROUND(J51/(1+Līmeņatzīmes!$E$4),2)","v":21.82},{"$f":"ROUND(K51/(1+Līmeņatzīmes!$E$4),2)","v":27.33},{"$f":"ROUND(L51/(1+Līmeņatzīmes!$E$4),2)","v":29.66},{"$f":"ROUND(M51/(1+Līmeņatzīmes!$E$4),2)","v":29.66},290.52,256.10000000000002,236.34,222.98]
["20101",2010,1,290.52,256.10000000000002,236.34,222.98,null,9.5,{"$f":"ROUND(J52/(1+Līmeņatzīmes!$F$4),2)","v":21.56},{"$f":"ROUND(K52/(1+Līmeņatzīmes!$F$4),2)","v":27},{"$f":"ROUND(L52/(1+Līmeņatzīmes!$F$4),2)","v":29.3},{"$f":"ROUND(M52/(1+Līmeņatzīmes!$F$4),2)","v":29.3},290.52,256.10000000000002,236.34,222.98]
["20102",2010,2,290.52,256.10000000000002,236.34,222.98,null,9.5,{"$f":"ROUND(J53/(1+Līmeņatzīmes!$F$4),2)","v":21.56},{"$f":"ROUND(K53/(1+Līmeņatzīmes!$F$4),2)","v":27},{"$f":"ROUND(L53/(1+Līmeņatzīmes!$F$4),2)","v":29.3},{"$f":"ROUND(M53/(1+Līmeņatzīmes!$F$4),2)","v":29.3},290.52,256.10000000000002,236.34,222.98]
["20103",2010,3,290.52,256.10000000000002,236.34,222.98,null,9.5,{"$f":"ROUND(J54/(1+Līmeņatzīmes!$F$4),2)","v":21.56},{"$f":"ROUND(K54/(1+Līmeņatzīmes!$F$4),2)","v":27},{"$f":"ROUND(L54/(1+Līmeņatzīmes!$F$4),2)","v":29.3},{"$f":"ROUND(M54/(1+Līmeņatzīmes!$F$4),2)","v":29.3},290.52,256.10000000000002,236.34,222.98]
["20104",2010,4,347.44,313.02,293.26,279.89999999999998,null,9.5,{"$f":"ROUND(J55/(1+Līmeņatzīmes!$F$4),2)","v":21.56},{"$f":"ROUND(K55/(1+Līmeņatzīmes!$F$4),2)","v":27},{"$f":"ROUND(L55/(1+Līmeņatzīmes!$F$4),2)","v":29.3},{"$f":"ROUND(M55/(1+Līmeņatzīmes!$F$4),2)","v":29.3},347.44,313.02,293.26,279.89999999999998]
["20105",2010,5,361.66,327.24,307.48,294.12,null,9.5,{"$f":"ROUND(J56/(1+Līmeņatzīmes!$F$4),2)","v":21.56},{"$f":"ROUND(K56/(1+Līmeņatzīmes!$F$4),2)","v":27},{"$f":"ROUND(L56/(1+Līmeņatzīmes!$F$4),2)","v":29.3},{"$f":"ROUND(M56/(1+Līmeņatzīmes!$F$4),2)","v":29.3},361.66,327.24,307.48,294.12]
["20106",2010,6,404.35,369.93,350.17,336.81,null,9.5,{"$f":"ROUND(J57/(1+Līmeņatzīmes!$F$4),2)","v":21.56},{"$f":"ROUND(K57/(1+Līmeņatzīmes!$F$4),2)","v":27},{"$f":"ROUND(L57/(1+Līmeņatzīmes!$F$4),2)","v":29.3},{"$f":"ROUND(M57/(1+Līmeņatzīmes!$F$4),2)","v":29.3},404.35,369.93,350.17,336.81]
["20107",2010,7,404.35,369.93,350.17,336.81,{"$f":"15.6/0.702804","v":22.19680024587225},9.5,{"$f":"ROUND(J58/(1+Līmeņatzīmes!$F$4),2)","v":21.56},{"$f":"ROUND(K58/(1+Līmeņatzīmes!$F$4),2)","v":27},{"$f":"ROUND(L58/(1+Līmeņatzīmes!$F$4),2)","v":29.3},{"$f":"ROUND(M58/(1+Līmeņatzīmes!$F$4),2)","v":29.3},404.35,369.93,350.17,336.81]
["20108",2010,8,404.35,369.93,350.17,336.81,{"$f":"H46","v":22.19680024587225},9.5,{"$f":"ROUND(J59/(1+Līmeņatzīmes!$F$4),2)","v":21.56},{"$f":"ROUND(K59/(1+Līmeņatzīmes!$F$4),2)","v":27},{"$f":"ROUND(L59/(1+Līmeņatzīmes!$F$4),2)","v":29.3},{"$f":"ROUND(M59/(1+Līmeņatzīmes!$F$4),2)","v":29.3},404.35,369.93,350.17,336.81]
["20109",2010,9,383.01,348.59,328.83,315.47000000000003,{"$f":"H47","v":22.19680024587225},9.5,{"$f":"ROUND(J60/(1+Līmeņatzīmes!$F$4),2)","v":21.56},{"$f":"ROUND(K60/(1+Līmeņatzīmes!$F$4),2)","v":27},{"$f":"ROUND(L60/(1+Līmeņatzīmes!$F$4),2)","v":29.3},{"$f":"ROUND(M60/(1+Līmeņatzīmes!$F$4),2)","v":29.3},383.01,348.59,328.83,315.47000000000003]
["201010",2010,10,368.78,334.36,314.60000000000002,301.24,22.19680024587225,9.5,{"$f":"ROUND(J61/(1+Līmeņatzīmes!$F$4),2)","v":21.56},{"$f":"ROUND(K61/(1+Līmeņatzīmes!$F$4),2)","v":27},{"$f":"ROUND(L61/(1+Līmeņatzīmes!$F$4),2)","v":29.3},{"$f":"ROUND(M61/(1+Līmeņatzīmes!$F$4),2)","v":29.3},368.78,334.36,314.60000000000002,301.24]
["201011",2010,11,368.78,334.36,314.60000000000002,301.24,22.19680024587225,9.5,{"$f":"ROUND(J62/(1+Līmeņatzīmes!$F$4),2)","v":21.56},{"$f":"ROUND(K62/(1+Līmeņatzīmes!$F$4),2)","v":27},{"$f":"ROUND(L62/(1+Līmeņatzīmes!$F$4),2)","v":29.3},{"$f":"ROUND(M62/(1+Līmeņatzīmes!$F$4),2)","v":29.3},368.78,334.36,314.60000000000002,301.24]
["201012",2010,12,368.78,334.36,314.60000000000002,301.24,22.19680024587225,9.5,{"$f":"ROUND(J63/(1+Līmeņatzīmes!$F$4),2)","v":21.56},{"$f":"ROUND(K63/(1+Līmeņatzīmes!$F$4),2)","v":27},{"$f":"ROUND(L63/(1+Līmeņatzīmes!$F$4),2)","v":29.3},{"$f":"ROUND(M63/(1+Līmeņatzīmes!$F$4),2)","v":29.3},368.78,334.36,314.60000000000002,301.24]
["20111",2011,1,354.55,320.13,300.37,287.01,22.19680024587225,11.1,{"$f":"ROUND(J64/(1+Līmeņatzīmes!$G$4),2)","v":22.47},{"$f":"ROUND(K64/(1+Līmeņatzīmes!$G$4),2)","v":28.13},{"$f":"ROUND(L64/(1+Līmeņatzīmes!$G$4),2)","v":30.53},{"$f":"ROUND(M64/(1+Līmeņatzīmes!$G$4),2)","v":30.53},354.55,320.13,300.37,287.01]
["20112",2011,2,347.44,313.02,293.26,279.89999999999998,22.19680024587225,11.1,{"$f":"ROUND(J65/(1+Līmeņatzīmes!$G$4),2)","v":22.47},{"$f":"ROUND(K65/(1+Līmeņatzīmes!$G$4),2)","v":28.13},{"$f":"ROUND(L65/(1+Līmeņatzīmes!$G$4),2)","v":30.53},{"$f":"ROUND(M65/(1+Līmeņatzīmes!$G$4),2)","v":30.53},347.44,313.02,293.26,279.89999999999998]
["20113",2011,3,340.32,305.89999999999998,286.14,272.77999999999997,22.19680024587225,11.1,{"$f":"ROUND(J66/(1+Līmeņatzīmes!$G$4),2)","v":22.47},{"$f":"ROUND(K66/(1+Līmeņatzīmes!$G$4),2)","v":28.13},{"$f":"ROUND(L66/(1+Līmeņatzīmes!$G$4),2)","v":30.53},{"$f":"ROUND(M66/(1+Līmeņatzīmes!$G$4),2)","v":30.53},340.32,305.89999999999998,286.14,272.77999999999997]
["20114",2011,4,340.32,305.89999999999998,286.14,272.77999999999997,22.19680024587225,11.1,{"$f":"ROUND(J67/(1+Līmeņatzīmes!$G$4),2)","v":22.47},{"$f":"ROUND(K67/(1+Līmeņatzīmes!$G$4),2)","v":28.13},{"$f":"ROUND(L67/(1+Līmeņatzīmes!$G$4),2)","v":30.53},{"$f":"ROUND(M67/(1+Līmeņatzīmes!$G$4),2)","v":30.53},340.32,305.89999999999998,286.14,272.77999999999997]
["20115",2011,5,354.55,320.13,300.37,287.01,22.19680024587225,11.1,{"$f":"ROUND(J68/(1+Līmeņatzīmes!$G$4),2)","v":22.47},{"$f":"ROUND(K68/(1+Līmeņatzīmes!$G$4),2)","v":28.13},{"$f":"ROUND(L68/(1+Līmeņatzīmes!$G$4),2)","v":30.53},{"$f":"ROUND(M68/(1+Līmeņatzīmes!$G$4),2)","v":30.53},354.55,320.13,300.37,287.01]
["20116",2011,6,375.89,341.47,321.70999999999998,308.35000000000002,22.19680024587225,11.1,{"$f":"ROUND(J69/(1+Līmeņatzīmes!$G$4),2)","v":22.47},{"$f":"ROUND(K69/(1+Līmeņatzīmes!$G$4),2)","v":28.13},{"$f":"ROUND(L69/(1+Līmeņatzīmes!$G$4),2)","v":30.53},{"$f":"ROUND(M69/(1+Līmeņatzīmes!$G$4),2)","v":30.53},375.89,341.47,321.70999999999998,308.35000000000002]
["20117",2011,7,375.89,341.47,321.70999999999998,308.35000000000002,17.07,11.1,{"$f":"ROUND(J70/(1+Līmeņatzīmes!$G$4),2)","v":22.47},{"$f":"ROUND(K70/(1+Līmeņatzīmes!$G$4),2)","v":28.13},{"$f":"ROUND(L70/(1+Līmeņatzīmes!$G$4),2)","v":30.53},{"$f":"ROUND(M70/(1+Līmeņatzīmes!$G$4),2)","v":30.53},375.89,341.47,321.70999999999998,308.35000000000002]
["20118",2011,8,383.01,348.59,328.83,315.47000000000003,{"$f":"H58","v":17.07},11.1,{"$f":"ROUND(J71/(1+Līmeņatzīmes!$G$4),2)","v":22.47},{"$f":"ROUND(K71/(1+Līmeņatzīmes!$G$4),2)","v":28.13},{"$f":"ROUND(L71/(1+Līmeņatzīmes!$G$4),2)","v":30.53},{"$f":"ROUND(M71/(1+Līmeņatzīmes!$G$4),2)","v":30.53},383.01,348.59,328.83,315.47000000000003]
["20119",2011,9,383.01,348.59,328.83,315.47000000000003,{"$f":"H59","v":17.07},11.1,{"$f":"ROUND(J72/(1+Līmeņatzīmes!$G$4),2)","v":22.47},{"$f":"ROUND(K72/(1+Līmeņatzīmes!$G$4),2)","v":28.13},{"$f":"ROUND(L72/(1+Līmeņatzīmes!$G$4),2)","v":30.53},{"$f":"ROUND(M72/(1+Līmeņatzīmes!$G$4),2)","v":30.53},383.01,348.59,328.83,315.47000000000003]
["201110",2011,10,375.89,341.47,321.70999999999998,308.35000000000002,17.07,11.1,{"$f":"ROUND(J73/(1+Līmeņatzīmes!$G$4),2)","v":22.47},{"$f":"ROUND(K73/(1+Līmeņatzīmes!$G$4),2)","v":28.13},{"$f":"ROUND(L73/(1+Līmeņatzīmes!$G$4),2)","v":30.53},{"$f":"ROUND(M73/(1+Līmeņatzīmes!$G$4),2)","v":30.53},375.89,341.47,321.70999999999998,308.35000000000002]
["201111",2011,11,375.89,341.47,321.70999999999998,308.35000000000002,17.07,11.1,{"$f":"ROUND(J74/(1+Līmeņatzīmes!$G$4),2)","v":22.47},{"$f":"ROUND(K74/(1+Līmeņatzīmes!$G$4),2)","v":28.13},{"$f":"ROUND(L74/(1+Līmeņatzīmes!$G$4),2)","v":30.53},{"$f":"ROUND(M74/(1+Līmeņatzīmes!$G$4),2)","v":30.53},375.89,341.47,321.70999999999998,308.35000000000002]
["201112",2011,12,375.89,341.47,321.70999999999998,308.35000000000002,17.07,11.1,{"$f":"ROUND(J75/(1+Līmeņatzīmes!$G$4),2)","v":22.47},{"$f":"ROUND(K75/(1+Līmeņatzīmes!$G$4),2)","v":28.13},{"$f":"ROUND(L75/(1+Līmeņatzīmes!$G$4),2)","v":30.53},{"$f":"ROUND(M75/(1+Līmeņatzīmes!$G$4),2)","v":30.53},375.89,341.47,321.70999999999998,308.35000000000002]
["20121",2012,1,425.69,391.27,371.51,358.15,17.07,10.9,{"$f":"ROUND(J76/(1+Līmeņatzīmes!$H$4),2)","v":22.99},{"$f":"ROUND(K76/(1+Līmeņatzīmes!$H$4),2)","v":28.78},{"$f":"ROUND(L76/(1+Līmeņatzīmes!$H$4),2)","v":31.23},{"$f":"ROUND(M76/(1+Līmeņatzīmes!$H$4),2)","v":31.23},425.69,391.27,371.51,358.15]
["20122",2012,2,425.69,391.27,371.51,358.15,17.07,10.9,{"$f":"ROUND(J77/(1+Līmeņatzīmes!$H$4),2)","v":22.99},{"$f":"ROUND(K77/(1+Līmeņatzīmes!$H$4),2)","v":28.78},{"$f":"ROUND(L77/(1+Līmeņatzīmes!$H$4),2)","v":31.23},{"$f":"ROUND(M77/(1+Līmeņatzīmes!$H$4),2)","v":31.23},425.69,391.27,371.51,358.15]
["20123",2012,3,425.69,391.27,371.51,358.15,17.07,10.9,{"$f":"ROUND(J78/(1+Līmeņatzīmes!$H$4),2)","v":22.99},{"$f":"ROUND(K78/(1+Līmeņatzīmes!$H$4),2)","v":28.78},{"$f":"ROUND(L78/(1+Līmeņatzīmes!$H$4),2)","v":31.23},{"$f":"ROUND(M78/(1+Līmeņatzīmes!$H$4),2)","v":31.23},425.69,391.27,371.51,358.15]
["20124",2012,4,425.69,391.27,371.51,358.15,17.07,10.9,{"$f":"ROUND(J79/(1+Līmeņatzīmes!$H$4),2)","v":22.99},{"$f":"ROUND(K79/(1+Līmeņatzīmes!$H$4),2)","v":28.78},{"$f":"ROUND(L79/(1+Līmeņatzīmes!$H$4),2)","v":31.23},{"$f":"ROUND(M79/(1+Līmeņatzīmes!$H$4),2)","v":31.23},425.69,391.27,371.51,358.15]
["20125",2012,5,425.69,391.27,371.51,358.15,17.07,10.9,{"$f":"ROUND(J80/(1+Līmeņatzīmes!$H$4),2)","v":22.99},{"$f":"ROUND(K80/(1+Līmeņatzīmes!$H$4),2)","v":28.78},{"$f":"ROUND(L80/(1+Līmeņatzīmes!$H$4),2)","v":31.23},{"$f":"ROUND(M80/(1+Līmeņatzīmes!$H$4),2)","v":31.23},425.69,391.27,371.51,358.15]
[{"$f":"B69&C69","v":"20126"},2012,6,425.69,391.27,371.51,358.15,17.07,10.9,{"$f":"ROUND(J81/(1+Līmeņatzīmes!$H$4),2)","v":22.99},{"$f":"ROUND(K81/(1+Līmeņatzīmes!$H$4),2)","v":28.78},{"$f":"ROUND(L81/(1+Līmeņatzīmes!$H$4),2)","v":31.23},{"$f":"ROUND(M81/(1+Līmeņatzīmes!$H$4),2)","v":31.23},{"$f":"D69","v":425.69},391.27,371.51,358.15]
["20127",2012,7,454.15,419.73,399.97,386.61,17.07,10.9,{"$f":"ROUND(J82/(1+Līmeņatzīmes!$H$4),2)","v":22.99},{"$f":"ROUND(K82/(1+Līmeņatzīmes!$H$4),2)","v":28.78},{"$f":"ROUND(L82/(1+Līmeņatzīmes!$H$4),2)","v":31.23},{"$f":"ROUND(M82/(1+Līmeņatzīmes!$H$4),2)","v":31.23},454.15,419.73,399.97,386.61]
["20128",2012,8,454.15,419.73,399.97,386.61,17.07,10.9,{"$f":"ROUND(J83/(1+Līmeņatzīmes!$H$4),2)","v":22.99},{"$f":"ROUND(K83/(1+Līmeņatzīmes!$H$4),2)","v":28.78},{"$f":"ROUND(L83/(1+Līmeņatzīmes!$H$4),2)","v":31.23},{"$f":"ROUND(M83/(1+Līmeņatzīmes!$H$4),2)","v":31.23},454.15,419.73,399.97,386.61]
["20129",2012,9,454.15,419.73,399.97,386.61,17.07,10.9,{"$f":"ROUND(J84/(1+Līmeņatzīmes!$H$4),2)","v":22.99},{"$f":"ROUND(K84/(1+Līmeņatzīmes!$H$4),2)","v":28.78},{"$f":"ROUND(L84/(1+Līmeņatzīmes!$H$4),2)","v":31.23},{"$f":"ROUND(M84/(1+Līmeņatzīmes!$H$4),2)","v":31.23},454.15,419.73,399.97,386.61]
["201210",2012,10,454.15,419.73,399.97,386.61,17.07,10.9,{"$f":"ROUND(J85/(1+Līmeņatzīmes!$H$4),2)","v":22.99},{"$f":"ROUND(K85/(1+Līmeņatzīmes!$H$4),2)","v":28.78},{"$f":"ROUND(L85/(1+Līmeņatzīmes!$H$4),2)","v":31.23},{"$f":"ROUND(M85/(1+Līmeņatzīmes!$H$4),2)","v":31.23},454.15,419.73,399.97,386.61]
["201211",2012,11,454.15,419.73,399.97,386.61,17.07,10.9,{"$f":"ROUND(J86/(1+Līmeņatzīmes!$H$4),2)","v":22.99},{"$f":"ROUND(K86/(1+Līmeņatzīmes!$H$4),2)","v":28.78},{"$f":"ROUND(L86/(1+Līmeņatzīmes!$H$4),2)","v":31.23},{"$f":"ROUND(M86/(1+Līmeņatzīmes!$H$4),2)","v":31.23},454.15,419.73,399.97,386.61]
["201212",2012,12,454.15,419.73,399.97,386.61,17.07,10.9,{"$f":"ROUND(J87/(1+Līmeņatzīmes!$H$4),2)","v":22.99},{"$f":"ROUND(K87/(1+Līmeņatzīmes!$H$4),2)","v":28.78},{"$f":"ROUND(L87/(1+Līmeņatzīmes!$H$4),2)","v":31.23},{"$f":"ROUND(M87/(1+Līmeņatzīmes!$H$4),2)","v":31.23},454.15,419.73,399.97,386.61]
["20131",2013,1,447.04,412.62,392.86,379.5,17.07,11.1,{"$f":"ROUND(J88/(1+Līmeņatzīmes!$I$4),2)","v":22.99},{"$f":"ROUND(K88/(1+Līmeņatzīmes!$I$4),2)","v":28.78},{"$f":"ROUND(L88/(1+Līmeņatzīmes!$I$4),2)","v":31.23},{"$f":"ROUND(M88/(1+Līmeņatzīmes!$I$4),2)","v":31.23},447.04,412.62,392.86,379.5]
["20132",2013,2,425.69,391.27,371.51,358.15,17.07,11.1,{"$f":"ROUND(J89/(1+Līmeņatzīmes!$I$4),2)","v":22.99},{"$f":"ROUND(K89/(1+Līmeņatzīmes!$I$4),2)","v":28.78},{"$f":"ROUND(L89/(1+Līmeņatzīmes!$I$4),2)","v":31.23},{"$f":"ROUND(M89/(1+Līmeņatzīmes!$I$4),2)","v":31.23},425.69,391.27,371.51,358.15]
["20133",2013,3,425.69,391.27,371.51,358.15,17.07,11.1,{"$f":"ROUND(J90/(1+Līmeņatzīmes!$I$4),2)","v":22.99},{"$f":"ROUND(K90/(1+Līmeņatzīmes!$I$4),2)","v":28.78},{"$f":"ROUND(L90/(1+Līmeņatzīmes!$I$4),2)","v":31.23},{"$f":"ROUND(M90/(1+Līmeņatzīmes!$I$4),2)","v":31.23},425.69,391.27,371.51,358.15]
["20134",2013,4,425.69,391.27,371.51,358.15,17.07,11.1,{"$f":"ROUND(J91/(1+Līmeņatzīmes!$I$4),2)","v":22.99},{"$f":"ROUND(K91/(1+Līmeņatzīmes!$I$4),2)","v":28.78},{"$f":"ROUND(L91/(1+Līmeņatzīmes!$I$4),2)","v":31.23},{"$f":"ROUND(M91/(1+Līmeņatzīmes!$I$4),2)","v":31.23},425.69,391.27,371.51,358.15]
["20135",2013,5,425.69,391.27,371.51,358.15,17.07,11.1,{"$f":"ROUND(J92/(1+Līmeņatzīmes!$I$4),2)","v":22.99},{"$f":"ROUND(K92/(1+Līmeņatzīmes!$I$4),2)","v":28.78},{"$f":"ROUND(L92/(1+Līmeņatzīmes!$I$4),2)","v":31.23},{"$f":"ROUND(M92/(1+Līmeņatzīmes!$I$4),2)","v":31.23},425.69,391.27,371.51,358.15]
["20136",2013,6,425.69,391.27,371.51,358.15,17.07,11.1,{"$f":"ROUND(J93/(1+Līmeņatzīmes!$I$4),2)","v":22.99},{"$f":"ROUND(K93/(1+Līmeņatzīmes!$I$4),2)","v":28.78},{"$f":"ROUND(L93/(1+Līmeņatzīmes!$I$4),2)","v":31.23},{"$f":"ROUND(M93/(1+Līmeņatzīmes!$I$4),2)","v":31.23},425.69,391.27,371.51,358.15]
["20137",2013,7,418.58,384.16,364.4,351.04,17.07,11.1,{"$f":"ROUND(J94/(1+Līmeņatzīmes!$I$4),2)","v":22.99},{"$f":"ROUND(K94/(1+Līmeņatzīmes!$I$4),2)","v":28.78},{"$f":"ROUND(L94/(1+Līmeņatzīmes!$I$4),2)","v":31.23},{"$f":"ROUND(M94/(1+Līmeņatzīmes!$I$4),2)","v":31.23},418.58,384.16,364.4,351.04]
["20138",2013,8,418.58,384.16,364.4,351.04,17.07,11.1,{"$f":"ROUND(J95/(1+Līmeņatzīmes!$I$4),2)","v":22.99},{"$f":"ROUND(K95/(1+Līmeņatzīmes!$I$4),2)","v":28.78},{"$f":"ROUND(L95/(1+Līmeņatzīmes!$I$4),2)","v":31.23},{"$f":"ROUND(M95/(1+Līmeņatzīmes!$I$4),2)","v":31.23},418.58,384.16,364.4,351.04]
["20139",2013,9,418.58,384.16,364.4,351.04,17.07,11.1,{"$f":"ROUND(J96/(1+Līmeņatzīmes!$I$4),2)","v":22.99},{"$f":"ROUND(K96/(1+Līmeņatzīmes!$I$4),2)","v":28.78},{"$f":"ROUND(L96/(1+Līmeņatzīmes!$I$4),2)","v":31.23},{"$f":"ROUND(M96/(1+Līmeņatzīmes!$I$4),2)","v":31.23},418.58,384.16,364.4,351.04]
["201310",2013,10,418.58,384.16,364.4,351.04,17.07,11.1,{"$f":"ROUND(J97/(1+Līmeņatzīmes!$I$4),2)","v":22.99},{"$f":"ROUND(K97/(1+Līmeņatzīmes!$I$4),2)","v":28.78},{"$f":"ROUND(L97/(1+Līmeņatzīmes!$I$4),2)","v":31.23},{"$f":"ROUND(M97/(1+Līmeņatzīmes!$I$4),2)","v":31.23},418.58,384.16,364.4,351.04]
["201311",2013,11,418.58,384.16,364.4,351.04,17.07,11.1,{"$f":"ROUND(J98/(1+Līmeņatzīmes!$I$4),2)","v":22.99},{"$f":"ROUND(K98/(1+Līmeņatzīmes!$I$4),2)","v":28.78},{"$f":"ROUND(L98/(1+Līmeņatzīmes!$I$4),2)","v":31.23},{"$f":"ROUND(M98/(1+Līmeņatzīmes!$I$4),2)","v":31.23},418.58,384.16,364.4,351.04]
["201312",2013,12,411.47,377.05,357.28,343.92,17.07,11.1,{"$f":"ROUND(J99/(1+Līmeņatzīmes!$I$4),2)","v":22.99},{"$f":"ROUND(K99/(1+Līmeņatzīmes!$I$4),2)","v":28.78},{"$f":"ROUND(L99/(1+Līmeņatzīmes!$I$4),2)","v":31.23},{"$f":"ROUND(M99/(1+Līmeņatzīmes!$I$4),2)","v":31.23},411.47,377.05,357.28,343.92]
["20141",2014,1,411.47,377.05,357.28,343.92,17.07,11.2,{"$f":"ROUND(J100/(1+Līmeņatzīmes!$J$4),2)","v":23.15},{"$f":"ROUND(K100/(1+Līmeņatzīmes!$J$4),2)","v":28.98},{"$f":"ROUND(L100/(1+Līmeņatzīmes!$J$4),2)","v":31.45},{"$f":"ROUND(M100/(1+Līmeņatzīmes!$J$4),2)","v":31.45},411.47,377.05,357.28,343.92]
["20142",2014,2,404.35,369.93,350.17,336.81,17.07,11.2,{"$f":"ROUND(J101/(1+Līmeņatzīmes!$J$4),2)","v":23.15},{"$f":"ROUND(K101/(1+Līmeņatzīmes!$J$4),2)","v":28.98},{"$f":"ROUND(L101/(1+Līmeņatzīmes!$J$4),2)","v":31.45},{"$f":"ROUND(M101/(1+Līmeņatzīmes!$J$4),2)","v":31.45},404.35,369.93,350.17,336.81]
["20143",2014,3,404.35,369.93,350.17,336.81,17.07,11.2,{"$f":"ROUND(J102/(1+Līmeņatzīmes!$J$4),2)","v":23.15},{"$f":"ROUND(K102/(1+Līmeņatzīmes!$J$4),2)","v":28.98},{"$f":"ROUND(L102/(1+Līmeņatzīmes!$J$4),2)","v":31.45},{"$f":"ROUND(M102/(1+Līmeņatzīmes!$J$4),2)","v":31.45},404.35,369.93,350.17,336.81]
["20144",2014,4,404.35,369.93,350.17,336.81,17.07,11.2,{"$f":"ROUND(J103/(1+Līmeņatzīmes!$J$4),2)","v":23.15},{"$f":"ROUND(K103/(1+Līmeņatzīmes!$J$4),2)","v":28.98},{"$f":"ROUND(L103/(1+Līmeņatzīmes!$J$4),2)","v":31.45},{"$f":"ROUND(M103/(1+Līmeņatzīmes!$J$4),2)","v":31.45},404.35,369.93,350.17,336.81]
["20145",2014,5,404.35,369.93,350.17,336.81,17.07,11.2,{"$f":"ROUND(J104/(1+Līmeņatzīmes!$J$4),2)","v":23.15},{"$f":"ROUND(K104/(1+Līmeņatzīmes!$J$4),2)","v":28.98},{"$f":"ROUND(L104/(1+Līmeņatzīmes!$J$4),2)","v":31.45},{"$f":"ROUND(M104/(1+Līmeņatzīmes!$J$4),2)","v":31.45},404.35,369.93,350.17,336.81]
["20146",2014,6,404.35,369.93,350.17,336.81,17.07,11.2,{"$f":"ROUND(J105/(1+Līmeņatzīmes!$J$4),2)","v":23.15},{"$f":"ROUND(K105/(1+Līmeņatzīmes!$J$4),2)","v":28.98},{"$f":"ROUND(L105/(1+Līmeņatzīmes!$J$4),2)","v":31.45},{"$f":"ROUND(M105/(1+Līmeņatzīmes!$J$4),2)","v":31.45},404.35,369.93,350.17,336.81]
["20147",2014,7,404.35,369.93,350.17,336.81,17.07,11.2,{"$f":"ROUND(J106/(1+Līmeņatzīmes!$J$4),2)","v":23.15},{"$f":"ROUND(K106/(1+Līmeņatzīmes!$J$4),2)","v":28.98},{"$f":"ROUND(L106/(1+Līmeņatzīmes!$J$4),2)","v":31.45},{"$f":"ROUND(M106/(1+Līmeņatzīmes!$J$4),2)","v":31.45},404.35,369.93,350.17,336.81]
["20148",2014,8,404.35,369.93,350.17,336.81,17.07,11.2,{"$f":"ROUND(J107/(1+Līmeņatzīmes!$J$4),2)","v":23.15},{"$f":"ROUND(K107/(1+Līmeņatzīmes!$J$4),2)","v":28.98},{"$f":"ROUND(L107/(1+Līmeņatzīmes!$J$4),2)","v":31.45},{"$f":"ROUND(M107/(1+Līmeņatzīmes!$J$4),2)","v":31.45},404.35,369.93,350.17,336.81]
["20149",2014,9,404.35,369.93,350.17,336.81,17.07,11.2,{"$f":"ROUND(J108/(1+Līmeņatzīmes!$J$4),2)","v":23.15},{"$f":"ROUND(K108/(1+Līmeņatzīmes!$J$4),2)","v":28.98},{"$f":"ROUND(L108/(1+Līmeņatzīmes!$J$4),2)","v":31.45},{"$f":"ROUND(M108/(1+Līmeņatzīmes!$J$4),2)","v":31.45},404.35,369.93,350.17,336.81]
["201410",2014,10,404.35,369.93,350.17,336.81,17.07,11.2,{"$f":"ROUND(J109/(1+Līmeņatzīmes!$J$4),2)","v":23.15},{"$f":"ROUND(K109/(1+Līmeņatzīmes!$J$4),2)","v":28.98},{"$f":"ROUND(L109/(1+Līmeņatzīmes!$J$4),2)","v":31.45},{"$f":"ROUND(M109/(1+Līmeņatzīmes!$J$4),2)","v":31.45},404.35,369.93,350.17,336.81]
["201411",2014,11,404.35,369.93,350.17,336.81,17.07,11.2,{"$f":"ROUND(J110/(1+Līmeņatzīmes!$J$4),2)","v":23.15},{"$f":"ROUND(K110/(1+Līmeņatzīmes!$J$4),2)","v":28.98},{"$f":"ROUND(L110/(1+Līmeņatzīmes!$J$4),2)","v":31.45},{"$f":"ROUND(M110/(1+Līmeņatzīmes!$J$4),2)","v":31.45},404.35,369.93,350.17,336.81]
["201412",2014,12,404.35,369.93,350.17,336.81,17.07,11.2,{"$f":"ROUND(J111/(1+Līmeņatzīmes!$J$4),2)","v":23.15},{"$f":"ROUND(K111/(1+Līmeņatzīmes!$J$4),2)","v":28.98},{"$f":"ROUND(L111/(1+Līmeņatzīmes!$J$4),2)","v":31.45},{"$f":"ROUND(M111/(1+Līmeņatzīmes!$J$4),2)","v":31.45},404.35,369.93,350.17,336.81]
["20151",2015,1,404.35,369.93,350.17,336.81,17.07,11.2,{"$f":"ROUND(J112/(1+Līmeņatzīmes!$K$4),2)","v":23.2},{"$f":"ROUND(K112/(1+Līmeņatzīmes!$K$4),2)","v":29.04},{"$f":"ROUND(L112/(1+Līmeņatzīmes!$K$4),2)","v":31.51},{"$f":"ROUND(M112/(1+Līmeņatzīmes!$K$4),2)","v":31.51},404.35,369.93,350.17,336.81]
["20152",2015,2,397.24,362.82,343.05,329.69,17.07,11.2,{"$f":"ROUND(J113/(1+Līmeņatzīmes!$K$4),2)","v":23.2},{"$f":"ROUND(K113/(1+Līmeņatzīmes!$K$4),2)","v":29.04},{"$f":"ROUND(L113/(1+Līmeņatzīmes!$K$4),2)","v":31.51},{"$f":"ROUND(M113/(1+Līmeņatzīmes!$K$4),2)","v":31.51},397.24,362.82,343.05,329.69]
["20153",2015,3,383.01,348.59,328.83,315.45999999999998,17.07,11.2,{"$f":"ROUND(J114/(1+Līmeņatzīmes!$K$4),2)","v":23.2},{"$f":"ROUND(K114/(1+Līmeņatzīmes!$K$4),2)","v":29.04},{"$f":"ROUND(L114/(1+Līmeņatzīmes!$K$4),2)","v":31.51},{"$f":"ROUND(M114/(1+Līmeņatzīmes!$K$4),2)","v":31.51},383.01,348.59,328.83,315.45999999999998]
["20154",2015,4,383.01,348.59,328.83,315.45999999999998,17.07,11.2,{"$f":"ROUND(J115/(1+Līmeņatzīmes!$K$4),2)","v":23.2},{"$f":"ROUND(K115/(1+Līmeņatzīmes!$K$4),2)","v":29.04},{"$f":"ROUND(L115/(1+Līmeņatzīmes!$K$4),2)","v":31.51},{"$f":"ROUND(M115/(1+Līmeņatzīmes!$K$4),2)","v":31.51},383.01,348.59,328.83,315.45999999999998]
["20155",2015,5,383.01,348.59,328.83,315.45999999999998,17.07,11.2,{"$f":"ROUND(J116/(1+Līmeņatzīmes!$K$4),2)","v":23.2},{"$f":"ROUND(K116/(1+Līmeņatzīmes!$K$4),2)","v":29.04},{"$f":"ROUND(L116/(1+Līmeņatzīmes!$K$4),2)","v":31.51},{"$f":"ROUND(M116/(1+Līmeņatzīmes!$K$4),2)","v":31.51},383.01,348.59,328.83,315.45999999999998]
["20156",2015,6,368.78,334.36,314.60000000000002,301.24,17.07,11.2,{"$f":"ROUND(J117/(1+Līmeņatzīmes!$K$4),2)","v":23.2},{"$f":"ROUND(K117/(1+Līmeņatzīmes!$K$4),2)","v":29.04},{"$f":"ROUND(L117/(1+Līmeņatzīmes!$K$4),2)","v":31.51},{"$f":"ROUND(M117/(1+Līmeņatzīmes!$K$4),2)","v":31.51},368.78,334.36,314.60000000000002,301.24]
["20157",2015,7,347.44,313.02,293.25,279.89,17.07,11.2,{"$f":"ROUND(J118/(1+Līmeņatzīmes!$K$4),2)","v":23.2},{"$f":"ROUND(K118/(1+Līmeņatzīmes!$K$4),2)","v":29.04},{"$f":"ROUND(L118/(1+Līmeņatzīmes!$K$4),2)","v":31.51},{"$f":"ROUND(M118/(1+Līmeņatzīmes!$K$4),2)","v":31.51},347.44,313.02,293.25,279.89]
["20158",2015,8,340.32,305.89999999999998,286.14,272.77999999999997,17.07,11.2,{"$f":"ROUND(J119/(1+Līmeņatzīmes!$K$4),2)","v":23.2},{"$f":"ROUND(K119/(1+Līmeņatzīmes!$K$4),2)","v":29.04},{"$f":"ROUND(L119/(1+Līmeņatzīmes!$K$4),2)","v":31.51},{"$f":"ROUND(M119/(1+Līmeņatzīmes!$K$4),2)","v":31.51},340.32,305.89999999999998,286.14,272.77999999999997]
["20159",2015,9,333.21,298.79000000000002,279.02999999999997,265.66000000000003,17.07,11.2,{"$f":"ROUND(J120/(1+Līmeņatzīmes!$K$4),2)","v":23.2},{"$f":"ROUND(K120/(1+Līmeņatzīmes!$K$4),2)","v":29.04},{"$f":"ROUND(L120/(1+Līmeņatzīmes!$K$4),2)","v":31.51},{"$f":"ROUND(M120/(1+Līmeņatzīmes!$K$4),2)","v":31.51},333.21,298.79000000000002,279.02999999999997,265.66000000000003]
["201510",2015,10,333.21,298.79000000000002,279.02999999999997,265.66000000000003,17.07,11.2,{"$f":"ROUND(J121/(1+Līmeņatzīmes!$K$4),2)","v":23.2},{"$f":"ROUND(K121/(1+Līmeņatzīmes!$K$4),2)","v":29.04},{"$f":"ROUND(L121/(1+Līmeņatzīmes!$K$4),2)","v":31.51},{"$f":"ROUND(M121/(1+Līmeņatzīmes!$K$4),2)","v":31.51},333.21,298.79000000000002,279.02999999999997,265.66000000000003]
["201511",2015,11,333.21,298.79000000000002,279.02999999999997,265.66000000000003,17.07,11.2,{"$f":"ROUND(J122/(1+Līmeņatzīmes!$K$4),2)","v":23.2},{"$f":"ROUND(K122/(1+Līmeņatzīmes!$K$4),2)","v":29.04},{"$f":"ROUND(L122/(1+Līmeņatzīmes!$K$4),2)","v":31.51},{"$f":"ROUND(M122/(1+Līmeņatzīmes!$K$4),2)","v":31.51},333.21,298.79000000000002,279.02999999999997,265.66000000000003]
["201512",2015,12,333.21,298.79000000000002,279.02999999999997,265.67,17.07,11.2,{"$f":"ROUND(J123/(1+Līmeņatzīmes!$K$4),2)","v":23.2},{"$f":"ROUND(K123/(1+Līmeņatzīmes!$K$4),2)","v":29.04},{"$f":"ROUND(L123/(1+Līmeņatzīmes!$K$4),2)","v":31.51},{"$f":"ROUND(M123/(1+Līmeņatzīmes!$K$4),2)","v":31.51},333.21,298.79000000000002,279.02999999999997,265.67]
["20161",2016,1,333.21,298.79000000000002,279.02999999999997,265.67,17.07,11.2,{"$f":"Līmeņatzīmes!$F$64","v":23.296208262591964},{"$f":"Līmeņatzīmes!$G$64","v":29.156495377213574},{"$f":"Līmeņatzīmes!$H$64","v":31.63294953802416},{"$f":"Līmeņatzīmes!$I$64","v":31.63294953802416},333.21,298.79000000000002,279.02999999999997,265.67]
["20162",2016,2,318.98,284.56,264.8,251.44,17.07,11.2,{"$f":"Līmeņatzīmes!$F$64","v":23.296208262591964},{"$f":"Līmeņatzīmes!$G$64","v":29.156495377213574},{"$f":"Līmeņatzīmes!$H$64","v":31.63294953802416},{"$f":"Līmeņatzīmes!$I$64","v":31.63294953802416},318.98,284.56,264.8,251.44]
["20163",2016,3,304.75,270.33,250.57,237.21,17.07,11.2,{"$f":"Līmeņatzīmes!$F$64","v":23.296208262591964},{"$f":"Līmeņatzīmes!$G$64","v":29.156495377213574},{"$f":"Līmeņatzīmes!$H$64","v":31.63294953802416},{"$f":"Līmeņatzīmes!$I$64","v":31.63294953802416},304.75,270.33,250.57,237.21]
["20164",2016,4,290.52,256.10000000000002,236.34,222.98,17.07,11.2,{"$f":"Līmeņatzīmes!$F$64","v":23.296208262591964},{"$f":"Līmeņatzīmes!$G$64","v":29.156495377213574},{"$f":"Līmeņatzīmes!$H$64","v":31.63294953802416},{"$f":"Līmeņatzīmes!$I$64","v":31.63294953802416},290.52,256.10000000000002,236.34,222.98]
["20165",2016,5,276.29000000000002,241.87,222.11,208.75,17.07,11.2,{"$f":"Līmeņatzīmes!$F$64","v":23.296208262591964},{"$f":"Līmeņatzīmes!$G$64","v":29.156495377213574},{"$f":"Līmeņatzīmes!$H$64","v":31.63294953802416},{"$f":"Līmeņatzīmes!$I$64","v":31.63294953802416},276.29000000000002,241.87,222.11,208.75]
["20166",2016,6,269.18,234.76,215,201.64,17.07,11.2,{"$f":"Līmeņatzīmes!$F$64","v":23.296208262591964},{"$f":"Līmeņatzīmes!$G$64","v":29.156495377213574},{"$f":"Līmeņatzīmes!$H$64","v":31.63294953802416},{"$f":"Līmeņatzīmes!$I$64","v":31.63294953802416},269.18,234.76,215,201.64]
["20167",2016,7,276.29000000000002,241.87,222.11,208.75,17.07,11.2,{"$f":"Līmeņatzīmes!$F$64","v":23.296208262591964},{"$f":"Līmeņatzīmes!$G$64","v":29.156495377213574},{"$f":"Līmeņatzīmes!$H$64","v":31.63294953802416},{"$f":"Līmeņatzīmes!$I$64","v":31.63294953802416},276.29000000000002,241.87,222.11,208.75]
["20168",2016,8,283.41000000000003,248.99,229.22,215.86,17.07,11.2,{"$f":"Līmeņatzīmes!$F$64","v":23.296208262591964},{"$f":"Līmeņatzīmes!$G$64","v":29.156495377213574},{"$f":"Līmeņatzīmes!$H$64","v":31.63294953802416},{"$f":"Līmeņatzīmes!$I$64","v":31.63294953802416},{"$f":"D119","v":283.41000000000003},248.99,229.22,215.86]
["20169",2016,9,283.41000000000003,248.99,229.22,215.86,17.07,11.2,{"$f":"Līmeņatzīmes!$F$64","v":23.296208262591964},{"$f":"Līmeņatzīmes!$G$64","v":29.156495377213574},{"$f":"Līmeņatzīmes!$H$64","v":31.63294953802416},{"$f":"Līmeņatzīmes!$I$64","v":31.63294953802416},283.41000000000003,248.99,229.22,215.86]
["201610",2016,10,283.41000000000003,248.99,229.22,215.86,17.07,11.2,{"$f":"Līmeņatzīmes!$F$64","v":23.296208262591964},{"$f":"Līmeņatzīmes!$G$64","v":29.156495377213574},{"$f":"Līmeņatzīmes!$H$64","v":31.63294953802416},{"$f":"Līmeņatzīmes!$I$64","v":31.63294953802416},283.41000000000003,248.99,229.22,215.86]
["201611",2016,11,283.41000000000003,248.99,229.22,215.86,17.07,11.2,{"$f":"Līmeņatzīmes!$F$64","v":23.296208262591964},{"$f":"Līmeņatzīmes!$G$64","v":29.156495377213574},{"$f":"Līmeņatzīmes!$H$64","v":31.63294953802416},{"$f":"Līmeņatzīmes!$I$64","v":31.63294953802416},283.41000000000003,248.99,229.22,215.86]
["201612",2016,12,297.64,263.22000000000003,243.45,230.09,17.07,11.2,{"$f":"Līmeņatzīmes!$F$64","v":23.296208262591964},{"$f":"Līmeņatzīmes!$G$64","v":29.156495377213574},{"$f":"Līmeņatzīmes!$H$64","v":31.63294953802416},{"$f":"Līmeņatzīmes!$I$64","v":31.63294953802416},297.64,263.22000000000003,243.45,230.09]
["20171",2017,1,297.64,263.22000000000003,243.45,230.09,{"$f":"H123","v":17.07},{"$f":"ROUND((1+Līmeņatzīmes!$L$4)*Kurināmais!$I$123,2)","v":11.42},{"$f":"ROUND((1+Līmeņatzīmes!$L$4)*Kurināmais!$J$123,2)","v":23.76},{"$f":"ROUND((1+Līmeņatzīmes!$L$4)*Kurināmais!$K$123,2)","v":29.74},{"$f":"ROUND((1+Līmeņatzīmes!$L$4)*Kurināmais!$L$123,2)","v":32.270000000000003},{"$f":"ROUND((1+Līmeņatzīmes!$L$4)*Kurināmais!$M$123,2)","v":32.270000000000003},304.75,270.33,250.57,237.21]
["20172",2017,2,318.98,284.56,264.8,251.44,17.07,{"$f":"ROUND((1+Līmeņatzīmes!$L$4)*Kurināmais!$I$123,2)","v":11.42},{"$f":"ROUND((1+Līmeņatzīmes!$L$4)*Kurināmais!$J$123,2)","v":23.76},{"$f":"ROUND((1+Līmeņatzīmes!$L$4)*Kurināmais!$K$123,2)","v":29.74},{"$f":"ROUND((1+Līmeņatzīmes!$L$4)*Kurināmais!$L$123,2)","v":32.270000000000003},{"$f":"ROUND((1+Līmeņatzīmes!$L$4)*Kurināmais!$M$123,2)","v":32.270000000000003},304.75,270.33,250.57,237.21]
["20173",2017,3,318.98,284.56,264.8,251.44,17.07,{"$f":"ROUND((1+Līmeņatzīmes!$L$4)*Kurināmais!$I$123,2)","v":11.42},{"$f":"ROUND((1+Līmeņatzīmes!$L$4)*Kurināmais!$J$123,2)","v":23.76},{"$f":"ROUND((1+Līmeņatzīmes!$L$4)*Kurināmais!$K$123,2)","v":29.74},{"$f":"ROUND((1+Līmeņatzīmes!$L$4)*Kurināmais!$L$123,2)","v":32.270000000000003},{"$f":"ROUND((1+Līmeņatzīmes!$L$4)*Kurināmais!$M$123,2)","v":32.270000000000003},304.75,270.33,250.57,237.21]
["20174",2017,4,311.87,277.45,257.68,244.32,17.07,{"$f":"ROUND((1+Līmeņatzīmes!$L$4)*Kurināmais!$I$123,2)","v":11.42},{"$f":"ROUND((1+Līmeņatzīmes!$L$4)*Kurināmais!$J$123,2)","v":23.76},{"$f":"ROUND((1+Līmeņatzīmes!$L$4)*Kurināmais!$K$123,2)","v":29.74},{"$f":"ROUND((1+Līmeņatzīmes!$L$4)*Kurināmais!$L$123,2)","v":32.270000000000003},{"$f":"ROUND((1+Līmeņatzīmes!$L$4)*Kurināmais!$M$123,2)","v":32.270000000000003},304.75,270.33,250.57,237.21]
["20175",2017,5,361.67,327.25,307.48,294.12,17.07,{"$f":"ROUND((1+Līmeņatzīmes!$L$4)*Kurināmais!$I$123,2)","v":11.42},{"$f":"ROUND((1+Līmeņatzīmes!$L$4)*Kurināmais!$J$123,2)","v":23.76},{"$f":"ROUND((1+Līmeņatzīmes!$L$4)*Kurināmais!$K$123,2)","v":29.74},{"$f":"ROUND((1+Līmeņatzīmes!$L$4)*Kurināmais!$L$123,2)","v":32.270000000000003},{"$f":"ROUND((1+Līmeņatzīmes!$L$4)*Kurināmais!$M$123,2)","v":32.270000000000003},304.75,270.33,250.57,237.21]
["20176",2017,6,361.67,327.25,307.48,294.12,17.07,{"$f":"ROUND((1+Līmeņatzīmes!$L$4)*Kurināmais!$I$123,2)","v":11.42},{"$f":"ROUND((1+Līmeņatzīmes!$L$4)*Kurināmais!$J$123,2)","v":23.76},{"$f":"ROUND((1+Līmeņatzīmes!$L$4)*Kurināmais!$K$123,2)","v":29.74},{"$f":"ROUND((1+Līmeņatzīmes!$L$4)*Kurināmais!$L$123,2)","v":32.270000000000003},{"$f":"ROUND((1+Līmeņatzīmes!$L$4)*Kurināmais!$M$123,2)","v":32.270000000000003},304.75,270.33,250.57,237.21]
["20177",2017,7,361.67,327.25,307.48,294.12,17.07,{"$f":"ROUND((1+Līmeņatzīmes!$L$4)*Kurināmais!$I$123,2)","v":11.42},{"$f":"ROUND((1+Līmeņatzīmes!$L$4)*Kurināmais!$J$123,2)","v":23.76},{"$f":"ROUND((1+Līmeņatzīmes!$L$4)*Kurināmais!$K$123,2)","v":29.74},{"$f":"ROUND((1+Līmeņatzīmes!$L$4)*Kurināmais!$L$123,2)","v":32.270000000000003},{"$f":"ROUND((1+Līmeņatzīmes!$L$4)*Kurināmais!$M$123,2)","v":32.270000000000003},304.75,270.33,250.57,237.21]
["20178",2017,8,361.67,327.25,307.48,294.12,17.07,{"$f":"ROUND((1+Līmeņatzīmes!$L$4)*Kurināmais!$I$123,2)","v":11.42},{"$f":"ROUND((1+Līmeņatzīmes!$L$4)*Kurināmais!$J$123,2)","v":23.76},{"$f":"ROUND((1+Līmeņatzīmes!$L$4)*Kurināmais!$K$123,2)","v":29.74},{"$f":"ROUND((1+Līmeņatzīmes!$L$4)*Kurināmais!$L$123,2)","v":32.270000000000003},{"$f":"ROUND((1+Līmeņatzīmes!$L$4)*Kurināmais!$M$123,2)","v":32.270000000000003},304.75,270.33,250.57,237.21]
["20179",2017,9,361.67,327.25,307.48,294.12,17.07,{"$f":"ROUND((1+Līmeņatzīmes!$L$4)*Kurināmais!$I$123,2)","v":11.42},{"$f":"ROUND((1+Līmeņatzīmes!$L$4)*Kurināmais!$J$123,2)","v":23.76},{"$f":"ROUND((1+Līmeņatzīmes!$L$4)*Kurināmais!$K$123,2)","v":29.74},{"$f":"ROUND((1+Līmeņatzīmes!$L$4)*Kurināmais!$L$123,2)","v":32.270000000000003},{"$f":"ROUND((1+Līmeņatzīmes!$L$4)*Kurināmais!$M$123,2)","v":32.270000000000003},304.75,270.33,250.57,237.21]
[{"$f":"B133&C133","v":"201710"},2017,10,361.67,327.25,307.48,294.12,17.07,{"$f":"ROUND((1+Līmeņatzīmes!$L$4)*Kurināmais!$I$123,2)","v":11.42},{"$f":"ROUND((1+Līmeņatzīmes!$L$4)*Kurināmais!$J$123,2)","v":23.76},{"$f":"ROUND((1+Līmeņatzīmes!$L$4)*Kurināmais!$K$123,2)","v":29.74},{"$f":"ROUND((1+Līmeņatzīmes!$L$4)*Kurināmais!$L$123,2)","v":32.270000000000003},{"$f":"ROUND((1+Līmeņatzīmes!$L$4)*Kurināmais!$M$123,2)","v":32.270000000000003},304.75,270.33,250.57,237.21]
["201711",2017,11,361.67,327.25,307.48,294.12,17.07,{"$f":"ROUND((1+Līmeņatzīmes!$L$4)*Kurināmais!$I$123,2)","v":11.42},{"$f":"ROUND((1+Līmeņatzīmes!$L$4)*Kurināmais!$J$123,2)","v":23.76},{"$f":"ROUND((1+Līmeņatzīmes!$L$4)*Kurināmais!$K$123,2)","v":29.74},{"$f":"ROUND((1+Līmeņatzīmes!$L$4)*Kurināmais!$L$123,2)","v":32.270000000000003},{"$f":"ROUND((1+Līmeņatzīmes!$L$4)*Kurināmais!$M$123,2)","v":32.270000000000003},304.75,270.33,250.57,237.21]
["201712",2017,12,361.67,327.25,307.48,294.12,17.07,{"$f":"ROUND((1+Līmeņatzīmes!$L$4)*Kurināmais!$I$123,2)","v":11.42},{"$f":"ROUND((1+Līmeņatzīmes!$L$4)*Kurināmais!$J$123,2)","v":23.76},{"$f":"ROUND((1+Līmeņatzīmes!$L$4)*Kurināmais!$K$123,2)","v":29.74},{"$f":"ROUND((1+Līmeņatzīmes!$L$4)*Kurināmais!$L$123,2)","v":32.270000000000003},{"$f":"ROUND((1+Līmeņatzīmes!$L$4)*Kurināmais!$M$123,2)","v":32.270000000000003},304.75,270.33,250.57,237.21]
["20181",2018,1,361.67,327.25,307.48,294.12,17.07,{"$f":"ROUND((1+Līmeņatzīmes!$M$4)*Kurināmais!$I$135,2)","v":11.71},{"$f":"ROUND((1+Līmeņatzīmes!$M$4)*Kurināmais!$J$135,2)","v":24.35},{"$f":"ROUND((1+Līmeņatzīmes!$M$4)*Kurināmais!$K$135,2)","v":30.48},{"$f":"ROUND((1+Līmeņatzīmes!$M$4)*Kurināmais!$L$135,2)","v":33.08},{"$f":"ROUND((1+Līmeņatzīmes!$M$4)*Kurināmais!$M$135,2)","v":33.08},311.87,277.45,257.68,244.32]
["20182",2018,2,361.67,327.25,307.48,294.12,17.07,{"$f":"ROUND((1+Līmeņatzīmes!$M$4)*Kurināmais!$I$135,2)","v":11.71},{"$f":"ROUND((1+Līmeņatzīmes!$M$4)*Kurināmais!$J$135,2)","v":24.35},{"$f":"ROUND((1+Līmeņatzīmes!$M$4)*Kurināmais!$K$135,2)","v":30.48},{"$f":"ROUND((1+Līmeņatzīmes!$M$4)*Kurināmais!$L$135,2)","v":33.08},{"$f":"ROUND((1+Līmeņatzīmes!$M$4)*Kurināmais!$M$135,2)","v":33.08},311.87,277.45,257.68,244.32]
["20183",2018,3,361.67,327.25,307.48,294.12,17.07,{"$f":"ROUND((1+Līmeņatzīmes!$M$4)*Kurināmais!$I$135,2)","v":11.71},{"$f":"ROUND((1+Līmeņatzīmes!$M$4)*Kurināmais!$J$135,2)","v":24.35},{"$f":"ROUND((1+Līmeņatzīmes!$M$4)*Kurināmais!$K$135,2)","v":30.48},{"$f":"ROUND((1+Līmeņatzīmes!$M$4)*Kurināmais!$L$135,2)","v":33.08},{"$f":"ROUND((1+Līmeņatzīmes!$M$4)*Kurināmais!$M$135,2)","v":33.08},311.87,277.45,257.68,244.32]
["20184",2018,4,361.67,327.25,307.48,294.12,17.07,{"$f":"ROUND((1+Līmeņatzīmes!$M$4)*Kurināmais!$I$135,2)","v":11.71},{"$f":"ROUND((1+Līmeņatzīmes!$M$4)*Kurināmais!$J$135,2)","v":24.35},{"$f":"ROUND((1+Līmeņatzīmes!$M$4)*Kurināmais!$K$135,2)","v":30.48},{"$f":"ROUND((1+Līmeņatzīmes!$M$4)*Kurināmais!$L$135,2)","v":33.08},{"$f":"ROUND((1+Līmeņatzīmes!$M$4)*Kurināmais!$M$135,2)","v":33.08},311.87,277.45,257.68,244.32]
["20185",2018,5,361.67,327.25,307.48,294.12,17.07,{"$f":"ROUND((1+Līmeņatzīmes!$M$4)*Kurināmais!$I$135,2)","v":11.71},{"$f":"ROUND((1+Līmeņatzīmes!$M$4)*Kurināmais!$J$135,2)","v":24.35},{"$f":"ROUND((1+Līmeņatzīmes!$M$4)*Kurināmais!$K$135,2)","v":30.48},{"$f":"ROUND((1+Līmeņatzīmes!$M$4)*Kurināmais!$L$135,2)","v":33.08},{"$f":"ROUND((1+Līmeņatzīmes!$M$4)*Kurināmais!$M$135,2)","v":33.08},311.87,277.45,257.68,244.32]
["20186",2018,6,361.67,327.25,307.48,294.12,17.07,{"$f":"ROUND((1+Līmeņatzīmes!$M$4)*Kurināmais!$I$135,2)","v":11.71},{"$f":"ROUND((1+Līmeņatzīmes!$M$4)*Kurināmais!$J$135,2)","v":24.35},{"$f":"ROUND((1+Līmeņatzīmes!$M$4)*Kurināmais!$K$135,2)","v":30.48},{"$f":"ROUND((1+Līmeņatzīmes!$M$4)*Kurināmais!$L$135,2)","v":33.08},{"$f":"ROUND((1+Līmeņatzīmes!$M$4)*Kurināmais!$M$135,2)","v":33.08},311.87,277.45,257.68,244.32]
["20187",2018,7,361.67,327.25,307.48,294.12,17.07,{"$f":"ROUND((1+Līmeņatzīmes!$M$4)*Kurināmais!$I$135,2)","v":11.71},{"$f":"ROUND((1+Līmeņatzīmes!$M$4)*Kurināmais!$J$135,2)","v":24.35},{"$f":"ROUND((1+Līmeņatzīmes!$M$4)*Kurināmais!$K$135,2)","v":30.48},{"$f":"ROUND((1+Līmeņatzīmes!$M$4)*Kurināmais!$L$135,2)","v":33.08},{"$f":"ROUND((1+Līmeņatzīmes!$M$4)*Kurināmais!$M$135,2)","v":33.08},311.87,277.45,257.68,244.32]
["20188",2018,8,361.67,327.25,307.48,294.12,17.07,{"$f":"ROUND((1+Līmeņatzīmes!$M$4)*Kurināmais!$I$135,2)","v":11.71},{"$f":"ROUND((1+Līmeņatzīmes!$M$4)*Kurināmais!$J$135,2)","v":24.35},{"$f":"ROUND((1+Līmeņatzīmes!$M$4)*Kurināmais!$K$135,2)","v":30.48},{"$f":"ROUND((1+Līmeņatzīmes!$M$4)*Kurināmais!$L$135,2)","v":33.08},{"$f":"ROUND((1+Līmeņatzīmes!$M$4)*Kurināmais!$M$135,2)","v":33.08},311.87,277.45,257.68,244.32]
["20189",2018,9,361.67,327.25,307.48,294.12,17.07,{"$f":"ROUND((1+Līmeņatzīmes!$M$4)*Kurināmais!$I$135,2)","v":11.71},{"$f":"ROUND((1+Līmeņatzīmes!$M$4)*Kurināmais!$J$135,2)","v":24.35},{"$f":"ROUND((1+Līmeņatzīmes!$M$4)*Kurināmais!$K$135,2)","v":30.48},{"$f":"ROUND((1+Līmeņatzīmes!$M$4)*Kurināmais!$L$135,2)","v":33.08},{"$f":"ROUND((1+Līmeņatzīmes!$M$4)*Kurināmais!$M$135,2)","v":33.08},311.87,277.45,257.68,244.32]
["201810",2018,10,361.67,327.25,307.48,294.12,17.07,{"$f":"ROUND((1+Līmeņatzīmes!$M$4)*Kurināmais!$I$135,2)","v":11.71},{"$f":"ROUND((1+Līmeņatzīmes!$M$4)*Kurināmais!$J$135,2)","v":24.35},{"$f":"ROUND((1+Līmeņatzīmes!$M$4)*Kurināmais!$K$135,2)","v":30.48},{"$f":"ROUND((1+Līmeņatzīmes!$M$4)*Kurināmais!$L$135,2)","v":33.08},{"$f":"ROUND((1+Līmeņatzīmes!$M$4)*Kurināmais!$M$135,2)","v":33.08},311.87,277.45,257.68,244.32]
["201811",2018,11,361.67,327.25,307.48,294.12,17.07,{"$f":"ROUND((1+Līmeņatzīmes!$M$4)*Kurināmais!$I$135,2)","v":11.71},{"$f":"ROUND((1+Līmeņatzīmes!$M$4)*Kurināmais!$J$135,2)","v":24.35},{"$f":"ROUND((1+Līmeņatzīmes!$M$4)*Kurināmais!$K$135,2)","v":30.48},{"$f":"ROUND((1+Līmeņatzīmes!$M$4)*Kurināmais!$L$135,2)","v":33.08},{"$f":"ROUND((1+Līmeņatzīmes!$M$4)*Kurināmais!$M$135,2)","v":33.08},311.87,277.45,257.68,244.32]
["201812",2018,12,361.67,327.25,307.48,294.12,17.07,{"$f":"ROUND((1+Līmeņatzīmes!$M$4)*Kurināmais!$I$135,2)","v":11.71},{"$f":"ROUND((1+Līmeņatzīmes!$M$4)*Kurināmais!$J$135,2)","v":24.35},{"$f":"ROUND((1+Līmeņatzīmes!$M$4)*Kurināmais!$K$135,2)","v":30.48},{"$f":"ROUND((1+Līmeņatzīmes!$M$4)*Kurināmais!$L$135,2)","v":33.08},{"$f":"ROUND((1+Līmeņatzīmes!$M$4)*Kurināmais!$M$135,2)","v":33.08},311.87,277.45,257.68,244.32]
["20191",2019,1,361.67,327.25,307.48,294.12,17.07,{"$f":"ROUND((1+Līmeņatzīmes!$N$4)*Kurināmais!$I$147,2)","v":12},{"$f":"ROUND((1+Līmeņatzīmes!$N$4)*Kurināmais!$J$147,2)","v":24.96},{"$f":"ROUND((1+Līmeņatzīmes!$N$4)*Kurināmais!$K$147,2)","v":31.24},{"$f":"ROUND((1+Līmeņatzīmes!$N$4)*Kurināmais!$L$147,2)","v":33.909999999999997},{"$f":"ROUND((1+Līmeņatzīmes!$N$4)*Kurināmais!$M$147,2)","v":33.909999999999997},318.98,284.56,264.8,251.44]
["20192",2019,2,361.67,327.25,307.48,294.12,17.07,{"$f":"ROUND((1+Līmeņatzīmes!$N$4)*Kurināmais!$I$147,2)","v":12},{"$f":"ROUND((1+Līmeņatzīmes!$N$4)*Kurināmais!$J$147,2)","v":24.96},{"$f":"ROUND((1+Līmeņatzīmes!$N$4)*Kurināmais!$K$147,2)","v":31.24},{"$f":"ROUND((1+Līmeņatzīmes!$N$4)*Kurināmais!$L$147,2)","v":33.909999999999997},{"$f":"ROUND((1+Līmeņatzīmes!$N$4)*Kurināmais!$M$147,2)","v":33.909999999999997},318.98,284.56,264.8,251.44]
["20193",2019,3,361.67,327.25,307.48,294.12,17.07,{"$f":"ROUND((1+Līmeņatzīmes!$N$4)*Kurināmais!$I$147,2)","v":12},{"$f":"ROUND((1+Līmeņatzīmes!$N$4)*Kurināmais!$J$147,2)","v":24.96},{"$f":"ROUND((1+Līmeņatzīmes!$N$4)*Kurināmais!$K$147,2)","v":31.24},{"$f":"ROUND((1+Līmeņatzīmes!$N$4)*Kurināmais!$L$147,2)","v":33.909999999999997},{"$f":"ROUND((1+Līmeņatzīmes!$N$4)*Kurināmais!$M$147,2)","v":33.909999999999997},318.98,284.56,264.8,251.44]
["20194",2019,4,361.67,327.25,307.48,294.12,17.07,{"$f":"ROUND((1+Līmeņatzīmes!$N$4)*Kurināmais!$I$147,2)","v":12},{"$f":"ROUND((1+Līmeņatzīmes!$N$4)*Kurināmais!$J$147,2)","v":24.96},{"$f":"ROUND((1+Līmeņatzīmes!$N$4)*Kurināmais!$K$147,2)","v":31.24},{"$f":"ROUND((1+Līmeņatzīmes!$N$4)*Kurināmais!$L$147,2)","v":33.909999999999997},{"$f":"ROUND((1+Līmeņatzīmes!$N$4)*Kurināmais!$M$147,2)","v":33.909999999999997},318.98,284.56,264.8,251.44]
["20195",2019,5,361.67,327.25,307.48,294.12,17.07,{"$f":"ROUND((1+Līmeņatzīmes!$N$4)*Kurināmais!$I$147,2)","v":12},{"$f":"ROUND((1+Līmeņatzīmes!$N$4)*Kurināmais!$J$147,2)","v":24.96},{"$f":"ROUND((1+Līmeņatzīmes!$N$4)*Kurināmais!$K$147,2)","v":31.24},{"$f":"ROUND((1+Līmeņatzīmes!$N$4)*Kurināmais!$L$147,2)","v":33.909999999999997},{"$f":"ROUND((1+Līmeņatzīmes!$N$4)*Kurināmais!$M$147,2)","v":33.909999999999997},318.98,284.56,264.8,251.44]
["20196",2019,6,361.67,327.25,307.48,294.12,17.07,{"$f":"ROUND((1+Līmeņatzīmes!$N$4)*Kurināmais!$I$147,2)","v":12},{"$f":"ROUND((1+Līmeņatzīmes!$N$4)*Kurināmais!$J$147,2)","v":24.96},{"$f":"ROUND((1+Līmeņatzīmes!$N$4)*Kurināmais!$K$147,2)","v":31.24},{"$f":"ROUND((1+Līmeņatzīmes!$N$4)*Kurināmais!$L$147,2)","v":33.909999999999997},{"$f":"ROUND((1+Līmeņatzīmes!$N$4)*Kurināmais!$M$147,2)","v":33.909999999999997},318.98,284.56,264.8,251.44]
["20197",2019,7,361.67,327.25,307.48,294.12,17.07,{"$f":"ROUND((1+Līmeņatzīmes!$N$4)*Kurināmais!$I$147,2)","v":12},{"$f":"ROUND((1+Līmeņatzīmes!$N$4)*Kurināmais!$J$147,2)","v":24.96},{"$f":"ROUND((1+Līmeņatzīmes!$N$4)*Kurināmais!$K$147,2)","v":31.24},{"$f":"ROUND((1+Līmeņatzīmes!$N$4)*Kurināmais!$L$147,2)","v":33.909999999999997},{"$f":"ROUND((1+Līmeņatzīmes!$N$4)*Kurināmais!$M$147,2)","v":33.909999999999997},318.98,284.56,264.8,251.44]
["20198",2019,8,361.67,327.25,307.48,294.12,17.07,{"$f":"ROUND((1+Līmeņatzīmes!$N$4)*Kurināmais!$I$147,2)","v":12},{"$f":"ROUND((1+Līmeņatzīmes!$N$4)*Kurināmais!$J$147,2)","v":24.96},{"$f":"ROUND((1+Līmeņatzīmes!$N$4)*Kurināmais!$K$147,2)","v":31.24},{"$f":"ROUND((1+Līmeņatzīmes!$N$4)*Kurināmais!$L$147,2)","v":33.909999999999997},{"$f":"ROUND((1+Līmeņatzīmes!$N$4)*Kurināmais!$M$147,2)","v":33.909999999999997},318.98,284.56,264.8,251.44]
["20199",2019,9,361.67,327.25,307.48,294.12,17.07,{"$f":"ROUND((1+Līmeņatzīmes!$N$4)*Kurināmais!$I$147,2)","v":12},{"$f":"ROUND((1+Līmeņatzīmes!$N$4)*Kurināmais!$J$147,2)","v":24.96},{"$f":"ROUND((1+Līmeņatzīmes!$N$4)*Kurināmais!$K$147,2)","v":31.24},{"$f":"ROUND((1+Līmeņatzīmes!$N$4)*Kurināmais!$L$147,2)","v":33.909999999999997},{"$f":"ROUND((1+Līmeņatzīmes!$N$4)*Kurināmais!$M$147,2)","v":33.909999999999997},318.98,284.56,264.8,251.44]
["201910",2019,10,361.67,327.25,307.48,294.12,17.07,{"$f":"ROUND((1+Līmeņatzīmes!$N$4)*Kurināmais!$I$147,2)","v":12},{"$f":"ROUND((1+Līmeņatzīmes!$N$4)*Kurināmais!$J$147,2)","v":24.96},{"$f":"ROUND((1+Līmeņatzīmes!$N$4)*Kurināmais!$K$147,2)","v":31.24},{"$f":"ROUND((1+Līmeņatzīmes!$N$4)*Kurināmais!$L$147,2)","v":33.909999999999997},{"$f":"ROUND((1+Līmeņatzīmes!$N$4)*Kurināmais!$M$147,2)","v":33.909999999999997},318.98,284.56,264.8,251.44]
["201911",2019,11,361.67,327.25,307.48,294.12,17.07,{"$f":"ROUND((1+Līmeņatzīmes!$N$4)*Kurināmais!$I$147,2)","v":12},{"$f":"ROUND((1+Līmeņatzīmes!$N$4)*Kurināmais!$J$147,2)","v":24.96},{"$f":"ROUND((1+Līmeņatzīmes!$N$4)*Kurināmais!$K$147,2)","v":31.24},{"$f":"ROUND((1+Līmeņatzīmes!$N$4)*Kurināmais!$L$147,2)","v":33.909999999999997},{"$f":"ROUND((1+Līmeņatzīmes!$N$4)*Kurināmais!$M$147,2)","v":33.909999999999997},318.98,284.56,264.8,251.44]
["201912",2019,12,361.67,327.25,307.48,294.12,17.07,{"$f":"ROUND((1+Līmeņatzīmes!$N$4)*Kurināmais!$I$147,2)","v":12},{"$f":"ROUND((1+Līmeņatzīmes!$N$4)*Kurināmais!$J$147,2)","v":24.96},{"$f":"ROUND((1+Līmeņatzīmes!$N$4)*Kurināmais!$K$147,2)","v":31.24},{"$f":"ROUND((1+Līmeņatzīmes!$N$4)*Kurināmais!$L$147,2)","v":33.909999999999997},{"$f":"ROUND((1+Līmeņatzīmes!$N$4)*Kurināmais!$M$147,2)","v":33.909999999999997},318.98,284.56,264.8,251.44]
["20201",2020,1,361.67,327.25,307.48,294.12,17.07,{"$f":"ROUND((1+Līmeņatzīmes!$O$4)*Kurināmais!I$159,2)","v":12.22},{"$f":"ROUND((1+Līmeņatzīmes!$O$4)*Kurināmais!J$159,2)","v":25.41},{"$f":"ROUND((1+Līmeņatzīmes!$O$4)*Kurināmais!K$159,2)","v":31.8},{"$f":"ROUND((1+Līmeņatzīmes!$O$4)*Kurināmais!L$159,2)","v":34.520000000000003},{"$f":"ROUND((1+Līmeņatzīmes!$O$4)*Kurināmais!M$159,2)","v":34.520000000000003},326.08999999999997,291.67,271.91000000000003,258.55]
["20202",2020,2,361.67,327.25,307.48,294.12,17.07,{"$f":"ROUND((1+Līmeņatzīmes!$O$4)*Kurināmais!$I$159,2)","v":12.22},{"$f":"ROUND((1+Līmeņatzīmes!$O$4)*Kurināmais!J$159,2)","v":25.41},{"$f":"ROUND((1+Līmeņatzīmes!$O$4)*Kurināmais!K$159,2)","v":31.8},{"$f":"ROUND((1+Līmeņatzīmes!$O$4)*Kurināmais!L$159,2)","v":34.520000000000003},{"$f":"ROUND((1+Līmeņatzīmes!$O$4)*Kurināmais!M$159,2)","v":34.520000000000003},326.08999999999997,291.67,271.91000000000003,258.55]
["20203",2020,3,361.67,327.25,307.48,294.12,17.07,{"$f":"ROUND((1+Līmeņatzīmes!$O$4)*Kurināmais!$I$159,2)","v":12.22},{"$f":"ROUND((1+Līmeņatzīmes!$O$4)*Kurināmais!J$159,2)","v":25.41},{"$f":"ROUND((1+Līmeņatzīmes!$O$4)*Kurināmais!K$159,2)","v":31.8},{"$f":"ROUND((1+Līmeņatzīmes!$O$4)*Kurināmais!L$159,2)","v":34.520000000000003},{"$f":"ROUND((1+Līmeņatzīmes!$O$4)*Kurināmais!M$159,2)","v":34.520000000000003},326.08999999999997,291.67,271.91000000000003,258.55]
["20204",2020,4,361.67,327.25,307.48,294.12,17.07,{"$f":"ROUND((1+Līmeņatzīmes!$O$4)*Kurināmais!$I$159,2)","v":12.22},{"$f":"ROUND((1+Līmeņatzīmes!$O$4)*Kurināmais!J$159,2)","v":25.41},{"$f":"ROUND((1+Līmeņatzīmes!$O$4)*Kurināmais!K$159,2)","v":31.8},{"$f":"ROUND((1+Līmeņatzīmes!$O$4)*Kurināmais!L$159,2)","v":34.520000000000003},{"$f":"ROUND((1+Līmeņatzīmes!$O$4)*Kurināmais!M$159,2)","v":34.520000000000003},326.08999999999997,291.67,271.91000000000003,258.55]
["20205",2020,5,361.67,327.25,307.48,294.12,17.07,{"$f":"ROUND((1+Līmeņatzīmes!$O$4)*Kurināmais!$I$159,2)","v":12.22},{"$f":"ROUND((1+Līmeņatzīmes!$O$4)*Kurināmais!J$159,2)","v":25.41},{"$f":"ROUND((1+Līmeņatzīmes!$O$4)*Kurināmais!K$159,2)","v":31.8},{"$f":"ROUND((1+Līmeņatzīmes!$O$4)*Kurināmais!L$159,2)","v":34.520000000000003},{"$f":"ROUND((1+Līmeņatzīmes!$O$4)*Kurināmais!M$159,2)","v":34.520000000000003},326.08999999999997,291.67,271.91000000000003,258.55]
["20206",2020,6,361.67,327.25,307.48,294.12,17.07,{"$f":"ROUND((1+Līmeņatzīmes!$O$4)*Kurināmais!$I$159,2)","v":12.22},{"$f":"ROUND((1+Līmeņatzīmes!$O$4)*Kurināmais!J$159,2)","v":25.41},{"$f":"ROUND((1+Līmeņatzīmes!$O$4)*Kurināmais!K$159,2)","v":31.8},{"$f":"ROUND((1+Līmeņatzīmes!$O$4)*Kurināmais!L$159,2)","v":34.520000000000003},{"$f":"ROUND((1+Līmeņatzīmes!$O$4)*Kurināmais!M$159,2)","v":34.520000000000003},326.08999999999997,291.67,271.91000000000003,258.55]
["20207",2020,7,361.67,327.25,307.48,294.12,17.07,{"$f":"ROUND((1+Līmeņatzīmes!$O$4)*Kurināmais!$I$159,2)","v":12.22},{"$f":"ROUND((1+Līmeņatzīmes!$O$4)*Kurināmais!J$159,2)","v":25.41},{"$f":"ROUND((1+Līmeņatzīmes!$O$4)*Kurināmais!K$159,2)","v":31.8},{"$f":"ROUND((1+Līmeņatzīmes!$O$4)*Kurināmais!L$159,2)","v":34.520000000000003},{"$f":"ROUND((1+Līmeņatzīmes!$O$4)*Kurināmais!M$159,2)","v":34.520000000000003},326.08999999999997,291.67,271.91000000000003,258.55]
["20208",2020,8,361.67,327.25,307.48,294.12,17.07,{"$f":"ROUND((1+Līmeņatzīmes!$O$4)*Kurināmais!$I$159,2)","v":12.22},{"$f":"ROUND((1+Līmeņatzīmes!$O$4)*Kurināmais!J$159,2)","v":25.41},{"$f":"ROUND((1+Līmeņatzīmes!$O$4)*Kurināmais!K$159,2)","v":31.8},{"$f":"ROUND((1+Līmeņatzīmes!$O$4)*Kurināmais!L$159,2)","v":34.520000000000003},{"$f":"ROUND((1+Līmeņatzīmes!$O$4)*Kurināmais!M$159,2)","v":34.520000000000003},326.08999999999997,291.67,271.91000000000003,258.55]
["20209",2020,9,361.67,327.25,307.48,294.12,17.07,{"$f":"ROUND((1+Līmeņatzīmes!$O$4)*Kurināmais!$I$159,2)","v":12.22},{"$f":"ROUND((1+Līmeņatzīmes!$O$4)*Kurināmais!J$159,2)","v":25.41},{"$f":"ROUND((1+Līmeņatzīmes!$O$4)*Kurināmais!K$159,2)","v":31.8},{"$f":"ROUND((1+Līmeņatzīmes!$O$4)*Kurināmais!L$159,2)","v":34.520000000000003},{"$f":"ROUND((1+Līmeņatzīmes!$O$4)*Kurināmais!M$159,2)","v":34.520000000000003},326.08999999999997,291.67,271.91000000000003,258.55]
["202010",2020,10,361.67,327.25,307.48,294.12,17.07,{"$f":"ROUND((1+Līmeņatzīmes!$O$4)*Kurināmais!$I$159,2)","v":12.22},{"$f":"ROUND((1+Līmeņatzīmes!$O$4)*Kurināmais!J$159,2)","v":25.41},{"$f":"ROUND((1+Līmeņatzīmes!$O$4)*Kurināmais!K$159,2)","v":31.8},{"$f":"ROUND((1+Līmeņatzīmes!$O$4)*Kurināmais!L$159,2)","v":34.520000000000003},{"$f":"ROUND((1+Līmeņatzīmes!$O$4)*Kurināmais!M$159,2)","v":34.520000000000003},326.08999999999997,291.67,271.91000000000003,258.55]
["202011",2020,11,361.67,327.25,307.48,294.12,17.07,{"$f":"ROUND((1+Līmeņatzīmes!$O$4)*Kurināmais!$I$159,2)","v":12.22},{"$f":"ROUND((1+Līmeņatzīmes!$O$4)*Kurināmais!J$159,2)","v":25.41},{"$f":"ROUND((1+Līmeņatzīmes!$O$4)*Kurināmais!K$159,2)","v":31.8},{"$f":"ROUND((1+Līmeņatzīmes!$O$4)*Kurināmais!L$159,2)","v":34.520000000000003},{"$f":"ROUND((1+Līmeņatzīmes!$O$4)*Kurināmais!M$159,2)","v":34.520000000000003},326.08999999999997,291.67,271.91000000000003,258.55]
["202012",2020,12,361.67,327.25,307.48,294.12,17.07,{"$f":"ROUND((1+Līmeņatzīmes!$O$4)*Kurināmais!$I$159,2)","v":12.22},{"$f":"ROUND((1+Līmeņatzīmes!$O$4)*Kurināmais!J$159,2)","v":25.41},{"$f":"ROUND((1+Līmeņatzīmes!$O$4)*Kurināmais!K$159,2)","v":31.8},{"$f":"ROUND((1+Līmeņatzīmes!$O$4)*Kurināmais!L$159,2)","v":34.520000000000003},{"$f":"ROUND((1+Līmeņatzīmes!$O$4)*Kurināmais!M$159,2)","v":34.520000000000003},326.08999999999997,291.67,271.91000000000003,258.55]
["20211",2021,1,361.67,327.25,307.48,294.12,17.07,{"$f":"ROUND((1+Līmeņatzīmes!$P$4)*Kurināmais!I$171,2)","v":12.44},{"$f":"ROUND((1+Līmeņatzīmes!$P$4)*Kurināmais!J$171,2)","v":25.87},{"$f":"ROUND((1+Līmeņatzīmes!$P$4)*Kurināmais!K$171,2)","v":32.369999999999997},{"$f":"ROUND((1+Līmeņatzīmes!$P$4)*Kurināmais!L$171,2)","v":35.14},{"$f":"ROUND((1+Līmeņatzīmes!$P$4)*Kurināmais!M$171,2)","v":35.14},333.21,298.79000000000002,279.02999999999997,265.66000000000003]
["20212",2021,2,361.67,327.25,307.48,294.12,17.07,{"$f":"ROUND((1+Līmeņatzīmes!$P$4)*Kurināmais!$I$171,2)","v":12.44},{"$f":"ROUND((1+Līmeņatzīmes!$P$4)*Kurināmais!J$171,2)","v":25.87},{"$f":"ROUND((1+Līmeņatzīmes!$P$4)*Kurināmais!K$171,2)","v":32.369999999999997},{"$f":"ROUND((1+Līmeņatzīmes!$P$4)*Kurināmais!L$171,2)","v":35.14},{"$f":"ROUND((1+Līmeņatzīmes!$P$4)*Kurināmais!M$171,2)","v":35.14},333.21,298.79000000000002,279.02999999999997,265.66000000000003]
["20213",2021,3,361.67,327.25,307.48,294.12,17.07,{"$f":"ROUND((1+Līmeņatzīmes!$P$4)*Kurināmais!$I$171,2)","v":12.44},{"$f":"ROUND((1+Līmeņatzīmes!$P$4)*Kurināmais!J$171,2)","v":25.87},{"$f":"ROUND((1+Līmeņatzīmes!$P$4)*Kurināmais!K$171,2)","v":32.369999999999997},{"$f":"ROUND((1+Līmeņatzīmes!$P$4)*Kurināmais!L$171,2)","v":35.14},{"$f":"ROUND((1+Līmeņatzīmes!$P$4)*Kurināmais!M$171,2)","v":35.14},333.21,298.79000000000002,279.02999999999997,265.66000000000003]
["20214",2021,4,361.67,327.25,307.48,294.12,17.07,{"$f":"ROUND((1+Līmeņatzīmes!$P$4)*Kurināmais!$I$171,2)","v":12.44},{"$f":"ROUND((1+Līmeņatzīmes!$P$4)*Kurināmais!J$171,2)","v":25.87},{"$f":"ROUND((1+Līmeņatzīmes!$P$4)*Kurināmais!K$171,2)","v":32.369999999999997},{"$f":"ROUND((1+Līmeņatzīmes!$P$4)*Kurināmais!L$171,2)","v":35.14},{"$f":"ROUND((1+Līmeņatzīmes!$P$4)*Kurināmais!M$171,2)","v":35.14},333.21,298.79000000000002,279.02999999999997,265.66000000000003]
["20215",2021,5,361.67,327.25,307.48,294.12,17.07,{"$f":"ROUND((1+Līmeņatzīmes!$P$4)*Kurināmais!$I$171,2)","v":12.44},{"$f":"ROUND((1+Līmeņatzīmes!$P$4)*Kurināmais!J$171,2)","v":25.87},{"$f":"ROUND((1+Līmeņatzīmes!$P$4)*Kurināmais!K$171,2)","v":32.369999999999997},{"$f":"ROUND((1+Līmeņatzīmes!$P$4)*Kurināmais!L$171,2)","v":35.14},{"$f":"ROUND((1+Līmeņatzīmes!$P$4)*Kurināmais!M$171,2)","v":35.14},333.21,298.79000000000002,279.02999999999997,265.66000000000003]
["20216",2021,6,361.67,327.25,307.48,294.12,17.07,{"$f":"ROUND((1+Līmeņatzīmes!$P$4)*Kurināmais!$I$171,2)","v":12.44},{"$f":"ROUND((1+Līmeņatzīmes!$P$4)*Kurināmais!J$171,2)","v":25.87},{"$f":"ROUND((1+Līmeņatzīmes!$P$4)*Kurināmais!K$171,2)","v":32.369999999999997},{"$f":"ROUND((1+Līmeņatzīmes!$P$4)*Kurināmais!L$171,2)","v":35.14},{"$f":"ROUND((1+Līmeņatzīmes!$P$4)*Kurināmais!M$171,2)","v":35.14},333.21,298.79000000000002,279.02999999999997,265.66000000000003]
["20217",2021,7,361.67,327.25,307.48,294.12,17.07,{"$f":"ROUND((1+Līmeņatzīmes!$P$4)*Kurināmais!$I$171,2)","v":12.44},{"$f":"ROUND((1+Līmeņatzīmes!$P$4)*Kurināmais!J$171,2)","v":25.87},{"$f":"ROUND((1+Līmeņatzīmes!$P$4)*Kurināmais!K$171,2)","v":32.369999999999997},{"$f":"ROUND((1+Līmeņatzīmes!$P$4)*Kurināmais!L$171,2)","v":35.14},{"$f":"ROUND((1+Līmeņatzīmes!$P$4)*Kurināmais!M$171,2)","v":35.14},333.21,298.79000000000002,279.02999999999997,265.66000000000003]
["20218",2021,8,361.67,327.25,307.48,294.12,17.07,{"$f":"ROUND((1+Līmeņatzīmes!$P$4)*Kurināmais!$I$171,2)","v":12.44},{"$f":"ROUND((1+Līmeņatzīmes!$P$4)*Kurināmais!J$171,2)","v":25.87},{"$f":"ROUND((1+Līmeņatzīmes!$P$4)*Kurināmais!K$171,2)","v":32.369999999999997},{"$f":"ROUND((1+Līmeņatzīmes!$P$4)*Kurināmais!L$171,2)","v":35.14},{"$f":"ROUND((1+Līmeņatzīmes!$P$4)*Kurināmais!M$171,2)","v":35.14},333.21,298.79000000000002,279.02999999999997,265.66000000000003]
["20219",2021,9,361.67,327.25,307.48,294.12,17.07,{"$f":"ROUND((1+Līmeņatzīmes!$P$4)*Kurināmais!$I$171,2)","v":12.44},{"$f":"ROUND((1+Līmeņatzīmes!$P$4)*Kurināmais!J$171,2)","v":25.87},{"$f":"ROUND((1+Līmeņatzīmes!$P$4)*Kurināmais!K$171,2)","v":32.369999999999997},{"$f":"ROUND((1+Līmeņatzīmes!$P$4)*Kurināmais!L$171,2)","v":35.14},{"$f":"ROUND((1+Līmeņatzīmes!$P$4)*Kurināmais!M$171,2)","v":35.14},333.21,298.79000000000002,279.02999999999997,265.66000000000003]
["202110",2021,10,361.67,327.25,307.48,294.12,17.07,{"$f":"ROUND((1+Līmeņatzīmes!$P$4)*Kurināmais!$I$171,2)","v":12.44},{"$f":"ROUND((1+Līmeņatzīmes!$P$4)*Kurināmais!J$171,2)","v":25.87},{"$f":"ROUND((1+Līmeņatzīmes!$P$4)*Kurināmais!K$171,2)","v":32.369999999999997},{"$f":"ROUND((1+Līmeņatzīmes!$P$4)*Kurināmais!L$171,2)","v":35.14},{"$f":"ROUND((1+Līmeņatzīmes!$P$4)*Kurināmais!M$171,2)","v":35.14},333.21,298.79000000000002,279.02999999999997,265.66000000000003]
["202111",2021,11,361.67,327.25,307.48,294.12,17.07,{"$f":"ROUND((1+Līmeņatzīmes!$P$4)*Kurināmais!$I$171,2)","v":12.44},{"$f":"ROUND((1+Līmeņatzīmes!$P$4)*Kurināmais!J$171,2)","v":25.87},{"$f":"ROUND((1+Līmeņatzīmes!$P$4)*Kurināmais!K$171,2)","v":32.369999999999997},{"$f":"ROUND((1+Līmeņatzīmes!$P$4)*Kurināmais!L$171,2)","v":35.14},{"$f":"ROUND((1+Līmeņatzīmes!$P$4)*Kurināmais!M$171,2)","v":35.14},333.21,298.79000000000002,279.02999999999997,265.66000000000003]
["202112",2021,12,361.67,327.25,307.48,294.12,17.07,{"$f":"ROUND((1+Līmeņatzīmes!$P$4)*Kurināmais!$I$171,2)","v":12.44},{"$f":"ROUND((1+Līmeņatzīmes!$P$4)*Kurināmais!J$171,2)","v":25.87},{"$f":"ROUND((1+Līmeņatzīmes!$P$4)*Kurināmais!K$171,2)","v":32.369999999999997},{"$f":"ROUND((1+Līmeņatzīmes!$P$4)*Kurināmais!L$171,2)","v":35.14},{"$f":"ROUND((1+Līmeņatzīmes!$P$4)*Kurināmais!M$171,2)","v":35.14},333.21,298.79000000000002,279.02999999999997,265.66000000000003]
["20221",2022,1,361.67,327.25,307.48,294.12,17.07,{"$f":"ROUND((1+Līmeņatzīmes!$Q$4)*Kurināmais!I$183,2)","v":12.66},{"$f":"ROUND((1+Līmeņatzīmes!$Q$4)*Kurināmais!J$183,2)","v":26.34},{"$f":"ROUND((1+Līmeņatzīmes!$Q$4)*Kurināmais!K$183,2)","v":32.950000000000003},{"$f":"ROUND((1+Līmeņatzīmes!$Q$4)*Kurināmais!L$183,2)","v":35.770000000000003},{"$f":"ROUND((1+Līmeņatzīmes!$Q$4)*Kurināmais!M$183,2)","v":35.770000000000003},340.32,305.89999999999998,286.14,272.77999999999997]
["20222",2022,2,361.67,327.25,307.48,294.12,17.07,{"$f":"ROUND((1+Līmeņatzīmes!$Q$4)*Kurināmais!$I$183,2)","v":12.66},{"$f":"ROUND((1+Līmeņatzīmes!$Q$4)*Kurināmais!J$183,2)","v":26.34},{"$f":"ROUND((1+Līmeņatzīmes!$Q$4)*Kurināmais!K$183,2)","v":32.950000000000003},{"$f":"ROUND((1+Līmeņatzīmes!$Q$4)*Kurināmais!L$183,2)","v":35.770000000000003},{"$f":"ROUND((1+Līmeņatzīmes!$Q$4)*Kurināmais!M$183,2)","v":35.770000000000003},340.32,305.89999999999998,286.14,272.77999999999997]
["20223",2022,3,361.67,327.25,307.48,294.12,17.07,{"$f":"ROUND((1+Līmeņatzīmes!$Q$4)*Kurināmais!$I$183,2)","v":12.66},{"$f":"ROUND((1+Līmeņatzīmes!$Q$4)*Kurināmais!J$183,2)","v":26.34},{"$f":"ROUND((1+Līmeņatzīmes!$Q$4)*Kurināmais!K$183,2)","v":32.950000000000003},{"$f":"ROUND((1+Līmeņatzīmes!$Q$4)*Kurināmais!L$183,2)","v":35.770000000000003},{"$f":"ROUND((1+Līmeņatzīmes!$Q$4)*Kurināmais!M$183,2)","v":35.770000000000003},340.32,305.89999999999998,286.14,272.77999999999997]
["20224",2022,4,361.67,327.25,307.48,294.12,17.07,{"$f":"ROUND((1+Līmeņatzīmes!$Q$4)*Kurināmais!$I$183,2)","v":12.66},{"$f":"ROUND((1+Līmeņatzīmes!$Q$4)*Kurināmais!J$183,2)","v":26.34},{"$f":"ROUND((1+Līmeņatzīmes!$Q$4)*Kurināmais!K$183,2)","v":32.950000000000003},{"$f":"ROUND((1+Līmeņatzīmes!$Q$4)*Kurināmais!L$183,2)","v":35.770000000000003},{"$f":"ROUND((1+Līmeņatzīmes!$Q$4)*Kurināmais!M$183,2)","v":35.770000000000003},340.32,305.89999999999998,286.14,272.77999999999997]
["20225",2022,5,361.67,327.25,307.48,294.12,{"$f":"H187","v":17.07},{"$f":"ROUND((1+Līmeņatzīmes!$Q$4)*Kurināmais!$I$183,2)","v":12.66},{"$f":"ROUND((1+Līmeņatzīmes!$Q$4)*Kurināmais!J$183,2)","v":26.34},{"$f":"ROUND((1+Līmeņatzīmes!$Q$4)*Kurināmais!K$183,2)","v":32.950000000000003},{"$f":"ROUND((1+Līmeņatzīmes!$Q$4)*Kurināmais!L$183,2)","v":35.770000000000003},{"$f":"ROUND((1+Līmeņatzīmes!$Q$4)*Kurināmais!M$183,2)","v":35.770000000000003},340.32,305.89999999999998,286.14,272.77999999999997]
["20226",2022,6,361.67,327.25,307.48,294.12,17.07,{"$f":"ROUND((1+Līmeņatzīmes!$Q$4)*Kurināmais!$I$183,2)","v":12.66},{"$f":"ROUND((1+Līmeņatzīmes!$Q$4)*Kurināmais!J$183,2)","v":26.34},{"$f":"ROUND((1+Līmeņatzīmes!$Q$4)*Kurināmais!K$183,2)","v":32.950000000000003},{"$f":"ROUND((1+Līmeņatzīmes!$Q$4)*Kurināmais!L$183,2)","v":35.770000000000003},{"$f":"ROUND((1+Līmeņatzīmes!$Q$4)*Kurināmais!M$183,2)","v":35.770000000000003},340.32,305.89999999999998,286.14,272.77999999999997]
["20227",2022,7,361.67,327.25,307.48,294.12,17.07,{"$f":"ROUND((1+Līmeņatzīmes!$Q$4)*Kurināmais!$I$183,2)","v":12.66},{"$f":"ROUND((1+Līmeņatzīmes!$Q$4)*Kurināmais!J$183,2)","v":26.34},{"$f":"ROUND((1+Līmeņatzīmes!$Q$4)*Kurināmais!K$183,2)","v":32.950000000000003},{"$f":"ROUND((1+Līmeņatzīmes!$Q$4)*Kurināmais!L$183,2)","v":35.770000000000003},{"$f":"ROUND((1+Līmeņatzīmes!$Q$4)*Kurināmais!M$183,2)","v":35.770000000000003},340.32,305.89999999999998,286.14,272.77999999999997]
["20228",2022,8,361.67,327.25,307.48,294.12,17.07,{"$f":"ROUND((1+Līmeņatzīmes!$Q$4)*Kurināmais!$I$183,2)","v":12.66},{"$f":"ROUND((1+Līmeņatzīmes!$Q$4)*Kurināmais!J$183,2)","v":26.34},{"$f":"ROUND((1+Līmeņatzīmes!$Q$4)*Kurināmais!K$183,2)","v":32.950000000000003},{"$f":"ROUND((1+Līmeņatzīmes!$Q$4)*Kurināmais!L$183,2)","v":35.770000000000003},{"$f":"ROUND((1+Līmeņatzīmes!$Q$4)*Kurināmais!M$183,2)","v":35.770000000000003},340.32,305.89999999999998,286.14,272.77999999999997]
["20229",2022,9,361.67,327.25,307.48,294.12,17.07,{"$f":"ROUND((1+Līmeņatzīmes!$Q$4)*Kurināmais!$I$183,2)","v":12.66},{"$f":"ROUND((1+Līmeņatzīmes!$Q$4)*Kurināmais!J$183,2)","v":26.34},{"$f":"ROUND((1+Līmeņatzīmes!$Q$4)*Kurināmais!K$183,2)","v":32.950000000000003},{"$f":"ROUND((1+Līmeņatzīmes!$Q$4)*Kurināmais!L$183,2)","v":35.770000000000003},{"$f":"ROUND((1+Līmeņatzīmes!$Q$4)*Kurināmais!M$183,2)","v":35.770000000000003},340.32,305.89999999999998,286.14,272.77999999999997]
["202210",2022,10,361.67,327.25,307.48,294.12,17.07,{"$f":"ROUND((1+Līmeņatzīmes!$Q$4)*Kurināmais!$I$183,2)","v":12.66},{"$f":"ROUND((1+Līmeņatzīmes!$Q$4)*Kurināmais!J$183,2)","v":26.34},{"$f":"ROUND((1+Līmeņatzīmes!$Q$4)*Kurināmais!K$183,2)","v":32.950000000000003},{"$f":"ROUND((1+Līmeņatzīmes!$Q$4)*Kurināmais!L$183,2)","v":35.770000000000003},{"$f":"ROUND((1+Līmeņatzīmes!$Q$4)*Kurināmais!M$183,2)","v":35.770000000000003},340.32,305.89999999999998,286.14,272.77999999999997]
["202211",2022,11,361.67,327.25,307.48,294.12,17.07,{"$f":"ROUND((1+Līmeņatzīmes!$Q$4)*Kurināmais!$I$183,2)","v":12.66},{"$f":"ROUND((1+Līmeņatzīmes!$Q$4)*Kurināmais!J$183,2)","v":26.34},{"$f":"ROUND((1+Līmeņatzīmes!$Q$4)*Kurināmais!K$183,2)","v":32.950000000000003},{"$f":"ROUND((1+Līmeņatzīmes!$Q$4)*Kurināmais!L$183,2)","v":35.770000000000003},{"$f":"ROUND((1+Līmeņatzīmes!$Q$4)*Kurināmais!M$183,2)","v":35.770000000000003},340.32,305.89999999999998,286.14,272.77999999999997]
["202212",2022,12,361.67,327.25,307.48,294.12,17.07,{"$f":"ROUND((1+Līmeņatzīmes!$Q$4)*Kurināmais!$I$183,2)","v":12.66},{"$f":"ROUND((1+Līmeņatzīmes!$Q$4)*Kurināmais!J$183,2)","v":26.34},{"$f":"ROUND((1+Līmeņatzīmes!$Q$4)*Kurināmais!K$183,2)","v":32.950000000000003},{"$f":"ROUND((1+Līmeņatzīmes!$Q$4)*Kurināmais!L$183,2)","v":35.770000000000003},{"$f":"ROUND((1+Līmeņatzīmes!$Q$4)*Kurināmais!M$183,2)","v":35.770000000000003},340.32,305.89999999999998,286.14,272.77999999999997]
["20231",2023,1,361.67,327.25,307.48,294.12,17.07,{"$f":"ROUND((1+Līmeņatzīmes!$R$4)*Kurināmais!I$195,2)","v":12.89},{"$f":"ROUND((1+Līmeņatzīmes!$R$4)*Kurināmais!J$195,2)","v":26.81},{"$f":"ROUND((1+Līmeņatzīmes!$R$4)*Kurināmais!K$195,2)","v":33.54},{"$f":"ROUND((1+Līmeņatzīmes!$R$4)*Kurināmais!L$195,2)","v":36.409999999999997},{"$f":"ROUND((1+Līmeņatzīmes!$R$4)*Kurināmais!M$195,2)","v":36.409999999999997},340.32,305.89999999999998,286.14,272.77999999999997]
[{"$f":"B197&C197","v":"20232"},2023,2,361.67,327.25,307.48,294.12,17.07,{"$f":"ROUND((1+Līmeņatzīmes!$R$4)*Kurināmais!$I$195,2)","v":12.89},{"$f":"ROUND((1+Līmeņatzīmes!$R$4)*Kurināmais!J$195,2)","v":26.81},{"$f":"ROUND((1+Līmeņatzīmes!$R$4)*Kurināmais!K$195,2)","v":33.54},{"$f":"ROUND((1+Līmeņatzīmes!$R$4)*Kurināmais!L$195,2)","v":36.409999999999997},{"$f":"ROUND((1+Līmeņatzīmes!$R$4)*Kurināmais!M$195,2)","v":36.409999999999997},340.32,305.89999999999998,286.14,272.77999999999997]
["20233",2023,3,361.67,327.25,307.48,294.12,17.07,{"$f":"ROUND((1+Līmeņatzīmes!$R$4)*Kurināmais!$I$195,2)","v":12.89},{"$f":"ROUND((1+Līmeņatzīmes!$R$4)*Kurināmais!J$195,2)","v":26.81},{"$f":"ROUND((1+Līmeņatzīmes!$R$4)*Kurināmais!K$195,2)","v":33.54},{"$f":"ROUND((1+Līmeņatzīmes!$R$4)*Kurināmais!L$195,2)","v":36.409999999999997},{"$f":"ROUND((1+Līmeņatzīmes!$R$4)*Kurināmais!M$195,2)","v":36.409999999999997},340.32,305.89999999999998,286.14,272.77999999999997]
["20234",2023,4,361.67,327.25,307.48,294.12,17.07,{"$f":"ROUND((1+Līmeņatzīmes!$R$4)*Kurināmais!$I$195,2)","v":12.89},{"$f":"ROUND((1+Līmeņatzīmes!$R$4)*Kurināmais!J$195,2)","v":26.81},{"$f":"ROUND((1+Līmeņatzīmes!$R$4)*Kurināmais!K$195,2)","v":33.54},{"$f":"ROUND((1+Līmeņatzīmes!$R$4)*Kurināmais!L$195,2)","v":36.409999999999997},{"$f":"ROUND((1+Līmeņatzīmes!$R$4)*Kurināmais!M$195,2)","v":36.409999999999997},340.32,305.89999999999998,286.14,272.77999999999997]
["20235",2023,5,361.67,327.25,307.48,294.12,17.07,{"$f":"ROUND((1+Līmeņatzīmes!$R$4)*Kurināmais!$I$195,2)","v":12.89},{"$f":"ROUND((1+Līmeņatzīmes!$R$4)*Kurināmais!J$195,2)","v":26.81},{"$f":"ROUND((1+Līmeņatzīmes!$R$4)*Kurināmais!K$195,2)","v":33.54},{"$f":"ROUND((1+Līmeņatzīmes!$R$4)*Kurināmais!L$195,2)","v":36.409999999999997},{"$f":"ROUND((1+Līmeņatzīmes!$R$4)*Kurināmais!M$195,2)","v":36.409999999999997},340.32,305.89999999999998,286.14,272.77999999999997]
["20236",2023,6,361.67,327.25,307.48,294.12,17.07,{"$f":"ROUND((1+Līmeņatzīmes!$R$4)*Kurināmais!$I$195,2)","v":12.89},{"$f":"ROUND((1+Līmeņatzīmes!$R$4)*Kurināmais!J$195,2)","v":26.81},{"$f":"ROUND((1+Līmeņatzīmes!$R$4)*Kurināmais!K$195,2)","v":33.54},{"$f":"ROUND((1+Līmeņatzīmes!$R$4)*Kurināmais!L$195,2)","v":36.409999999999997},{"$f":"ROUND((1+Līmeņatzīmes!$R$4)*Kurināmais!M$195,2)","v":36.409999999999997},340.32,305.89999999999998,286.14,272.77999999999997]
["20237",2023,7,361.67,327.25,307.48,294.12,17.07,{"$f":"ROUND((1+Līmeņatzīmes!$R$4)*Kurināmais!$I$195,2)","v":12.89},{"$f":"ROUND((1+Līmeņatzīmes!$R$4)*Kurināmais!J$195,2)","v":26.81},{"$f":"ROUND((1+Līmeņatzīmes!$R$4)*Kurināmais!K$195,2)","v":33.54},{"$f":"ROUND((1+Līmeņatzīmes!$R$4)*Kurināmais!L$195,2)","v":36.409999999999997},{"$f":"ROUND((1+Līmeņatzīmes!$R$4)*Kurināmais!M$195,2)","v":36.409999999999997},340.32,305.89999999999998,286.14,272.77999999999997]
["20238",2023,8,361.67,327.25,307.48,294.12,17.07,{"$f":"ROUND((1+Līmeņatzīmes!$R$4)*Kurināmais!$I$195,2)","v":12.89},{"$f":"ROUND((1+Līmeņatzīmes!$R$4)*Kurināmais!J$195,2)","v":26.81},{"$f":"ROUND((1+Līmeņatzīmes!$R$4)*Kurināmais!K$195,2)","v":33.54},{"$f":"ROUND((1+Līmeņatzīmes!$R$4)*Kurināmais!L$195,2)","v":36.409999999999997},{"$f":"ROUND((1+Līmeņatzīmes!$R$4)*Kurināmais!M$195,2)","v":36.409999999999997},340.32,305.89999999999998,286.14,272.77999999999997]
["20239",2023,9,361.67,327.25,307.48,294.12,17.07,{"$f":"ROUND((1+Līmeņatzīmes!$R$4)*Kurināmais!$I$195,2)","v":12.89},{"$f":"ROUND((1+Līmeņatzīmes!$R$4)*Kurināmais!J$195,2)","v":26.81},{"$f":"ROUND((1+Līmeņatzīmes!$R$4)*Kurināmais!K$195,2)","v":33.54},{"$f":"ROUND((1+Līmeņatzīmes!$R$4)*Kurināmais!L$195,2)","v":36.409999999999997},{"$f":"ROUND((1+Līmeņatzīmes!$R$4)*Kurināmais!M$195,2)","v":36.409999999999997},340.32,305.89999999999998,286.14,272.77999999999997]
["202310",2023,10,361.67,327.25,307.48,294.12,17.07,{"$f":"ROUND((1+Līmeņatzīmes!$R$4)*Kurināmais!$I$195,2)","v":12.89},{"$f":"ROUND((1+Līmeņatzīmes!$R$4)*Kurināmais!J$195,2)","v":26.81},{"$f":"ROUND((1+Līmeņatzīmes!$R$4)*Kurināmais!K$195,2)","v":33.54},{"$f":"ROUND((1+Līmeņatzīmes!$R$4)*Kurināmais!L$195,2)","v":36.409999999999997},{"$f":"ROUND((1+Līmeņatzīmes!$R$4)*Kurināmais!M$195,2)","v":36.409999999999997},340.32,305.89999999999998,286.14,272.77999999999997]
["202311",2023,11,361.67,327.25,307.48,294.12,17.07,{"$f":"ROUND((1+Līmeņatzīmes!$R$4)*Kurināmais!$I$195,2)","v":12.89},{"$f":"ROUND((1+Līmeņatzīmes!$R$4)*Kurināmais!J$195,2)","v":26.81},{"$f":"ROUND((1+Līmeņatzīmes!$R$4)*Kurināmais!K$195,2)","v":33.54},{"$f":"ROUND((1+Līmeņatzīmes!$R$4)*Kurināmais!L$195,2)","v":36.409999999999997},{"$f":"ROUND((1+Līmeņatzīmes!$R$4)*Kurināmais!M$195,2)","v":36.409999999999997},340.32,305.89999999999998,286.14,272.77999999999997]
["202312",2023,12,361.67,327.25,307.48,294.12,17.07,{"$f":"ROUND((1+Līmeņatzīmes!$R$4)*Kurināmais!$I$195,2)","v":12.89},{"$f":"ROUND((1+Līmeņatzīmes!$R$4)*Kurināmais!J$195,2)","v":26.81},{"$f":"ROUND((1+Līmeņatzīmes!$R$4)*Kurināmais!K$195,2)","v":33.54},{"$f":"ROUND((1+Līmeņatzīmes!$R$4)*Kurināmais!L$195,2)","v":36.409999999999997},{"$f":"ROUND((1+Līmeņatzīmes!$R$4)*Kurināmais!M$195,2)","v":36.409999999999997},340.32,305.89999999999998,286.14,272.77999999999997]
["20241",2024,1,361.67,327.25,307.48,294.12,17.07,{"$f":"ROUND((1+Līmeņatzīmes!$S$4)*Kurināmais!I$207,2)","v":13.12},{"$f":"ROUND((1+Līmeņatzīmes!$S$4)*Kurināmais!J$207,2)","v":27.29},{"$f":"ROUND((1+Līmeņatzīmes!$S$4)*Kurināmais!K$207,2)","v":34.14},{"$f":"ROUND((1+Līmeņatzīmes!$S$4)*Kurināmais!L$207,2)","v":37.07},{"$f":"ROUND((1+Līmeņatzīmes!$S$4)*Kurināmais!M$207,2)","v":37.07},340.32,305.89999999999998,286.14,272.77999999999997]
["20242",2024,2,361.67,327.25,307.48,294.12,17.07,{"$f":"ROUND((1+Līmeņatzīmes!$S$4)*Kurināmais!$I$207,2)","v":13.12},{"$f":"ROUND((1+Līmeņatzīmes!$S$4)*Kurināmais!J$207,2)","v":27.29},{"$f":"ROUND((1+Līmeņatzīmes!$S$4)*Kurināmais!K$207,2)","v":34.14},{"$f":"ROUND((1+Līmeņatzīmes!$S$4)*Kurināmais!L$207,2)","v":37.07},{"$f":"ROUND((1+Līmeņatzīmes!$S$4)*Kurināmais!M$207,2)","v":37.07},340.32,305.89999999999998,286.14,272.77999999999997]
["20243",2024,3,361.67,327.25,307.48,294.12,17.07,{"$f":"ROUND((1+Līmeņatzīmes!$S$4)*Kurināmais!$I$207,2)","v":13.12},{"$f":"ROUND((1+Līmeņatzīmes!$S$4)*Kurināmais!J$207,2)","v":27.29},{"$f":"ROUND((1+Līmeņatzīmes!$S$4)*Kurināmais!K$207,2)","v":34.14},{"$f":"ROUND((1+Līmeņatzīmes!$S$4)*Kurināmais!L$207,2)","v":37.07},{"$f":"ROUND((1+Līmeņatzīmes!$S$4)*Kurināmais!M$207,2)","v":37.07},340.32,305.89999999999998,286.14,272.77999999999997]
["20244",2024,4,361.67,327.25,307.48,294.12,17.07,{"$f":"ROUND((1+Līmeņatzīmes!$S$4)*Kurināmais!$I$207,2)","v":13.12},{"$f":"ROUND((1+Līmeņatzīmes!$S$4)*Kurināmais!J$207,2)","v":27.29},{"$f":"ROUND((1+Līmeņatzīmes!$S$4)*Kurināmais!K$207,2)","v":34.14},{"$f":"ROUND((1+Līmeņatzīmes!$S$4)*Kurināmais!L$207,2)","v":37.07},{"$f":"ROUND((1+Līmeņatzīmes!$S$4)*Kurināmais!M$207,2)","v":37.07},340.32,305.89999999999998,286.14,272.77999999999997]
["20245",2024,5,361.67,327.25,307.48,294.12,17.07,{"$f":"ROUND((1+Līmeņatzīmes!$S$4)*Kurināmais!$I$207,2)","v":13.12},{"$f":"ROUND((1+Līmeņatzīmes!$S$4)*Kurināmais!J$207,2)","v":27.29},{"$f":"ROUND((1+Līmeņatzīmes!$S$4)*Kurināmais!K$207,2)","v":34.14},{"$f":"ROUND((1+Līmeņatzīmes!$S$4)*Kurināmais!L$207,2)","v":37.07},{"$f":"ROUND((1+Līmeņatzīmes!$S$4)*Kurināmais!M$207,2)","v":37.07},340.32,305.89999999999998,286.14,272.77999999999997]
["20246",2024,6,361.67,327.25,307.48,294.12,17.07,{"$f":"ROUND((1+Līmeņatzīmes!$S$4)*Kurināmais!$I$207,2)","v":13.12},{"$f":"ROUND((1+Līmeņatzīmes!$S$4)*Kurināmais!J$207,2)","v":27.29},{"$f":"ROUND((1+Līmeņatzīmes!$S$4)*Kurināmais!K$207,2)","v":34.14},{"$f":"ROUND((1+Līmeņatzīmes!$S$4)*Kurināmais!L$207,2)","v":37.07},{"$f":"ROUND((1+Līmeņatzīmes!$S$4)*Kurināmais!M$207,2)","v":37.07},340.32,305.89999999999998,286.14,272.77999999999997]
["20247",2024,7,361.67,327.25,307.48,294.12,17.07,{"$f":"ROUND((1+Līmeņatzīmes!$S$4)*Kurināmais!$I$207,2)","v":13.12},{"$f":"ROUND((1+Līmeņatzīmes!$S$4)*Kurināmais!J$207,2)","v":27.29},{"$f":"ROUND((1+Līmeņatzīmes!$S$4)*Kurināmais!K$207,2)","v":34.14},{"$f":"ROUND((1+Līmeņatzīmes!$S$4)*Kurināmais!L$207,2)","v":37.07},{"$f":"ROUND((1+Līmeņatzīmes!$S$4)*Kurināmais!M$207,2)","v":37.07},340.32,305.89999999999998,286.14,272.77999999999997]
["20248",2024,8,361.67,327.25,307.48,294.12,17.07,{"$f":"ROUND((1+Līmeņatzīmes!$S$4)*Kurināmais!$I$207,2)","v":13.12},{"$f":"ROUND((1+Līmeņatzīmes!$S$4)*Kurināmais!J$207,2)","v":27.29},{"$f":"ROUND((1+Līmeņatzīmes!$S$4)*Kurināmais!K$207,2)","v":34.14},{"$f":"ROUND((1+Līmeņatzīmes!$S$4)*Kurināmais!L$207,2)","v":37.07},{"$f":"ROUND((1+Līmeņatzīmes!$S$4)*Kurināmais!M$207,2)","v":37.07},340.32,305.89999999999998,286.14,272.77999999999997]
["20249",2024,9,361.67,327.25,307.48,294.12,17.07,{"$f":"ROUND((1+Līmeņatzīmes!$S$4)*Kurināmais!$I$207,2)","v":13.12},{"$f":"ROUND((1+Līmeņatzīmes!$S$4)*Kurināmais!J$207,2)","v":27.29},{"$f":"ROUND((1+Līmeņatzīmes!$S$4)*Kurināmais!K$207,2)","v":34.14},{"$f":"ROUND((1+Līmeņatzīmes!$S$4)*Kurināmais!L$207,2)","v":37.07},{"$f":"ROUND((1+Līmeņatzīmes!$S$4)*Kurināmais!M$207,2)","v":37.07},340.32,305.89999999999998,286.14,272.77999999999997]
["202410",2024,10,361.67,327.25,307.48,294.12,17.07,{"$f":"ROUND((1+Līmeņatzīmes!$S$4)*Kurināmais!$I$207,2)","v":13.12},{"$f":"ROUND((1+Līmeņatzīmes!$S$4)*Kurināmais!J$207,2)","v":27.29},{"$f":"ROUND((1+Līmeņatzīmes!$S$4)*Kurināmais!K$207,2)","v":34.14},{"$f":"ROUND((1+Līmeņatzīmes!$S$4)*Kurināmais!L$207,2)","v":37.07},{"$f":"ROUND((1+Līmeņatzīmes!$S$4)*Kurināmais!M$207,2)","v":37.07},340.32,305.89999999999998,286.14,272.77999999999997]
["202411",2024,11,361.67,327.25,307.48,294.12,17.07,{"$f":"ROUND((1+Līmeņatzīmes!$S$4)*Kurināmais!$I$207,2)","v":13.12},{"$f":"ROUND((1+Līmeņatzīmes!$S$4)*Kurināmais!J$207,2)","v":27.29},{"$f":"ROUND((1+Līmeņatzīmes!$S$4)*Kurināmais!K$207,2)","v":34.14},{"$f":"ROUND((1+Līmeņatzīmes!$S$4)*Kurināmais!L$207,2)","v":37.07},{"$f":"ROUND((1+Līmeņatzīmes!$S$4)*Kurināmais!M$207,2)","v":37.07},340.32,305.89999999999998,286.14,272.77999999999997]
["202412",2024,12,361.67,327.25,307.48,294.12,17.07,{"$f":"ROUND((1+Līmeņatzīmes!$S$4)*Kurināmais!$I$207,2)","v":13.12},{"$f":"ROUND((1+Līmeņatzīmes!$S$4)*Kurināmais!J$207,2)","v":27.29},{"$f":"ROUND((1+Līmeņatzīmes!$S$4)*Kurināmais!K$207,2)","v":34.14},{"$f":"ROUND((1+Līmeņatzīmes!$S$4)*Kurināmais!L$207,2)","v":37.07},{"$f":"ROUND((1+Līmeņatzīmes!$S$4)*Kurināmais!M$207,2)","v":37.07},340.32,305.89999999999998,286.14,272.77999999999997]
["20251",2025,1,361.67,327.25,307.48,294.12,17.07,{"$f":"ROUND((1+Līmeņatzīmes!$T$4)*Kurināmais!I$219,2)","v":13.36},{"$f":"ROUND((1+Līmeņatzīmes!$T$4)*Kurināmais!J$219,2)","v":27.78},{"$f":"ROUND((1+Līmeņatzīmes!$T$4)*Kurināmais!K$219,2)","v":34.75},{"$f":"ROUND((1+Līmeņatzīmes!$T$4)*Kurināmais!L$219,2)","v":37.74},{"$f":"ROUND((1+Līmeņatzīmes!$T$4)*Kurināmais!M$219,2)","v":37.74},340.32,305.89999999999998,286.14,272.77999999999997]
["20252",2025,2,361.67,327.25,307.48,294.12,17.07,{"$f":"ROUND((1+Līmeņatzīmes!$T$4)*Kurināmais!$I$219,2)","v":13.36},{"$f":"ROUND((1+Līmeņatzīmes!$T$4)*Kurināmais!J$219,2)","v":27.78},{"$f":"ROUND((1+Līmeņatzīmes!$T$4)*Kurināmais!K$219,2)","v":34.75},{"$f":"ROUND((1+Līmeņatzīmes!$T$4)*Kurināmais!L$219,2)","v":37.74},{"$f":"ROUND((1+Līmeņatzīmes!$T$4)*Kurināmais!M$219,2)","v":37.74},340.32,305.89999999999998,286.14,272.77999999999997]
["20253",2025,3,361.67,327.25,307.48,294.12,17.07,{"$f":"ROUND((1+Līmeņatzīmes!$T$4)*Kurināmais!$I$219,2)","v":13.36},{"$f":"ROUND((1+Līmeņatzīmes!$T$4)*Kurināmais!J$219,2)","v":27.78},{"$f":"ROUND((1+Līmeņatzīmes!$T$4)*Kurināmais!K$219,2)","v":34.75},{"$f":"ROUND((1+Līmeņatzīmes!$T$4)*Kurināmais!L$219,2)","v":37.74},{"$f":"ROUND((1+Līmeņatzīmes!$T$4)*Kurināmais!M$219,2)","v":37.74},340.32,305.89999999999998,286.14,272.77999999999997]
["20254",2025,4,361.67,327.25,307.48,294.12,17.07,{"$f":"ROUND((1+Līmeņatzīmes!$T$4)*Kurināmais!$I$219,2)","v":13.36},{"$f":"ROUND((1+Līmeņatzīmes!$T$4)*Kurināmais!J$219,2)","v":27.78},{"$f":"ROUND((1+Līmeņatzīmes!$T$4)*Kurināmais!K$219,2)","v":34.75},{"$f":"ROUND((1+Līmeņatzīmes!$T$4)*Kurināmais!L$219,2)","v":37.74},{"$f":"ROUND((1+Līmeņatzīmes!$T$4)*Kurināmais!M$219,2)","v":37.74},340.32,305.89999999999998,286.14,272.77999999999997]
["20255",2025,5,361.67,327.25,307.48,294.12,17.07,{"$f":"ROUND((1+Līmeņatzīmes!$T$4)*Kurināmais!$I$219,2)","v":13.36},{"$f":"ROUND((1+Līmeņatzīmes!$T$4)*Kurināmais!J$219,2)","v":27.78},{"$f":"ROUND((1+Līmeņatzīmes!$T$4)*Kurināmais!K$219,2)","v":34.75},{"$f":"ROUND((1+Līmeņatzīmes!$T$4)*Kurināmais!L$219,2)","v":37.74},{"$f":"ROUND((1+Līmeņatzīmes!$T$4)*Kurināmais!M$219,2)","v":37.74},340.32,305.89999999999998,286.14,272.77999999999997]
["20256",2025,6,361.67,327.25,307.48,294.12,17.07,{"$f":"ROUND((1+Līmeņatzīmes!$T$4)*Kurināmais!$I$219,2)","v":13.36},{"$f":"ROUND((1+Līmeņatzīmes!$T$4)*Kurināmais!J$219,2)","v":27.78},{"$f":"ROUND((1+Līmeņatzīmes!$T$4)*Kurināmais!K$219,2)","v":34.75},{"$f":"ROUND((1+Līmeņatzīmes!$T$4)*Kurināmais!L$219,2)","v":37.74},{"$f":"ROUND((1+Līmeņatzīmes!$T$4)*Kurināmais!M$219,2)","v":37.74},340.32,305.89999999999998,286.14,272.77999999999997]
["20257",2025,7,361.67,327.25,307.48,294.12,17.07,{"$f":"ROUND((1+Līmeņatzīmes!$T$4)*Kurināmais!$I$219,2)","v":13.36},{"$f":"ROUND((1+Līmeņatzīmes!$T$4)*Kurināmais!J$219,2)","v":27.78},{"$f":"ROUND((1+Līmeņatzīmes!$T$4)*Kurināmais!K$219,2)","v":34.75},{"$f":"ROUND((1+Līmeņatzīmes!$T$4)*Kurināmais!L$219,2)","v":37.74},{"$f":"ROUND((1+Līmeņatzīmes!$T$4)*Kurināmais!M$219,2)","v":37.74},340.32,305.89999999999998,286.14,272.77999999999997]
["20258",2025,8,361.67,327.25,307.48,294.12,17.07,{"$f":"ROUND((1+Līmeņatzīmes!$T$4)*Kurināmais!$I$219,2)","v":13.36},{"$f":"ROUND((1+Līmeņatzīmes!$T$4)*Kurināmais!J$219,2)","v":27.78},{"$f":"ROUND((1+Līmeņatzīmes!$T$4)*Kurināmais!K$219,2)","v":34.75},{"$f":"ROUND((1+Līmeņatzīmes!$T$4)*Kurināmais!L$219,2)","v":37.74},{"$f":"ROUND((1+Līmeņatzīmes!$T$4)*Kurināmais!M$219,2)","v":37.74},340.32,305.89999999999998,286.14,272.77999999999997]
["20259",2025,9,361.67,327.25,307.48,294.12,17.07,{"$f":"ROUND((1+Līmeņatzīmes!$T$4)*Kurināmais!$I$219,2)","v":13.36},{"$f":"ROUND((1+Līmeņatzīmes!$T$4)*Kurināmais!J$219,2)","v":27.78},{"$f":"ROUND((1+Līmeņatzīmes!$T$4)*Kurināmais!K$219,2)","v":34.75},{"$f":"ROUND((1+Līmeņatzīmes!$T$4)*Kurināmais!L$219,2)","v":37.74},{"$f":"ROUND((1+Līmeņatzīmes!$T$4)*Kurināmais!M$219,2)","v":37.74},340.32,305.89999999999998,286.14,272.77999999999997]
["202510",2025,10,361.67,327.25,307.48,294.12,17.07,{"$f":"ROUND((1+Līmeņatzīmes!$T$4)*Kurināmais!$I$219,2)","v":13.36},{"$f":"ROUND((1+Līmeņatzīmes!$T$4)*Kurināmais!J$219,2)","v":27.78},{"$f":"ROUND((1+Līmeņatzīmes!$T$4)*Kurināmais!K$219,2)","v":34.75},{"$f":"ROUND((1+Līmeņatzīmes!$T$4)*Kurināmais!L$219,2)","v":37.74},{"$f":"ROUND((1+Līmeņatzīmes!$T$4)*Kurināmais!M$219,2)","v":37.74},340.32,305.89999999999998,286.14,272.77999999999997]
["202511",2025,11,361.67,327.25,307.48,294.12,17.07,{"$f":"ROUND((1+Līmeņatzīmes!$T$4)*Kurināmais!$I$219,2)","v":13.36},{"$f":"ROUND((1+Līmeņatzīmes!$T$4)*Kurināmais!J$219,2)","v":27.78},{"$f":"ROUND((1+Līmeņatzīmes!$T$4)*Kurināmais!K$219,2)","v":34.75},{"$f":"ROUND((1+Līmeņatzīmes!$T$4)*Kurināmais!L$219,2)","v":37.74},{"$f":"ROUND((1+Līmeņatzīmes!$T$4)*Kurināmais!M$219,2)","v":37.74},340.32,305.89999999999998,286.14,272.77999999999997]
["202512",2025,12,361.67,327.25,307.48,294.12,17.07,{"$f":"ROUND((1+Līmeņatzīmes!$T$4)*Kurināmais!$I$219,2)","v":13.36},{"$f":"ROUND((1+Līmeņatzīmes!$T$4)*Kurināmais!J$219,2)","v":27.78},{"$f":"ROUND((1+Līmeņatzīmes!$T$4)*Kurināmais!K$219,2)","v":34.75},{"$f":"ROUND((1+Līmeņatzīmes!$T$4)*Kurināmais!L$219,2)","v":37.74},{"$f":"ROUND((1+Līmeņatzīmes!$T$4)*Kurināmais!M$219,2)","v":37.74},340.32,305.89999999999998,286.14,272.77999999999997]
["20261",2026,1,361.67,327.25,307.48,294.12,17.07,{"$f":"ROUND((1+Līmeņatzīmes!$U$4)*Kurināmais!I$231,2)","v":13.6},{"$f":"ROUND((1+Līmeņatzīmes!$U$4)*Kurināmais!J$231,2)","v":28.28},{"$f":"ROUND((1+Līmeņatzīmes!$U$4)*Kurināmais!K$231,2)","v":35.380000000000003},{"$f":"ROUND((1+Līmeņatzīmes!$U$4)*Kurināmais!L$231,2)","v":38.42},{"$f":"ROUND((1+Līmeņatzīmes!$U$4)*Kurināmais!M$231,2)","v":38.42},340.32,305.89999999999998,286.14,272.77999999999997]
["20262",2026,2,361.67,327.25,307.48,294.12,17.07,{"$f":"ROUND((1+Līmeņatzīmes!$U$4)*Kurināmais!$I$231,2)","v":13.6},{"$f":"ROUND((1+Līmeņatzīmes!$U$4)*Kurināmais!J$231,2)","v":28.28},{"$f":"ROUND((1+Līmeņatzīmes!$U$4)*Kurināmais!K$231,2)","v":35.380000000000003},{"$f":"ROUND((1+Līmeņatzīmes!$U$4)*Kurināmais!L$231,2)","v":38.42},{"$f":"ROUND((1+Līmeņatzīmes!$U$4)*Kurināmais!M$231,2)","v":38.42},340.32,305.89999999999998,286.14,272.77999999999997]
["20263",2026,3,361.67,327.25,307.48,294.12,17.07,{"$f":"ROUND((1+Līmeņatzīmes!$U$4)*Kurināmais!$I$231,2)","v":13.6},{"$f":"ROUND((1+Līmeņatzīmes!$U$4)*Kurināmais!J$231,2)","v":28.28},{"$f":"ROUND((1+Līmeņatzīmes!$U$4)*Kurināmais!K$231,2)","v":35.380000000000003},{"$f":"ROUND((1+Līmeņatzīmes!$U$4)*Kurināmais!L$231,2)","v":38.42},{"$f":"ROUND((1+Līmeņatzīmes!$U$4)*Kurināmais!M$231,2)","v":38.42},340.32,305.89999999999998,286.14,272.77999999999997]
["20264",2026,4,361.67,327.25,307.48,294.12,17.07,{"$f":"ROUND((1+Līmeņatzīmes!$U$4)*Kurināmais!$I$231,2)","v":13.6},{"$f":"ROUND((1+Līmeņatzīmes!$U$4)*Kurināmais!J$231,2)","v":28.28},{"$f":"ROUND((1+Līmeņatzīmes!$U$4)*Kurināmais!K$231,2)","v":35.380000000000003},{"$f":"ROUND((1+Līmeņatzīmes!$U$4)*Kurināmais!L$231,2)","v":38.42},{"$f":"ROUND((1+Līmeņatzīmes!$U$4)*Kurināmais!M$231,2)","v":38.42},340.32,305.89999999999998,286.14,272.77999999999997]
["20265",2026,5,361.67,327.25,307.48,294.12,17.07,{"$f":"ROUND((1+Līmeņatzīmes!$U$4)*Kurināmais!$I$231,2)","v":13.6},{"$f":"ROUND((1+Līmeņatzīmes!$U$4)*Kurināmais!J$231,2)","v":28.28},{"$f":"ROUND((1+Līmeņatzīmes!$U$4)*Kurināmais!K$231,2)","v":35.380000000000003},{"$f":"ROUND((1+Līmeņatzīmes!$U$4)*Kurināmais!L$231,2)","v":38.42},{"$f":"ROUND((1+Līmeņatzīmes!$U$4)*Kurināmais!M$231,2)","v":38.42},340.32,305.89999999999998,286.14,272.77999999999997]
["20266",2026,6,361.67,327.25,307.48,294.12,17.07,{"$f":"ROUND((1+Līmeņatzīmes!$U$4)*Kurināmais!$I$231,2)","v":13.6},{"$f":"ROUND((1+Līmeņatzīmes!$U$4)*Kurināmais!J$231,2)","v":28.28},{"$f":"ROUND((1+Līmeņatzīmes!$U$4)*Kurināmais!K$231,2)","v":35.380000000000003},{"$f":"ROUND((1+Līmeņatzīmes!$U$4)*Kurināmais!L$231,2)","v":38.42},{"$f":"ROUND((1+Līmeņatzīmes!$U$4)*Kurināmais!M$231,2)","v":38.42},340.32,305.89999999999998,286.14,272.77999999999997]
["20267",2026,7,361.67,327.25,307.48,294.12,17.07,{"$f":"ROUND((1+Līmeņatzīmes!$U$4)*Kurināmais!$I$231,2)","v":13.6},{"$f":"ROUND((1+Līmeņatzīmes!$U$4)*Kurināmais!J$231,2)","v":28.28},{"$f":"ROUND((1+Līmeņatzīmes!$U$4)*Kurināmais!K$231,2)","v":35.380000000000003},{"$f":"ROUND((1+Līmeņatzīmes!$U$4)*Kurināmais!L$231,2)","v":38.42},{"$f":"ROUND((1+Līmeņatzīmes!$U$4)*Kurināmais!M$231,2)","v":38.42},340.32,305.89999999999998,286.14,272.77999999999997]
["20268",2026,8,361.67,327.25,307.48,294.12,17.07,{"$f":"ROUND((1+Līmeņatzīmes!$U$4)*Kurināmais!$I$231,2)","v":13.6},{"$f":"ROUND((1+Līmeņatzīmes!$U$4)*Kurināmais!J$231,2)","v":28.28},{"$f":"ROUND((1+Līmeņatzīmes!$U$4)*Kurināmais!K$231,2)","v":35.380000000000003},{"$f":"ROUND((1+Līmeņatzīmes!$U$4)*Kurināmais!L$231,2)","v":38.42},{"$f":"ROUND((1+Līmeņatzīmes!$U$4)*Kurināmais!M$231,2)","v":38.42},340.32,305.89999999999998,286.14,272.77999999999997]
["20269",2026,9,361.67,327.25,307.48,294.12,17.07,{"$f":"ROUND((1+Līmeņatzīmes!$U$4)*Kurināmais!$I$231,2)","v":13.6},{"$f":"ROUND((1+Līmeņatzīmes!$U$4)*Kurināmais!J$231,2)","v":28.28},{"$f":"ROUND((1+Līmeņatzīmes!$U$4)*Kurināmais!K$231,2)","v":35.380000000000003},{"$f":"ROUND((1+Līmeņatzīmes!$U$4)*Kurināmais!L$231,2)","v":38.42},{"$f":"ROUND((1+Līmeņatzīmes!$U$4)*Kurināmais!M$231,2)","v":38.42},340.32,305.89999999999998,286.14,272.77999999999997]
["202610",2026,10,361.67,327.25,307.48,294.12,17.07,{"$f":"ROUND((1+Līmeņatzīmes!$U$4)*Kurināmais!$I$231,2)","v":13.6},{"$f":"ROUND((1+Līmeņatzīmes!$U$4)*Kurināmais!J$231,2)","v":28.28},{"$f":"ROUND((1+Līmeņatzīmes!$U$4)*Kurināmais!K$231,2)","v":35.380000000000003},{"$f":"ROUND((1+Līmeņatzīmes!$U$4)*Kurināmais!L$231,2)","v":38.42},{"$f":"ROUND((1+Līmeņatzīmes!$U$4)*Kurināmais!M$231,2)","v":38.42},340.32,305.89999999999998,286.14,272.77999999999997]
["202611",2026,11,361.67,327.25,307.48,294.12,17.07,{"$f":"ROUND((1+Līmeņatzīmes!$U$4)*Kurināmais!$I$231,2)","v":13.6},{"$f":"ROUND((1+Līmeņatzīmes!$U$4)*Kurināmais!J$231,2)","v":28.28},{"$f":"ROUND((1+Līmeņatzīmes!$U$4)*Kurināmais!K$231,2)","v":35.380000000000003},{"$f":"ROUND((1+Līmeņatzīmes!$U$4)*Kurināmais!L$231,2)","v":38.42},{"$f":"ROUND((1+Līmeņatzīmes!$U$4)*Kurināmais!M$231,2)","v":38.42},340.32,305.89999999999998,286.14,272.77999999999997]
["202612",2026,12,361.67,327.25,307.48,294.12,17.07,{"$f":"ROUND((1+Līmeņatzīmes!$U$4)*Kurināmais!$I$231,2)","v":13.6},{"$f":"ROUND((1+Līmeņatzīmes!$U$4)*Kurināmais!J$231,2)","v":28.28},{"$f":"ROUND((1+Līmeņatzīmes!$U$4)*Kurināmais!K$231,2)","v":35.380000000000003},{"$f":"ROUND((1+Līmeņatzīmes!$U$4)*Kurināmais!L$231,2)","v":38.42},{"$f":"ROUND((1+Līmeņatzīmes!$U$4)*Kurināmais!M$231,2)","v":38.42},340.32,305.89999999999998,286.14,272.77999999999997]
["20271",2027,1,361.67,327.25,307.48,294.12,17.07,{"$f":"ROUND((1+Līmeņatzīmes!$V$4)*Kurināmais!I$243,2)","v":13.84},{"$f":"ROUND((1+Līmeņatzīmes!$V$4)*Kurināmais!J$243,2)","v":28.79},{"$f":"ROUND((1+Līmeņatzīmes!$V$4)*Kurināmais!K$243,2)","v":36.020000000000003},{"$f":"ROUND((1+Līmeņatzīmes!$V$4)*Kurināmais!L$243,2)","v":39.11},{"$f":"ROUND((1+Līmeņatzīmes!$V$4)*Kurināmais!M$243,2)","v":39.11},340.32,305.89999999999998,286.14,272.77999999999997]
["20272",2027,2,361.67,327.25,307.48,294.12,17.07,{"$f":"ROUND((1+Līmeņatzīmes!$V$4)*Kurināmais!$I$243,2)","v":13.84},{"$f":"ROUND((1+Līmeņatzīmes!$V$4)*Kurināmais!J$243,2)","v":28.79},{"$f":"ROUND((1+Līmeņatzīmes!$V$4)*Kurināmais!K$243,2)","v":36.020000000000003},{"$f":"ROUND((1+Līmeņatzīmes!$V$4)*Kurināmais!L$243,2)","v":39.11},{"$f":"ROUND((1+Līmeņatzīmes!$V$4)*Kurināmais!M$243,2)","v":39.11},340.32,305.89999999999998,286.14,272.77999999999997]
["20273",2027,3,361.67,327.25,307.48,294.12,17.07,{"$f":"ROUND((1+Līmeņatzīmes!$V$4)*Kurināmais!$I$243,2)","v":13.84},{"$f":"ROUND((1+Līmeņatzīmes!$V$4)*Kurināmais!J$243,2)","v":28.79},{"$f":"ROUND((1+Līmeņatzīmes!$V$4)*Kurināmais!K$243,2)","v":36.020000000000003},{"$f":"ROUND((1+Līmeņatzīmes!$V$4)*Kurināmais!L$243,2)","v":39.11},{"$f":"ROUND((1+Līmeņatzīmes!$V$4)*Kurināmais!M$243,2)","v":39.11},340.32,305.89999999999998,286.14,272.77999999999997]
["20274",2027,4,361.67,327.25,307.48,294.12,17.07,{"$f":"ROUND((1+Līmeņatzīmes!$V$4)*Kurināmais!$I$243,2)","v":13.84},{"$f":"ROUND((1+Līmeņatzīmes!$V$4)*Kurināmais!J$243,2)","v":28.79},{"$f":"ROUND((1+Līmeņatzīmes!$V$4)*Kurināmais!K$243,2)","v":36.020000000000003},{"$f":"ROUND((1+Līmeņatzīmes!$V$4)*Kurināmais!L$243,2)","v":39.11},{"$f":"ROUND((1+Līmeņatzīmes!$V$4)*Kurināmais!M$243,2)","v":39.11},340.32,305.89999999999998,286.14,272.77999999999997]
["20275",2027,5,361.67,327.25,307.48,294.12,17.07,{"$f":"ROUND((1+Līmeņatzīmes!$V$4)*Kurināmais!$I$243,2)","v":13.84},{"$f":"ROUND((1+Līmeņatzīmes!$V$4)*Kurināmais!J$243,2)","v":28.79},{"$f":"ROUND((1+Līmeņatzīmes!$V$4)*Kurināmais!K$243,2)","v":36.020000000000003},{"$f":"ROUND((1+Līmeņatzīmes!$V$4)*Kurināmais!L$243,2)","v":39.11},{"$f":"ROUND((1+Līmeņatzīmes!$V$4)*Kurināmais!M$243,2)","v":39.11},340.32,305.89999999999998,286.14,272.77999999999997]
["20276",2027,6,361.67,327.25,307.48,294.12,17.07,{"$f":"ROUND((1+Līmeņatzīmes!$V$4)*Kurināmais!$I$243,2)","v":13.84},{"$f":"ROUND((1+Līmeņatzīmes!$V$4)*Kurināmais!J$243,2)","v":28.79},{"$f":"ROUND((1+Līmeņatzīmes!$V$4)*Kurināmais!K$243,2)","v":36.020000000000003},{"$f":"ROUND((1+Līmeņatzīmes!$V$4)*Kurināmais!L$243,2)","v":39.11},{"$f":"ROUND((1+Līmeņatzīmes!$V$4)*Kurināmais!M$243,2)","v":39.11},340.32,305.89999999999998,286.14,272.77999999999997]
["20277",2027,7,361.67,327.25,307.48,294.12,17.07,{"$f":"ROUND((1+Līmeņatzīmes!$V$4)*Kurināmais!$I$243,2)","v":13.84},{"$f":"ROUND((1+Līmeņatzīmes!$V$4)*Kurināmais!J$243,2)","v":28.79},{"$f":"ROUND((1+Līmeņatzīmes!$V$4)*Kurināmais!K$243,2)","v":36.020000000000003},{"$f":"ROUND((1+Līmeņatzīmes!$V$4)*Kurināmais!L$243,2)","v":39.11},{"$f":"ROUND((1+Līmeņatzīmes!$V$4)*Kurināmais!M$243,2)","v":39.11},340.32,305.89999999999998,286.14,272.77999999999997]
["20278",2027,8,361.67,327.25,307.48,294.12,17.07,{"$f":"ROUND((1+Līmeņatzīmes!$V$4)*Kurināmais!$I$243,2)","v":13.84},{"$f":"ROUND((1+Līmeņatzīmes!$V$4)*Kurināmais!J$243,2)","v":28.79},{"$f":"ROUND((1+Līmeņatzīmes!$V$4)*Kurināmais!K$243,2)","v":36.020000000000003},{"$f":"ROUND((1+Līmeņatzīmes!$V$4)*Kurināmais!L$243,2)","v":39.11},{"$f":"ROUND((1+Līmeņatzīmes!$V$4)*Kurināmais!M$243,2)","v":39.11},340.32,305.89999999999998,286.14,272.77999999999997]
["20279",2027,9,361.67,327.25,307.48,294.12,{"$f":"H251","v":17.07},{"$f":"ROUND((1+Līmeņatzīmes!$V$4)*Kurināmais!$I$243,2)","v":13.84},{"$f":"ROUND((1+Līmeņatzīmes!$V$4)*Kurināmais!J$243,2)","v":28.79},{"$f":"ROUND((1+Līmeņatzīmes!$V$4)*Kurināmais!K$243,2)","v":36.020000000000003},{"$f":"ROUND((1+Līmeņatzīmes!$V$4)*Kurināmais!L$243,2)","v":39.11},{"$f":"ROUND((1+Līmeņatzīmes!$V$4)*Kurināmais!M$243,2)","v":39.11},340.32,305.89999999999998,286.14,272.77999999999997]
["202710",2027,10,361.67,327.25,307.48,294.12,17.07,{"$f":"ROUND((1+Līmeņatzīmes!$V$4)*Kurināmais!$I$243,2)","v":13.84},{"$f":"ROUND((1+Līmeņatzīmes!$V$4)*Kurināmais!J$243,2)","v":28.79},{"$f":"ROUND((1+Līmeņatzīmes!$V$4)*Kurināmais!K$243,2)","v":36.020000000000003},{"$f":"ROUND((1+Līmeņatzīmes!$V$4)*Kurināmais!L$243,2)","v":39.11},{"$f":"ROUND((1+Līmeņatzīmes!$V$4)*Kurināmais!M$243,2)","v":39.11},340.32,305.89999999999998,286.14,272.77999999999997]
["202711",2027,11,361.67,327.25,307.48,294.12,17.07,{"$f":"ROUND((1+Līmeņatzīmes!$V$4)*Kurināmais!$I$243,2)","v":13.84},{"$f":"ROUND((1+Līmeņatzīmes!$V$4)*Kurināmais!J$243,2)","v":28.79},{"$f":"ROUND((1+Līmeņatzīmes!$V$4)*Kurināmais!K$243,2)","v":36.020000000000003},{"$f":"ROUND((1+Līmeņatzīmes!$V$4)*Kurināmais!L$243,2)","v":39.11},{"$f":"ROUND((1+Līmeņatzīmes!$V$4)*Kurināmais!M$243,2)","v":39.11},340.32,305.89999999999998,286.14,272.77999999999997]
["202712",2027,12,361.67,327.25,307.48,294.12,17.07,{"$f":"ROUND((1+Līmeņatzīmes!$V$4)*Kurināmais!$I$243,2)","v":13.84},{"$f":"ROUND((1+Līmeņatzīmes!$V$4)*Kurināmais!J$243,2)","v":28.79},{"$f":"ROUND((1+Līmeņatzīmes!$V$4)*Kurināmais!K$243,2)","v":36.020000000000003},{"$f":"ROUND((1+Līmeņatzīmes!$V$4)*Kurināmais!L$243,2)","v":39.11},{"$f":"ROUND((1+Līmeņatzīmes!$V$4)*Kurināmais!M$243,2)","v":39.11},340.32,305.89999999999998,286.14,272.77999999999997]
["20281",2028,1,361.67,327.25,307.48,294.12,17.07,{"$f":"ROUND((1+Līmeņatzīmes!$W$4)*Kurināmais!I$255,2)","v":14.09},{"$f":"ROUND((1+Līmeņatzīmes!$W$4)*Kurināmais!J$255,2)","v":29.31},{"$f":"ROUND((1+Līmeņatzīmes!$W$4)*Kurināmais!K$255,2)","v":36.67},{"$f":"ROUND((1+Līmeņatzīmes!$W$4)*Kurināmais!L$255,2)","v":39.81},{"$f":"ROUND((1+Līmeņatzīmes!$W$4)*Kurināmais!M$255,2)","v":39.81},340.32,305.89999999999998,286.14,272.77999999999997]
["20282",2028,2,361.67,327.25,307.48,294.12,17.07,{"$f":"ROUND((1+Līmeņatzīmes!$W$4)*Kurināmais!$I$255,2)","v":14.09},{"$f":"ROUND((1+Līmeņatzīmes!$W$4)*Kurināmais!J$255,2)","v":29.31},{"$f":"ROUND((1+Līmeņatzīmes!$W$4)*Kurināmais!K$255,2)","v":36.67},{"$f":"ROUND((1+Līmeņatzīmes!$W$4)*Kurināmais!L$255,2)","v":39.81},{"$f":"ROUND((1+Līmeņatzīmes!$W$4)*Kurināmais!M$255,2)","v":39.81},340.32,305.89999999999998,286.14,272.77999999999997]
["20283",2028,3,361.67,327.25,307.48,294.12,17.07,{"$f":"ROUND((1+Līmeņatzīmes!$W$4)*Kurināmais!$I$255,2)","v":14.09},{"$f":"ROUND((1+Līmeņatzīmes!$W$4)*Kurināmais!J$255,2)","v":29.31},{"$f":"ROUND((1+Līmeņatzīmes!$W$4)*Kurināmais!K$255,2)","v":36.67},{"$f":"ROUND((1+Līmeņatzīmes!$W$4)*Kurināmais!L$255,2)","v":39.81},{"$f":"ROUND((1+Līmeņatzīmes!$W$4)*Kurināmais!M$255,2)","v":39.81},340.32,305.89999999999998,286.14,272.77999999999997]
["20284",2028,4,361.67,327.25,307.48,294.12,17.07,{"$f":"ROUND((1+Līmeņatzīmes!$W$4)*Kurināmais!$I$255,2)","v":14.09},{"$f":"ROUND((1+Līmeņatzīmes!$W$4)*Kurināmais!J$255,2)","v":29.31},{"$f":"ROUND((1+Līmeņatzīmes!$W$4)*Kurināmais!K$255,2)","v":36.67},{"$f":"ROUND((1+Līmeņatzīmes!$W$4)*Kurināmais!L$255,2)","v":39.81},{"$f":"ROUND((1+Līmeņatzīmes!$W$4)*Kurināmais!M$255,2)","v":39.81},340.32,305.89999999999998,286.14,272.77999999999997]
["20285",2028,5,361.67,327.25,307.48,294.12,17.07,{"$f":"ROUND((1+Līmeņatzīmes!$W$4)*Kurināmais!$I$255,2)","v":14.09},{"$f":"ROUND((1+Līmeņatzīmes!$W$4)*Kurināmais!J$255,2)","v":29.31},{"$f":"ROUND((1+Līmeņatzīmes!$W$4)*Kurināmais!K$255,2)","v":36.67},{"$f":"ROUND((1+Līmeņatzīmes!$W$4)*Kurināmais!L$255,2)","v":39.81},{"$f":"ROUND((1+Līmeņatzīmes!$W$4)*Kurināmais!M$255,2)","v":39.81},340.32,305.89999999999998,286.14,272.77999999999997]
[{"$f":"B261&C261","v":"20286"},2028,6,361.67,327.25,307.48,294.12,17.07,{"$f":"ROUND((1+Līmeņatzīmes!$W$4)*Kurināmais!$I$255,2)","v":14.09},{"$f":"ROUND((1+Līmeņatzīmes!$W$4)*Kurināmais!J$255,2)","v":29.31},{"$f":"ROUND((1+Līmeņatzīmes!$W$4)*Kurināmais!K$255,2)","v":36.67},{"$f":"ROUND((1+Līmeņatzīmes!$W$4)*Kurināmais!L$255,2)","v":39.81},{"$f":"ROUND((1+Līmeņatzīmes!$W$4)*Kurināmais!M$255,2)","v":39.81},340.32,305.89999999999998,286.14,272.77999999999997]
["20287",2028,7,361.67,327.25,307.48,294.12,17.07,{"$f":"ROUND((1+Līmeņatzīmes!$W$4)*Kurināmais!$I$255,2)","v":14.09},{"$f":"ROUND((1+Līmeņatzīmes!$W$4)*Kurināmais!J$255,2)","v":29.31},{"$f":"ROUND((1+Līmeņatzīmes!$W$4)*Kurināmais!K$255,2)","v":36.67},{"$f":"ROUND((1+Līmeņatzīmes!$W$4)*Kurināmais!L$255,2)","v":39.81},{"$f":"ROUND((1+Līmeņatzīmes!$W$4)*Kurināmais!M$255,2)","v":39.81},340.32,305.89999999999998,286.14,272.77999999999997]
["20288",2028,8,361.67,327.25,307.48,294.12,17.07,{"$f":"ROUND((1+Līmeņatzīmes!$W$4)*Kurināmais!$I$255,2)","v":14.09},{"$f":"ROUND((1+Līmeņatzīmes!$W$4)*Kurināmais!J$255,2)","v":29.31},{"$f":"ROUND((1+Līmeņatzīmes!$W$4)*Kurināmais!K$255,2)","v":36.67},{"$f":"ROUND((1+Līmeņatzīmes!$W$4)*Kurināmais!L$255,2)","v":39.81},{"$f":"ROUND((1+Līmeņatzīmes!$W$4)*Kurināmais!M$255,2)","v":39.81},340.32,305.89999999999998,286.14,272.77999999999997]
["20289",2028,9,361.67,327.25,307.48,294.12,17.07,{"$f":"ROUND((1+Līmeņatzīmes!$W$4)*Kurināmais!$I$255,2)","v":14.09},{"$f":"ROUND((1+Līmeņatzīmes!$W$4)*Kurināmais!J$255,2)","v":29.31},{"$f":"ROUND((1+Līmeņatzīmes!$W$4)*Kurināmais!K$255,2)","v":36.67},{"$f":"ROUND((1+Līmeņatzīmes!$W$4)*Kurināmais!L$255,2)","v":39.81},{"$f":"ROUND((1+Līmeņatzīmes!$W$4)*Kurināmais!M$255,2)","v":39.81},340.32,305.89999999999998,286.14,272.77999999999997]
["202810",2028,10,361.67,327.25,307.48,294.12,17.07,{"$f":"ROUND((1+Līmeņatzīmes!$W$4)*Kurināmais!$I$255,2)","v":14.09},{"$f":"ROUND((1+Līmeņatzīmes!$W$4)*Kurināmais!J$255,2)","v":29.31},{"$f":"ROUND((1+Līmeņatzīmes!$W$4)*Kurināmais!K$255,2)","v":36.67},{"$f":"ROUND((1+Līmeņatzīmes!$W$4)*Kurināmais!L$255,2)","v":39.81},{"$f":"ROUND((1+Līmeņatzīmes!$W$4)*Kurināmais!M$255,2)","v":39.81},340.32,305.89999999999998,286.14,272.77999999999997]
["202811",2028,11,361.67,327.25,307.48,294.12,17.07,{"$f":"ROUND((1+Līmeņatzīmes!$W$4)*Kurināmais!$I$255,2)","v":14.09},{"$f":"ROUND((1+Līmeņatzīmes!$W$4)*Kurināmais!J$255,2)","v":29.31},{"$f":"ROUND((1+Līmeņatzīmes!$W$4)*Kurināmais!K$255,2)","v":36.67},{"$f":"ROUND((1+Līmeņatzīmes!$W$4)*Kurināmais!L$255,2)","v":39.81},{"$f":"ROUND((1+Līmeņatzīmes!$W$4)*Kurināmais!M$255,2)","v":39.81},340.32,305.89999999999998,286.14,272.77999999999997]
["202812",2028,12,361.67,327.25,307.48,294.12,17.07,{"$f":"ROUND((1+Līmeņatzīmes!$W$4)*Kurināmais!$I$255,2)","v":14.09},{"$f":"ROUND((1+Līmeņatzīmes!$W$4)*Kurināmais!J$255,2)","v":29.31},{"$f":"ROUND((1+Līmeņatzīmes!$W$4)*Kurināmais!K$255,2)","v":36.67},{"$f":"ROUND((1+Līmeņatzīmes!$W$4)*Kurināmais!L$255,2)","v":39.81},{"$f":"ROUND((1+Līmeņatzīmes!$W$4)*Kurināmais!M$255,2)","v":39.81},340.32,305.89999999999998,286.14,272.77999999999997]
["20291",2029,1,361.67,327.25,307.48,294.12,17.07,{"$f":"ROUND((1+Līmeņatzīmes!$X$4)*Kurināmais!I$267,2)","v":14.34},{"$f":"ROUND((1+Līmeņatzīmes!$X$4)*Kurināmais!J$267,2)","v":29.84},{"$f":"ROUND((1+Līmeņatzīmes!$X$4)*Kurināmais!K$267,2)","v":37.33},{"$f":"ROUND((1+Līmeņatzīmes!$X$4)*Kurināmais!L$267,2)","v":40.53},{"$f":"ROUND((1+Līmeņatzīmes!$X$4)*Kurināmais!M$267,2)","v":40.53},340.32,305.89999999999998,286.14,272.77999999999997]
["20292",2029,2,361.67,327.25,307.48,294.12,17.07,{"$f":"ROUND((1+Līmeņatzīmes!$X$4)*Kurināmais!$I$267,2)","v":14.34},{"$f":"ROUND((1+Līmeņatzīmes!$X$4)*Kurināmais!J$267,2)","v":29.84},{"$f":"ROUND((1+Līmeņatzīmes!$X$4)*Kurināmais!K$267,2)","v":37.33},{"$f":"ROUND((1+Līmeņatzīmes!$X$4)*Kurināmais!L$267,2)","v":40.53},{"$f":"ROUND((1+Līmeņatzīmes!$X$4)*Kurināmais!M$267,2)","v":40.53},340.32,305.89999999999998,286.14,272.77999999999997]
["20293",2029,3,361.67,327.25,307.48,294.12,17.07,{"$f":"ROUND((1+Līmeņatzīmes!$X$4)*Kurināmais!$I$267,2)","v":14.34},{"$f":"ROUND((1+Līmeņatzīmes!$X$4)*Kurināmais!J$267,2)","v":29.84},{"$f":"ROUND((1+Līmeņatzīmes!$X$4)*Kurināmais!K$267,2)","v":37.33},{"$f":"ROUND((1+Līmeņatzīmes!$X$4)*Kurināmais!L$267,2)","v":40.53},{"$f":"ROUND((1+Līmeņatzīmes!$X$4)*Kurināmais!M$267,2)","v":40.53},340.32,305.89999999999998,286.14,272.77999999999997]
["20294",2029,4,361.67,327.25,307.48,294.12,17.07,{"$f":"ROUND((1+Līmeņatzīmes!$X$4)*Kurināmais!$I$267,2)","v":14.34},{"$f":"ROUND((1+Līmeņatzīmes!$X$4)*Kurināmais!J$267,2)","v":29.84},{"$f":"ROUND((1+Līmeņatzīmes!$X$4)*Kurināmais!K$267,2)","v":37.33},{"$f":"ROUND((1+Līmeņatzīmes!$X$4)*Kurināmais!L$267,2)","v":40.53},{"$f":"ROUND((1+Līmeņatzīmes!$X$4)*Kurināmais!M$267,2)","v":40.53},340.32,305.89999999999998,286.14,272.77999999999997]
["20295",2029,5,361.67,327.25,307.48,294.12,17.07,{"$f":"ROUND((1+Līmeņatzīmes!$X$4)*Kurināmais!$I$267,2)","v":14.34},{"$f":"ROUND((1+Līmeņatzīmes!$X$4)*Kurināmais!J$267,2)","v":29.84},{"$f":"ROUND((1+Līmeņatzīmes!$X$4)*Kurināmais!K$267,2)","v":37.33},{"$f":"ROUND((1+Līmeņatzīmes!$X$4)*Kurināmais!L$267,2)","v":40.53},{"$f":"ROUND((1+Līmeņatzīmes!$X$4)*Kurināmais!M$267,2)","v":40.53},340.32,305.89999999999998,286.14,272.77999999999997]
["20296",2029,6,361.67,327.25,307.48,294.12,17.07,{"$f":"ROUND((1+Līmeņatzīmes!$X$4)*Kurināmais!$I$267,2)","v":14.34},{"$f":"ROUND((1+Līmeņatzīmes!$X$4)*Kurināmais!J$267,2)","v":29.84},{"$f":"ROUND((1+Līmeņatzīmes!$X$4)*Kurināmais!K$267,2)","v":37.33},{"$f":"ROUND((1+Līmeņatzīmes!$X$4)*Kurināmais!L$267,2)","v":40.53},{"$f":"ROUND((1+Līmeņatzīmes!$X$4)*Kurināmais!M$267,2)","v":40.53},340.32,305.89999999999998,286.14,272.77999999999997]
["20297",2029,7,361.67,327.25,307.48,294.12,17.07,{"$f":"ROUND((1+Līmeņatzīmes!$X$4)*Kurināmais!$I$267,2)","v":14.34},{"$f":"ROUND((1+Līmeņatzīmes!$X$4)*Kurināmais!J$267,2)","v":29.84},{"$f":"ROUND((1+Līmeņatzīmes!$X$4)*Kurināmais!K$267,2)","v":37.33},{"$f":"ROUND((1+Līmeņatzīmes!$X$4)*Kurināmais!L$267,2)","v":40.53},{"$f":"ROUND((1+Līmeņatzīmes!$X$4)*Kurināmais!M$267,2)","v":40.53},340.32,305.89999999999998,286.14,272.77999999999997]
["20298",2029,8,361.67,327.25,307.48,294.12,17.07,{"$f":"ROUND((1+Līmeņatzīmes!$X$4)*Kurināmais!$I$267,2)","v":14.34},{"$f":"ROUND((1+Līmeņatzīmes!$X$4)*Kurināmais!J$267,2)","v":29.84},{"$f":"ROUND((1+Līmeņatzīmes!$X$4)*Kurināmais!K$267,2)","v":37.33},{"$f":"ROUND((1+Līmeņatzīmes!$X$4)*Kurināmais!L$267,2)","v":40.53},{"$f":"ROUND((1+Līmeņatzīmes!$X$4)*Kurināmais!M$267,2)","v":40.53},340.32,305.89999999999998,286.14,272.77999999999997]
["20299",2029,9,361.67,327.25,307.48,294.12,17.07,{"$f":"ROUND((1+Līmeņatzīmes!$X$4)*Kurināmais!$I$267,2)","v":14.34},{"$f":"ROUND((1+Līmeņatzīmes!$X$4)*Kurināmais!J$267,2)","v":29.84},{"$f":"ROUND((1+Līmeņatzīmes!$X$4)*Kurināmais!K$267,2)","v":37.33},{"$f":"ROUND((1+Līmeņatzīmes!$X$4)*Kurināmais!L$267,2)","v":40.53},{"$f":"ROUND((1+Līmeņatzīmes!$X$4)*Kurināmais!M$267,2)","v":40.53},340.32,305.89999999999998,286.14,272.77999999999997]
["202910",2029,10,361.67,327.25,307.48,294.12,17.07,{"$f":"ROUND((1+Līmeņatzīmes!$X$4)*Kurināmais!$I$267,2)","v":14.34},{"$f":"ROUND((1+Līmeņatzīmes!$X$4)*Kurināmais!J$267,2)","v":29.84},{"$f":"ROUND((1+Līmeņatzīmes!$X$4)*Kurināmais!K$267,2)","v":37.33},{"$f":"ROUND((1+Līmeņatzīmes!$X$4)*Kurināmais!L$267,2)","v":40.53},{"$f":"ROUND((1+Līmeņatzīmes!$X$4)*Kurināmais!M$267,2)","v":40.53},340.32,305.89999999999998,286.14,272.77999999999997]
["202911",2029,11,361.67,327.25,307.48,294.12,17.07,{"$f":"ROUND((1+Līmeņatzīmes!$X$4)*Kurināmais!$I$267,2)","v":14.34},{"$f":"ROUND((1+Līmeņatzīmes!$X$4)*Kurināmais!J$267,2)","v":29.84},{"$f":"ROUND((1+Līmeņatzīmes!$X$4)*Kurināmais!K$267,2)","v":37.33},{"$f":"ROUND((1+Līmeņatzīmes!$X$4)*Kurināmais!L$267,2)","v":40.53},{"$f":"ROUND((1+Līmeņatzīmes!$X$4)*Kurināmais!M$267,2)","v":40.53},340.32,305.89999999999998,286.14,272.77999999999997]
["202912",2029,12,361.67,327.25,307.48,294.12,17.07,{"$f":"ROUND((1+Līmeņatzīmes!$X$4)*Kurināmais!$I$267,2)","v":14.34},{"$f":"ROUND((1+Līmeņatzīmes!$X$4)*Kurināmais!J$267,2)","v":29.84},{"$f":"ROUND((1+Līmeņatzīmes!$X$4)*Kurināmais!K$267,2)","v":37.33},{"$f":"ROUND((1+Līmeņatzīmes!$X$4)*Kurināmais!L$267,2)","v":40.53},{"$f":"ROUND((1+Līmeņatzīmes!$X$4)*Kurināmais!M$267,2)","v":40.53},340.32,305.89999999999998,286.14,272.77999999999997]
["20301",2030,1,361.67,327.25,307.48,294.12,17.07,{"$f":"ROUND((1+Līmeņatzīmes!$Y$4)*Kurināmais!I$279,2)","v":14.6},{"$f":"ROUND((1+Līmeņatzīmes!$Y$4)*Kurināmais!J$279,2)","v":30.38},{"$f":"ROUND((1+Līmeņatzīmes!$Y$4)*Kurināmais!K$279,2)","v":38},{"$f":"ROUND((1+Līmeņatzīmes!$Y$4)*Kurināmais!L$279,2)","v":41.26},{"$f":"ROUND((1+Līmeņatzīmes!$Y$4)*Kurināmais!M$279,2)","v":41.26},340.32,305.89999999999998,286.14,272.77999999999997]
["20302",2030,2,361.67,327.25,307.48,294.12,17.07,{"$f":"ROUND((1+Līmeņatzīmes!$Y$4)*Kurināmais!$I$279,2)","v":14.6},{"$f":"ROUND((1+Līmeņatzīmes!$Y$4)*Kurināmais!J$279,2)","v":30.38},{"$f":"ROUND((1+Līmeņatzīmes!$Y$4)*Kurināmais!K$279,2)","v":38},{"$f":"ROUND((1+Līmeņatzīmes!$Y$4)*Kurināmais!L$279,2)","v":41.26},{"$f":"ROUND((1+Līmeņatzīmes!$Y$4)*Kurināmais!M$279,2)","v":41.26},340.32,305.89999999999998,286.14,272.77999999999997]
["20303",2030,3,361.67,327.25,307.48,294.12,17.07,{"$f":"ROUND((1+Līmeņatzīmes!$Y$4)*Kurināmais!$I$279,2)","v":14.6},{"$f":"ROUND((1+Līmeņatzīmes!$Y$4)*Kurināmais!J$279,2)","v":30.38},{"$f":"ROUND((1+Līmeņatzīmes!$Y$4)*Kurināmais!K$279,2)","v":38},{"$f":"ROUND((1+Līmeņatzīmes!$Y$4)*Kurināmais!L$279,2)","v":41.26},{"$f":"ROUND((1+Līmeņatzīmes!$Y$4)*Kurināmais!M$279,2)","v":41.26},340.32,305.89999999999998,286.14,272.77999999999997]
["20304",2030,4,361.67,327.25,307.48,294.12,17.07,{"$f":"ROUND((1+Līmeņatzīmes!$Y$4)*Kurināmais!$I$279,2)","v":14.6},{"$f":"ROUND((1+Līmeņatzīmes!$Y$4)*Kurināmais!J$279,2)","v":30.38},{"$f":"ROUND((1+Līmeņatzīmes!$Y$4)*Kurināmais!K$279,2)","v":38},{"$f":"ROUND((1+Līmeņatzīmes!$Y$4)*Kurināmais!L$279,2)","v":41.26},{"$f":"ROUND((1+Līmeņatzīmes!$Y$4)*Kurināmais!M$279,2)","v":41.26},340.32,305.89999999999998,286.14,272.77999999999997]
["20305",2030,5,361.67,327.25,307.48,294.12,17.07,{"$f":"ROUND((1+Līmeņatzīmes!$Y$4)*Kurināmais!$I$279,2)","v":14.6},{"$f":"ROUND((1+Līmeņatzīmes!$Y$4)*Kurināmais!J$279,2)","v":30.38},{"$f":"ROUND((1+Līmeņatzīmes!$Y$4)*Kurināmais!K$279,2)","v":38},{"$f":"ROUND((1+Līmeņatzīmes!$Y$4)*Kurināmais!L$279,2)","v":41.26},{"$f":"ROUND((1+Līmeņatzīmes!$Y$4)*Kurināmais!M$279,2)","v":41.26},340.32,305.89999999999998,286.14,272.77999999999997]
["20306",2030,6,361.67,327.25,307.48,294.12,17.07,{"$f":"ROUND((1+Līmeņatzīmes!$Y$4)*Kurināmais!$I$279,2)","v":14.6},{"$f":"ROUND((1+Līmeņatzīmes!$Y$4)*Kurināmais!J$279,2)","v":30.38},{"$f":"ROUND((1+Līmeņatzīmes!$Y$4)*Kurināmais!K$279,2)","v":38},{"$f":"ROUND((1+Līmeņatzīmes!$Y$4)*Kurināmais!L$279,2)","v":41.26},{"$f":"ROUND((1+Līmeņatzīmes!$Y$4)*Kurināmais!M$279,2)","v":41.26},340.32,305.89999999999998,286.14,272.77999999999997]
["20307",2030,7,361.67,327.25,307.48,294.12,17.07,{"$f":"ROUND((1+Līmeņatzīmes!$Y$4)*Kurināmais!$I$279,2)","v":14.6},{"$f":"ROUND((1+Līmeņatzīmes!$Y$4)*Kurināmais!J$279,2)","v":30.38},{"$f":"ROUND((1+Līmeņatzīmes!$Y$4)*Kurināmais!K$279,2)","v":38},{"$f":"ROUND((1+Līmeņatzīmes!$Y$4)*Kurināmais!L$279,2)","v":41.26},{"$f":"ROUND((1+Līmeņatzīmes!$Y$4)*Kurināmais!M$279,2)","v":41.26},340.32,305.89999999999998,286.14,272.77999999999997]
["20308",2030,8,361.67,327.25,307.48,294.12,17.07,{"$f":"ROUND((1+Līmeņatzīmes!$Y$4)*Kurināmais!$I$279,2)","v":14.6},{"$f":"ROUND((1+Līmeņatzīmes!$Y$4)*Kurināmais!J$279,2)","v":30.38},{"$f":"ROUND((1+Līmeņatzīmes!$Y$4)*Kurināmais!K$279,2)","v":38},{"$f":"ROUND((1+Līmeņatzīmes!$Y$4)*Kurināmais!L$279,2)","v":41.26},{"$f":"ROUND((1+Līmeņatzīmes!$Y$4)*Kurināmais!M$279,2)","v":41.26},340.32,305.89999999999998,286.14,272.77999999999997]
["20309",2030,9,361.67,327.25,307.48,294.12,17.07,{"$f":"ROUND((1+Līmeņatzīmes!$Y$4)*Kurināmais!$I$279,2)","v":14.6},{"$f":"ROUND((1+Līmeņatzīmes!$Y$4)*Kurināmais!J$279,2)","v":30.38},{"$f":"ROUND((1+Līmeņatzīmes!$Y$4)*Kurināmais!K$279,2)","v":38},{"$f":"ROUND((1+Līmeņatzīmes!$Y$4)*Kurināmais!L$279,2)","v":41.26},{"$f":"ROUND((1+Līmeņatzīmes!$Y$4)*Kurināmais!M$279,2)","v":41.26},340.32,305.89999999999998,286.14,272.77999999999997]
["203010",2030,10,361.67,327.25,307.48,294.12,17.07,{"$f":"ROUND((1+Līmeņatzīmes!$Y$4)*Kurināmais!$I$279,2)","v":14.6},{"$f":"ROUND((1+Līmeņatzīmes!$Y$4)*Kurināmais!J$279,2)","v":30.38},{"$f":"ROUND((1+Līmeņatzīmes!$Y$4)*Kurināmais!K$279,2)","v":38},{"$f":"ROUND((1+Līmeņatzīmes!$Y$4)*Kurināmais!L$279,2)","v":41.26},{"$f":"ROUND((1+Līmeņatzīmes!$Y$4)*Kurināmais!M$279,2)","v":41.26},340.32,305.89999999999998,286.14,272.77999999999997]
["203011",2030,11,361.67,327.25,307.48,294.12,17.07,{"$f":"ROUND((1+Līmeņatzīmes!$Y$4)*Kurināmais!$I$279,2)","v":14.6},{"$f":"ROUND((1+Līmeņatzīmes!$Y$4)*Kurināmais!J$279,2)","v":30.38},{"$f":"ROUND((1+Līmeņatzīmes!$Y$4)*Kurināmais!K$279,2)","v":38},{"$f":"ROUND((1+Līmeņatzīmes!$Y$4)*Kurināmais!L$279,2)","v":41.26},{"$f":"ROUND((1+Līmeņatzīmes!$Y$4)*Kurināmais!M$279,2)","v":41.26},340.32,305.89999999999998,286.14,272.77999999999997]
["203012",2030,12,361.67,327.25,307.48,294.12,17.07,{"$f":"ROUND((1+Līmeņatzīmes!$Y$4)*Kurināmais!$I$279,2)","v":14.6},{"$f":"ROUND((1+Līmeņatzīmes!$Y$4)*Kurināmais!J$279,2)","v":30.38},{"$f":"ROUND((1+Līmeņatzīmes!$Y$4)*Kurināmais!K$279,2)","v":38},{"$f":"ROUND((1+Līmeņatzīmes!$Y$4)*Kurināmais!L$279,2)","v":41.26},{"$f":"ROUND((1+Līmeņatzīmes!$Y$4)*Kurināmais!M$279,2)","v":41.26},340.32,305.89999999999998,286.14,272.77999999999997]
["20311",2031,1,361.67,327.25,307.48,294.12,17.07,{"$f":"ROUND((1+Līmeņatzīmes!$Z$4)*Kurināmais!I$291,2)","v":14.86},{"$f":"ROUND((1+Līmeņatzīmes!$Z$4)*Kurināmais!J$291,2)","v":30.93},{"$f":"ROUND((1+Līmeņatzīmes!$Z$4)*Kurināmais!K$291,2)","v":38.68},{"$f":"ROUND((1+Līmeņatzīmes!$Z$4)*Kurināmais!L$291,2)","v":42},{"$f":"ROUND((1+Līmeņatzīmes!$Z$4)*Kurināmais!M$291,2)","v":42},340.32,305.89999999999998,286.14,272.77999999999997]
["20312",2031,2,361.67,327.25,307.48,294.12,17.07,{"$f":"ROUND((1+Līmeņatzīmes!$Z$4)*Kurināmais!$I$291,2)","v":14.86},{"$f":"ROUND((1+Līmeņatzīmes!$Z$4)*Kurināmais!J$291,2)","v":30.93},{"$f":"ROUND((1+Līmeņatzīmes!$Z$4)*Kurināmais!K$291,2)","v":38.68},{"$f":"ROUND((1+Līmeņatzīmes!$Z$4)*Kurināmais!L$291,2)","v":42},{"$f":"ROUND((1+Līmeņatzīmes!$Z$4)*Kurināmais!M$291,2)","v":42},340.32,305.89999999999998,286.14,272.77999999999997]
["20313",2031,3,361.67,327.25,307.48,294.12,17.07,{"$f":"ROUND((1+Līmeņatzīmes!$Z$4)*Kurināmais!$I$291,2)","v":14.86},{"$f":"ROUND((1+Līmeņatzīmes!$Z$4)*Kurināmais!J$291,2)","v":30.93},{"$f":"ROUND((1+Līmeņatzīmes!$Z$4)*Kurināmais!K$291,2)","v":38.68},{"$f":"ROUND((1+Līmeņatzīmes!$Z$4)*Kurināmais!L$291,2)","v":42},{"$f":"ROUND((1+Līmeņatzīmes!$Z$4)*Kurināmais!M$291,2)","v":42},340.32,305.89999999999998,286.14,272.77999999999997]
["20314",2031,4,361.67,327.25,307.48,294.12,17.07,{"$f":"ROUND((1+Līmeņatzīmes!$Z$4)*Kurināmais!$I$291,2)","v":14.86},{"$f":"ROUND((1+Līmeņatzīmes!$Z$4)*Kurināmais!J$291,2)","v":30.93},{"$f":"ROUND((1+Līmeņatzīmes!$Z$4)*Kurināmais!K$291,2)","v":38.68},{"$f":"ROUND((1+Līmeņatzīmes!$Z$4)*Kurināmais!L$291,2)","v":42},{"$f":"ROUND((1+Līmeņatzīmes!$Z$4)*Kurināmais!M$291,2)","v":42},340.32,305.89999999999998,286.14,272.77999999999997]
["20315",2031,5,361.67,327.25,307.48,294.12,17.07,{"$f":"ROUND((1+Līmeņatzīmes!$Z$4)*Kurināmais!$I$291,2)","v":14.86},{"$f":"ROUND((1+Līmeņatzīmes!$Z$4)*Kurināmais!J$291,2)","v":30.93},{"$f":"ROUND((1+Līmeņatzīmes!$Z$4)*Kurināmais!K$291,2)","v":38.68},{"$f":"ROUND((1+Līmeņatzīmes!$Z$4)*Kurināmais!L$291,2)","v":42},{"$f":"ROUND((1+Līmeņatzīmes!$Z$4)*Kurināmais!M$291,2)","v":42},340.32,305.89999999999998,286.14,272.77999999999997]
["20316",2031,6,361.67,327.25,307.48,294.12,17.07,{"$f":"ROUND((1+Līmeņatzīmes!$Z$4)*Kurināmais!$I$291,2)","v":14.86},{"$f":"ROUND((1+Līmeņatzīmes!$Z$4)*Kurināmais!J$291,2)","v":30.93},{"$f":"ROUND((1+Līmeņatzīmes!$Z$4)*Kurināmais!K$291,2)","v":38.68},{"$f":"ROUND((1+Līmeņatzīmes!$Z$4)*Kurināmais!L$291,2)","v":42},{"$f":"ROUND((1+Līmeņatzīmes!$Z$4)*Kurināmais!M$291,2)","v":42},340.32,305.89999999999998,286.14,272.77999999999997]
["20317",2031,7,361.67,327.25,307.48,294.12,17.07,{"$f":"ROUND((1+Līmeņatzīmes!$Z$4)*Kurināmais!$I$291,2)","v":14.86},{"$f":"ROUND((1+Līmeņatzīmes!$Z$4)*Kurināmais!J$291,2)","v":30.93},{"$f":"ROUND((1+Līmeņatzīmes!$Z$4)*Kurināmais!K$291,2)","v":38.68},{"$f":"ROUND((1+Līmeņatzīmes!$Z$4)*Kurināmais!L$291,2)","v":42},{"$f":"ROUND((1+Līmeņatzīmes!$Z$4)*Kurināmais!M$291,2)","v":42},340.32,305.89999999999998,286.14,272.77999999999997]
["20318",2031,8,361.67,327.25,307.48,294.12,17.07,{"$f":"ROUND((1+Līmeņatzīmes!$Z$4)*Kurināmais!$I$291,2)","v":14.86},{"$f":"ROUND((1+Līmeņatzīmes!$Z$4)*Kurināmais!J$291,2)","v":30.93},{"$f":"ROUND((1+Līmeņatzīmes!$Z$4)*Kurināmais!K$291,2)","v":38.68},{"$f":"ROUND((1+Līmeņatzīmes!$Z$4)*Kurināmais!L$291,2)","v":42},{"$f":"ROUND((1+Līmeņatzīmes!$Z$4)*Kurināmais!M$291,2)","v":42},340.32,305.89999999999998,286.14,272.77999999999997]
["20319",2031,9,361.67,327.25,307.48,294.12,17.07,{"$f":"ROUND((1+Līmeņatzīmes!$Z$4)*Kurināmais!$I$291,2)","v":14.86},{"$f":"ROUND((1+Līmeņatzīmes!$Z$4)*Kurināmais!J$291,2)","v":30.93},{"$f":"ROUND((1+Līmeņatzīmes!$Z$4)*Kurināmais!K$291,2)","v":38.68},{"$f":"ROUND((1+Līmeņatzīmes!$Z$4)*Kurināmais!L$291,2)","v":42},{"$f":"ROUND((1+Līmeņatzīmes!$Z$4)*Kurināmais!M$291,2)","v":42},340.32,305.89999999999998,286.14,272.77999999999997]
["203110",2031,10,361.67,327.25,307.48,294.12,17.07,{"$f":"ROUND((1+Līmeņatzīmes!$Z$4)*Kurināmais!$I$291,2)","v":14.86},{"$f":"ROUND((1+Līmeņatzīmes!$Z$4)*Kurināmais!J$291,2)","v":30.93},{"$f":"ROUND((1+Līmeņatzīmes!$Z$4)*Kurināmais!K$291,2)","v":38.68},{"$f":"ROUND((1+Līmeņatzīmes!$Z$4)*Kurināmais!L$291,2)","v":42},{"$f":"ROUND((1+Līmeņatzīmes!$Z$4)*Kurināmais!M$291,2)","v":42},340.32,305.89999999999998,286.14,272.77999999999997]
["203111",2031,11,361.67,327.25,307.48,294.12,17.07,{"$f":"ROUND((1+Līmeņatzīmes!$Z$4)*Kurināmais!$I$291,2)","v":14.86},{"$f":"ROUND((1+Līmeņatzīmes!$Z$4)*Kurināmais!J$291,2)","v":30.93},{"$f":"ROUND((1+Līmeņatzīmes!$Z$4)*Kurināmais!K$291,2)","v":38.68},{"$f":"ROUND((1+Līmeņatzīmes!$Z$4)*Kurināmais!L$291,2)","v":42},{"$f":"ROUND((1+Līmeņatzīmes!$Z$4)*Kurināmais!M$291,2)","v":42},340.32,305.89999999999998,286.14,272.77999999999997]
["203112",2031,12,361.67,327.25,307.48,294.12,17.07,{"$f":"ROUND((1+Līmeņatzīmes!$Z$4)*Kurināmais!$I$291,2)","v":14.86},{"$f":"ROUND((1+Līmeņatzīmes!$Z$4)*Kurināmais!J$291,2)","v":30.93},{"$f":"ROUND((1+Līmeņatzīmes!$Z$4)*Kurināmais!K$291,2)","v":38.68},{"$f":"ROUND((1+Līmeņatzīmes!$Z$4)*Kurināmais!L$291,2)","v":42},{"$f":"ROUND((1+Līmeņatzīmes!$Z$4)*Kurināmais!M$291,2)","v":42},340.32,305.89999999999998,286.14,272.77999999999997]
["20321",2032,1,361.67,327.25,307.48,294.12,17.07,{"$f":"ROUND((1+Līmeņatzīmes!$AA$4)*Kurināmais!I$303,2)","v":15.13},{"$f":"ROUND((1+Līmeņatzīmes!$AA$4)*Kurināmais!J$303,2)","v":31.49},{"$f":"ROUND((1+Līmeņatzīmes!$AA$4)*Kurināmais!K$303,2)","v":39.380000000000003},{"$f":"ROUND((1+Līmeņatzīmes!$AA$4)*Kurināmais!L$303,2)","v":42.76},{"$f":"ROUND((1+Līmeņatzīmes!$AA$4)*Kurināmais!M$303,2)","v":42.76},340.32,305.89999999999998,286.14,272.77999999999997]
[{"$f":"B305&C305","v":"20322"},2032,2,361.67,327.25,307.48,294.12,17.07,{"$f":"ROUND((1+Līmeņatzīmes!$AA$4)*Kurināmais!$I$303,2)","v":15.13},{"$f":"ROUND((1+Līmeņatzīmes!$AA$4)*Kurināmais!J$303,2)","v":31.49},{"$f":"ROUND((1+Līmeņatzīmes!$AA$4)*Kurināmais!K$303,2)","v":39.380000000000003},{"$f":"ROUND((1+Līmeņatzīmes!$AA$4)*Kurināmais!L$303,2)","v":42.76},{"$f":"ROUND((1+Līmeņatzīmes!$AA$4)*Kurināmais!M$303,2)","v":42.76},340.32,305.89999999999998,286.14,272.77999999999997]
["20323",2032,3,361.67,327.25,307.48,294.12,17.07,{"$f":"ROUND((1+Līmeņatzīmes!$AA$4)*Kurināmais!$I$303,2)","v":15.13},{"$f":"ROUND((1+Līmeņatzīmes!$AA$4)*Kurināmais!J$303,2)","v":31.49},{"$f":"ROUND((1+Līmeņatzīmes!$AA$4)*Kurināmais!K$303,2)","v":39.380000000000003},{"$f":"ROUND((1+Līmeņatzīmes!$AA$4)*Kurināmais!L$303,2)","v":42.76},{"$f":"ROUND((1+Līmeņatzīmes!$AA$4)*Kurināmais!M$303,2)","v":42.76},340.32,305.89999999999998,286.14,272.77999999999997]
["20324",2032,4,361.67,327.25,307.48,294.12,17.07,{"$f":"ROUND((1+Līmeņatzīmes!$AA$4)*Kurināmais!$I$303,2)","v":15.13},{"$f":"ROUND((1+Līmeņatzīmes!$AA$4)*Kurināmais!J$303,2)","v":31.49},{"$f":"ROUND((1+Līmeņatzīmes!$AA$4)*Kurināmais!K$303,2)","v":39.380000000000003},{"$f":"ROUND((1+Līmeņatzīmes!$AA$4)*Kurināmais!L$303,2)","v":42.76},{"$f":"ROUND((1+Līmeņatzīmes!$AA$4)*Kurināmais!M$303,2)","v":42.76},340.32,305.89999999999998,286.14,272.77999999999997]
["20325",2032,5,361.67,327.25,307.48,294.12,17.07,{"$f":"ROUND((1+Līmeņatzīmes!$AA$4)*Kurināmais!$I$303,2)","v":15.13},{"$f":"ROUND((1+Līmeņatzīmes!$AA$4)*Kurināmais!J$303,2)","v":31.49},{"$f":"ROUND((1+Līmeņatzīmes!$AA$4)*Kurināmais!K$303,2)","v":39.380000000000003},{"$f":"ROUND((1+Līmeņatzīmes!$AA$4)*Kurināmais!L$303,2)","v":42.76},{"$f":"ROUND((1+Līmeņatzīmes!$AA$4)*Kurināmais!M$303,2)","v":42.76},340.32,305.89999999999998,286.14,272.77999999999997]
["20326",2032,6,361.67,327.25,307.48,294.12,17.07,{"$f":"ROUND((1+Līmeņatzīmes!$AA$4)*Kurināmais!$I$303,2)","v":15.13},{"$f":"ROUND((1+Līmeņatzīmes!$AA$4)*Kurināmais!J$303,2)","v":31.49},{"$f":"ROUND((1+Līmeņatzīmes!$AA$4)*Kurināmais!K$303,2)","v":39.380000000000003},{"$f":"ROUND((1+Līmeņatzīmes!$AA$4)*Kurināmais!L$303,2)","v":42.76},{"$f":"ROUND((1+Līmeņatzīmes!$AA$4)*Kurināmais!M$303,2)","v":42.76},340.32,305.89999999999998,286.14,272.77999999999997]
["20327",2032,7,361.67,327.25,307.48,294.12,17.07,{"$f":"ROUND((1+Līmeņatzīmes!$AA$4)*Kurināmais!$I$303,2)","v":15.13},{"$f":"ROUND((1+Līmeņatzīmes!$AA$4)*Kurināmais!J$303,2)","v":31.49},{"$f":"ROUND((1+Līmeņatzīmes!$AA$4)*Kurināmais!K$303,2)","v":39.380000000000003},{"$f":"ROUND((1+Līmeņatzīmes!$AA$4)*Kurināmais!L$303,2)","v":42.76},{"$f":"ROUND((1+Līmeņatzīmes!$AA$4)*Kurināmais!M$303,2)","v":42.76},340.32,305.89999999999998,286.14,272.77999999999997]
[{"$f":"B311&C311","v":"20328"},2032,8,361.67,327.25,307.48,294.12,17.07,{"$f":"ROUND((1+Līmeņatzīmes!$AA$4)*Kurināmais!$I$303,2)","v":15.13},{"$f":"ROUND((1+Līmeņatzīmes!$AA$4)*Kurināmais!J$303,2)","v":31.49},{"$f":"ROUND((1+Līmeņatzīmes!$AA$4)*Kurināmais!K$303,2)","v":39.380000000000003},{"$f":"ROUND((1+Līmeņatzīmes!$AA$4)*Kurināmais!L$303,2)","v":42.76},{"$f":"ROUND((1+Līmeņatzīmes!$AA$4)*Kurināmais!M$303,2)","v":42.76},340.32,305.89999999999998,286.14,272.77999999999997]
["20329",2032,9,361.67,327.25,307.48,294.12,17.07,{"$f":"ROUND((1+Līmeņatzīmes!$AA$4)*Kurināmais!$I$303,2)","v":15.13},{"$f":"ROUND((1+Līmeņatzīmes!$AA$4)*Kurināmais!J$303,2)","v":31.49},{"$f":"ROUND((1+Līmeņatzīmes!$AA$4)*Kurināmais!K$303,2)","v":39.380000000000003},{"$f":"ROUND((1+Līmeņatzīmes!$AA$4)*Kurināmais!L$303,2)","v":42.76},{"$f":"ROUND((1+Līmeņatzīmes!$AA$4)*Kurināmais!M$303,2)","v":42.76},340.32,305.89999999999998,286.14,272.77999999999997]
["203210",2032,10,361.67,327.25,307.48,294.12,17.07,{"$f":"ROUND((1+Līmeņatzīmes!$AA$4)*Kurināmais!$I$303,2)","v":15.13},{"$f":"ROUND((1+Līmeņatzīmes!$AA$4)*Kurināmais!J$303,2)","v":31.49},{"$f":"ROUND((1+Līmeņatzīmes!$AA$4)*Kurināmais!K$303,2)","v":39.380000000000003},{"$f":"ROUND((1+Līmeņatzīmes!$AA$4)*Kurināmais!L$303,2)","v":42.76},{"$f":"ROUND((1+Līmeņatzīmes!$AA$4)*Kurināmais!M$303,2)","v":42.76},340.32,305.89999999999998,286.14,272.77999999999997]
["203211",2032,11,361.67,327.25,307.48,294.12,17.07,{"$f":"ROUND((1+Līmeņatzīmes!$AA$4)*Kurināmais!$I$303,2)","v":15.13},{"$f":"ROUND((1+Līmeņatzīmes!$AA$4)*Kurināmais!J$303,2)","v":31.49},{"$f":"ROUND((1+Līmeņatzīmes!$AA$4)*Kurināmais!K$303,2)","v":39.380000000000003},{"$f":"ROUND((1+Līmeņatzīmes!$AA$4)*Kurināmais!L$303,2)","v":42.76},{"$f":"ROUND((1+Līmeņatzīmes!$AA$4)*Kurināmais!M$303,2)","v":42.76},340.32,305.89999999999998,286.14,272.77999999999997]
["203212",2032,12,361.67,327.25,307.48,294.12,17.07,{"$f":"ROUND((1+Līmeņatzīmes!$AA$4)*Kurināmais!$I$303,2)","v":15.13},{"$f":"ROUND((1+Līmeņatzīmes!$AA$4)*Kurināmais!J$303,2)","v":31.49},{"$f":"ROUND((1+Līmeņatzīmes!$AA$4)*Kurināmais!K$303,2)","v":39.380000000000003},{"$f":"ROUND((1+Līmeņatzīmes!$AA$4)*Kurināmais!L$303,2)","v":42.76},{"$f":"ROUND((1+Līmeņatzīmes!$AA$4)*Kurināmais!M$303,2)","v":42.76},340.32,305.89999999999998,286.14,272.77999999999997]
["20331",2033,1,361.67,327.25,307.48,294.12,{"$f":"H315","v":17.07},{"$f":"ROUND((1+Līmeņatzīmes!$AB$4)*Kurināmais!I$315,2)","v":15.4},{"$f":"ROUND((1+Līmeņatzīmes!$AB$4)*Kurināmais!J$315,2)","v":32.06},{"$f":"ROUND((1+Līmeņatzīmes!$AB$4)*Kurināmais!K$315,2)","v":40.090000000000003},{"$f":"ROUND((1+Līmeņatzīmes!$AB$4)*Kurināmais!L$315,2)","v":43.53},{"$f":"ROUND((1+Līmeņatzīmes!$AB$4)*Kurināmais!M$315,2)","v":43.53},340.32,305.89999999999998,286.14,272.77999999999997]
["20332",2033,2,361.67,327.25,307.48,294.12,17.07,{"$f":"ROUND((1+Līmeņatzīmes!$AB$4)*Kurināmais!$I$315,2)","v":15.4},{"$f":"ROUND((1+Līmeņatzīmes!$AB$4)*Kurināmais!J$315,2)","v":32.06},{"$f":"ROUND((1+Līmeņatzīmes!$AB$4)*Kurināmais!K$315,2)","v":40.090000000000003},{"$f":"ROUND((1+Līmeņatzīmes!$AB$4)*Kurināmais!L$315,2)","v":43.53},{"$f":"ROUND((1+Līmeņatzīmes!$AB$4)*Kurināmais!M$315,2)","v":43.53},340.32,305.89999999999998,286.14,272.77999999999997]
["20333",2033,3,361.67,327.25,307.48,294.12,17.07,{"$f":"ROUND((1+Līmeņatzīmes!$AB$4)*Kurināmais!$I$315,2)","v":15.4},{"$f":"ROUND((1+Līmeņatzīmes!$AB$4)*Kurināmais!J$315,2)","v":32.06},{"$f":"ROUND((1+Līmeņatzīmes!$AB$4)*Kurināmais!K$315,2)","v":40.090000000000003},{"$f":"ROUND((1+Līmeņatzīmes!$AB$4)*Kurināmais!L$315,2)","v":43.53},{"$f":"ROUND((1+Līmeņatzīmes!$AB$4)*Kurināmais!M$315,2)","v":43.53},340.32,305.89999999999998,286.14,272.77999999999997]
["20334",2033,4,361.67,327.25,307.48,294.12,17.07,{"$f":"ROUND((1+Līmeņatzīmes!$AB$4)*Kurināmais!$I$315,2)","v":15.4},{"$f":"ROUND((1+Līmeņatzīmes!$AB$4)*Kurināmais!J$315,2)","v":32.06},{"$f":"ROUND((1+Līmeņatzīmes!$AB$4)*Kurināmais!K$315,2)","v":40.090000000000003},{"$f":"ROUND((1+Līmeņatzīmes!$AB$4)*Kurināmais!L$315,2)","v":43.53},{"$f":"ROUND((1+Līmeņatzīmes!$AB$4)*Kurināmais!M$315,2)","v":43.53},340.32,305.89999999999998,286.14,272.77999999999997]
["20335",2033,5,361.67,327.25,307.48,294.12,17.07,{"$f":"ROUND((1+Līmeņatzīmes!$AB$4)*Kurināmais!$I$315,2)","v":15.4},{"$f":"ROUND((1+Līmeņatzīmes!$AB$4)*Kurināmais!J$315,2)","v":32.06},{"$f":"ROUND((1+Līmeņatzīmes!$AB$4)*Kurināmais!K$315,2)","v":40.090000000000003},{"$f":"ROUND((1+Līmeņatzīmes!$AB$4)*Kurināmais!L$315,2)","v":43.53},{"$f":"ROUND((1+Līmeņatzīmes!$AB$4)*Kurināmais!M$315,2)","v":43.53},340.32,305.89999999999998,286.14,272.77999999999997]
["20336",2033,6,361.67,327.25,307.48,294.12,17.07,{"$f":"ROUND((1+Līmeņatzīmes!$AB$4)*Kurināmais!$I$315,2)","v":15.4},{"$f":"ROUND((1+Līmeņatzīmes!$AB$4)*Kurināmais!J$315,2)","v":32.06},{"$f":"ROUND((1+Līmeņatzīmes!$AB$4)*Kurināmais!K$315,2)","v":40.090000000000003},{"$f":"ROUND((1+Līmeņatzīmes!$AB$4)*Kurināmais!L$315,2)","v":43.53},{"$f":"ROUND((1+Līmeņatzīmes!$AB$4)*Kurināmais!M$315,2)","v":43.53},340.32,305.89999999999998,286.14,272.77999999999997]
["20337",2033,7,361.67,327.25,307.48,294.12,17.07,{"$f":"ROUND((1+Līmeņatzīmes!$AB$4)*Kurināmais!$I$315,2)","v":15.4},{"$f":"ROUND((1+Līmeņatzīmes!$AB$4)*Kurināmais!J$315,2)","v":32.06},{"$f":"ROUND((1+Līmeņatzīmes!$AB$4)*Kurināmais!K$315,2)","v":40.090000000000003},{"$f":"ROUND((1+Līmeņatzīmes!$AB$4)*Kurināmais!L$315,2)","v":43.53},{"$f":"ROUND((1+Līmeņatzīmes!$AB$4)*Kurināmais!M$315,2)","v":43.53},340.32,305.89999999999998,286.14,272.77999999999997]
["20338",2033,8,361.67,327.25,307.48,294.12,17.07,{"$f":"ROUND((1+Līmeņatzīmes!$AB$4)*Kurināmais!$I$315,2)","v":15.4},{"$f":"ROUND((1+Līmeņatzīmes!$AB$4)*Kurināmais!J$315,2)","v":32.06},{"$f":"ROUND((1+Līmeņatzīmes!$AB$4)*Kurināmais!K$315,2)","v":40.090000000000003},{"$f":"ROUND((1+Līmeņatzīmes!$AB$4)*Kurināmais!L$315,2)","v":43.53},{"$f":"ROUND((1+Līmeņatzīmes!$AB$4)*Kurināmais!M$315,2)","v":43.53},340.32,305.89999999999998,286.14,272.77999999999997]
["20339",2033,9,361.67,327.25,307.48,294.12,17.07,{"$f":"ROUND((1+Līmeņatzīmes!$AB$4)*Kurināmais!$I$315,2)","v":15.4},{"$f":"ROUND((1+Līmeņatzīmes!$AB$4)*Kurināmais!J$315,2)","v":32.06},{"$f":"ROUND((1+Līmeņatzīmes!$AB$4)*Kurināmais!K$315,2)","v":40.090000000000003},{"$f":"ROUND((1+Līmeņatzīmes!$AB$4)*Kurināmais!L$315,2)","v":43.53},{"$f":"ROUND((1+Līmeņatzīmes!$AB$4)*Kurināmais!M$315,2)","v":43.53},340.32,305.89999999999998,286.14,272.77999999999997]
["203310",2033,10,361.67,327.25,307.48,294.12,17.07,{"$f":"ROUND((1+Līmeņatzīmes!$AB$4)*Kurināmais!$I$315,2)","v":15.4},{"$f":"ROUND((1+Līmeņatzīmes!$AB$4)*Kurināmais!J$315,2)","v":32.06},{"$f":"ROUND((1+Līmeņatzīmes!$AB$4)*Kurināmais!K$315,2)","v":40.090000000000003},{"$f":"ROUND((1+Līmeņatzīmes!$AB$4)*Kurināmais!L$315,2)","v":43.53},{"$f":"ROUND((1+Līmeņatzīmes!$AB$4)*Kurināmais!M$315,2)","v":43.53},340.32,305.89999999999998,286.14,272.77999999999997]
["203311",2033,11,361.67,327.25,307.48,294.12,17.07,{"$f":"ROUND((1+Līmeņatzīmes!$AB$4)*Kurināmais!$I$315,2)","v":15.4},{"$f":"ROUND((1+Līmeņatzīmes!$AB$4)*Kurināmais!J$315,2)","v":32.06},{"$f":"ROUND((1+Līmeņatzīmes!$AB$4)*Kurināmais!K$315,2)","v":40.090000000000003},{"$f":"ROUND((1+Līmeņatzīmes!$AB$4)*Kurināmais!L$315,2)","v":43.53},{"$f":"ROUND((1+Līmeņatzīmes!$AB$4)*Kurināmais!M$315,2)","v":43.53},340.32,305.89999999999998,286.14,272.77999999999997]
["203312",2033,12,361.67,327.25,307.48,294.12,17.07,{"$f":"ROUND((1+Līmeņatzīmes!$AB$4)*Kurināmais!$I$315,2)","v":15.4},{"$f":"ROUND((1+Līmeņatzīmes!$AB$4)*Kurināmais!J$315,2)","v":32.06},{"$f":"ROUND((1+Līmeņatzīmes!$AB$4)*Kurināmais!K$315,2)","v":40.090000000000003},{"$f":"ROUND((1+Līmeņatzīmes!$AB$4)*Kurināmais!L$315,2)","v":43.53},{"$f":"ROUND((1+Līmeņatzīmes!$AB$4)*Kurināmais!M$315,2)","v":43.53},340.32,305.89999999999998,286.14,272.77999999999997]
["20341",2034,1,361.67,327.25,307.48,294.12,17.07,{"$f":"ROUND((1+Līmeņatzīmes!$AC$4)*Kurināmais!I$327,2)","v":15.68},{"$f":"ROUND((1+Līmeņatzīmes!$AC$4)*Kurināmais!J$327,2)","v":32.64},{"$f":"ROUND((1+Līmeņatzīmes!$AC$4)*Kurināmais!K$327,2)","v":40.81},{"$f":"ROUND((1+Līmeņatzīmes!$AC$4)*Kurināmais!L$327,2)","v":44.31},{"$f":"ROUND((1+Līmeņatzīmes!$AC$4)*Kurināmais!M$327,2)","v":44.31},340.32,305.89999999999998,286.14,272.77999999999997]
["20342",2034,2,361.67,327.25,307.48,294.12,17.07,{"$f":"ROUND((1+Līmeņatzīmes!$AC$4)*Kurināmais!$I$327,2)","v":15.68},{"$f":"ROUND((1+Līmeņatzīmes!$AC$4)*Kurināmais!J$327,2)","v":32.64},{"$f":"ROUND((1+Līmeņatzīmes!$AC$4)*Kurināmais!K$327,2)","v":40.81},{"$f":"ROUND((1+Līmeņatzīmes!$AC$4)*Kurināmais!L$327,2)","v":44.31},{"$f":"ROUND((1+Līmeņatzīmes!$AC$4)*Kurināmais!M$327,2)","v":44.31},340.32,305.89999999999998,286.14,272.77999999999997]
["20343",2034,3,361.67,327.25,307.48,294.12,17.07,{"$f":"ROUND((1+Līmeņatzīmes!$AC$4)*Kurināmais!$I$327,2)","v":15.68},{"$f":"ROUND((1+Līmeņatzīmes!$AC$4)*Kurināmais!J$327,2)","v":32.64},{"$f":"ROUND((1+Līmeņatzīmes!$AC$4)*Kurināmais!K$327,2)","v":40.81},{"$f":"ROUND((1+Līmeņatzīmes!$AC$4)*Kurināmais!L$327,2)","v":44.31},{"$f":"ROUND((1+Līmeņatzīmes!$AC$4)*Kurināmais!M$327,2)","v":44.31},340.32,305.89999999999998,286.14,272.77999999999997]
["20344",2034,4,361.67,327.25,307.48,294.12,17.07,{"$f":"ROUND((1+Līmeņatzīmes!$AC$4)*Kurināmais!$I$327,2)","v":15.68},{"$f":"ROUND((1+Līmeņatzīmes!$AC$4)*Kurināmais!J$327,2)","v":32.64},{"$f":"ROUND((1+Līmeņatzīmes!$AC$4)*Kurināmais!K$327,2)","v":40.81},{"$f":"ROUND((1+Līmeņatzīmes!$AC$4)*Kurināmais!L$327,2)","v":44.31},{"$f":"ROUND((1+Līmeņatzīmes!$AC$4)*Kurināmais!M$327,2)","v":44.31},340.32,305.89999999999998,286.14,272.77999999999997]
["20345",2034,5,361.67,327.25,307.48,294.12,17.07,{"$f":"ROUND((1+Līmeņatzīmes!$AC$4)*Kurināmais!$I$327,2)","v":15.68},{"$f":"ROUND((1+Līmeņatzīmes!$AC$4)*Kurināmais!J$327,2)","v":32.64},{"$f":"ROUND((1+Līmeņatzīmes!$AC$4)*Kurināmais!K$327,2)","v":40.81},{"$f":"ROUND((1+Līmeņatzīmes!$AC$4)*Kurināmais!L$327,2)","v":44.31},{"$f":"ROUND((1+Līmeņatzīmes!$AC$4)*Kurināmais!M$327,2)","v":44.31},340.32,305.89999999999998,286.14,272.77999999999997]
["20346",2034,6,361.67,327.25,307.48,294.12,17.07,{"$f":"ROUND((1+Līmeņatzīmes!$AC$4)*Kurināmais!$I$327,2)","v":15.68},{"$f":"ROUND((1+Līmeņatzīmes!$AC$4)*Kurināmais!J$327,2)","v":32.64},{"$f":"ROUND((1+Līmeņatzīmes!$AC$4)*Kurināmais!K$327,2)","v":40.81},{"$f":"ROUND((1+Līmeņatzīmes!$AC$4)*Kurināmais!L$327,2)","v":44.31},{"$f":"ROUND((1+Līmeņatzīmes!$AC$4)*Kurināmais!M$327,2)","v":44.31},340.32,305.89999999999998,286.14,272.77999999999997]
["20347",2034,7,361.67,327.25,307.48,294.12,17.07,{"$f":"ROUND((1+Līmeņatzīmes!$AC$4)*Kurināmais!$I$327,2)","v":15.68},{"$f":"ROUND((1+Līmeņatzīmes!$AC$4)*Kurināmais!J$327,2)","v":32.64},{"$f":"ROUND((1+Līmeņatzīmes!$AC$4)*Kurināmais!K$327,2)","v":40.81},{"$f":"ROUND((1+Līmeņatzīmes!$AC$4)*Kurināmais!L$327,2)","v":44.31},{"$f":"ROUND((1+Līmeņatzīmes!$AC$4)*Kurināmais!M$327,2)","v":44.31},340.32,305.89999999999998,286.14,272.77999999999997]
["20348",2034,8,361.67,327.25,307.48,294.12,17.07,{"$f":"ROUND((1+Līmeņatzīmes!$AC$4)*Kurināmais!$I$327,2)","v":15.68},{"$f":"ROUND((1+Līmeņatzīmes!$AC$4)*Kurināmais!J$327,2)","v":32.64},{"$f":"ROUND((1+Līmeņatzīmes!$AC$4)*Kurināmais!K$327,2)","v":40.81},{"$f":"ROUND((1+Līmeņatzīmes!$AC$4)*Kurināmais!L$327,2)","v":44.31},{"$f":"ROUND((1+Līmeņatzīmes!$AC$4)*Kurināmais!M$327,2)","v":44.31},340.32,305.89999999999998,286.14,272.77999999999997]
["20349",2034,9,361.67,327.25,307.48,294.12,17.07,{"$f":"ROUND((1+Līmeņatzīmes!$AC$4)*Kurināmais!$I$327,2)","v":15.68},{"$f":"ROUND((1+Līmeņatzīmes!$AC$4)*Kurināmais!J$327,2)","v":32.64},{"$f":"ROUND((1+Līmeņatzīmes!$AC$4)*Kurināmais!K$327,2)","v":40.81},{"$f":"ROUND((1+Līmeņatzīmes!$AC$4)*Kurināmais!L$327,2)","v":44.31},{"$f":"ROUND((1+Līmeņatzīmes!$AC$4)*Kurināmais!M$327,2)","v":44.31},340.32,305.89999999999998,286.14,272.77999999999997]
["203410",2034,10,361.67,327.25,307.48,294.12,17.07,{"$f":"ROUND((1+Līmeņatzīmes!$AC$4)*Kurināmais!$I$327,2)","v":15.68},{"$f":"ROUND((1+Līmeņatzīmes!$AC$4)*Kurināmais!J$327,2)","v":32.64},{"$f":"ROUND((1+Līmeņatzīmes!$AC$4)*Kurināmais!K$327,2)","v":40.81},{"$f":"ROUND((1+Līmeņatzīmes!$AC$4)*Kurināmais!L$327,2)","v":44.31},{"$f":"ROUND((1+Līmeņatzīmes!$AC$4)*Kurināmais!M$327,2)","v":44.31},340.32,305.89999999999998,286.14,272.77999999999997]
["203411",2034,11,361.67,327.25,307.48,294.12,17.07,{"$f":"ROUND((1+Līmeņatzīmes!$AC$4)*Kurināmais!$I$327,2)","v":15.68},{"$f":"ROUND((1+Līmeņatzīmes!$AC$4)*Kurināmais!J$327,2)","v":32.64},{"$f":"ROUND((1+Līmeņatzīmes!$AC$4)*Kurināmais!K$327,2)","v":40.81},{"$f":"ROUND((1+Līmeņatzīmes!$AC$4)*Kurināmais!L$327,2)","v":44.31},{"$f":"ROUND((1+Līmeņatzīmes!$AC$4)*Kurināmais!M$327,2)","v":44.31},340.32,305.89999999999998,286.14,272.77999999999997]
["203412",2034,12,361.67,327.25,307.48,294.12,17.07,{"$f":"ROUND((1+Līmeņatzīmes!$AC$4)*Kurināmais!$I$327,2)","v":15.68},{"$f":"ROUND((1+Līmeņatzīmes!$AC$4)*Kurināmais!J$327,2)","v":32.64},{"$f":"ROUND((1+Līmeņatzīmes!$AC$4)*Kurināmais!K$327,2)","v":40.81},{"$f":"ROUND((1+Līmeņatzīmes!$AC$4)*Kurināmais!L$327,2)","v":44.31},{"$f":"ROUND((1+Līmeņatzīmes!$AC$4)*Kurināmais!M$327,2)","v":44.31},340.32,305.89999999999998,286.14,272.77999999999997]
["20351",2035,1,361.67,327.25,307.48,294.12,17.07,{"$f":"ROUND((1+Līmeņatzīmes!$AD$4)*Kurināmais!I$339,2)","v":15.96},{"$f":"ROUND((1+Līmeņatzīmes!$AD$4)*Kurināmais!J$339,2)","v":33.229999999999997},{"$f":"ROUND((1+Līmeņatzīmes!$AD$4)*Kurināmais!K$339,2)","v":41.54},{"$f":"ROUND((1+Līmeņatzīmes!$AD$4)*Kurināmais!L$339,2)","v":45.11},{"$f":"ROUND((1+Līmeņatzīmes!$AD$4)*Kurināmais!M$339,2)","v":45.11},340.32,305.89999999999998,286.14,272.77999999999997]
["20352",2035,2,361.67,327.25,307.48,294.12,17.07,{"$f":"ROUND((1+Līmeņatzīmes!$AD$4)*Kurināmais!$I$339,2)","v":15.96},{"$f":"ROUND((1+Līmeņatzīmes!$AD$4)*Kurināmais!J$339,2)","v":33.229999999999997},{"$f":"ROUND((1+Līmeņatzīmes!$AD$4)*Kurināmais!K$339,2)","v":41.54},{"$f":"ROUND((1+Līmeņatzīmes!$AD$4)*Kurināmais!L$339,2)","v":45.11},{"$f":"ROUND((1+Līmeņatzīmes!$AD$4)*Kurināmais!M$339,2)","v":45.11},340.32,305.89999999999998,286.14,272.77999999999997]
["20353",2035,3,361.67,327.25,307.48,294.12,17.07,{"$f":"ROUND((1+Līmeņatzīmes!$AD$4)*Kurināmais!$I$339,2)","v":15.96},{"$f":"ROUND((1+Līmeņatzīmes!$AD$4)*Kurināmais!J$339,2)","v":33.229999999999997},{"$f":"ROUND((1+Līmeņatzīmes!$AD$4)*Kurināmais!K$339,2)","v":41.54},{"$f":"ROUND((1+Līmeņatzīmes!$AD$4)*Kurināmais!L$339,2)","v":45.11},{"$f":"ROUND((1+Līmeņatzīmes!$AD$4)*Kurināmais!M$339,2)","v":45.11},340.32,305.89999999999998,286.14,272.77999999999997]
["20354",2035,4,361.67,327.25,307.48,294.12,17.07,{"$f":"ROUND((1+Līmeņatzīmes!$AD$4)*Kurināmais!$I$339,2)","v":15.96},{"$f":"ROUND((1+Līmeņatzīmes!$AD$4)*Kurināmais!J$339,2)","v":33.229999999999997},{"$f":"ROUND((1+Līmeņatzīmes!$AD$4)*Kurināmais!K$339,2)","v":41.54},{"$f":"ROUND((1+Līmeņatzīmes!$AD$4)*Kurināmais!L$339,2)","v":45.11},{"$f":"ROUND((1+Līmeņatzīmes!$AD$4)*Kurināmais!M$339,2)","v":45.11},340.32,305.89999999999998,286.14,272.77999999999997]
["20355",2035,5,361.67,327.25,307.48,294.12,17.07,{"$f":"ROUND((1+Līmeņatzīmes!$AD$4)*Kurināmais!$I$339,2)","v":15.96},{"$f":"ROUND((1+Līmeņatzīmes!$AD$4)*Kurināmais!J$339,2)","v":33.229999999999997},{"$f":"ROUND((1+Līmeņatzīmes!$AD$4)*Kurināmais!K$339,2)","v":41.54},{"$f":"ROUND((1+Līmeņatzīmes!$AD$4)*Kurināmais!L$339,2)","v":45.11},{"$f":"ROUND((1+Līmeņatzīmes!$AD$4)*Kurināmais!M$339,2)","v":45.11},340.32,305.89999999999998,286.14,272.77999999999997]
["20356",2035,6,361.67,327.25,307.48,294.12,17.07,{"$f":"ROUND((1+Līmeņatzīmes!$AD$4)*Kurināmais!$I$339,2)","v":15.96},{"$f":"ROUND((1+Līmeņatzīmes!$AD$4)*Kurināmais!J$339,2)","v":33.229999999999997},{"$f":"ROUND((1+Līmeņatzīmes!$AD$4)*Kurināmais!K$339,2)","v":41.54},{"$f":"ROUND((1+Līmeņatzīmes!$AD$4)*Kurināmais!L$339,2)","v":45.11},{"$f":"ROUND((1+Līmeņatzīmes!$AD$4)*Kurināmais!M$339,2)","v":45.11},340.32,305.89999999999998,286.14,272.77999999999997]
["20357",2035,7,361.67,327.25,307.48,294.12,17.07,{"$f":"ROUND((1+Līmeņatzīmes!$AD$4)*Kurināmais!$I$339,2)","v":15.96},{"$f":"ROUND((1+Līmeņatzīmes!$AD$4)*Kurināmais!J$339,2)","v":33.229999999999997},{"$f":"ROUND((1+Līmeņatzīmes!$AD$4)*Kurināmais!K$339,2)","v":41.54},{"$f":"ROUND((1+Līmeņatzīmes!$AD$4)*Kurināmais!L$339,2)","v":45.11},{"$f":"ROUND((1+Līmeņatzīmes!$AD$4)*Kurināmais!M$339,2)","v":45.11},340.32,305.89999999999998,286.14,272.77999999999997]
["20358",2035,8,361.67,327.25,307.48,294.12,17.07,{"$f":"ROUND((1+Līmeņatzīmes!$AD$4)*Kurināmais!$I$339,2)","v":15.96},{"$f":"ROUND((1+Līmeņatzīmes!$AD$4)*Kurināmais!J$339,2)","v":33.229999999999997},{"$f":"ROUND((1+Līmeņatzīmes!$AD$4)*Kurināmais!K$339,2)","v":41.54},{"$f":"ROUND((1+Līmeņatzīmes!$AD$4)*Kurināmais!L$339,2)","v":45.11},{"$f":"ROUND((1+Līmeņatzīmes!$AD$4)*Kurināmais!M$339,2)","v":45.11},340.32,305.89999999999998,286.14,272.77999999999997]
["20359",2035,9,361.67,327.25,307.48,294.12,17.07,{"$f":"ROUND((1+Līmeņatzīmes!$AD$4)*Kurināmais!$I$339,2)","v":15.96},{"$f":"ROUND((1+Līmeņatzīmes!$AD$4)*Kurināmais!J$339,2)","v":33.229999999999997},{"$f":"ROUND((1+Līmeņatzīmes!$AD$4)*Kurināmais!K$339,2)","v":41.54},{"$f":"ROUND((1+Līmeņatzīmes!$AD$4)*Kurināmais!L$339,2)","v":45.11},{"$f":"ROUND((1+Līmeņatzīmes!$AD$4)*Kurināmais!M$339,2)","v":45.11},340.32,305.89999999999998,286.14,272.77999999999997]
["203510",2035,10,361.67,327.25,307.48,294.12,17.07,{"$f":"ROUND((1+Līmeņatzīmes!$AD$4)*Kurināmais!$I$339,2)","v":15.96},{"$f":"ROUND((1+Līmeņatzīmes!$AD$4)*Kurināmais!J$339,2)","v":33.229999999999997},{"$f":"ROUND((1+Līmeņatzīmes!$AD$4)*Kurināmais!K$339,2)","v":41.54},{"$f":"ROUND((1+Līmeņatzīmes!$AD$4)*Kurināmais!L$339,2)","v":45.11},{"$f":"ROUND((1+Līmeņatzīmes!$AD$4)*Kurināmais!M$339,2)","v":45.11},340.32,305.89999999999998,286.14,272.77999999999997]
["203511",2035,11,361.67,327.25,307.48,294.12,17.07,{"$f":"ROUND((1+Līmeņatzīmes!$AD$4)*Kurināmais!$I$339,2)","v":15.96},{"$f":"ROUND((1+Līmeņatzīmes!$AD$4)*Kurināmais!J$339,2)","v":33.229999999999997},{"$f":"ROUND((1+Līmeņatzīmes!$AD$4)*Kurināmais!K$339,2)","v":41.54},{"$f":"ROUND((1+Līmeņatzīmes!$AD$4)*Kurināmais!L$339,2)","v":45.11},{"$f":"ROUND((1+Līmeņatzīmes!$AD$4)*Kurināmais!M$339,2)","v":45.11},340.32,305.89999999999998,286.14,272.77999999999997]
["203512",2035,12,361.67,327.25,307.48,294.12,17.07,{"$f":"ROUND((1+Līmeņatzīmes!$AD$4)*Kurināmais!$I$339,2)","v":15.96},{"$f":"ROUND((1+Līmeņatzīmes!$AD$4)*Kurināmais!J$339,2)","v":33.229999999999997},{"$f":"ROUND((1+Līmeņatzīmes!$AD$4)*Kurināmais!K$339,2)","v":41.54},{"$f":"ROUND((1+Līmeņatzīmes!$AD$4)*Kurināmais!L$339,2)","v":45.11},{"$f":"ROUND((1+Līmeņatzīmes!$AD$4)*Kurināmais!M$339,2)","v":45.11},340.32,305.89999999999998,286.14,272.77999999999997]
["20361",2036,1,361.66,327.24,307.48,294.12,{"$f":"H351","v":17.07},{"$f":"ROUND((1+Līmeņatzīmes!$AE$4)*Kurināmais!I$351,2)","v":16.25},{"$f":"ROUND((1+Līmeņatzīmes!$AE$4)*Kurināmais!J$351,2)","v":33.83},{"$f":"ROUND((1+Līmeņatzīmes!$AE$4)*Kurināmais!K$351,2)","v":42.29},{"$f":"ROUND((1+Līmeņatzīmes!$AE$4)*Kurināmais!L$351,2)","v":45.92},{"$f":"ROUND((1+Līmeņatzīmes!$AE$4)*Kurināmais!M$351,2)","v":45.92},337.33442974009904,302.91442974009902,283.15442974009903,269.79442974009902]
["20362",2036,2,361.66,327.24,307.48,294.12,17.07,{"$f":"ROUND((1+Līmeņatzīmes!$AE$4)*Kurināmais!$I$351,2)","v":16.25},{"$f":"ROUND((1+Līmeņatzīmes!$AE$4)*Kurināmais!J$351,2)","v":33.83},{"$f":"ROUND((1+Līmeņatzīmes!$AE$4)*Kurināmais!K$351,2)","v":42.29},{"$f":"ROUND((1+Līmeņatzīmes!$AE$4)*Kurināmais!L$351,2)","v":45.92},{"$f":"ROUND((1+Līmeņatzīmes!$AE$4)*Kurināmais!M$351,2)","v":45.92},337.33442974009904,302.91442974009902,283.15442974009903,269.79442974009902]
["20363",2036,3,361.66,327.24,307.48,294.12,17.07,{"$f":"ROUND((1+Līmeņatzīmes!$AE$4)*Kurināmais!$I$351,2)","v":16.25},{"$f":"ROUND((1+Līmeņatzīmes!$AE$4)*Kurināmais!J$351,2)","v":33.83},{"$f":"ROUND((1+Līmeņatzīmes!$AE$4)*Kurināmais!K$351,2)","v":42.29},{"$f":"ROUND((1+Līmeņatzīmes!$AE$4)*Kurināmais!L$351,2)","v":45.92},{"$f":"ROUND((1+Līmeņatzīmes!$AE$4)*Kurināmais!M$351,2)","v":45.92},337.33442974009904,302.91442974009902,283.15442974009903,269.79442974009902]
["20364",2036,4,361.66,327.24,307.48,294.12,17.07,{"$f":"ROUND((1+Līmeņatzīmes!$AE$4)*Kurināmais!$I$351,2)","v":16.25},{"$f":"ROUND((1+Līmeņatzīmes!$AE$4)*Kurināmais!J$351,2)","v":33.83},{"$f":"ROUND((1+Līmeņatzīmes!$AE$4)*Kurināmais!K$351,2)","v":42.29},{"$f":"ROUND((1+Līmeņatzīmes!$AE$4)*Kurināmais!L$351,2)","v":45.92},{"$f":"ROUND((1+Līmeņatzīmes!$AE$4)*Kurināmais!M$351,2)","v":45.92},337.33442974009904,302.91442974009902,283.15442974009903,269.79442974009902]
["20365",2036,5,361.66,327.24,307.48,294.12,17.07,{"$f":"ROUND((1+Līmeņatzīmes!$AE$4)*Kurināmais!$I$351,2)","v":16.25},{"$f":"ROUND((1+Līmeņatzīmes!$AE$4)*Kurināmais!J$351,2)","v":33.83},{"$f":"ROUND((1+Līmeņatzīmes!$AE$4)*Kurināmais!K$351,2)","v":42.29},{"$f":"ROUND((1+Līmeņatzīmes!$AE$4)*Kurināmais!L$351,2)","v":45.92},{"$f":"ROUND((1+Līmeņatzīmes!$AE$4)*Kurināmais!M$351,2)","v":45.92},337.33442974009904,302.91442974009902,283.15442974009903,269.79442974009902]
["20366",2036,6,361.66,327.24,307.48,294.12,17.07,{"$f":"ROUND((1+Līmeņatzīmes!$AE$4)*Kurināmais!$I$351,2)","v":16.25},{"$f":"ROUND((1+Līmeņatzīmes!$AE$4)*Kurināmais!J$351,2)","v":33.83},{"$f":"ROUND((1+Līmeņatzīmes!$AE$4)*Kurināmais!K$351,2)","v":42.29},{"$f":"ROUND((1+Līmeņatzīmes!$AE$4)*Kurināmais!L$351,2)","v":45.92},{"$f":"ROUND((1+Līmeņatzīmes!$AE$4)*Kurināmais!M$351,2)","v":45.92},337.33442974009904,302.91442974009902,283.15442974009903,269.79442974009902]
["20367",2036,7,361.66,327.24,307.48,294.12,17.07,{"$f":"ROUND((1+Līmeņatzīmes!$AE$4)*Kurināmais!$I$351,2)","v":16.25},{"$f":"ROUND((1+Līmeņatzīmes!$AE$4)*Kurināmais!J$351,2)","v":33.83},{"$f":"ROUND((1+Līmeņatzīmes!$AE$4)*Kurināmais!K$351,2)","v":42.29},{"$f":"ROUND((1+Līmeņatzīmes!$AE$4)*Kurināmais!L$351,2)","v":45.92},{"$f":"ROUND((1+Līmeņatzīmes!$AE$4)*Kurināmais!M$351,2)","v":45.92},337.33442974009904,302.91442974009902,283.15442974009903,269.79442974009902]
["20368",2036,8,361.66,327.24,307.48,294.12,17.07,{"$f":"ROUND((1+Līmeņatzīmes!$AE$4)*Kurināmais!$I$351,2)","v":16.25},{"$f":"ROUND((1+Līmeņatzīmes!$AE$4)*Kurināmais!J$351,2)","v":33.83},{"$f":"ROUND((1+Līmeņatzīmes!$AE$4)*Kurināmais!K$351,2)","v":42.29},{"$f":"ROUND((1+Līmeņatzīmes!$AE$4)*Kurināmais!L$351,2)","v":45.92},{"$f":"ROUND((1+Līmeņatzīmes!$AE$4)*Kurināmais!M$351,2)","v":45.92},337.33442974009904,302.91442974009902,283.15442974009903,269.79442974009902]
["20369",2036,9,361.66,327.24,307.48,294.12,17.07,{"$f":"ROUND((1+Līmeņatzīmes!$AE$4)*Kurināmais!$I$351,2)","v":16.25},{"$f":"ROUND((1+Līmeņatzīmes!$AE$4)*Kurināmais!J$351,2)","v":33.83},{"$f":"ROUND((1+Līmeņatzīmes!$AE$4)*Kurināmais!K$351,2)","v":42.29},{"$f":"ROUND((1+Līmeņatzīmes!$AE$4)*Kurināmais!L$351,2)","v":45.92},{"$f":"ROUND((1+Līmeņatzīmes!$AE$4)*Kurināmais!M$351,2)","v":45.92},337.33442974009904,302.91442974009902,283.15442974009903,269.79442974009902]
["203610",2036,10,361.66,327.24,307.48,294.12,17.07,{"$f":"ROUND((1+Līmeņatzīmes!$AE$4)*Kurināmais!$I$351,2)","v":16.25},{"$f":"ROUND((1+Līmeņatzīmes!$AE$4)*Kurināmais!J$351,2)","v":33.83},{"$f":"ROUND((1+Līmeņatzīmes!$AE$4)*Kurināmais!K$351,2)","v":42.29},{"$f":"ROUND((1+Līmeņatzīmes!$AE$4)*Kurināmais!L$351,2)","v":45.92},{"$f":"ROUND((1+Līmeņatzīmes!$AE$4)*Kurināmais!M$351,2)","v":45.92},337.33442974009904,302.91442974009902,283.15442974009903,269.79442974009902]
["203611",2036,11,361.66,327.24,307.48,294.12,17.07,{"$f":"ROUND((1+Līmeņatzīmes!$AE$4)*Kurināmais!$I$351,2)","v":16.25},{"$f":"ROUND((1+Līmeņatzīmes!$AE$4)*Kurināmais!J$351,2)","v":33.83},{"$f":"ROUND((1+Līmeņatzīmes!$AE$4)*Kurināmais!K$351,2)","v":42.29},{"$f":"ROUND((1+Līmeņatzīmes!$AE$4)*Kurināmais!L$351,2)","v":45.92},{"$f":"ROUND((1+Līmeņatzīmes!$AE$4)*Kurināmais!M$351,2)","v":45.92},337.33442974009904,302.91442974009902,283.15442974009903,269.79442974009902]
["203612",2036,12,361.66,327.24,307.48,294.12,17.07,{"$f":"ROUND((1+Līmeņatzīmes!$AE$4)*Kurināmais!$I$351,2)","v":16.25},{"$f":"ROUND((1+Līmeņatzīmes!$AE$4)*Kurināmais!J$351,2)","v":33.83},{"$f":"ROUND((1+Līmeņatzīmes!$AE$4)*Kurināmais!K$351,2)","v":42.29},{"$f":"ROUND((1+Līmeņatzīmes!$AE$4)*Kurināmais!L$351,2)","v":45.92},{"$f":"ROUND((1+Līmeņatzīmes!$AE$4)*Kurināmais!M$351,2)","v":45.92},337.33442974009904,302.91442974009902,283.15442974009903,269.79442974009902]
["20371",2037,1,361.66,327.24,307.48,294.12,17.07,{"$f":"ROUND((1+Līmeņatzīmes!$AF$4)*Kurināmais!I$363,2)","v":16.54},{"$f":"ROUND((1+Līmeņatzīmes!$AF$4)*Kurināmais!J$363,2)","v":34.44},{"$f":"ROUND((1+Līmeņatzīmes!$AF$4)*Kurināmais!K$363,2)","v":43.05},{"$f":"ROUND((1+Līmeņatzīmes!$AF$4)*Kurināmais!L$363,2)","v":46.75},{"$f":"ROUND((1+Līmeņatzīmes!$AF$4)*Kurināmais!M$363,2)","v":46.75},337.33442974009904,302.91442974009902,283.15442974009903,269.79442974009902]
["20372",2037,2,361.66,327.24,307.48,294.12,17.07,{"$f":"ROUND((1+Līmeņatzīmes!$AF$4)*Kurināmais!$I$363,2)","v":16.54},{"$f":"ROUND((1+Līmeņatzīmes!$AF$4)*Kurināmais!J$363,2)","v":34.44},{"$f":"ROUND((1+Līmeņatzīmes!$AF$4)*Kurināmais!K$363,2)","v":43.05},{"$f":"ROUND((1+Līmeņatzīmes!$AF$4)*Kurināmais!L$363,2)","v":46.75},{"$f":"ROUND((1+Līmeņatzīmes!$AF$4)*Kurināmais!M$363,2)","v":46.75},337.33442974009904,302.91442974009902,283.15442974009903,269.79442974009902]
["20373",2037,3,361.66,327.24,307.48,294.12,17.07,{"$f":"ROUND((1+Līmeņatzīmes!$AF$4)*Kurināmais!$I$363,2)","v":16.54},{"$f":"ROUND((1+Līmeņatzīmes!$AF$4)*Kurināmais!J$363,2)","v":34.44},{"$f":"ROUND((1+Līmeņatzīmes!$AF$4)*Kurināmais!K$363,2)","v":43.05},{"$f":"ROUND((1+Līmeņatzīmes!$AF$4)*Kurināmais!L$363,2)","v":46.75},{"$f":"ROUND((1+Līmeņatzīmes!$AF$4)*Kurināmais!M$363,2)","v":46.75},337.33442974009904,302.91442974009902,283.15442974009903,269.79442974009902]
["20374",2037,4,361.66,327.24,307.48,294.12,17.07,{"$f":"ROUND((1+Līmeņatzīmes!$AF$4)*Kurināmais!$I$363,2)","v":16.54},{"$f":"ROUND((1+Līmeņatzīmes!$AF$4)*Kurināmais!J$363,2)","v":34.44},{"$f":"ROUND((1+Līmeņatzīmes!$AF$4)*Kurināmais!K$363,2)","v":43.05},{"$f":"ROUND((1+Līmeņatzīmes!$AF$4)*Kurināmais!L$363,2)","v":46.75},{"$f":"ROUND((1+Līmeņatzīmes!$AF$4)*Kurināmais!M$363,2)","v":46.75},337.33442974009904,302.91442974009902,283.15442974009903,269.79442974009902]
["20375",2037,5,361.66,327.24,307.48,294.12,17.07,{"$f":"ROUND((1+Līmeņatzīmes!$AF$4)*Kurināmais!$I$363,2)","v":16.54},{"$f":"ROUND((1+Līmeņatzīmes!$AF$4)*Kurināmais!J$363,2)","v":34.44},{"$f":"ROUND((1+Līmeņatzīmes!$AF$4)*Kurināmais!K$363,2)","v":43.05},{"$f":"ROUND((1+Līmeņatzīmes!$AF$4)*Kurināmais!L$363,2)","v":46.75},{"$f":"ROUND((1+Līmeņatzīmes!$AF$4)*Kurināmais!M$363,2)","v":46.75},337.33442974009904,302.91442974009902,283.15442974009903,269.79442974009902]
["20376",2037,6,361.66,327.24,307.48,294.12,17.07,{"$f":"ROUND((1+Līmeņatzīmes!$AF$4)*Kurināmais!$I$363,2)","v":16.54},{"$f":"ROUND((1+Līmeņatzīmes!$AF$4)*Kurināmais!J$363,2)","v":34.44},{"$f":"ROUND((1+Līmeņatzīmes!$AF$4)*Kurināmais!K$363,2)","v":43.05},{"$f":"ROUND((1+Līmeņatzīmes!$AF$4)*Kurināmais!L$363,2)","v":46.75},{"$f":"ROUND((1+Līmeņatzīmes!$AF$4)*Kurināmais!M$363,2)","v":46.75},337.33442974009904,302.91442974009902,283.15442974009903,269.79442974009902]
["20377",2037,7,361.66,327.24,307.48,294.12,17.07,{"$f":"ROUND((1+Līmeņatzīmes!$AF$4)*Kurināmais!$I$363,2)","v":16.54},{"$f":"ROUND((1+Līmeņatzīmes!$AF$4)*Kurināmais!J$363,2)","v":34.44},{"$f":"ROUND((1+Līmeņatzīmes!$AF$4)*Kurināmais!K$363,2)","v":43.05},{"$f":"ROUND((1+Līmeņatzīmes!$AF$4)*Kurināmais!L$363,2)","v":46.75},{"$f":"ROUND((1+Līmeņatzīmes!$AF$4)*Kurināmais!M$363,2)","v":46.75},337.33442974009904,302.91442974009902,283.15442974009903,269.79442974009902]
["20378",2037,8,361.66,327.24,307.48,294.12,17.07,{"$f":"ROUND((1+Līmeņatzīmes!$AF$4)*Kurināmais!$I$363,2)","v":16.54},{"$f":"ROUND((1+Līmeņatzīmes!$AF$4)*Kurināmais!J$363,2)","v":34.44},{"$f":"ROUND((1+Līmeņatzīmes!$AF$4)*Kurināmais!K$363,2)","v":43.05},{"$f":"ROUND((1+Līmeņatzīmes!$AF$4)*Kurināmais!L$363,2)","v":46.75},{"$f":"ROUND((1+Līmeņatzīmes!$AF$4)*Kurināmais!M$363,2)","v":46.75},337.33442974009904,302.91442974009902,283.15442974009903,269.79442974009902]
["20379",2037,9,361.66,327.24,307.48,294.12,17.07,{"$f":"ROUND((1+Līmeņatzīmes!$AF$4)*Kurināmais!$I$363,2)","v":16.54},{"$f":"ROUND((1+Līmeņatzīmes!$AF$4)*Kurināmais!J$363,2)","v":34.44},{"$f":"ROUND((1+Līmeņatzīmes!$AF$4)*Kurināmais!K$363,2)","v":43.05},{"$f":"ROUND((1+Līmeņatzīmes!$AF$4)*Kurināmais!L$363,2)","v":46.75},{"$f":"ROUND((1+Līmeņatzīmes!$AF$4)*Kurināmais!M$363,2)","v":46.75},337.33442974009904,302.91442974009902,283.15442974009903,269.79442974009902]
["203710",2037,10,361.66,327.24,307.48,294.12,17.07,{"$f":"ROUND((1+Līmeņatzīmes!$AF$4)*Kurināmais!$I$363,2)","v":16.54},{"$f":"ROUND((1+Līmeņatzīmes!$AF$4)*Kurināmais!J$363,2)","v":34.44},{"$f":"ROUND((1+Līmeņatzīmes!$AF$4)*Kurināmais!K$363,2)","v":43.05},{"$f":"ROUND((1+Līmeņatzīmes!$AF$4)*Kurināmais!L$363,2)","v":46.75},{"$f":"ROUND((1+Līmeņatzīmes!$AF$4)*Kurināmais!M$363,2)","v":46.75},337.33442974009904,302.91442974009902,283.15442974009903,269.79442974009902]
["203711",2037,11,361.66,327.24,307.48,294.12,17.07,{"$f":"ROUND((1+Līmeņatzīmes!$AF$4)*Kurināmais!$I$363,2)","v":16.54},{"$f":"ROUND((1+Līmeņatzīmes!$AF$4)*Kurināmais!J$363,2)","v":34.44},{"$f":"ROUND((1+Līmeņatzīmes!$AF$4)*Kurināmais!K$363,2)","v":43.05},{"$f":"ROUND((1+Līmeņatzīmes!$AF$4)*Kurināmais!L$363,2)","v":46.75},{"$f":"ROUND((1+Līmeņatzīmes!$AF$4)*Kurināmais!M$363,2)","v":46.75},337.33442974009904,302.91442974009902,283.15442974009903,269.79442974009902]
[{"$f":"B375&C375","v":"203712"},2037,12,361.66,327.24,307.48,294.12,17.07,{"$f":"ROUND((1+Līmeņatzīmes!$AF$4)*Kurināmais!$I$363,2)","v":16.54},{"$f":"ROUND((1+Līmeņatzīmes!$AF$4)*Kurināmais!J$363,2)","v":34.44},{"$f":"ROUND((1+Līmeņatzīmes!$AF$4)*Kurināmais!K$363,2)","v":43.05},{"$f":"ROUND((1+Līmeņatzīmes!$AF$4)*Kurināmais!L$363,2)","v":46.75},{"$f":"ROUND((1+Līmeņatzīmes!$AF$4)*Kurināmais!M$363,2)","v":46.75},337.33442974009904,302.91442974009902,283.15442974009903,269.79442974009902]

{"sheet":"k_koef","index":4,"n_rows":22333,"n_cols":2,"rows_kept":22333,"cut":false,"hidden":true,"merged":[]}
["Uzstādītā jauda","VES, VES, Biomasa"]
[0,1.24]
[1E-4,1.24]
[2.0000000000000001E-4,1.24]
[2.9999999999999997E-4,1.24]
[4.0000000000000002E-4,1.24]
[5.0000000000000001E-4,1.24]
[5.9999999999999995E-4,1.24]
[6.9999999999999999E-4,1.24]
[8.0000000000000004E-4,1.24]
[8.9999999999999998E-4,1.24]
[1E-3,1.24]
[1.1000000000000001E-3,1.24]
[1.1999999999999999E-3,1.24]
[1.2999999999999999E-3,1.24]
[1.4E-3,1.24]
[1.5E-3,1.24]
[1.6000000000000001E-3,1.24]
[1.6999999999999999E-3,1.24]
[1.8E-3,1.24]
[1.9E-3,1.24]
[2E-3,1.24]
[2.0999999999999999E-3,1.24]
[2.2000000000000001E-3,1.24]
[2.3E-3,1.24]
[2.3999999999999998E-3,1.24]
[2.5000000000000001E-3,1.24]
[2.5999999999999999E-3,1.24]
[2.7000000000000001E-3,1.24]
[2.8E-3,1.24]
[2.8999999999999998E-3,1.24]
[3.0000000000000001E-3,1.24]
[3.0999999999999999E-3,1.24]
[3.2000000000000002E-3,1.24]
[3.3E-3,1.24]
[3.3999999999999998E-3,1.24]
[3.5000000000000001E-3,1.24]
[3.5999999999999999E-3,1.24]
[3.7000000000000002E-3,1.24]
[3.8E-3,1.24]
[3.8999999999999998E-3,1.24]
[4.0000000000000001E-3,1.24]
[4.1000000000000003E-3,1.24]
[4.1999999999999997E-3,1.24]
[4.3E-3,1.24]
[4.4000000000000003E-3,1.24]
[4.4999999999999997E-3,1.24]
[4.5999999999999999E-3,1.24]
[4.7000000000000002E-3,1.24]
[4.7999999999999996E-3,1.24]
[4.8999999999999998E-3,1.24]
[5.0000000000000001E-3,1.24]
[5.1000000000000004E-3,1.24]
[5.1999999999999998E-3,1.24]
[5.3E-3,1.24]
[5.4000000000000003E-3,1.24]
[5.4999999999999997E-3,1.24]
[5.5999999999999999E-3,1.24]
[5.7000000000000002E-3,1.24]
[5.7999999999999996E-3,1.24]
[5.8999999999999999E-3,1.24]
[6.0000000000000001E-3,1.24]
[6.1000000000000004E-3,1.24]
[6.1999999999999998E-3,1.24]
[6.3E-3,1.24]
[6.4000000000000003E-3,1.24]
[6.4999999999999997E-3,1.24]
[6.6E-3,1.24]
[6.7000000000000002E-3,1.24]
[6.7999999999999996E-3,1.24]
[6.8999999999999999E-3,1.24]
[7.0000000000000001E-3,1.24]
[7.1000000000000004E-3,1.24]
[7.1999999999999998E-3,1.24]
[7.3000000000000001E-3,1.24]
[7.4000000000000003E-3,1.24]
[7.4999999999999997E-3,1.24]
[7.6E-3,1.24]
[7.7000000000000002E-3,1.24]
[7.7999999999999996E-3,1.24]
[7.9000000000000008E-3,1.24]
[8.0000000000000002E-3,1.24]
[8.0999999999999996E-3,1.24]
[8.2000000000000007E-3,1.24]
[8.3000000000000001E-3,1.24]
[8.3999999999999995E-3,1.24]
[8.5000000000000006E-3,1.24]
[8.6E-3,1.24]
[8.6999999999999994E-3,1.24]
[8.8000000000000005E-3,1.24]
[8.8999999999999999E-3,1.24]
[8.9999999999999993E-3,1.24]
[9.1000000000000004E-3,1.24]
[9.1999999999999998E-3,1.24]
[9.2999999999999992E-3,1.24]
[9.4000000000000004E-3,1.24]
[9.4999999999999998E-3,1.24]
[9.5999999999999992E-3,1.24]
[9.7000000000000003E-3,1.24]
[9.7999999999999997E-3,1.24]
[9.9000000000000008E-3,1.24]
[0.01,1.24]
[1.01E-2,1.24]
[1.0200000000000001E-2,1.24]
[1.03E-2,1.24]
[1.04E-2,1.24]
[1.0500000000000001E-2,1.24]
[1.06E-2,1.24]
[1.0699999999999999E-2,1.24]
[1.0800000000000001E-2,1.24]
[1.09E-2,1.24]
[1.0999999999999999E-2,1.24]
[1.11E-2,1.24]
[1.12E-2,1.24]
[1.1299999999999999E-2,1.24]
[1.14E-2,1.24]
[1.15E-2,1.24]
[1.1599999999999999E-2,1.24]
[1.17E-2,1.24]
[1.18E-2,1.24]
[1.1900000000000001E-2,1.24]
[1.2E-2,1.24]
[1.21E-2,1.24]
[1.2200000000000001E-2,1.24]
[1.23E-2,1.24]
[1.24E-2,1.24]
[1.2500000000000001E-2,1.24]
[1.26E-2,1.24]
[1.2699999999999999E-2,1.24]
[1.2800000000000001E-2,1.24]
[1.29E-2,1.24]
[1.2999999999999999E-2,1.24]
[1.3100000000000001E-2,1.24]
[1.32E-2,1.24]
[1.3299999999999999E-2,1.24]
[1.34E-2,1.24]
[1.35E-2,1.24]
[1.3599999999999999E-2,1.24]
[1.37E-2,1.24]
[1.38E-2,1.24]
[1.3899999999999999E-2,1.24]
[1.4E-2,1.24]
[1.41E-2,1.24]
[1.4200000000000001E-2,1.24]
[1.43E-2,1.24]
[1.44E-2,1.24]
[1.4500000000000001E-2,1.24]
[1.46E-2,1.24]
[1.47E-2,1.24]
[1.4800000000000001E-2,1.24]
[1.49E-2,1.24]
[1.4999999999999999E-2,1.24]
[1.5100000000000001E-2,1.24]
[1.52E-2,1.24]
[1.5299999999999999E-2,1.24]
[1.54E-2,1.24]
[1.55E-2,1.24]
[1.5599999999999999E-2,1.24]
[1.5699999999999999E-2,1.24]
[1.5800000000000002E-2,1.24]
[1.5900000000000001E-2,1.24]
[1.6E-2,1.24]
[1.61E-2,1.24]
[1.6199999999999999E-2,1.24]
[1.6299999999999999E-2,1.24]
[1.6400000000000001E-2,1.24]
[1.6500000000000001E-2,1.24]
[1.66E-2,1.24]
[1.67E-2,1.24]
[1.6799999999999999E-2,1.24]
[1.6899999999999998E-2,1.24]
[1.7000000000000001E-2,1.24]
[1.7100000000000001E-2,1.24]
[1.72E-2,1.24]
[1.7299999999999999E-2,1.24]
[1.7399999999999999E-2,1.24]
[1.7500000000000002E-2,1.24]
[1.7600000000000001E-2,1.24]
[1.77E-2,1.24]
[1.78E-2,1.24]
[1.7899999999999999E-2,1.24]
[1.7999999999999999E-2,1.24]
[1.8100000000000002E-2,1.24]
[1.8200000000000001E-2,1.24]
[1.83E-2,1.24]
[1.84E-2,1.24]
[1.8499999999999999E-2,1.24]
[1.8599999999999998E-2,1.24]
[1.8700000000000001E-2,1.24]
[1.8800000000000001E-2,1.24]
[1.89E-2,1.24]
[1.9E-2,1.24]
[1.9099999999999999E-2,1.24]
[1.9199999999999998E-2,1.24]
[1.9300000000000001E-2,1.24]
[1.9400000000000001E-2,1.24]
[1.95E-2,1.24]
[1.9599999999999999E-2,1.24]
[1.9699999999999999E-2,1.24]
[1.9800000000000002E-2,1.24]
[1.9900000000000001E-2,1.24]
[0.02,1.24]
[2.01E-2,1.24]
[2.0199999999999999E-2,1.24]
[2.0299999999999999E-2,1.24]
[2.0400000000000001E-2,1.24]
[2.0500000000000001E-2,1.24]
[2.06E-2,1.24]
[2.07E-2,1.24]
[2.0799999999999999E-2,1.24]
[2.0899999999999998E-2,1.24]
[2.1000000000000001E-2,1.24]
[2.1100000000000001E-2,1.24]
[2.12E-2,1.24]
[2.1299999999999999E-2,1.24]
[2.1399999999999999E-2,1.24]
[2.1499999999999998E-2,1.24]
[2.1600000000000001E-2,1.24]
[2.1700000000000001E-2,1.24]
[2.18E-2,1.24]
[2.1899999999999999E-2,1.24]
[2.1999999999999999E-2,1.24]
[2.2100000000000002E-2,1.24]
[2.2200000000000001E-2,1.24]
[2.23E-2,1.24]
[2.24E-2,1.24]
[2.2499999999999999E-2,1.24]
[2.2599999999999999E-2,1.24]
[2.2700000000000001E-2,1.24]
[2.2800000000000001E-2,1.24]
[2.29E-2,1.24]
[2.3E-2,1.24]
[2.3099999999999999E-2,1.24]
[2.3199999999999998E-2,1.24]
[2.3300000000000001E-2,1.24]
[2.3400000000000001E-2,1.24]
[2.35E-2,1.24]
[2.3599999999999999E-2,1.24]
[2.3699999999999999E-2,1.24]
[2.3800000000000002E-2,1.24]
[2.3900000000000001E-2,1.24]
[2.4E-2,1.24]
[2.41E-2,1.24]
[2.4199999999999999E-2,1.24]
[2.4299999999999999E-2,1.24]
[2.4400000000000002E-2,1.24]
[2.4500000000000001E-2,1.24]
[2.46E-2,1.24]
[2.47E-2,1.24]
[2.4799999999999999E-2,1.24]
[2.4899999999999999E-2,1.24]
[2.5000000000000001E-2,1.24]
[2.5100000000000001E-2,1.24]
[2.52E-2,1.24]
[2.53E-2,1.24]
[2.5399999999999999E-2,1.24]
[2.5499999999999998E-2,1.24]
[2.5600000000000001E-2,1.24]
[2.5700000000000001E-2,1.24]
[2.58E-2,1.24]
[2.5899999999999999E-2,1.24]
[2.5999999999999999E-2,1.24]
[2.6100000000000002E-2,1.24]
[2.6200000000000001E-2,1.24]
[2.63E-2,1.24]
[2.64E-2,1.24]
[2.6499999999999999E-2,1.24]
[2.6599999999999999E-2,1.24]
[2.6700000000000002E-2,1.24]
[2.6800000000000001E-2,1.24]
[2.69E-2,1.24]
[2.7E-2,1.24]
[2.7099999999999999E-2,1.24]
[2.7199999999999998E-2,1.24]
[2.7300000000000001E-2,1.24]
[2.7400000000000001E-2,1.24]
[2.75E-2,1.24]
[2.76E-2,1.24]
[2.7699999999999999E-2,1.24]
[2.7799999999999998E-2,1.24]
[2.7900000000000001E-2,1.24]
[2.8000000000000001E-2,1.24]
[2.81E-2,1.24]
[2.8199999999999999E-2,1.24]
[2.8299999999999999E-2,1.24]
[2.8400000000000002E-2,1.24]
[2.8500000000000001E-2,1.24]
[2.86E-2,1.24]
[2.87E-2,1.24]
[2.8799999999999999E-2,1.24]
[2.8899999999999999E-2,1.24]
[2.9000000000000001E-2,1.24]
[2.9100000000000001E-2,1.24]
[2.92E-2,1.24]
[2.93E-2,1.24]
[2.9399999999999999E-2,1.24]
[2.9499999999999998E-2,1.24]
[2.9600000000000001E-2,1.24]
[2.9700000000000001E-2,1.24]
[2.98E-2,1.24]
[2.9899999999999999E-2,1.24]
[0.03,1.24]
[3.0099999999999998E-2,1.24]
[3.0200000000000001E-2,1.24]
[3.0300000000000001E-2,1.24]
[3.04E-2,1.24]
[3.0499999999999999E-2,1.24]
[3.0599999999999999E-2,1.24]
[3.0700000000000002E-2,1.24]
[3.0800000000000001E-2,1.24]
[3.09E-2,1.24]
[3.1E-2,1.24]
[3.1099999999999999E-2,1.24]
[3.1199999999999999E-2,1.24]
[3.1300000000000001E-2,1.24]
[3.1399999999999997E-2,1.24]
[3.15E-2,1.24]
[3.1600000000000003E-2,1.24]
[3.1699999999999999E-2,1.24]
[3.1800000000000002E-2,1.24]
[3.1899999999999998E-2,1.24]
[3.2000000000000001E-2,1.24]
[3.2099999999999997E-2,1.24]
[3.2199999999999999E-2,1.24]
[3.2300000000000002E-2,1.24]
[3.2399999999999998E-2,1.24]
[3.2500000000000001E-2,1.24]
[3.2599999999999997E-2,1.24]
[3.27E-2,1.24]
[3.2800000000000003E-2,1.24]
[3.2899999999999999E-2,1.24]
[3.3000000000000002E-2,1.24]
[3.3099999999999997E-2,1.24]
[3.32E-2,1.24]
[3.3300000000000003E-2,1.24]
[3.3399999999999999E-2,1.24]
[3.3500000000000002E-2,1.24]
[3.3599999999999998E-2,1.24]
[3.3700000000000001E-2,1.24]
[3.3799999999999997E-2,1.24]
[3.39E-2,1.24]
[3.4000000000000002E-2,1.24]
[3.4099999999999998E-2,1.24]
[3.4200000000000001E-2,1.24]
[3.4299999999999997E-2,1.24]
[3.44E-2,1.24]
[3.4500000000000003E-2,1.24]
[3.4599999999999999E-2,1.24]
[3.4700000000000002E-2,1.24]
[3.4799999999999998E-2,1.24]
[3.49E-2,1.24]
[3.5000000000000003E-2,1.24]
[3.5099999999999999E-2,1.24]
[3.5200000000000002E-2,1.24]
[3.5299999999999998E-2,1.24]
[3.5400000000000001E-2,1.24]
[3.5499999999999997E-2,1.24]
[3.56E-2,1.24]
[3.5700000000000003E-2,1.24]
[3.5799999999999998E-2,1.24]
[3.5900000000000001E-2,1.24]
[3.5999999999999997E-2,1.24]
[3.61E-2,1.24]
[3.6200000000000003E-2,1.24]
[3.6299999999999999E-2,1.24]
[3.6400000000000002E-2,1.24]
[3.6499999999999998E-2,1.24]
[3.6600000000000001E-2,1.24]
[3.6700000000000003E-2,1.24]
[3.6799999999999999E-2,1.24]
[3.6900000000000002E-2,1.24]
[3.6999999999999998E-2,1.24]
[3.7100000000000001E-2,1.24]
[3.7199999999999997E-2,1.24]
[3.73E-2,1.24]
[3.7400000000000003E-2,1.24]
[3.7499999999999999E-2,1.24]
[3.7600000000000001E-2,1.24]
[3.7699999999999997E-2,1.24]
[3.78E-2,1.24]
[3.7900000000000003E-2,1.24]
[3.7999999999999999E-2,1.24]
[3.8100000000000002E-2,1.24]
[3.8199999999999998E-2,1.24]
[3.8300000000000001E-2,1.24]
[3.8399999999999997E-2,1.24]
[3.85E-2,1.24]
[3.8600000000000002E-2,1.24]
[3.8699999999999998E-2,1.24]
[3.8800000000000001E-2,1.24]
[3.8899999999999997E-2,1.24]
[3.9E-2,1.24]
[3.9100000000000003E-2,1.24]
[3.9199999999999999E-2,1.24]
[3.9300000000000002E-2,1.24]
[3.9399999999999998E-2,1.24]
[3.95E-2,1.24]
[3.9600000000000003E-2,1.24]
[3.9699999999999999E-2,1.24]
[3.9800000000000002E-2,1.24]
[3.9899999999999998E-2,1.24]
[0.04,1.24]
[4.0099999999999997E-2,1.24]
[4.02E-2,1.24]
[4.0300000000000002E-2,1.24]
[4.0399999999999998E-2,1.24]
[4.0500000000000001E-2,1.24]
[4.0599999999999997E-2,1.24]
[4.07E-2,1.24]
[4.0800000000000003E-2,1.24]
[4.0899999999999999E-2,1.24]
[4.1000000000000002E-2,1.24]
[4.1099999999999998E-2,1.24]
[4.1200000000000001E-2,1.24]
[4.1300000000000003E-2,1.24]
[4.1399999999999999E-2,1.24]
[4.1500000000000002E-2,1.24]
[4.1599999999999998E-2,1.24]
[4.1700000000000001E-2,1.24]
[4.1799999999999997E-2,1.24]
[4.19E-2,1.24]
[4.2000000000000003E-2,1.24]
[4.2099999999999999E-2,1.24]
[4.2200000000000001E-2,1.24]
[4.2299999999999997E-2,1.24]
[4.24E-2,1.24]
[4.2500000000000003E-2,1.24]
[4.2599999999999999E-2,1.24]
[4.2700000000000002E-2,1.24]
[4.2799999999999998E-2,1.24]
[4.2900000000000001E-2,1.24]
[4.2999999999999997E-2,1.24]
[4.3099999999999999E-2,1.24]
[4.3200000000000002E-2,1.24]
[4.3299999999999998E-2,1.24]
[4.3400000000000001E-2,1.24]
[4.3499999999999997E-2,1.24]
[4.36E-2,1.24]
[4.3700000000000003E-2,1.24]
[4.3799999999999999E-2,1.24]
[4.3900000000000002E-2,1.24]
[4.3999999999999997E-2,1.24]
[4.41E-2,1.24]
[4.4200000000000003E-2,1.24]
[4.4299999999999999E-2,1.24]
[4.4400000000000002E-2,1.24]
[4.4499999999999998E-2,1.24]
[4.4600000000000001E-2,1.24]
[4.4699999999999997E-2,1.24]
[4.48E-2,1.24]
[4.4900000000000002E-2,1.24]
[4.4999999999999998E-2,1.24]
[4.5100000000000001E-2,1.24]
[4.5199999999999997E-2,1.24]
[4.53E-2,1.24]
[4.5400000000000003E-2,1.24]
[4.5499999999999999E-2,1.24]
[4.5600000000000002E-2,1.24]
[4.5699999999999998E-2,1.24]
[4.58E-2,1.24]
[4.5900000000000003E-2,1.24]
[4.5999999999999999E-2,1.24]
[4.6100000000000002E-2,1.24]
[4.6199999999999998E-2,1.24]
[4.6300000000000001E-2,1.24]
[4.6399999999999997E-2,1.24]
[4.65E-2,1.24]
[4.6600000000000003E-2,1.24]
[4.6699999999999998E-2,1.24]
[4.6800000000000001E-2,1.24]
[4.6899999999999997E-2,1.24]
[4.7E-2,1.24]
[4.7100000000000003E-2,1.24]
[4.7199999999999999E-2,1.24]
[4.7300000000000002E-2,1.24]
[4.7399999999999998E-2,1.24]
[4.7500000000000001E-2,1.24]
[4.7600000000000003E-2,1.24]
[4.7699999999999999E-2,1.24]
[4.7800000000000002E-2,1.24]
[4.7899999999999998E-2,1.24]
[4.8000000000000001E-2,1.24]
[4.8099999999999997E-2,1.24]
[4.82E-2,1.24]
[4.8300000000000003E-2,1.24]
[4.8399999999999999E-2,1.24]
[4.8500000000000001E-2,1.24]
[4.8599999999999997E-2,1.24]
[4.87E-2,1.24]
[4.8800000000000003E-2,1.24]
[4.8899999999999999E-2,1.24]
[4.9000000000000002E-2,1.24]
[4.9099999999999998E-2,1.24]
[4.9200000000000001E-2,1.24]
[4.9299999999999997E-2,1.24]
[4.9399999999999999E-2,1.24]
[4.9500000000000002E-2,1.24]
[4.9599999999999998E-2,1.24]
[4.9700000000000001E-2,1.24]
[4.9799999999999997E-2,1.24]
[4.99E-2,1.24]
[0.05,1.24]
[5.0099999999999999E-2,1.24]
[5.0200000000000002E-2,1.24]
[5.0299999999999997E-2,1.24]
[5.04E-2,1.24]
[5.0500000000000003E-2,1.24]
[5.0599999999999999E-2,1.24]
[5.0700000000000002E-2,1.24]
[5.0799999999999998E-2,1.24]
[5.0900000000000001E-2,1.24]
[5.0999999999999997E-2,1.24]
[5.11E-2,1.24]
[5.1200000000000002E-2,1.24]
[5.1299999999999998E-2,1.24]
[5.1400000000000001E-2,1.24]
[5.1499999999999997E-2,1.24]
[5.16E-2,1.24]
[5.1700000000000003E-2,1.24]
[5.1799999999999999E-2,1.24]
[5.1900000000000002E-2,1.24]
[5.1999999999999998E-2,1.24]
[5.21E-2,1.24]
[5.2200000000000003E-2,1.24]
[5.2299999999999999E-2,1.24]
[5.2400000000000002E-2,1.24]
[5.2499999999999998E-2,1.24]
[5.2600000000000001E-2,1.24]
[5.2699999999999997E-2,1.24]
[5.28E-2,1.24]
[5.2900000000000003E-2,1.24]
[5.2999999999999999E-2,1.24]
[5.3100000000000001E-2,1.24]
[5.3199999999999997E-2,1.24]
[5.33E-2,1.24]
[5.3400000000000003E-2,1.24]
[5.3499999999999999E-2,1.24]
[5.3600000000000002E-2,1.24]
[5.3699999999999998E-2,1.24]
[5.3800000000000001E-2,1.24]
[5.3900000000000003E-2,1.24]
[5.3999999999999999E-2,1.24]
[5.4100000000000002E-2,1.24]
[5.4199999999999998E-2,1.24]
[5.4300000000000001E-2,1.24]
[5.4399999999999997E-2,1.24]
[5.45E-2,1.24]
[5.4600000000000003E-2,1.24]
[5.4699999999999999E-2,1.24]
[5.4800000000000001E-2,1.24]
[5.4899999999999997E-2,1.24]
[5.5E-2,1.24]
[5.5100000000000003E-2,1.24]
[5.5199999999999999E-2,1.24]
[5.5300000000000002E-2,1.24]
[5.5399999999999998E-2,1.24]
[5.5500000000000001E-2,1.24]
[5.5599999999999997E-2,1.24]
[5.57E-2,1.24]
[5.5800000000000002E-2,1.24]
[5.5899999999999998E-2,1.24]
[5.6000000000000001E-2,1.24]
[5.6099999999999997E-2,1.24]
[5.62E-2,1.24]
[5.6300000000000003E-2,1.24]
[5.6399999999999999E-2,1.24]
[5.6500000000000002E-2,1.24]
[5.6599999999999998E-2,1.24]
[5.67E-2,1.24]
[5.6800000000000003E-2,1.24]
[5.6899999999999999E-2,1.24]
[5.7000000000000002E-2,1.24]
[5.7099999999999998E-2,1.24]
[5.7200000000000001E-2,1.24]
[5.7299999999999997E-2,1.24]
[5.74E-2,1.24]
[5.7500000000000002E-2,1.24]
[5.7599999999999998E-2,1.24]
[5.7700000000000001E-2,1.24]
[5.7799999999999997E-2,1.24]
[5.79E-2,1.24]
[5.8000000000000003E-2,1.24]
[5.8099999999999999E-2,1.24]
[5.8200000000000002E-2,1.24]
[5.8299999999999998E-2,1.24]
[5.8400000000000001E-2,1.24]
[5.8500000000000003E-2,1.24]
[5.8599999999999999E-2,1.24]
[5.8700000000000002E-2,1.24]
[5.8799999999999998E-2,1.24]
[5.8900000000000001E-2,1.24]
[5.8999999999999997E-2,1.24]
[5.91E-2,1.24]
[5.9200000000000003E-2,1.24]
[5.9299999999999999E-2,1.24]
[5.9400000000000001E-2,1.24]
[5.9499999999999997E-2,1.24]
[5.96E-2,1.24]
[5.9700000000000003E-2,1.24]
[5.9799999999999999E-2,1.24]
[5.9900000000000002E-2,1.24]
[0.06,1.24]
[6.0100000000000001E-2,1.24]
[6.0199999999999997E-2,1.24]
[6.0299999999999999E-2,1.24]
[6.0400000000000002E-2,1.24]
[6.0499999999999998E-2,1.24]
[6.0600000000000001E-2,1.24]
[6.0699999999999997E-2,1.24]
[6.08E-2,1.24]
[6.0900000000000003E-2,1.24]
[6.0999999999999999E-2,1.24]
[6.1100000000000002E-2,1.24]
[6.1199999999999997E-2,1.24]
[6.13E-2,1.24]
[6.1400000000000003E-2,1.24]
[6.1499999999999999E-2,1.24]
[6.1600000000000002E-2,1.24]
[6.1699999999999998E-2,1.24]
[6.1800000000000001E-2,1.24]
[6.1899999999999997E-2,1.24]
[6.2E-2,1.24]
[6.2100000000000002E-2,1.24]
[6.2199999999999998E-2,1.24]
[6.2300000000000001E-2,1.24]
[6.2399999999999997E-2,1.24]
[6.25E-2,1.24]
[6.2600000000000003E-2,1.24]
[6.2700000000000006E-2,1.24]
[6.2799999999999995E-2,1.24]
[6.2899999999999998E-2,1.24]
[6.3E-2,1.24]
[6.3100000000000003E-2,1.24]
[6.3200000000000006E-2,1.24]
[6.3299999999999995E-2,1.24]
[6.3399999999999998E-2,1.24]
[6.3500000000000001E-2,1.24]
[6.3600000000000004E-2,1.24]
[6.3700000000000007E-2,1.24]
[6.3799999999999996E-2,1.24]
[6.3899999999999998E-2,1.24]
[6.4000000000000001E-2,1.24]
[6.4100000000000004E-2,1.24]
[6.4199999999999993E-2,1.24]
[6.4299999999999996E-2,1.24]
[6.4399999999999999E-2,1.24]
[6.4500000000000002E-2,1.24]
[6.4600000000000005E-2,1.24]
[6.4699999999999994E-2,1.24]
[6.4799999999999996E-2,1.24]
[6.4899999999999999E-2,1.24]
[6.5000000000000002E-2,1.24]
[6.5100000000000005E-2,1.24]
[6.5199999999999994E-2,1.24]
[6.5299999999999997E-2,1.24]
[6.54E-2,1.24]
[6.5500000000000003E-2,1.24]
[6.5600000000000006E-2,1.24]
[6.5699999999999995E-2,1.24]
[6.5799999999999997E-2,1.24]
[6.59E-2,1.24]
[6.6000000000000003E-2,1.24]
[6.6100000000000006E-2,1.24]
[6.6199999999999995E-2,1.24]
[6.6299999999999998E-2,1.24]
[6.6400000000000001E-2,1.24]
[6.6500000000000004E-2,1.24]
[6.6600000000000006E-2,1.24]
[6.6699999999999995E-2,1.24]
[6.6799999999999998E-2,1.24]
[6.6900000000000001E-2,1.24]
[6.7000000000000004E-2,1.24]
[6.7100000000000007E-2,1.24]
[6.7199999999999996E-2,1.24]
[6.7299999999999999E-2,1.24]
[6.7400000000000002E-2,1.24]
[6.7500000000000004E-2,1.24]
[6.7599999999999993E-2,1.24]
[6.7699999999999996E-2,1.24]
[6.7799999999999999E-2,1.24]
[6.7900000000000002E-2,1.24]
[6.8000000000000005E-2,1.24]
[6.8099999999999994E-2,1.24]
[6.8199999999999997E-2,1.24]
[6.83E-2,1.24]
[6.8400000000000002E-2,1.24]
[6.8500000000000005E-2,1.24]
[6.8599999999999994E-2,1.24]
[6.8699999999999997E-2,1.24]
[6.88E-2,1.24]
[6.8900000000000003E-2,1.24]
[6.9000000000000006E-2,1.24]
[6.9099999999999995E-2,1.24]
[6.9199999999999998E-2,1.24]
[6.93E-2,1.24]
[6.9400000000000003E-2,1.24]
[6.9500000000000006E-2,1.24]
[6.9599999999999995E-2,1.24]
[6.9699999999999998E-2,1.24]
[6.9800000000000001E-2,1.24]
[6.9900000000000004E-2,1.24]
[7.0000000000000007E-2,1.24]
[7.0099999999999996E-2,1.24]
[7.0199999999999999E-2,1.24]
[7.0300000000000001E-2,1.24]
[7.0400000000000004E-2,1.24]
[7.0499999999999993E-2,1.24]
[7.0599999999999996E-2,1.24]
[7.0699999999999999E-2,1.24]
[7.0800000000000002E-2,1.24]
[7.0900000000000005E-2,1.24]
[7.0999999999999994E-2,1.24]
[7.1099999999999997E-2,1.24]
[7.1199999999999999E-2,1.24]
[7.1300000000000002E-2,1.24]
[7.1400000000000005E-2,1.24]
[7.1499999999999994E-2,1.24]
[7.1599999999999997E-2,1.24]
[7.17E-2,1.24]
[7.1800000000000003E-2,1.24]
[7.1900000000000006E-2,1.24]
[7.1999999999999995E-2,1.24]
[7.2099999999999997E-2,1.24]
[7.22E-2,1.24]
[7.2300000000000003E-2,1.24]
[7.2400000000000006E-2,1.24]
[7.2499999999999995E-2,1.24]
[7.2599999999999998E-2,1.24]
[7.2700000000000001E-2,1.24]
[7.2800000000000004E-2,1.24]
[7.2900000000000006E-2,1.24]
[7.2999999999999995E-2,1.24]
[7.3099999999999998E-2,1.24]
[7.3200000000000001E-2,1.24]
[7.3300000000000004E-2,1.24]
[7.3400000000000007E-2,1.24]
[7.3499999999999996E-2,1.24]
[7.3599999999999999E-2,1.24]
[7.3700000000000002E-2,1.24]
[7.3800000000000004E-2,1.24]
[7.3899999999999993E-2,1.24]
[7.3999999999999996E-2,1.24]
[7.4099999999999999E-2,1.24]
[7.4200000000000002E-2,1.24]
[7.4300000000000005E-2,1.24]
[7.4399999999999994E-2,1.24]
[7.4499999999999997E-2,1.24]
[7.46E-2,1.24]
[7.4700000000000003E-2,1.24]
[7.4800000000000005E-2,1.24]
[7.4899999999999994E-2,1.24]
[7.4999999999999997E-2,1.24]
[7.51E-2,1.24]
[7.5200000000000003E-2,1.24]
[7.5300000000000006E-2,1.24]
[7.5399999999999995E-2,1.24]
[7.5499999999999998E-2,1.24]
[7.5600000000000001E-2,1.24]
[7.5700000000000003E-2,1.24]
[7.5800000000000006E-2,1.24]
[7.5899999999999995E-2,1.24]
[7.5999999999999998E-2,1.24]
[7.6100000000000001E-2,1.24]
[7.6200000000000004E-2,1.24]
[7.6300000000000007E-2,1.24]
[7.6399999999999996E-2,1.24]
[7.6499999999999999E-2,1.24]
[7.6600000000000001E-2,1.24]
[7.6700000000000004E-2,1.24]
[7.6799999999999993E-2,1.24]
[7.6899999999999996E-2,1.24]
[7.6999999999999999E-2,1.24]
[7.7100000000000002E-2,1.24]
[7.7200000000000005E-2,1.24]
[7.7299999999999994E-2,1.24]
[7.7399999999999997E-2,1.24]
[7.7499999999999999E-2,1.24]
[7.7600000000000002E-2,1.24]
[7.7700000000000005E-2,1.24]
[7.7799999999999994E-2,1.24]
[7.7899999999999997E-2,1.24]
[7.8E-2,1.24]
[7.8100000000000003E-2,1.24]
[7.8200000000000006E-2,1.24]
[7.8299999999999995E-2,1.24]
[7.8399999999999997E-2,1.24]
[7.85E-2,1.24]
[7.8600000000000003E-2,1.24]
[7.8700000000000006E-2,1.24]
[7.8799999999999995E-2,1.24]
[7.8899999999999998E-2,1.24]
[7.9000000000000001E-2,1.24]
[7.9100000000000004E-2,1.24]
[7.9200000000000007E-2,1.24]
[7.9299999999999995E-2,1.24]
[7.9399999999999998E-2,1.24]
[7.9500000000000001E-2,1.24]
[7.9600000000000004E-2,1.24]
[7.9699999999999993E-2,1.24]
[7.9799999999999996E-2,1.24]
[7.9899999999999999E-2,1.24]
[0.08,1.24]
[8.0100000000000005E-2,1.2310000000000001]
[8.0199999999999994E-2,1.2310000000000001]
[8.0299999999999996E-2,1.2310000000000001]
[8.0399999999999999E-2,1.2310000000000001]
[8.0500000000000002E-2,1.2310000000000001]
[8.0600000000000005E-2,1.2310000000000001]
[8.0699999999999994E-2,1.2310000000000001]
[8.0799999999999997E-2,1.2310000000000001]
[8.09E-2,1.2310000000000001]
[8.1000000000000003E-2,1.2310000000000001]
[8.1100000000000005E-2,1.2310000000000001]
[8.1199999999999994E-2,1.2310000000000001]
[8.1299999999999997E-2,1.2310000000000001]
[8.14E-2,1.2310000000000001]
[8.1500000000000003E-2,1.2310000000000001]
[8.1600000000000006E-2,1.2310000000000001]
[8.1699999999999995E-2,1.2310000000000001]
[8.1799999999999998E-2,1.2310000000000001]
[8.1900000000000001E-2,1.2310000000000001]
[8.2000000000000003E-2,1.2310000000000001]
[8.2100000000000006E-2,1.2310000000000001]
[8.2199999999999995E-2,1.2310000000000001]
[8.2299999999999998E-2,1.2310000000000001]
[8.2400000000000001E-2,1.2310000000000001]
[8.2500000000000004E-2,1.2310000000000001]
[8.2600000000000007E-2,1.2310000000000001]
[8.2699999999999996E-2,1.2310000000000001]
[8.2799999999999999E-2,1.2310000000000001]
[8.2900000000000001E-2,1.2310000000000001]
[8.3000000000000004E-2,1.2310000000000001]
[8.3099999999999993E-2,1.2310000000000001]
[8.3199999999999996E-2,1.2310000000000001]
[8.3299999999999999E-2,1.2310000000000001]
[8.3400000000000002E-2,1.2310000000000001]
[8.3500000000000005E-2,1.2310000000000001]
[8.3599999999999994E-2,1.2310000000000001]
[8.3699999999999997E-2,1.2310000000000001]
[8.3799999999999999E-2,1.2310000000000001]
[8.3900000000000002E-2,1.2310000000000001]
[8.4000000000000005E-2,1.2310000000000001]
[8.4099999999999994E-2,1.2310000000000001]
[8.4199999999999997E-2,1.2310000000000001]
[8.43E-2,1.2310000000000001]
[8.4400000000000003E-2,1.2310000000000001]
[8.4500000000000006E-2,1.2310000000000001]
[8.4599999999999995E-2,1.2310000000000001]
[8.4699999999999998E-2,1.2310000000000001]
[8.48E-2,1.2310000000000001]
[8.4900000000000003E-2,1.2310000000000001]
[8.5000000000000006E-2,1.2310000000000001]
[8.5099999999999995E-2,1.2310000000000001]
[8.5199999999999998E-2,1.2310000000000001]
[8.5300000000000001E-2,1.2310000000000001]
[8.5400000000000004E-2,1.2310000000000001]
[8.5500000000000007E-2,1.2310000000000001]
[8.5599999999999996E-2,1.2310000000000001]
[8.5699999999999998E-2,1.2310000000000001]
[8.5800000000000001E-2,1.2310000000000001]
[8.5900000000000004E-2,1.2310000000000001]
[8.5999999999999993E-2,1.2310000000000001]
[8.6099999999999996E-2,1.2310000000000001]
[8.6199999999999999E-2,1.2310000000000001]
[8.6300000000000002E-2,1.2310000000000001]
[8.6400000000000005E-2,1.2310000000000001]
[8.6499999999999994E-2,1.2310000000000001]
[8.6599999999999996E-2,1.2310000000000001]
[8.6699999999999999E-2,1.2310000000000001]
[8.6800000000000002E-2,1.2310000000000001]
[8.6900000000000005E-2,1.2310000000000001]
[8.6999999999999994E-2,1.2310000000000001]
[8.7099999999999997E-2,1.2310000000000001]
[8.72E-2,1.2310000000000001]
[8.7300000000000003E-2,1.2310000000000001]
[8.7400000000000005E-2,1.2310000000000001]
[8.7499999999999994E-2,1.2310000000000001]
[8.7599999999999997E-2,1.2310000000000001]
[8.77E-2,1.2310000000000001]
[8.7800000000000003E-2,1.2310000000000001]
[8.7900000000000006E-2,1.2310000000000001]
[8.7999999999999995E-2,1.2310000000000001]
[8.8099999999999998E-2,1.2310000000000001]
[8.8200000000000001E-2,1.2310000000000001]
[8.8300000000000003E-2,1.2310000000000001]
[8.8400000000000006E-2,1.2310000000000001]
[8.8499999999999995E-2,1.2310000000000001]
[8.8599999999999998E-2,1.2310000000000001]
[8.8700000000000001E-2,1.2310000000000001]
[8.8800000000000004E-2,1.2310000000000001]
[8.8900000000000007E-2,1.2310000000000001]
[8.8999999999999996E-2,1.2310000000000001]
[8.9099999999999999E-2,1.2310000000000001]
[8.9200000000000002E-2,1.2310000000000001]
[8.9300000000000004E-2,1.2310000000000001]
[8.9399999999999993E-2,1.2310000000000001]
[8.9499999999999996E-2,1.2310000000000001]
[8.9599999999999999E-2,1.2310000000000001]
[8.9700000000000002E-2,1.2310000000000001]
[8.9800000000000005E-2,1.2310000000000001]
[8.9899999999999994E-2,1.2310000000000001]
[0.09,1.2310000000000001]
[9.01E-2,1.2310000000000001]
[9.0200000000000002E-2,1.2310000000000001]
[9.0300000000000005E-2,1.2310000000000001]
[9.0399999999999994E-2,1.2310000000000001]
[9.0499999999999997E-2,1.2310000000000001]
[9.06E-2,1.2310000000000001]
[9.0700000000000003E-2,1.2310000000000001]
[9.0800000000000006E-2,1.2310000000000001]
[9.0899999999999995E-2,1.2310000000000001]
[9.0999999999999998E-2,1.2310000000000001]
[9.11E-2,1.2310000000000001]
[9.1200000000000003E-2,1.2310000000000001]
[9.1300000000000006E-2,1.2310000000000001]
[9.1399999999999995E-2,1.2310000000000001]
[9.1499999999999998E-2,1.2310000000000001]
[9.1600000000000001E-2,1.2310000000000001]
[9.1700000000000004E-2,1.2310000000000001]
[9.1800000000000007E-2,1.2310000000000001]
[9.1899999999999996E-2,1.2310000000000001]
[9.1999999999999998E-2,1.2310000000000001]
[9.2100000000000001E-2,1.2310000000000001]
[9.2200000000000004E-2,1.2310000000000001]
[9.2299999999999993E-2,1.2310000000000001]
[9.2399999999999996E-2,1.2310000000000001]
[9.2499999999999999E-2,1.2310000000000001]
[9.2600000000000002E-2,1.2310000000000001]
[9.2700000000000005E-2,1.2310000000000001]
[9.2799999999999994E-2,1.2310000000000001]
[9.2899999999999996E-2,1.2310000000000001]
[9.2999999999999999E-2,1.2310000000000001]
[9.3100000000000002E-2,1.2310000000000001]
[9.3200000000000005E-2,1.2310000000000001]
[9.3299999999999994E-2,1.2310000000000001]
[9.3399999999999997E-2,1.2310000000000001]
[9.35E-2,1.2310000000000001]
[9.3600000000000003E-2,1.2310000000000001]
[9.3700000000000006E-2,1.2310000000000001]
[9.3799999999999994E-2,1.2310000000000001]
[9.3899999999999997E-2,1.2310000000000001]
[9.4E-2,1.2310000000000001]
[9.4100000000000003E-2,1.2310000000000001]
[9.4200000000000006E-2,1.2310000000000001]
[9.4299999999999995E-2,1.2310000000000001]
[9.4399999999999998E-2,1.2310000000000001]
[9.4500000000000001E-2,1.2310000000000001]
[9.4600000000000004E-2,1.2310000000000001]
[9.4700000000000006E-2,1.2310000000000001]
[9.4799999999999995E-2,1.2310000000000001]
[9.4899999999999998E-2,1.2310000000000001]
[9.5000000000000001E-2,1.2310000000000001]
[9.5100000000000004E-2,1.2310000000000001]
[9.5200000000000007E-2,1.2310000000000001]
[9.5299999999999996E-2,1.2310000000000001]
[9.5399999999999999E-2,1.2310000000000001]
[9.5500000000000002E-2,1.2310000000000001]
[9.5600000000000004E-2,1.2310000000000001]
[9.5699999999999993E-2,1.2310000000000001]
[9.5799999999999996E-2,1.2310000000000001]
[9.5899999999999999E-2,1.2310000000000001]
[9.6000000000000002E-2,1.2310000000000001]
[9.6100000000000005E-2,1.2310000000000001]
[9.6199999999999994E-2,1.2310000000000001]
[9.6299999999999997E-2,1.2310000000000001]
[9.64E-2,1.2310000000000001]
[9.6500000000000002E-2,1.2310000000000001]
[9.6600000000000005E-2,1.2310000000000001]
[9.6699999999999994E-2,1.2310000000000001]
[9.6799999999999997E-2,1.2310000000000001]
[9.69E-2,1.2310000000000001]
[9.7000000000000003E-2,1.2310000000000001]
[9.7100000000000006E-2,1.2310000000000001]
[9.7199999999999995E-2,1.2310000000000001]
[9.7299999999999998E-2,1.2310000000000001]
[9.74E-2,1.2310000000000001]
[9.7500000000000003E-2,1.2310000000000001]
[9.7600000000000006E-2,1.2310000000000001]
[9.7699999999999995E-2,1.2310000000000001]
[9.7799999999999998E-2,1.2310000000000001]
[9.7900000000000001E-2,1.2310000000000001]
[9.8000000000000004E-2,1.2310000000000001]
[9.8100000000000007E-2,1.2310000000000001]
[9.8199999999999996E-2,1.2310000000000001]
[9.8299999999999998E-2,1.2310000000000001]
[9.8400000000000001E-2,1.2310000000000001]
[9.8500000000000004E-2,1.2310000000000001]
[9.8599999999999993E-2,1.2310000000000001]
[9.8699999999999996E-2,1.2310000000000001]
[9.8799999999999999E-2,1.2310000000000001]
[9.8900000000000002E-2,1.2310000000000001]
[9.9000000000000005E-2,1.2310000000000001]
[9.9099999999999994E-2,1.2310000000000001]
[9.9199999999999997E-2,1.2310000000000001]
[9.9299999999999999E-2,1.2310000000000001]
[9.9400000000000002E-2,1.2310000000000001]
[9.9500000000000005E-2,1.2310000000000001]
[9.9599999999999994E-2,1.2310000000000001]
[9.9699999999999997E-2,1.2310000000000001]
[9.98E-2,1.2310000000000001]
[9.9900000000000003E-2,1.2310000000000001]
[0.1,1.2310000000000001]
[0.10009999999999999,1.2310000000000001]
[0.1002,1.2310000000000001]
[0.1003,1.2310000000000001]
[0.1004,1.2310000000000001]
[0.10050000000000001,1.2310000000000001]
[0.10059999999999999,1.2310000000000001]
[0.1007,1.2310000000000001]
[0.1008,1.2310000000000001]
[0.1009,1.2310000000000001]
[0.10100000000000001,1.2310000000000001]
[0.1011,1.2310000000000001]
[0.1012,1.2310000000000001]
[0.1013,1.2310000000000001]
[0.1014,1.2310000000000001]
[0.10150000000000001,1.2310000000000001]
[0.1016,1.2310000000000001]
[0.1017,1.2310000000000001]
[0.1018,1.2310000000000001]
[0.1019,1.2310000000000001]
[0.10199999999999999,1.2310000000000001]
[0.1021,1.2310000000000001]
[0.1022,1.2310000000000001]
[0.1023,1.2310000000000001]
[0.1024,1.2310000000000001]
[0.10249999999999999,1.2310000000000001]
[0.1026,1.2310000000000001]
[0.1027,1.2310000000000001]
[0.1028,1.2310000000000001]
[0.10290000000000001,1.2310000000000001]
[0.10299999999999999,1.2310000000000001]
[0.1031,1.2310000000000001]
[0.1032,1.2310000000000001]
[0.1033,1.2310000000000001]
[0.10340000000000001,1.2310000000000001]
[0.10349999999999999,1.2310000000000001]
[0.1036,1.2310000000000001]
[0.1037,1.2310000000000001]
[0.1038,1.2310000000000001]
[0.10390000000000001,1.2310000000000001]
[0.104,1.2310000000000001]
[0.1041,1.2310000000000001]
[0.1042,1.2310000000000001]
[0.1043,1.2310000000000001]
[0.10440000000000001,1.2310000000000001]
[0.1045,1.2310000000000001]
[0.1046,1.2310000000000001]
[0.1047,1.2310000000000001]
[0.1048,1.2310000000000001]
[0.10489999999999999,1.2310000000000001]
[0.105,1.2310000000000001]
[0.1051,1.2310000000000001]
[0.1052,1.2310000000000001]
[0.1053,1.2310000000000001]
[0.10539999999999999,1.2310000000000001]
[0.1055,1.2310000000000001]
[0.1056,1.2310000000000001]
[0.1057,1.2310000000000001]
[0.10580000000000001,1.2310000000000001]
[0.10589999999999999,1.2310000000000001]
[0.106,1.2310000000000001]
[0.1061,1.2310000000000001]
[0.1062,1.2310000000000001]
[0.10630000000000001,1.2310000000000001]
[0.10639999999999999,1.2310000000000001]
[0.1065,1.2310000000000001]
[0.1066,1.2310000000000001]
[0.1067,1.2310000000000001]
[0.10680000000000001,1.2310000000000001]
[0.1069,1.2310000000000001]
[0.107,1.2310000000000001]
[0.1071,1.2310000000000001]
[0.1072,1.2310000000000001]
[0.10730000000000001,1.2310000000000001]
[0.1074,1.2310000000000001]
[0.1075,1.2310000000000001]
[0.1076,1.2310000000000001]
[0.1077,1.2310000000000001]
[0.10780000000000001,1.2310000000000001]
[0.1079,1.2310000000000001]
[0.108,1.2310000000000001]
[0.1081,1.2310000000000001]
[0.1082,1.2310000000000001]
[0.10829999999999999,1.2310000000000001]
[0.1084,1.2310000000000001]
[0.1085,1.2310000000000001]
[0.1086,1.2310000000000001]
[0.1087,1.2310000000000001]
[0.10879999999999999,1.2310000000000001]
[0.1089,1.2310000000000001]
[0.109,1.2310000000000001]
[0.1091,1.2310000000000001]
[0.10920000000000001,1.2310000000000001]
[0.10929999999999999,1.2310000000000001]
[0.1094,1.2310000000000001]
[0.1095,1.2310000000000001]
[0.1096,1.2310000000000001]
[0.10970000000000001,1.2310000000000001]
[0.10979999999999999,1.2310000000000001]
[0.1099,1.2310000000000001]
[0.11,1.2310000000000001]
[0.1101,1.2310000000000001]
[0.11020000000000001,1.2310000000000001]
[0.1103,1.2310000000000001]
[0.1104,1.2310000000000001]
[0.1105,1.2310000000000001]
[0.1106,1.2310000000000001]
[0.11070000000000001,1.2310000000000001]
[0.1108,1.2310000000000001]
[0.1109,1.2310000000000001]
[0.111,1.2310000000000001]
[0.1111,1.2310000000000001]
[0.11119999999999999,1.2310000000000001]
[0.1113,1.2310000000000001]
[0.1114,1.2310000000000001]
[0.1115,1.2310000000000001]
[0.1116,1.2310000000000001]
[0.11169999999999999,1.2310000000000001]
[0.1118,1.2310000000000001]
[0.1119,1.2310000000000001]
[0.112,1.2310000000000001]
[0.11210000000000001,1.2310000000000001]
[0.11219999999999999,1.2310000000000001]
[0.1123,1.2310000000000001]
[0.1124,1.2310000000000001]
[0.1125,1.2310000000000001]
[0.11260000000000001,1.2310000000000001]
[0.11269999999999999,1.2310000000000001]
[0.1128,1.2310000000000001]
[0.1129,1.2310000000000001]
[0.113,1.2310000000000001]
[0.11310000000000001,1.2310000000000001]
[0.1132,1.2310000000000001]
[0.1133,1.2310000000000001]
[0.1134,1.2310000000000001]
[0.1135,1.2310000000000001]
[0.11360000000000001,1.2310000000000001]
[0.1137,1.2310000000000001]
[0.1138,1.2310000000000001]
[0.1139,1.2310000000000001]
[0.114,1.2310000000000001]
[0.11409999999999999,1.2310000000000001]
[0.1142,1.2310000000000001]
[0.1143,1.2310000000000001]
[0.1144,1.2310000000000001]
[0.1145,1.2310000000000001]
[0.11459999999999999,1.2310000000000001]
[0.1147,1.2310000000000001]
[0.1148,1.2310000000000001]
[0.1149,1.2310000000000001]
[0.115,1.2310000000000001]
[0.11509999999999999,1.2310000000000001]
[0.1152,1.2310000000000001]
[0.1153,1.2310000000000001]
[0.1154,1.2310000000000001]
[0.11550000000000001,1.2310000000000001]
[0.11559999999999999,1.2310000000000001]
[0.1157,1.2310000000000001]
[0.1158,1.2310000000000001]
[0.1159,1.2310000000000001]
[0.11600000000000001,1.2310000000000001]
[0.11609999999999999,1.2310000000000001]
[0.1162,1.2310000000000001]
[0.1163,1.2310000000000001]
[0.1164,1.2310000000000001]
[0.11650000000000001,1.2310000000000001]
[0.1166,1.2310000000000001]
[0.1167,1.2310000000000001]
[0.1168,1.2310000000000001]
[0.1169,1.2310000000000001]
[0.11700000000000001,1.2310000000000001]
[0.1171,1.2310000000000001]
[0.1172,1.2310000000000001]
[0.1173,1.2310000000000001]
[0.1174,1.2310000000000001]
[0.11749999999999999,1.2310000000000001]
[0.1176,1.2310000000000001]
[0.1177,1.2310000000000001]
[0.1178,1.2310000000000001]
[0.1179,1.2310000000000001]
[0.11799999999999999,1.2310000000000001]
[0.1181,1.2310000000000001]
[0.1182,1.2310000000000001]
[0.1183,1.2310000000000001]
[0.11840000000000001,1.2310000000000001]
[0.11849999999999999,1.2310000000000001]
[0.1186,1.2310000000000001]
[0.1187,1.2310000000000001]
[0.1188,1.2310000000000001]
[0.11890000000000001,1.2310000000000001]
[0.11899999999999999,1.2310000000000001]
[0.1191,1.2310000000000001]
[0.1192,1.2310000000000001]
[0.1193,1.2310000000000001]
[0.11940000000000001,1.2310000000000001]
[0.1195,1.2310000000000001]
[0.1196,1.2310000000000001]
[0.1197,1.2310000000000001]
[0.1198,1.2310000000000001]
[0.11990000000000001,1.2310000000000001]
[0.12,1.2310000000000001]
[0.1201,1.2310000000000001]
[0.1202,1.2310000000000001]
[0.1203,1.2310000000000001]
[0.12039999999999999,1.2310000000000001]
[0.1205,1.2310000000000001]
[0.1206,1.2310000000000001]
[0.1207,1.2310000000000001]
[0.1208,1.2310000000000001]
[0.12089999999999999,1.2310000000000001]
[0.121,1.2310000000000001]
[0.1211,1.2310000000000001]
[0.1212,1.2310000000000001]
[0.12130000000000001,1.2310000000000001]
[0.12139999999999999,1.2310000000000001]
[0.1215,1.2310000000000001]
[0.1216,1.2310000000000001]
[0.1217,1.2310000000000001]
[0.12180000000000001,1.2310000000000001]
[0.12189999999999999,1.2310000000000001]
[0.122,1.2310000000000001]
[0.1221,1.2310000000000001]
[0.1222,1.2310000000000001]
[0.12230000000000001,1.2310000000000001]
[0.12239999999999999,1.2310000000000001]
[0.1225,1.2310000000000001]
[0.1226,1.2310000000000001]
[0.1227,1.2310000000000001]
[0.12280000000000001,1.2310000000000001]
[0.1229,1.2310000000000001]
[0.123,1.2310000000000001]
[0.1231,1.2310000000000001]
[0.1232,1.2310000000000001]
[0.12330000000000001,1.2310000000000001]
[0.1234,1.2310000000000001]
[0.1235,1.2310000000000001]
[0.1236,1.2310000000000001]
[0.1237,1.2310000000000001]
[0.12379999999999999,1.2310000000000001]
[0.1239,1.2310000000000001]
[0.124,1.2310000000000001]
[0.1241,1.2310000000000001]
[0.1242,1.2310000000000001]
[0.12429999999999999,1.2310000000000001]
[0.1244,1.2310000000000001]
[0.1245,1.2310000000000001]
[0.1246,1.2310000000000001]
[0.12470000000000001,1.2310000000000001]
[0.12479999999999999,1.2310000000000001]
[0.1249,1.2310000000000001]
[0.125,1.2310000000000001]
[0.12509999999999999,1.2310000000000001]
[0.12520000000000001,1.2310000000000001]
[0.12529999999999999,1.2310000000000001]
[0.12540000000000001,1.2310000000000001]
[0.1255,1.2310000000000001]
[0.12559999999999999,1.2310000000000001]
[0.12570000000000001,1.2310000000000001]
[0.1258,1.2310000000000001]
[0.12590000000000001,1.2310000000000001]
[0.126,1.2310000000000001]
[0.12609999999999999,1.2310000000000001]
[0.12620000000000001,1.2310000000000001]
[0.1263,1.2310000000000001]
[0.12640000000000001,1.2310000000000001]
[0.1265,1.2310000000000001]
[0.12659999999999999,1.2310000000000001]
[0.12670000000000001,1.2310000000000001]
[0.1268,1.2310000000000001]
[0.12690000000000001,1.2310000000000001]
[0.127,1.2310000000000001]
[0.12709999999999999,1.2310000000000001]
[0.12720000000000001,1.2310000000000001]
[0.1273,1.2310000000000001]
[0.12740000000000001,1.2310000000000001]
[0.1275,1.2310000000000001]
[0.12759999999999999,1.2310000000000001]
[0.12770000000000001,1.2310000000000001]
[0.1278,1.2310000000000001]
[0.12790000000000001,1.2310000000000001]
[0.128,1.2310000000000001]
[0.12809999999999999,1.2310000000000001]
[0.12820000000000001,1.2310000000000001]
[0.1283,1.2310000000000001]
[0.12839999999999999,1.2310000000000001]
[0.1285,1.2310000000000001]
[0.12859999999999999,1.2310000000000001]
[0.12870000000000001,1.2310000000000001]
[0.1288,1.2310000000000001]
[0.12889999999999999,1.2310000000000001]
[0.129,1.2310000000000001]
[0.12909999999999999,1.2310000000000001]
[0.12920000000000001,1.2310000000000001]
[0.1293,1.2310000000000001]
[0.12939999999999999,1.2310000000000001]
[0.1295,1.2310000000000001]
[0.12959999999999999,1.2310000000000001]
[0.12970000000000001,1.2310000000000001]
[0.1298,1.2310000000000001]
[0.12989999999999999,1.2310000000000001]
[0.13,1.2310000000000001]
[0.13009999999999999,1.2310000000000001]
[0.13020000000000001,1.2310000000000001]
[0.1303,1.2310000000000001]
[0.13039999999999999,1.2310000000000001]
[0.1305,1.2310000000000001]
[0.13059999999999999,1.2310000000000001]
[0.13070000000000001,1.2310000000000001]
[0.1308,1.2310000000000001]
[0.13089999999999999,1.2310000000000001]
[0.13100000000000001,1.2310000000000001]
[0.13109999999999999,1.2310000000000001]
[0.13120000000000001,1.2310000000000001]
[0.1313,1.2310000000000001]
[0.13139999999999999,1.2310000000000001]
[0.13150000000000001,1.2310000000000001]
[0.13159999999999999,1.2310000000000001]
[0.13170000000000001,1.2310000000000001]
[0.1318,1.2310000000000001]
[0.13189999999999999,1.2310000000000001]
[0.13200000000000001,1.2310000000000001]
[0.1321,1.2310000000000001]
[0.13220000000000001,1.2310000000000001]
[0.1323,1.2310000000000001]
[0.13239999999999999,1.2310000000000001]
[0.13250000000000001,1.2310000000000001]
[0.1326,1.2310000000000001]
[0.13270000000000001,1.2310000000000001]
[0.1328,1.2310000000000001]
[0.13289999999999999,1.2310000000000001]
[0.13300000000000001,1.2310000000000001]
[0.1331,1.2310000000000001]
[0.13320000000000001,1.2310000000000001]
[0.1333,1.2310000000000001]
[0.13339999999999999,1.2310000000000001]
[0.13350000000000001,1.2310000000000001]
[0.1336,1.2310000000000001]
[0.13370000000000001,1.2310000000000001]
[0.1338,1.2310000000000001]
[0.13389999999999999,1.2310000000000001]
[0.13400000000000001,1.2310000000000001]
[0.1341,1.2310000000000001]
[0.13420000000000001,1.2310000000000001]
[0.1343,1.2310000000000001]
[0.13439999999999999,1.2310000000000001]
[0.13450000000000001,1.2310000000000001]
[0.1346,1.2310000000000001]
[0.13469999999999999,1.2310000000000001]
[0.1348,1.2310000000000001]
[0.13489999999999999,1.2310000000000001]
[0.13500000000000001,1.2310000000000001]
[0.1351,1.2310000000000001]
[0.13519999999999999,1.2310000000000001]
[0.1353,1.2310000000000001]
[0.13539999999999999,1.2310000000000001]
[0.13550000000000001,1.2310000000000001]
[0.1356,1.2310000000000001]
[0.13569999999999999,1.2310000000000001]
[0.1358,1.2310000000000001]
[0.13589999999999999,1.2310000000000001]
[0.13600000000000001,1.2310000000000001]
[0.1361,1.2310000000000001]
[0.13619999999999999,1.2310000000000001]
[0.1363,1.2310000000000001]
[0.13639999999999999,1.2310000000000001]
[0.13650000000000001,1.2310000000000001]
[0.1366,1.2310000000000001]
[0.13669999999999999,1.2310000000000001]
[0.1368,1.2310000000000001]
[0.13689999999999999,1.2310000000000001]
[0.13700000000000001,1.2310000000000001]
[0.1371,1.2310000000000001]
[0.13719999999999999,1.2310000000000001]
[0.13730000000000001,1.2310000000000001]
[0.13739999999999999,1.2310000000000001]
[0.13750000000000001,1.2310000000000001]
[0.1376,1.2310000000000001]
[0.13769999999999999,1.2310000000000001]
[0.13780000000000001,1.2310000000000001]
[0.13789999999999999,1.2310000000000001]
[0.13800000000000001,1.2310000000000001]
[0.1381,1.2310000000000001]
[0.13819999999999999,1.2310000000000001]
[0.13830000000000001,1.2310000000000001]
[0.1384,1.2310000000000001]
[0.13850000000000001,1.2310000000000001]
[0.1386,1.2310000000000001]
[0.13869999999999999,1.2310000000000001]
[0.13880000000000001,1.2310000000000001]
[0.1389,1.2310000000000001]
[0.13900000000000001,1.2310000000000001]
[0.1391,1.2310000000000001]
[0.13919999999999999,1.2310000000000001]
[0.13930000000000001,1.2310000000000001]
[0.1394,1.2310000000000001]
[0.13950000000000001,1.2310000000000001]
[0.1396,1.2310000000000001]
[0.13969999999999999,1.2310000000000001]
[0.13980000000000001,1.2310000000000001]
[0.1399,1.2310000000000001]
[0.14000000000000001,1.2310000000000001]
[0.1401,1.2310000000000001]
[0.14019999999999999,1.2310000000000001]
[0.14030000000000001,1.2310000000000001]
[0.1404,1.2310000000000001]
[0.14050000000000001,1.2310000000000001]
[0.1406,1.2310000000000001]
[0.14069999999999999,1.2310000000000001]
[0.14080000000000001,1.2310000000000001]
[0.1409,1.2310000000000001]
[0.14099999999999999,1.2310000000000001]
[0.1411,1.2310000000000001]
[0.14119999999999999,1.2310000000000001]
[0.14130000000000001,1.2310000000000001]
[0.1414,1.2310000000000001]
[0.14149999999999999,1.2310000000000001]
[0.1416,1.2310000000000001]
[0.14169999999999999,1.2310000000000001]
[0.14180000000000001,1.2310000000000001]
[0.1419,1.2310000000000001]
[0.14199999999999999,1.2310000000000001]
[0.1421,1.2310000000000001]
[0.14219999999999999,1.2310000000000001]
[0.14230000000000001,1.2310000000000001]
[0.1424,1.2310000000000001]
[0.14249999999999999,1.2310000000000001]
[0.1426,1.2310000000000001]
[0.14269999999999999,1.2310000000000001]
[0.14280000000000001,1.2310000000000001]
[0.1429,1.2310000000000001]
[0.14299999999999999,1.2310000000000001]
[0.1431,1.2310000000000001]
[0.14319999999999999,1.2310000000000001]
[0.14330000000000001,1.2310000000000001]
[0.1434,1.2310000000000001]
[0.14349999999999999,1.2310000000000001]
[0.14360000000000001,1.2310000000000001]
[0.14369999999999999,1.2310000000000001]
[0.14380000000000001,1.2310000000000001]
[0.1439,1.2310000000000001]
[0.14399999999999999,1.2310000000000001]
[0.14410000000000001,1.2310000000000001]
[0.14419999999999999,1.2310000000000001]
[0.14430000000000001,1.2310000000000001]
[0.1444,1.2310000000000001]
[0.14449999999999999,1.2310000000000001]
[0.14460000000000001,1.2310000000000001]
[0.1447,1.2310000000000001]
[0.14480000000000001,1.2310000000000001]
[0.1449,1.2310000000000001]
[0.14499999999999999,1.2310000000000001]
[0.14510000000000001,1.2310000000000001]
[0.1452,1.2310000000000001]
[0.14530000000000001,1.2310000000000001]
[0.1454,1.2310000000000001]
[0.14549999999999999,1.2310000000000001]
[0.14560000000000001,1.2310000000000001]
[0.1457,1.2310000000000001]
[0.14580000000000001,1.2310000000000001]
[0.1459,1.2310000000000001]
[0.14599999999999999,1.2310000000000001]
[0.14610000000000001,1.2310000000000001]
[0.1462,1.2310000000000001]
[0.14630000000000001,1.2310000000000001]
[0.1464,1.2310000000000001]
[0.14649999999999999,1.2310000000000001]
[0.14660000000000001,1.2310000000000001]
[0.1467,1.2310000000000001]
[0.14680000000000001,1.2310000000000001]
[0.1469,1.2310000000000001]
[0.14699999999999999,1.2310000000000001]
[0.14710000000000001,1.2310000000000001]
[0.1472,1.2310000000000001]
[0.14729999999999999,1.2310000000000001]
[0.1474,1.2310000000000001]
[0.14749999999999999,1.2310000000000001]
[0.14760000000000001,1.2310000000000001]
[0.1477,1.2310000000000001]
[0.14779999999999999,1.2310000000000001]
[0.1479,1.2310000000000001]
[0.14799999999999999,1.2310000000000001]
[0.14810000000000001,1.2310000000000001]
[0.1482,1.2310000000000001]
[0.14829999999999999,1.2310000000000001]
[0.1484,1.2310000000000001]
[0.14849999999999999,1.2310000000000001]
[0.14860000000000001,1.2310000000000001]
[0.1487,1.2310000000000001]
[0.14879999999999999,1.2310000000000001]
[0.1489,1.2310000000000001]
[0.14899999999999999,1.2310000000000001]
[0.14910000000000001,1.2310000000000001]
[0.1492,1.2310000000000001]
[0.14929999999999999,1.2310000000000001]
[0.14940000000000001,1.2310000000000001]
[0.14949999999999999,1.2310000000000001]
[0.14960000000000001,1.2310000000000001]
[0.1497,1.2310000000000001]
[0.14979999999999999,1.2310000000000001]
[0.14990000000000001,1.2310000000000001]
[0.15,1.2310000000000001]
[0.15010000000000001,1.202]
[0.1502,1.202]
[0.15029999999999999,1.202]
[0.15040000000000001,1.202]
[0.15049999999999999,1.202]
[0.15060000000000001,1.202]
[0.1507,1.202]
[0.15079999999999999,1.202]
[0.15090000000000001,1.202]
[0.151,1.202]
[0.15110000000000001,1.202]
[0.1512,1.202]
[0.15129999999999999,1.202]
[0.15140000000000001,1.202]
[0.1515,1.202]
[0.15160000000000001,1.202]
[0.1517,1.202]
[0.15179999999999999,1.202]
[0.15190000000000001,1.202]
[0.152,1.202]
[0.15210000000000001,1.202]
[0.1522,1.202]
[0.15229999999999999,1.202]
[0.15240000000000001,1.202]
[0.1525,1.202]
[0.15260000000000001,1.202]
[0.1527,1.202]
[0.15279999999999999,1.202]
[0.15290000000000001,1.202]
[0.153,1.202]
[0.15310000000000001,1.202]
[0.1532,1.202]
[0.15329999999999999,1.202]
[0.15340000000000001,1.202]
[0.1535,1.202]
[0.15359999999999999,1.202]
[0.1537,1.202]
[0.15379999999999999,1.202]
[0.15390000000000001,1.202]
[0.154,1.202]
[0.15409999999999999,1.202]
[0.1542,1.202]
[0.15429999999999999,1.202]
[0.15440000000000001,1.202]
[0.1545,1.202]
[0.15459999999999999,1.202]
[0.1547,1.202]
[0.15479999999999999,1.202]
[0.15490000000000001,1.202]
[0.155,1.202]
[0.15509999999999999,1.202]
[0.1552,1.202]
[0.15529999999999999,1.202]
[0.15540000000000001,1.202]
[0.1555,1.202]
[0.15559999999999999,1.202]
[0.15570000000000001,1.202]
[0.15579999999999999,1.202]
[0.15590000000000001,1.202]
[0.156,1.202]
[0.15609999999999999,1.202]
[0.15620000000000001,1.202]
[0.15629999999999999,1.202]
[0.15640000000000001,1.202]
[0.1565,1.202]
[0.15659999999999999,1.202]
[0.15670000000000001,1.202]
[0.15679999999999999,1.202]
[0.15690000000000001,1.202]
[0.157,1.202]
[0.15709999999999999,1.202]
[0.15720000000000001,1.202]
[0.1573,1.202]
[0.15740000000000001,1.202]
[0.1575,1.202]
[0.15759999999999999,1.202]
[0.15770000000000001,1.202]
[0.1578,1.202]
[0.15790000000000001,1.202]
[0.158,1.202]
[0.15809999999999999,1.202]
[0.15820000000000001,1.202]
[0.1583,1.202]
[0.15840000000000001,1.202]
[0.1585,1.202]
[0.15859999999999999,1.202]
[0.15870000000000001,1.202]
[0.1588,1.202]
[0.15890000000000001,1.202]
[0.159,1.202]
[0.15909999999999999,1.202]
[0.15920000000000001,1.202]
[0.1593,1.202]
[0.15939999999999999,1.202]
[0.1595,1.202]
[0.15959999999999999,1.202]
[0.15970000000000001,1.202]
[0.1598,1.202]
[0.15989999999999999,1.202]
[0.16,1.202]
[0.16009999999999999,1.202]
[0.16020000000000001,1.202]
[0.1603,1.202]
[0.16039999999999999,1.202]
[0.1605,1.202]
[0.16059999999999999,1.202]
[0.16070000000000001,1.202]
[0.1608,1.202]
[0.16089999999999999,1.202]
[0.161,1.202]
[0.16109999999999999,1.202]
[0.16120000000000001,1.202]
[0.1613,1.202]
[0.16139999999999999,1.202]
[0.1615,1.202]
[0.16159999999999999,1.202]
[0.16170000000000001,1.202]
[0.1618,1.202]
[0.16189999999999999,1.202]
[0.16200000000000001,1.202]
[0.16209999999999999,1.202]
[0.16220000000000001,1.202]
[0.1623,1.202]
[0.16239999999999999,1.202]
[0.16250000000000001,1.202]
[0.16259999999999999,1.202]
[0.16270000000000001,1.202]
[0.1628,1.202]
[0.16289999999999999,1.202]
[0.16300000000000001,1.202]
[0.16309999999999999,1.202]
[0.16320000000000001,1.202]
[0.1633,1.202]
[0.16339999999999999,1.202]
[0.16350000000000001,1.202]
[0.1636,1.202]
[0.16370000000000001,1.202]
[0.1638,1.202]
[0.16389999999999999,1.202]
[0.16400000000000001,1.202]
[0.1641,1.202]
[0.16420000000000001,1.202]
[0.1643,1.202]
[0.16439999999999999,1.202]
[0.16450000000000001,1.202]
[0.1646,1.202]
[0.16470000000000001,1.202]
[0.1648,1.202]
[0.16489999999999999,1.202]
[0.16500000000000001,1.202]
[0.1651,1.202]
[0.16520000000000001,1.202]
[0.1653,1.202]
[0.16539999999999999,1.202]
[0.16550000000000001,1.202]
[0.1656,1.202]
[0.16569999999999999,1.202]
[0.1658,1.202]
[0.16589999999999999,1.202]
[0.16600000000000001,1.202]
[0.1661,1.202]
[0.16619999999999999,1.202]
[0.1663,1.202]
[0.16639999999999999,1.202]
[0.16650000000000001,1.202]
[0.1666,1.202]
[0.16669999999999999,1.202]
[0.1668,1.202]
[0.16689999999999999,1.202]
[0.16700000000000001,1.202]
[0.1671,1.202]
[0.16719999999999999,1.202]
[0.1673,1.202]
[0.16739999999999999,1.202]
[0.16750000000000001,1.202]
[0.1676,1.202]
[0.16769999999999999,1.202]
[0.1678,1.202]
[0.16789999999999999,1.202]
[0.16800000000000001,1.202]
[0.1681,1.202]
[0.16819999999999999,1.202]
[0.16830000000000001,1.202]
[0.16839999999999999,1.202]
[0.16850000000000001,1.202]
[0.1686,1.202]
[0.16869999999999999,1.202]
[0.16880000000000001,1.202]
[0.16889999999999999,1.202]
[0.16900000000000001,1.202]
[0.1691,1.202]
[0.16919999999999999,1.202]
[0.16930000000000001,1.202]
[0.1694,1.202]
[0.16950000000000001,1.202]
[0.1696,1.202]
[0.16969999999999999,1.202]
[0.16980000000000001,1.202]
[0.1699,1.202]
[0.17,1.202]
[0.1701,1.202]
[0.17019999999999999,1.202]
[0.17030000000000001,1.202]
[0.1704,1.202]
[0.17050000000000001,1.202]
[0.1706,1.202]
[0.17069999999999999,1.202]
[0.17080000000000001,1.202]
[0.1709,1.202]
[0.17100000000000001,1.202]
[0.1711,1.202]
[0.17119999999999999,1.202]
[0.17130000000000001,1.202]
[0.1714,1.202]
[0.17150000000000001,1.202]
[0.1716,1.202]
[0.17169999999999999,1.202]
[0.17180000000000001,1.202]
[0.1719,1.202]
[0.17199999999999999,1.202]
[0.1721,1.202]
[0.17219999999999999,1.202]
[0.17230000000000001,1.202]
[0.1724,1.202]
[0.17249999999999999,1.202]
[0.1726,1.202]
[0.17269999999999999,1.202]
[0.17280000000000001,1.202]
[0.1729,1.202]
[0.17299999999999999,1.202]
[0.1731,1.202]
[0.17319999999999999,1.202]
[0.17330000000000001,1.202]
[0.1734,1.202]
[0.17349999999999999,1.202]
[0.1736,1.202]
[0.17369999999999999,1.202]
[0.17380000000000001,1.202]
[0.1739,1.202]
[0.17399999999999999,1.202]
[0.1741,1.202]
[0.17419999999999999,1.202]
[0.17430000000000001,1.202]
[0.1744,1.202]
[0.17449999999999999,1.202]
[0.17460000000000001,1.202]
[0.17469999999999999,1.202]
[0.17480000000000001,1.202]
[0.1749,1.202]
[0.17499999999999999,1.202]
[0.17510000000000001,1.202]
[0.17519999999999999,1.202]
[0.17530000000000001,1.202]
[0.1754,1.202]
[0.17549999999999999,1.202]
[0.17560000000000001,1.202]
[0.1757,1.202]
[0.17580000000000001,1.202]
[0.1759,1.202]
[0.17599999999999999,1.202]
[0.17610000000000001,1.202]
[0.1762,1.202]
[0.17630000000000001,1.202]
[0.1764,1.202]
[0.17649999999999999,1.202]
[0.17660000000000001,1.202]
[0.1767,1.202]
[0.17680000000000001,1.202]
[0.1769,1.202]
[0.17699999999999999,1.202]
[0.17710000000000001,1.202]
[0.1772,1.202]
[0.17730000000000001,1.202]
[0.1774,1.202]
[0.17749999999999999,1.202]
[0.17760000000000001,1.202]
[0.1777,1.202]
[0.17780000000000001,1.202]
[0.1779,1.202]
[0.17799999999999999,1.202]
[0.17810000000000001,1.202]
[0.1782,1.202]
[0.17829999999999999,1.202]
[0.1784,1.202]
[0.17849999999999999,1.202]
[0.17860000000000001,1.202]
[0.1787,1.202]
[0.17879999999999999,1.202]
[0.1789,1.202]
[0.17899999999999999,1.202]
[0.17910000000000001,1.202]
[0.1792,1.202]
[0.17929999999999999,1.202]
[0.1794,1.202]
[0.17949999999999999,1.202]
[0.17960000000000001,1.202]
[0.1797,1.202]
[0.17979999999999999,1.202]
[0.1799,1.202]
[0.18,1.202]
[0.18010000000000001,1.202]
[0.1802,1.202]
[0.18029999999999999,1.202]
[0.1804,1.202]
[0.18049999999999999,1.202]
[0.18060000000000001,1.202]
[0.1807,1.202]
[0.18079999999999999,1.202]
[0.18090000000000001,1.202]
[0.18099999999999999,1.202]
[0.18110000000000001,1.202]
[0.1812,1.202]
[0.18129999999999999,1.202]
[0.18140000000000001,1.202]
[0.18149999999999999,1.202]
[0.18160000000000001,1.202]
[0.1817,1.202]
[0.18179999999999999,1.202]
[0.18190000000000001,1.202]
[0.182,1.202]
[0.18210000000000001,1.202]
[0.1822,1.202]
[0.18229999999999999,1.202]
[0.18240000000000001,1.202]
[0.1825,1.202]
[0.18260000000000001,1.202]
[0.1827,1.202]
[0.18279999999999999,1.202]
[0.18290000000000001,1.202]
[0.183,1.202]
[0.18310000000000001,1.202]
[0.1832,1.202]
[0.18329999999999999,1.202]
[0.18340000000000001,1.202]
[0.1835,1.202]
[0.18360000000000001,1.202]
[0.1837,1.202]
[0.18379999999999999,1.202]
[0.18390000000000001,1.202]
[0.184,1.202]
[0.18410000000000001,1.202]
[0.1842,1.202]
[0.18429999999999999,1.202]
[0.18440000000000001,1.202]
[0.1845,1.202]
[0.18459999999999999,1.202]
[0.1847,1.202]
[0.18479999999999999,1.202]
[0.18490000000000001,1.202]
[0.185,1.202]
[0.18509999999999999,1.202]
[0.1852,1.202]
[0.18529999999999999,1.202]
[0.18540000000000001,1.202]
[0.1855,1.202]
[0.18559999999999999,1.202]
[0.1857,1.202]
[0.18579999999999999,1.202]
[0.18590000000000001,1.202]
[0.186,1.202]
[0.18609999999999999,1.202]
[0.1862,1.202]
[0.18629999999999999,1.202]
[0.18640000000000001,1.202]
[0.1865,1.202]
[0.18659999999999999,1.202]
[0.1867,1.202]
[0.18679999999999999,1.202]
[0.18690000000000001,1.202]
[0.187,1.202]
[0.18709999999999999,1.202]
[0.18720000000000001,1.202]
[0.18729999999999999,1.202]
[0.18740000000000001,1.202]
[0.1875,1.202]
[0.18759999999999999,1.202]
[0.18770000000000001,1.202]
[0.18779999999999999,1.202]
[0.18790000000000001,1.202]
[0.188,1.202]
[0.18809999999999999,1.202]
[0.18820000000000001,1.202]
[0.1883,1.202]
[0.18840000000000001,1.202]
[0.1885,1.202]
[0.18859999999999999,1.202]
[0.18870000000000001,1.202]
[0.1888,1.202]
[0.18890000000000001,1.202]
[0.189,1.202]
[0.18909999999999999,1.202]
[0.18920000000000001,1.202]
[0.1893,1.202]
[0.18940000000000001,1.202]
[0.1895,1.202]
[0.18959999999999999,1.202]
[0.18970000000000001,1.202]
[0.1898,1.202]
[0.18990000000000001,1.202]
[0.19,1.202]
[0.19009999999999999,1.202]
[0.19020000000000001,1.202]
[0.1903,1.202]
[0.19040000000000001,1.202]
[0.1905,1.202]
[0.19059999999999999,1.202]
[0.19070000000000001,1.202]
[0.1908,1.202]
[0.19089999999999999,1.202]
[0.191,1.202]
[0.19109999999999999,1.202]
[0.19120000000000001,1.202]
[0.1913,1.202]
[0.19139999999999999,1.202]
[0.1915,1.202]
[0.19159999999999999,1.202]
[0.19170000000000001,1.202]
[0.1918,1.202]
[0.19189999999999999,1.202]
[0.192,1.202]
[0.19209999999999999,1.202]
[0.19220000000000001,1.202]
[0.1923,1.202]
[0.19239999999999999,1.202]
[0.1925,1.202]
[0.19259999999999999,1.202]
[0.19270000000000001,1.202]
[0.1928,1.202]
[0.19289999999999999,1.202]
[0.193,1.202]
[0.19309999999999999,1.202]
[0.19320000000000001,1.202]
[0.1933,1.202]
[0.19339999999999999,1.202]
[0.19350000000000001,1.202]
[0.19359999999999999,1.202]
[0.19370000000000001,1.202]
[0.1938,1.202]
[0.19389999999999999,1.202]
[0.19400000000000001,1.202]
[0.19409999999999999,1.202]
[0.19420000000000001,1.202]
[0.1943,1.202]
[0.19439999999999999,1.202]
[0.19450000000000001,1.202]
[0.1946,1.202]
[0.19470000000000001,1.202]
[0.1948,1.202]
[0.19489999999999999,1.202]
[0.19500000000000001,1.202]
[0.1951,1.202]
[0.19520000000000001,1.202]
[0.1953,1.202]
[0.19539999999999999,1.202]
[0.19550000000000001,1.202]
[0.1956,1.202]
[0.19570000000000001,1.202]
[0.1958,1.202]
[0.19589999999999999,1.202]
[0.19600000000000001,1.202]
[0.1961,1.202]
[0.19620000000000001,1.202]
[0.1963,1.202]
[0.19639999999999999,1.202]
[0.19650000000000001,1.202]
[0.1966,1.202]
[0.19670000000000001,1.202]
[0.1968,1.202]
[0.19689999999999999,1.202]
[0.19700000000000001,1.202]
[0.1971,1.202]
[0.19719999999999999,1.202]
[0.1973,1.202]
[0.19739999999999999,1.202]
[0.19750000000000001,1.202]
[0.1976,1.202]
[0.19769999999999999,1.202]
[0.1978,1.202]
[0.19789999999999999,1.202]
[0.19800000000000001,1.202]
[0.1981,1.202]
[0.19819999999999999,1.202]
[0.1983,1.202]
[0.19839999999999999,1.202]
[0.19850000000000001,1.202]
[0.1986,1.202]
[0.19869999999999999,1.202]
[0.1988,1.202]
[0.19889999999999999,1.202]
[0.19900000000000001,1.202]
[0.1991,1.202]
[0.19919999999999999,1.202]
[0.1993,1.202]
[0.19939999999999999,1.202]
[0.19950000000000001,1.202]
[0.1996,1.202]
[0.19969999999999999,1.202]
[0.19980000000000001,1.202]
[0.19989999999999999,1.202]
[0.2,1.202]
[0.2001,1.131]
[0.20019999999999999,1.131]
[0.20030000000000001,1.131]
[0.20039999999999999,1.131]
[0.20050000000000001,1.131]
[0.2006,1.131]
[0.20069999999999999,1.131]
[0.20080000000000001,1.131]
[0.2009,1.131]
[0.20100000000000001,1.131]
[0.2011,1.131]
[0.20119999999999999,1.131]
[0.20130000000000001,1.131]
[0.2014,1.131]
[0.20150000000000001,1.131]
[0.2016,1.131]
[0.20169999999999999,1.131]
[0.20180000000000001,1.131]
[0.2019,1.131]
[0.20200000000000001,1.131]
[0.2021,1.131]
[0.20219999999999999,1.131]
[0.20230000000000001,1.131]
[0.2024,1.131]
[0.20250000000000001,1.131]
[0.2026,1.131]
[0.20269999999999999,1.131]
[0.20280000000000001,1.131]
[0.2029,1.131]
[0.20300000000000001,1.131]
[0.2031,1.131]
[0.20319999999999999,1.131]
[0.20330000000000001,1.131]
[0.2034,1.131]
[0.20349999999999999,1.131]
[0.2036,1.131]
[0.20369999999999999,1.131]
[0.20380000000000001,1.131]
[0.2039,1.131]
[0.20399999999999999,1.131]
[0.2041,1.131]
[0.20419999999999999,1.131]
[0.20430000000000001,1.131]
[0.2044,1.131]
[0.20449999999999999,1.131]
[0.2046,1.131]
[0.20469999999999999,1.131]
[0.20480000000000001,1.131]
[0.2049,1.131]
[0.20499999999999999,1.131]
[0.2051,1.131]
[0.20519999999999999,1.131]
[0.20530000000000001,1.131]
[0.2054,1.131]
[0.20549999999999999,1.131]
[0.2056,1.131]
[0.20569999999999999,1.131]
[0.20580000000000001,1.131]
[0.2059,1.131]
[0.20599999999999999,1.131]
[0.20610000000000001,1.131]
[0.20619999999999999,1.131]
[0.20630000000000001,1.131]
[0.2064,1.131]
[0.20649999999999999,1.131]
[0.20660000000000001,1.131]
[0.20669999999999999,1.131]
[0.20680000000000001,1.131]
[0.2069,1.131]
[0.20699999999999999,1.131]
[0.20710000000000001,1.131]
[0.2072,1.131]
[0.20730000000000001,1.131]
[0.2074,1.131]
[0.20749999999999999,1.131]
[0.20760000000000001,1.131]
[0.2077,1.131]
[0.20780000000000001,1.131]
[0.2079,1.131]
[0.20799999999999999,1.131]
[0.20810000000000001,1.131]
[0.2082,1.131]
[0.20830000000000001,1.131]
[0.2084,1.131]
[0.20849999999999999,1.131]
[0.20860000000000001,1.131]
[0.2087,1.131]
[0.20880000000000001,1.131]
[0.2089,1.131]
[0.20899999999999999,1.131]
[0.20910000000000001,1.131]
[0.2092,1.131]
[0.20930000000000001,1.131]
[0.2094,1.131]
[0.20949999999999999,1.131]
[0.20960000000000001,1.131]
[0.2097,1.131]
[0.20979999999999999,1.131]
[0.2099,1.131]
[0.21,1.131]
[0.21010000000000001,1.131]
[0.2102,1.131]
[0.21029999999999999,1.131]
[0.2104,1.131]
[0.21049999999999999,1.131]
[0.21060000000000001,1.131]
[0.2107,1.131]
[0.21079999999999999,1.131]
[0.2109,1.131]
[0.21099999999999999,1.131]
[0.21110000000000001,1.131]
[0.2112,1.131]
[0.21129999999999999,1.131]
[0.2114,1.131]
[0.21149999999999999,1.131]
[0.21160000000000001,1.131]
[0.2117,1.131]
[0.21179999999999999,1.131]
[0.21190000000000001,1.131]
[0.21199999999999999,1.131]
[0.21210000000000001,1.131]
[0.2122,1.131]
[0.21229999999999999,1.131]
[0.21240000000000001,1.131]
[0.21249999999999999,1.131]
[0.21260000000000001,1.131]
[0.2127,1.131]
[0.21279999999999999,1.131]
[0.21290000000000001,1.131]
[0.21299999999999999,1.131]
[0.21310000000000001,1.131]
[0.2132,1.131]
[0.21329999999999999,1.131]
[0.21340000000000001,1.131]
[0.2135,1.131]
[0.21360000000000001,1.131]
[0.2137,1.131]
[0.21379999999999999,1.131]
[0.21390000000000001,1.131]
[0.214,1.131]
[0.21410000000000001,1.131]
[0.2142,1.131]
[0.21429999999999999,1.131]
[0.21440000000000001,1.131]
[0.2145,1.131]
[0.21460000000000001,1.131]
[0.2147,1.131]
[0.21479999999999999,1.131]
[0.21490000000000001,1.131]
[0.215,1.131]
[0.21510000000000001,1.131]
[0.2152,1.131]
[0.21529999999999999,1.131]
[0.21540000000000001,1.131]
[0.2155,1.131]
[0.21560000000000001,1.131]
[0.2157,1.131]
[0.21579999999999999,1.131]
[0.21590000000000001,1.131]
[0.216,1.131]
[0.21609999999999999,1.131]
[0.2162,1.131]
[0.21629999999999999,1.131]
[0.21640000000000001,1.131]
[0.2165,1.131]
[0.21659999999999999,1.131]
[0.2167,1.131]
[0.21679999999999999,1.131]
[0.21690000000000001,1.131]
[0.217,1.131]
[0.21709999999999999,1.131]
[0.2172,1.131]
[0.21729999999999999,1.131]
[0.21740000000000001,1.131]
[0.2175,1.131]
[0.21759999999999999,1.131]
[0.2177,1.131]
[0.21779999999999999,1.131]
[0.21790000000000001,1.131]
[0.218,1.131]
[0.21809999999999999,1.131]
[0.21820000000000001,1.131]
[0.21829999999999999,1.131]
[0.21840000000000001,1.131]
[0.2185,1.131]
[0.21859999999999999,1.131]
[0.21870000000000001,1.131]
[0.21879999999999999,1.131]
[0.21890000000000001,1.131]
[0.219,1.131]
[0.21909999999999999,1.131]
[0.21920000000000001,1.131]
[0.21929999999999999,1.131]
[0.21940000000000001,1.131]
[0.2195,1.131]
[0.21959999999999999,1.131]
[0.21970000000000001,1.131]
[0.2198,1.131]
[0.21990000000000001,1.131]
[0.22,1.131]
[0.22009999999999999,1.131]
[0.22020000000000001,1.131]
[0.2203,1.131]
[0.22040000000000001,1.131]
[0.2205,1.131]
[0.22059999999999999,1.131]
[0.22070000000000001,1.131]
[0.2208,1.131]
[0.22090000000000001,1.131]
[0.221,1.131]
[0.22109999999999999,1.131]
[0.22120000000000001,1.131]
[0.2213,1.131]
[0.22140000000000001,1.131]
[0.2215,1.131]
[0.22159999999999999,1.131]
[0.22170000000000001,1.131]
[0.2218,1.131]
[0.22189999999999999,1.131]
[0.222,1.131]
[0.22209999999999999,1.131]
[0.22220000000000001,1.131]
[0.2223,1.131]
[0.22239999999999999,1.131]
[0.2225,1.131]
[0.22259999999999999,1.131]
[0.22270000000000001,1.131]
[0.2228,1.131]
[0.22289999999999999,1.131]
[0.223,1.131]
[0.22309999999999999,1.131]
[0.22320000000000001,1.131]
[0.2233,1.131]
[0.22339999999999999,1.131]
[0.2235,1.131]
[0.22359999999999999,1.131]
[0.22370000000000001,1.131]
[0.2238,1.131]
[0.22389999999999999,1.131]
[0.224,1.131]
[0.22409999999999999,1.131]
[0.22420000000000001,1.131]
[0.2243,1.131]
[0.22439999999999999,1.131]
[0.22450000000000001,1.131]
[0.22459999999999999,1.131]
[0.22470000000000001,1.131]
[0.2248,1.131]
[0.22489999999999999,1.131]
[0.22500000000000001,1.131]
[0.22509999999999999,1.131]
[0.22520000000000001,1.131]
[0.2253,1.131]
[0.22539999999999999,1.131]
[0.22550000000000001,1.131]
[0.22559999999999999,1.131]
[0.22570000000000001,1.131]
[0.2258,1.131]
[0.22589999999999999,1.131]
[0.22600000000000001,1.131]
[0.2261,1.131]
[0.22620000000000001,1.131]
[0.2263,1.131]
[0.22639999999999999,1.131]
[0.22650000000000001,1.131]
[0.2266,1.131]
[0.22670000000000001,1.131]
[0.2268,1.131]
[0.22689999999999999,1.131]
[0.22700000000000001,1.131]
[0.2271,1.131]
[0.22720000000000001,1.131]
[0.2273,1.131]
[0.22739999999999999,1.131]
[0.22750000000000001,1.131]
[0.2276,1.131]
[0.22770000000000001,1.131]
[0.2278,1.131]
[0.22789999999999999,1.131]
[0.22800000000000001,1.131]
[0.2281,1.131]
[0.22819999999999999,1.131]
[0.2283,1.131]
[0.22839999999999999,1.131]
[0.22850000000000001,1.131]
[0.2286,1.131]
[0.22869999999999999,1.131]
[0.2288,1.131]
[0.22889999999999999,1.131]
[0.22900000000000001,1.131]
[0.2291,1.131]
[0.22919999999999999,1.131]
[0.2293,1.131]
[0.22939999999999999,1.131]
[0.22950000000000001,1.131]
[0.2296,1.131]
[0.22969999999999999,1.131]
[0.2298,1.131]
[0.22989999999999999,1.131]
[0.23,1.131]
[0.2301,1.131]
[0.23019999999999999,1.131]
[0.2303,1.131]
[0.23039999999999999,1.131]
[0.23050000000000001,1.131]
[0.2306,1.131]
[0.23069999999999999,1.131]
[0.23080000000000001,1.131]
[0.23089999999999999,1.131]
[0.23100000000000001,1.131]
[0.2311,1.131]
[0.23119999999999999,1.131]
[0.23130000000000001,1.131]
[0.23139999999999999,1.131]
[0.23150000000000001,1.131]
[0.2316,1.131]
[0.23169999999999999,1.131]
[0.23180000000000001,1.131]
[0.2319,1.131]
[0.23200000000000001,1.131]
[0.2321,1.131]
[0.23219999999999999,1.131]
[0.23230000000000001,1.131]
[0.2324,1.131]
[0.23250000000000001,1.131]
[0.2326,1.131]
[0.23269999999999999,1.131]
[0.23280000000000001,1.131]
[0.2329,1.131]
[0.23300000000000001,1.131]
[0.2331,1.131]
[0.23319999999999999,1.131]
[0.23330000000000001,1.131]
[0.2334,1.131]
[0.23350000000000001,1.131]
[0.2336,1.131]
[0.23369999999999999,1.131]
[0.23380000000000001,1.131]
[0.2339,1.131]
[0.23400000000000001,1.131]
[0.2341,1.131]
[0.23419999999999999,1.131]
[0.23430000000000001,1.131]
[0.2344,1.131]
[0.23449999999999999,1.131]
[0.2346,1.131]
[0.23469999999999999,1.131]
[0.23480000000000001,1.131]
[0.2349,1.131]
[0.23499999999999999,1.131]
[0.2351,1.131]
[0.23519999999999999,1.131]
[0.23530000000000001,1.131]
[0.2354,1.131]
[0.23549999999999999,1.131]
[0.2356,1.131]
[0.23569999999999999,1.131]
[0.23580000000000001,1.131]
[0.2359,1.131]
[0.23599999999999999,1.131]
[0.2361,1.131]
[0.23619999999999999,1.131]
[0.23630000000000001,1.131]
[0.2364,1.131]
[0.23649999999999999,1.131]
[0.2366,1.131]
[0.23669999999999999,1.131]
[0.23680000000000001,1.131]
[0.2369,1.131]
[0.23699999999999999,1.131]
[0.23710000000000001,1.131]
[0.23719999999999999,1.131]
[0.23730000000000001,1.131]
[0.2374,1.131]
[0.23749999999999999,1.131]
[0.23760000000000001,1.131]
[0.23769999999999999,1.131]
[0.23780000000000001,1.131]
[0.2379,1.131]
[0.23799999999999999,1.131]
[0.23810000000000001,1.131]
[0.2382,1.131]
[0.23830000000000001,1.131]
[0.2384,1.131]
[0.23849999999999999,1.131]
[0.23860000000000001,1.131]
[0.2387,1.131]
[0.23880000000000001,1.131]
[0.2389,1.131]
[0.23899999999999999,1.131]
[0.23910000000000001,1.131]
[0.2392,1.131]
[0.23930000000000001,1.131]
[0.2394,1.131]
[0.23949999999999999,1.131]
[0.23960000000000001,1.131]
[0.2397,1.131]
[0.23980000000000001,1.131]
[0.2399,1.131]
[0.24,1.131]
[0.24010000000000001,1.131]
[0.2402,1.131]
[0.24030000000000001,1.131]
[0.2404,1.131]
[0.24049999999999999,1.131]
[0.24060000000000001,1.131]
[0.2407,1.131]
[0.24079999999999999,1.131]
[0.2409,1.131]
[0.24099999999999999,1.131]
[0.24110000000000001,1.131]
[0.2412,1.131]
[0.24129999999999999,1.131]
[0.2414,1.131]
[0.24149999999999999,1.131]
[0.24160000000000001,1.131]
[0.2417,1.131]
[0.24179999999999999,1.131]
[0.2419,1.131]
[0.24199999999999999,1.131]
[0.24210000000000001,1.131]
[0.2422,1.131]
[0.24229999999999999,1.131]
[0.2424,1.131]
[0.24249999999999999,1.131]
[0.24260000000000001,1.131]
[0.2427,1.131]
[0.24279999999999999,1.131]
[0.2429,1.131]
[0.24299999999999999,1.131]
[0.24310000000000001,1.131]
[0.2432,1.131]
[0.24329999999999999,1.131]
[0.24340000000000001,1.131]
[0.24349999999999999,1.131]
[0.24360000000000001,1.131]
[0.2437,1.131]
[0.24379999999999999,1.131]
[0.24390000000000001,1.131]
[0.24399999999999999,1.131]
[0.24410000000000001,1.131]
[0.2442,1.131]
[0.24429999999999999,1.131]
[0.24440000000000001,1.131]
[0.2445,1.131]
[0.24460000000000001,1.131]
[0.2447,1.131]
[0.24479999999999999,1.131]
[0.24490000000000001,1.131]
[0.245,1.131]
[0.24510000000000001,1.131]
[0.2452,1.131]
[0.24529999999999999,1.131]
[0.24540000000000001,1.131]
[0.2455,1.131]
[0.24560000000000001,1.131]
[0.2457,1.131]
[0.24579999999999999,1.131]
[0.24590000000000001,1.131]
[0.246,1.131]
[0.24610000000000001,1.131]
[0.2462,1.131]
[0.24629999999999999,1.131]
[0.24640000000000001,1.131]
[0.2465,1.131]
[0.24660000000000001,1.131]
[0.2467,1.131]
[0.24679999999999999,1.131]
[0.24690000000000001,1.131]
[0.247,1.131]
[0.24709999999999999,1.131]
[0.2472,1.131]
[0.24729999999999999,1.131]
[0.24740000000000001,1.131]
[0.2475,1.131]
[0.24759999999999999,1.131]
[0.2477,1.131]
[0.24779999999999999,1.131]
[0.24790000000000001,1.131]
[0.248,1.131]
[0.24809999999999999,1.131]
[0.2482,1.131]
[0.24829999999999999,1.131]
[0.24840000000000001,1.131]
[0.2485,1.131]
[0.24859999999999999,1.131]
[0.2487,1.131]
[0.24879999999999999,1.131]
[0.24890000000000001,1.131]
[0.249,1.131]
[0.24909999999999999,1.131]
[0.2492,1.131]
[0.24929999999999999,1.131]
[0.24940000000000001,1.131]
[0.2495,1.131]
[0.24959999999999999,1.131]
[0.24970000000000001,1.131]
[0.24979999999999999,1.131]
[0.24990000000000001,1.131]
[0.25,1.131]
[0.25009999999999999,1.131]
[0.25019999999999998,1.131]
[0.25030000000000002,1.131]
[0.25040000000000001,1.131]
[0.2505,1.131]
[0.25059999999999999,1.131]
[0.25069999999999998,1.131]
[0.25080000000000002,1.131]
[0.25090000000000001,1.131]
[0.251,1.131]
[0.25109999999999999,1.131]
[0.25119999999999998,1.131]
[0.25130000000000002,1.131]
[0.25140000000000001,1.131]
[0.2515,1.131]
[0.25159999999999999,1.131]
[0.25169999999999998,1.131]
[0.25180000000000002,1.131]
[0.25190000000000001,1.131]
[0.252,1.131]
[0.25209999999999999,1.131]
[0.25219999999999998,1.131]
[0.25230000000000002,1.131]
[0.25240000000000001,1.131]
[0.2525,1.131]
[0.25259999999999999,1.131]
[0.25269999999999998,1.131]
[0.25280000000000002,1.131]
[0.25290000000000001,1.131]
[0.253,1.131]
[0.25309999999999999,1.131]
[0.25319999999999998,1.131]
[0.25330000000000003,1.131]
[0.25340000000000001,1.131]
[0.2535,1.131]
[0.25359999999999999,1.131]
[0.25369999999999998,1.131]
[0.25380000000000003,1.131]
[0.25390000000000001,1.131]
[0.254,1.131]
[0.25409999999999999,1.131]
[0.25419999999999998,1.131]
[0.25430000000000003,1.131]
[0.25440000000000002,1.131]
[0.2545,1.131]
[0.25459999999999999,1.131]
[0.25469999999999998,1.131]
[0.25480000000000003,1.131]
[0.25490000000000002,1.131]
[0.255,1.131]
[0.25509999999999999,1.131]
[0.25519999999999998,1.131]
[0.25530000000000003,1.131]
[0.25540000000000002,1.131]
[0.2555,1.131]
[0.25559999999999999,1.131]
[0.25569999999999998,1.131]
[0.25580000000000003,1.131]
[0.25590000000000002,1.131]
[0.25600000000000001,1.131]
[0.25609999999999999,1.131]
[0.25619999999999998,1.131]
[0.25629999999999997,1.131]
[0.25640000000000002,1.131]
[0.25650000000000001,1.131]
[0.25659999999999999,1.131]
[0.25669999999999998,1.131]
[0.25679999999999997,1.131]
[0.25690000000000002,1.131]
[0.25700000000000001,1.131]
[0.2571,1.131]
[0.25719999999999998,1.131]
[0.25729999999999997,1.131]
[0.25740000000000002,1.131]
[0.25750000000000001,1.131]
[0.2576,1.131]
[0.25769999999999998,1.131]
[0.25779999999999997,1.131]
[0.25790000000000002,1.131]
[0.25800000000000001,1.131]
[0.2581,1.131]
[0.25819999999999999,1.131]
[0.25829999999999997,1.131]
[0.25840000000000002,1.131]
[0.25850000000000001,1.131]
[0.2586,1.131]
[0.25869999999999999,1.131]
[0.25879999999999997,1.131]
[0.25890000000000002,1.131]
[0.25900000000000001,1.131]
[0.2591,1.131]
[0.25919999999999999,1.131]
[0.25929999999999997,1.131]
[0.25940000000000002,1.131]
[0.25950000000000001,1.131]
[0.2596,1.131]
[0.25969999999999999,1.131]
[0.25979999999999998,1.131]
[0.25990000000000002,1.131]
[0.26,1.131]
[0.2601,1.131]
[0.26019999999999999,1.131]
[0.26029999999999998,1.131]
[0.26040000000000002,1.131]
[0.26050000000000001,1.131]
[0.2606,1.131]
[0.26069999999999999,1.131]
[0.26079999999999998,1.131]
[0.26090000000000002,1.131]
[0.26100000000000001,1.131]
[0.2611,1.131]
[0.26119999999999999,1.131]
[0.26129999999999998,1.131]
[0.26140000000000002,1.131]
[0.26150000000000001,1.131]
[0.2616,1.131]
[0.26169999999999999,1.131]
[0.26179999999999998,1.131]
[0.26190000000000002,1.131]
[0.26200000000000001,1.131]
[0.2621,1.131]
[0.26219999999999999,1.131]
[0.26229999999999998,1.131]
[0.26240000000000002,1.131]
[0.26250000000000001,1.131]
[0.2626,1.131]
[0.26269999999999999,1.131]
[0.26279999999999998,1.131]
[0.26290000000000002,1.131]
[0.26300000000000001,1.131]
[0.2631,1.131]
[0.26319999999999999,1.131]
[0.26329999999999998,1.131]
[0.26340000000000002,1.131]
[0.26350000000000001,1.131]
[0.2636,1.131]
[0.26369999999999999,1.131]
[0.26379999999999998,1.131]
[0.26390000000000002,1.131]
[0.26400000000000001,1.131]
[0.2641,1.131]
[0.26419999999999999,1.131]
[0.26429999999999998,1.131]
[0.26440000000000002,1.131]
[0.26450000000000001,1.131]
[0.2646,1.131]
[0.26469999999999999,1.131]
[0.26479999999999998,1.131]
[0.26490000000000002,1.131]
[0.26500000000000001,1.131]
[0.2651,1.131]
[0.26519999999999999,1.131]
[0.26529999999999998,1.131]
[0.26540000000000002,1.131]
[0.26550000000000001,1.131]
[0.2656,1.131]
[0.26569999999999999,1.131]
[0.26579999999999998,1.131]
[0.26590000000000003,1.131]
[0.26600000000000001,1.131]
[0.2661,1.131]
[0.26619999999999999,1.131]
[0.26629999999999998,1.131]
[0.26640000000000003,1.131]
[0.26650000000000001,1.131]
[0.2666,1.131]
[0.26669999999999999,1.131]
[0.26679999999999998,1.131]
[0.26690000000000003,1.131]
[0.26700000000000002,1.131]
[0.2671,1.131]
[0.26719999999999999,1.131]
[0.26729999999999998,1.131]
[0.26740000000000003,1.131]
[0.26750000000000002,1.131]
[0.2676,1.131]
[0.26769999999999999,1.131]
[0.26779999999999998,1.131]
[0.26790000000000003,1.131]
[0.26800000000000002,1.131]
[0.2681,1.131]
[0.26819999999999999,1.131]
[0.26829999999999998,1.131]
[0.26840000000000003,1.131]
[0.26850000000000002,1.131]
[0.26860000000000001,1.131]
[0.26869999999999999,1.131]
[0.26879999999999998,1.131]
[0.26889999999999997,1.131]
[0.26900000000000002,1.131]
[0.26910000000000001,1.131]
[0.26919999999999999,1.131]
[0.26929999999999998,1.131]
[0.26939999999999997,1.131]
[0.26950000000000002,1.131]
[0.26960000000000001,1.131]
[0.2697,1.131]
[0.26979999999999998,1.131]
[0.26989999999999997,1.131]
[0.27,1.131]
[0.27010000000000001,1.131]
[0.2702,1.131]
[0.27029999999999998,1.131]
[0.27039999999999997,1.131]
[0.27050000000000002,1.131]
[0.27060000000000001,1.131]
[0.2707,1.131]
[0.27079999999999999,1.131]
[0.27089999999999997,1.131]
[0.27100000000000002,1.131]
[0.27110000000000001,1.131]
[0.2712,1.131]
[0.27129999999999999,1.131]
[0.27139999999999997,1.131]
[0.27150000000000002,1.131]
[0.27160000000000001,1.131]
[0.2717,1.131]
[0.27179999999999999,1.131]
[0.27189999999999998,1.131]
[0.27200000000000002,1.131]
[0.27210000000000001,1.131]
[0.2722,1.131]
[0.27229999999999999,1.131]
[0.27239999999999998,1.131]
[0.27250000000000002,1.131]
[0.27260000000000001,1.131]
[0.2727,1.131]
[0.27279999999999999,1.131]
[0.27289999999999998,1.131]
[0.27300000000000002,1.131]
[0.27310000000000001,1.131]
[0.2732,1.131]
[0.27329999999999999,1.131]
[0.27339999999999998,1.131]
[0.27350000000000002,1.131]
[0.27360000000000001,1.131]
[0.2737,1.131]
[0.27379999999999999,1.131]
[0.27389999999999998,1.131]
[0.27400000000000002,1.131]
[0.27410000000000001,1.131]
[0.2742,1.131]
[0.27429999999999999,1.131]
[0.27439999999999998,1.131]
[0.27450000000000002,1.131]
[0.27460000000000001,1.131]
[0.2747,1.131]
[0.27479999999999999,1.131]
[0.27489999999999998,1.131]
[0.27500000000000002,1.131]
[0.27510000000000001,1.131]
[0.2752,1.131]
[0.27529999999999999,1.131]
[0.27539999999999998,1.131]
[0.27550000000000002,1.131]
[0.27560000000000001,1.131]
[0.2757,1.131]
[0.27579999999999999,1.131]
[0.27589999999999998,1.131]
[0.27600000000000002,1.131]
[0.27610000000000001,1.131]
[0.2762,1.131]
[0.27629999999999999,1.131]
[0.27639999999999998,1.131]
[0.27650000000000002,1.131]
[0.27660000000000001,1.131]
[0.2767,1.131]
[0.27679999999999999,1.131]
[0.27689999999999998,1.131]
[0.27700000000000002,1.131]
[0.27710000000000001,1.131]
[0.2772,1.131]
[0.27729999999999999,1.131]
[0.27739999999999998,1.131]
[0.27750000000000002,1.131]
[0.27760000000000001,1.131]
[0.2777,1.131]
[0.27779999999999999,1.131]
[0.27789999999999998,1.131]
[0.27800000000000002,1.131]
[0.27810000000000001,1.131]
[0.2782,1.131]
[0.27829999999999999,1.131]
[0.27839999999999998,1.131]
[0.27850000000000003,1.131]
[0.27860000000000001,1.131]
[0.2787,1.131]
[0.27879999999999999,1.131]
[0.27889999999999998,1.131]
[0.27900000000000003,1.131]
[0.27910000000000001,1.131]
[0.2792,1.131]
[0.27929999999999999,1.131]
[0.27939999999999998,1.131]
[0.27950000000000003,1.131]
[0.27960000000000002,1.131]
[0.2797,1.131]
[0.27979999999999999,1.131]
[0.27989999999999998,1.131]
[0.28000000000000003,1.131]
[0.28010000000000002,1.131]
[0.2802,1.131]
[0.28029999999999999,1.131]
[0.28039999999999998,1.131]
[0.28050000000000003,1.131]
[0.28060000000000002,1.131]
[0.28070000000000001,1.131]
[0.28079999999999999,1.131]
[0.28089999999999998,1.131]
[0.28100000000000003,1.131]
[0.28110000000000002,1.131]
[0.28120000000000001,1.131]
[0.28129999999999999,1.131]
[0.28139999999999998,1.131]
[0.28149999999999997,1.131]
[0.28160000000000002,1.131]
[0.28170000000000001,1.131]
[0.28179999999999999,1.131]
[0.28189999999999998,1.131]
[0.28199999999999997,1.131]
[0.28210000000000002,1.131]
[0.28220000000000001,1.131]
[0.2823,1.131]
[0.28239999999999998,1.131]
[0.28249999999999997,1.131]
[0.28260000000000002,1.131]
[0.28270000000000001,1.131]
[0.2828,1.131]
[0.28289999999999998,1.131]
[0.28299999999999997,1.131]
[0.28310000000000002,1.131]
[0.28320000000000001,1.131]
[0.2833,1.131]
[0.28339999999999999,1.131]
[0.28349999999999997,1.131]
[0.28360000000000002,1.131]
[0.28370000000000001,1.131]
[0.2838,1.131]
[0.28389999999999999,1.131]
[0.28399999999999997,1.131]
[0.28410000000000002,1.131]
[0.28420000000000001,1.131]
[0.2843,1.131]
[0.28439999999999999,1.131]
[0.28449999999999998,1.131]
[0.28460000000000002,1.131]
[0.28470000000000001,1.131]
[0.2848,1.131]
[0.28489999999999999,1.131]
[0.28499999999999998,1.131]
[0.28510000000000002,1.131]
[0.28520000000000001,1.131]
[0.2853,1.131]
[0.28539999999999999,1.131]
[0.28549999999999998,1.131]
[0.28560000000000002,1.131]
[0.28570000000000001,1.131]
[0.2858,1.131]
[0.28589999999999999,1.131]
[0.28599999999999998,1.131]
[0.28610000000000002,1.131]
[0.28620000000000001,1.131]
[0.2863,1.131]
[0.28639999999999999,1.131]
[0.28649999999999998,1.131]
[0.28660000000000002,1.131]
[0.28670000000000001,1.131]
[0.2868,1.131]
[0.28689999999999999,1.131]
[0.28699999999999998,1.131]
[0.28710000000000002,1.131]
[0.28720000000000001,1.131]
[0.2873,1.131]
[0.28739999999999999,1.131]
[0.28749999999999998,1.131]
[0.28760000000000002,1.131]
[0.28770000000000001,1.131]
[0.2878,1.131]
[0.28789999999999999,1.131]
[0.28799999999999998,1.131]
[0.28810000000000002,1.131]
[0.28820000000000001,1.131]
[0.2883,1.131]
[0.28839999999999999,1.131]
[0.28849999999999998,1.131]
[0.28860000000000002,1.131]
[0.28870000000000001,1.131]
[0.2888,1.131]
[0.28889999999999999,1.131]
[0.28899999999999998,1.131]
[0.28910000000000002,1.131]
[0.28920000000000001,1.131]
[0.2893,1.131]
[0.28939999999999999,1.131]
[0.28949999999999998,1.131]
[0.28960000000000002,1.131]
[0.28970000000000001,1.131]
[0.2898,1.131]
[0.28989999999999999,1.131]
[0.28999999999999998,1.131]
[0.29010000000000002,1.131]
[0.29020000000000001,1.131]
[0.2903,1.131]
[0.29039999999999999,1.131]
[0.29049999999999998,1.131]
[0.29060000000000002,1.131]
[0.29070000000000001,1.131]
[0.2908,1.131]
[0.29089999999999999,1.131]
[0.29099999999999998,1.131]
[0.29110000000000003,1.131]
[0.29120000000000001,1.131]
[0.2913,1.131]
[0.29139999999999999,1.131]
[0.29149999999999998,1.131]
[0.29160000000000003,1.131]
[0.29170000000000001,1.131]
[0.2918,1.131]
[0.29189999999999999,1.131]
[0.29199999999999998,1.131]
[0.29210000000000003,1.131]
[0.29220000000000002,1.131]
[0.2923,1.131]
[0.29239999999999999,1.131]
[0.29249999999999998,1.131]
[0.29260000000000003,1.131]
[0.29270000000000002,1.131]
[0.2928,1.131]
[0.29289999999999999,1.131]
[0.29299999999999998,1.131]
[0.29310000000000003,1.131]
[0.29320000000000002,1.131]
[0.29330000000000001,1.131]
[0.29339999999999999,1.131]
[0.29349999999999998,1.131]
[0.29360000000000003,1.131]
[0.29370000000000002,1.131]
[0.29380000000000001,1.131]
[0.29389999999999999,1.131]
[0.29399999999999998,1.131]
[0.29409999999999997,1.131]
[0.29420000000000002,1.131]
[0.29430000000000001,1.131]
[0.2944,1.131]
[0.29449999999999998,1.131]
[0.29459999999999997,1.131]
[0.29470000000000002,1.131]
[0.29480000000000001,1.131]
[0.2949,1.131]
[0.29499999999999998,1.131]
[0.29509999999999997,1.131]
[0.29520000000000002,1.131]
[0.29530000000000001,1.131]
[0.2954,1.131]
[0.29549999999999998,1.131]
[0.29559999999999997,1.131]
[0.29570000000000002,1.131]
[0.29580000000000001,1.131]
[0.2959,1.131]
[0.29599999999999999,1.131]
[0.29609999999999997,1.131]
[0.29620000000000002,1.131]
[0.29630000000000001,1.131]
[0.2964,1.131]
[0.29649999999999999,1.131]
[0.29659999999999997,1.131]
[0.29670000000000002,1.131]
[0.29680000000000001,1.131]
[0.2969,1.131]
[0.29699999999999999,1.131]
[0.29709999999999998,1.131]
[0.29720000000000002,1.131]
[0.29730000000000001,1.131]
[0.2974,1.131]
[0.29749999999999999,1.131]
[0.29759999999999998,1.131]
[0.29770000000000002,1.131]
[0.29780000000000001,1.131]
[0.2979,1.131]
[0.29799999999999999,1.131]
[0.29809999999999998,1.131]
[0.29820000000000002,1.131]
[0.29830000000000001,1.131]
[0.2984,1.131]
[0.29849999999999999,1.131]
[0.29859999999999998,1.131]
[0.29870000000000002,1.131]
[0.29880000000000001,1.131]
[0.2989,1.131]
[0.29899999999999999,1.131]
[0.29909999999999998,1.131]
[0.29920000000000002,1.131]
[0.29930000000000001,1.131]
[0.2994,1.131]
[0.29949999999999999,1.131]
[0.29959999999999998,1.131]
[0.29970000000000002,1.131]
[0.29980000000000001,1.131]
[0.2999,1.131]
[0.3,1.131]
[0.30009999999999998,1.131]
[0.30020000000000002,1.131]
[0.30030000000000001,1.131]
[0.3004,1.131]
[0.30049999999999999,1.131]
[0.30059999999999998,1.131]
[0.30070000000000002,1.131]
[0.30080000000000001,1.131]
[0.3009,1.131]
[0.30099999999999999,1.131]
[0.30109999999999998,1.131]
[0.30120000000000002,1.131]
[0.30130000000000001,1.131]
[0.3014,1.131]
[0.30149999999999999,1.131]
[0.30159999999999998,1.131]
[0.30170000000000002,1.131]
[0.30180000000000001,1.131]
[0.3019,1.131]
[0.30199999999999999,1.131]
[0.30209999999999998,1.131]
[0.30220000000000002,1.131]
[0.30230000000000001,1.131]
[0.3024,1.131]
[0.30249999999999999,1.131]
[0.30259999999999998,1.131]
[0.30270000000000002,1.131]
[0.30280000000000001,1.131]
[0.3029,1.131]
[0.30299999999999999,1.131]
[0.30309999999999998,1.131]
[0.30320000000000003,1.131]
[0.30330000000000001,1.131]
[0.3034,1.131]
[0.30349999999999999,1.131]
[0.30359999999999998,1.131]
[0.30370000000000003,1.131]
[0.30380000000000001,1.131]
[0.3039,1.131]
[0.30399999999999999,1.131]
[0.30409999999999998,1.131]
[0.30420000000000003,1.131]
[0.30430000000000001,1.131]
[0.3044,1.131]
[0.30449999999999999,1.131]
[0.30459999999999998,1.131]
[0.30470000000000003,1.131]
[0.30480000000000002,1.131]
[0.3049,1.131]
[0.30499999999999999,1.131]
[0.30509999999999998,1.131]
[0.30520000000000003,1.131]
[0.30530000000000002,1.131]
[0.3054,1.131]
[0.30549999999999999,1.131]
[0.30559999999999998,1.131]
[0.30570000000000003,1.131]
[0.30580000000000002,1.131]
[0.30590000000000001,1.131]
[0.30599999999999999,1.131]
[0.30609999999999998,1.131]
[0.30620000000000003,1.131]
[0.30630000000000002,1.131]
[0.30640000000000001,1.131]
[0.30649999999999999,1.131]
[0.30659999999999998,1.131]
[0.30669999999999997,1.131]
[0.30680000000000002,1.131]
[0.30690000000000001,1.131]
[0.307,1.131]
[0.30709999999999998,1.131]
[0.30719999999999997,1.131]
[0.30730000000000002,1.131]
[0.30740000000000001,1.131]
[0.3075,1.131]
[0.30759999999999998,1.131]
[0.30769999999999997,1.131]
[0.30780000000000002,1.131]
[0.30790000000000001,1.131]
[0.308,1.131]
[0.30809999999999998,1.131]
[0.30819999999999997,1.131]
[0.30830000000000002,1.131]
[0.30840000000000001,1.131]
[0.3085,1.131]
[0.30859999999999999,1.131]
[0.30869999999999997,1.131]
[0.30880000000000002,1.131]
[0.30890000000000001,1.131]
[0.309,1.131]
[0.30909999999999999,1.131]
[0.30919999999999997,1.131]
[0.30930000000000002,1.131]
[0.30940000000000001,1.131]
[0.3095,1.131]
[0.30959999999999999,1.131]
[0.30969999999999998,1.131]
[0.30980000000000002,1.131]
[0.30990000000000001,1.131]
[0.31,1.131]
[0.31009999999999999,1.131]
[0.31019999999999998,1.131]
[0.31030000000000002,1.131]
[0.31040000000000001,1.131]
[0.3105,1.131]
[0.31059999999999999,1.131]
[0.31069999999999998,1.131]
[0.31080000000000002,1.131]
[0.31090000000000001,1.131]
[0.311,1.131]
[0.31109999999999999,1.131]
[0.31119999999999998,1.131]
[0.31130000000000002,1.131]
[0.31140000000000001,1.131]
[0.3115,1.131]
[0.31159999999999999,1.131]
[0.31169999999999998,1.131]
[0.31180000000000002,1.131]
[0.31190000000000001,1.131]
[0.312,1.131]
[0.31209999999999999,1.131]
[0.31219999999999998,1.131]
[0.31230000000000002,1.131]
[0.31240000000000001,1.131]
[0.3125,1.131]
[0.31259999999999999,1.131]
[0.31269999999999998,1.131]
[0.31280000000000002,1.131]
[0.31290000000000001,1.131]
[0.313,1.131]
[0.31309999999999999,1.131]
[0.31319999999999998,1.131]
[0.31330000000000002,1.131]
[0.31340000000000001,1.131]
[0.3135,1.131]
[0.31359999999999999,1.131]
[0.31369999999999998,1.131]
[0.31380000000000002,1.131]
[0.31390000000000001,1.131]
[0.314,1.131]
[0.31409999999999999,1.131]
[0.31419999999999998,1.131]
[0.31430000000000002,1.131]
[0.31440000000000001,1.131]
[0.3145,1.131]
[0.31459999999999999,1.131]
[0.31469999999999998,1.131]
[0.31480000000000002,1.131]
[0.31490000000000001,1.131]
[0.315,1.131]
[0.31509999999999999,1.131]
[0.31519999999999998,1.131]
[0.31530000000000002,1.131]
[0.31540000000000001,1.131]
[0.3155,1.131]
[0.31559999999999999,1.131]
[0.31569999999999998,1.131]
[0.31580000000000003,1.131]
[0.31590000000000001,1.131]
[0.316,1.131]
[0.31609999999999999,1.131]
[0.31619999999999998,1.131]
[0.31630000000000003,1.131]
[0.31640000000000001,1.131]
[0.3165,1.131]
[0.31659999999999999,1.131]
[0.31669999999999998,1.131]
[0.31680000000000003,1.131]
[0.31690000000000002,1.131]
[0.317,1.131]
[0.31709999999999999,1.131]
[0.31719999999999998,1.131]
[0.31730000000000003,1.131]
[0.31740000000000002,1.131]
[0.3175,1.131]
[0.31759999999999999,1.131]
[0.31769999999999998,1.131]
[0.31780000000000003,1.131]
[0.31790000000000002,1.131]
[0.318,1.131]
[0.31809999999999999,1.131]
[0.31819999999999998,1.131]
[0.31830000000000003,1.131]
[0.31840000000000002,1.131]
[0.31850000000000001,1.131]
[0.31859999999999999,1.131]
[0.31869999999999998,1.131]
[0.31879999999999997,1.131]
[0.31890000000000002,1.131]
[0.31900000000000001,1.131]
[0.31909999999999999,1.131]
[0.31919999999999998,1.131]
[0.31929999999999997,1.131]
[0.31940000000000002,1.131]
[0.31950000000000001,1.131]
[0.3196,1.131]
[0.31969999999999998,1.131]
[0.31979999999999997,1.131]
[0.31990000000000002,1.131]
[0.32,1.131]
[0.3201,1.131]
[0.32019999999999998,1.131]
[0.32029999999999997,1.131]
[0.32040000000000002,1.131]
[0.32050000000000001,1.131]
[0.3206,1.131]
[0.32069999999999999,1.131]
[0.32079999999999997,1.131]
[0.32090000000000002,1.131]
[0.32100000000000001,1.131]
[0.3211,1.131]
[0.32119999999999999,1.131]
[0.32129999999999997,1.131]
[0.32140000000000002,1.131]
[0.32150000000000001,1.131]
[0.3216,1.131]
[0.32169999999999999,1.131]
[0.32179999999999997,1.131]
[0.32190000000000002,1.131]
[0.32200000000000001,1.131]
[0.3221,1.131]
[0.32219999999999999,1.131]
[0.32229999999999998,1.131]
[0.32240000000000002,1.131]
[0.32250000000000001,1.131]
[0.3226,1.131]
[0.32269999999999999,1.131]
[0.32279999999999998,1.131]
[0.32290000000000002,1.131]
[0.32300000000000001,1.131]
[0.3231,1.131]
[0.32319999999999999,1.131]
[0.32329999999999998,1.131]
[0.32340000000000002,1.131]
[0.32350000000000001,1.131]
[0.3236,1.131]
[0.32369999999999999,1.131]
[0.32379999999999998,1.131]
[0.32390000000000002,1.131]
[0.32400000000000001,1.131]
[0.3241,1.131]
[0.32419999999999999,1.131]
[0.32429999999999998,1.131]
[0.32440000000000002,1.131]
[0.32450000000000001,1.131]
[0.3246,1.131]
[0.32469999999999999,1.131]
[0.32479999999999998,1.131]
[0.32490000000000002,1.131]
[0.32500000000000001,1.131]
[0.3251,1.131]
[0.32519999999999999,1.131]
[0.32529999999999998,1.131]
[0.32540000000000002,1.131]
[0.32550000000000001,1.131]
[0.3256,1.131]
[0.32569999999999999,1.131]
[0.32579999999999998,1.131]
[0.32590000000000002,1.131]
[0.32600000000000001,1.131]
[0.3261,1.131]
[0.32619999999999999,1.131]
[0.32629999999999998,1.131]
[0.32640000000000002,1.131]
[0.32650000000000001,1.131]
[0.3266,1.131]
[0.32669999999999999,1.131]
[0.32679999999999998,1.131]
[0.32690000000000002,1.131]
[0.32700000000000001,1.131]
[0.3271,1.131]
[0.32719999999999999,1.131]
[0.32729999999999998,1.131]
[0.32740000000000002,1.131]
[0.32750000000000001,1.131]
[0.3276,1.131]
[0.32769999999999999,1.131]
[0.32779999999999998,1.131]
[0.32790000000000002,1.131]
[0.32800000000000001,1.131]
[0.3281,1.131]
[0.32819999999999999,1.131]
[0.32829999999999998,1.131]
[0.32840000000000003,1.131]
[0.32850000000000001,1.131]
[0.3286,1.131]
[0.32869999999999999,1.131]
[0.32879999999999998,1.131]
[0.32890000000000003,1.131]
[0.32900000000000001,1.131]
[0.3291,1.131]
[0.32919999999999999,1.131]
[0.32929999999999998,1.131]
[0.32940000000000003,1.131]
[0.32950000000000002,1.131]
[0.3296,1.131]
[0.32969999999999999,1.131]
[0.32979999999999998,1.131]
[0.32990000000000003,1.131]
[0.33,1.131]
[0.3301,1.131]
[0.33019999999999999,1.131]
[0.33029999999999998,1.131]
[0.33040000000000003,1.131]
[0.33050000000000002,1.131]
[0.3306,1.131]
[0.33069999999999999,1.131]
[0.33079999999999998,1.131]
[0.33090000000000003,1.131]
[0.33100000000000002,1.131]
[0.33110000000000001,1.131]
[0.33119999999999999,1.131]
[0.33129999999999998,1.131]
[0.33139999999999997,1.131]
[0.33150000000000002,1.131]
[0.33160000000000001,1.131]
[0.33169999999999999,1.131]
[0.33179999999999998,1.131]
[0.33189999999999997,1.131]
[0.33200000000000002,1.131]
[0.33210000000000001,1.131]
[0.3322,1.131]
[0.33229999999999998,1.131]
[0.33239999999999997,1.131]
[0.33250000000000002,1.131]
[0.33260000000000001,1.131]
[0.3327,1.131]
[0.33279999999999998,1.131]
[0.33289999999999997,1.131]
[0.33300000000000002,1.131]
[0.33310000000000001,1.131]
[0.3332,1.131]
[0.33329999999999999,1.131]
[0.33339999999999997,1.131]
[0.33350000000000002,1.131]
[0.33360000000000001,1.131]
[0.3337,1.131]
[0.33379999999999999,1.131]
[0.33389999999999997,1.131]
[0.33400000000000002,1.131]
[0.33410000000000001,1.131]
[0.3342,1.131]
[0.33429999999999999,1.131]
[0.33439999999999998,1.131]
[0.33450000000000002,1.131]
[0.33460000000000001,1.131]
[0.3347,1.131]
[0.33479999999999999,1.131]
[0.33489999999999998,1.131]
[0.33500000000000002,1.131]
[0.33510000000000001,1.131]
[0.3352,1.131]
[0.33529999999999999,1.131]
[0.33539999999999998,1.131]
[0.33550000000000002,1.131]
[0.33560000000000001,1.131]
[0.3357,1.131]
[0.33579999999999999,1.131]
[0.33589999999999998,1.131]
[0.33600000000000002,1.131]
[0.33610000000000001,1.131]
[0.3362,1.131]
[0.33629999999999999,1.131]
[0.33639999999999998,1.131]
[0.33650000000000002,1.131]
[0.33660000000000001,1.131]
[0.3367,1.131]
[0.33679999999999999,1.131]
[0.33689999999999998,1.131]
[0.33700000000000002,1.131]
[0.33710000000000001,1.131]
[0.3372,1.131]
[0.33729999999999999,1.131]
[0.33739999999999998,1.131]
[0.33750000000000002,1.131]
[0.33760000000000001,1.131]
[0.3377,1.131]
[0.33779999999999999,1.131]
[0.33789999999999998,1.131]
[0.33800000000000002,1.131]
[0.33810000000000001,1.131]
[0.3382,1.131]
[0.33829999999999999,1.131]
[0.33839999999999998,1.131]
[0.33850000000000002,1.131]
[0.33860000000000001,1.131]
[0.3387,1.131]
[0.33879999999999999,1.131]
[0.33889999999999998,1.131]
[0.33900000000000002,1.131]
[0.33910000000000001,1.131]
[0.3392,1.131]
[0.33929999999999999,1.131]
[0.33939999999999998,1.131]
[0.33950000000000002,1.131]
[0.33960000000000001,1.131]
[0.3397,1.131]
[0.33979999999999999,1.131]
[0.33989999999999998,1.131]
[0.34,1.131]
[0.34010000000000001,1.131]
[0.3402,1.131]
[0.34029999999999999,1.131]
[0.34039999999999998,1.131]
[0.34050000000000002,1.131]
[0.34060000000000001,1.131]
[0.3407,1.131]
[0.34079999999999999,1.131]
[0.34089999999999998,1.131]
[0.34100000000000003,1.131]
[0.34110000000000001,1.131]
[0.3412,1.131]
[0.34129999999999999,1.131]
[0.34139999999999998,1.131]
[0.34150000000000003,1.131]
[0.34160000000000001,1.131]
[0.3417,1.131]
[0.34179999999999999,1.131]
[0.34189999999999998,1.131]
[0.34200000000000003,1.131]
[0.34210000000000002,1.131]
[0.3422,1.131]
[0.34229999999999999,1.131]
[0.34239999999999998,1.131]
[0.34250000000000003,1.131]
[0.34260000000000002,1.131]
[0.3427,1.131]
[0.34279999999999999,1.131]
[0.34289999999999998,1.131]
[0.34300000000000003,1.131]
[0.34310000000000002,1.131]
[0.34320000000000001,1.131]
[0.34329999999999999,1.131]
[0.34339999999999998,1.131]
[0.34350000000000003,1.131]
[0.34360000000000002,1.131]
[0.34370000000000001,1.131]
[0.34379999999999999,1.131]
[0.34389999999999998,1.131]
[0.34399999999999997,1.131]
[0.34410000000000002,1.131]
[0.34420000000000001,1.131]
[0.34429999999999999,1.131]
[0.34439999999999998,1.131]
[0.34449999999999997,1.131]
[0.34460000000000002,1.131]
[0.34470000000000001,1.131]
[0.3448,1.131]
[0.34489999999999998,1.131]
[0.34499999999999997,1.131]
[0.34510000000000002,1.131]
[0.34520000000000001,1.131]
[0.3453,1.131]
[0.34539999999999998,1.131]
[0.34549999999999997,1.131]
[0.34560000000000002,1.131]
[0.34570000000000001,1.131]
[0.3458,1.131]
[0.34589999999999999,1.131]
[0.34599999999999997,1.131]
[0.34610000000000002,1.131]
[0.34620000000000001,1.131]
[0.3463,1.131]
[0.34639999999999999,1.131]
[0.34649999999999997,1.131]
[0.34660000000000002,1.131]
[0.34670000000000001,1.131]
[0.3468,1.131]
[0.34689999999999999,1.131]
[0.34699999999999998,1.131]
[0.34710000000000002,1.131]
[0.34720000000000001,1.131]
[0.3473,1.131]
[0.34739999999999999,1.131]
[0.34749999999999998,1.131]
[0.34760000000000002,1.131]
[0.34770000000000001,1.131]
[0.3478,1.131]
[0.34789999999999999,1.131]
[0.34799999999999998,1.131]
[0.34810000000000002,1.131]
[0.34820000000000001,1.131]
[0.3483,1.131]
[0.34839999999999999,1.131]
[0.34849999999999998,1.131]
[0.34860000000000002,1.131]
[0.34870000000000001,1.131]
[0.3488,1.131]
[0.34889999999999999,1.131]
[0.34899999999999998,1.131]
[0.34910000000000002,1.131]
[0.34920000000000001,1.131]
[0.3493,1.131]
[0.34939999999999999,1.131]
[0.34949999999999998,1.131]
[0.34960000000000002,1.131]
[0.34970000000000001,1.131]
[0.3498,1.131]
[0.34989999999999999,1.131]
[0.35,1.131]
[0.35010000000000002,1.131]
[0.35020000000000001,1.131]
[0.3503,1.131]
[0.35039999999999999,1.131]
[0.35049999999999998,1.131]
[0.35060000000000002,1.131]
[0.35070000000000001,1.131]
[0.3508,1.131]
[0.35089999999999999,1.131]
[0.35099999999999998,1.131]
[0.35110000000000002,1.131]
[0.35120000000000001,1.131]
[0.3513,1.131]
[0.35139999999999999,1.131]
[0.35149999999999998,1.131]
[0.35160000000000002,1.131]
[0.35170000000000001,1.131]
[0.3518,1.131]
[0.35189999999999999,1.131]
[0.35199999999999998,1.131]
[0.35210000000000002,1.131]
[0.35220000000000001,1.131]
[0.3523,1.131]
[0.35239999999999999,1.131]
[0.35249999999999998,1.131]
[0.35260000000000002,1.131]
[0.35270000000000001,1.131]
[0.3528,1.131]
[0.35289999999999999,1.131]
[0.35299999999999998,1.131]
[0.35310000000000002,1.131]
[0.35320000000000001,1.131]
[0.3533,1.131]
[0.35339999999999999,1.131]
[0.35349999999999998,1.131]
[0.35360000000000003,1.131]
[0.35370000000000001,1.131]
[0.3538,1.131]
[0.35389999999999999,1.131]
[0.35399999999999998,1.131]
[0.35410000000000003,1.131]
[0.35420000000000001,1.131]
[0.3543,1.131]
[0.35439999999999999,1.131]
[0.35449999999999998,1.131]
[0.35460000000000003,1.131]
[0.35470000000000002,1.131]
[0.3548,1.131]
[0.35489999999999999,1.131]
[0.35499999999999998,1.131]
[0.35510000000000003,1.131]
[0.35520000000000002,1.131]
[0.3553,1.131]
[0.35539999999999999,1.131]
[0.35549999999999998,1.131]
[0.35560000000000003,1.131]
[0.35570000000000002,1.131]
[0.35580000000000001,1.131]
[0.35589999999999999,1.131]
[0.35599999999999998,1.131]
[0.35610000000000003,1.131]
[0.35620000000000002,1.131]
[0.35630000000000001,1.131]
[0.35639999999999999,1.131]
[0.35649999999999998,1.131]
[0.35659999999999997,1.131]
[0.35670000000000002,1.131]
[0.35680000000000001,1.131]
[0.3569,1.131]
[0.35699999999999998,1.131]
[0.35709999999999997,1.131]
[0.35720000000000002,1.131]
[0.35730000000000001,1.131]
[0.3574,1.131]
[0.35749999999999998,1.131]
[0.35759999999999997,1.131]
[0.35770000000000002,1.131]
[0.35780000000000001,1.131]
[0.3579,1.131]
[0.35799999999999998,1.131]
[0.35809999999999997,1.131]
[0.35820000000000002,1.131]
[0.35830000000000001,1.131]
[0.3584,1.131]
[0.35849999999999999,1.131]
[0.35859999999999997,1.131]
[0.35870000000000002,1.131]
[0.35880000000000001,1.131]
[0.3589,1.131]
[0.35899999999999999,1.131]
[0.35909999999999997,1.131]
[0.35920000000000002,1.131]
[0.35930000000000001,1.131]
[0.3594,1.131]
[0.35949999999999999,1.131]
[0.35959999999999998,1.131]
[0.35970000000000002,1.131]
[0.35980000000000001,1.131]
[0.3599,1.131]
[0.36,1.131]
[0.36009999999999998,1.131]
[0.36020000000000002,1.131]
[0.36030000000000001,1.131]
[0.3604,1.131]
[0.36049999999999999,1.131]
[0.36059999999999998,1.131]
[0.36070000000000002,1.131]
[0.36080000000000001,1.131]
[0.3609,1.131]
[0.36099999999999999,1.131]
[0.36109999999999998,1.131]
[0.36120000000000002,1.131]
[0.36130000000000001,1.131]
[0.3614,1.131]
[0.36149999999999999,1.131]
[0.36159999999999998,1.131]
[0.36170000000000002,1.131]
[0.36180000000000001,1.131]
[0.3619,1.131]
[0.36199999999999999,1.131]
[0.36209999999999998,1.131]
[0.36220000000000002,1.131]
[0.36230000000000001,1.131]
[0.3624,1.131]
[0.36249999999999999,1.131]
[0.36259999999999998,1.131]
[0.36270000000000002,1.131]
[0.36280000000000001,1.131]
[0.3629,1.131]
[0.36299999999999999,1.131]
[0.36309999999999998,1.131]
[0.36320000000000002,1.131]
[0.36330000000000001,1.131]
[0.3634,1.131]
[0.36349999999999999,1.131]
[0.36359999999999998,1.131]
[0.36370000000000002,1.131]
[0.36380000000000001,1.131]
[0.3639,1.131]
[0.36399999999999999,1.131]
[0.36409999999999998,1.131]
[0.36420000000000002,1.131]
[0.36430000000000001,1.131]
[0.3644,1.131]
[0.36449999999999999,1.131]
[0.36459999999999998,1.131]
[0.36470000000000002,1.131]
[0.36480000000000001,1.131]
[0.3649,1.131]
[0.36499999999999999,1.131]
[0.36509999999999998,1.131]
[0.36520000000000002,1.131]
[0.36530000000000001,1.131]
[0.3654,1.131]
[0.36549999999999999,1.131]
[0.36559999999999998,1.131]
[0.36570000000000003,1.131]
[0.36580000000000001,1.131]
[0.3659,1.131]
[0.36599999999999999,1.131]
[0.36609999999999998,1.131]
[0.36620000000000003,1.131]
[0.36630000000000001,1.131]
[0.3664,1.131]
[0.36649999999999999,1.131]
[0.36659999999999998,1.131]
[0.36670000000000003,1.131]
[0.36680000000000001,1.131]
[0.3669,1.131]
[0.36699999999999999,1.131]
[0.36709999999999998,1.131]
[0.36720000000000003,1.131]
[0.36730000000000002,1.131]
[0.3674,1.131]
[0.36749999999999999,1.131]
[0.36759999999999998,1.131]
[0.36770000000000003,1.131]
[0.36780000000000002,1.131]
[0.3679,1.131]
[0.36799999999999999,1.131]
[0.36809999999999998,1.131]
[0.36820000000000003,1.131]
[0.36830000000000002,1.131]
[0.36840000000000001,1.131]
[0.36849999999999999,1.131]
[0.36859999999999998,1.131]
[0.36870000000000003,1.131]
[0.36880000000000002,1.131]
[0.36890000000000001,1.131]
[0.36899999999999999,1.131]
[0.36909999999999998,1.131]
[0.36919999999999997,1.131]
[0.36930000000000002,1.131]
[0.36940000000000001,1.131]
[0.3695,1.131]
[0.36959999999999998,1.131]
[0.36969999999999997,1.131]
[0.36980000000000002,1.131]
[0.36990000000000001,1.131]
[0.37,1.131]
[0.37009999999999998,1.131]
[0.37019999999999997,1.131]
[0.37030000000000002,1.131]
[0.37040000000000001,1.131]
[0.3705,1.131]
[0.37059999999999998,1.131]
[0.37069999999999997,1.131]
[0.37080000000000002,1.131]
[0.37090000000000001,1.131]
[0.371,1.131]
[0.37109999999999999,1.131]
[0.37119999999999997,1.131]
[0.37130000000000002,1.131]
[0.37140000000000001,1.131]
[0.3715,1.131]
[0.37159999999999999,1.131]
[0.37169999999999997,1.131]
[0.37180000000000002,1.131]
[0.37190000000000001,1.131]
[0.372,1.131]
[0.37209999999999999,1.131]
[0.37219999999999998,1.131]
[0.37230000000000002,1.131]
[0.37240000000000001,1.131]
[0.3725,1.131]
[0.37259999999999999,1.131]
[0.37269999999999998,1.131]
[0.37280000000000002,1.131]
[0.37290000000000001,1.131]
[0.373,1.131]
[0.37309999999999999,1.131]
[0.37319999999999998,1.131]
[0.37330000000000002,1.131]
[0.37340000000000001,1.131]
[0.3735,1.131]
[0.37359999999999999,1.131]
[0.37369999999999998,1.131]
[0.37380000000000002,1.131]
[0.37390000000000001,1.131]
[0.374,1.131]
[0.37409999999999999,1.131]
[0.37419999999999998,1.131]
[0.37430000000000002,1.131]
[0.37440000000000001,1.131]
[0.3745,1.131]
[0.37459999999999999,1.131]
[0.37469999999999998,1.131]
[0.37480000000000002,1.131]
[0.37490000000000001,1.131]
[0.375,1.131]
[0.37509999999999999,1.131]
[0.37519999999999998,1.131]
[0.37530000000000002,1.131]
[0.37540000000000001,1.131]
[0.3755,1.131]
[0.37559999999999999,1.131]
[0.37569999999999998,1.131]
[0.37580000000000002,1.131]
[0.37590000000000001,1.131]
[0.376,1.131]
[0.37609999999999999,1.131]
[0.37619999999999998,1.131]
[0.37630000000000002,1.131]
[0.37640000000000001,1.131]
[0.3765,1.131]
[0.37659999999999999,1.131]
[0.37669999999999998,1.131]
[0.37680000000000002,1.131]
[0.37690000000000001,1.131]
[0.377,1.131]
[0.37709999999999999,1.131]
[0.37719999999999998,1.131]
[0.37730000000000002,1.131]
[0.37740000000000001,1.131]
[0.3775,1.131]
[0.37759999999999999,1.131]
[0.37769999999999998,1.131]
[0.37780000000000002,1.131]
[0.37790000000000001,1.131]
[0.378,1.131]
[0.37809999999999999,1.131]
[0.37819999999999998,1.131]
[0.37830000000000003,1.131]
[0.37840000000000001,1.131]
[0.3785,1.131]
[0.37859999999999999,1.131]
[0.37869999999999998,1.131]
[0.37880000000000003,1.131]
[0.37890000000000001,1.131]
[0.379,1.131]
[0.37909999999999999,1.131]
[0.37919999999999998,1.131]
[0.37930000000000003,1.131]
[0.37940000000000002,1.131]
[0.3795,1.131]
[0.37959999999999999,1.131]
[0.37969999999999998,1.131]
[0.37980000000000003,1.131]
[0.37990000000000002,1.131]
[0.38,1.131]
[0.38009999999999999,1.131]
[0.38019999999999998,1.131]
[0.38030000000000003,1.131]
[0.38040000000000002,1.131]
[0.3805,1.131]
[0.38059999999999999,1.131]
[0.38069999999999998,1.131]
[0.38080000000000003,1.131]
[0.38090000000000002,1.131]
[0.38100000000000001,1.131]
[0.38109999999999999,1.131]
[0.38119999999999998,1.131]
[0.38129999999999997,1.131]
[0.38140000000000002,1.131]
[0.38150000000000001,1.131]
[0.38159999999999999,1.131]
[0.38169999999999998,1.131]
[0.38179999999999997,1.131]
[0.38190000000000002,1.131]
[0.38200000000000001,1.131]
[0.3821,1.131]
[0.38219999999999998,1.131]
[0.38229999999999997,1.131]
[0.38240000000000002,1.131]
[0.38250000000000001,1.131]
[0.3826,1.131]
[0.38269999999999998,1.131]
[0.38279999999999997,1.131]
[0.38290000000000002,1.131]
[0.38300000000000001,1.131]
[0.3831,1.131]
[0.38319999999999999,1.131]
[0.38329999999999997,1.131]
[0.38340000000000002,1.131]
[0.38350000000000001,1.131]
[0.3836,1.131]
[0.38369999999999999,1.131]
[0.38379999999999997,1.131]
[0.38390000000000002,1.131]
[0.38400000000000001,1.131]
[0.3841,1.131]
[0.38419999999999999,1.131]
[0.38429999999999997,1.131]
[0.38440000000000002,1.131]
[0.38450000000000001,1.131]
[0.3846,1.131]
[0.38469999999999999,1.131]
[0.38479999999999998,1.131]
[0.38490000000000002,1.131]
[0.38500000000000001,1.131]
[0.3851,1.131]
[0.38519999999999999,1.131]
[0.38529999999999998,1.131]
[0.38540000000000002,1.131]
[0.38550000000000001,1.131]
[0.3856,1.131]
[0.38569999999999999,1.131]
[0.38579999999999998,1.131]
[0.38590000000000002,1.131]
[0.38600000000000001,1.131]
[0.3861,1.131]
[0.38619999999999999,1.131]
[0.38629999999999998,1.131]
[0.38640000000000002,1.131]
[0.38650000000000001,1.131]
[0.3866,1.131]
[0.38669999999999999,1.131]
[0.38679999999999998,1.131]
[0.38690000000000002,1.131]
[0.38700000000000001,1.131]
[0.3871,1.131]
[0.38719999999999999,1.131]
[0.38729999999999998,1.131]
[0.38740000000000002,1.131]
[0.38750000000000001,1.131]
[0.3876,1.131]
[0.38769999999999999,1.131]
[0.38779999999999998,1.131]
[0.38790000000000002,1.131]
[0.38800000000000001,1.131]
[0.3881,1.131]
[0.38819999999999999,1.131]
[0.38829999999999998,1.131]
[0.38840000000000002,1.131]
[0.38850000000000001,1.131]
[0.3886,1.131]
[0.38869999999999999,1.131]
[0.38879999999999998,1.131]
[0.38890000000000002,1.131]
[0.38900000000000001,1.131]
[0.3891,1.131]
[0.38919999999999999,1.131]
[0.38929999999999998,1.131]
[0.38940000000000002,1.131]
[0.38950000000000001,1.131]
[0.3896,1.131]
[0.38969999999999999,1.131]
[0.38979999999999998,1.131]
[0.38990000000000002,1.131]
[0.39,1.131]
[0.3901,1.131]
[0.39019999999999999,1.131]
[0.39029999999999998,1.131]
[0.39040000000000002,1.131]
[0.39050000000000001,1.131]
[0.3906,1.131]
[0.39069999999999999,1.131]
[0.39079999999999998,1.131]
[0.39090000000000003,1.131]
[0.39100000000000001,1.131]
[0.3911,1.131]
[0.39119999999999999,1.131]
[0.39129999999999998,1.131]
[0.39140000000000003,1.131]
[0.39150000000000001,1.131]
[0.3916,1.131]
[0.39169999999999999,1.131]
[0.39179999999999998,1.131]
[0.39190000000000003,1.131]
[0.39200000000000002,1.131]
[0.3921,1.131]
[0.39219999999999999,1.131]
[0.39229999999999998,1.131]
[0.39240000000000003,1.131]
[0.39250000000000002,1.131]
[0.3926,1.131]
[0.39269999999999999,1.131]
[0.39279999999999998,1.131]
[0.39290000000000003,1.131]
[0.39300000000000002,1.131]
[0.3931,1.131]
[0.39319999999999999,1.131]
[0.39329999999999998,1.131]
[0.39340000000000003,1.131]
[0.39350000000000002,1.131]
[0.39360000000000001,1.131]
[0.39369999999999999,1.131]
[0.39379999999999998,1.131]
[0.39389999999999997,1.131]
[0.39400000000000002,1.131]
[0.39410000000000001,1.131]
[0.39419999999999999,1.131]
[0.39429999999999998,1.131]
[0.39439999999999997,1.131]
[0.39450000000000002,1.131]
[0.39460000000000001,1.131]
[0.3947,1.131]
[0.39479999999999998,1.131]
[0.39489999999999997,1.131]
[0.39500000000000002,1.131]
[0.39510000000000001,1.131]
[0.3952,1.131]
[0.39529999999999998,1.131]
[0.39539999999999997,1.131]
[0.39550000000000002,1.131]
[0.39560000000000001,1.131]
[0.3957,1.131]
[0.39579999999999999,1.131]
[0.39589999999999997,1.131]
[0.39600000000000002,1.131]
[0.39610000000000001,1.131]
[0.3962,1.131]
[0.39629999999999999,1.131]
[0.39639999999999997,1.131]
[0.39650000000000002,1.131]
[0.39660000000000001,1.131]
[0.3967,1.131]
[0.39679999999999999,1.131]
[0.39689999999999998,1.131]
[0.39700000000000002,1.131]
[0.39710000000000001,1.131]
[0.3972,1.131]
[0.39729999999999999,1.131]
[0.39739999999999998,1.131]
[0.39750000000000002,1.131]
[0.39760000000000001,1.131]
[0.3977,1.131]
[0.39779999999999999,1.131]
[0.39789999999999998,1.131]
[0.39800000000000002,1.131]
[0.39810000000000001,1.131]
[0.3982,1.131]
[0.39829999999999999,1.131]
[0.39839999999999998,1.131]
[0.39850000000000002,1.131]
[0.39860000000000001,1.131]
[0.3987,1.131]
[0.39879999999999999,1.131]
[0.39889999999999998,1.131]
[0.39900000000000002,1.131]
[0.39910000000000001,1.131]
[0.3992,1.131]
[0.39929999999999999,1.131]
[0.39939999999999998,1.131]
[0.39950000000000002,1.131]
[0.39960000000000001,1.131]
[0.3997,1.131]
[0.39979999999999999,1.131]
[0.39989999999999998,1.131]
[0.4,1.131]
[0.40010000000000001,1.0860000000000001]
[0.4002,1.0860000000000001]
[0.40029999999999999,1.0860000000000001]
[0.40039999999999998,1.0860000000000001]
[0.40050000000000002,1.0860000000000001]
[0.40060000000000001,1.0860000000000001]
[0.4007,1.0860000000000001]
[0.40079999999999999,1.0860000000000001]
[0.40089999999999998,1.0860000000000001]
[0.40100000000000002,1.0860000000000001]
[0.40110000000000001,1.0860000000000001]
[0.4012,1.0860000000000001]
[0.40129999999999999,1.0860000000000001]
[0.40139999999999998,1.0860000000000001]
[0.40150000000000002,1.0860000000000001]
[0.40160000000000001,1.0860000000000001]
[0.4017,1.0860000000000001]
[0.40179999999999999,1.0860000000000001]
[0.40189999999999998,1.0860000000000001]
[0.40200000000000002,1.0860000000000001]
[0.40210000000000001,1.0860000000000001]
[0.4022,1.0860000000000001]
[0.40229999999999999,1.0860000000000001]
[0.40239999999999998,1.0860000000000001]
[0.40250000000000002,1.0860000000000001]
[0.40260000000000001,1.0860000000000001]
[0.4027,1.0860000000000001]
[0.40279999999999999,1.0860000000000001]
[0.40289999999999998,1.0860000000000001]
[0.40300000000000002,1.0860000000000001]
[0.40310000000000001,1.0860000000000001]
[0.4032,1.0860000000000001]
[0.40329999999999999,1.0860000000000001]
[0.40339999999999998,1.0860000000000001]
[0.40350000000000003,1.0860000000000001]
[0.40360000000000001,1.0860000000000001]
[0.4037,1.0860000000000001]
[0.40379999999999999,1.0860000000000001]
[0.40389999999999998,1.0860000000000001]
[0.40400000000000003,1.0860000000000001]
[0.40410000000000001,1.0860000000000001]
[0.4042,1.0860000000000001]
[0.40429999999999999,1.0860000000000001]
[0.40439999999999998,1.0860000000000001]
[0.40450000000000003,1.0860000000000001]
[0.40460000000000002,1.0860000000000001]
[0.4047,1.0860000000000001]
[0.40479999999999999,1.0860000000000001]
[0.40489999999999998,1.0860000000000001]
[0.40500000000000003,1.0860000000000001]
[0.40510000000000002,1.0860000000000001]
[0.4052,1.0860000000000001]
[0.40529999999999999,1.0860000000000001]
[0.40539999999999998,1.0860000000000001]
[0.40550000000000003,1.0860000000000001]
[0.40560000000000002,1.0860000000000001]
[0.40570000000000001,1.0860000000000001]
[0.40579999999999999,1.0860000000000001]
[0.40589999999999998,1.0860000000000001]
[0.40600000000000003,1.0860000000000001]
[0.40610000000000002,1.0860000000000001]
[0.40620000000000001,1.0860000000000001]
[0.40629999999999999,1.0860000000000001]
[0.40639999999999998,1.0860000000000001]
[0.40649999999999997,1.0860000000000001]
[0.40660000000000002,1.0860000000000001]
[0.40670000000000001,1.0860000000000001]
[0.40679999999999999,1.0860000000000001]
[0.40689999999999998,1.0860000000000001]
[0.40699999999999997,1.0860000000000001]
[0.40710000000000002,1.0860000000000001]
[0.40720000000000001,1.0860000000000001]
[0.4073,1.0860000000000001]
[0.40739999999999998,1.0860000000000001]
[0.40749999999999997,1.0860000000000001]
[0.40760000000000002,1.0860000000000001]
[0.40770000000000001,1.0860000000000001]
[0.4078,1.0860000000000001]
[0.40789999999999998,1.0860000000000001]
[0.40799999999999997,1.0860000000000001]
[0.40810000000000002,1.0860000000000001]
[0.40820000000000001,1.0860000000000001]
[0.4083,1.0860000000000001]
[0.40839999999999999,1.0860000000000001]
[0.40849999999999997,1.0860000000000001]
[0.40860000000000002,1.0860000000000001]
[0.40870000000000001,1.0860000000000001]
[0.4088,1.0860000000000001]
[0.40889999999999999,1.0860000000000001]
[0.40899999999999997,1.0860000000000001]
[0.40910000000000002,1.0860000000000001]
[0.40920000000000001,1.0860000000000001]
[0.4093,1.0860000000000001]
[0.40939999999999999,1.0860000000000001]
[0.40949999999999998,1.0860000000000001]
[0.40960000000000002,1.0860000000000001]
[0.40970000000000001,1.0860000000000001]
[0.4098,1.0860000000000001]
[0.40989999999999999,1.0860000000000001]
[0.41,1.0860000000000001]
[0.41010000000000002,1.0860000000000001]
[0.41020000000000001,1.0860000000000001]
[0.4103,1.0860000000000001]
[0.41039999999999999,1.0860000000000001]
[0.41049999999999998,1.0860000000000001]
[0.41060000000000002,1.0860000000000001]
[0.41070000000000001,1.0860000000000001]
[0.4108,1.0860000000000001]
[0.41089999999999999,1.0860000000000001]
[0.41099999999999998,1.0860000000000001]
[0.41110000000000002,1.0860000000000001]
[0.41120000000000001,1.0860000000000001]
[0.4113,1.0860000000000001]
[0.41139999999999999,1.0860000000000001]
[0.41149999999999998,1.0860000000000001]
[0.41160000000000002,1.0860000000000001]
[0.41170000000000001,1.0860000000000001]
[0.4118,1.0860000000000001]
[0.41189999999999999,1.0860000000000001]
[0.41199999999999998,1.0860000000000001]
[0.41210000000000002,1.0860000000000001]
[0.41220000000000001,1.0860000000000001]
[0.4123,1.0860000000000001]
[0.41239999999999999,1.0860000000000001]
[0.41249999999999998,1.0860000000000001]
[0.41260000000000002,1.0860000000000001]
[0.41270000000000001,1.0860000000000001]
[0.4128,1.0860000000000001]
[0.41289999999999999,1.0860000000000001]
[0.41299999999999998,1.0860000000000001]
[0.41310000000000002,1.0860000000000001]
[0.41320000000000001,1.0860000000000001]
[0.4133,1.0860000000000001]
[0.41339999999999999,1.0860000000000001]
[0.41349999999999998,1.0860000000000001]
[0.41360000000000002,1.0860000000000001]
[0.41370000000000001,1.0860000000000001]
[0.4138,1.0860000000000001]
[0.41389999999999999,1.0860000000000001]
[0.41399999999999998,1.0860000000000001]
[0.41410000000000002,1.0860000000000001]
[0.41420000000000001,1.0860000000000001]
[0.4143,1.0860000000000001]
[0.41439999999999999,1.0860000000000001]
[0.41449999999999998,1.0860000000000001]
[0.41460000000000002,1.0860000000000001]
[0.41470000000000001,1.0860000000000001]
[0.4148,1.0860000000000001]
[0.41489999999999999,1.0860000000000001]
[0.41499999999999998,1.0860000000000001]
[0.41510000000000002,1.0860000000000001]
[0.41520000000000001,1.0860000000000001]
[0.4153,1.0860000000000001]
[0.41539999999999999,1.0860000000000001]
[0.41549999999999998,1.0860000000000001]
[0.41560000000000002,1.0860000000000001]
[0.41570000000000001,1.0860000000000001]
[0.4158,1.0860000000000001]
[0.41589999999999999,1.0860000000000001]
[0.41599999999999998,1.0860000000000001]
[0.41610000000000003,1.0860000000000001]
[0.41620000000000001,1.0860000000000001]
[0.4163,1.0860000000000001]
[0.41639999999999999,1.0860000000000001]
[0.41649999999999998,1.0860000000000001]
[0.41660000000000003,1.0860000000000001]
[0.41670000000000001,1.0860000000000001]
[0.4168,1.0860000000000001]
[0.41689999999999999,1.0860000000000001]
[0.41699999999999998,1.0860000000000001]
[0.41710000000000003,1.0860000000000001]
[0.41720000000000002,1.0860000000000001]
[0.4173,1.0860000000000001]
[0.41739999999999999,1.0860000000000001]
[0.41749999999999998,1.0860000000000001]
[0.41760000000000003,1.0860000000000001]
[0.41770000000000002,1.0860000000000001]
[0.4178,1.0860000000000001]
[0.41789999999999999,1.0860000000000001]
[0.41799999999999998,1.0860000000000001]
[0.41810000000000003,1.0860000000000001]
[0.41820000000000002,1.0860000000000001]
[0.41830000000000001,1.0860000000000001]
[0.41839999999999999,1.0860000000000001]
[0.41849999999999998,1.0860000000000001]
[0.41860000000000003,1.0860000000000001]
[0.41870000000000002,1.0860000000000001]
[0.41880000000000001,1.0860000000000001]
[0.41889999999999999,1.0860000000000001]
[0.41899999999999998,1.0860000000000001]
[0.41909999999999997,1.0860000000000001]
[0.41920000000000002,1.0860000000000001]
[0.41930000000000001,1.0860000000000001]
[0.4194,1.0860000000000001]
[0.41949999999999998,1.0860000000000001]
[0.41959999999999997,1.0860000000000001]
[0.41970000000000002,1.0860000000000001]
[0.41980000000000001,1.0860000000000001]
[0.4199,1.0860000000000001]
[0.42,1.0860000000000001]
[0.42009999999999997,1.0860000000000001]
[0.42020000000000002,1.0860000000000001]
[0.42030000000000001,1.0860000000000001]
[0.4204,1.0860000000000001]
[0.42049999999999998,1.0860000000000001]
[0.42059999999999997,1.0860000000000001]
[0.42070000000000002,1.0860000000000001]
[0.42080000000000001,1.0860000000000001]
[0.4209,1.0860000000000001]
[0.42099999999999999,1.0860000000000001]
[0.42109999999999997,1.0860000000000001]
[0.42120000000000002,1.0860000000000001]
[0.42130000000000001,1.0860000000000001]
[0.4214,1.0860000000000001]
[0.42149999999999999,1.0860000000000001]
[0.42159999999999997,1.0860000000000001]
[0.42170000000000002,1.0860000000000001]
[0.42180000000000001,1.0860000000000001]
[0.4219,1.0860000000000001]
[0.42199999999999999,1.0860000000000001]
[0.42209999999999998,1.0860000000000001]
[0.42220000000000002,1.0860000000000001]
[0.42230000000000001,1.0860000000000001]
[0.4224,1.0860000000000001]
[0.42249999999999999,1.0860000000000001]
[0.42259999999999998,1.0860000000000001]
[0.42270000000000002,1.0860000000000001]
[0.42280000000000001,1.0860000000000001]
[0.4229,1.0860000000000001]
[0.42299999999999999,1.0860000000000001]
[0.42309999999999998,1.0860000000000001]
[0.42320000000000002,1.0860000000000001]
[0.42330000000000001,1.0860000000000001]
[0.4234,1.0860000000000001]
[0.42349999999999999,1.0860000000000001]
[0.42359999999999998,1.0860000000000001]
[0.42370000000000002,1.0860000000000001]
[0.42380000000000001,1.0860000000000001]
[0.4239,1.0860000000000001]
[0.42399999999999999,1.0860000000000001]
[0.42409999999999998,1.0860000000000001]
[0.42420000000000002,1.0860000000000001]
[0.42430000000000001,1.0860000000000001]
[0.4244,1.0860000000000001]
[0.42449999999999999,1.0860000000000001]
[0.42459999999999998,1.0860000000000001]
[0.42470000000000002,1.0860000000000001]
[0.42480000000000001,1.0860000000000001]
[0.4249,1.0860000000000001]
[0.42499999999999999,1.0860000000000001]
[0.42509999999999998,1.0860000000000001]
[0.42520000000000002,1.0860000000000001]
[0.42530000000000001,1.0860000000000001]
[0.4254,1.0860000000000001]
[0.42549999999999999,1.0860000000000001]
[0.42559999999999998,1.0860000000000001]
[0.42570000000000002,1.0860000000000001]
[0.42580000000000001,1.0860000000000001]
[0.4259,1.0860000000000001]
[0.42599999999999999,1.0860000000000001]
[0.42609999999999998,1.0860000000000001]
[0.42620000000000002,1.0860000000000001]
[0.42630000000000001,1.0860000000000001]
[0.4264,1.0860000000000001]
[0.42649999999999999,1.0860000000000001]
[0.42659999999999998,1.0860000000000001]
[0.42670000000000002,1.0860000000000001]
[0.42680000000000001,1.0860000000000001]
[0.4269,1.0860000000000001]
[0.42699999999999999,1.0860000000000001]
[0.42709999999999998,1.0860000000000001]
[0.42720000000000002,1.0860000000000001]
[0.42730000000000001,1.0860000000000001]
[0.4274,1.0860000000000001]
[0.42749999999999999,1.0860000000000001]
[0.42759999999999998,1.0860000000000001]
[0.42770000000000002,1.0860000000000001]
[0.42780000000000001,1.0860000000000001]
[0.4279,1.0860000000000001]
[0.42799999999999999,1.0860000000000001]
[0.42809999999999998,1.0860000000000001]
[0.42820000000000003,1.0860000000000001]
[0.42830000000000001,1.0860000000000001]
[0.4284,1.0860000000000001]
[0.42849999999999999,1.0860000000000001]
[0.42859999999999998,1.0860000000000001]
[0.42870000000000003,1.0860000000000001]
[0.42880000000000001,1.0860000000000001]
[0.4289,1.0860000000000001]
[0.42899999999999999,1.0860000000000001]
[0.42909999999999998,1.0860000000000001]
[0.42920000000000003,1.0860000000000001]
[0.42930000000000001,1.0860000000000001]
[0.4294,1.0860000000000001]
[0.42949999999999999,1.0860000000000001]
[0.42959999999999998,1.0860000000000001]
[0.42970000000000003,1.0860000000000001]
[0.42980000000000002,1.0860000000000001]
[0.4299,1.0860000000000001]
[0.43,1.0860000000000001]
[0.43009999999999998,1.0860000000000001]
[0.43020000000000003,1.0860000000000001]
[0.43030000000000002,1.0860000000000001]
[0.4304,1.0860000000000001]
[0.43049999999999999,1.0860000000000001]
[0.43059999999999998,1.0860000000000001]
[0.43070000000000003,1.0860000000000001]
[0.43080000000000002,1.0860000000000001]
[0.43090000000000001,1.0860000000000001]
[0.43099999999999999,1.0860000000000001]
[0.43109999999999998,1.0860000000000001]
[0.43120000000000003,1.0860000000000001]
[0.43130000000000002,1.0860000000000001]
[0.43140000000000001,1.0860000000000001]
[0.43149999999999999,1.0860000000000001]
[0.43159999999999998,1.0860000000000001]
[0.43169999999999997,1.0860000000000001]
[0.43180000000000002,1.0860000000000001]
[0.43190000000000001,1.0860000000000001]
[0.432,1.0860000000000001]
[0.43209999999999998,1.0860000000000001]
[0.43219999999999997,1.0860000000000001]
[0.43230000000000002,1.0860000000000001]
[0.43240000000000001,1.0860000000000001]
[0.4325,1.0860000000000001]
[0.43259999999999998,1.0860000000000001]
[0.43269999999999997,1.0860000000000001]
[0.43280000000000002,1.0860000000000001]
[0.43290000000000001,1.0860000000000001]
[0.433,1.0860000000000001]
[0.43309999999999998,1.0860000000000001]
[0.43319999999999997,1.0860000000000001]
[0.43330000000000002,1.0860000000000001]
[0.43340000000000001,1.0860000000000001]
[0.4335,1.0860000000000001]
[0.43359999999999999,1.0860000000000001]
[0.43369999999999997,1.0860000000000001]
[0.43380000000000002,1.0860000000000001]
[0.43390000000000001,1.0860000000000001]
[0.434,1.0860000000000001]
[0.43409999999999999,1.0860000000000001]
[0.43419999999999997,1.0860000000000001]
[0.43430000000000002,1.0860000000000001]
[0.43440000000000001,1.0860000000000001]
[0.4345,1.0860000000000001]
[0.43459999999999999,1.0860000000000001]
[0.43469999999999998,1.0860000000000001]
[0.43480000000000002,1.0860000000000001]
[0.43490000000000001,1.0860000000000001]
[0.435,1.0860000000000001]
[0.43509999999999999,1.0860000000000001]
[0.43519999999999998,1.0860000000000001]
[0.43530000000000002,1.0860000000000001]
[0.43540000000000001,1.0860000000000001]
[0.4355,1.0860000000000001]
[0.43559999999999999,1.0860000000000001]
[0.43569999999999998,1.0860000000000001]
[0.43580000000000002,1.0860000000000001]
[0.43590000000000001,1.0860000000000001]
[0.436,1.0860000000000001]
[0.43609999999999999,1.0860000000000001]
[0.43619999999999998,1.0860000000000001]
[0.43630000000000002,1.0860000000000001]
[0.43640000000000001,1.0860000000000001]
[0.4365,1.0860000000000001]
[0.43659999999999999,1.0860000000000001]
[0.43669999999999998,1.0860000000000001]
[0.43680000000000002,1.0860000000000001]
[0.43690000000000001,1.0860000000000001]
[0.437,1.0860000000000001]
[0.43709999999999999,1.0860000000000001]
[0.43719999999999998,1.0860000000000001]
[0.43730000000000002,1.0860000000000001]
[0.43740000000000001,1.0860000000000001]
[0.4375,1.0860000000000001]
[0.43759999999999999,1.0860000000000001]
[0.43769999999999998,1.0860000000000001]
[0.43780000000000002,1.0860000000000001]
[0.43790000000000001,1.0860000000000001]
[0.438,1.0860000000000001]
[0.43809999999999999,1.0860000000000001]
[0.43819999999999998,1.0860000000000001]
[0.43830000000000002,1.0860000000000001]
[0.43840000000000001,1.0860000000000001]
[0.4385,1.0860000000000001]
[0.43859999999999999,1.0860000000000001]
[0.43869999999999998,1.0860000000000001]
[0.43880000000000002,1.0860000000000001]
[0.43890000000000001,1.0860000000000001]
[0.439,1.0860000000000001]
[0.43909999999999999,1.0860000000000001]
[0.43919999999999998,1.0860000000000001]
[0.43930000000000002,1.0860000000000001]
[0.43940000000000001,1.0860000000000001]
[0.4395,1.0860000000000001]
[0.43959999999999999,1.0860000000000001]
[0.43969999999999998,1.0860000000000001]
[0.43980000000000002,1.0860000000000001]
[0.43990000000000001,1.0860000000000001]
[0.44,1.0860000000000001]
[0.44009999999999999,1.0860000000000001]
[0.44019999999999998,1.0860000000000001]
[0.44030000000000002,1.0860000000000001]
[0.44040000000000001,1.0860000000000001]
[0.4405,1.0860000000000001]
[0.44059999999999999,1.0860000000000001]
[0.44069999999999998,1.0860000000000001]
[0.44080000000000003,1.0860000000000001]
[0.44090000000000001,1.0860000000000001]
[0.441,1.0860000000000001]
[0.44109999999999999,1.0860000000000001]
[0.44119999999999998,1.0860000000000001]
[0.44130000000000003,1.0860000000000001]
[0.44140000000000001,1.0860000000000001]
[0.4415,1.0860000000000001]
[0.44159999999999999,1.0860000000000001]
[0.44169999999999998,1.0860000000000001]
[0.44180000000000003,1.0860000000000001]
[0.44190000000000002,1.0860000000000001]
[0.442,1.0860000000000001]
[0.44209999999999999,1.0860000000000001]
[0.44219999999999998,1.0860000000000001]
[0.44230000000000003,1.0860000000000001]
[0.44240000000000002,1.0860000000000001]
[0.4425,1.0860000000000001]
[0.44259999999999999,1.0860000000000001]
[0.44269999999999998,1.0860000000000001]
[0.44280000000000003,1.0860000000000001]
[0.44290000000000002,1.0860000000000001]
[0.443,1.0860000000000001]
[0.44309999999999999,1.0860000000000001]
[0.44319999999999998,1.0860000000000001]
[0.44330000000000003,1.0860000000000001]
[0.44340000000000002,1.0860000000000001]
[0.44350000000000001,1.0860000000000001]
[0.44359999999999999,1.0860000000000001]
[0.44369999999999998,1.0860000000000001]
[0.44379999999999997,1.0860000000000001]
[0.44390000000000002,1.0860000000000001]
[0.44400000000000001,1.0860000000000001]
[0.44409999999999999,1.0860000000000001]
[0.44419999999999998,1.0860000000000001]
[0.44429999999999997,1.0860000000000001]
[0.44440000000000002,1.0860000000000001]
[0.44450000000000001,1.0860000000000001]
[0.4446,1.0860000000000001]
[0.44469999999999998,1.0860000000000001]
[0.44479999999999997,1.0860000000000001]
[0.44490000000000002,1.0860000000000001]
[0.44500000000000001,1.0860000000000001]
[0.4451,1.0860000000000001]
[0.44519999999999998,1.0860000000000001]
[0.44529999999999997,1.0860000000000001]
[0.44540000000000002,1.0860000000000001]
[0.44550000000000001,1.0860000000000001]
[0.4456,1.0860000000000001]
[0.44569999999999999,1.0860000000000001]
[0.44579999999999997,1.0860000000000001]
[0.44590000000000002,1.0860000000000001]
[0.44600000000000001,1.0860000000000001]
[0.4461,1.0860000000000001]
[0.44619999999999999,1.0860000000000001]
[0.44629999999999997,1.0860000000000001]
[0.44640000000000002,1.0860000000000001]
[0.44650000000000001,1.0860000000000001]
[0.4466,1.0860000000000001]
[0.44669999999999999,1.0860000000000001]
[0.44679999999999997,1.0860000000000001]
[0.44690000000000002,1.0860000000000001]
[0.44700000000000001,1.0860000000000001]
[0.4471,1.0860000000000001]
[0.44719999999999999,1.0860000000000001]
[0.44729999999999998,1.0860000000000001]
[0.44740000000000002,1.0860000000000001]
[0.44750000000000001,1.0860000000000001]
[0.4476,1.0860000000000001]
[0.44769999999999999,1.0860000000000001]
[0.44779999999999998,1.0860000000000001]
[0.44790000000000002,1.0860000000000001]
[0.44800000000000001,1.0860000000000001]
[0.4481,1.0860000000000001]
[0.44819999999999999,1.0860000000000001]
[0.44829999999999998,1.0860000000000001]
[0.44840000000000002,1.0860000000000001]
[0.44850000000000001,1.0860000000000001]
[0.4486,1.0860000000000001]
[0.44869999999999999,1.0860000000000001]
[0.44879999999999998,1.0860000000000001]
[0.44890000000000002,1.0860000000000001]
[0.44900000000000001,1.0860000000000001]
[0.4491,1.0860000000000001]
[0.44919999999999999,1.0860000000000001]
[0.44929999999999998,1.0860000000000001]
[0.44940000000000002,1.0860000000000001]
[0.44950000000000001,1.0860000000000001]
[0.4496,1.0860000000000001]
[0.44969999999999999,1.0860000000000001]
[0.44979999999999998,1.0860000000000001]
[0.44990000000000002,1.0860000000000001]
[0.45,1.0860000000000001]
[0.4501,1.0860000000000001]
[0.45019999999999999,1.0860000000000001]
[0.45029999999999998,1.0860000000000001]
[0.45040000000000002,1.0860000000000001]
[0.45050000000000001,1.0860000000000001]
[0.4506,1.0860000000000001]
[0.45069999999999999,1.0860000000000001]
[0.45079999999999998,1.0860000000000001]
[0.45090000000000002,1.0860000000000001]
[0.45100000000000001,1.0860000000000001]
[0.4511,1.0860000000000001]
[0.45119999999999999,1.0860000000000001]
[0.45129999999999998,1.0860000000000001]
[0.45140000000000002,1.0860000000000001]
[0.45150000000000001,1.0860000000000001]
[0.4516,1.0860000000000001]
[0.45169999999999999,1.0860000000000001]
[0.45179999999999998,1.0860000000000001]
[0.45190000000000002,1.0860000000000001]
[0.45200000000000001,1.0860000000000001]
[0.4521,1.0860000000000001]
[0.45219999999999999,1.0860000000000001]
[0.45229999999999998,1.0860000000000001]
[0.45240000000000002,1.0860000000000001]
[0.45250000000000001,1.0860000000000001]
[0.4526,1.0860000000000001]
[0.45269999999999999,1.0860000000000001]
[0.45279999999999998,1.0860000000000001]
[0.45290000000000002,1.0860000000000001]
[0.45300000000000001,1.0860000000000001]
[0.4531,1.0860000000000001]
[0.45319999999999999,1.0860000000000001]
[0.45329999999999998,1.0860000000000001]
[0.45340000000000003,1.0860000000000001]
[0.45350000000000001,1.0860000000000001]
[0.4536,1.0860000000000001]
[0.45369999999999999,1.0860000000000001]
[0.45379999999999998,1.0860000000000001]
[0.45390000000000003,1.0860000000000001]
[0.45400000000000001,1.0860000000000001]
[0.4541,1.0860000000000001]
[0.45419999999999999,1.0860000000000001]
[0.45429999999999998,1.0860000000000001]
[0.45440000000000003,1.0860000000000001]
[0.45450000000000002,1.0860000000000001]
[0.4546,1.0860000000000001]
[0.45469999999999999,1.0860000000000001]
[0.45479999999999998,1.0860000000000001]
[0.45490000000000003,1.0860000000000001]
[0.45500000000000002,1.0860000000000001]
[0.4551,1.0860000000000001]
[0.45519999999999999,1.0860000000000001]
[0.45529999999999998,1.0860000000000001]
[0.45540000000000003,1.0860000000000001]
[0.45550000000000002,1.0860000000000001]
[0.4556,1.0860000000000001]
[0.45569999999999999,1.0860000000000001]
[0.45579999999999998,1.0860000000000001]
[0.45590000000000003,1.0860000000000001]
[0.45600000000000002,1.0860000000000001]
[0.45610000000000001,1.0860000000000001]
[0.45619999999999999,1.0860000000000001]
[0.45629999999999998,1.0860000000000001]
[0.45639999999999997,1.0860000000000001]
[0.45650000000000002,1.0860000000000001]
[0.45660000000000001,1.0860000000000001]
[0.45669999999999999,1.0860000000000001]
[0.45679999999999998,1.0860000000000001]
[0.45689999999999997,1.0860000000000001]
[0.45700000000000002,1.0860000000000001]
[0.45710000000000001,1.0860000000000001]
[0.4572,1.0860000000000001]
[0.45729999999999998,1.0860000000000001]
[0.45739999999999997,1.0860000000000001]
[0.45750000000000002,1.0860000000000001]
[0.45760000000000001,1.0860000000000001]
[0.4577,1.0860000000000001]
[0.45779999999999998,1.0860000000000001]
[0.45789999999999997,1.0860000000000001]
[0.45800000000000002,1.0860000000000001]
[0.45810000000000001,1.0860000000000001]
[0.4582,1.0860000000000001]
[0.45829999999999999,1.0860000000000001]
[0.45839999999999997,1.0860000000000001]
[0.45850000000000002,1.0860000000000001]
[0.45860000000000001,1.0860000000000001]
[0.4587,1.0860000000000001]
[0.45879999999999999,1.0860000000000001]
[0.45889999999999997,1.0860000000000001]
[0.45900000000000002,1.0860000000000001]
[0.45910000000000001,1.0860000000000001]
[0.4592,1.0860000000000001]
[0.45929999999999999,1.0860000000000001]
[0.45939999999999998,1.0860000000000001]
[0.45950000000000002,1.0860000000000001]
[0.45960000000000001,1.0860000000000001]
[0.4597,1.0860000000000001]
[0.45979999999999999,1.0860000000000001]
[0.45989999999999998,1.0860000000000001]
[0.46,1.0860000000000001]
[0.46010000000000001,1.0860000000000001]
[0.4602,1.0860000000000001]
[0.46029999999999999,1.0860000000000001]
[0.46039999999999998,1.0860000000000001]
[0.46050000000000002,1.0860000000000001]
[0.46060000000000001,1.0860000000000001]
[0.4607,1.0860000000000001]
[0.46079999999999999,1.0860000000000001]
[0.46089999999999998,1.0860000000000001]
[0.46100000000000002,1.0860000000000001]
[0.46110000000000001,1.0860000000000001]
[0.4612,1.0860000000000001]
[0.46129999999999999,1.0860000000000001]
[0.46139999999999998,1.0860000000000001]
[0.46150000000000002,1.0860000000000001]
[0.46160000000000001,1.0860000000000001]
[0.4617,1.0860000000000001]
[0.46179999999999999,1.0860000000000001]
[0.46189999999999998,1.0860000000000001]
[0.46200000000000002,1.0860000000000001]
[0.46210000000000001,1.0860000000000001]
[0.4622,1.0860000000000001]
[0.46229999999999999,1.0860000000000001]
[0.46239999999999998,1.0860000000000001]
[0.46250000000000002,1.0860000000000001]
[0.46260000000000001,1.0860000000000001]
[0.4627,1.0860000000000001]
[0.46279999999999999,1.0860000000000001]
[0.46289999999999998,1.0860000000000001]
[0.46300000000000002,1.0860000000000001]
[0.46310000000000001,1.0860000000000001]
[0.4632,1.0860000000000001]
[0.46329999999999999,1.0860000000000001]
[0.46339999999999998,1.0860000000000001]
[0.46350000000000002,1.0860000000000001]
[0.46360000000000001,1.0860000000000001]
[0.4637,1.0860000000000001]
[0.46379999999999999,1.0860000000000001]
[0.46389999999999998,1.0860000000000001]
[0.46400000000000002,1.0860000000000001]
[0.46410000000000001,1.0860000000000001]
[0.4642,1.0860000000000001]
[0.46429999999999999,1.0860000000000001]
[0.46439999999999998,1.0860000000000001]
[0.46450000000000002,1.0860000000000001]
[0.46460000000000001,1.0860000000000001]
[0.4647,1.0860000000000001]
[0.46479999999999999,1.0860000000000001]
[0.46489999999999998,1.0860000000000001]
[0.46500000000000002,1.0860000000000001]
[0.46510000000000001,1.0860000000000001]
[0.4652,1.0860000000000001]
[0.46529999999999999,1.0860000000000001]
[0.46539999999999998,1.0860000000000001]
[0.46550000000000002,1.0860000000000001]
[0.46560000000000001,1.0860000000000001]
[0.4657,1.0860000000000001]
[0.46579999999999999,1.0860000000000001]
[0.46589999999999998,1.0860000000000001]
[0.46600000000000003,1.0860000000000001]
[0.46610000000000001,1.0860000000000001]
[0.4662,1.0860000000000001]
[0.46629999999999999,1.0860000000000001]
[0.46639999999999998,1.0860000000000001]
[0.46650000000000003,1.0860000000000001]
[0.46660000000000001,1.0860000000000001]
[0.4667,1.0860000000000001]
[0.46679999999999999,1.0860000000000001]
[0.46689999999999998,1.0860000000000001]
[0.46700000000000003,1.0860000000000001]
[0.46710000000000002,1.0860000000000001]
[0.4672,1.0860000000000001]
[0.46729999999999999,1.0860000000000001]
[0.46739999999999998,1.0860000000000001]
[0.46750000000000003,1.0860000000000001]
[0.46760000000000002,1.0860000000000001]
[0.4677,1.0860000000000001]
[0.46779999999999999,1.0860000000000001]
[0.46789999999999998,1.0860000000000001]
[0.46800000000000003,1.0860000000000001]
[0.46810000000000002,1.0860000000000001]
[0.46820000000000001,1.0860000000000001]
[0.46829999999999999,1.0860000000000001]
[0.46839999999999998,1.0860000000000001]
[0.46850000000000003,1.0860000000000001]
[0.46860000000000002,1.0860000000000001]
[0.46870000000000001,1.0860000000000001]
[0.46879999999999999,1.0860000000000001]
[0.46889999999999998,1.0860000000000001]
[0.46899999999999997,1.0860000000000001]
[0.46910000000000002,1.0860000000000001]
[0.46920000000000001,1.0860000000000001]
[0.46929999999999999,1.0860000000000001]
[0.46939999999999998,1.0860000000000001]
[0.46949999999999997,1.0860000000000001]
[0.46960000000000002,1.0860000000000001]
[0.46970000000000001,1.0860000000000001]
[0.4698,1.0860000000000001]
[0.46989999999999998,1.0860000000000001]
[0.47,1.0860000000000001]
[0.47010000000000002,1.0860000000000001]
[0.47020000000000001,1.0860000000000001]
[0.4703,1.0860000000000001]
[0.47039999999999998,1.0860000000000001]
[0.47049999999999997,1.0860000000000001]
[0.47060000000000002,1.0860000000000001]
[0.47070000000000001,1.0860000000000001]
[0.4708,1.0860000000000001]
[0.47089999999999999,1.0860000000000001]
[0.47099999999999997,1.0860000000000001]
[0.47110000000000002,1.0860000000000001]
[0.47120000000000001,1.0860000000000001]
[0.4713,1.0860000000000001]
[0.47139999999999999,1.0860000000000001]
[0.47149999999999997,1.0860000000000001]
[0.47160000000000002,1.0860000000000001]
[0.47170000000000001,1.0860000000000001]
[0.4718,1.0860000000000001]
[0.47189999999999999,1.0860000000000001]
[0.47199999999999998,1.0860000000000001]
[0.47210000000000002,1.0860000000000001]
[0.47220000000000001,1.0860000000000001]
[0.4723,1.0860000000000001]
[0.47239999999999999,1.0860000000000001]
[0.47249999999999998,1.0860000000000001]
[0.47260000000000002,1.0860000000000001]
[0.47270000000000001,1.0860000000000001]
[0.4728,1.0860000000000001]
[0.47289999999999999,1.0860000000000001]
[0.47299999999999998,1.0860000000000001]
[0.47310000000000002,1.0860000000000001]
[0.47320000000000001,1.0860000000000001]
[0.4733,1.0860000000000001]
[0.47339999999999999,1.0860000000000001]
[0.47349999999999998,1.0860000000000001]
[0.47360000000000002,1.0860000000000001]
[0.47370000000000001,1.0860000000000001]
[0.4738,1.0860000000000001]
[0.47389999999999999,1.0860000000000001]
[0.47399999999999998,1.0860000000000001]
[0.47410000000000002,1.0860000000000001]
[0.47420000000000001,1.0860000000000001]
[0.4743,1.0860000000000001]
[0.47439999999999999,1.0860000000000001]
[0.47449999999999998,1.0860000000000001]
[0.47460000000000002,1.0860000000000001]
[0.47470000000000001,1.0860000000000001]
[0.4748,1.0860000000000001]
[0.47489999999999999,1.0860000000000001]
[0.47499999999999998,1.0860000000000001]
[0.47510000000000002,1.0860000000000001]
[0.47520000000000001,1.0860000000000001]
[0.4753,1.0860000000000001]
[0.47539999999999999,1.0860000000000001]
[0.47549999999999998,1.0860000000000001]
[0.47560000000000002,1.0860000000000001]
[0.47570000000000001,1.0860000000000001]
[0.4758,1.0860000000000001]
[0.47589999999999999,1.0860000000000001]
[0.47599999999999998,1.0860000000000001]
[0.47610000000000002,1.0860000000000001]
[0.47620000000000001,1.0860000000000001]
[0.4763,1.0860000000000001]
[0.47639999999999999,1.0860000000000001]
[0.47649999999999998,1.0860000000000001]
[0.47660000000000002,1.0860000000000001]
[0.47670000000000001,1.0860000000000001]
[0.4768,1.0860000000000001]
[0.47689999999999999,1.0860000000000001]
[0.47699999999999998,1.0860000000000001]
[0.47710000000000002,1.0860000000000001]
[0.47720000000000001,1.0860000000000001]
[0.4773,1.0860000000000001]
[0.47739999999999999,1.0860000000000001]
[0.47749999999999998,1.0860000000000001]
[0.47760000000000002,1.0860000000000001]
[0.47770000000000001,1.0860000000000001]
[0.4778,1.0860000000000001]
[0.47789999999999999,1.0860000000000001]
[0.47799999999999998,1.0860000000000001]
[0.47810000000000002,1.0860000000000001]
[0.47820000000000001,1.0860000000000001]
[0.4783,1.0860000000000001]
[0.47839999999999999,1.0860000000000001]
[0.47849999999999998,1.0860000000000001]
[0.47860000000000003,1.0860000000000001]
[0.47870000000000001,1.0860000000000001]
[0.4788,1.0860000000000001]
[0.47889999999999999,1.0860000000000001]
[0.47899999999999998,1.0860000000000001]
[0.47910000000000003,1.0860000000000001]
[0.47920000000000001,1.0860000000000001]
[0.4793,1.0860000000000001]
[0.47939999999999999,1.0860000000000001]
[0.47949999999999998,1.0860000000000001]
[0.47960000000000003,1.0860000000000001]
[0.47970000000000002,1.0860000000000001]
[0.4798,1.0860000000000001]
[0.47989999999999999,1.0860000000000001]
[0.48,1.0860000000000001]
[0.48010000000000003,1.0860000000000001]
[0.48020000000000002,1.0860000000000001]
[0.4803,1.0860000000000001]
[0.48039999999999999,1.0860000000000001]
[0.48049999999999998,1.0860000000000001]
[0.48060000000000003,1.0860000000000001]
[0.48070000000000002,1.0860000000000001]
[0.48080000000000001,1.0860000000000001]
[0.48089999999999999,1.0860000000000001]
[0.48099999999999998,1.0860000000000001]
[0.48110000000000003,1.0860000000000001]
[0.48120000000000002,1.0860000000000001]
[0.48130000000000001,1.0860000000000001]
[0.48139999999999999,1.0860000000000001]
[0.48149999999999998,1.0860000000000001]
[0.48159999999999997,1.0860000000000001]
[0.48170000000000002,1.0860000000000001]
[0.48180000000000001,1.0860000000000001]
[0.4819,1.0860000000000001]
[0.48199999999999998,1.0860000000000001]
[0.48209999999999997,1.0860000000000001]
[0.48220000000000002,1.0860000000000001]
[0.48230000000000001,1.0860000000000001]
[0.4824,1.0860000000000001]
[0.48249999999999998,1.0860000000000001]
[0.48259999999999997,1.0860000000000001]
[0.48270000000000002,1.0860000000000001]
[0.48280000000000001,1.0860000000000001]
[0.4829,1.0860000000000001]
[0.48299999999999998,1.0860000000000001]
[0.48309999999999997,1.0860000000000001]
[0.48320000000000002,1.0860000000000001]
[0.48330000000000001,1.0860000000000001]
[0.4834,1.0860000000000001]
[0.48349999999999999,1.0860000000000001]
[0.48359999999999997,1.0860000000000001]
[0.48370000000000002,1.0860000000000001]
[0.48380000000000001,1.0860000000000001]
[0.4839,1.0860000000000001]
[0.48399999999999999,1.0860000000000001]
[0.48409999999999997,1.0860000000000001]
[0.48420000000000002,1.0860000000000001]
[0.48430000000000001,1.0860000000000001]
[0.4844,1.0860000000000001]
[0.48449999999999999,1.0860000000000001]
[0.48459999999999998,1.0860000000000001]
[0.48470000000000002,1.0860000000000001]
[0.48480000000000001,1.0860000000000001]
[0.4849,1.0860000000000001]
[0.48499999999999999,1.0860000000000001]
[0.48509999999999998,1.0860000000000001]
[0.48520000000000002,1.0860000000000001]
[0.48530000000000001,1.0860000000000001]
[0.4854,1.0860000000000001]
[0.48549999999999999,1.0860000000000001]
[0.48559999999999998,1.0860000000000001]
[0.48570000000000002,1.0860000000000001]
[0.48580000000000001,1.0860000000000001]
[0.4859,1.0860000000000001]
[0.48599999999999999,1.0860000000000001]
[0.48609999999999998,1.0860000000000001]
[0.48620000000000002,1.0860000000000001]
[0.48630000000000001,1.0860000000000001]
[0.4864,1.0860000000000001]
[0.48649999999999999,1.0860000000000001]
[0.48659999999999998,1.0860000000000001]
[0.48670000000000002,1.0860000000000001]
[0.48680000000000001,1.0860000000000001]
[0.4869,1.0860000000000001]
[0.48699999999999999,1.0860000000000001]
[0.48709999999999998,1.0860000000000001]
[0.48720000000000002,1.0860000000000001]
[0.48730000000000001,1.0860000000000001]
[0.4874,1.0860000000000001]
[0.48749999999999999,1.0860000000000001]
[0.48759999999999998,1.0860000000000001]
[0.48770000000000002,1.0860000000000001]
[0.48780000000000001,1.0860000000000001]
[0.4879,1.0860000000000001]
[0.48799999999999999,1.0860000000000001]
[0.48809999999999998,1.0860000000000001]
[0.48820000000000002,1.0860000000000001]
[0.48830000000000001,1.0860000000000001]
[0.4884,1.0860000000000001]
[0.48849999999999999,1.0860000000000001]
[0.48859999999999998,1.0860000000000001]
[0.48870000000000002,1.0860000000000001]
[0.48880000000000001,1.0860000000000001]
[0.4889,1.0860000000000001]
[0.48899999999999999,1.0860000000000001]
[0.48909999999999998,1.0860000000000001]
[0.48920000000000002,1.0860000000000001]
[0.48930000000000001,1.0860000000000001]
[0.4894,1.0860000000000001]
[0.48949999999999999,1.0860000000000001]
[0.48959999999999998,1.0860000000000001]
[0.48970000000000002,1.0860000000000001]
[0.48980000000000001,1.0860000000000001]
[0.4899,1.0860000000000001]
[0.49,1.0860000000000001]
[0.49009999999999998,1.0860000000000001]
[0.49020000000000002,1.0860000000000001]
[0.49030000000000001,1.0860000000000001]
[0.4904,1.0860000000000001]
[0.49049999999999999,1.0860000000000001]
[0.49059999999999998,1.0860000000000001]
[0.49070000000000003,1.0860000000000001]
[0.49080000000000001,1.0860000000000001]
[0.4909,1.0860000000000001]
[0.49099999999999999,1.0860000000000001]
[0.49109999999999998,1.0860000000000001]
[0.49120000000000003,1.0860000000000001]
[0.49130000000000001,1.0860000000000001]
[0.4914,1.0860000000000001]
[0.49149999999999999,1.0860000000000001]
[0.49159999999999998,1.0860000000000001]
[0.49170000000000003,1.0860000000000001]
[0.49180000000000001,1.0860000000000001]
[0.4919,1.0860000000000001]
[0.49199999999999999,1.0860000000000001]
[0.49209999999999998,1.0860000000000001]
[0.49220000000000003,1.0860000000000001]
[0.49230000000000002,1.0860000000000001]
[0.4924,1.0860000000000001]
[0.49249999999999999,1.0860000000000001]
[0.49259999999999998,1.0860000000000001]
[0.49270000000000003,1.0860000000000001]
[0.49280000000000002,1.0860000000000001]
[0.4929,1.0860000000000001]
[0.49299999999999999,1.0860000000000001]
[0.49309999999999998,1.0860000000000001]
[0.49320000000000003,1.0860000000000001]
[0.49330000000000002,1.0860000000000001]
[0.49340000000000001,1.0860000000000001]
[0.49349999999999999,1.0860000000000001]
[0.49359999999999998,1.0860000000000001]
[0.49370000000000003,1.0860000000000001]
[0.49380000000000002,1.0860000000000001]
[0.49390000000000001,1.0860000000000001]
[0.49399999999999999,1.0860000000000001]
[0.49409999999999998,1.0860000000000001]
[0.49419999999999997,1.0860000000000001]
[0.49430000000000002,1.0860000000000001]
[0.49440000000000001,1.0860000000000001]
[0.4945,1.0860000000000001]
[0.49459999999999998,1.0860000000000001]
[0.49469999999999997,1.0860000000000001]
[0.49480000000000002,1.0860000000000001]
[0.49490000000000001,1.0860000000000001]
[0.495,1.0860000000000001]
[0.49509999999999998,1.0860000000000001]
[0.49519999999999997,1.0860000000000001]
[0.49530000000000002,1.0860000000000001]
[0.49540000000000001,1.0860000000000001]
[0.4955,1.0860000000000001]
[0.49559999999999998,1.0860000000000001]
[0.49569999999999997,1.0860000000000001]
[0.49580000000000002,1.0860000000000001]
[0.49590000000000001,1.0860000000000001]
[0.496,1.0860000000000001]
[0.49609999999999999,1.0860000000000001]
[0.49619999999999997,1.0860000000000001]
[0.49630000000000002,1.0860000000000001]
[0.49640000000000001,1.0860000000000001]
[0.4965,1.0860000000000001]
[0.49659999999999999,1.0860000000000001]
[0.49669999999999997,1.0860000000000001]
[0.49680000000000002,1.0860000000000001]
[0.49690000000000001,1.0860000000000001]
[0.497,1.0860000000000001]
[0.49709999999999999,1.0860000000000001]
[0.49719999999999998,1.0860000000000001]
[0.49730000000000002,1.0860000000000001]
[0.49740000000000001,1.0860000000000001]
[0.4975,1.0860000000000001]
[0.49759999999999999,1.0860000000000001]
[0.49769999999999998,1.0860000000000001]
[0.49780000000000002,1.0860000000000001]
[0.49790000000000001,1.0860000000000001]
[0.498,1.0860000000000001]
[0.49809999999999999,1.0860000000000001]
[0.49819999999999998,1.0860000000000001]
[0.49830000000000002,1.0860000000000001]
[0.49840000000000001,1.0860000000000001]
[0.4985,1.0860000000000001]
[0.49859999999999999,1.0860000000000001]
[0.49869999999999998,1.0860000000000001]
[0.49880000000000002,1.0860000000000001]
[0.49890000000000001,1.0860000000000001]
[0.499,1.0860000000000001]
[0.49909999999999999,1.0860000000000001]
[0.49919999999999998,1.0860000000000001]
[0.49930000000000002,1.0860000000000001]
[0.49940000000000001,1.0860000000000001]
[0.4995,1.0860000000000001]
[0.49959999999999999,1.0860000000000001]
[0.49969999999999998,1.0860000000000001]
[0.49980000000000002,1.0860000000000001]
[0.49990000000000001,1.0860000000000001]
[0.5,1.0860000000000001]
[0.50009999999999999,1.0860000000000001]
[0.50019999999999998,1.0860000000000001]
[0.50029999999999997,1.0860000000000001]
[0.50039999999999996,1.0860000000000001]
[0.50049999999999994,1.0860000000000001]
[0.50060000000000004,1.0860000000000001]
[0.50070000000000003,1.0860000000000001]
[0.50080000000000002,1.0860000000000001]
[0.50090000000000001,1.0860000000000001]
[0.501,1.0860000000000001]
[0.50109999999999999,1.0860000000000001]
[0.50119999999999998,1.0860000000000001]
[0.50129999999999997,1.0860000000000001]
[0.50139999999999996,1.0860000000000001]
[0.50149999999999995,1.0860000000000001]
[0.50160000000000005,1.0860000000000001]
[0.50170000000000003,1.0860000000000001]
[0.50180000000000002,1.0860000000000001]
[0.50190000000000001,1.0860000000000001]
[0.502,1.0860000000000001]
[0.50209999999999999,1.0860000000000001]
[0.50219999999999998,1.0860000000000001]
[0.50229999999999997,1.0860000000000001]
[0.50239999999999996,1.0860000000000001]
[0.50249999999999995,1.0860000000000001]
[0.50260000000000005,1.0860000000000001]
[0.50270000000000004,1.0860000000000001]
[0.50280000000000002,1.0860000000000001]
[0.50290000000000001,1.0860000000000001]
[0.503,1.0860000000000001]
[0.50309999999999999,1.0860000000000001]
[0.50319999999999998,1.0860000000000001]
[0.50329999999999997,1.0860000000000001]
[0.50339999999999996,1.0860000000000001]
[0.50349999999999995,1.0860000000000001]
[0.50360000000000005,1.0860000000000001]
[0.50370000000000004,1.0860000000000001]
[0.50380000000000003,1.0860000000000001]
[0.50390000000000001,1.0860000000000001]
[0.504,1.0860000000000001]
[0.50409999999999999,1.0860000000000001]
[0.50419999999999998,1.0860000000000001]
[0.50429999999999997,1.0860000000000001]
[0.50439999999999996,1.0860000000000001]
[0.50449999999999995,1.0860000000000001]
[0.50460000000000005,1.0860000000000001]
[0.50470000000000004,1.0860000000000001]
[0.50480000000000003,1.0860000000000001]
[0.50490000000000002,1.0860000000000001]
[0.505,1.0860000000000001]
[0.50509999999999999,1.0860000000000001]
[0.50519999999999998,1.0860000000000001]
[0.50529999999999997,1.0860000000000001]
[0.50539999999999996,1.0860000000000001]
[0.50549999999999995,1.0860000000000001]
[0.50560000000000005,1.0860000000000001]
[0.50570000000000004,1.0860000000000001]
[0.50580000000000003,1.0860000000000001]
[0.50590000000000002,1.0860000000000001]
[0.50600000000000001,1.0860000000000001]
[0.50609999999999999,1.0860000000000001]
[0.50619999999999998,1.0860000000000001]
[0.50629999999999997,1.0860000000000001]
[0.50639999999999996,1.0860000000000001]
[0.50649999999999995,1.0860000000000001]
[0.50660000000000005,1.0860000000000001]
[0.50670000000000004,1.0860000000000001]
[0.50680000000000003,1.0860000000000001]
[0.50690000000000002,1.0860000000000001]
[0.50700000000000001,1.0860000000000001]
[0.5071,1.0860000000000001]
[0.50719999999999998,1.0860000000000001]
[0.50729999999999997,1.0860000000000001]
[0.50739999999999996,1.0860000000000001]
[0.50749999999999995,1.0860000000000001]
[0.50760000000000005,1.0860000000000001]
[0.50770000000000004,1.0860000000000001]
[0.50780000000000003,1.0860000000000001]
[0.50790000000000002,1.0860000000000001]
[0.50800000000000001,1.0860000000000001]
[0.5081,1.0860000000000001]
[0.50819999999999999,1.0860000000000001]
[0.50829999999999997,1.0860000000000001]
[0.50839999999999996,1.0860000000000001]
[0.50849999999999995,1.0860000000000001]
[0.50860000000000005,1.0860000000000001]
[0.50870000000000004,1.0860000000000001]
[0.50880000000000003,1.0860000000000001]
[0.50890000000000002,1.0860000000000001]
[0.50900000000000001,1.0860000000000001]
[0.5091,1.0860000000000001]
[0.50919999999999999,1.0860000000000001]
[0.50929999999999997,1.0860000000000001]
[0.50939999999999996,1.0860000000000001]
[0.50949999999999995,1.0860000000000001]
[0.50960000000000005,1.0860000000000001]
[0.50970000000000004,1.0860000000000001]
[0.50980000000000003,1.0860000000000001]
[0.50990000000000002,1.0860000000000001]
[0.51,1.0860000000000001]
[0.5101,1.0860000000000001]
[0.51019999999999999,1.0860000000000001]
[0.51029999999999998,1.0860000000000001]
[0.51039999999999996,1.0860000000000001]
[0.51049999999999995,1.0860000000000001]
[0.51060000000000005,1.0860000000000001]
[0.51070000000000004,1.0860000000000001]
[0.51080000000000003,1.0860000000000001]
[0.51090000000000002,1.0860000000000001]
[0.51100000000000001,1.0860000000000001]
[0.5111,1.0860000000000001]
[0.51119999999999999,1.0860000000000001]
[0.51129999999999998,1.0860000000000001]
[0.51139999999999997,1.0860000000000001]
[0.51149999999999995,1.0860000000000001]
[0.51160000000000005,1.0860000000000001]
[0.51170000000000004,1.0860000000000001]
[0.51180000000000003,1.0860000000000001]
[0.51190000000000002,1.0860000000000001]
[0.51200000000000001,1.0860000000000001]
[0.5121,1.0860000000000001]
[0.51219999999999999,1.0860000000000001]
[0.51229999999999998,1.0860000000000001]
[0.51239999999999997,1.0860000000000001]
[0.51249999999999996,1.0860000000000001]
[0.51259999999999994,1.0860000000000001]
[0.51270000000000004,1.0860000000000001]
[0.51280000000000003,1.0860000000000001]
[0.51290000000000002,1.0860000000000001]
[0.51300000000000001,1.0860000000000001]
[0.5131,1.0860000000000001]
[0.51319999999999999,1.0860000000000001]
[0.51329999999999998,1.0860000000000001]
[0.51339999999999997,1.0860000000000001]
[0.51349999999999996,1.0860000000000001]
[0.51359999999999995,1.0860000000000001]
[0.51370000000000005,1.0860000000000001]
[0.51380000000000003,1.0860000000000001]
[0.51390000000000002,1.0860000000000001]
[0.51400000000000001,1.0860000000000001]
[0.5141,1.0860000000000001]
[0.51419999999999999,1.0860000000000001]
[0.51429999999999998,1.0860000000000001]
[0.51439999999999997,1.0860000000000001]
[0.51449999999999996,1.0860000000000001]
[0.51459999999999995,1.0860000000000001]
[0.51470000000000005,1.0860000000000001]
[0.51480000000000004,1.0860000000000001]
[0.51490000000000002,1.0860000000000001]
[0.51500000000000001,1.0860000000000001]
[0.5151,1.0860000000000001]
[0.51519999999999999,1.0860000000000001]
[0.51529999999999998,1.0860000000000001]
[0.51539999999999997,1.0860000000000001]
[0.51549999999999996,1.0860000000000001]
[0.51559999999999995,1.0860000000000001]
[0.51570000000000005,1.0860000000000001]
[0.51580000000000004,1.0860000000000001]
[0.51590000000000003,1.0860000000000001]
[0.51600000000000001,1.0860000000000001]
[0.5161,1.0860000000000001]
[0.51619999999999999,1.0860000000000001]
[0.51629999999999998,1.0860000000000001]
[0.51639999999999997,1.0860000000000001]
[0.51649999999999996,1.0860000000000001]
[0.51659999999999995,1.0860000000000001]
[0.51670000000000005,1.0860000000000001]
[0.51680000000000004,1.0860000000000001]
[0.51690000000000003,1.0860000000000001]
[0.51700000000000002,1.0860000000000001]
[0.5171,1.0860000000000001]
[0.51719999999999999,1.0860000000000001]
[0.51729999999999998,1.0860000000000001]
[0.51739999999999997,1.0860000000000001]
[0.51749999999999996,1.0860000000000001]
[0.51759999999999995,1.0860000000000001]
[0.51770000000000005,1.0860000000000001]
[0.51780000000000004,1.0860000000000001]
[0.51790000000000003,1.0860000000000001]
[0.51800000000000002,1.0860000000000001]
[0.5181,1.0860000000000001]
[0.51819999999999999,1.0860000000000001]
[0.51829999999999998,1.0860000000000001]
[0.51839999999999997,1.0860000000000001]
[0.51849999999999996,1.0860000000000001]
[0.51859999999999995,1.0860000000000001]
[0.51870000000000005,1.0860000000000001]
[0.51880000000000004,1.0860000000000001]
[0.51890000000000003,1.0860000000000001]
[0.51900000000000002,1.0860000000000001]
[0.51910000000000001,1.0860000000000001]
[0.51919999999999999,1.0860000000000001]
[0.51929999999999998,1.0860000000000001]
[0.51939999999999997,1.0860000000000001]
[0.51949999999999996,1.0860000000000001]
[0.51959999999999995,1.0860000000000001]
[0.51970000000000005,1.0860000000000001]
[0.51980000000000004,1.0860000000000001]
[0.51990000000000003,1.0860000000000001]
[0.52,1.0860000000000001]
[0.52010000000000001,1.0860000000000001]
[0.5202,1.0860000000000001]
[0.52029999999999998,1.0860000000000001]
[0.52039999999999997,1.0860000000000001]
[0.52049999999999996,1.0860000000000001]
[0.52059999999999995,1.0860000000000001]
[0.52070000000000005,1.0860000000000001]
[0.52080000000000004,1.0860000000000001]
[0.52090000000000003,1.0860000000000001]
[0.52100000000000002,1.0860000000000001]
[0.52110000000000001,1.0860000000000001]
[0.5212,1.0860000000000001]
[0.52129999999999999,1.0860000000000001]
[0.52139999999999997,1.0860000000000001]
[0.52149999999999996,1.0860000000000001]
[0.52159999999999995,1.0860000000000001]
[0.52170000000000005,1.0860000000000001]
[0.52180000000000004,1.0860000000000001]
[0.52190000000000003,1.0860000000000001]
[0.52200000000000002,1.0860000000000001]
[0.52210000000000001,1.0860000000000001]
[0.5222,1.0860000000000001]
[0.52229999999999999,1.0860000000000001]
[0.52239999999999998,1.0860000000000001]
[0.52249999999999996,1.0860000000000001]
[0.52259999999999995,1.0860000000000001]
[0.52270000000000005,1.0860000000000001]
[0.52280000000000004,1.0860000000000001]
[0.52290000000000003,1.0860000000000001]
[0.52300000000000002,1.0860000000000001]
[0.52310000000000001,1.0860000000000001]
[0.5232,1.0860000000000001]
[0.52329999999999999,1.0860000000000001]
[0.52339999999999998,1.0860000000000001]
[0.52349999999999997,1.0860000000000001]
[0.52359999999999995,1.0860000000000001]
[0.52370000000000005,1.0860000000000001]
[0.52380000000000004,1.0860000000000001]
[0.52390000000000003,1.0860000000000001]
[0.52400000000000002,1.0860000000000001]
[0.52410000000000001,1.0860000000000001]
[0.5242,1.0860000000000001]
[0.52429999999999999,1.0860000000000001]
[0.52439999999999998,1.0860000000000001]
[0.52449999999999997,1.0860000000000001]
[0.52459999999999996,1.0860000000000001]
[0.52470000000000006,1.0860000000000001]
[0.52480000000000004,1.0860000000000001]
[0.52490000000000003,1.0860000000000001]
[0.52500000000000002,1.0860000000000001]
[0.52510000000000001,1.0860000000000001]
[0.5252,1.0860000000000001]
[0.52529999999999999,1.0860000000000001]
[0.52539999999999998,1.0860000000000001]
[0.52549999999999997,1.0860000000000001]
[0.52559999999999996,1.0860000000000001]
[0.52569999999999995,1.0860000000000001]
[0.52580000000000005,1.0860000000000001]
[0.52590000000000003,1.0860000000000001]
[0.52600000000000002,1.0860000000000001]
[0.52610000000000001,1.0860000000000001]
[0.5262,1.0860000000000001]
[0.52629999999999999,1.0860000000000001]
[0.52639999999999998,1.0860000000000001]
[0.52649999999999997,1.0860000000000001]
[0.52659999999999996,1.0860000000000001]
[0.52669999999999995,1.0860000000000001]
[0.52680000000000005,1.0860000000000001]
[0.52690000000000003,1.0860000000000001]
[0.52700000000000002,1.0860000000000001]
[0.52710000000000001,1.0860000000000001]
[0.5272,1.0860000000000001]
[0.52729999999999999,1.0860000000000001]
[0.52739999999999998,1.0860000000000001]
[0.52749999999999997,1.0860000000000001]
[0.52759999999999996,1.0860000000000001]
[0.52769999999999995,1.0860000000000001]
[0.52780000000000005,1.0860000000000001]
[0.52790000000000004,1.0860000000000001]
[0.52800000000000002,1.0860000000000001]
[0.52810000000000001,1.0860000000000001]
[0.5282,1.0860000000000001]
[0.52829999999999999,1.0860000000000001]
[0.52839999999999998,1.0860000000000001]
[0.52849999999999997,1.0860000000000001]
[0.52859999999999996,1.0860000000000001]
[0.52869999999999995,1.0860000000000001]
[0.52880000000000005,1.0860000000000001]
[0.52890000000000004,1.0860000000000001]
[0.52900000000000003,1.0860000000000001]
[0.52910000000000001,1.0860000000000001]
[0.5292,1.0860000000000001]
[0.52929999999999999,1.0860000000000001]
[0.52939999999999998,1.0860000000000001]
[0.52949999999999997,1.0860000000000001]
[0.52959999999999996,1.0860000000000001]
[0.52969999999999995,1.0860000000000001]
[0.52980000000000005,1.0860000000000001]
[0.52990000000000004,1.0860000000000001]
[0.53,1.0860000000000001]
[0.53010000000000002,1.0860000000000001]
[0.5302,1.0860000000000001]
[0.53029999999999999,1.0860000000000001]
[0.53039999999999998,1.0860000000000001]
[0.53049999999999997,1.0860000000000001]
[0.53059999999999996,1.0860000000000001]
[0.53069999999999995,1.0860000000000001]
[0.53080000000000005,1.0860000000000001]
[0.53090000000000004,1.0860000000000001]
[0.53100000000000003,1.0860000000000001]
[0.53110000000000002,1.0860000000000001]
[0.53120000000000001,1.0860000000000001]
[0.53129999999999999,1.0860000000000001]
[0.53139999999999998,1.0860000000000001]
[0.53149999999999997,1.0860000000000001]
[0.53159999999999996,1.0860000000000001]
[0.53169999999999995,1.0860000000000001]
[0.53180000000000005,1.0860000000000001]
[0.53190000000000004,1.0860000000000001]
[0.53200000000000003,1.0860000000000001]
[0.53210000000000002,1.0860000000000001]
[0.53220000000000001,1.0860000000000001]
[0.5323,1.0860000000000001]
[0.53239999999999998,1.0860000000000001]
[0.53249999999999997,1.0860000000000001]
[0.53259999999999996,1.0860000000000001]
[0.53269999999999995,1.0860000000000001]
[0.53280000000000005,1.0860000000000001]
[0.53290000000000004,1.0860000000000001]
[0.53300000000000003,1.0860000000000001]
[0.53310000000000002,1.0860000000000001]
[0.53320000000000001,1.0860000000000001]
[0.5333,1.0860000000000001]
[0.53339999999999999,1.0860000000000001]
[0.53349999999999997,1.0860000000000001]
[0.53359999999999996,1.0860000000000001]
[0.53369999999999995,1.0860000000000001]
[0.53380000000000005,1.0860000000000001]
[0.53390000000000004,1.0860000000000001]
[0.53400000000000003,1.0860000000000001]
[0.53410000000000002,1.0860000000000001]
[0.53420000000000001,1.0860000000000001]
[0.5343,1.0860000000000001]
[0.53439999999999999,1.0860000000000001]
[0.53449999999999998,1.0860000000000001]
[0.53459999999999996,1.0860000000000001]
[0.53469999999999995,1.0860000000000001]
[0.53480000000000005,1.0860000000000001]
[0.53490000000000004,1.0860000000000001]
[0.53500000000000003,1.0860000000000001]
[0.53510000000000002,1.0860000000000001]
[0.53520000000000001,1.0860000000000001]
[0.5353,1.0860000000000001]
[0.53539999999999999,1.0860000000000001]
[0.53549999999999998,1.0860000000000001]
[0.53559999999999997,1.0860000000000001]
[0.53569999999999995,1.0860000000000001]
[0.53580000000000005,1.0860000000000001]
[0.53590000000000004,1.0860000000000001]
[0.53600000000000003,1.0860000000000001]
[0.53610000000000002,1.0860000000000001]
[0.53620000000000001,1.0860000000000001]
[0.5363,1.0860000000000001]
[0.53639999999999999,1.0860000000000001]
[0.53649999999999998,1.0860000000000001]
[0.53659999999999997,1.0860000000000001]
[0.53669999999999995,1.0860000000000001]
[0.53680000000000005,1.0860000000000001]
[0.53690000000000004,1.0860000000000001]
[0.53700000000000003,1.0860000000000001]
[0.53710000000000002,1.0860000000000001]
[0.53720000000000001,1.0860000000000001]
[0.5373,1.0860000000000001]
[0.53739999999999999,1.0860000000000001]
[0.53749999999999998,1.0860000000000001]
[0.53759999999999997,1.0860000000000001]
[0.53769999999999996,1.0860000000000001]
[0.53779999999999994,1.0860000000000001]
[0.53790000000000004,1.0860000000000001]
[0.53800000000000003,1.0860000000000001]
[0.53810000000000002,1.0860000000000001]
[0.53820000000000001,1.0860000000000001]
[0.5383,1.0860000000000001]
[0.53839999999999999,1.0860000000000001]
[0.53849999999999998,1.0860000000000001]
[0.53859999999999997,1.0860000000000001]
[0.53869999999999996,1.0860000000000001]
[0.53879999999999995,1.0860000000000001]
[0.53890000000000005,1.0860000000000001]
[0.53900000000000003,1.0860000000000001]
[0.53910000000000002,1.0860000000000001]
[0.53920000000000001,1.0860000000000001]
[0.5393,1.0860000000000001]
[0.53939999999999999,1.0860000000000001]
[0.53949999999999998,1.0860000000000001]
[0.53959999999999997,1.0860000000000001]
[0.53969999999999996,1.0860000000000001]
[0.53979999999999995,1.0860000000000001]
[0.53990000000000005,1.0860000000000001]
[0.54,1.0860000000000001]
[0.54010000000000002,1.0860000000000001]
[0.54020000000000001,1.0860000000000001]
[0.5403,1.0860000000000001]
[0.54039999999999999,1.0860000000000001]
[0.54049999999999998,1.0860000000000001]
[0.54059999999999997,1.0860000000000001]
[0.54069999999999996,1.0860000000000001]
[0.54079999999999995,1.0860000000000001]
[0.54090000000000005,1.0860000000000001]
[0.54100000000000004,1.0860000000000001]
[0.54110000000000003,1.0860000000000001]
[0.54120000000000001,1.0860000000000001]
[0.5413,1.0860000000000001]
[0.54139999999999999,1.0860000000000001]
[0.54149999999999998,1.0860000000000001]
[0.54159999999999997,1.0860000000000001]
[0.54169999999999996,1.0860000000000001]
[0.54179999999999995,1.0860000000000001]
[0.54190000000000005,1.0860000000000001]
[0.54200000000000004,1.0860000000000001]
[0.54210000000000003,1.0860000000000001]
[0.54220000000000002,1.0860000000000001]
[0.5423,1.0860000000000001]
[0.54239999999999999,1.0860000000000001]
[0.54249999999999998,1.0860000000000001]
[0.54259999999999997,1.0860000000000001]
[0.54269999999999996,1.0860000000000001]
[0.54279999999999995,1.0860000000000001]
[0.54290000000000005,1.0860000000000001]
[0.54300000000000004,1.0860000000000001]
[0.54310000000000003,1.0860000000000001]
[0.54320000000000002,1.0860000000000001]
[0.54330000000000001,1.0860000000000001]
[0.54339999999999999,1.0860000000000001]
[0.54349999999999998,1.0860000000000001]
[0.54359999999999997,1.0860000000000001]
[0.54369999999999996,1.0860000000000001]
[0.54379999999999995,1.0860000000000001]
[0.54390000000000005,1.0860000000000001]
[0.54400000000000004,1.0860000000000001]
[0.54410000000000003,1.0860000000000001]
[0.54420000000000002,1.0860000000000001]
[0.54430000000000001,1.0860000000000001]
[0.5444,1.0860000000000001]
[0.54449999999999998,1.0860000000000001]
[0.54459999999999997,1.0860000000000001]
[0.54469999999999996,1.0860000000000001]
[0.54479999999999995,1.0860000000000001]
[0.54490000000000005,1.0860000000000001]
[0.54500000000000004,1.0860000000000001]
[0.54510000000000003,1.0860000000000001]
[0.54520000000000002,1.0860000000000001]
[0.54530000000000001,1.0860000000000001]
[0.5454,1.0860000000000001]
[0.54549999999999998,1.0860000000000001]
[0.54559999999999997,1.0860000000000001]
[0.54569999999999996,1.0860000000000001]
[0.54579999999999995,1.0860000000000001]
[0.54590000000000005,1.0860000000000001]
[0.54600000000000004,1.0860000000000001]
[0.54610000000000003,1.0860000000000001]
[0.54620000000000002,1.0860000000000001]
[0.54630000000000001,1.0860000000000001]
[0.5464,1.0860000000000001]
[0.54649999999999999,1.0860000000000001]
[0.54659999999999997,1.0860000000000001]
[0.54669999999999996,1.0860000000000001]
[0.54679999999999995,1.0860000000000001]
[0.54690000000000005,1.0860000000000001]
[0.54700000000000004,1.0860000000000001]
[0.54710000000000003,1.0860000000000001]
[0.54720000000000002,1.0860000000000001]
[0.54730000000000001,1.0860000000000001]
[0.5474,1.0860000000000001]
[0.54749999999999999,1.0860000000000001]
[0.54759999999999998,1.0860000000000001]
[0.54769999999999996,1.0860000000000001]
[0.54779999999999995,1.0860000000000001]
[0.54790000000000005,1.0860000000000001]
[0.54800000000000004,1.0860000000000001]
[0.54810000000000003,1.0860000000000001]
[0.54820000000000002,1.0860000000000001]
[0.54830000000000001,1.0860000000000001]
[0.5484,1.0860000000000001]
[0.54849999999999999,1.0860000000000001]
[0.54859999999999998,1.0860000000000001]
[0.54869999999999997,1.0860000000000001]
[0.54879999999999995,1.0860000000000001]
[0.54890000000000005,1.0860000000000001]
[0.54900000000000004,1.0860000000000001]
[0.54910000000000003,1.0860000000000001]
[0.54920000000000002,1.0860000000000001]
[0.54930000000000001,1.0860000000000001]
[0.5494,1.0860000000000001]
[0.54949999999999999,1.0860000000000001]
[0.54959999999999998,1.0860000000000001]
[0.54969999999999997,1.0860000000000001]
[0.54979999999999996,1.0860000000000001]
[0.54990000000000006,1.0860000000000001]
[0.55000000000000004,1.0860000000000001]
[0.55010000000000003,1.0860000000000001]
[0.55020000000000002,1.0860000000000001]
[0.55030000000000001,1.0860000000000001]
[0.5504,1.0860000000000001]
[0.55049999999999999,1.0860000000000001]
[0.55059999999999998,1.0860000000000001]
[0.55069999999999997,1.0860000000000001]
[0.55079999999999996,1.0860000000000001]
[0.55089999999999995,1.0860000000000001]
[0.55100000000000005,1.0860000000000001]
[0.55110000000000003,1.0860000000000001]
[0.55120000000000002,1.0860000000000001]
[0.55130000000000001,1.0860000000000001]
[0.5514,1.0860000000000001]
[0.55149999999999999,1.0860000000000001]
[0.55159999999999998,1.0860000000000001]
[0.55169999999999997,1.0860000000000001]
[0.55179999999999996,1.0860000000000001]
[0.55189999999999995,1.0860000000000001]
[0.55200000000000005,1.0860000000000001]
[0.55210000000000004,1.0860000000000001]
[0.55220000000000002,1.0860000000000001]
[0.55230000000000001,1.0860000000000001]
[0.5524,1.0860000000000001]
[0.55249999999999999,1.0860000000000001]
[0.55259999999999998,1.0860000000000001]
[0.55269999999999997,1.0860000000000001]
[0.55279999999999996,1.0860000000000001]
[0.55289999999999995,1.0860000000000001]
[0.55300000000000005,1.0860000000000001]
[0.55310000000000004,1.0860000000000001]
[0.55320000000000003,1.0860000000000001]
[0.55330000000000001,1.0860000000000001]
[0.5534,1.0860000000000001]
[0.55349999999999999,1.0860000000000001]
[0.55359999999999998,1.0860000000000001]
[0.55369999999999997,1.0860000000000001]
[0.55379999999999996,1.0860000000000001]
[0.55389999999999995,1.0860000000000001]
[0.55400000000000005,1.0860000000000001]
[0.55410000000000004,1.0860000000000001]
[0.55420000000000003,1.0860000000000001]
[0.55430000000000001,1.0860000000000001]
[0.5544,1.0860000000000001]
[0.55449999999999999,1.0860000000000001]
[0.55459999999999998,1.0860000000000001]
[0.55469999999999997,1.0860000000000001]
[0.55479999999999996,1.0860000000000001]
[0.55489999999999995,1.0860000000000001]
[0.55500000000000005,1.0860000000000001]
[0.55510000000000004,1.0860000000000001]
[0.55520000000000003,1.0860000000000001]
[0.55530000000000002,1.0860000000000001]
[0.5554,1.0860000000000001]
[0.55549999999999999,1.0860000000000001]
[0.55559999999999998,1.0860000000000001]
[0.55569999999999997,1.0860000000000001]
[0.55579999999999996,1.0860000000000001]
[0.55589999999999995,1.0860000000000001]
[0.55600000000000005,1.0860000000000001]
[0.55610000000000004,1.0860000000000001]
[0.55620000000000003,1.0860000000000001]
[0.55630000000000002,1.0860000000000001]
[0.55640000000000001,1.0860000000000001]
[0.55649999999999999,1.0860000000000001]
[0.55659999999999998,1.0860000000000001]
[0.55669999999999997,1.0860000000000001]
[0.55679999999999996,1.0860000000000001]
[0.55689999999999995,1.0860000000000001]
[0.55700000000000005,1.0860000000000001]
[0.55710000000000004,1.0860000000000001]
[0.55720000000000003,1.0860000000000001]
[0.55730000000000002,1.0860000000000001]
[0.55740000000000001,1.0860000000000001]
[0.5575,1.0860000000000001]
[0.55759999999999998,1.0860000000000001]
[0.55769999999999997,1.0860000000000001]
[0.55779999999999996,1.0860000000000001]
[0.55789999999999995,1.0860000000000001]
[0.55800000000000005,1.0860000000000001]
[0.55810000000000004,1.0860000000000001]
[0.55820000000000003,1.0860000000000001]
[0.55830000000000002,1.0860000000000001]
[0.55840000000000001,1.0860000000000001]
[0.5585,1.0860000000000001]
[0.55859999999999999,1.0860000000000001]
[0.55869999999999997,1.0860000000000001]
[0.55879999999999996,1.0860000000000001]
[0.55889999999999995,1.0860000000000001]
[0.55900000000000005,1.0860000000000001]
[0.55910000000000004,1.0860000000000001]
[0.55920000000000003,1.0860000000000001]
[0.55930000000000002,1.0860000000000001]
[0.55940000000000001,1.0860000000000001]
[0.5595,1.0860000000000001]
[0.55959999999999999,1.0860000000000001]
[0.55969999999999998,1.0860000000000001]
[0.55979999999999996,1.0860000000000001]
[0.55989999999999995,1.0860000000000001]
[0.56000000000000005,1.0860000000000001]
[0.56010000000000004,1.0860000000000001]
[0.56020000000000003,1.0860000000000001]
[0.56030000000000002,1.0860000000000001]
[0.56040000000000001,1.0860000000000001]
[0.5605,1.0860000000000001]
[0.56059999999999999,1.0860000000000001]
[0.56069999999999998,1.0860000000000001]
[0.56079999999999997,1.0860000000000001]
[0.56089999999999995,1.0860000000000001]
[0.56100000000000005,1.0860000000000001]
[0.56110000000000004,1.0860000000000001]
[0.56120000000000003,1.0860000000000001]
[0.56130000000000002,1.0860000000000001]
[0.56140000000000001,1.0860000000000001]
[0.5615,1.0860000000000001]
[0.56159999999999999,1.0860000000000001]
[0.56169999999999998,1.0860000000000001]
[0.56179999999999997,1.0860000000000001]
[0.56189999999999996,1.0860000000000001]
[0.56200000000000006,1.0860000000000001]
[0.56210000000000004,1.0860000000000001]
[0.56220000000000003,1.0860000000000001]
[0.56230000000000002,1.0860000000000001]
[0.56240000000000001,1.0860000000000001]
[0.5625,1.0860000000000001]
[0.56259999999999999,1.0860000000000001]
[0.56269999999999998,1.0860000000000001]
[0.56279999999999997,1.0860000000000001]
[0.56289999999999996,1.0860000000000001]
[0.56299999999999994,1.0860000000000001]
[0.56310000000000004,1.0860000000000001]
[0.56320000000000003,1.0860000000000001]
[0.56330000000000002,1.0860000000000001]
[0.56340000000000001,1.0860000000000001]
[0.5635,1.0860000000000001]
[0.56359999999999999,1.0860000000000001]
[0.56369999999999998,1.0860000000000001]
[0.56379999999999997,1.0860000000000001]
[0.56389999999999996,1.0860000000000001]
[0.56399999999999995,1.0860000000000001]
[0.56410000000000005,1.0860000000000001]
[0.56420000000000003,1.0860000000000001]
[0.56430000000000002,1.0860000000000001]
[0.56440000000000001,1.0860000000000001]
[0.5645,1.0860000000000001]
[0.56459999999999999,1.0860000000000001]
[0.56469999999999998,1.0860000000000001]
[0.56479999999999997,1.0860000000000001]
[0.56489999999999996,1.0860000000000001]
[0.56499999999999995,1.0860000000000001]
[0.56510000000000005,1.0860000000000001]
[0.56520000000000004,1.0860000000000001]
[0.56530000000000002,1.0860000000000001]
[0.56540000000000001,1.0860000000000001]
[0.5655,1.0860000000000001]
[0.56559999999999999,1.0860000000000001]
[0.56569999999999998,1.0860000000000001]
[0.56579999999999997,1.0860000000000001]
[0.56589999999999996,1.0860000000000001]
[0.56599999999999995,1.0860000000000001]
[0.56610000000000005,1.0860000000000001]
[0.56620000000000004,1.0860000000000001]
[0.56630000000000003,1.0860000000000001]
[0.56640000000000001,1.0860000000000001]
[0.5665,1.0860000000000001]
[0.56659999999999999,1.0860000000000001]
[0.56669999999999998,1.0860000000000001]
[0.56679999999999997,1.0860000000000001]
[0.56689999999999996,1.0860000000000001]
[0.56699999999999995,1.0860000000000001]
[0.56710000000000005,1.0860000000000001]
[0.56720000000000004,1.0860000000000001]
[0.56730000000000003,1.0860000000000001]
[0.56740000000000002,1.0860000000000001]
[0.5675,1.0860000000000001]
[0.56759999999999999,1.0860000000000001]
[0.56769999999999998,1.0860000000000001]
[0.56779999999999997,1.0860000000000001]
[0.56789999999999996,1.0860000000000001]
[0.56799999999999995,1.0860000000000001]
[0.56810000000000005,1.0860000000000001]
[0.56820000000000004,1.0860000000000001]
[0.56830000000000003,1.0860000000000001]
[0.56840000000000002,1.0860000000000001]
[0.56850000000000001,1.0860000000000001]
[0.56859999999999999,1.0860000000000001]
[0.56869999999999998,1.0860000000000001]
[0.56879999999999997,1.0860000000000001]
[0.56889999999999996,1.0860000000000001]
[0.56899999999999995,1.0860000000000001]
[0.56910000000000005,1.0860000000000001]
[0.56920000000000004,1.0860000000000001]
[0.56930000000000003,1.0860000000000001]
[0.56940000000000002,1.0860000000000001]
[0.56950000000000001,1.0860000000000001]
[0.5696,1.0860000000000001]
[0.56969999999999998,1.0860000000000001]
[0.56979999999999997,1.0860000000000001]
[0.56989999999999996,1.0860000000000001]
[0.56999999999999995,1.0860000000000001]
[0.57010000000000005,1.0860000000000001]
[0.57020000000000004,1.0860000000000001]
[0.57030000000000003,1.0860000000000001]
[0.57040000000000002,1.0860000000000001]
[0.57050000000000001,1.0860000000000001]
[0.5706,1.0860000000000001]
[0.57069999999999999,1.0860000000000001]
[0.57079999999999997,1.0860000000000001]
[0.57089999999999996,1.0860000000000001]
[0.57099999999999995,1.0860000000000001]
[0.57110000000000005,1.0860000000000001]
[0.57120000000000004,1.0860000000000001]
[0.57130000000000003,1.0860000000000001]
[0.57140000000000002,1.0860000000000001]
[0.57150000000000001,1.0860000000000001]
[0.5716,1.0860000000000001]
[0.57169999999999999,1.0860000000000001]
[0.57179999999999997,1.0860000000000001]
[0.57189999999999996,1.0860000000000001]
[0.57199999999999995,1.0860000000000001]
[0.57210000000000005,1.0860000000000001]
[0.57220000000000004,1.0860000000000001]
[0.57230000000000003,1.0860000000000001]
[0.57240000000000002,1.0860000000000001]
[0.57250000000000001,1.0860000000000001]
[0.5726,1.0860000000000001]
[0.57269999999999999,1.0860000000000001]
[0.57279999999999998,1.0860000000000001]
[0.57289999999999996,1.0860000000000001]
[0.57299999999999995,1.0860000000000001]
[0.57310000000000005,1.0860000000000001]
[0.57320000000000004,1.0860000000000001]
[0.57330000000000003,1.0860000000000001]
[0.57340000000000002,1.0860000000000001]
[0.57350000000000001,1.0860000000000001]
[0.5736,1.0860000000000001]
[0.57369999999999999,1.0860000000000001]
[0.57379999999999998,1.0860000000000001]
[0.57389999999999997,1.0860000000000001]
[0.57399999999999995,1.0860000000000001]
[0.57410000000000005,1.0860000000000001]
[0.57420000000000004,1.0860000000000001]
[0.57430000000000003,1.0860000000000001]
[0.57440000000000002,1.0860000000000001]
[0.57450000000000001,1.0860000000000001]
[0.5746,1.0860000000000001]
[0.57469999999999999,1.0860000000000001]
[0.57479999999999998,1.0860000000000001]
[0.57489999999999997,1.0860000000000001]
[0.57499999999999996,1.0860000000000001]
[0.57509999999999994,1.0860000000000001]
[0.57520000000000004,1.0860000000000001]
[0.57530000000000003,1.0860000000000001]
[0.57540000000000002,1.0860000000000001]
[0.57550000000000001,1.0860000000000001]
[0.5756,1.0860000000000001]
[0.57569999999999999,1.0860000000000001]
[0.57579999999999998,1.0860000000000001]
[0.57589999999999997,1.0860000000000001]
[0.57599999999999996,1.0860000000000001]
[0.57609999999999995,1.0860000000000001]
[0.57620000000000005,1.0860000000000001]
[0.57630000000000003,1.0860000000000001]
[0.57640000000000002,1.0860000000000001]
[0.57650000000000001,1.0860000000000001]
[0.5766,1.0860000000000001]
[0.57669999999999999,1.0860000000000001]
[0.57679999999999998,1.0860000000000001]
[0.57689999999999997,1.0860000000000001]
[0.57699999999999996,1.0860000000000001]
[0.57709999999999995,1.0860000000000001]
[0.57720000000000005,1.0860000000000001]
[0.57730000000000004,1.0860000000000001]
[0.57740000000000002,1.0860000000000001]
[0.57750000000000001,1.0860000000000001]
[0.5776,1.0860000000000001]
[0.57769999999999999,1.0860000000000001]
[0.57779999999999998,1.0860000000000001]
[0.57789999999999997,1.0860000000000001]
[0.57799999999999996,1.0860000000000001]
[0.57809999999999995,1.0860000000000001]
[0.57820000000000005,1.0860000000000001]
[0.57830000000000004,1.0860000000000001]
[0.57840000000000003,1.0860000000000001]
[0.57850000000000001,1.0860000000000001]
[0.5786,1.0860000000000001]
[0.57869999999999999,1.0860000000000001]
[0.57879999999999998,1.0860000000000001]
[0.57889999999999997,1.0860000000000001]
[0.57899999999999996,1.0860000000000001]
[0.57909999999999995,1.0860000000000001]
[0.57920000000000005,1.0860000000000001]
[0.57930000000000004,1.0860000000000001]
[0.57940000000000003,1.0860000000000001]
[0.57950000000000002,1.0860000000000001]
[0.5796,1.0860000000000001]
[0.57969999999999999,1.0860000000000001]
[0.57979999999999998,1.0860000000000001]
[0.57989999999999997,1.0860000000000001]
[0.57999999999999996,1.0860000000000001]
[0.58009999999999995,1.0860000000000001]
[0.58020000000000005,1.0860000000000001]
[0.58030000000000004,1.0860000000000001]
[0.58040000000000003,1.0860000000000001]
[0.58050000000000002,1.0860000000000001]
[0.5806,1.0860000000000001]
[0.58069999999999999,1.0860000000000001]
[0.58079999999999998,1.0860000000000001]
[0.58089999999999997,1.0860000000000001]
[0.58099999999999996,1.0860000000000001]
[0.58109999999999995,1.0860000000000001]
[0.58120000000000005,1.0860000000000001]
[0.58130000000000004,1.0860000000000001]
[0.58140000000000003,1.0860000000000001]
[0.58150000000000002,1.0860000000000001]
[0.58160000000000001,1.0860000000000001]
[0.58169999999999999,1.0860000000000001]
[0.58179999999999998,1.0860000000000001]
[0.58189999999999997,1.0860000000000001]
[0.58199999999999996,1.0860000000000001]
[0.58209999999999995,1.0860000000000001]
[0.58220000000000005,1.0860000000000001]
[0.58230000000000004,1.0860000000000001]
[0.58240000000000003,1.0860000000000001]
[0.58250000000000002,1.0860000000000001]
[0.58260000000000001,1.0860000000000001]
[0.5827,1.0860000000000001]
[0.58279999999999998,1.0860000000000001]
[0.58289999999999997,1.0860000000000001]
[0.58299999999999996,1.0860000000000001]
[0.58309999999999995,1.0860000000000001]
[0.58320000000000005,1.0860000000000001]
[0.58330000000000004,1.0860000000000001]
[0.58340000000000003,1.0860000000000001]
[0.58350000000000002,1.0860000000000001]
[0.58360000000000001,1.0860000000000001]
[0.5837,1.0860000000000001]
[0.58379999999999999,1.0860000000000001]
[0.58389999999999997,1.0860000000000001]
[0.58399999999999996,1.0860000000000001]
[0.58409999999999995,1.0860000000000001]
[0.58420000000000005,1.0860000000000001]
[0.58430000000000004,1.0860000000000001]
[0.58440000000000003,1.0860000000000001]
[0.58450000000000002,1.0860000000000001]
[0.58460000000000001,1.0860000000000001]
[0.5847,1.0860000000000001]
[0.58479999999999999,1.0860000000000001]
[0.58489999999999998,1.0860000000000001]
[0.58499999999999996,1.0860000000000001]
[0.58509999999999995,1.0860000000000001]
[0.58520000000000005,1.0860000000000001]
[0.58530000000000004,1.0860000000000001]
[0.58540000000000003,1.0860000000000001]
[0.58550000000000002,1.0860000000000001]
[0.58560000000000001,1.0860000000000001]
[0.5857,1.0860000000000001]
[0.58579999999999999,1.0860000000000001]
[0.58589999999999998,1.0860000000000001]
[0.58599999999999997,1.0860000000000001]
[0.58609999999999995,1.0860000000000001]
[0.58620000000000005,1.0860000000000001]
[0.58630000000000004,1.0860000000000001]
[0.58640000000000003,1.0860000000000001]
[0.58650000000000002,1.0860000000000001]
[0.58660000000000001,1.0860000000000001]
[0.5867,1.0860000000000001]
[0.58679999999999999,1.0860000000000001]
[0.58689999999999998,1.0860000000000001]
[0.58699999999999997,1.0860000000000001]
[0.58709999999999996,1.0860000000000001]
[0.58720000000000006,1.0860000000000001]
[0.58730000000000004,1.0860000000000001]
[0.58740000000000003,1.0860000000000001]
[0.58750000000000002,1.0860000000000001]
[0.58760000000000001,1.0860000000000001]
[0.5877,1.0860000000000001]
[0.58779999999999999,1.0860000000000001]
[0.58789999999999998,1.0860000000000001]
[0.58799999999999997,1.0860000000000001]
[0.58809999999999996,1.0860000000000001]
[0.58819999999999995,1.0860000000000001]
[0.58830000000000005,1.0860000000000001]
[0.58840000000000003,1.0860000000000001]
[0.58850000000000002,1.0860000000000001]
[0.58860000000000001,1.0860000000000001]
[0.5887,1.0860000000000001]
[0.58879999999999999,1.0860000000000001]
[0.58889999999999998,1.0860000000000001]
[0.58899999999999997,1.0860000000000001]
[0.58909999999999996,1.0860000000000001]
[0.58919999999999995,1.0860000000000001]
[0.58930000000000005,1.0860000000000001]
[0.58940000000000003,1.0860000000000001]
[0.58950000000000002,1.0860000000000001]
[0.58960000000000001,1.0860000000000001]
[0.5897,1.0860000000000001]
[0.58979999999999999,1.0860000000000001]
[0.58989999999999998,1.0860000000000001]
[0.59,1.0860000000000001]
[0.59009999999999996,1.0860000000000001]
[0.59019999999999995,1.0860000000000001]
[0.59030000000000005,1.0860000000000001]
[0.59040000000000004,1.0860000000000001]
[0.59050000000000002,1.0860000000000001]
[0.59060000000000001,1.0860000000000001]
[0.5907,1.0860000000000001]
[0.59079999999999999,1.0860000000000001]
[0.59089999999999998,1.0860000000000001]
[0.59099999999999997,1.0860000000000001]
[0.59109999999999996,1.0860000000000001]
[0.59119999999999995,1.0860000000000001]
[0.59130000000000005,1.0860000000000001]
[0.59140000000000004,1.0860000000000001]
[0.59150000000000003,1.0860000000000001]
[0.59160000000000001,1.0860000000000001]
[0.5917,1.0860000000000001]
[0.59179999999999999,1.0860000000000001]
[0.59189999999999998,1.0860000000000001]
[0.59199999999999997,1.0860000000000001]
[0.59209999999999996,1.0860000000000001]
[0.59219999999999995,1.0860000000000001]
[0.59230000000000005,1.0860000000000001]
[0.59240000000000004,1.0860000000000001]
[0.59250000000000003,1.0860000000000001]
[0.59260000000000002,1.0860000000000001]
[0.5927,1.0860000000000001]
[0.59279999999999999,1.0860000000000001]
[0.59289999999999998,1.0860000000000001]
[0.59299999999999997,1.0860000000000001]
[0.59309999999999996,1.0860000000000001]
[0.59319999999999995,1.0860000000000001]
[0.59330000000000005,1.0860000000000001]
[0.59340000000000004,1.0860000000000001]
[0.59350000000000003,1.0860000000000001]
[0.59360000000000002,1.0860000000000001]
[0.59370000000000001,1.0860000000000001]
[0.59379999999999999,1.0860000000000001]
[0.59389999999999998,1.0860000000000001]
[0.59399999999999997,1.0860000000000001]
[0.59409999999999996,1.0860000000000001]
[0.59419999999999995,1.0860000000000001]
[0.59430000000000005,1.0860000000000001]
[0.59440000000000004,1.0860000000000001]
[0.59450000000000003,1.0860000000000001]
[0.59460000000000002,1.0860000000000001]
[0.59470000000000001,1.0860000000000001]
[0.5948,1.0860000000000001]
[0.59489999999999998,1.0860000000000001]
[0.59499999999999997,1.0860000000000001]
[0.59509999999999996,1.0860000000000001]
[0.59519999999999995,1.0860000000000001]
[0.59530000000000005,1.0860000000000001]
[0.59540000000000004,1.0860000000000001]
[0.59550000000000003,1.0860000000000001]
[0.59560000000000002,1.0860000000000001]
[0.59570000000000001,1.0860000000000001]
[0.5958,1.0860000000000001]
[0.59589999999999999,1.0860000000000001]
[0.59599999999999997,1.0860000000000001]
[0.59609999999999996,1.0860000000000001]
[0.59619999999999995,1.0860000000000001]
[0.59630000000000005,1.0860000000000001]
[0.59640000000000004,1.0860000000000001]
[0.59650000000000003,1.0860000000000001]
[0.59660000000000002,1.0860000000000001]
[0.59670000000000001,1.0860000000000001]
[0.5968,1.0860000000000001]
[0.59689999999999999,1.0860000000000001]
[0.59699999999999998,1.0860000000000001]
[0.59709999999999996,1.0860000000000001]
[0.59719999999999995,1.0860000000000001]
[0.59730000000000005,1.0860000000000001]
[0.59740000000000004,1.0860000000000001]
[0.59750000000000003,1.0860000000000001]
[0.59760000000000002,1.0860000000000001]
[0.59770000000000001,1.0860000000000001]
[0.5978,1.0860000000000001]
[0.59789999999999999,1.0860000000000001]
[0.59799999999999998,1.0860000000000001]
[0.59809999999999997,1.0860000000000001]
[0.59819999999999995,1.0860000000000001]
[0.59830000000000005,1.0860000000000001]
[0.59840000000000004,1.0860000000000001]
[0.59850000000000003,1.0860000000000001]
[0.59860000000000002,1.0860000000000001]
[0.59870000000000001,1.0860000000000001]
[0.5988,1.0860000000000001]
[0.59889999999999999,1.0860000000000001]
[0.59899999999999998,1.0860000000000001]
[0.59909999999999997,1.0860000000000001]
[0.59919999999999995,1.0860000000000001]
[0.59930000000000005,1.0860000000000001]
[0.59940000000000004,1.0860000000000001]
[0.59950000000000003,1.0860000000000001]
[0.59960000000000002,1.0860000000000001]
[0.59970000000000001,1.0860000000000001]
[0.5998,1.0860000000000001]
[0.59989999999999999,1.0860000000000001]
[0.6,1.0860000000000001]
[0.60099999999999998,1.0720000000000001]
[0.60199999999999998,1.0720000000000001]
[0.60299999999999998,1.0720000000000001]
[0.60399999999999998,1.0720000000000001]
[0.60499999999999998,1.0720000000000001]
[0.60599999999999998,1.0720000000000001]
[0.60699999999999998,1.0720000000000001]
[0.60799999999999998,1.0720000000000001]
[0.60899999999999999,1.0720000000000001]
[0.61,1.0720000000000001]
[0.61099999999999999,1.0720000000000001]
[0.61199999999999999,1.0720000000000001]
[0.61299999999999999,1.0720000000000001]
[0.61399999999999999,1.0720000000000001]
[0.61499999999999999,1.0720000000000001]
[0.61599999999999999,1.0720000000000001]
[0.61699999999999999,1.0720000000000001]
[0.61799999999999999,1.0720000000000001]
[0.61899999999999999,1.0720000000000001]
[0.62,1.0720000000000001]
[0.621,1.0720000000000001]
[0.622,1.0720000000000001]
[0.623,1.0720000000000001]
[0.624,1.0720000000000001]
[0.625,1.0720000000000001]
[0.626,1.0720000000000001]
[0.627,1.0720000000000001]
[0.628,1.0720000000000001]
[0.629,1.0720000000000001]
[0.63,1.0720000000000001]
[0.63100000000000001,1.0720000000000001]
[0.63200000000000001,1.0720000000000001]
[0.63300000000000001,1.0720000000000001]
[0.63400000000000001,1.0720000000000001]
[0.63500000000000001,1.0720000000000001]
[0.63600000000000001,1.0720000000000001]
[0.63700000000000001,1.0720000000000001]
[0.63800000000000001,1.0720000000000001]
[0.63900000000000001,1.0720000000000001]
[0.64,1.0720000000000001]
[0.64100000000000001,1.0720000000000001]
[0.64200000000000002,1.0720000000000001]
[0.64300000000000002,1.0720000000000001]
[0.64400000000000002,1.0720000000000001]
[0.64500000000000002,1.0720000000000001]
[0.64600000000000002,1.0720000000000001]
[0.64700000000000002,1.0720000000000001]
[0.64800000000000002,1.0720000000000001]
[0.64900000000000002,1.0720000000000001]
[0.65,1.0720000000000001]
[0.65100000000000002,1.0720000000000001]
[0.65200000000000002,1.0720000000000001]
[0.65300000000000002,1.0720000000000001]
[0.65400000000000003,1.0720000000000001]
[0.65500000000000003,1.0720000000000001]
[0.65600000000000003,1.0720000000000001]
[0.65700000000000003,1.0720000000000001]
[0.65800000000000003,1.0720000000000001]
[0.65900000000000003,1.0720000000000001]
[0.66,1.0720000000000001]
[0.66100000000000003,1.0720000000000001]
[0.66200000000000003,1.0720000000000001]
[0.66300000000000003,1.0720000000000001]
[0.66400000000000003,1.0720000000000001]
[0.66500000000000004,1.0720000000000001]
[0.66600000000000004,1.0720000000000001]
[0.66700000000000004,1.0720000000000001]
[0.66800000000000004,1.0720000000000001]
[0.66900000000000004,1.0720000000000001]
[0.67,1.0720000000000001]
[0.67100000000000004,1.0720000000000001]
[0.67200000000000004,1.0720000000000001]
[0.67300000000000004,1.0720000000000001]
[0.67400000000000004,1.0720000000000001]
[0.67500000000000004,1.0720000000000001]
[0.67600000000000005,1.0720000000000001]
[0.67700000000000005,1.0720000000000001]
[0.67800000000000005,1.0720000000000001]
[0.67900000000000005,1.0720000000000001]
[0.68,1.0720000000000001]
[0.68100000000000005,1.0720000000000001]
[0.68200000000000005,1.0720000000000001]
[0.68300000000000005,1.0720000000000001]
[0.68400000000000005,1.0720000000000001]
[0.68500000000000005,1.0720000000000001]
[0.68600000000000005,1.0720000000000001]
[0.68700000000000006,1.0720000000000001]
[0.68799999999999994,1.0720000000000001]
[0.68899999999999995,1.0720000000000001]
[0.69,1.0720000000000001]
[0.69099999999999995,1.0720000000000001]
[0.69199999999999995,1.0720000000000001]
[0.69299999999999995,1.0720000000000001]
[0.69399999999999995,1.0720000000000001]
[0.69499999999999995,1.0720000000000001]
[0.69599999999999995,1.0720000000000001]
[0.69699999999999995,1.0720000000000001]
[0.69799999999999995,1.0720000000000001]
[0.69899999999999995,1.0720000000000001]
[0.7,1.0720000000000001]
[0.70099999999999996,1.0720000000000001]
[0.70199999999999996,1.0720000000000001]
[0.70299999999999996,1.0720000000000001]
[0.70399999999999996,1.0720000000000001]
[0.70499999999999996,1.0720000000000001]
[0.70599999999999996,1.0720000000000001]
[0.70699999999999996,1.0720000000000001]
[0.70799999999999996,1.0720000000000001]
[0.70899999999999996,1.0720000000000001]
[0.71,1.0720000000000001]
[0.71099999999999997,1.0720000000000001]
[0.71199999999999997,1.0720000000000001]
[0.71299999999999997,1.0720000000000001]
[0.71399999999999997,1.0720000000000001]
[0.71499999999999997,1.0720000000000001]
[0.71599999999999997,1.0720000000000001]
[0.71699999999999997,1.0720000000000001]
[0.71799999999999997,1.0720000000000001]
[0.71899999999999997,1.0720000000000001]
[0.72,1.0720000000000001]
[0.72099999999999997,1.0720000000000001]
[0.72199999999999998,1.0720000000000001]
[0.72299999999999998,1.0720000000000001]
[0.72399999999999998,1.0720000000000001]
[0.72499999999999998,1.0720000000000001]
[0.72599999999999998,1.0720000000000001]
[0.72699999999999998,1.0720000000000001]
[0.72799999999999998,1.0720000000000001]
[0.72899999999999998,1.0720000000000001]
[0.73,1.0720000000000001]
[0.73099999999999998,1.0720000000000001]
[0.73199999999999998,1.0720000000000001]
[0.73299999999999998,1.0720000000000001]
[0.73399999999999999,1.0720000000000001]
[0.73499999999999999,1.0720000000000001]
[0.73599999999999999,1.0720000000000001]
[0.73699999999999999,1.0720000000000001]
[0.73799999999999999,1.0720000000000001]
[0.73899999999999999,1.0720000000000001]
[0.74,1.0720000000000001]
[0.74099999999999999,1.0720000000000001]
[0.74199999999999999,1.0720000000000001]
[0.74299999999999999,1.0720000000000001]
[0.74399999999999999,1.0720000000000001]
[0.745,1.0720000000000001]
[0.746,1.0720000000000001]
[0.747,1.0720000000000001]
[0.748,1.0720000000000001]
[0.749,1.0720000000000001]
[0.75,1.0720000000000001]
[0.751,1.0720000000000001]
[0.752,1.0720000000000001]
[0.753,1.0720000000000001]
[0.754,1.0720000000000001]
[0.755,1.0720000000000001]
[0.75600000000000001,1.0720000000000001]
[0.75700000000000001,1.0720000000000001]
[0.75800000000000001,1.0720000000000001]
[0.75900000000000001,1.0720000000000001]
[0.76,1.0720000000000001]
[0.76100000000000001,1.0720000000000001]
[0.76200000000000001,1.0720000000000001]
[0.76300000000000001,1.0720000000000001]
[0.76400000000000001,1.0720000000000001]
[0.76500000000000001,1.0720000000000001]
[0.76600000000000001,1.0720000000000001]
[0.76700000000000002,1.0720000000000001]
[0.76800000000000002,1.0720000000000001]
[0.76900000000000002,1.0720000000000001]
[0.77,1.0720000000000001]
[0.77100000000000002,1.0720000000000001]
[0.77200000000000002,1.0720000000000001]
[0.77300000000000002,1.0720000000000001]
[0.77400000000000002,1.0720000000000001]
[0.77500000000000002,1.0720000000000001]
[0.77600000000000002,1.0720000000000001]
[0.77700000000000002,1.0720000000000001]
[0.77800000000000002,1.0720000000000001]
[0.77900000000000003,1.0720000000000001]
[0.78,1.0720000000000001]
[0.78100000000000003,1.0720000000000001]
[0.78200000000000003,1.0720000000000001]
[0.78300000000000003,1.0720000000000001]
[0.78400000000000003,1.0720000000000001]
[0.78500000000000003,1.0720000000000001]
[0.78600000000000003,1.0720000000000001]
[0.78700000000000003,1.0720000000000001]
[0.78800000000000003,1.0720000000000001]
[0.78900000000000003,1.0720000000000001]
[0.79,1.0720000000000001]
[0.79100000000000004,1.0720000000000001]
[0.79200000000000004,1.0720000000000001]
[0.79300000000000004,1.0720000000000001]
[0.79400000000000004,1.0720000000000001]
[0.79500000000000004,1.0720000000000001]
[0.79600000000000004,1.0720000000000001]
[0.79700000000000004,1.0720000000000001]
[0.79800000000000004,1.0720000000000001]
[0.79900000000000004,1.0720000000000001]
[0.8,1.0720000000000001]
[0.80100000000000005,1.0549999999999999]
[0.80200000000000005,1.0549999999999999]
[0.80300000000000005,1.0549999999999999]
[0.80400000000000005,1.0549999999999999]
[0.80500000000000005,1.0549999999999999]
[0.80600000000000005,1.0549999999999999]
[0.80700000000000005,1.0549999999999999]
[0.80800000000000005,1.0549999999999999]
[0.80900000000000005,1.0549999999999999]
[0.81,1.0549999999999999]
[0.81100000000000005,1.0549999999999999]
[0.81200000000000006,1.0549999999999999]
[0.81299999999999994,1.0549999999999999]
[0.81399999999999995,1.0549999999999999]
[0.81499999999999995,1.0549999999999999]
[0.81599999999999995,1.0549999999999999]
[0.81699999999999995,1.0549999999999999]
[0.81799999999999995,1.0549999999999999]
[0.81899999999999995,1.0549999999999999]
[0.82,1.0549999999999999]
[0.82099999999999995,1.0549999999999999]
[0.82199999999999995,1.0549999999999999]
[0.82299999999999995,1.0549999999999999]
[0.82399999999999995,1.0549999999999999]
[0.82499999999999996,1.0549999999999999]
[0.82599999999999996,1.0549999999999999]
[0.82699999999999996,1.0549999999999999]
[0.82799999999999996,1.0549999999999999]
[0.82899999999999996,1.0549999999999999]
[0.83,1.0549999999999999]
[0.83099999999999996,1.0549999999999999]
[0.83199999999999996,1.0549999999999999]
[0.83299999999999996,1.0549999999999999]
[0.83399999999999996,1.0549999999999999]
[0.83499999999999996,1.0549999999999999]
[0.83599999999999997,1.0549999999999999]
[0.83699999999999997,1.0549999999999999]
[0.83799999999999997,1.0549999999999999]
[0.83899999999999997,1.0549999999999999]
[0.84,1.0549999999999999]
[0.84099999999999997,1.0549999999999999]
[0.84199999999999997,1.0549999999999999]
[0.84299999999999997,1.0549999999999999]
[0.84399999999999997,1.0549999999999999]
[0.84499999999999997,1.0549999999999999]
[0.84599999999999997,1.0549999999999999]
[0.84699999999999998,1.0549999999999999]
[0.84799999999999998,1.0549999999999999]
[0.84899999999999998,1.0549999999999999]
[0.85,1.0549999999999999]
[0.85099999999999998,1.0549999999999999]
[0.85199999999999998,1.0549999999999999]
[0.85299999999999998,1.0549999999999999]
[0.85399999999999998,1.0549999999999999]
[0.85499999999999998,1.0549999999999999]
[0.85599999999999998,1.0549999999999999]
[0.85699999999999998,1.0549999999999999]
[0.85799999999999998,1.0549999999999999]
[0.85899999999999999,1.0549999999999999]
[0.86,1.0549999999999999]
[0.86099999999999999,1.0549999999999999]
[0.86199999999999999,1.0549999999999999]
[0.86299999999999999,1.0549999999999999]
[0.86399999999999999,1.0549999999999999]
[0.86499999999999999,1.0549999999999999]
[0.86599999999999999,1.0549999999999999]
[0.86699999999999999,1.0549999999999999]
[0.86799999999999999,1.0549999999999999]
[0.86899999999999999,1.0549999999999999]
[0.87,1.0549999999999999]
[0.871,1.0549999999999999]
[0.872,1.0549999999999999]
[0.873,1.0549999999999999]
[0.874,1.0549999999999999]
[0.875,1.0549999999999999]
[0.876,1.0549999999999999]
[0.877,1.0549999999999999]
[0.878,1.0549999999999999]
[0.879,1.0549999999999999]
[0.88,1.0549999999999999]
[0.88100000000000001,1.0549999999999999]
[0.88200000000000001,1.0549999999999999]
[0.88300000000000001,1.0549999999999999]
[0.88400000000000001,1.0549999999999999]
[0.88500000000000001,1.0549999999999999]
[0.88600000000000001,1.0549999999999999]
[0.88700000000000001,1.0549999999999999]
[0.88800000000000001,1.0549999999999999]
[0.88900000000000001,1.0549999999999999]
[0.89,1.0549999999999999]
[0.89100000000000001,1.0549999999999999]
[0.89200000000000002,1.0549999999999999]
[0.89300000000000002,1.0549999999999999]
[0.89400000000000002,1.0549999999999999]
[0.89500000000000002,1.0549999999999999]
[0.89600000000000002,1.0549999999999999]
[0.89700000000000002,1.0549999999999999]
[0.89800000000000002,1.0549999999999999]
[0.89900000000000002,1.0549999999999999]
[0.9,1.0549999999999999]
[0.90100000000000002,1.0549999999999999]
[0.90200000000000002,1.0549999999999999]
[0.90300000000000002,1.0549999999999999]
[0.90400000000000003,1.0549999999999999]
[0.90500000000000003,1.0549999999999999]
[0.90600000000000003,1.0549999999999999]
[0.90700000000000003,1.0549999999999999]
[0.90800000000000003,1.0549999999999999]
[0.90900000000000003,1.0549999999999999]
[0.91,1.0549999999999999]
[0.91100000000000003,1.0549999999999999]
[0.91200000000000003,1.0549999999999999]
[0.91300000000000003,1.0549999999999999]
[0.91400000000000003,1.0549999999999999]
[0.91500000000000004,1.0549999999999999]
[0.91600000000000004,1.0549999999999999]
[0.91700000000000004,1.0549999999999999]
[0.91800000000000004,1.0549999999999999]
[0.91900000000000004,1.0549999999999999]
[0.92,1.0549999999999999]
[0.92100000000000004,1.0549999999999999]
[0.92200000000000004,1.0549999999999999]
[0.92300000000000004,1.0549999999999999]
[0.92400000000000004,1.0549999999999999]
[0.92500000000000004,1.0549999999999999]
[0.92600000000000005,1.0549999999999999]
[0.92700000000000005,1.0549999999999999]
[0.92800000000000005,1.0549999999999999]
[0.92900000000000005,1.0549999999999999]
[0.93,1.0549999999999999]
[0.93100000000000005,1.0549999999999999]
[0.93200000000000005,1.0549999999999999]
[0.93300000000000005,1.0549999999999999]
[0.93400000000000005,1.0549999999999999]
[0.93500000000000005,1.0549999999999999]
[0.93600000000000005,1.0549999999999999]
[0.93700000000000006,1.0549999999999999]
[0.93799999999999994,1.0549999999999999]
[0.93899999999999995,1.0549999999999999]
[0.94,1.0549999999999999]
[0.94099999999999995,1.0549999999999999]
[0.94199999999999995,1.0549999999999999]
[0.94299999999999995,1.0549999999999999]
[0.94399999999999995,1.0549999999999999]
[0.94499999999999995,1.0549999999999999]
[0.94599999999999995,1.0549999999999999]
[0.94699999999999995,1.0549999999999999]
[0.94799999999999995,1.0549999999999999]
[0.94899999999999995,1.0549999999999999]
[0.95,1.0549999999999999]
[0.95099999999999996,1.0549999999999999]
[0.95199999999999996,1.0549999999999999]
[0.95299999999999996,1.0549999999999999]
[0.95399999999999996,1.0549999999999999]
[0.95499999999999996,1.0549999999999999]
[0.95599999999999996,1.0549999999999999]
[0.95699999999999996,1.0549999999999999]
[0.95799999999999996,1.0549999999999999]
[0.95899999999999996,1.0549999999999999]
[0.96,1.0549999999999999]
[0.96099999999999997,1.0549999999999999]
[0.96199999999999997,1.0549999999999999]
[0.96299999999999997,1.0549999999999999]
[0.96399999999999997,1.0549999999999999]
[0.96499999999999997,1.0549999999999999]
[0.96599999999999997,1.0549999999999999]
[0.96699999999999997,1.0549999999999999]
[0.96799999999999997,1.0549999999999999]
[0.96899999999999997,1.0549999999999999]
[0.97,1.0549999999999999]
[0.97099999999999997,1.0549999999999999]
[0.97199999999999998,1.0549999999999999]
[0.97299999999999998,1.0549999999999999]
[0.97399999999999998,1.0549999999999999]
[0.97499999999999998,1.0549999999999999]
[0.97599999999999998,1.0549999999999999]
[0.97699999999999998,1.0549999999999999]
[0.97799999999999998,1.0549999999999999]
[0.97899999999999998,1.0549999999999999]
[0.98,1.0549999999999999]
[0.98099999999999998,1.0549999999999999]
[0.98199999999999998,1.0549999999999999]
[0.98299999999999998,1.0549999999999999]
[0.98399999999999999,1.0549999999999999]
[0.98499999999999999,1.0549999999999999]
[0.98599999999999999,1.0549999999999999]
[0.98699999999999999,1.0549999999999999]
[0.98799999999999999,1.0549999999999999]
[0.98899999999999999,1.0549999999999999]
[0.99,1.0549999999999999]
[0.99099999999999999,1.0549999999999999]
[0.99199999999999999,1.0549999999999999]
[0.99299999999999999,1.0549999999999999]
[0.99399999999999999,1.0549999999999999]
[0.995,1.0549999999999999]
[0.996,1.0549999999999999]
[0.997,1.0549999999999999]
[0.998,1.0549999999999999]
[0.999,1.0549999999999999]
[1,1.0549999999999999]
[1.0009999999999999,1.0349999999999999]
[1.002,1.0349999999999999]
[1.0029999999999999,1.0349999999999999]
[1.004,1.0349999999999999]
[1.0049999999999999,1.0349999999999999]
[1.006,1.0349999999999999]
[1.0069999999999999,1.0349999999999999]
[1.008,1.0349999999999999]
[1.0089999999999999,1.0349999999999999]
[1.01,1.0349999999999999]
[1.0109999999999999,1.0349999999999999]
[1.012,1.0349999999999999]
[1.0129999999999999,1.0349999999999999]
[1.014,1.0349999999999999]
[1.0149999999999999,1.0349999999999999]
[1.016,1.0349999999999999]
[1.0169999999999999,1.0349999999999999]
[1.018,1.0349999999999999]
[1.0189999999999999,1.0349999999999999]
[1.02,1.0349999999999999]
[1.0209999999999999,1.0349999999999999]
[1.022,1.0349999999999999]
[1.0229999999999999,1.0349999999999999]
[1.024,1.0349999999999999]
[1.0249999999999999,1.0349999999999999]
[1.026,1.0349999999999999]
[1.0269999999999999,1.0349999999999999]
[1.028,1.0349999999999999]
[1.0289999999999999,1.0349999999999999]
[1.03,1.0349999999999999]
[1.0309999999999999,1.0349999999999999]
[1.032,1.0349999999999999]
[1.0329999999999999,1.0349999999999999]
[1.034,1.0349999999999999]
[1.0349999999999999,1.0349999999999999]
[1.036,1.0349999999999999]
[1.0369999999999999,1.0349999999999999]
[1.038,1.0349999999999999]
[1.0389999999999999,1.0349999999999999]
[1.04,1.0349999999999999]
[1.0409999999999999,1.0349999999999999]
[1.042,1.0349999999999999]
[1.0429999999999999,1.0349999999999999]
[1.044,1.0349999999999999]
[1.0449999999999999,1.0349999999999999]
[1.046,1.0349999999999999]
[1.0469999999999999,1.0349999999999999]
[1.048,1.0349999999999999]
[1.0489999999999999,1.0349999999999999]
[1.05,1.0349999999999999]
[1.0509999999999999,1.0349999999999999]
[1.052,1.0349999999999999]
[1.0529999999999999,1.0349999999999999]
[1.054,1.0349999999999999]
[1.0549999999999999,1.0349999999999999]
[1.056,1.0349999999999999]
[1.0569999999999999,1.0349999999999999]
[1.0580000000000001,1.0349999999999999]
[1.0589999999999999,1.0349999999999999]
[1.06,1.0349999999999999]
[1.0609999999999999,1.0349999999999999]
[1.0620000000000001,1.0349999999999999]
[1.0629999999999999,1.0349999999999999]
[1.0640000000000001,1.0349999999999999]
[1.0649999999999999,1.0349999999999999]
[1.0660000000000001,1.0349999999999999]
[1.0669999999999999,1.0349999999999999]
[1.0680000000000001,1.0349999999999999]
[1.069,1.0349999999999999]
[1.07,1.0349999999999999]
[1.071,1.0349999999999999]
[1.0720000000000001,1.0349999999999999]
[1.073,1.0349999999999999]
[1.0740000000000001,1.0349999999999999]
[1.075,1.0349999999999999]
[1.0760000000000001,1.0349999999999999]
[1.077,1.0349999999999999]
[1.0780000000000001,1.0349999999999999]
[1.079,1.0349999999999999]
[1.08,1.0349999999999999]
[1.081,1.0349999999999999]
[1.0820000000000001,1.0349999999999999]
[1.083,1.0349999999999999]
[1.0840000000000001,1.0349999999999999]
[1.085,1.0349999999999999]
[1.0860000000000001,1.0349999999999999]
[1.087,1.0349999999999999]
[1.0880000000000001,1.0349999999999999]
[1.089,1.0349999999999999]
[1.0900000000000001,1.0349999999999999]
[1.091,1.0349999999999999]
[1.0920000000000001,1.0349999999999999]
[1.093,1.0349999999999999]
[1.0940000000000001,1.0349999999999999]
[1.095,1.0349999999999999]
[1.0960000000000001,1.0349999999999999]
[1.097,1.0349999999999999]
[1.0980000000000001,1.0349999999999999]
[1.099,1.0349999999999999]
[1.1000000000000001,1.0349999999999999]
[1.101,1.0349999999999999]
[1.1020000000000001,1.0349999999999999]
[1.103,1.0349999999999999]
[1.1040000000000001,1.0349999999999999]
[1.105,1.0349999999999999]
[1.1060000000000001,1.0349999999999999]
[1.107,1.0349999999999999]
[1.1080000000000001,1.0349999999999999]
[1.109,1.0349999999999999]
[1.1100000000000001,1.0349999999999999]
[1.111,1.0349999999999999]
[1.1120000000000001,1.0349999999999999]
[1.113,1.0349999999999999]
[1.1140000000000001,1.0349999999999999]
[1.115,1.0349999999999999]
[1.1160000000000001,1.0349999999999999]
[1.117,1.0349999999999999]
[1.1180000000000001,1.0349999999999999]
[1.119,1.0349999999999999]
[1.1200000000000001,1.0349999999999999]
[1.121,1.0349999999999999]
[1.1220000000000001,1.0349999999999999]
[1.123,1.0349999999999999]
[1.1240000000000001,1.0349999999999999]
[1.125,1.0349999999999999]
[1.1259999999999999,1.0349999999999999]
[1.127,1.0349999999999999]
[1.1279999999999999,1.0349999999999999]
[1.129,1.0349999999999999]
[1.1299999999999999,1.0349999999999999]
[1.131,1.0349999999999999]
[1.1319999999999999,1.0349999999999999]
[1.133,1.0349999999999999]
[1.1339999999999999,1.0349999999999999]
[1.135,1.0349999999999999]
[1.1359999999999999,1.0349999999999999]
[1.137,1.0349999999999999]
[1.1379999999999999,1.0349999999999999]
[1.139,1.0349999999999999]
[1.1399999999999999,1.0349999999999999]
[1.141,1.0349999999999999]
[1.1419999999999999,1.0349999999999999]
[1.143,1.0349999999999999]
[1.1439999999999999,1.0349999999999999]
[1.145,1.0349999999999999]
[1.1459999999999999,1.0349999999999999]
[1.147,1.0349999999999999]
[1.1479999999999999,1.0349999999999999]
[1.149,1.0349999999999999]
[1.1499999999999999,1.0349999999999999]
[1.151,1.0349999999999999]
[1.1519999999999999,1.0349999999999999]
[1.153,1.0349999999999999]
[1.1539999999999999,1.0349999999999999]
[1.155,1.0349999999999999]
[1.1559999999999999,1.0349999999999999]
[1.157,1.0349999999999999]
[1.1579999999999999,1.0349999999999999]
[1.159,1.0349999999999999]
[1.1599999999999999,1.0349999999999999]
[1.161,1.0349999999999999]
[1.1619999999999999,1.0349999999999999]
[1.163,1.0349999999999999]
[1.1639999999999999,1.0349999999999999]
[1.165,1.0349999999999999]
[1.1659999999999999,1.0349999999999999]
[1.167,1.0349999999999999]
[1.1679999999999999,1.0349999999999999]
[1.169,1.0349999999999999]
[1.17,1.0349999999999999]
[1.171,1.0349999999999999]
[1.1719999999999999,1.0349999999999999]
[1.173,1.0349999999999999]
[1.1739999999999999,1.0349999999999999]
[1.175,1.0349999999999999]
[1.1759999999999999,1.0349999999999999]
[1.177,1.0349999999999999]
[1.1779999999999999,1.0349999999999999]
[1.179,1.0349999999999999]
[1.18,1.0349999999999999]
[1.181,1.0349999999999999]
[1.1819999999999999,1.0349999999999999]
[1.1830000000000001,1.0349999999999999]
[1.1839999999999999,1.0349999999999999]
[1.1850000000000001,1.0349999999999999]
[1.1859999999999999,1.0349999999999999]
[1.1870000000000001,1.0349999999999999]
[1.1879999999999999,1.0349999999999999]
[1.1890000000000001,1.0349999999999999]
[1.19,1.0349999999999999]
[1.1910000000000001,1.0349999999999999]
[1.1919999999999999,1.0349999999999999]
[1.1930000000000001,1.0349999999999999]
[1.194,1.0349999999999999]
[1.1950000000000001,1.0349999999999999]
[1.196,1.0349999999999999]
[1.1970000000000001,1.0349999999999999]
[1.198,1.0349999999999999]
[1.1990000000000001,1.0349999999999999]
[1.2,1.0349999999999999]
[1.2010000000000001,1.0349999999999999]
[1.202,1.0349999999999999]
[1.2030000000000001,1.0349999999999999]
[1.204,1.0349999999999999]
[1.2050000000000001,1.0349999999999999]
[1.206,1.0349999999999999]
[1.2070000000000001,1.0349999999999999]
[1.208,1.0349999999999999]
[1.2090000000000001,1.0349999999999999]
[1.21,1.0349999999999999]
[1.2110000000000001,1.0349999999999999]
[1.212,1.0349999999999999]
[1.2130000000000001,1.0349999999999999]
[1.214,1.0349999999999999]
[1.2150000000000001,1.0349999999999999]
[1.216,1.0349999999999999]
[1.2170000000000001,1.0349999999999999]
[1.218,1.0349999999999999]
[1.2190000000000001,1.0349999999999999]
[1.22,1.0349999999999999]
[1.2210000000000001,1.0349999999999999]
[1.222,1.0349999999999999]
[1.2230000000000001,1.0349999999999999]
[1.224,1.0349999999999999]
[1.2250000000000001,1.0349999999999999]
[1.226,1.0349999999999999]
[1.2270000000000001,1.0349999999999999]
[1.228,1.0349999999999999]
[1.2290000000000001,1.0349999999999999]
[1.23,1.0349999999999999]
[1.2310000000000001,1.0349999999999999]
[1.232,1.0349999999999999]
[1.2330000000000001,1.0349999999999999]
[1.234,1.0349999999999999]
[1.2350000000000001,1.0349999999999999]
[1.236,1.0349999999999999]
[1.2370000000000001,1.0349999999999999]
[1.238,1.0349999999999999]
[1.2390000000000001,1.0349999999999999]
[1.24,1.0349999999999999]
[1.2410000000000001,1.0349999999999999]
[1.242,1.0349999999999999]
[1.2430000000000001,1.0349999999999999]
[1.244,1.0349999999999999]
[1.2450000000000001,1.0349999999999999]
[1.246,1.0349999999999999]
[1.2470000000000001,1.0349999999999999]
[1.248,1.0349999999999999]
[1.2490000000000001,1.0349999999999999]
[1.25,1.0349999999999999]
[1.2509999999999999,1.0349999999999999]
[1.252,1.0349999999999999]
[1.2529999999999999,1.0349999999999999]
[1.254,1.0349999999999999]
[1.2549999999999999,1.0349999999999999]
[1.256,1.0349999999999999]
[1.2569999999999999,1.0349999999999999]
[1.258,1.0349999999999999]
[1.2589999999999999,1.0349999999999999]
[1.26,1.0349999999999999]
[1.2609999999999999,1.0349999999999999]
[1.262,1.0349999999999999]
[1.2629999999999999,1.0349999999999999]
[1.264,1.0349999999999999]
[1.2649999999999999,1.0349999999999999]
[1.266,1.0349999999999999]
[1.2669999999999999,1.0349999999999999]
[1.268,1.0349999999999999]
[1.2689999999999999,1.0349999999999999]
[1.27,1.0349999999999999]
[1.2709999999999999,1.0349999999999999]
[1.272,1.0349999999999999]
[1.2729999999999999,1.0349999999999999]
[1.274,1.0349999999999999]
[1.2749999999999999,1.0349999999999999]
[1.276,1.0349999999999999]
[1.2769999999999999,1.0349999999999999]
[1.278,1.0349999999999999]
[1.2789999999999999,1.0349999999999999]
[1.28,1.0349999999999999]
[1.2809999999999999,1.0349999999999999]
[1.282,1.0349999999999999]
[1.2829999999999999,1.0349999999999999]
[1.284,1.0349999999999999]
[1.2849999999999999,1.0349999999999999]
[1.286,1.0349999999999999]
[1.2869999999999999,1.0349999999999999]
[1.288,1.0349999999999999]
[1.2889999999999999,1.0349999999999999]
[1.29,1.0349999999999999]
[1.2909999999999999,1.0349999999999999]
[1.292,1.0349999999999999]
[1.2929999999999999,1.0349999999999999]
[1.294,1.0349999999999999]
[1.2949999999999999,1.0349999999999999]
[1.296,1.0349999999999999]
[1.2969999999999999,1.0349999999999999]
[1.298,1.0349999999999999]
[1.2989999999999999,1.0349999999999999]
[1.3,1.0349999999999999]
[1.3009999999999999,1.0349999999999999]
[1.302,1.0349999999999999]
[1.3029999999999999,1.0349999999999999]
[1.304,1.0349999999999999]
[1.3049999999999999,1.0349999999999999]
[1.306,1.0349999999999999]
[1.3069999999999999,1.0349999999999999]
[1.3080000000000001,1.0349999999999999]
[1.3089999999999999,1.0349999999999999]
[1.31,1.0349999999999999]
[1.3109999999999999,1.0349999999999999]
[1.3120000000000001,1.0349999999999999]
[1.3129999999999999,1.0349999999999999]
[1.3140000000000001,1.0349999999999999]
[1.3149999999999999,1.0349999999999999]
[1.3160000000000001,1.0349999999999999]
[1.3169999999999999,1.0349999999999999]
[1.3180000000000001,1.0349999999999999]
[1.319,1.0349999999999999]
[1.32,1.0349999999999999]
[1.321,1.0349999999999999]
[1.3220000000000001,1.0349999999999999]
[1.323,1.0349999999999999]
[1.3240000000000001,1.0349999999999999]
[1.325,1.0349999999999999]
[1.3260000000000001,1.0349999999999999]
[1.327,1.0349999999999999]
[1.3280000000000001,1.0349999999999999]
[1.329,1.0349999999999999]
[1.33,1.0349999999999999]
[1.331,1.0349999999999999]
[1.3320000000000001,1.0349999999999999]
[1.333,1.0349999999999999]
[1.3340000000000001,1.0349999999999999]
[1.335,1.0349999999999999]
[1.3360000000000001,1.0349999999999999]
[1.337,1.0349999999999999]
[1.3380000000000001,1.0349999999999999]
[1.339,1.0349999999999999]
[1.34,1.0349999999999999]
[1.341,1.0349999999999999]
[1.3420000000000001,1.0349999999999999]
[1.343,1.0349999999999999]
[1.3440000000000001,1.0349999999999999]
[1.345,1.0349999999999999]
[1.3460000000000001,1.0349999999999999]
[1.347,1.0349999999999999]
[1.3480000000000001,1.0349999999999999]
[1.349,1.0349999999999999]
[1.35,1.0349999999999999]
[1.351,1.0349999999999999]
[1.3520000000000001,1.0349999999999999]
[1.353,1.0349999999999999]
[1.3540000000000001,1.0349999999999999]
[1.355,1.0349999999999999]
[1.3560000000000001,1.0349999999999999]
[1.357,1.0349999999999999]
[1.3580000000000001,1.0349999999999999]
[1.359,1.0349999999999999]
[1.36,1.0349999999999999]
[1.361,1.0349999999999999]
[1.3620000000000001,1.0349999999999999]
[1.363,1.0349999999999999]
[1.3640000000000001,1.0349999999999999]
[1.365,1.0349999999999999]
[1.3660000000000001,1.0349999999999999]
[1.367,1.0349999999999999]
[1.3680000000000001,1.0349999999999999]
[1.369,1.0349999999999999]
[1.37,1.0349999999999999]
[1.371,1.0349999999999999]
[1.3720000000000001,1.0349999999999999]
[1.373,1.0349999999999999]
[1.3740000000000001,1.0349999999999999]
[1.375,1.0349999999999999]
[1.3759999999999999,1.0349999999999999]
[1.377,1.0349999999999999]
[1.3779999999999999,1.0349999999999999]
[1.379,1.0349999999999999]
[1.38,1.0349999999999999]
[1.381,1.0349999999999999]
[1.3819999999999999,1.0349999999999999]
[1.383,1.0349999999999999]
[1.3839999999999999,1.0349999999999999]
[1.385,1.0349999999999999]
[1.3859999999999999,1.0349999999999999]
[1.387,1.0349999999999999]
[1.3879999999999999,1.0349999999999999]
[1.389,1.0349999999999999]
[1.39,1.0349999999999999]
[1.391,1.0349999999999999]
[1.3919999999999999,1.0349999999999999]
[1.393,1.0349999999999999]
[1.3939999999999999,1.0349999999999999]
[1.395,1.0349999999999999]
[1.3959999999999999,1.0349999999999999]
[1.397,1.0349999999999999]
[1.3979999999999999,1.0349999999999999]
[1.399,1.0349999999999999]
[1.4,1.0349999999999999]
[1.401,1.0349999999999999]
[1.4019999999999999,1.0349999999999999]
[1.403,1.0349999999999999]
[1.4039999999999999,1.0349999999999999]
[1.405,1.0349999999999999]
[1.4059999999999999,1.0349999999999999]
[1.407,1.0349999999999999]
[1.4079999999999999,1.0349999999999999]
[1.409,1.0349999999999999]
[1.41,1.0349999999999999]
[1.411,1.0349999999999999]
[1.4119999999999999,1.0349999999999999]
[1.413,1.0349999999999999]
[1.4139999999999999,1.0349999999999999]
[1.415,1.0349999999999999]
[1.4159999999999999,1.0349999999999999]
[1.417,1.0349999999999999]
[1.4179999999999999,1.0349999999999999]
[1.419,1.0349999999999999]
[1.42,1.0349999999999999]
[1.421,1.0349999999999999]
[1.4219999999999999,1.0349999999999999]
[1.423,1.0349999999999999]
[1.4239999999999999,1.0349999999999999]
[1.425,1.0349999999999999]
[1.4259999999999999,1.0349999999999999]
[1.427,1.0349999999999999]
[1.4279999999999999,1.0349999999999999]
[1.429,1.0349999999999999]
[1.43,1.0349999999999999]
[1.431,1.0349999999999999]
[1.4319999999999999,1.0349999999999999]
[1.4330000000000001,1.0349999999999999]
[1.4339999999999999,1.0349999999999999]
[1.4350000000000001,1.0349999999999999]
[1.4359999999999999,1.0349999999999999]
[1.4370000000000001,1.0349999999999999]
[1.4379999999999999,1.0349999999999999]
[1.4390000000000001,1.0349999999999999]
[1.44,1.0349999999999999]
[1.4410000000000001,1.0349999999999999]
[1.4419999999999999,1.0349999999999999]
[1.4430000000000001,1.0349999999999999]
[1.444,1.0349999999999999]
[1.4450000000000001,1.0349999999999999]
[1.446,1.0349999999999999]
[1.4470000000000001,1.0349999999999999]
[1.448,1.0349999999999999]
[1.4490000000000001,1.0349999999999999]
[1.45,1.0349999999999999]
[1.4510000000000001,1.0349999999999999]
[1.452,1.0349999999999999]
[1.4530000000000001,1.0349999999999999]
[1.454,1.0349999999999999]
[1.4550000000000001,1.0349999999999999]
[1.456,1.0349999999999999]
[1.4570000000000001,1.0349999999999999]
[1.458,1.0349999999999999]
[1.4590000000000001,1.0349999999999999]
[1.46,1.0349999999999999]
[1.4610000000000001,1.0349999999999999]
[1.462,1.0349999999999999]
[1.4630000000000001,1.0349999999999999]
[1.464,1.0349999999999999]
[1.4650000000000001,1.0349999999999999]
[1.466,1.0349999999999999]
[1.4670000000000001,1.0349999999999999]
[1.468,1.0349999999999999]
[1.4690000000000001,1.0349999999999999]
[1.47,1.0349999999999999]
[1.4710000000000001,1.0349999999999999]
[1.472,1.0349999999999999]
[1.4730000000000001,1.0349999999999999]
[1.474,1.0349999999999999]
[1.4750000000000001,1.0349999999999999]
[1.476,1.0349999999999999]
[1.4770000000000001,1.0349999999999999]
[1.478,1.0349999999999999]
[1.4790000000000001,1.0349999999999999]
[1.48,1.0349999999999999]
[1.4810000000000001,1.0349999999999999]
[1.482,1.0349999999999999]
[1.4830000000000001,1.0349999999999999]
[1.484,1.0349999999999999]
[1.4850000000000001,1.0349999999999999]
[1.486,1.0349999999999999]
[1.4870000000000001,1.0349999999999999]
[1.488,1.0349999999999999]
[1.4890000000000001,1.0349999999999999]
[1.49,1.0349999999999999]
[1.4910000000000001,1.0349999999999999]
[1.492,1.0349999999999999]
[1.4930000000000001,1.0349999999999999]
[1.494,1.0349999999999999]
[1.4950000000000001,1.0349999999999999]
[1.496,1.0349999999999999]
[1.4970000000000001,1.0349999999999999]
[1.498,1.0349999999999999]
[1.4990000000000001,1.0349999999999999]
[1.5,1.0349999999999999]
[1.5009999999999999,1.008]
[1.502,1.008]
[1.5029999999999999,1.008]
[1.504,1.008]
[1.5049999999999999,1.008]
[1.506,1.008]
[1.5069999999999999,1.008]
[1.508,1.008]
[1.5089999999999999,1.008]
[1.51,1.008]
[1.5109999999999999,1.008]
[1.512,1.008]
[1.5129999999999999,1.008]
[1.514,1.008]
[1.5149999999999999,1.008]
[1.516,1.008]
[1.5169999999999999,1.008]
[1.518,1.008]
[1.5189999999999999,1.008]
[1.52,1.008]
[1.5209999999999999,1.008]
[1.522,1.008]
[1.5229999999999999,1.008]
[1.524,1.008]
[1.5249999999999999,1.008]
[1.526,1.008]
[1.5269999999999999,1.008]
[1.528,1.008]
[1.5289999999999999,1.008]
[1.53,1.008]
[1.5309999999999999,1.008]
[1.532,1.008]
[1.5329999999999999,1.008]
[1.534,1.008]
[1.5349999999999999,1.008]
[1.536,1.008]
[1.5369999999999999,1.008]
[1.538,1.008]
[1.5389999999999999,1.008]
[1.54,1.008]
[1.5409999999999999,1.008]
[1.542,1.008]
[1.5429999999999999,1.008]
[1.544,1.008]
[1.5449999999999999,1.008]
[1.546,1.008]
[1.5469999999999999,1.008]
[1.548,1.008]
[1.5489999999999999,1.008]
[1.55,1.008]
[1.5509999999999999,1.008]
[1.552,1.008]
[1.5529999999999999,1.008]
[1.554,1.008]
[1.5549999999999999,1.008]
[1.556,1.008]
[1.5569999999999999,1.008]
[1.5580000000000001,1.008]
[1.5589999999999999,1.008]
[1.56,1.008]
[1.5609999999999999,1.008]
[1.5620000000000001,1.008]
[1.5629999999999999,1.008]
[1.5640000000000001,1.008]
[1.5649999999999999,1.008]
[1.5660000000000001,1.008]
[1.5669999999999999,1.008]
[1.5680000000000001,1.008]
[1.569,1.008]
[1.57,1.008]
[1.571,1.008]
[1.5720000000000001,1.008]
[1.573,1.008]
[1.5740000000000001,1.008]
[1.575,1.008]
[1.5760000000000001,1.008]
[1.577,1.008]
[1.5780000000000001,1.008]
[1.579,1.008]
[1.58,1.008]
[1.581,1.008]
[1.5820000000000001,1.008]
[1.583,1.008]
[1.5840000000000001,1.008]
[1.585,1.008]
[1.5860000000000001,1.008]
[1.587,1.008]
[1.5880000000000001,1.008]
[1.589,1.008]
[1.59,1.008]
[1.591,1.008]
[1.5920000000000001,1.008]
[1.593,1.008]
[1.5940000000000001,1.008]
[1.595,1.008]
[1.5960000000000001,1.008]
[1.597,1.008]
[1.5980000000000001,1.008]
[1.599,1.008]
[1.6,1.008]
[1.601,1.008]
[1.6020000000000001,1.008]
[1.603,1.008]
[1.6040000000000001,1.008]
[1.605,1.008]
[1.6060000000000001,1.008]
[1.607,1.008]
[1.6080000000000001,1.008]
[1.609,1.008]
[1.61,1.008]
[1.611,1.008]
[1.6120000000000001,1.008]
[1.613,1.008]
[1.6140000000000001,1.008]
[1.615,1.008]
[1.6160000000000001,1.008]
[1.617,1.008]
[1.6180000000000001,1.008]
[1.619,1.008]
[1.62,1.008]
[1.621,1.008]
[1.6220000000000001,1.008]
[1.623,1.008]
[1.6240000000000001,1.008]
[1.625,1.008]
[1.6259999999999999,1.008]
[1.627,1.008]
[1.6279999999999999,1.008]
[1.629,1.008]
[1.63,1.008]
[1.631,1.008]
[1.6319999999999999,1.008]
[1.633,1.008]
[1.6339999999999999,1.008]
[1.635,1.008]
[1.6359999999999999,1.008]
[1.637,1.008]
[1.6379999999999999,1.008]
[1.639,1.008]
[1.64,1.008]
[1.641,1.008]
[1.6419999999999999,1.008]
[1.643,1.008]
[1.6439999999999999,1.008]
[1.645,1.008]
[1.6459999999999999,1.008]
[1.647,1.008]
[1.6479999999999999,1.008]
[1.649,1.008]
[1.65,1.008]
[1.651,1.008]
[1.6519999999999999,1.008]
[1.653,1.008]
[1.6539999999999999,1.008]
[1.655,1.008]
[1.6559999999999999,1.008]
[1.657,1.008]
[1.6579999999999999,1.008]
[1.659,1.008]
[1.66,1.008]
[1.661,1.008]
[1.6619999999999999,1.008]
[1.663,1.008]
[1.6639999999999999,1.008]
[1.665,1.008]
[1.6659999999999999,1.008]
[1.667,1.008]
[1.6679999999999999,1.008]
[1.669,1.008]
[1.67,1.008]
[1.671,1.008]
[1.6719999999999999,1.008]
[1.673,1.008]
[1.6739999999999999,1.008]
[1.675,1.008]
[1.6759999999999999,1.008]
[1.677,1.008]
[1.6779999999999999,1.008]
[1.679,1.008]
[1.68,1.008]
[1.681,1.008]
[1.6819999999999999,1.008]
[1.6830000000000001,1.008]
[1.6839999999999999,1.008]
[1.6850000000000001,1.008]
[1.6859999999999999,1.008]
[1.6870000000000001,1.008]
[1.6879999999999999,1.008]
[1.6890000000000001,1.008]
[1.69,1.008]
[1.6910000000000001,1.008]
[1.6919999999999999,1.008]
[1.6930000000000001,1.008]
[1.694,1.008]
[1.6950000000000001,1.008]
[1.696,1.008]
[1.6970000000000001,1.008]
[1.698,1.008]
[1.6990000000000001,1.008]
[1.7,1.008]
[1.7010000000000001,1.008]
[1.702,1.008]
[1.7030000000000001,1.008]
[1.704,1.008]
[1.7050000000000001,1.008]
[1.706,1.008]
[1.7070000000000001,1.008]
[1.708,1.008]
[1.7090000000000001,1.008]
[1.71,1.008]
[1.7110000000000001,1.008]
[1.712,1.008]
[1.7130000000000001,1.008]
[1.714,1.008]
[1.7150000000000001,1.008]
[1.716,1.008]
[1.7170000000000001,1.008]
[1.718,1.008]
[1.7190000000000001,1.008]
[1.72,1.008]
[1.7210000000000001,1.008]
[1.722,1.008]
[1.7230000000000001,1.008]
[1.724,1.008]
[1.7250000000000001,1.008]
[1.726,1.008]
[1.7270000000000001,1.008]
[1.728,1.008]
[1.7290000000000001,1.008]
[1.73,1.008]
[1.7310000000000001,1.008]
[1.732,1.008]
[1.7330000000000001,1.008]
[1.734,1.008]
[1.7350000000000001,1.008]
[1.736,1.008]
[1.7370000000000001,1.008]
[1.738,1.008]
[1.7390000000000001,1.008]
[1.74,1.008]
[1.7410000000000001,1.008]
[1.742,1.008]
[1.7430000000000001,1.008]
[1.744,1.008]
[1.7450000000000001,1.008]
[1.746,1.008]
[1.7470000000000001,1.008]
[1.748,1.008]
[1.7490000000000001,1.008]
[1.75,1.008]
[1.7509999999999999,1.008]
[1.752,1.008]
[1.7529999999999999,1.008]
[1.754,1.008]
[1.7549999999999999,1.008]
[1.756,1.008]
[1.7569999999999999,1.008]
[1.758,1.008]
[1.7589999999999999,1.008]
[1.76,1.008]
[1.7609999999999999,1.008]
[1.762,1.008]
[1.7629999999999999,1.008]
[1.764,1.008]
[1.7649999999999999,1.008]
[1.766,1.008]
[1.7669999999999999,1.008]
[1.768,1.008]
[1.7689999999999999,1.008]
[1.77,1.008]
[1.7709999999999999,1.008]
[1.772,1.008]
[1.7729999999999999,1.008]
[1.774,1.008]
[1.7749999999999999,1.008]
[1.776,1.008]
[1.7769999999999999,1.008]
[1.778,1.008]
[1.7789999999999999,1.008]
[1.78,1.008]
[1.7809999999999999,1.008]
[1.782,1.008]
[1.7829999999999999,1.008]
[1.784,1.008]
[1.7849999999999999,1.008]
[1.786,1.008]
[1.7869999999999999,1.008]
[1.788,1.008]
[1.7889999999999999,1.008]
[1.79,1.008]
[1.7909999999999999,1.008]
[1.792,1.008]
[1.7929999999999999,1.008]
[1.794,1.008]
[1.7949999999999999,1.008]
[1.796,1.008]
[1.7969999999999999,1.008]
[1.798,1.008]
[1.7989999999999999,1.008]
[1.8,1.008]
[1.8009999999999999,1.008]
[1.802,1.008]
[1.8029999999999999,1.008]
[1.804,1.008]
[1.8049999999999999,1.008]
[1.806,1.008]
[1.8069999999999999,1.008]
[1.8080000000000001,1.008]
[1.8089999999999999,1.008]
[1.81,1.008]
[1.8109999999999999,1.008]
[1.8120000000000001,1.008]
[1.8129999999999999,1.008]
[1.8140000000000001,1.008]
[1.8149999999999999,1.008]
[1.8160000000000001,1.008]
[1.8169999999999999,1.008]
[1.8180000000000001,1.008]
[1.819,1.008]
[1.82,1.008]
[1.821,1.008]
[1.8220000000000001,1.008]
[1.823,1.008]
[1.8240000000000001,1.008]
[1.825,1.008]
[1.8260000000000001,1.008]
[1.827,1.008]
[1.8280000000000001,1.008]
[1.829,1.008]
[1.83,1.008]
[1.831,1.008]
[1.8320000000000001,1.008]
[1.833,1.008]
[1.8340000000000001,1.008]
[1.835,1.008]
[1.8360000000000001,1.008]
[1.837,1.008]
[1.8380000000000001,1.008]
[1.839,1.008]
[1.84,1.008]
[1.841,1.008]
[1.8420000000000001,1.008]
[1.843,1.008]
[1.8440000000000001,1.008]
[1.845,1.008]
[1.8460000000000001,1.008]
[1.847,1.008]
[1.8480000000000001,1.008]
[1.849,1.008]
[1.85,1.008]
[1.851,1.008]
[1.8520000000000001,1.008]
[1.853,1.008]
[1.8540000000000001,1.008]
[1.855,1.008]
[1.8560000000000001,1.008]
[1.857,1.008]
[1.8580000000000001,1.008]
[1.859,1.008]
[1.86,1.008]
[1.861,1.008]
[1.8620000000000001,1.008]
[1.863,1.008]
[1.8640000000000001,1.008]
[1.865,1.008]
[1.8660000000000001,1.008]
[1.867,1.008]
[1.8680000000000001,1.008]
[1.869,1.008]
[1.87,1.008]
[1.871,1.008]
[1.8720000000000001,1.008]
[1.873,1.008]
[1.8740000000000001,1.008]
[1.875,1.008]
[1.8759999999999999,1.008]
[1.877,1.008]
[1.8779999999999999,1.008]
[1.879,1.008]
[1.88,1.008]
[1.881,1.008]
[1.8819999999999999,1.008]
[1.883,1.008]
[1.8839999999999999,1.008]
[1.885,1.008]
[1.8859999999999999,1.008]
[1.887,1.008]
[1.8879999999999999,1.008]
[1.889,1.008]
[1.89,1.008]
[1.891,1.008]
[1.8919999999999999,1.008]
[1.893,1.008]
[1.8939999999999999,1.008]
[1.895,1.008]
[1.8959999999999999,1.008]
[1.897,1.008]
[1.8979999999999999,1.008]
[1.899,1.008]
[1.9,1.008]
[1.901,1.008]
[1.9019999999999999,1.008]
[1.903,1.008]
[1.9039999999999999,1.008]
[1.905,1.008]
[1.9059999999999999,1.008]
[1.907,1.008]
[1.9079999999999999,1.008]
[1.909,1.008]
[1.91,1.008]
[1.911,1.008]
[1.9119999999999999,1.008]
[1.913,1.008]
[1.9139999999999999,1.008]
[1.915,1.008]
[1.9159999999999999,1.008]
[1.917,1.008]
[1.9179999999999999,1.008]
[1.919,1.008]
[1.92,1.008]
[1.921,1.008]
[1.9219999999999999,1.008]
[1.923,1.008]
[1.9239999999999999,1.008]
[1.925,1.008]
[1.9259999999999999,1.008]
[1.927,1.008]
[1.9279999999999999,1.008]
[1.929,1.008]
[1.93,1.008]
[1.931,1.008]
[1.9319999999999999,1.008]
[1.9330000000000001,1.008]
[1.9339999999999999,1.008]
[1.9350000000000001,1.008]
[1.9359999999999999,1.008]
[1.9370000000000001,1.008]
[1.9379999999999999,1.008]
[1.9390000000000001,1.008]
[1.94,1.008]
[1.9410000000000001,1.008]
[1.9419999999999999,1.008]
[1.9430000000000001,1.008]
[1.944,1.008]
[1.9450000000000001,1.008]
[1.946,1.008]
[1.9470000000000001,1.008]
[1.948,1.008]
[1.9490000000000001,1.008]
[1.95,1.008]
[1.9510000000000001,1.008]
[1.952,1.008]
[1.9530000000000001,1.008]
[1.954,1.008]
[1.9550000000000001,1.008]
[1.956,1.008]
[1.9570000000000001,1.008]
[1.958,1.008]
[1.9590000000000001,1.008]
[1.96,1.008]
[1.9610000000000001,1.008]
[1.962,1.008]
[1.9630000000000001,1.008]
[1.964,1.008]
[1.9650000000000001,1.008]
[1.966,1.008]
[1.9670000000000001,1.008]
[1.968,1.008]
[1.9690000000000001,1.008]
[1.97,1.008]
[1.9710000000000001,1.008]
[1.972,1.008]
[1.9730000000000001,1.008]
[1.974,1.008]
[1.9750000000000001,1.008]
[1.976,1.008]
[1.9770000000000001,1.008]
[1.978,1.008]
[1.9790000000000001,1.008]
[1.98,1.008]
[1.9810000000000001,1.008]
[1.982,1.008]
[1.9830000000000001,1.008]
[1.984,1.008]
[1.9850000000000001,1.008]
[1.986,1.008]
[1.9870000000000001,1.008]
[1.988,1.008]
[1.9890000000000001,1.008]
[1.99,1.008]
[1.9910000000000001,1.008]
[1.992,1.008]
[1.9930000000000001,1.008]
[1.994,1.008]
[1.9950000000000001,1.008]
[1.996,1.008]
[1.9970000000000001,1.008]
[1.998,1.008]
[1.9990000000000001,1.008]
[2,1.008]
[2.0009999999999999,0.99199999999999999]
[2.0019999999999998,0.99199999999999999]
[2.0030000000000001,0.99199999999999999]
[2.004,0.99199999999999999]
[2.0049999999999999,0.99199999999999999]
[2.0059999999999998,0.99199999999999999]
[2.0070000000000001,0.99199999999999999]
[2.008,0.99199999999999999]
[2.0089999999999999,0.99199999999999999]
[2.0099999999999998,0.99199999999999999]
[2.0110000000000001,0.99199999999999999]
[2.012,0.99199999999999999]
[2.0129999999999999,0.99199999999999999]
[2.0139999999999998,0.99199999999999999]
[2.0150000000000001,0.99199999999999999]
[2.016,0.99199999999999999]
[2.0169999999999999,0.99199999999999999]
[2.0179999999999998,0.99199999999999999]
[2.0190000000000001,0.99199999999999999]
[2.02,0.99199999999999999]
[2.0209999999999999,0.99199999999999999]
[2.0219999999999998,0.99199999999999999]
[2.0230000000000001,0.99199999999999999]
[2.024,0.99199999999999999]
[2.0249999999999999,0.99199999999999999]
[2.0259999999999998,0.99199999999999999]
[2.0270000000000001,0.99199999999999999]
[2.028,0.99199999999999999]
[2.0289999999999999,0.99199999999999999]
[2.0299999999999998,0.99199999999999999]
[2.0310000000000001,0.99199999999999999]
[2.032,0.99199999999999999]
[2.0329999999999999,0.99199999999999999]
[2.0339999999999998,0.99199999999999999]
[2.0350000000000001,0.99199999999999999]
[2.036,0.99199999999999999]
[2.0369999999999999,0.99199999999999999]
[2.0379999999999998,0.99199999999999999]
[2.0390000000000001,0.99199999999999999]
[2.04,0.99199999999999999]
[2.0409999999999999,0.99199999999999999]
[2.0419999999999998,0.99199999999999999]
[2.0430000000000001,0.99199999999999999]
[2.044,0.99199999999999999]
[2.0449999999999999,0.99199999999999999]
[2.0459999999999998,0.99199999999999999]
[2.0470000000000002,0.99199999999999999]
[2.048,0.99199999999999999]
[2.0489999999999999,0.99199999999999999]
[2.0499999999999998,0.99199999999999999]
[2.0510000000000002,0.99199999999999999]
[2.052,0.99199999999999999]
[2.0529999999999999,0.99199999999999999]
[2.0539999999999998,0.99199999999999999]
[2.0550000000000002,0.99199999999999999]
[2.056,0.99199999999999999]
[2.0569999999999999,0.99199999999999999]
[2.0579999999999998,0.99199999999999999]
[2.0590000000000002,0.99199999999999999]
[2.06,0.99199999999999999]
[2.0609999999999999,0.99199999999999999]
[2.0619999999999998,0.99199999999999999]
[2.0630000000000002,0.99199999999999999]
[2.0640000000000001,0.99199999999999999]
[2.0649999999999999,0.99199999999999999]
[2.0659999999999998,0.99199999999999999]
[2.0670000000000002,0.99199999999999999]
[2.0680000000000001,0.99199999999999999]
[2.069,0.99199999999999999]
[2.0699999999999998,0.99199999999999999]
[2.0710000000000002,0.99199999999999999]
[2.0720000000000001,0.99199999999999999]
[2.073,0.99199999999999999]
[2.0739999999999998,0.99199999999999999]
[2.0750000000000002,0.99199999999999999]
[2.0760000000000001,0.99199999999999999]
[2.077,0.99199999999999999]
[2.0779999999999998,0.99199999999999999]
[2.0790000000000002,0.99199999999999999]
[2.08,0.99199999999999999]
[2.081,0.99199999999999999]
[2.0819999999999999,0.99199999999999999]
[2.0830000000000002,0.99199999999999999]
[2.0840000000000001,0.99199999999999999]
[2.085,0.99199999999999999]
[2.0859999999999999,0.99199999999999999]
[2.0870000000000002,0.99199999999999999]
[2.0880000000000001,0.99199999999999999]
[2.089,0.99199999999999999]
[2.09,0.99199999999999999]
[2.0910000000000002,0.99199999999999999]
[2.0920000000000001,0.99199999999999999]
[2.093,0.99199999999999999]
[2.0939999999999999,0.99199999999999999]
[2.0950000000000002,0.99199999999999999]
[2.0960000000000001,0.99199999999999999]
[2.097,0.99199999999999999]
[2.0979999999999999,0.99199999999999999]
[2.0990000000000002,0.99199999999999999]
[2.1,0.99199999999999999]
[2.101,0.99199999999999999]
[2.1019999999999999,0.99199999999999999]
[2.1030000000000002,0.99199999999999999]
[2.1040000000000001,0.99199999999999999]
[2.105,0.99199999999999999]
[2.1059999999999999,0.99199999999999999]
[2.1070000000000002,0.99199999999999999]
[2.1080000000000001,0.99199999999999999]
[2.109,0.99199999999999999]
[2.11,0.99199999999999999]
[2.1110000000000002,0.99199999999999999]
[2.1120000000000001,0.99199999999999999]
[2.113,0.99199999999999999]
[2.1139999999999999,0.99199999999999999]
[2.1150000000000002,0.99199999999999999]
[2.1160000000000001,0.99199999999999999]
[2.117,0.99199999999999999]
[2.1179999999999999,0.99199999999999999]
[2.1190000000000002,0.99199999999999999]
[2.12,0.99199999999999999]
[2.121,0.99199999999999999]
[2.1219999999999999,0.99199999999999999]
[2.1230000000000002,0.99199999999999999]
[2.1240000000000001,0.99199999999999999]
[2.125,0.99199999999999999]
[2.1259999999999999,0.99199999999999999]
[2.1269999999999998,0.99199999999999999]
[2.1280000000000001,0.99199999999999999]
[2.129,0.99199999999999999]
[2.13,0.99199999999999999]
[2.1309999999999998,0.99199999999999999]
[2.1320000000000001,0.99199999999999999]
[2.133,0.99199999999999999]
[2.1339999999999999,0.99199999999999999]
[2.1349999999999998,0.99199999999999999]
[2.1360000000000001,0.99199999999999999]
[2.137,0.99199999999999999]
[2.1379999999999999,0.99199999999999999]
[2.1389999999999998,0.99199999999999999]
[2.14,0.99199999999999999]
[2.141,0.99199999999999999]
[2.1419999999999999,0.99199999999999999]
[2.1429999999999998,0.99199999999999999]
[2.1440000000000001,0.99199999999999999]
[2.145,0.99199999999999999]
[2.1459999999999999,0.99199999999999999]
[2.1469999999999998,0.99199999999999999]
[2.1480000000000001,0.99199999999999999]
[2.149,0.99199999999999999]
[2.15,0.99199999999999999]
[2.1509999999999998,0.99199999999999999]
[2.1520000000000001,0.99199999999999999]
[2.153,0.99199999999999999]
[2.1539999999999999,0.99199999999999999]
[2.1549999999999998,0.99199999999999999]
[2.1560000000000001,0.99199999999999999]
[2.157,0.99199999999999999]
[2.1579999999999999,0.99199999999999999]
[2.1589999999999998,0.99199999999999999]
[2.16,0.99199999999999999]
[2.161,0.99199999999999999]
[2.1619999999999999,0.99199999999999999]
[2.1629999999999998,0.99199999999999999]
[2.1640000000000001,0.99199999999999999]
[2.165,0.99199999999999999]
[2.1659999999999999,0.99199999999999999]
[2.1669999999999998,0.99199999999999999]
[2.1680000000000001,0.99199999999999999]
[2.169,0.99199999999999999]
[2.17,0.99199999999999999]
[2.1709999999999998,0.99199999999999999]
[2.1720000000000002,0.99199999999999999]
[2.173,0.99199999999999999]
[2.1739999999999999,0.99199999999999999]
[2.1749999999999998,0.99199999999999999]
[2.1760000000000002,0.99199999999999999]
[2.177,0.99199999999999999]
[2.1779999999999999,0.99199999999999999]
[2.1789999999999998,0.99199999999999999]
[2.1800000000000002,0.99199999999999999]
[2.181,0.99199999999999999]
[2.1819999999999999,0.99199999999999999]
[2.1829999999999998,0.99199999999999999]
[2.1840000000000002,0.99199999999999999]
[2.1850000000000001,0.99199999999999999]
[2.1859999999999999,0.99199999999999999]
[2.1869999999999998,0.99199999999999999]
[2.1880000000000002,0.99199999999999999]
[2.1890000000000001,0.99199999999999999]
[2.19,0.99199999999999999]
[2.1909999999999998,0.99199999999999999]
[2.1920000000000002,0.99199999999999999]
[2.1930000000000001,0.99199999999999999]
[2.194,0.99199999999999999]
[2.1949999999999998,0.99199999999999999]
[2.1960000000000002,0.99199999999999999]
[2.1970000000000001,0.99199999999999999]
[2.198,0.99199999999999999]
[2.1989999999999998,0.99199999999999999]
[2.2000000000000002,0.99199999999999999]
[2.2010000000000001,0.99199999999999999]
[2.202,0.99199999999999999]
[2.2029999999999998,0.99199999999999999]
[2.2040000000000002,0.99199999999999999]
[2.2050000000000001,0.99199999999999999]
[2.206,0.99199999999999999]
[2.2069999999999999,0.99199999999999999]
[2.2080000000000002,0.99199999999999999]
[2.2090000000000001,0.99199999999999999]
[2.21,0.99199999999999999]
[2.2109999999999999,0.99199999999999999]
[2.2120000000000002,0.99199999999999999]
[2.2130000000000001,0.99199999999999999]
[2.214,0.99199999999999999]
[2.2149999999999999,0.99199999999999999]
[2.2160000000000002,0.99199999999999999]
[2.2170000000000001,0.99199999999999999]
[2.218,0.99199999999999999]
[2.2189999999999999,0.99199999999999999]
[2.2200000000000002,0.99199999999999999]
[2.2210000000000001,0.99199999999999999]
[2.222,0.99199999999999999]
[2.2229999999999999,0.99199999999999999]
[2.2240000000000002,0.99199999999999999]
[2.2250000000000001,0.99199999999999999]
[2.226,0.99199999999999999]
[2.2269999999999999,0.99199999999999999]
[2.2280000000000002,0.99199999999999999]
[2.2290000000000001,0.99199999999999999]
[2.23,0.99199999999999999]
[2.2309999999999999,0.99199999999999999]
[2.2320000000000002,0.99199999999999999]
[2.2330000000000001,0.99199999999999999]
[2.234,0.99199999999999999]
[2.2349999999999999,0.99199999999999999]
[2.2360000000000002,0.99199999999999999]
[2.2370000000000001,0.99199999999999999]
[2.238,0.99199999999999999]
[2.2389999999999999,0.99199999999999999]
[2.2400000000000002,0.99199999999999999]
[2.2410000000000001,0.99199999999999999]
[2.242,0.99199999999999999]
[2.2429999999999999,0.99199999999999999]
[2.2440000000000002,0.99199999999999999]
[2.2450000000000001,0.99199999999999999]
[2.246,0.99199999999999999]
[2.2469999999999999,0.99199999999999999]
[2.2480000000000002,0.99199999999999999]
[2.2490000000000001,0.99199999999999999]
[2.25,0.99199999999999999]
[2.2509999999999999,0.99199999999999999]
[2.2519999999999998,0.99199999999999999]
[2.2530000000000001,0.99199999999999999]
[2.254,0.99199999999999999]
[2.2549999999999999,0.99199999999999999]
[2.2559999999999998,0.99199999999999999]
[2.2570000000000001,0.99199999999999999]
[2.258,0.99199999999999999]
[2.2589999999999999,0.99199999999999999]
[2.2599999999999998,0.99199999999999999]
[2.2610000000000001,0.99199999999999999]
[2.262,0.99199999999999999]
[2.2629999999999999,0.99199999999999999]
[2.2639999999999998,0.99199999999999999]
[2.2650000000000001,0.99199999999999999]
[2.266,0.99199999999999999]
[2.2669999999999999,0.99199999999999999]
[2.2679999999999998,0.99199999999999999]
[2.2690000000000001,0.99199999999999999]
[2.27,0.99199999999999999]
[2.2709999999999999,0.99199999999999999]
[2.2719999999999998,0.99199999999999999]
[2.2730000000000001,0.99199999999999999]
[2.274,0.99199999999999999]
[2.2749999999999999,0.99199999999999999]
[2.2759999999999998,0.99199999999999999]
[2.2770000000000001,0.99199999999999999]
[2.278,0.99199999999999999]
[2.2789999999999999,0.99199999999999999]
[2.2799999999999998,0.99199999999999999]
[2.2810000000000001,0.99199999999999999]
[2.282,0.99199999999999999]
[2.2829999999999999,0.99199999999999999]
[2.2839999999999998,0.99199999999999999]
[2.2850000000000001,0.99199999999999999]
[2.286,0.99199999999999999]
[2.2869999999999999,0.99199999999999999]
[2.2879999999999998,0.99199999999999999]
[2.2890000000000001,0.99199999999999999]
[2.29,0.99199999999999999]
[2.2909999999999999,0.99199999999999999]
[2.2919999999999998,0.99199999999999999]
[2.2930000000000001,0.99199999999999999]
[2.294,0.99199999999999999]
[2.2949999999999999,0.99199999999999999]
[2.2959999999999998,0.99199999999999999]
[2.2970000000000002,0.99199999999999999]
[2.298,0.99199999999999999]
[2.2989999999999999,0.99199999999999999]
[2.2999999999999998,0.99199999999999999]
[2.3010000000000002,0.99199999999999999]
[2.302,0.99199999999999999]
[2.3029999999999999,0.99199999999999999]
[2.3039999999999998,0.99199999999999999]
[2.3050000000000002,0.99199999999999999]
[2.306,0.99199999999999999]
[2.3069999999999999,0.99199999999999999]
[2.3079999999999998,0.99199999999999999]
[2.3090000000000002,0.99199999999999999]
[2.31,0.99199999999999999]
[2.3109999999999999,0.99199999999999999]
[2.3119999999999998,0.99199999999999999]
[2.3130000000000002,0.99199999999999999]
[2.3140000000000001,0.99199999999999999]
[2.3149999999999999,0.99199999999999999]
[2.3159999999999998,0.99199999999999999]
[2.3170000000000002,0.99199999999999999]
[2.3180000000000001,0.99199999999999999]
[2.319,0.99199999999999999]
[2.3199999999999998,0.99199999999999999]
[2.3210000000000002,0.99199999999999999]
[2.3220000000000001,0.99199999999999999]
[2.323,0.99199999999999999]
[2.3239999999999998,0.99199999999999999]
[2.3250000000000002,0.99199999999999999]
[2.3260000000000001,0.99199999999999999]
[2.327,0.99199999999999999]
[2.3279999999999998,0.99199999999999999]
[2.3290000000000002,0.99199999999999999]
[2.33,0.99199999999999999]
[2.331,0.99199999999999999]
[2.3319999999999999,0.99199999999999999]
[2.3330000000000002,0.99199999999999999]
[2.3340000000000001,0.99199999999999999]
[2.335,0.99199999999999999]
[2.3359999999999999,0.99199999999999999]
[2.3370000000000002,0.99199999999999999]
[2.3380000000000001,0.99199999999999999]
[2.339,0.99199999999999999]
[2.34,0.99199999999999999]
[2.3410000000000002,0.99199999999999999]
[2.3420000000000001,0.99199999999999999]
[2.343,0.99199999999999999]
[2.3439999999999999,0.99199999999999999]
[2.3450000000000002,0.99199999999999999]
[2.3460000000000001,0.99199999999999999]
[2.347,0.99199999999999999]
[2.3479999999999999,0.99199999999999999]
[2.3490000000000002,0.99199999999999999]
[2.35,0.99199999999999999]
[2.351,0.99199999999999999]
[2.3519999999999999,0.99199999999999999]
[2.3530000000000002,0.99199999999999999]
[2.3540000000000001,0.99199999999999999]
[2.355,0.99199999999999999]
[2.3559999999999999,0.99199999999999999]
[2.3570000000000002,0.99199999999999999]
[2.3580000000000001,0.99199999999999999]
[2.359,0.99199999999999999]
[2.36,0.99199999999999999]
[2.3610000000000002,0.99199999999999999]
[2.3620000000000001,0.99199999999999999]
[2.363,0.99199999999999999]
[2.3639999999999999,0.99199999999999999]
[2.3650000000000002,0.99199999999999999]
[2.3660000000000001,0.99199999999999999]
[2.367,0.99199999999999999]
[2.3679999999999999,0.99199999999999999]
[2.3690000000000002,0.99199999999999999]
[2.37,0.99199999999999999]
[2.371,0.99199999999999999]
[2.3719999999999999,0.99199999999999999]
[2.3730000000000002,0.99199999999999999]
[2.3740000000000001,0.99199999999999999]
[2.375,0.99199999999999999]
[2.3759999999999999,0.99199999999999999]
[2.3769999999999998,0.99199999999999999]
[2.3780000000000001,0.99199999999999999]
[2.379,0.99199999999999999]
[2.38,0.99199999999999999]
[2.3809999999999998,0.99199999999999999]
[2.3820000000000001,0.99199999999999999]
[2.383,0.99199999999999999]
[2.3839999999999999,0.99199999999999999]
[2.3849999999999998,0.99199999999999999]
[2.3860000000000001,0.99199999999999999]
[2.387,0.99199999999999999]
[2.3879999999999999,0.99199999999999999]
[2.3889999999999998,0.99199999999999999]
[2.39,0.99199999999999999]
[2.391,0.99199999999999999]
[2.3919999999999999,0.99199999999999999]
[2.3929999999999998,0.99199999999999999]
[2.3940000000000001,0.99199999999999999]
[2.395,0.99199999999999999]
[2.3959999999999999,0.99199999999999999]
[2.3969999999999998,0.99199999999999999]
[2.3980000000000001,0.99199999999999999]
[2.399,0.99199999999999999]
[2.4,0.99199999999999999]
[2.4009999999999998,0.99199999999999999]
[2.4020000000000001,0.99199999999999999]
[2.403,0.99199999999999999]
[2.4039999999999999,0.99199999999999999]
[2.4049999999999998,0.99199999999999999]
[2.4060000000000001,0.99199999999999999]
[2.407,0.99199999999999999]
[2.4079999999999999,0.99199999999999999]
[2.4089999999999998,0.99199999999999999]
[2.41,0.99199999999999999]
[2.411,0.99199999999999999]
[2.4119999999999999,0.99199999999999999]
[2.4129999999999998,0.99199999999999999]
[2.4140000000000001,0.99199999999999999]
[2.415,0.99199999999999999]
[2.4159999999999999,0.99199999999999999]
[2.4169999999999998,0.99199999999999999]
[2.4180000000000001,0.99199999999999999]
[2.419,0.99199999999999999]
[2.42,0.99199999999999999]
[2.4209999999999998,0.99199999999999999]
[2.4220000000000002,0.99199999999999999]
[2.423,0.99199999999999999]
[2.4239999999999999,0.99199999999999999]
[2.4249999999999998,0.99199999999999999]
[2.4260000000000002,0.99199999999999999]
[2.427,0.99199999999999999]
[2.4279999999999999,0.99199999999999999]
[2.4289999999999998,0.99199999999999999]
[2.4300000000000002,0.99199999999999999]
[2.431,0.99199999999999999]
[2.4319999999999999,0.99199999999999999]
[2.4329999999999998,0.99199999999999999]
[2.4340000000000002,0.99199999999999999]
[2.4350000000000001,0.99199999999999999]
[2.4359999999999999,0.99199999999999999]
[2.4369999999999998,0.99199999999999999]
[2.4380000000000002,0.99199999999999999]
[2.4390000000000001,0.99199999999999999]
[2.44,0.99199999999999999]
[2.4409999999999998,0.99199999999999999]
[2.4420000000000002,0.99199999999999999]
[2.4430000000000001,0.99199999999999999]
[2.444,0.99199999999999999]
[2.4449999999999998,0.99199999999999999]
[2.4460000000000002,0.99199999999999999]
[2.4470000000000001,0.99199999999999999]
[2.448,0.99199999999999999]
[2.4489999999999998,0.99199999999999999]
[2.4500000000000002,0.99199999999999999]
[2.4510000000000001,0.99199999999999999]
[2.452,0.99199999999999999]
[2.4529999999999998,0.99199999999999999]
[2.4540000000000002,0.99199999999999999]
[2.4550000000000001,0.99199999999999999]
[2.456,0.99199999999999999]
[2.4569999999999999,0.99199999999999999]
[2.4580000000000002,0.99199999999999999]
[2.4590000000000001,0.99199999999999999]
[2.46,0.99199999999999999]
[2.4609999999999999,0.99199999999999999]
[2.4620000000000002,0.99199999999999999]
[2.4630000000000001,0.99199999999999999]
[2.464,0.99199999999999999]
[2.4649999999999999,0.99199999999999999]
[2.4660000000000002,0.99199999999999999]
[2.4670000000000001,0.99199999999999999]
[2.468,0.99199999999999999]
[2.4689999999999999,0.99199999999999999]
[2.4700000000000002,0.99199999999999999]
[2.4710000000000001,0.99199999999999999]
[2.472,0.99199999999999999]
[2.4729999999999999,0.99199999999999999]
[2.4740000000000002,0.99199999999999999]
[2.4750000000000001,0.99199999999999999]
[2.476,0.99199999999999999]
[2.4769999999999999,0.99199999999999999]
[2.4780000000000002,0.99199999999999999]
[2.4790000000000001,0.99199999999999999]
[2.48,0.99199999999999999]
[2.4809999999999999,0.99199999999999999]
[2.4820000000000002,0.99199999999999999]
[2.4830000000000001,0.99199999999999999]
[2.484,0.99199999999999999]
[2.4849999999999999,0.99199999999999999]
[2.4860000000000002,0.99199999999999999]
[2.4870000000000001,0.99199999999999999]
[2.488,0.99199999999999999]
[2.4889999999999999,0.99199999999999999]
[2.4900000000000002,0.99199999999999999]
[2.4910000000000001,0.99199999999999999]
[2.492,0.99199999999999999]
[2.4929999999999999,0.99199999999999999]
[2.4940000000000002,0.99199999999999999]
[2.4950000000000001,0.99199999999999999]
[2.496,0.99199999999999999]
[2.4969999999999999,0.99199999999999999]
[2.4980000000000002,0.99199999999999999]
[2.4990000000000001,0.99199999999999999]
[2.5,0.99199999999999999]
[2.5009999999999999,0.98199999999999998]
[2.5019999999999998,0.98199999999999998]
[2.5030000000000001,0.98199999999999998]
[2.504,0.98199999999999998]
[2.5049999999999999,0.98199999999999998]
[2.5059999999999998,0.98199999999999998]
[2.5070000000000001,0.98199999999999998]
[2.508,0.98199999999999998]
[2.5089999999999999,0.98199999999999998]
[2.5099999999999998,0.98199999999999998]
[2.5110000000000001,0.98199999999999998]
[2.512,0.98199999999999998]
[2.5129999999999999,0.98199999999999998]
[2.5139999999999998,0.98199999999999998]
[2.5150000000000001,0.98199999999999998]
[2.516,0.98199999999999998]
[2.5169999999999999,0.98199999999999998]
[2.5179999999999998,0.98199999999999998]
[2.5190000000000001,0.98199999999999998]
[2.52,0.98199999999999998]
[2.5209999999999999,0.98199999999999998]
[2.5219999999999998,0.98199999999999998]
[2.5230000000000001,0.98199999999999998]
[2.524,0.98199999999999998]
[2.5249999999999999,0.98199999999999998]
[2.5259999999999998,0.98199999999999998]
[2.5270000000000001,0.98199999999999998]
[2.528,0.98199999999999998]
[2.5289999999999999,0.98199999999999998]
[2.5299999999999998,0.98199999999999998]
[2.5310000000000001,0.98199999999999998]
[2.532,0.98199999999999998]
[2.5329999999999999,0.98199999999999998]
[2.5339999999999998,0.98199999999999998]
[2.5350000000000001,0.98199999999999998]
[2.536,0.98199999999999998]
[2.5369999999999999,0.98199999999999998]
[2.5379999999999998,0.98199999999999998]
[2.5390000000000001,0.98199999999999998]
[2.54,0.98199999999999998]
[2.5409999999999999,0.98199999999999998]
[2.5419999999999998,0.98199999999999998]
[2.5430000000000001,0.98199999999999998]
[2.544,0.98199999999999998]
[2.5449999999999999,0.98199999999999998]
[2.5459999999999998,0.98199999999999998]
[2.5470000000000002,0.98199999999999998]
[2.548,0.98199999999999998]
[2.5489999999999999,0.98199999999999998]
[2.5499999999999998,0.98199999999999998]
[2.5510000000000002,0.98199999999999998]
[2.552,0.98199999999999998]
[2.5529999999999999,0.98199999999999998]
[2.5539999999999998,0.98199999999999998]
[2.5550000000000002,0.98199999999999998]
[2.556,0.98199999999999998]
[2.5569999999999999,0.98199999999999998]
[2.5579999999999998,0.98199999999999998]
[2.5590000000000002,0.98199999999999998]
[2.56,0.98199999999999998]
[2.5609999999999999,0.98199999999999998]
[2.5619999999999998,0.98199999999999998]
[2.5630000000000002,0.98199999999999998]
[2.5640000000000001,0.98199999999999998]
[2.5649999999999999,0.98199999999999998]
[2.5659999999999998,0.98199999999999998]
[2.5670000000000002,0.98199999999999998]
[2.5680000000000001,0.98199999999999998]
[2.569,0.98199999999999998]
[2.57,0.98199999999999998]
[2.5710000000000002,0.98199999999999998]
[2.5720000000000001,0.98199999999999998]
[2.573,0.98199999999999998]
[2.5739999999999998,0.98199999999999998]
[2.5750000000000002,0.98199999999999998]
[2.5760000000000001,0.98199999999999998]
[2.577,0.98199999999999998]
[2.5779999999999998,0.98199999999999998]
[2.5790000000000002,0.98199999999999998]
[2.58,0.98199999999999998]
[2.581,0.98199999999999998]
[2.5819999999999999,0.98199999999999998]
[2.5830000000000002,0.98199999999999998]
[2.5840000000000001,0.98199999999999998]
[2.585,0.98199999999999998]
[2.5859999999999999,0.98199999999999998]
[2.5870000000000002,0.98199999999999998]
[2.5880000000000001,0.98199999999999998]
[2.589,0.98199999999999998]
[2.59,0.98199999999999998]
[2.5910000000000002,0.98199999999999998]
[2.5920000000000001,0.98199999999999998]
[2.593,0.98199999999999998]
[2.5939999999999999,0.98199999999999998]
[2.5950000000000002,0.98199999999999998]
[2.5960000000000001,0.98199999999999998]
[2.597,0.98199999999999998]
[2.5979999999999999,0.98199999999999998]
[2.5990000000000002,0.98199999999999998]
[2.6,0.98199999999999998]
[2.601,0.98199999999999998]
[2.6019999999999999,0.98199999999999998]
[2.6030000000000002,0.98199999999999998]
[2.6040000000000001,0.98199999999999998]
[2.605,0.98199999999999998]
[2.6059999999999999,0.98199999999999998]
[2.6070000000000002,0.98199999999999998]
[2.6080000000000001,0.98199999999999998]
[2.609,0.98199999999999998]
[2.61,0.98199999999999998]
[2.6110000000000002,0.98199999999999998]
[2.6120000000000001,0.98199999999999998]
[2.613,0.98199999999999998]
[2.6139999999999999,0.98199999999999998]
[2.6150000000000002,0.98199999999999998]
[2.6160000000000001,0.98199999999999998]
[2.617,0.98199999999999998]
[2.6179999999999999,0.98199999999999998]
[2.6190000000000002,0.98199999999999998]
[2.62,0.98199999999999998]
[2.621,0.98199999999999998]
[2.6219999999999999,0.98199999999999998]
[2.6230000000000002,0.98199999999999998]
[2.6240000000000001,0.98199999999999998]
[2.625,0.98199999999999998]
[2.6259999999999999,0.98199999999999998]
[2.6269999999999998,0.98199999999999998]
[2.6280000000000001,0.98199999999999998]
[2.629,0.98199999999999998]
[2.63,0.98199999999999998]
[2.6309999999999998,0.98199999999999998]
[2.6320000000000001,0.98199999999999998]
[2.633,0.98199999999999998]
[2.6339999999999999,0.98199999999999998]
[2.6349999999999998,0.98199999999999998]
[2.6360000000000001,0.98199999999999998]
[2.637,0.98199999999999998]
[2.6379999999999999,0.98199999999999998]
[2.6389999999999998,0.98199999999999998]
[2.64,0.98199999999999998]
[2.641,0.98199999999999998]
[2.6419999999999999,0.98199999999999998]
[2.6429999999999998,0.98199999999999998]
[2.6440000000000001,0.98199999999999998]
[2.645,0.98199999999999998]
[2.6459999999999999,0.98199999999999998]
[2.6469999999999998,0.98199999999999998]
[2.6480000000000001,0.98199999999999998]
[2.649,0.98199999999999998]
[2.65,0.98199999999999998]
[2.6509999999999998,0.98199999999999998]
[2.6520000000000001,0.98199999999999998]
[2.653,0.98199999999999998]
[2.6539999999999999,0.98199999999999998]
[2.6549999999999998,0.98199999999999998]
[2.6560000000000001,0.98199999999999998]
[2.657,0.98199999999999998]
[2.6579999999999999,0.98199999999999998]
[2.6589999999999998,0.98199999999999998]
[2.66,0.98199999999999998]
[2.661,0.98199999999999998]
[2.6619999999999999,0.98199999999999998]
[2.6629999999999998,0.98199999999999998]
[2.6640000000000001,0.98199999999999998]
[2.665,0.98199999999999998]
[2.6659999999999999,0.98199999999999998]
[2.6669999999999998,0.98199999999999998]
[2.6680000000000001,0.98199999999999998]
[2.669,0.98199999999999998]
[2.67,0.98199999999999998]
[2.6709999999999998,0.98199999999999998]
[2.6720000000000002,0.98199999999999998]
[2.673,0.98199999999999998]
[2.6739999999999999,0.98199999999999998]
[2.6749999999999998,0.98199999999999998]
[2.6760000000000002,0.98199999999999998]
[2.677,0.98199999999999998]
[2.6779999999999999,0.98199999999999998]
[2.6789999999999998,0.98199999999999998]
[2.68,0.98199999999999998]
[2.681,0.98199999999999998]
[2.6819999999999999,0.98199999999999998]
[2.6829999999999998,0.98199999999999998]
[2.6840000000000002,0.98199999999999998]
[2.6850000000000001,0.98199999999999998]
[2.6859999999999999,0.98199999999999998]
[2.6869999999999998,0.98199999999999998]
[2.6880000000000002,0.98199999999999998]
[2.6890000000000001,0.98199999999999998]
[2.69,0.98199999999999998]
[2.6909999999999998,0.98199999999999998]
[2.6920000000000002,0.98199999999999998]
[2.6930000000000001,0.98199999999999998]
[2.694,0.98199999999999998]
[2.6949999999999998,0.98199999999999998]
[2.6960000000000002,0.98199999999999998]
[2.6970000000000001,0.98199999999999998]
[2.698,0.98199999999999998]
[2.6989999999999998,0.98199999999999998]
[2.7,0.98199999999999998]
[2.7010000000000001,0.98199999999999998]
[2.702,0.98199999999999998]
[2.7029999999999998,0.98199999999999998]
[2.7040000000000002,0.98199999999999998]
[2.7050000000000001,0.98199999999999998]
[2.706,0.98199999999999998]
[2.7069999999999999,0.98199999999999998]
[2.7080000000000002,0.98199999999999998]
[2.7090000000000001,0.98199999999999998]
[2.71,0.98199999999999998]
[2.7109999999999999,0.98199999999999998]
[2.7120000000000002,0.98199999999999998]
[2.7130000000000001,0.98199999999999998]
[2.714,0.98199999999999998]
[2.7149999999999999,0.98199999999999998]
[2.7160000000000002,0.98199999999999998]
[2.7170000000000001,0.98199999999999998]
[2.718,0.98199999999999998]
[2.7189999999999999,0.98199999999999998]
[2.72,0.98199999999999998]
[2.7210000000000001,0.98199999999999998]
[2.722,0.98199999999999998]
[2.7229999999999999,0.98199999999999998]
[2.7240000000000002,0.98199999999999998]
[2.7250000000000001,0.98199999999999998]
[2.726,0.98199999999999998]
[2.7269999999999999,0.98199999999999998]
[2.7280000000000002,0.98199999999999998]
[2.7290000000000001,0.98199999999999998]
[2.73,0.98199999999999998]
[2.7309999999999999,0.98199999999999998]
[2.7320000000000002,0.98199999999999998]
[2.7330000000000001,0.98199999999999998]
[2.734,0.98199999999999998]
[2.7349999999999999,0.98199999999999998]
[2.7360000000000002,0.98199999999999998]
[2.7370000000000001,0.98199999999999998]
[2.738,0.98199999999999998]
[2.7389999999999999,0.98199999999999998]
[2.74,0.98199999999999998]
[2.7410000000000001,0.98199999999999998]
[2.742,0.98199999999999998]
[2.7429999999999999,0.98199999999999998]
[2.7440000000000002,0.98199999999999998]
[2.7450000000000001,0.98199999999999998]
[2.746,0.98199999999999998]
[2.7469999999999999,0.98199999999999998]
[2.7480000000000002,0.98199999999999998]
[2.7490000000000001,0.98199999999999998]
[2.75,0.98199999999999998]
[2.7509999999999999,0.98199999999999998]
[2.7519999999999998,0.98199999999999998]
[2.7530000000000001,0.98199999999999998]
[2.754,0.98199999999999998]
[2.7549999999999999,0.98199999999999998]
[2.7559999999999998,0.98199999999999998]
[2.7570000000000001,0.98199999999999998]
[2.758,0.98199999999999998]
[2.7589999999999999,0.98199999999999998]
[2.76,0.98199999999999998]
[2.7610000000000001,0.98199999999999998]
[2.762,0.98199999999999998]
[2.7629999999999999,0.98199999999999998]
[2.7639999999999998,0.98199999999999998]
[2.7650000000000001,0.98199999999999998]
[2.766,0.98199999999999998]
[2.7669999999999999,0.98199999999999998]
[2.7679999999999998,0.98199999999999998]
[2.7690000000000001,0.98199999999999998]
[2.77,0.98199999999999998]
[2.7709999999999999,0.98199999999999998]
[2.7719999999999998,0.98199999999999998]
[2.7730000000000001,0.98199999999999998]
[2.774,0.98199999999999998]
[2.7749999999999999,0.98199999999999998]
[2.7759999999999998,0.98199999999999998]
[2.7770000000000001,0.98199999999999998]
[2.778,0.98199999999999998]
[2.7789999999999999,0.98199999999999998]
[2.78,0.98199999999999998]
[2.7810000000000001,0.98199999999999998]
[2.782,0.98199999999999998]
[2.7829999999999999,0.98199999999999998]
[2.7839999999999998,0.98199999999999998]
[2.7850000000000001,0.98199999999999998]
[2.786,0.98199999999999998]
[2.7869999999999999,0.98199999999999998]
[2.7879999999999998,0.98199999999999998]
[2.7890000000000001,0.98199999999999998]
[2.79,0.98199999999999998]
[2.7909999999999999,0.98199999999999998]
[2.7919999999999998,0.98199999999999998]
[2.7930000000000001,0.98199999999999998]
[2.794,0.98199999999999998]
[2.7949999999999999,0.98199999999999998]
[2.7959999999999998,0.98199999999999998]
[2.7970000000000002,0.98199999999999998]
[2.798,0.98199999999999998]
[2.7989999999999999,0.98199999999999998]
[2.8,0.98199999999999998]
[2.8010000000000002,0.98199999999999998]
[2.802,0.98199999999999998]
[2.8029999999999999,0.98199999999999998]
[2.8039999999999998,0.98199999999999998]
[2.8050000000000002,0.98199999999999998]
[2.806,0.98199999999999998]
[2.8069999999999999,0.98199999999999998]
[2.8079999999999998,0.98199999999999998]
[2.8090000000000002,0.98199999999999998]
[2.81,0.98199999999999998]
[2.8109999999999999,0.98199999999999998]
[2.8119999999999998,0.98199999999999998]
[2.8130000000000002,0.98199999999999998]
[2.8140000000000001,0.98199999999999998]
[2.8149999999999999,0.98199999999999998]
[2.8159999999999998,0.98199999999999998]
[2.8170000000000002,0.98199999999999998]
[2.8180000000000001,0.98199999999999998]
[2.819,0.98199999999999998]
[2.82,0.98199999999999998]
[2.8210000000000002,0.98199999999999998]
[2.8220000000000001,0.98199999999999998]
[2.823,0.98199999999999998]
[2.8239999999999998,0.98199999999999998]
[2.8250000000000002,0.98199999999999998]
[2.8260000000000001,0.98199999999999998]
[2.827,0.98199999999999998]
[2.8279999999999998,0.98199999999999998]
[2.8290000000000002,0.98199999999999998]
[2.83,0.98199999999999998]
[2.831,0.98199999999999998]
[2.8319999999999999,0.98199999999999998]
[2.8330000000000002,0.98199999999999998]
[2.8340000000000001,0.98199999999999998]
[2.835,0.98199999999999998]
[2.8359999999999999,0.98199999999999998]
[2.8370000000000002,0.98199999999999998]
[2.8380000000000001,0.98199999999999998]
[2.839,0.98199999999999998]
[2.84,0.98199999999999998]
[2.8410000000000002,0.98199999999999998]
[2.8420000000000001,0.98199999999999998]
[2.843,0.98199999999999998]
[2.8439999999999999,0.98199999999999998]
[2.8450000000000002,0.98199999999999998]
[2.8460000000000001,0.98199999999999998]
[2.847,0.98199999999999998]
[2.8479999999999999,0.98199999999999998]
[2.8490000000000002,0.98199999999999998]
[2.85,0.98199999999999998]
[2.851,0.98199999999999998]
[2.8519999999999999,0.98199999999999998]
[2.8530000000000002,0.98199999999999998]
[2.8540000000000001,0.98199999999999998]
[2.855,0.98199999999999998]
[2.8559999999999999,0.98199999999999998]
[2.8570000000000002,0.98199999999999998]
[2.8580000000000001,0.98199999999999998]
[2.859,0.98199999999999998]
[2.86,0.98199999999999998]
[2.8610000000000002,0.98199999999999998]
[2.8620000000000001,0.98199999999999998]
[2.863,0.98199999999999998]
[2.8639999999999999,0.98199999999999998]
[2.8650000000000002,0.98199999999999998]
[2.8660000000000001,0.98199999999999998]
[2.867,0.98199999999999998]
[2.8679999999999999,0.98199999999999998]
[2.8690000000000002,0.98199999999999998]
[2.87,0.98199999999999998]
[2.871,0.98199999999999998]
[2.8719999999999999,0.98199999999999998]
[2.8730000000000002,0.98199999999999998]
[2.8740000000000001,0.98199999999999998]
[2.875,0.98199999999999998]
[2.8759999999999999,0.98199999999999998]
[2.8769999999999998,0.98199999999999998]
[2.8780000000000001,0.98199999999999998]
[2.879,0.98199999999999998]
[2.88,0.98199999999999998]
[2.8809999999999998,0.98199999999999998]
[2.8820000000000001,0.98199999999999998]
[2.883,0.98199999999999998]
[2.8839999999999999,0.98199999999999998]
[2.8849999999999998,0.98199999999999998]
[2.8860000000000001,0.98199999999999998]
[2.887,0.98199999999999998]
[2.8879999999999999,0.98199999999999998]
[2.8889999999999998,0.98199999999999998]
[2.89,0.98199999999999998]
[2.891,0.98199999999999998]
[2.8919999999999999,0.98199999999999998]
[2.8929999999999998,0.98199999999999998]
[2.8940000000000001,0.98199999999999998]
[2.895,0.98199999999999998]
[2.8959999999999999,0.98199999999999998]
[2.8969999999999998,0.98199999999999998]
[2.8980000000000001,0.98199999999999998]
[2.899,0.98199999999999998]
[2.9,0.98199999999999998]
[2.9009999999999998,0.98199999999999998]
[2.9020000000000001,0.98199999999999998]
[2.903,0.98199999999999998]
[2.9039999999999999,0.98199999999999998]
[2.9049999999999998,0.98199999999999998]
[2.9060000000000001,0.98199999999999998]
[2.907,0.98199999999999998]
[2.9079999999999999,0.98199999999999998]
[2.9089999999999998,0.98199999999999998]
[2.91,0.98199999999999998]
[2.911,0.98199999999999998]
[2.9119999999999999,0.98199999999999998]
[2.9129999999999998,0.98199999999999998]
[2.9140000000000001,0.98199999999999998]
[2.915,0.98199999999999998]
[2.9159999999999999,0.98199999999999998]
[2.9169999999999998,0.98199999999999998]
[2.9180000000000001,0.98199999999999998]
[2.919,0.98199999999999998]
[2.92,0.98199999999999998]
[2.9209999999999998,0.98199999999999998]
[2.9220000000000002,0.98199999999999998]
[2.923,0.98199999999999998]
[2.9239999999999999,0.98199999999999998]
[2.9249999999999998,0.98199999999999998]
[2.9260000000000002,0.98199999999999998]
[2.927,0.98199999999999998]
[2.9279999999999999,0.98199999999999998]
[2.9289999999999998,0.98199999999999998]
[2.93,0.98199999999999998]
[2.931,0.98199999999999998]
[2.9319999999999999,0.98199999999999998]
[2.9329999999999998,0.98199999999999998]
[2.9340000000000002,0.98199999999999998]
[2.9350000000000001,0.98199999999999998]
[2.9359999999999999,0.98199999999999998]
[2.9369999999999998,0.98199999999999998]
[2.9380000000000002,0.98199999999999998]
[2.9390000000000001,0.98199999999999998]
[2.94,0.98199999999999998]
[2.9409999999999998,0.98199999999999998]
[2.9420000000000002,0.98199999999999998]
[2.9430000000000001,0.98199999999999998]
[2.944,0.98199999999999998]
[2.9449999999999998,0.98199999999999998]
[2.9460000000000002,0.98199999999999998]
[2.9470000000000001,0.98199999999999998]
[2.948,0.98199999999999998]
[2.9489999999999998,0.98199999999999998]
[2.95,0.98199999999999998]
[2.9510000000000001,0.98199999999999998]
[2.952,0.98199999999999998]
[2.9529999999999998,0.98199999999999998]
[2.9540000000000002,0.98199999999999998]
[2.9550000000000001,0.98199999999999998]
[2.956,0.98199999999999998]
[2.9569999999999999,0.98199999999999998]
[2.9580000000000002,0.98199999999999998]
[2.9590000000000001,0.98199999999999998]
[2.96,0.98199999999999998]
[2.9609999999999999,0.98199999999999998]
[2.9620000000000002,0.98199999999999998]
[2.9630000000000001,0.98199999999999998]
[2.964,0.98199999999999998]
[2.9649999999999999,0.98199999999999998]
[2.9660000000000002,0.98199999999999998]
[2.9670000000000001,0.98199999999999998]
[2.968,0.98199999999999998]
[2.9689999999999999,0.98199999999999998]
[2.97,0.98199999999999998]
[2.9710000000000001,0.98199999999999998]
[2.972,0.98199999999999998]
[2.9729999999999999,0.98199999999999998]
[2.9740000000000002,0.98199999999999998]
[2.9750000000000001,0.98199999999999998]
[2.976,0.98199999999999998]
[2.9769999999999999,0.98199999999999998]
[2.9780000000000002,0.98199999999999998]
[2.9790000000000001,0.98199999999999998]
[2.98,0.98199999999999998]
[2.9809999999999999,0.98199999999999998]
[2.9820000000000002,0.98199999999999998]
[2.9830000000000001,0.98199999999999998]
[2.984,0.98199999999999998]
[2.9849999999999999,0.98199999999999998]
[2.9860000000000002,0.98199999999999998]
[2.9870000000000001,0.98199999999999998]
[2.988,0.98199999999999998]
[2.9889999999999999,0.98199999999999998]
[2.99,0.98199999999999998]
[2.9910000000000001,0.98199999999999998]
[2.992,0.98199999999999998]
[2.9929999999999999,0.98199999999999998]
[2.9940000000000002,0.98199999999999998]
[2.9950000000000001,0.98199999999999998]
[2.996,0.98199999999999998]
[2.9969999999999999,0.98199999999999998]
[2.9980000000000002,0.98199999999999998]
[2.9990000000000001,0.98199999999999998]
[3,0.98199999999999998]
[3.0009999999999999,0.97399999999999998]
[3.0019999999999998,0.97399999999999998]
[3.0030000000000001,0.97399999999999998]
[3.004,0.97399999999999998]
[3.0049999999999999,0.97399999999999998]
[3.0059999999999998,0.97399999999999998]
[3.0070000000000001,0.97399999999999998]
[3.008,0.97399999999999998]
[3.0089999999999999,0.97399999999999998]
[3.01,0.97399999999999998]
[3.0110000000000001,0.97399999999999998]
[3.012,0.97399999999999998]
[3.0129999999999999,0.97399999999999998]
[3.0139999999999998,0.97399999999999998]
[3.0150000000000001,0.97399999999999998]
[3.016,0.97399999999999998]
[3.0169999999999999,0.97399999999999998]
[3.0179999999999998,0.97399999999999998]
[3.0190000000000001,0.97399999999999998]
[3.02,0.97399999999999998]
[3.0209999999999999,0.97399999999999998]
[3.0219999999999998,0.97399999999999998]
[3.0230000000000001,0.97399999999999998]
[3.024,0.97399999999999998]
[3.0249999999999999,0.97399999999999998]
[3.0259999999999998,0.97399999999999998]
[3.0270000000000001,0.97399999999999998]
[3.028,0.97399999999999998]
[3.0289999999999999,0.97399999999999998]
[3.03,0.97399999999999998]
[3.0310000000000001,0.97399999999999998]
[3.032,0.97399999999999998]
[3.0329999999999999,0.97399999999999998]
[3.0339999999999998,0.97399999999999998]
[3.0350000000000001,0.97399999999999998]
[3.036,0.97399999999999998]
[3.0369999999999999,0.97399999999999998]
[3.0379999999999998,0.97399999999999998]
[3.0390000000000001,0.97399999999999998]
[3.04,0.97399999999999998]
[3.0409999999999999,0.97399999999999998]
[3.0419999999999998,0.97399999999999998]
[3.0430000000000001,0.97399999999999998]
[3.044,0.97399999999999998]
[3.0449999999999999,0.97399999999999998]
[3.0459999999999998,0.97399999999999998]
[3.0470000000000002,0.97399999999999998]
[3.048,0.97399999999999998]
[3.0489999999999999,0.97399999999999998]
[3.05,0.97399999999999998]
[3.0510000000000002,0.97399999999999998]
[3.052,0.97399999999999998]
[3.0529999999999999,0.97399999999999998]
[3.0539999999999998,0.97399999999999998]
[3.0550000000000002,0.97399999999999998]
[3.056,0.97399999999999998]
[3.0569999999999999,0.97399999999999998]
[3.0579999999999998,0.97399999999999998]
[3.0590000000000002,0.97399999999999998]
[3.06,0.97399999999999998]
[3.0609999999999999,0.97399999999999998]
[3.0619999999999998,0.97399999999999998]
[3.0630000000000002,0.97399999999999998]
[3.0640000000000001,0.97399999999999998]
[3.0649999999999999,0.97399999999999998]
[3.0659999999999998,0.97399999999999998]
[3.0670000000000002,0.97399999999999998]
[3.0680000000000001,0.97399999999999998]
[3.069,0.97399999999999998]
[3.07,0.97399999999999998]
[3.0710000000000002,0.97399999999999998]
[3.0720000000000001,0.97399999999999998]
[3.073,0.97399999999999998]
[3.0739999999999998,0.97399999999999998]
[3.0750000000000002,0.97399999999999998]
[3.0760000000000001,0.97399999999999998]
[3.077,0.97399999999999998]
[3.0779999999999998,0.97399999999999998]
[3.0790000000000002,0.97399999999999998]
[3.08,0.97399999999999998]
[3.081,0.97399999999999998]
[3.0819999999999999,0.97399999999999998]
[3.0830000000000002,0.97399999999999998]
[3.0840000000000001,0.97399999999999998]
[3.085,0.97399999999999998]
[3.0859999999999999,0.97399999999999998]
[3.0870000000000002,0.97399999999999998]
[3.0880000000000001,0.97399999999999998]
[3.089,0.97399999999999998]
[3.09,0.97399999999999998]
[3.0910000000000002,0.97399999999999998]
[3.0920000000000001,0.97399999999999998]
[3.093,0.97399999999999998]
[3.0939999999999999,0.97399999999999998]
[3.0950000000000002,0.97399999999999998]
[3.0960000000000001,0.97399999999999998]
[3.097,0.97399999999999998]
[3.0979999999999999,0.97399999999999998]
[3.0990000000000002,0.97399999999999998]
[3.1,0.97399999999999998]
[3.101,0.97399999999999998]
[3.1019999999999999,0.97399999999999998]
[3.1030000000000002,0.97399999999999998]
[3.1040000000000001,0.97399999999999998]
[3.105,0.97399999999999998]
[3.1059999999999999,0.97399999999999998]
[3.1070000000000002,0.97399999999999998]
[3.1080000000000001,0.97399999999999998]
[3.109,0.97399999999999998]
[3.11,0.97399999999999998]
[3.1110000000000002,0.97399999999999998]
[3.1120000000000001,0.97399999999999998]
[3.113,0.97399999999999998]
[3.1139999999999999,0.97399999999999998]
[3.1150000000000002,0.97399999999999998]
[3.1160000000000001,0.97399999999999998]
[3.117,0.97399999999999998]
[3.1179999999999999,0.97399999999999998]
[3.1190000000000002,0.97399999999999998]
[3.12,0.97399999999999998]
[3.121,0.97399999999999998]
[3.1219999999999999,0.97399999999999998]
[3.1230000000000002,0.97399999999999998]
[3.1240000000000001,0.97399999999999998]
[3.125,0.97399999999999998]
[3.1259999999999999,0.97399999999999998]
[3.1269999999999998,0.97399999999999998]
[3.1280000000000001,0.97399999999999998]
[3.129,0.97399999999999998]
[3.13,0.97399999999999998]
[3.1309999999999998,0.97399999999999998]
[3.1320000000000001,0.97399999999999998]
[3.133,0.97399999999999998]
[3.1339999999999999,0.97399999999999998]
[3.1349999999999998,0.97399999999999998]
[3.1360000000000001,0.97399999999999998]
[3.137,0.97399999999999998]
[3.1379999999999999,0.97399999999999998]
[3.1389999999999998,0.97399999999999998]
[3.14,0.97399999999999998]
[3.141,0.97399999999999998]
[3.1419999999999999,0.97399999999999998]
[3.1429999999999998,0.97399999999999998]
[3.1440000000000001,0.97399999999999998]
[3.145,0.97399999999999998]
[3.1459999999999999,0.97399999999999998]
[3.1469999999999998,0.97399999999999998]
[3.1480000000000001,0.97399999999999998]
[3.149,0.97399999999999998]
[3.15,0.97399999999999998]
[3.1509999999999998,0.97399999999999998]
[3.1520000000000001,0.97399999999999998]
[3.153,0.97399999999999998]
[3.1539999999999999,0.97399999999999998]
[3.1549999999999998,0.97399999999999998]
[3.1560000000000001,0.97399999999999998]
[3.157,0.97399999999999998]
[3.1579999999999999,0.97399999999999998]
[3.1589999999999998,0.97399999999999998]
[3.16,0.97399999999999998]
[3.161,0.97399999999999998]
[3.1619999999999999,0.97399999999999998]
[3.1629999999999998,0.97399999999999998]
[3.1640000000000001,0.97399999999999998]
[3.165,0.97399999999999998]
[3.1659999999999999,0.97399999999999998]
[3.1669999999999998,0.97399999999999998]
[3.1680000000000001,0.97399999999999998]
[3.169,0.97399999999999998]
[3.17,0.97399999999999998]
[3.1709999999999998,0.97399999999999998]
[3.1720000000000002,0.97399999999999998]
[3.173,0.97399999999999998]
[3.1739999999999999,0.97399999999999998]
[3.1749999999999998,0.97399999999999998]
[3.1760000000000002,0.97399999999999998]
[3.177,0.97399999999999998]
[3.1779999999999999,0.97399999999999998]
[3.1789999999999998,0.97399999999999998]
[3.18,0.97399999999999998]
[3.181,0.97399999999999998]
[3.1819999999999999,0.97399999999999998]
[3.1829999999999998,0.97399999999999998]
[3.1840000000000002,0.97399999999999998]
[3.1850000000000001,0.97399999999999998]
[3.1859999999999999,0.97399999999999998]
[3.1869999999999998,0.97399999999999998]
[3.1880000000000002,0.97399999999999998]
[3.1890000000000001,0.97399999999999998]
[3.19,0.97399999999999998]
[3.1909999999999998,0.97399999999999998]
[3.1920000000000002,0.97399999999999998]
[3.1930000000000001,0.97399999999999998]
[3.194,0.97399999999999998]
[3.1949999999999998,0.97399999999999998]
[3.1960000000000002,0.97399999999999998]
[3.1970000000000001,0.97399999999999998]
[3.198,0.97399999999999998]
[3.1989999999999998,0.97399999999999998]
[3.2,0.97399999999999998]
[3.2010000000000001,0.97399999999999998]
[3.202,0.97399999999999998]
[3.2029999999999998,0.97399999999999998]
[3.2040000000000002,0.97399999999999998]
[3.2050000000000001,0.97399999999999998]
[3.206,0.97399999999999998]
[3.2069999999999999,0.97399999999999998]
[3.2080000000000002,0.97399999999999998]
[3.2090000000000001,0.97399999999999998]
[3.21,0.97399999999999998]
[3.2109999999999999,0.97399999999999998]
[3.2120000000000002,0.97399999999999998]
[3.2130000000000001,0.97399999999999998]
[3.214,0.97399999999999998]
[3.2149999999999999,0.97399999999999998]
[3.2160000000000002,0.97399999999999998]
[3.2170000000000001,0.97399999999999998]
[3.218,0.97399999999999998]
[3.2189999999999999,0.97399999999999998]
[3.22,0.97399999999999998]
[3.2210000000000001,0.97399999999999998]
[3.222,0.97399999999999998]
[3.2229999999999999,0.97399999999999998]
[3.2240000000000002,0.97399999999999998]
[3.2250000000000001,0.97399999999999998]
[3.226,0.97399999999999998]
[3.2269999999999999,0.97399999999999998]
[3.2280000000000002,0.97399999999999998]
[3.2290000000000001,0.97399999999999998]
[3.23,0.97399999999999998]
[3.2309999999999999,0.97399999999999998]
[3.2320000000000002,0.97399999999999998]
[3.2330000000000001,0.97399999999999998]
[3.234,0.97399999999999998]
[3.2349999999999999,0.97399999999999998]
[3.2360000000000002,0.97399999999999998]
[3.2370000000000001,0.97399999999999998]
[3.238,0.97399999999999998]
[3.2389999999999999,0.97399999999999998]
[3.24,0.97399999999999998]
[3.2410000000000001,0.97399999999999998]
[3.242,0.97399999999999998]
[3.2429999999999999,0.97399999999999998]
[3.2440000000000002,0.97399999999999998]
[3.2450000000000001,0.97399999999999998]
[3.246,0.97399999999999998]
[3.2469999999999999,0.97399999999999998]
[3.2480000000000002,0.97399999999999998]
[3.2490000000000001,0.97399999999999998]
[3.25,0.97399999999999998]
[3.2509999999999999,0.97399999999999998]
[3.2519999999999998,0.97399999999999998]
[3.2530000000000001,0.97399999999999998]
[3.254,0.97399999999999998]
[3.2549999999999999,0.97399999999999998]
[3.2559999999999998,0.97399999999999998]
[3.2570000000000001,0.97399999999999998]
[3.258,0.97399999999999998]
[3.2589999999999999,0.97399999999999998]
[3.26,0.97399999999999998]
[3.2610000000000001,0.97399999999999998]
[3.262,0.97399999999999998]
[3.2629999999999999,0.97399999999999998]
[3.2639999999999998,0.97399999999999998]
[3.2650000000000001,0.97399999999999998]
[3.266,0.97399999999999998]
[3.2669999999999999,0.97399999999999998]
[3.2679999999999998,0.97399999999999998]
[3.2690000000000001,0.97399999999999998]
[3.27,0.97399999999999998]
[3.2709999999999999,0.97399999999999998]
[3.2719999999999998,0.97399999999999998]
[3.2730000000000001,0.97399999999999998]
[3.274,0.97399999999999998]
[3.2749999999999999,0.97399999999999998]
[3.2759999999999998,0.97399999999999998]
[3.2770000000000001,0.97399999999999998]
[3.278,0.97399999999999998]
[3.2789999999999999,0.97399999999999998]
[3.28,0.97399999999999998]
[3.2810000000000001,0.97399999999999998]
[3.282,0.97399999999999998]
[3.2829999999999999,0.97399999999999998]
[3.2839999999999998,0.97399999999999998]
[3.2850000000000001,0.97399999999999998]
[3.286,0.97399999999999998]
[3.2869999999999999,0.97399999999999998]
[3.2879999999999998,0.97399999999999998]
[3.2890000000000001,0.97399999999999998]
[3.29,0.97399999999999998]
[3.2909999999999999,0.97399999999999998]
[3.2919999999999998,0.97399999999999998]
[3.2930000000000001,0.97399999999999998]
[3.294,0.97399999999999998]
[3.2949999999999999,0.97399999999999998]
[3.2959999999999998,0.97399999999999998]
[3.2970000000000002,0.97399999999999998]
[3.298,0.97399999999999998]
[3.2989999999999999,0.97399999999999998]
[3.3,0.97399999999999998]
[3.3010000000000002,0.97399999999999998]
[3.302,0.97399999999999998]
[3.3029999999999999,0.97399999999999998]
[3.3039999999999998,0.97399999999999998]
[3.3050000000000002,0.97399999999999998]
[3.306,0.97399999999999998]
[3.3069999999999999,0.97399999999999998]
[3.3079999999999998,0.97399999999999998]
[3.3090000000000002,0.97399999999999998]
[3.31,0.97399999999999998]
[3.3109999999999999,0.97399999999999998]
[3.3119999999999998,0.97399999999999998]
[3.3130000000000002,0.97399999999999998]
[3.3140000000000001,0.97399999999999998]
[3.3149999999999999,0.97399999999999998]
[3.3159999999999998,0.97399999999999998]
[3.3170000000000002,0.97399999999999998]
[3.3180000000000001,0.97399999999999998]
[3.319,0.97399999999999998]
[3.32,0.97399999999999998]
[3.3210000000000002,0.97399999999999998]
[3.3220000000000001,0.97399999999999998]
[3.323,0.97399999999999998]
[3.3239999999999998,0.97399999999999998]
[3.3250000000000002,0.97399999999999998]
[3.3260000000000001,0.97399999999999998]
[3.327,0.97399999999999998]
[3.3279999999999998,0.97399999999999998]
[3.3290000000000002,0.97399999999999998]
[3.33,0.97399999999999998]
[3.331,0.97399999999999998]
[3.3319999999999999,0.97399999999999998]
[3.3330000000000002,0.97399999999999998]
[3.3340000000000001,0.97399999999999998]
[3.335,0.97399999999999998]
[3.3359999999999999,0.97399999999999998]
[3.3370000000000002,0.97399999999999998]
[3.3380000000000001,0.97399999999999998]
[3.339,0.97399999999999998]
[3.34,0.97399999999999998]
[3.3410000000000002,0.97399999999999998]
[3.3420000000000001,0.97399999999999998]
[3.343,0.97399999999999998]
[3.3439999999999999,0.97399999999999998]
[3.3450000000000002,0.97399999999999998]
[3.3460000000000001,0.97399999999999998]
[3.347,0.97399999999999998]
[3.3479999999999999,0.97399999999999998]
[3.3490000000000002,0.97399999999999998]
[3.35,0.97399999999999998]
[3.351,0.97399999999999998]
[3.3519999999999999,0.97399999999999998]
[3.3530000000000002,0.97399999999999998]
[3.3540000000000001,0.97399999999999998]
[3.355,0.97399999999999998]
[3.3559999999999999,0.97399999999999998]
[3.3570000000000002,0.97399999999999998]
[3.3580000000000001,0.97399999999999998]
[3.359,0.97399999999999998]
[3.36,0.97399999999999998]
[3.3610000000000002,0.97399999999999998]
[3.3620000000000001,0.97399999999999998]
[3.363,0.97399999999999998]
[3.3639999999999999,0.97399999999999998]
[3.3650000000000002,0.97399999999999998]
[3.3660000000000001,0.97399999999999998]
[3.367,0.97399999999999998]
[3.3679999999999999,0.97399999999999998]
[3.3690000000000002,0.97399999999999998]
[3.37,0.97399999999999998]
[3.371,0.97399999999999998]
[3.3719999999999999,0.97399999999999998]
[3.3730000000000002,0.97399999999999998]
[3.3740000000000001,0.97399999999999998]
[3.375,0.97399999999999998]
[3.3759999999999999,0.97399999999999998]
[3.3769999999999998,0.97399999999999998]
[3.3780000000000001,0.97399999999999998]
[3.379,0.97399999999999998]
[3.38,0.97399999999999998]
[3.3809999999999998,0.97399999999999998]
[3.3820000000000001,0.97399999999999998]
[3.383,0.97399999999999998]
[3.3839999999999999,0.97399999999999998]
[3.3849999999999998,0.97399999999999998]
[3.3860000000000001,0.97399999999999998]
[3.387,0.97399999999999998]
[3.3879999999999999,0.97399999999999998]
[3.3889999999999998,0.97399999999999998]
[3.39,0.97399999999999998]
[3.391,0.97399999999999998]
[3.3919999999999999,0.97399999999999998]
[3.3929999999999998,0.97399999999999998]
[3.3940000000000001,0.97399999999999998]
[3.395,0.97399999999999998]
[3.3959999999999999,0.97399999999999998]
[3.3969999999999998,0.97399999999999998]
[3.3980000000000001,0.97399999999999998]
[3.399,0.97399999999999998]
[3.4,0.97399999999999998]
[3.4009999999999998,0.97399999999999998]
[3.4020000000000001,0.97399999999999998]
[3.403,0.97399999999999998]
[3.4039999999999999,0.97399999999999998]
[3.4049999999999998,0.97399999999999998]
[3.4060000000000001,0.97399999999999998]
[3.407,0.97399999999999998]
[3.4079999999999999,0.97399999999999998]
[3.4089999999999998,0.97399999999999998]
[3.41,0.97399999999999998]
[3.411,0.97399999999999998]
[3.4119999999999999,0.97399999999999998]
[3.4129999999999998,0.97399999999999998]
[3.4140000000000001,0.97399999999999998]
[3.415,0.97399999999999998]
[3.4159999999999999,0.97399999999999998]
[3.4169999999999998,0.97399999999999998]
[3.4180000000000001,0.97399999999999998]
[3.419,0.97399999999999998]
[3.42,0.97399999999999998]
[3.4209999999999998,0.97399999999999998]
[3.4220000000000002,0.97399999999999998]
[3.423,0.97399999999999998]
[3.4239999999999999,0.97399999999999998]
[3.4249999999999998,0.97399999999999998]
[3.4260000000000002,0.97399999999999998]
[3.427,0.97399999999999998]
[3.4279999999999999,0.97399999999999998]
[3.4289999999999998,0.97399999999999998]
[3.43,0.97399999999999998]
[3.431,0.97399999999999998]
[3.4319999999999999,0.97399999999999998]
[3.4329999999999998,0.97399999999999998]
[3.4340000000000002,0.97399999999999998]
[3.4350000000000001,0.97399999999999998]
[3.4359999999999999,0.97399999999999998]
[3.4369999999999998,0.97399999999999998]
[3.4380000000000002,0.97399999999999998]
[3.4390000000000001,0.97399999999999998]
[3.44,0.97399999999999998]
[3.4409999999999998,0.97399999999999998]
[3.4420000000000002,0.97399999999999998]
[3.4430000000000001,0.97399999999999998]
[3.444,0.97399999999999998]
[3.4449999999999998,0.97399999999999998]
[3.4460000000000002,0.97399999999999998]
[3.4470000000000001,0.97399999999999998]
[3.448,0.97399999999999998]
[3.4489999999999998,0.97399999999999998]
[3.45,0.97399999999999998]
[3.4510000000000001,0.97399999999999998]
[3.452,0.97399999999999998]
[3.4529999999999998,0.97399999999999998]
[3.4540000000000002,0.97399999999999998]
[3.4550000000000001,0.97399999999999998]
[3.456,0.97399999999999998]
[3.4569999999999999,0.97399999999999998]
[3.4580000000000002,0.97399999999999998]
[3.4590000000000001,0.97399999999999998]
[3.46,0.97399999999999998]
[3.4609999999999999,0.97399999999999998]
[3.4620000000000002,0.97399999999999998]
[3.4630000000000001,0.97399999999999998]
[3.464,0.97399999999999998]
[3.4649999999999999,0.97399999999999998]
[3.4660000000000002,0.97399999999999998]
[3.4670000000000001,0.97399999999999998]
[3.468,0.97399999999999998]
[3.4689999999999999,0.97399999999999998]
[3.47,0.97399999999999998]
[3.4710000000000001,0.97399999999999998]
[3.472,0.97399999999999998]
[3.4729999999999999,0.97399999999999998]
[3.4740000000000002,0.97399999999999998]
[3.4750000000000001,0.97399999999999998]
[3.476,0.97399999999999998]
[3.4769999999999999,0.97399999999999998]
[3.4780000000000002,0.97399999999999998]
[3.4790000000000001,0.97399999999999998]
[3.48,0.97399999999999998]
[3.4809999999999999,0.97399999999999998]
[3.4820000000000002,0.97399999999999998]
[3.4830000000000001,0.97399999999999998]
[3.484,0.97399999999999998]
[3.4849999999999999,0.97399999999999998]
[3.4860000000000002,0.97399999999999998]
[3.4870000000000001,0.97399999999999998]
[3.488,0.97399999999999998]
[3.4889999999999999,0.97399999999999998]
[3.49,0.97399999999999998]
[3.4910000000000001,0.97399999999999998]
[3.492,0.97399999999999998]
[3.4929999999999999,0.97399999999999998]
[3.4940000000000002,0.97399999999999998]
[3.4950000000000001,0.97399999999999998]
[3.496,0.97399999999999998]
[3.4969999999999999,0.97399999999999998]
[3.4980000000000002,0.97399999999999998]
[3.4990000000000001,0.97399999999999998]
[3.5,0.97399999999999998]
[3.5009999999999999,0.96499999999999997]
[3.5019999999999998,0.96499999999999997]
[3.5030000000000001,0.96499999999999997]
[3.504,0.96499999999999997]
[3.5049999999999999,0.96499999999999997]
[3.5059999999999998,0.96499999999999997]
[3.5070000000000001,0.96499999999999997]
[3.508,0.96499999999999997]
[3.5089999999999999,0.96499999999999997]
[3.51,0.96499999999999997]
[3.5110000000000001,0.96499999999999997]
[3.512,0.96499999999999997]
[3.5129999999999999,0.96499999999999997]
[3.5139999999999998,0.96499999999999997]
[3.5150000000000001,0.96499999999999997]
[3.516,0.96499999999999997]
[3.5169999999999999,0.96499999999999997]
[3.5179999999999998,0.96499999999999997]
[3.5190000000000001,0.96499999999999997]
[3.52,0.96499999999999997]
[3.5209999999999999,0.96499999999999997]
[3.5219999999999998,0.96499999999999997]
[3.5230000000000001,0.96499999999999997]
[3.524,0.96499999999999997]
[3.5249999999999999,0.96499999999999997]
[3.5259999999999998,0.96499999999999997]
[3.5270000000000001,0.96499999999999997]
[3.528,0.96499999999999997]
[3.5289999999999999,0.96499999999999997]
[3.53,0.96499999999999997]
[3.5310000000000001,0.96499999999999997]
[3.532,0.96499999999999997]
[3.5329999999999999,0.96499999999999997]
[3.5339999999999998,0.96499999999999997]
[3.5350000000000001,0.96499999999999997]
[3.536,0.96499999999999997]
[3.5369999999999999,0.96499999999999997]
[3.5379999999999998,0.96499999999999997]
[3.5390000000000001,0.96499999999999997]
[3.54,0.96499999999999997]
[3.5409999999999999,0.96499999999999997]
[3.5419999999999998,0.96499999999999997]
[3.5430000000000001,0.96499999999999997]
[3.544,0.96499999999999997]
[3.5449999999999999,0.96499999999999997]
[3.5459999999999998,0.96499999999999997]
[3.5470000000000002,0.96499999999999997]
[3.548,0.96499999999999997]
[3.5489999999999999,0.96499999999999997]
[3.55,0.96499999999999997]
[3.5510000000000002,0.96499999999999997]
[3.552,0.96499999999999997]
[3.5529999999999999,0.96499999999999997]
[3.5539999999999998,0.96499999999999997]
[3.5550000000000002,0.96499999999999997]
[3.556,0.96499999999999997]
[3.5569999999999999,0.96499999999999997]
[3.5579999999999998,0.96499999999999997]
[3.5590000000000002,0.96499999999999997]
[3.56,0.96499999999999997]
[3.5609999999999999,0.96499999999999997]
[3.5619999999999998,0.96499999999999997]
[3.5630000000000002,0.96499999999999997]
[3.5640000000000001,0.96499999999999997]
[3.5649999999999999,0.96499999999999997]
[3.5659999999999998,0.96499999999999997]
[3.5670000000000002,0.96499999999999997]
[3.5680000000000001,0.96499999999999997]
[3.569,0.96499999999999997]
[3.57,0.96499999999999997]
[3.5710000000000002,0.96499999999999997]
[3.5720000000000001,0.96499999999999997]
[3.573,0.96499999999999997]
[3.5739999999999998,0.96499999999999997]
[3.5750000000000002,0.96499999999999997]
[3.5760000000000001,0.96499999999999997]
[3.577,0.96499999999999997]
[3.5779999999999998,0.96499999999999997]
[3.5790000000000002,0.96499999999999997]
[3.58,0.96499999999999997]
[3.581,0.96499999999999997]
[3.5819999999999999,0.96499999999999997]
[3.5830000000000002,0.96499999999999997]
[3.5840000000000001,0.96499999999999997]
[3.585,0.96499999999999997]
[3.5859999999999999,0.96499999999999997]
[3.5870000000000002,0.96499999999999997]
[3.5880000000000001,0.96499999999999997]
[3.589,0.96499999999999997]
[3.59,0.96499999999999997]
[3.5910000000000002,0.96499999999999997]
[3.5920000000000001,0.96499999999999997]
[3.593,0.96499999999999997]
[3.5939999999999999,0.96499999999999997]
[3.5950000000000002,0.96499999999999997]
[3.5960000000000001,0.96499999999999997]
[3.597,0.96499999999999997]
[3.5979999999999999,0.96499999999999997]
[3.5990000000000002,0.96499999999999997]
[3.6,0.96499999999999997]
[3.601,0.96499999999999997]
[3.6019999999999999,0.96499999999999997]
[3.6030000000000002,0.96499999999999997]
[3.6040000000000001,0.96499999999999997]
[3.605,0.96499999999999997]
[3.6059999999999999,0.96499999999999997]
[3.6070000000000002,0.96499999999999997]
[3.6080000000000001,0.96499999999999997]
[3.609,0.96499999999999997]
[3.61,0.96499999999999997]
[3.6110000000000002,0.96499999999999997]
[3.6120000000000001,0.96499999999999997]
[3.613,0.96499999999999997]
[3.6139999999999999,0.96499999999999997]
[3.6150000000000002,0.96499999999999997]
[3.6160000000000001,0.96499999999999997]
[3.617,0.96499999999999997]
[3.6179999999999999,0.96499999999999997]
[3.6190000000000002,0.96499999999999997]
[3.62,0.96499999999999997]
[3.621,0.96499999999999997]
[3.6219999999999999,0.96499999999999997]
[3.6230000000000002,0.96499999999999997]
[3.6240000000000001,0.96499999999999997]
[3.625,0.96499999999999997]
[3.6259999999999999,0.96499999999999997]
[3.6269999999999998,0.96499999999999997]
[3.6280000000000001,0.96499999999999997]
[3.629,0.96499999999999997]
[3.63,0.96499999999999997]
[3.6309999999999998,0.96499999999999997]
[3.6320000000000001,0.96499999999999997]
[3.633,0.96499999999999997]
[3.6339999999999999,0.96499999999999997]
[3.6349999999999998,0.96499999999999997]
[3.6360000000000001,0.96499999999999997]
[3.637,0.96499999999999997]
[3.6379999999999999,0.96499999999999997]
[3.6389999999999998,0.96499999999999997]
[3.64,0.96499999999999997]
[3.641,0.96499999999999997]
[3.6419999999999999,0.96499999999999997]
[3.6429999999999998,0.96499999999999997]
[3.6440000000000001,0.96499999999999997]
[3.645,0.96499999999999997]
[3.6459999999999999,0.96499999999999997]
[3.6469999999999998,0.96499999999999997]
[3.6480000000000001,0.96499999999999997]
[3.649,0.96499999999999997]
[3.65,0.96499999999999997]
[3.6509999999999998,0.96499999999999997]
[3.6520000000000001,0.96499999999999997]
[3.653,0.96499999999999997]
[3.6539999999999999,0.96499999999999997]
[3.6549999999999998,0.96499999999999997]
[3.6560000000000001,0.96499999999999997]
[3.657,0.96499999999999997]
[3.6579999999999999,0.96499999999999997]
[3.6589999999999998,0.96499999999999997]
[3.66,0.96499999999999997]
[3.661,0.96499999999999997]
[3.6619999999999999,0.96499999999999997]
[3.6629999999999998,0.96499999999999997]
[3.6640000000000001,0.96499999999999997]
[3.665,0.96499999999999997]
[3.6659999999999999,0.96499999999999997]
[3.6669999999999998,0.96499999999999997]
[3.6680000000000001,0.96499999999999997]
[3.669,0.96499999999999997]
[3.67,0.96499999999999997]
[3.6709999999999998,0.96499999999999997]
[3.6720000000000002,0.96499999999999997]
[3.673,0.96499999999999997]
[3.6739999999999999,0.96499999999999997]
[3.6749999999999998,0.96499999999999997]
[3.6760000000000002,0.96499999999999997]
[3.677,0.96499999999999997]
[3.6779999999999999,0.96499999999999997]
[3.6789999999999998,0.96499999999999997]
[3.68,0.96499999999999997]
[3.681,0.96499999999999997]
[3.6819999999999999,0.96499999999999997]
[3.6829999999999998,0.96499999999999997]
[3.6840000000000002,0.96499999999999997]
[3.6850000000000001,0.96499999999999997]
[3.6859999999999999,0.96499999999999997]
[3.6869999999999998,0.96499999999999997]
[3.6880000000000002,0.96499999999999997]
[3.6890000000000001,0.96499999999999997]
[3.69,0.96499999999999997]
[3.6909999999999998,0.96499999999999997]
[3.6920000000000002,0.96499999999999997]
[3.6930000000000001,0.96499999999999997]
[3.694,0.96499999999999997]
[3.6949999999999998,0.96499999999999997]
[3.6960000000000002,0.96499999999999997]
[3.6970000000000001,0.96499999999999997]
[3.698,0.96499999999999997]
[3.6989999999999998,0.96499999999999997]
[3.7,0.96499999999999997]
[3.7010000000000001,0.96499999999999997]
[3.702,0.96499999999999997]
[3.7029999999999998,0.96499999999999997]
[3.7040000000000002,0.96499999999999997]
[3.7050000000000001,0.96499999999999997]
[3.706,0.96499999999999997]
[3.7069999999999999,0.96499999999999997]
[3.7080000000000002,0.96499999999999997]
[3.7090000000000001,0.96499999999999997]
[3.71,0.96499999999999997]
[3.7109999999999999,0.96499999999999997]
[3.7120000000000002,0.96499999999999997]
[3.7130000000000001,0.96499999999999997]
[3.714,0.96499999999999997]
[3.7149999999999999,0.96499999999999997]
[3.7160000000000002,0.96499999999999997]
[3.7170000000000001,0.96499999999999997]
[3.718,0.96499999999999997]
[3.7189999999999999,0.96499999999999997]
[3.72,0.96499999999999997]
[3.7210000000000001,0.96499999999999997]
[3.722,0.96499999999999997]
[3.7229999999999999,0.96499999999999997]
[3.7240000000000002,0.96499999999999997]
[3.7250000000000001,0.96499999999999997]
[3.726,0.96499999999999997]
[3.7269999999999999,0.96499999999999997]
[3.7280000000000002,0.96499999999999997]
[3.7290000000000001,0.96499999999999997]
[3.73,0.96499999999999997]
[3.7309999999999999,0.96499999999999997]
[3.7320000000000002,0.96499999999999997]
[3.7330000000000001,0.96499999999999997]
[3.734,0.96499999999999997]
[3.7349999999999999,0.96499999999999997]
[3.7360000000000002,0.96499999999999997]
[3.7370000000000001,0.96499999999999997]
[3.738,0.96499999999999997]
[3.7389999999999999,0.96499999999999997]
[3.74,0.96499999999999997]
[3.7410000000000001,0.96499999999999997]
[3.742,0.96499999999999997]
[3.7429999999999999,0.96499999999999997]
[3.7440000000000002,0.96499999999999997]
[3.7450000000000001,0.96499999999999997]
[3.746,0.96499999999999997]
[3.7469999999999999,0.96499999999999997]
[3.7480000000000002,0.96499999999999997]
[3.7490000000000001,0.96499999999999997]
[3.75,0.96499999999999997]
[3.7509999999999999,0.96499999999999997]
[3.7519999999999998,0.96499999999999997]
[3.7530000000000001,0.96499999999999997]
[3.754,0.96499999999999997]
[3.7549999999999999,0.96499999999999997]
[3.7559999999999998,0.96499999999999997]
[3.7570000000000001,0.96499999999999997]
[3.758,0.96499999999999997]
[3.7589999999999999,0.96499999999999997]
[3.76,0.96499999999999997]
[3.7610000000000001,0.96499999999999997]
[3.762,0.96499999999999997]
[3.7629999999999999,0.96499999999999997]
[3.7639999999999998,0.96499999999999997]
[3.7650000000000001,0.96499999999999997]
[3.766,0.96499999999999997]
[3.7669999999999999,0.96499999999999997]
[3.7679999999999998,0.96499999999999997]
[3.7690000000000001,0.96499999999999997]
[3.77,0.96499999999999997]
[3.7709999999999999,0.96499999999999997]
[3.7719999999999998,0.96499999999999997]
[3.7730000000000001,0.96499999999999997]
[3.774,0.96499999999999997]
[3.7749999999999999,0.96499999999999997]
[3.7759999999999998,0.96499999999999997]
[3.7770000000000001,0.96499999999999997]
[3.778,0.96499999999999997]
[3.7789999999999999,0.96499999999999997]
[3.78,0.96499999999999997]
[3.7810000000000001,0.96499999999999997]
[3.782,0.96499999999999997]
[3.7829999999999999,0.96499999999999997]
[3.7839999999999998,0.96499999999999997]
[3.7850000000000001,0.96499999999999997]
[3.786,0.96499999999999997]
[3.7869999999999999,0.96499999999999997]
[3.7879999999999998,0.96499999999999997]
[3.7890000000000001,0.96499999999999997]
[3.79,0.96499999999999997]
[3.7909999999999999,0.96499999999999997]
[3.7919999999999998,0.96499999999999997]
[3.7930000000000001,0.96499999999999997]
[3.794,0.96499999999999997]
[3.7949999999999999,0.96499999999999997]
[3.7959999999999998,0.96499999999999997]
[3.7970000000000002,0.96499999999999997]
[3.798,0.96499999999999997]
[3.7989999999999999,0.96499999999999997]
[3.8,0.96499999999999997]
[3.8010000000000002,0.96499999999999997]
[3.802,0.96499999999999997]
[3.8029999999999999,0.96499999999999997]
[3.8039999999999998,0.96499999999999997]
[3.8050000000000002,0.96499999999999997]
[3.806,0.96499999999999997]
[3.8069999999999999,0.96499999999999997]
[3.8079999999999998,0.96499999999999997]
[3.8090000000000002,0.96499999999999997]
[3.81,0.96499999999999997]
[3.8109999999999999,0.96499999999999997]
[3.8119999999999998,0.96499999999999997]
[3.8130000000000002,0.96499999999999997]
[3.8140000000000001,0.96499999999999997]
[3.8149999999999999,0.96499999999999997]
[3.8159999999999998,0.96499999999999997]
[3.8170000000000002,0.96499999999999997]
[3.8180000000000001,0.96499999999999997]
[3.819,0.96499999999999997]
[3.82,0.96499999999999997]
[3.8210000000000002,0.96499999999999997]
[3.8220000000000001,0.96499999999999997]
[3.823,0.96499999999999997]
[3.8239999999999998,0.96499999999999997]
[3.8250000000000002,0.96499999999999997]
[3.8260000000000001,0.96499999999999997]
[3.827,0.96499999999999997]
[3.8279999999999998,0.96499999999999997]
[3.8290000000000002,0.96499999999999997]
[3.83,0.96499999999999997]
[3.831,0.96499999999999997]
[3.8319999999999999,0.96499999999999997]
[3.8330000000000002,0.96499999999999997]
[3.8340000000000001,0.96499999999999997]
[3.835,0.96499999999999997]
[3.8359999999999999,0.96499999999999997]
[3.8370000000000002,0.96499999999999997]
[3.8380000000000001,0.96499999999999997]
[3.839,0.96499999999999997]
[3.84,0.96499999999999997]
[3.8410000000000002,0.96499999999999997]
[3.8420000000000001,0.96499999999999997]
[3.843,0.96499999999999997]
[3.8439999999999999,0.96499999999999997]
[3.8450000000000002,0.96499999999999997]
[3.8460000000000001,0.96499999999999997]
[3.847,0.96499999999999997]
[3.8479999999999999,0.96499999999999997]
[3.8490000000000002,0.96499999999999997]
[3.85,0.96499999999999997]
[3.851,0.96499999999999997]
[3.8519999999999999,0.96499999999999997]
[3.8530000000000002,0.96499999999999997]
[3.8540000000000001,0.96499999999999997]
[3.855,0.96499999999999997]
[3.8559999999999999,0.96499999999999997]
[3.8570000000000002,0.96499999999999997]
[3.8580000000000001,0.96499999999999997]
[3.859,0.96499999999999997]
[3.86,0.96499999999999997]
[3.8610000000000002,0.96499999999999997]
[3.8620000000000001,0.96499999999999997]
[3.863,0.96499999999999997]
[3.8639999999999999,0.96499999999999997]
[3.8650000000000002,0.96499999999999997]
[3.8660000000000001,0.96499999999999997]
[3.867,0.96499999999999997]
[3.8679999999999999,0.96499999999999997]
[3.8690000000000002,0.96499999999999997]
[3.87,0.96499999999999997]
[3.871,0.96499999999999997]
[3.8719999999999999,0.96499999999999997]
[3.8730000000000002,0.96499999999999997]
[3.8740000000000001,0.96499999999999997]
[3.875,0.96499999999999997]
[3.8759999999999999,0.96499999999999997]
[3.8769999999999998,0.96499999999999997]
[3.8780000000000001,0.96499999999999997]
[3.879,0.96499999999999997]
[3.88,0.96499999999999997]
[3.8809999999999998,0.96499999999999997]
[3.8820000000000001,0.96499999999999997]
[3.883,0.96499999999999997]
[3.8839999999999999,0.96499999999999997]
[3.8849999999999998,0.96499999999999997]
[3.8860000000000001,0.96499999999999997]
[3.887,0.96499999999999997]
[3.8879999999999999,0.96499999999999997]
[3.8889999999999998,0.96499999999999997]
[3.89,0.96499999999999997]
[3.891,0.96499999999999997]
[3.8919999999999999,0.96499999999999997]
[3.8929999999999998,0.96499999999999997]
[3.8940000000000001,0.96499999999999997]
[3.895,0.96499999999999997]
[3.8959999999999999,0.96499999999999997]
[3.8969999999999998,0.96499999999999997]
[3.8980000000000001,0.96499999999999997]
[3.899,0.96499999999999997]
[3.9,0.96499999999999997]
[3.9009999999999998,0.96499999999999997]
[3.9020000000000001,0.96499999999999997]
[3.903,0.96499999999999997]
[3.9039999999999999,0.96499999999999997]
[3.9049999999999998,0.96499999999999997]
[3.9060000000000001,0.96499999999999997]
[3.907,0.96499999999999997]
[3.9079999999999999,0.96499999999999997]
[3.9089999999999998,0.96499999999999997]
[3.91,0.96499999999999997]
[3.911,0.96499999999999997]
[3.9119999999999999,0.96499999999999997]
[3.9129999999999998,0.96499999999999997]
[3.9140000000000001,0.96499999999999997]
[3.915,0.96499999999999997]
[3.9159999999999999,0.96499999999999997]
[3.9169999999999998,0.96499999999999997]
[3.9180000000000001,0.96499999999999997]
[3.919,0.96499999999999997]
[3.92,0.96499999999999997]
[3.9209999999999998,0.96499999999999997]
[3.9220000000000002,0.96499999999999997]
[3.923,0.96499999999999997]
[3.9239999999999999,0.96499999999999997]
[3.9249999999999998,0.96499999999999997]
[3.9260000000000002,0.96499999999999997]
[3.927,0.96499999999999997]
[3.9279999999999999,0.96499999999999997]
[3.9289999999999998,0.96499999999999997]
[3.93,0.96499999999999997]
[3.931,0.96499999999999997]
[3.9319999999999999,0.96499999999999997]
[3.9329999999999998,0.96499999999999997]
[3.9340000000000002,0.96499999999999997]
[3.9350000000000001,0.96499999999999997]
[3.9359999999999999,0.96499999999999997]
[3.9369999999999998,0.96499999999999997]
[3.9380000000000002,0.96499999999999997]
[3.9390000000000001,0.96499999999999997]
[3.94,0.96499999999999997]
[3.9409999999999998,0.96499999999999997]
[3.9420000000000002,0.96499999999999997]
[3.9430000000000001,0.96499999999999997]
[3.944,0.96499999999999997]
[3.9449999999999998,0.96499999999999997]
[3.9460000000000002,0.96499999999999997]
[3.9470000000000001,0.96499999999999997]
[3.948,0.96499999999999997]
[3.9489999999999998,0.96499999999999997]
[3.95,0.96499999999999997]
[3.9510000000000001,0.96499999999999997]
[3.952,0.96499999999999997]
[3.9529999999999998,0.96499999999999997]
[3.9540000000000002,0.96499999999999997]
[3.9550000000000001,0.96499999999999997]
[3.956,0.96499999999999997]
[3.9569999999999999,0.96499999999999997]
[3.9580000000000002,0.96499999999999997]
[3.9590000000000001,0.96499999999999997]
[3.96,0.96499999999999997]
[3.9609999999999999,0.96499999999999997]
[3.9620000000000002,0.96499999999999997]
[3.9630000000000001,0.96499999999999997]
[3.964,0.96499999999999997]
[3.9649999999999999,0.96499999999999997]
[3.9660000000000002,0.96499999999999997]
[3.9670000000000001,0.96499999999999997]
[3.968,0.96499999999999997]
[3.9689999999999999,0.96499999999999997]
[3.97,0.96499999999999997]
[3.9710000000000001,0.96499999999999997]
[3.972,0.96499999999999997]
[3.9729999999999999,0.96499999999999997]
[3.9740000000000002,0.96499999999999997]
[3.9750000000000001,0.96499999999999997]
[3.976,0.96499999999999997]
[3.9769999999999999,0.96499999999999997]
[3.9780000000000002,0.96499999999999997]
[3.9790000000000001,0.96499999999999997]
[3.98,0.96499999999999997]
[3.9809999999999999,0.96499999999999997]
[3.9820000000000002,0.96499999999999997]
[3.9830000000000001,0.96499999999999997]
[3.984,0.96499999999999997]
[3.9849999999999999,0.96499999999999997]
[3.9860000000000002,0.96499999999999997]
[3.9870000000000001,0.96499999999999997]
[3.988,0.96499999999999997]
[3.9889999999999999,0.96499999999999997]
[3.99,0.96499999999999997]
[3.9910000000000001,0.96499999999999997]
[3.992,0.96499999999999997]
[3.9929999999999999,0.96499999999999997]
[3.9940000000000002,0.96499999999999997]
[3.9950000000000001,0.96499999999999997]
[3.996,0.96499999999999997]
[3.9969999999999999,0.96499999999999997]
[3.9980000000000002,0.96499999999999997]
[3.9990000000000001,0.96499999999999997]
[4,0.96499999999999997]
[4.0010000000000003,0.96499999999999997]
[4.0019999999999998,0.96499999999999997]
[4.0030000000000001,0.96499999999999997]
[4.0039999999999996,0.96499999999999997]
[4.0049999999999999,0.96499999999999997]
[4.0060000000000002,0.96499999999999997]
[4.0069999999999997,0.96499999999999997]
[4.008,0.96499999999999997]
[4.0090000000000003,0.96499999999999997]
[4.01,0.96499999999999997]
[4.0110000000000001,0.96499999999999997]
[4.0119999999999996,0.96499999999999997]
[4.0129999999999999,0.96499999999999997]
[4.0140000000000002,0.96499999999999997]
[4.0149999999999997,0.96499999999999997]
[4.016,0.96499999999999997]
[4.0170000000000003,0.96499999999999997]
[4.0179999999999998,0.96499999999999997]
[4.0190000000000001,0.96499999999999997]
[4.0199999999999996,0.96499999999999997]
[4.0209999999999999,0.96499999999999997]
[4.0220000000000002,0.96499999999999997]
[4.0229999999999997,0.96499999999999997]
[4.024,0.96499999999999997]
[4.0250000000000004,0.96499999999999997]
[4.0259999999999998,0.96499999999999997]
[4.0270000000000001,0.96499999999999997]
[4.0279999999999996,0.96499999999999997]
[4.0289999999999999,0.96499999999999997]
[4.03,0.96499999999999997]
[4.0309999999999997,0.96499999999999997]
[4.032,0.96499999999999997]
[4.0330000000000004,0.96499999999999997]
[4.0339999999999998,0.96499999999999997]
[4.0350000000000001,0.96499999999999997]
[4.0359999999999996,0.96499999999999997]
[4.0369999999999999,0.96499999999999997]
[4.0380000000000003,0.96499999999999997]
[4.0389999999999997,0.96499999999999997]
[4.04,0.96499999999999997]
[4.0410000000000004,0.96499999999999997]
[4.0419999999999998,0.96499999999999997]
[4.0430000000000001,0.96499999999999997]
[4.0439999999999996,0.96499999999999997]
[4.0449999999999999,0.96499999999999997]
[4.0460000000000003,0.96499999999999997]
[4.0469999999999997,0.96499999999999997]
[4.048,0.96499999999999997]
[4.0490000000000004,0.96499999999999997]
[4.05,0.96499999999999997]
[4.0510000000000002,0.96499999999999997]
[4.0519999999999996,0.96499999999999997]
[4.0529999999999999,0.96499999999999997]
[4.0540000000000003,0.96499999999999997]
[4.0549999999999997,0.96499999999999997]
[4.056,0.96499999999999997]
[4.0570000000000004,0.96499999999999997]
[4.0579999999999998,0.96499999999999997]
[4.0590000000000002,0.96499999999999997]
[4.0599999999999996,0.96499999999999997]
[4.0609999999999999,0.96499999999999997]
[4.0620000000000003,0.96499999999999997]
[4.0629999999999997,0.96499999999999997]
[4.0640000000000001,0.96499999999999997]
[4.0650000000000004,0.96499999999999997]
[4.0659999999999998,0.96499999999999997]
[4.0670000000000002,0.96499999999999997]
[4.0679999999999996,0.96499999999999997]
[4.069,0.96499999999999997]
[4.07,0.96499999999999997]
[4.0709999999999997,0.96499999999999997]
[4.0720000000000001,0.96499999999999997]
[4.0730000000000004,0.96499999999999997]
[4.0739999999999998,0.96499999999999997]
[4.0750000000000002,0.96499999999999997]
[4.0759999999999996,0.96499999999999997]
[4.077,0.96499999999999997]
[4.0780000000000003,0.96499999999999997]
[4.0789999999999997,0.96499999999999997]
[4.08,0.96499999999999997]
[4.0810000000000004,0.96499999999999997]
[4.0819999999999999,0.96499999999999997]
[4.0830000000000002,0.96499999999999997]
[4.0839999999999996,0.96499999999999997]
[4.085,0.96499999999999997]
[4.0860000000000003,0.96499999999999997]
[4.0869999999999997,0.96499999999999997]
[4.0880000000000001,0.96499999999999997]
[4.0890000000000004,0.96499999999999997]
[4.09,0.96499999999999997]
[4.0910000000000002,0.96499999999999997]
[4.0919999999999996,0.96499999999999997]
[4.093,0.96499999999999997]
[4.0940000000000003,0.96499999999999997]
[4.0949999999999998,0.96499999999999997]
[4.0960000000000001,0.96499999999999997]
[4.0970000000000004,0.96499999999999997]
[4.0979999999999999,0.96499999999999997]
[4.0990000000000002,0.96499999999999997]
[4.0999999999999996,0.96499999999999997]
[4.101,0.96499999999999997]
[4.1020000000000003,0.96499999999999997]
[4.1029999999999998,0.96499999999999997]
[4.1040000000000001,0.96499999999999997]
[4.1050000000000004,0.96499999999999997]
[4.1059999999999999,0.96499999999999997]
[4.1070000000000002,0.96499999999999997]
[4.1079999999999997,0.96499999999999997]
[4.109,0.96499999999999997]
[4.1100000000000003,0.96499999999999997]
[4.1109999999999998,0.96499999999999997]
[4.1120000000000001,0.96499999999999997]
[4.1130000000000004,0.96499999999999997]
[4.1139999999999999,0.96499999999999997]
[4.1150000000000002,0.96499999999999997]
[4.1159999999999997,0.96499999999999997]
[4.117,0.96499999999999997]
[4.1180000000000003,0.96499999999999997]
[4.1189999999999998,0.96499999999999997]
[4.12,0.96499999999999997]
[4.1210000000000004,0.96499999999999997]
[4.1219999999999999,0.96499999999999997]
[4.1230000000000002,0.96499999999999997]
[4.1239999999999997,0.96499999999999997]
[4.125,0.96499999999999997]
[4.1260000000000003,0.96499999999999997]
[4.1269999999999998,0.96499999999999997]
[4.1280000000000001,0.96499999999999997]
[4.1289999999999996,0.96499999999999997]
[4.13,0.96499999999999997]
[4.1310000000000002,0.96499999999999997]
[4.1319999999999997,0.96499999999999997]
[4.133,0.96499999999999997]
[4.1340000000000003,0.96499999999999997]
[4.1349999999999998,0.96499999999999997]
[4.1360000000000001,0.96499999999999997]
[4.1369999999999996,0.96499999999999997]
[4.1379999999999999,0.96499999999999997]
[4.1390000000000002,0.96499999999999997]
[4.1399999999999997,0.96499999999999997]
[4.141,0.96499999999999997]
[4.1420000000000003,0.96499999999999997]
[4.1429999999999998,0.96499999999999997]
[4.1440000000000001,0.96499999999999997]
[4.1449999999999996,0.96499999999999997]
[4.1459999999999999,0.96499999999999997]
[4.1470000000000002,0.96499999999999997]
[4.1479999999999997,0.96499999999999997]
[4.149,0.96499999999999997]
[4.1500000000000004,0.96499999999999997]
[4.1509999999999998,0.96499999999999997]
[4.1520000000000001,0.96499999999999997]
[4.1529999999999996,0.96499999999999997]
[4.1539999999999999,0.96499999999999997]
[4.1550000000000002,0.96499999999999997]
[4.1559999999999997,0.96499999999999997]
[4.157,0.96499999999999997]
[4.1580000000000004,0.96499999999999997]
[4.1589999999999998,0.96499999999999997]
[4.16,0.96499999999999997]
[4.1609999999999996,0.96499999999999997]
[4.1619999999999999,0.96499999999999997]
[4.1630000000000003,0.96499999999999997]
[4.1639999999999997,0.96499999999999997]
[4.165,0.96499999999999997]
[4.1660000000000004,0.96499999999999997]
[4.1669999999999998,0.96499999999999997]
[4.1680000000000001,0.96499999999999997]
[4.1689999999999996,0.96499999999999997]
[4.17,0.96499999999999997]
[4.1710000000000003,0.96499999999999997]
[4.1719999999999997,0.96499999999999997]
[4.173,0.96499999999999997]
[4.1740000000000004,0.96499999999999997]
[4.1749999999999998,0.96499999999999997]
[4.1760000000000002,0.96499999999999997]
[4.1769999999999996,0.96499999999999997]
[4.1779999999999999,0.96499999999999997]
[4.1790000000000003,0.96499999999999997]
[4.18,0.96499999999999997]
[4.181,0.96499999999999997]
[4.1820000000000004,0.96499999999999997]
[4.1829999999999998,0.96499999999999997]
[4.1840000000000002,0.96499999999999997]
[4.1849999999999996,0.96499999999999997]
[4.1859999999999999,0.96499999999999997]
[4.1870000000000003,0.96499999999999997]
[4.1879999999999997,0.96499999999999997]
[4.1890000000000001,0.96499999999999997]
[4.1900000000000004,0.96499999999999997]
[4.1909999999999998,0.96499999999999997]
[4.1920000000000002,0.96499999999999997]
[4.1929999999999996,0.96499999999999997]
[4.194,0.96499999999999997]
[4.1950000000000003,0.96499999999999997]
[4.1959999999999997,0.96499999999999997]
[4.1970000000000001,0.96499999999999997]
[4.1980000000000004,0.96499999999999997]
[4.1989999999999998,0.96499999999999997]
[4.2,0.96499999999999997]
[4.2009999999999996,0.96499999999999997]
[4.202,0.96499999999999997]
[4.2030000000000003,0.96499999999999997]
[4.2039999999999997,0.96499999999999997]
[4.2050000000000001,0.96499999999999997]
[4.2060000000000004,0.96499999999999997]
[4.2069999999999999,0.96499999999999997]
[4.2080000000000002,0.96499999999999997]
[4.2089999999999996,0.96499999999999997]
[4.21,0.96499999999999997]
[4.2110000000000003,0.96499999999999997]
[4.2119999999999997,0.96499999999999997]
[4.2130000000000001,0.96499999999999997]
[4.2140000000000004,0.96499999999999997]
[4.2149999999999999,0.96499999999999997]
[4.2160000000000002,0.96499999999999997]
[4.2169999999999996,0.96499999999999997]
[4.218,0.96499999999999997]
[4.2190000000000003,0.96499999999999997]
[4.22,0.96499999999999997]
[4.2210000000000001,0.96499999999999997]
[4.2220000000000004,0.96499999999999997]
[4.2229999999999999,0.96499999999999997]
[4.2240000000000002,0.96499999999999997]
[4.2249999999999996,0.96499999999999997]
[4.226,0.96499999999999997]
[4.2270000000000003,0.96499999999999997]
[4.2279999999999998,0.96499999999999997]
[4.2290000000000001,0.96499999999999997]
[4.2300000000000004,0.96499999999999997]
[4.2309999999999999,0.96499999999999997]
[4.2320000000000002,0.96499999999999997]
[4.2329999999999997,0.96499999999999997]
[4.234,0.96499999999999997]
[4.2350000000000003,0.96499999999999997]
[4.2359999999999998,0.96499999999999997]
[4.2370000000000001,0.96499999999999997]
[4.2380000000000004,0.96499999999999997]
[4.2389999999999999,0.96499999999999997]
[4.24,0.96499999999999997]
[4.2409999999999997,0.96499999999999997]
[4.242,0.96499999999999997]
[4.2430000000000003,0.96499999999999997]
[4.2439999999999998,0.96499999999999997]
[4.2450000000000001,0.96499999999999997]
[4.2460000000000004,0.96499999999999997]
[4.2469999999999999,0.96499999999999997]
[4.2480000000000002,0.96499999999999997]
[4.2489999999999997,0.96499999999999997]
[4.25,0.96499999999999997]
[4.2510000000000003,0.96499999999999997]
[4.2519999999999998,0.96499999999999997]
[4.2530000000000001,0.96499999999999997]
[4.2539999999999996,0.96499999999999997]
[4.2549999999999999,0.96499999999999997]
[4.2560000000000002,0.96499999999999997]
[4.2569999999999997,0.96499999999999997]
[4.258,0.96499999999999997]
[4.2590000000000003,0.96499999999999997]
[4.26,0.96499999999999997]
[4.2610000000000001,0.96499999999999997]
[4.2619999999999996,0.96499999999999997]
[4.2629999999999999,0.96499999999999997]
[4.2640000000000002,0.96499999999999997]
[4.2649999999999997,0.96499999999999997]
[4.266,0.96499999999999997]
[4.2670000000000003,0.96499999999999997]
[4.2679999999999998,0.96499999999999997]
[4.2690000000000001,0.96499999999999997]
[4.2699999999999996,0.96499999999999997]
[4.2709999999999999,0.96499999999999997]
[4.2720000000000002,0.96499999999999997]
[4.2729999999999997,0.96499999999999997]
[4.274,0.96499999999999997]
[4.2750000000000004,0.96499999999999997]
[4.2759999999999998,0.96499999999999997]
[4.2770000000000001,0.96499999999999997]
[4.2779999999999996,0.96499999999999997]
[4.2789999999999999,0.96499999999999997]
[4.28,0.96499999999999997]
[4.2809999999999997,0.96499999999999997]
[4.282,0.96499999999999997]
[4.2830000000000004,0.96499999999999997]
[4.2839999999999998,0.96499999999999997]
[4.2850000000000001,0.96499999999999997]
[4.2859999999999996,0.96499999999999997]
[4.2869999999999999,0.96499999999999997]
[4.2880000000000003,0.96499999999999997]
[4.2889999999999997,0.96499999999999997]
[4.29,0.96499999999999997]
[4.2910000000000004,0.96499999999999997]
[4.2919999999999998,0.96499999999999997]
[4.2930000000000001,0.96499999999999997]
[4.2939999999999996,0.96499999999999997]
[4.2949999999999999,0.96499999999999997]
[4.2960000000000003,0.96499999999999997]
[4.2969999999999997,0.96499999999999997]
[4.298,0.96499999999999997]
[4.2990000000000004,0.96499999999999997]
[4.3,0.96499999999999997]
[4.3010000000000002,0.96499999999999997]
[4.3019999999999996,0.96499999999999997]
[4.3029999999999999,0.96499999999999997]
[4.3040000000000003,0.96499999999999997]
[4.3049999999999997,0.96499999999999997]
[4.306,0.96499999999999997]
[4.3070000000000004,0.96499999999999997]
[4.3079999999999998,0.96499999999999997]
[4.3090000000000002,0.96499999999999997]
[4.3099999999999996,0.96499999999999997]
[4.3109999999999999,0.96499999999999997]
[4.3120000000000003,0.96499999999999997]
[4.3129999999999997,0.96499999999999997]
[4.3140000000000001,0.96499999999999997]
[4.3150000000000004,0.96499999999999997]
[4.3159999999999998,0.96499999999999997]
[4.3170000000000002,0.96499999999999997]
[4.3179999999999996,0.96499999999999997]
[4.319,0.96499999999999997]
[4.32,0.96499999999999997]
[4.3209999999999997,0.96499999999999997]
[4.3220000000000001,0.96499999999999997]
[4.3230000000000004,0.96499999999999997]
[4.3239999999999998,0.96499999999999997]
[4.3250000000000002,0.96499999999999997]
[4.3259999999999996,0.96499999999999997]
[4.327,0.96499999999999997]
[4.3280000000000003,0.96499999999999997]
[4.3289999999999997,0.96499999999999997]
[4.33,0.96499999999999997]
[4.3310000000000004,0.96499999999999997]
[4.3319999999999999,0.96499999999999997]
[4.3330000000000002,0.96499999999999997]
[4.3339999999999996,0.96499999999999997]
[4.335,0.96499999999999997]
[4.3360000000000003,0.96499999999999997]
[4.3369999999999997,0.96499999999999997]
[4.3380000000000001,0.96499999999999997]
[4.3390000000000004,0.96499999999999997]
[4.34,0.96499999999999997]
[4.3410000000000002,0.96499999999999997]
[4.3419999999999996,0.96499999999999997]
[4.343,0.96499999999999997]
[4.3440000000000003,0.96499999999999997]
[4.3449999999999998,0.96499999999999997]
[4.3460000000000001,0.96499999999999997]
[4.3470000000000004,0.96499999999999997]
[4.3479999999999999,0.96499999999999997]
[4.3490000000000002,0.96499999999999997]
[4.3499999999999996,0.96499999999999997]
[4.351,0.96499999999999997]
[4.3520000000000003,0.96499999999999997]
[4.3529999999999998,0.96499999999999997]
[4.3540000000000001,0.96499999999999997]
[4.3550000000000004,0.96499999999999997]
[4.3559999999999999,0.96499999999999997]
[4.3570000000000002,0.96499999999999997]
[4.3579999999999997,0.96499999999999997]
[4.359,0.96499999999999997]
[4.3600000000000003,0.96499999999999997]
[4.3609999999999998,0.96499999999999997]
[4.3620000000000001,0.96499999999999997]
[4.3630000000000004,0.96499999999999997]
[4.3639999999999999,0.96499999999999997]
[4.3650000000000002,0.96499999999999997]
[4.3659999999999997,0.96499999999999997]
[4.367,0.96499999999999997]
[4.3680000000000003,0.96499999999999997]
[4.3689999999999998,0.96499999999999997]
[4.37,0.96499999999999997]
[4.3710000000000004,0.96499999999999997]
[4.3719999999999999,0.96499999999999997]
[4.3730000000000002,0.96499999999999997]
[4.3739999999999997,0.96499999999999997]
[4.375,0.96499999999999997]
[4.3760000000000003,0.96499999999999997]
[4.3769999999999998,0.96499999999999997]
[4.3780000000000001,0.96499999999999997]
[4.3789999999999996,0.96499999999999997]
[4.38,0.96499999999999997]
[4.3810000000000002,0.96499999999999997]
[4.3819999999999997,0.96499999999999997]
[4.383,0.96499999999999997]
[4.3840000000000003,0.96499999999999997]
[4.3849999999999998,0.96499999999999997]
[4.3860000000000001,0.96499999999999997]
[4.3869999999999996,0.96499999999999997]
[4.3879999999999999,0.96499999999999997]
[4.3890000000000002,0.96499999999999997]
[4.3899999999999997,0.96499999999999997]
[4.391,0.96499999999999997]
[4.3920000000000003,0.96499999999999997]
[4.3929999999999998,0.96499999999999997]
[4.3940000000000001,0.96499999999999997]
[4.3949999999999996,0.96499999999999997]
[4.3959999999999999,0.96499999999999997]
[4.3970000000000002,0.96499999999999997]
[4.3979999999999997,0.96499999999999997]
[4.399,0.96499999999999997]
[4.4000000000000004,0.96499999999999997]
[4.4009999999999998,0.96499999999999997]
[4.4020000000000001,0.96499999999999997]
[4.4029999999999996,0.96499999999999997]
[4.4039999999999999,0.96499999999999997]
[4.4050000000000002,0.96499999999999997]
[4.4059999999999997,0.96499999999999997]
[4.407,0.96499999999999997]
[4.4080000000000004,0.96499999999999997]
[4.4089999999999998,0.96499999999999997]
[4.41,0.96499999999999997]
[4.4109999999999996,0.96499999999999997]
[4.4119999999999999,0.96499999999999997]
[4.4130000000000003,0.96499999999999997]
[4.4139999999999997,0.96499999999999997]
[4.415,0.96499999999999997]
[4.4160000000000004,0.96499999999999997]
[4.4169999999999998,0.96499999999999997]
[4.4180000000000001,0.96499999999999997]
[4.4189999999999996,0.96499999999999997]
[4.42,0.96499999999999997]
[4.4210000000000003,0.96499999999999997]
[4.4219999999999997,0.96499999999999997]
[4.423,0.96499999999999997]
[4.4240000000000004,0.96499999999999997]
[4.4249999999999998,0.96499999999999997]
[4.4260000000000002,0.96499999999999997]
[4.4269999999999996,0.96499999999999997]
[4.4279999999999999,0.96499999999999997]
[4.4290000000000003,0.96499999999999997]
[4.43,0.96499999999999997]
[4.431,0.96499999999999997]
[4.4320000000000004,0.96499999999999997]
[4.4329999999999998,0.96499999999999997]
[4.4340000000000002,0.96499999999999997]
[4.4349999999999996,0.96499999999999997]
[4.4359999999999999,0.96499999999999997]
[4.4370000000000003,0.96499999999999997]
[4.4379999999999997,0.96499999999999997]
[4.4390000000000001,0.96499999999999997]
[4.4400000000000004,0.96499999999999997]
[4.4409999999999998,0.96499999999999997]
[4.4420000000000002,0.96499999999999997]
[4.4429999999999996,0.96499999999999997]
[4.444,0.96499999999999997]
[4.4450000000000003,0.96499999999999997]
[4.4459999999999997,0.96499999999999997]
[4.4470000000000001,0.96499999999999997]
[4.4480000000000004,0.96499999999999997]
[4.4489999999999998,0.96499999999999997]
[4.45,0.96499999999999997]
[4.4509999999999996,0.96499999999999997]
[4.452,0.96499999999999997]
[4.4530000000000003,0.96499999999999997]
[4.4539999999999997,0.96499999999999997]
[4.4550000000000001,0.96499999999999997]
[4.4560000000000004,0.96499999999999997]
[4.4569999999999999,0.96499999999999997]
[4.4580000000000002,0.96499999999999997]
[4.4589999999999996,0.96499999999999997]
[4.46,0.96499999999999997]
[4.4610000000000003,0.96499999999999997]
[4.4619999999999997,0.96499999999999997]
[4.4630000000000001,0.96499999999999997]
[4.4640000000000004,0.96499999999999997]
[4.4649999999999999,0.96499999999999997]
[4.4660000000000002,0.96499999999999997]
[4.4669999999999996,0.96499999999999997]
[4.468,0.96499999999999997]
[4.4690000000000003,0.96499999999999997]
[4.47,0.96499999999999997]
[4.4710000000000001,0.96499999999999997]
[4.4720000000000004,0.96499999999999997]
[4.4729999999999999,0.96499999999999997]
[4.4740000000000002,0.96499999999999997]
[4.4749999999999996,0.96499999999999997]
[4.476,0.96499999999999997]
[4.4770000000000003,0.96499999999999997]
[4.4779999999999998,0.96499999999999997]
[4.4790000000000001,0.96499999999999997]
[4.4800000000000004,0.96499999999999997]
[4.4809999999999999,0.96499999999999997]
[4.4820000000000002,0.96499999999999997]
[4.4829999999999997,0.96499999999999997]
[4.484,0.96499999999999997]
[4.4850000000000003,0.96499999999999997]
[4.4859999999999998,0.96499999999999997]
[4.4870000000000001,0.96499999999999997]
[4.4880000000000004,0.96499999999999997]
[4.4889999999999999,0.96499999999999997]
[4.49,0.96499999999999997]
[4.4909999999999997,0.96499999999999997]
[4.492,0.96499999999999997]
[4.4930000000000003,0.96499999999999997]
[4.4939999999999998,0.96499999999999997]
[4.4950000000000001,0.96499999999999997]
[4.4960000000000004,0.96499999999999997]
[4.4969999999999999,0.96499999999999997]
[4.4980000000000002,0.96499999999999997]
[4.4989999999999997,0.96499999999999997]
[4.5,0.96499999999999997]
[4.5010000000000003,0.96499999999999997]
[4.5019999999999998,0.96499999999999997]
[4.5030000000000001,0.96499999999999997]
[4.5039999999999996,0.96499999999999997]
[4.5049999999999999,0.96499999999999997]
[4.5060000000000002,0.96499999999999997]
[4.5069999999999997,0.96499999999999997]
[4.508,0.96499999999999997]
[4.5090000000000003,0.96499999999999997]
[4.51,0.96499999999999997]
[4.5110000000000001,0.96499999999999997]
[4.5119999999999996,0.96499999999999997]
[4.5129999999999999,0.96499999999999997]
[4.5140000000000002,0.96499999999999997]
[4.5149999999999997,0.96499999999999997]
[4.516,0.96499999999999997]
[4.5170000000000003,0.96499999999999997]
[4.5179999999999998,0.96499999999999997]
[4.5190000000000001,0.96499999999999997]
[4.5199999999999996,0.96499999999999997]
[4.5209999999999999,0.96499999999999997]
[4.5220000000000002,0.96499999999999997]
[4.5229999999999997,0.96499999999999997]
[4.524,0.96499999999999997]
[4.5250000000000004,0.96499999999999997]
[4.5259999999999998,0.96499999999999997]
[4.5270000000000001,0.96499999999999997]
[4.5279999999999996,0.96499999999999997]
[4.5289999999999999,0.96499999999999997]
[4.53,0.96499999999999997]
[4.5309999999999997,0.96499999999999997]
[4.532,0.96499999999999997]
[4.5330000000000004,0.96499999999999997]
[4.5339999999999998,0.96499999999999997]
[4.5350000000000001,0.96499999999999997]
[4.5359999999999996,0.96499999999999997]
[4.5369999999999999,0.96499999999999997]
[4.5380000000000003,0.96499999999999997]
[4.5389999999999997,0.96499999999999997]
[4.54,0.96499999999999997]
[4.5410000000000004,0.96499999999999997]
[4.5419999999999998,0.96499999999999997]
[4.5430000000000001,0.96499999999999997]
[4.5439999999999996,0.96499999999999997]
[4.5449999999999999,0.96499999999999997]
[4.5460000000000003,0.96499999999999997]
[4.5469999999999997,0.96499999999999997]
[4.548,0.96499999999999997]
[4.5490000000000004,0.96499999999999997]
[4.55,0.96499999999999997]
[4.5510000000000002,0.96499999999999997]
[4.5519999999999996,0.96499999999999997]
[4.5529999999999999,0.96499999999999997]
[4.5540000000000003,0.96499999999999997]
[4.5549999999999997,0.96499999999999997]
[4.556,0.96499999999999997]
[4.5570000000000004,0.96499999999999997]
[4.5579999999999998,0.96499999999999997]
[4.5590000000000002,0.96499999999999997]
[4.5599999999999996,0.96499999999999997]
[4.5609999999999999,0.96499999999999997]
[4.5620000000000003,0.96499999999999997]
[4.5629999999999997,0.96499999999999997]
[4.5640000000000001,0.96499999999999997]
[4.5650000000000004,0.96499999999999997]
[4.5659999999999998,0.96499999999999997]
[4.5670000000000002,0.96499999999999997]
[4.5679999999999996,0.96499999999999997]
[4.569,0.96499999999999997]
[4.57,0.96499999999999997]
[4.5709999999999997,0.96499999999999997]
[4.5720000000000001,0.96499999999999997]
[4.5730000000000004,0.96499999999999997]
[4.5739999999999998,0.96499999999999997]
[4.5750000000000002,0.96499999999999997]
[4.5759999999999996,0.96499999999999997]
[4.577,0.96499999999999997]
[4.5780000000000003,0.96499999999999997]
[4.5789999999999997,0.96499999999999997]
[4.58,0.96499999999999997]
[4.5810000000000004,0.96499999999999997]
[4.5819999999999999,0.96499999999999997]
[4.5830000000000002,0.96499999999999997]
[4.5839999999999996,0.96499999999999997]
[4.585,0.96499999999999997]
[4.5860000000000003,0.96499999999999997]
[4.5869999999999997,0.96499999999999997]
[4.5880000000000001,0.96499999999999997]
[4.5890000000000004,0.96499999999999997]
[4.59,0.96499999999999997]
[4.5910000000000002,0.96499999999999997]
[4.5919999999999996,0.96499999999999997]
[4.593,0.96499999999999997]
[4.5940000000000003,0.96499999999999997]
[4.5949999999999998,0.96499999999999997]
[4.5960000000000001,0.96499999999999997]
[4.5970000000000004,0.96499999999999997]
[4.5979999999999999,0.96499999999999997]
[4.5990000000000002,0.96499999999999997]
[4.5999999999999996,0.96499999999999997]
[4.601,0.96499999999999997]
[4.6020000000000003,0.96499999999999997]
[4.6029999999999998,0.96499999999999997]
[4.6040000000000001,0.96499999999999997]
[4.6050000000000004,0.96499999999999997]
[4.6059999999999999,0.96499999999999997]
[4.6070000000000002,0.96499999999999997]
[4.6079999999999997,0.96499999999999997]
[4.609,0.96499999999999997]
[4.6100000000000003,0.96499999999999997]
[4.6109999999999998,0.96499999999999997]
[4.6120000000000001,0.96499999999999997]
[4.6130000000000004,0.96499999999999997]
[4.6139999999999999,0.96499999999999997]
[4.6150000000000002,0.96499999999999997]
[4.6159999999999997,0.96499999999999997]
[4.617,0.96499999999999997]
[4.6180000000000003,0.96499999999999997]
[4.6189999999999998,0.96499999999999997]
[4.62,0.96499999999999997]
[4.6210000000000004,0.96499999999999997]
[4.6219999999999999,0.96499999999999997]
[4.6230000000000002,0.96499999999999997]
[4.6239999999999997,0.96499999999999997]
[4.625,0.96499999999999997]
[4.6260000000000003,0.96499999999999997]
[4.6269999999999998,0.96499999999999997]
[4.6280000000000001,0.96499999999999997]
[4.6289999999999996,0.96499999999999997]
[4.63,0.96499999999999997]
[4.6310000000000002,0.96499999999999997]
[4.6319999999999997,0.96499999999999997]
[4.633,0.96499999999999997]
[4.6340000000000003,0.96499999999999997]
[4.6349999999999998,0.96499999999999997]
[4.6360000000000001,0.96499999999999997]
[4.6369999999999996,0.96499999999999997]
[4.6379999999999999,0.96499999999999997]
[4.6390000000000002,0.96499999999999997]
[4.6399999999999997,0.96499999999999997]
[4.641,0.96499999999999997]
[4.6420000000000003,0.96499999999999997]
[4.6429999999999998,0.96499999999999997]
[4.6440000000000001,0.96499999999999997]
[4.6449999999999996,0.96499999999999997]
[4.6459999999999999,0.96499999999999997]
[4.6470000000000002,0.96499999999999997]
[4.6479999999999997,0.96499999999999997]
[4.649,0.96499999999999997]
[4.6500000000000004,0.96499999999999997]
[4.6509999999999998,0.96499999999999997]
[4.6520000000000001,0.96499999999999997]
[4.6529999999999996,0.96499999999999997]
[4.6539999999999999,0.96499999999999997]
[4.6550000000000002,0.96499999999999997]
[4.6559999999999997,0.96499999999999997]
[4.657,0.96499999999999997]
[4.6580000000000004,0.96499999999999997]
[4.6589999999999998,0.96499999999999997]
[4.66,0.96499999999999997]
[4.6609999999999996,0.96499999999999997]
[4.6619999999999999,0.96499999999999997]
[4.6630000000000003,0.96499999999999997]
[4.6639999999999997,0.96499999999999997]
[4.665,0.96499999999999997]
[4.6660000000000004,0.96499999999999997]
[4.6669999999999998,0.96499999999999997]
[4.6680000000000001,0.96499999999999997]
[4.6689999999999996,0.96499999999999997]
[4.67,0.96499999999999997]
[4.6710000000000003,0.96499999999999997]
[4.6719999999999997,0.96499999999999997]
[4.673,0.96499999999999997]
[4.6740000000000004,0.96499999999999997]
[4.6749999999999998,0.96499999999999997]
[4.6760000000000002,0.96499999999999997]
[4.6769999999999996,0.96499999999999997]
[4.6779999999999999,0.96499999999999997]
[4.6790000000000003,0.96499999999999997]
[4.68,0.96499999999999997]
[4.681,0.96499999999999997]
[4.6820000000000004,0.96499999999999997]
[4.6829999999999998,0.96499999999999997]
[4.6840000000000002,0.96499999999999997]
[4.6849999999999996,0.96499999999999997]
[4.6859999999999999,0.96499999999999997]
[4.6870000000000003,0.96499999999999997]
[4.6879999999999997,0.96499999999999997]
[4.6890000000000001,0.96499999999999997]
[4.6900000000000004,0.96499999999999997]
[4.6909999999999998,0.96499999999999997]
[4.6920000000000002,0.96499999999999997]
[4.6929999999999996,0.96499999999999997]
[4.694,0.96499999999999997]
[4.6950000000000003,0.96499999999999997]
[4.6959999999999997,0.96499999999999997]
[4.6970000000000001,0.96499999999999997]
[4.6980000000000004,0.96499999999999997]
[4.6989999999999998,0.96499999999999997]
[4.7,0.96499999999999997]
[4.7009999999999996,0.96499999999999997]
[4.702,0.96499999999999997]
[4.7030000000000003,0.96499999999999997]
[4.7039999999999997,0.96499999999999997]
[4.7050000000000001,0.96499999999999997]
[4.7060000000000004,0.96499999999999997]
[4.7069999999999999,0.96499999999999997]
[4.7080000000000002,0.96499999999999997]
[4.7089999999999996,0.96499999999999997]
[4.71,0.96499999999999997]
[4.7110000000000003,0.96499999999999997]
[4.7119999999999997,0.96499999999999997]
[4.7130000000000001,0.96499999999999997]
[4.7140000000000004,0.96499999999999997]
[4.7149999999999999,0.96499999999999997]
[4.7160000000000002,0.96499999999999997]
[4.7169999999999996,0.96499999999999997]
[4.718,0.96499999999999997]
[4.7190000000000003,0.96499999999999997]
[4.72,0.96499999999999997]
[4.7210000000000001,0.96499999999999997]
[4.7220000000000004,0.96499999999999997]
[4.7229999999999999,0.96499999999999997]
[4.7240000000000002,0.96499999999999997]
[4.7249999999999996,0.96499999999999997]
[4.726,0.96499999999999997]
[4.7270000000000003,0.96499999999999997]
[4.7279999999999998,0.96499999999999997]
[4.7290000000000001,0.96499999999999997]
[4.7300000000000004,0.96499999999999997]
[4.7309999999999999,0.96499999999999997]
[4.7320000000000002,0.96499999999999997]
[4.7329999999999997,0.96499999999999997]
[4.734,0.96499999999999997]
[4.7350000000000003,0.96499999999999997]
[4.7359999999999998,0.96499999999999997]
[4.7370000000000001,0.96499999999999997]
[4.7380000000000004,0.96499999999999997]
[4.7389999999999999,0.96499999999999997]
[4.74,0.96499999999999997]
[4.7409999999999997,0.96499999999999997]
[4.742,0.96499999999999997]
[4.7430000000000003,0.96499999999999997]
[4.7439999999999998,0.96499999999999997]
[4.7450000000000001,0.96499999999999997]
[4.7460000000000004,0.96499999999999997]
[4.7469999999999999,0.96499999999999997]
[4.7480000000000002,0.96499999999999997]
[4.7489999999999997,0.96499999999999997]
[4.75,0.96499999999999997]
[4.7510000000000003,0.96499999999999997]
[4.7519999999999998,0.96499999999999997]
[4.7530000000000001,0.96499999999999997]
[4.7539999999999996,0.96499999999999997]
[4.7549999999999999,0.96499999999999997]
[4.7560000000000002,0.96499999999999997]
[4.7569999999999997,0.96499999999999997]
[4.758,0.96499999999999997]
[4.7590000000000003,0.96499999999999997]
[4.76,0.96499999999999997]
[4.7610000000000001,0.96499999999999997]
[4.7619999999999996,0.96499999999999997]
[4.7629999999999999,0.96499999999999997]
[4.7640000000000002,0.96499999999999997]
[4.7649999999999997,0.96499999999999997]
[4.766,0.96499999999999997]
[4.7670000000000003,0.96499999999999997]
[4.7679999999999998,0.96499999999999997]
[4.7690000000000001,0.96499999999999997]
[4.7699999999999996,0.96499999999999997]
[4.7709999999999999,0.96499999999999997]
[4.7720000000000002,0.96499999999999997]
[4.7729999999999997,0.96499999999999997]
[4.774,0.96499999999999997]
[4.7750000000000004,0.96499999999999997]
[4.7759999999999998,0.96499999999999997]
[4.7770000000000001,0.96499999999999997]
[4.7779999999999996,0.96499999999999997]
[4.7789999999999999,0.96499999999999997]
[4.78,0.96499999999999997]
[4.7809999999999997,0.96499999999999997]
[4.782,0.96499999999999997]
[4.7830000000000004,0.96499999999999997]
[4.7839999999999998,0.96499999999999997]
[4.7850000000000001,0.96499999999999997]
[4.7859999999999996,0.96499999999999997]
[4.7869999999999999,0.96499999999999997]
[4.7880000000000003,0.96499999999999997]
[4.7889999999999997,0.96499999999999997]
[4.79,0.96499999999999997]
[4.7910000000000004,0.96499999999999997]
[4.7919999999999998,0.96499999999999997]
[4.7930000000000001,0.96499999999999997]
[4.7939999999999996,0.96499999999999997]
[4.7949999999999999,0.96499999999999997]
[4.7960000000000003,0.96499999999999997]
[4.7969999999999997,0.96499999999999997]
[4.798,0.96499999999999997]
[4.7990000000000004,0.96499999999999997]
[4.8,0.96499999999999997]
[4.8010000000000002,0.96499999999999997]
[4.8019999999999996,0.96499999999999997]
[4.8029999999999999,0.96499999999999997]
[4.8040000000000003,0.96499999999999997]
[4.8049999999999997,0.96499999999999997]
[4.806,0.96499999999999997]
[4.8070000000000004,0.96499999999999997]
[4.8079999999999998,0.96499999999999997]
[4.8090000000000002,0.96499999999999997]
[4.8099999999999996,0.96499999999999997]
[4.8109999999999999,0.96499999999999997]
[4.8120000000000003,0.96499999999999997]
[4.8129999999999997,0.96499999999999997]
[4.8140000000000001,0.96499999999999997]
[4.8150000000000004,0.96499999999999997]
[4.8159999999999998,0.96499999999999997]
[4.8170000000000002,0.96499999999999997]
[4.8179999999999996,0.96499999999999997]
[4.819,0.96499999999999997]
[4.82,0.96499999999999997]
[4.8209999999999997,0.96499999999999997]
[4.8220000000000001,0.96499999999999997]
[4.8230000000000004,0.96499999999999997]
[4.8239999999999998,0.96499999999999997]
[4.8250000000000002,0.96499999999999997]
[4.8259999999999996,0.96499999999999997]
[4.827,0.96499999999999997]
[4.8280000000000003,0.96499999999999997]
[4.8289999999999997,0.96499999999999997]
[4.83,0.96499999999999997]
[4.8310000000000004,0.96499999999999997]
[4.8319999999999999,0.96499999999999997]
[4.8330000000000002,0.96499999999999997]
[4.8339999999999996,0.96499999999999997]
[4.835,0.96499999999999997]
[4.8360000000000003,0.96499999999999997]
[4.8369999999999997,0.96499999999999997]
[4.8380000000000001,0.96499999999999997]
[4.8390000000000004,0.96499999999999997]
[4.84,0.96499999999999997]
[4.8410000000000002,0.96499999999999997]
[4.8419999999999996,0.96499999999999997]
[4.843,0.96499999999999997]
[4.8440000000000003,0.96499999999999997]
[4.8449999999999998,0.96499999999999997]
[4.8460000000000001,0.96499999999999997]
[4.8470000000000004,0.96499999999999997]
[4.8479999999999999,0.96499999999999997]
[4.8490000000000002,0.96499999999999997]
[4.8499999999999996,0.96499999999999997]
[4.851,0.96499999999999997]
[4.8520000000000003,0.96499999999999997]
[4.8529999999999998,0.96499999999999997]
[4.8540000000000001,0.96499999999999997]
[4.8550000000000004,0.96499999999999997]
[4.8559999999999999,0.96499999999999997]
[4.8570000000000002,0.96499999999999997]
[4.8579999999999997,0.96499999999999997]
[4.859,0.96499999999999997]
[4.8600000000000003,0.96499999999999997]
[4.8609999999999998,0.96499999999999997]
[4.8620000000000001,0.96499999999999997]
[4.8630000000000004,0.96499999999999997]
[4.8639999999999999,0.96499999999999997]
[4.8650000000000002,0.96499999999999997]
[4.8659999999999997,0.96499999999999997]
[4.867,0.96499999999999997]
[4.8680000000000003,0.96499999999999997]
[4.8689999999999998,0.96499999999999997]
[4.87,0.96499999999999997]
[4.8710000000000004,0.96499999999999997]
[4.8719999999999999,0.96499999999999997]
[4.8730000000000002,0.96499999999999997]
[4.8739999999999997,0.96499999999999997]
[4.875,0.96499999999999997]
[4.8760000000000003,0.96499999999999997]
[4.8769999999999998,0.96499999999999997]
[4.8780000000000001,0.96499999999999997]
[4.8789999999999996,0.96499999999999997]
[4.88,0.96499999999999997]
[4.8810000000000002,0.96499999999999997]
[4.8819999999999997,0.96499999999999997]
[4.883,0.96499999999999997]
[4.8840000000000003,0.96499999999999997]
[4.8849999999999998,0.96499999999999997]
[4.8860000000000001,0.96499999999999997]
[4.8869999999999996,0.96499999999999997]
[4.8879999999999999,0.96499999999999997]
[4.8890000000000002,0.96499999999999997]
[4.8899999999999997,0.96499999999999997]
[4.891,0.96499999999999997]
[4.8920000000000003,0.96499999999999997]
[4.8929999999999998,0.96499999999999997]
[4.8940000000000001,0.96499999999999997]
[4.8949999999999996,0.96499999999999997]
[4.8959999999999999,0.96499999999999997]
[4.8970000000000002,0.96499999999999997]
[4.8979999999999997,0.96499999999999997]
[4.899,0.96499999999999997]
[4.9000000000000004,0.96499999999999997]
[4.9009999999999998,0.96499999999999997]
[4.9020000000000001,0.96499999999999997]
[4.9029999999999996,0.96499999999999997]
[4.9039999999999999,0.96499999999999997]
[4.9050000000000002,0.96499999999999997]
[4.9059999999999997,0.96499999999999997]
[4.907,0.96499999999999997]
[4.9080000000000004,0.96499999999999997]
[4.9089999999999998,0.96499999999999997]
[4.91,0.96499999999999997]
[4.9109999999999996,0.96499999999999997]
[4.9119999999999999,0.96499999999999997]
[4.9130000000000003,0.96499999999999997]
[4.9139999999999997,0.96499999999999997]
[4.915,0.96499999999999997]
[4.9160000000000004,0.96499999999999997]
[4.9169999999999998,0.96499999999999997]
[4.9180000000000001,0.96499999999999997]
[4.9189999999999996,0.96499999999999997]
[4.92,0.96499999999999997]
[4.9210000000000003,0.96499999999999997]
[4.9219999999999997,0.96499999999999997]
[4.923,0.96499999999999997]
[4.9240000000000004,0.96499999999999997]
[4.9249999999999998,0.96499999999999997]
[4.9260000000000002,0.96499999999999997]
[4.9269999999999996,0.96499999999999997]
[4.9279999999999999,0.96499999999999997]
[4.9290000000000003,0.96499999999999997]
[4.93,0.96499999999999997]
[4.931,0.96499999999999997]
[4.9320000000000004,0.96499999999999997]
[4.9329999999999998,0.96499999999999997]
[4.9340000000000002,0.96499999999999997]
[4.9349999999999996,0.96499999999999997]
[4.9359999999999999,0.96499999999999997]
[4.9370000000000003,0.96499999999999997]
[4.9379999999999997,0.96499999999999997]
[4.9390000000000001,0.96499999999999997]
[4.9400000000000004,0.96499999999999997]
[4.9409999999999998,0.96499999999999997]
[4.9420000000000002,0.96499999999999997]
[4.9429999999999996,0.96499999999999997]
[4.944,0.96499999999999997]
[4.9450000000000003,0.96499999999999997]
[4.9459999999999997,0.96499999999999997]
[4.9470000000000001,0.96499999999999997]
[4.9480000000000004,0.96499999999999997]
[4.9489999999999998,0.96499999999999997]
[4.95,0.96499999999999997]
[4.9509999999999996,0.96499999999999997]
[4.952,0.96499999999999997]
[4.9530000000000003,0.96499999999999997]
[4.9539999999999997,0.96499999999999997]
[4.9550000000000001,0.96499999999999997]
[4.9560000000000004,0.96499999999999997]
[4.9569999999999999,0.96499999999999997]
[4.9580000000000002,0.96499999999999997]
[4.9589999999999996,0.96499999999999997]
[4.96,0.96499999999999997]
[4.9610000000000003,0.96499999999999997]
[4.9619999999999997,0.96499999999999997]
[4.9630000000000001,0.96499999999999997]
[4.9640000000000004,0.96499999999999997]
[4.9649999999999999,0.96499999999999997]
[4.9660000000000002,0.96499999999999997]
[4.9669999999999996,0.96499999999999997]
[4.968,0.96499999999999997]
[4.9690000000000003,0.96499999999999997]
[4.97,0.96499999999999997]
[4.9710000000000001,0.96499999999999997]
[4.9720000000000004,0.96499999999999997]
[4.9729999999999999,0.96499999999999997]
[4.9740000000000002,0.96499999999999997]
[4.9749999999999996,0.96499999999999997]
[4.976,0.96499999999999997]
[4.9770000000000003,0.96499999999999997]
[4.9779999999999998,0.96499999999999997]
[4.9790000000000001,0.96499999999999997]
[4.9800000000000004,0.96499999999999997]
[4.9809999999999999,0.96499999999999997]
[4.9820000000000002,0.96499999999999997]
[4.9829999999999997,0.96499999999999997]
[4.984,0.96499999999999997]
[4.9850000000000003,0.96499999999999997]
[4.9859999999999998,0.96499999999999997]
[4.9870000000000001,0.96499999999999997]
[4.9880000000000004,0.96499999999999997]
[4.9889999999999999,0.96499999999999997]
[4.99,0.96499999999999997]
[4.9909999999999997,0.96499999999999997]
[4.992,0.96499999999999997]
[4.9930000000000003,0.96499999999999997]
[4.9939999999999998,0.96499999999999997]
[4.9950000000000001,0.96499999999999997]
[4.9960000000000004,0.96499999999999997]
[4.9969999999999999,0.96499999999999997]
[4.9980000000000002,0.96499999999999997]
[4.9989999999999997,0.96499999999999997]
[5,0.96499999999999997]
[5.0010000000000003,0.96499999999999997]
[5.0019999999999998,0.96499999999999997]
[5.0030000000000001,0.96499999999999997]
[5.0039999999999996,0.96499999999999997]
[5.0049999999999999,0.96499999999999997]
[5.0060000000000002,0.96499999999999997]
[5.0069999999999997,0.96499999999999997]
[5.008,0.96499999999999997]
[5.0090000000000003,0.96499999999999997]
[5.01,0.96499999999999997]
[5.0110000000000001,0.96499999999999997]
[5.0119999999999996,0.96499999999999997]
[5.0129999999999999,0.96499999999999997]
[5.0140000000000002,0.96499999999999997]
[5.0149999999999997,0.96499999999999997]
[5.016,0.96499999999999997]
[5.0170000000000003,0.96499999999999997]
[5.0179999999999998,0.96499999999999997]
[5.0190000000000001,0.96499999999999997]
[5.0199999999999996,0.96499999999999997]
[5.0209999999999999,0.96499999999999997]
[5.0220000000000002,0.96499999999999997]
[5.0229999999999997,0.96499999999999997]
[5.024,0.96499999999999997]
[5.0250000000000004,0.96499999999999997]
[5.0259999999999998,0.96499999999999997]
[5.0270000000000001,0.96499999999999997]
[5.0279999999999996,0.96499999999999997]
[5.0289999999999999,0.96499999999999997]
[5.03,0.96499999999999997]
[5.0309999999999997,0.96499999999999997]
[5.032,0.96499999999999997]
[5.0330000000000004,0.96499999999999997]
[5.0339999999999998,0.96499999999999997]
[5.0350000000000001,0.96499999999999997]
[5.0359999999999996,0.96499999999999997]
[5.0369999999999999,0.96499999999999997]
[5.0380000000000003,0.96499999999999997]
[5.0389999999999997,0.96499999999999997]
[5.04,0.96499999999999997]
[5.0410000000000004,0.96499999999999997]
[5.0419999999999998,0.96499999999999997]
[5.0430000000000001,0.96499999999999997]
[5.0439999999999996,0.96499999999999997]
[5.0449999999999999,0.96499999999999997]
[5.0460000000000003,0.96499999999999997]
[5.0469999999999997,0.96499999999999997]
[5.048,0.96499999999999997]
[5.0490000000000004,0.96499999999999997]
[5.05,0.96499999999999997]
[5.0510000000000002,0.96499999999999997]
[5.0519999999999996,0.96499999999999997]
[5.0529999999999999,0.96499999999999997]
[5.0540000000000003,0.96499999999999997]
[5.0549999999999997,0.96499999999999997]
[5.056,0.96499999999999997]
[5.0570000000000004,0.96499999999999997]
[5.0579999999999998,0.96499999999999997]
[5.0590000000000002,0.96499999999999997]
[5.0599999999999996,0.96499999999999997]
[5.0609999999999999,0.96499999999999997]
[5.0620000000000003,0.96499999999999997]
[5.0629999999999997,0.96499999999999997]
[5.0640000000000001,0.96499999999999997]
[5.0650000000000004,0.96499999999999997]
[5.0659999999999998,0.96499999999999997]
[5.0670000000000002,0.96499999999999997]
[5.0679999999999996,0.96499999999999997]
[5.069,0.96499999999999997]
[5.07,0.96499999999999997]
[5.0709999999999997,0.96499999999999997]
[5.0720000000000001,0.96499999999999997]
[5.0730000000000004,0.96499999999999997]
[5.0739999999999998,0.96499999999999997]
[5.0750000000000002,0.96499999999999997]
[5.0759999999999996,0.96499999999999997]
[5.077,0.96499999999999997]
[5.0780000000000003,0.96499999999999997]
[5.0789999999999997,0.96499999999999997]
[5.08,0.96499999999999997]
[5.0810000000000004,0.96499999999999997]
[5.0819999999999999,0.96499999999999997]
[5.0830000000000002,0.96499999999999997]
[5.0839999999999996,0.96499999999999997]
[5.085,0.96499999999999997]
[5.0860000000000003,0.96499999999999997]
[5.0869999999999997,0.96499999999999997]
[5.0880000000000001,0.96499999999999997]
[5.0890000000000004,0.96499999999999997]
[5.09,0.96499999999999997]
[5.0910000000000002,0.96499999999999997]
[5.0919999999999996,0.96499999999999997]
[5.093,0.96499999999999997]
[5.0940000000000003,0.96499999999999997]
[5.0949999999999998,0.96499999999999997]
[5.0960000000000001,0.96499999999999997]
[5.0970000000000004,0.96499999999999997]
[5.0979999999999999,0.96499999999999997]
[5.0990000000000002,0.96499999999999997]
[5.0999999999999996,0.96499999999999997]
[5.101,0.96499999999999997]
[5.1020000000000003,0.96499999999999997]
[5.1029999999999998,0.96499999999999997]
[5.1040000000000001,0.96499999999999997]
[5.1050000000000004,0.96499999999999997]
[5.1059999999999999,0.96499999999999997]
[5.1070000000000002,0.96499999999999997]
[5.1079999999999997,0.96499999999999997]
[5.109,0.96499999999999997]
[5.1100000000000003,0.96499999999999997]
[5.1109999999999998,0.96499999999999997]
[5.1120000000000001,0.96499999999999997]
[5.1130000000000004,0.96499999999999997]
[5.1139999999999999,0.96499999999999997]
[5.1150000000000002,0.96499999999999997]
[5.1159999999999997,0.96499999999999997]
[5.117,0.96499999999999997]
[5.1180000000000003,0.96499999999999997]
[5.1189999999999998,0.96499999999999997]
[5.12,0.96499999999999997]
[5.1210000000000004,0.96499999999999997]
[5.1219999999999999,0.96499999999999997]
[5.1230000000000002,0.96499999999999997]
[5.1239999999999997,0.96499999999999997]
[5.125,0.96499999999999997]
[5.1260000000000003,0.96499999999999997]
[5.1269999999999998,0.96499999999999997]
[5.1280000000000001,0.96499999999999997]
[5.1289999999999996,0.96499999999999997]
[5.13,0.96499999999999997]
[5.1310000000000002,0.96499999999999997]
[5.1319999999999997,0.96499999999999997]
[5.133,0.96499999999999997]
[5.1340000000000003,0.96499999999999997]
[5.1349999999999998,0.96499999999999997]
[5.1360000000000001,0.96499999999999997]
[5.1369999999999996,0.96499999999999997]
[5.1379999999999999,0.96499999999999997]
[5.1390000000000002,0.96499999999999997]
[5.14,0.96499999999999997]
[5.141,0.96499999999999997]
[5.1420000000000003,0.96499999999999997]
[5.1429999999999998,0.96499999999999997]
[5.1440000000000001,0.96499999999999997]
[5.1449999999999996,0.96499999999999997]
[5.1459999999999999,0.96499999999999997]
[5.1470000000000002,0.96499999999999997]
[5.1479999999999997,0.96499999999999997]
[5.149,0.96499999999999997]
[5.15,0.96499999999999997]
[5.1509999999999998,0.96499999999999997]
[5.1520000000000001,0.96499999999999997]
[5.1529999999999996,0.96499999999999997]
[5.1539999999999999,0.96499999999999997]
[5.1550000000000002,0.96499999999999997]
[5.1559999999999997,0.96499999999999997]
[5.157,0.96499999999999997]
[5.1580000000000004,0.96499999999999997]
[5.1589999999999998,0.96499999999999997]
[5.16,0.96499999999999997]
[5.1609999999999996,0.96499999999999997]
[5.1619999999999999,0.96499999999999997]
[5.1630000000000003,0.96499999999999997]
[5.1639999999999997,0.96499999999999997]
[5.165,0.96499999999999997]
[5.1660000000000004,0.96499999999999997]
[5.1669999999999998,0.96499999999999997]
[5.1680000000000001,0.96499999999999997]
[5.1689999999999996,0.96499999999999997]
[5.17,0.96499999999999997]
[5.1710000000000003,0.96499999999999997]
[5.1719999999999997,0.96499999999999997]
[5.173,0.96499999999999997]
[5.1740000000000004,0.96499999999999997]
[5.1749999999999998,0.96499999999999997]
[5.1760000000000002,0.96499999999999997]
[5.1769999999999996,0.96499999999999997]
[5.1779999999999999,0.96499999999999997]
[5.1790000000000003,0.96499999999999997]
[5.18,0.96499999999999997]
[5.181,0.96499999999999997]
[5.1820000000000004,0.96499999999999997]
[5.1829999999999998,0.96499999999999997]
[5.1840000000000002,0.96499999999999997]
[5.1849999999999996,0.96499999999999997]
[5.1859999999999999,0.96499999999999997]
[5.1870000000000003,0.96499999999999997]
[5.1879999999999997,0.96499999999999997]
[5.1890000000000001,0.96499999999999997]
[5.19,0.96499999999999997]
[5.1909999999999998,0.96499999999999997]
[5.1920000000000002,0.96499999999999997]
[5.1929999999999996,0.96499999999999997]
[5.194,0.96499999999999997]
[5.1950000000000003,0.96499999999999997]
[5.1959999999999997,0.96499999999999997]
[5.1970000000000001,0.96499999999999997]
[5.1980000000000004,0.96499999999999997]
[5.1989999999999998,0.96499999999999997]
[5.2,0.96499999999999997]
[5.2009999999999996,0.96499999999999997]
[5.202,0.96499999999999997]
[5.2030000000000003,0.96499999999999997]
[5.2039999999999997,0.96499999999999997]
[5.2050000000000001,0.96499999999999997]
[5.2060000000000004,0.96499999999999997]
[5.2069999999999999,0.96499999999999997]
[5.2080000000000002,0.96499999999999997]
[5.2089999999999996,0.96499999999999997]
[5.21,0.96499999999999997]
[5.2110000000000003,0.96499999999999997]
[5.2119999999999997,0.96499999999999997]
[5.2130000000000001,0.96499999999999997]
[5.2140000000000004,0.96499999999999997]
[5.2149999999999999,0.96499999999999997]
[5.2160000000000002,0.96499999999999997]
[5.2169999999999996,0.96499999999999997]
[5.218,0.96499999999999997]
[5.2190000000000003,0.96499999999999997]
[5.22,0.96499999999999997]
[5.2210000000000001,0.96499999999999997]
[5.2220000000000004,0.96499999999999997]
[5.2229999999999999,0.96499999999999997]
[5.2240000000000002,0.96499999999999997]
[5.2249999999999996,0.96499999999999997]
[5.226,0.96499999999999997]
[5.2270000000000003,0.96499999999999997]
[5.2279999999999998,0.96499999999999997]
[5.2290000000000001,0.96499999999999997]
[5.23,0.96499999999999997]
[5.2309999999999999,0.96499999999999997]
[5.2320000000000002,0.96499999999999997]
[5.2329999999999997,0.96499999999999997]
[5.234,0.96499999999999997]
[5.2350000000000003,0.96499999999999997]
[5.2359999999999998,0.96499999999999997]
[5.2370000000000001,0.96499999999999997]
[5.2380000000000004,0.96499999999999997]
[5.2389999999999999,0.96499999999999997]
[5.24,0.96499999999999997]
[5.2409999999999997,0.96499999999999997]
[5.242,0.96499999999999997]
[5.2430000000000003,0.96499999999999997]
[5.2439999999999998,0.96499999999999997]
[5.2450000000000001,0.96499999999999997]
[5.2460000000000004,0.96499999999999997]
[5.2469999999999999,0.96499999999999997]
[5.2480000000000002,0.96499999999999997]
[5.2489999999999997,0.96499999999999997]
[5.25,0.96499999999999997]
[5.2510000000000003,0.96499999999999997]
[5.2519999999999998,0.96499999999999997]
[5.2530000000000001,0.96499999999999997]
[5.2539999999999996,0.96499999999999997]
[5.2549999999999999,0.96499999999999997]
[5.2560000000000002,0.96499999999999997]
[5.2569999999999997,0.96499999999999997]
[5.258,0.96499999999999997]
[5.2590000000000003,0.96499999999999997]
[5.26,0.96499999999999997]
[5.2610000000000001,0.96499999999999997]
[5.2619999999999996,0.96499999999999997]
[5.2629999999999999,0.96499999999999997]
[5.2640000000000002,0.96499999999999997]
[5.2649999999999997,0.96499999999999997]
[5.266,0.96499999999999997]
[5.2670000000000003,0.96499999999999997]
[5.2679999999999998,0.96499999999999997]
[5.2690000000000001,0.96499999999999997]
[5.27,0.96499999999999997]
[5.2709999999999999,0.96499999999999997]
[5.2720000000000002,0.96499999999999997]
[5.2729999999999997,0.96499999999999997]
[5.274,0.96499999999999997]
[5.2750000000000004,0.96499999999999997]
[5.2759999999999998,0.96499999999999997]
[5.2770000000000001,0.96499999999999997]
[5.2779999999999996,0.96499999999999997]
[5.2789999999999999,0.96499999999999997]
[5.28,0.96499999999999997]
[5.2809999999999997,0.96499999999999997]
[5.282,0.96499999999999997]
[5.2830000000000004,0.96499999999999997]
[5.2839999999999998,0.96499999999999997]
[5.2850000000000001,0.96499999999999997]
[5.2859999999999996,0.96499999999999997]
[5.2869999999999999,0.96499999999999997]
[5.2880000000000003,0.96499999999999997]
[5.2889999999999997,0.96499999999999997]
[5.29,0.96499999999999997]
[5.2910000000000004,0.96499999999999997]
[5.2919999999999998,0.96499999999999997]
[5.2930000000000001,0.96499999999999997]
[5.2939999999999996,0.96499999999999997]
[5.2949999999999999,0.96499999999999997]
[5.2960000000000003,0.96499999999999997]
[5.2969999999999997,0.96499999999999997]
[5.298,0.96499999999999997]
[5.2990000000000004,0.96499999999999997]
[5.3,0.96499999999999997]
[5.3010000000000002,0.96499999999999997]
[5.3019999999999996,0.96499999999999997]
[5.3029999999999999,0.96499999999999997]
[5.3040000000000003,0.96499999999999997]
[5.3049999999999997,0.96499999999999997]
[5.306,0.96499999999999997]
[5.3070000000000004,0.96499999999999997]
[5.3079999999999998,0.96499999999999997]
[5.3090000000000002,0.96499999999999997]
[5.31,0.96499999999999997]
[5.3109999999999999,0.96499999999999997]
[5.3120000000000003,0.96499999999999997]
[5.3129999999999997,0.96499999999999997]
[5.3140000000000001,0.96499999999999997]
[5.3150000000000004,0.96499999999999997]
[5.3159999999999998,0.96499999999999997]
[5.3170000000000002,0.96499999999999997]
[5.3179999999999996,0.96499999999999997]
[5.319,0.96499999999999997]
[5.32,0.96499999999999997]
[5.3209999999999997,0.96499999999999997]
[5.3220000000000001,0.96499999999999997]
[5.3230000000000004,0.96499999999999997]
[5.3239999999999998,0.96499999999999997]
[5.3250000000000002,0.96499999999999997]
[5.3259999999999996,0.96499999999999997]
[5.327,0.96499999999999997]
[5.3280000000000003,0.96499999999999997]
[5.3289999999999997,0.96499999999999997]
[5.33,0.96499999999999997]
[5.3310000000000004,0.96499999999999997]
[5.3319999999999999,0.96499999999999997]
[5.3330000000000002,0.96499999999999997]
[5.3339999999999996,0.96499999999999997]
[5.335,0.96499999999999997]
[5.3360000000000003,0.96499999999999997]
[5.3369999999999997,0.96499999999999997]
[5.3380000000000001,0.96499999999999997]
[5.3390000000000004,0.96499999999999997]
[5.34,0.96499999999999997]
[5.3410000000000002,0.96499999999999997]
[5.3419999999999996,0.96499999999999997]
[5.343,0.96499999999999997]
[5.3440000000000003,0.96499999999999997]
[5.3449999999999998,0.96499999999999997]
[5.3460000000000001,0.96499999999999997]
[5.3470000000000004,0.96499999999999997]
[5.3479999999999999,0.96499999999999997]
[5.3490000000000002,0.96499999999999997]
[5.35,0.96499999999999997]
[5.351,0.96499999999999997]
[5.3520000000000003,0.96499999999999997]
[5.3529999999999998,0.96499999999999997]
[5.3540000000000001,0.96499999999999997]
[5.3550000000000004,0.96499999999999997]
[5.3559999999999999,0.96499999999999997]
[5.3570000000000002,0.96499999999999997]
[5.3579999999999997,0.96499999999999997]
[5.359,0.96499999999999997]
[5.36,0.96499999999999997]
[5.3609999999999998,0.96499999999999997]
[5.3620000000000001,0.96499999999999997]
[5.3630000000000004,0.96499999999999997]
[5.3639999999999999,0.96499999999999997]
[5.3650000000000002,0.96499999999999997]
[5.3659999999999997,0.96499999999999997]
[5.367,0.96499999999999997]
[5.3680000000000003,0.96499999999999997]
[5.3689999999999998,0.96499999999999997]
[5.37,0.96499999999999997]
[5.3710000000000004,0.96499999999999997]
[5.3719999999999999,0.96499999999999997]
[5.3730000000000002,0.96499999999999997]
[5.3739999999999997,0.96499999999999997]
[5.375,0.96499999999999997]
[5.3760000000000003,0.96499999999999997]
[5.3769999999999998,0.96499999999999997]
[5.3780000000000001,0.96499999999999997]
[5.3789999999999996,0.96499999999999997]
[5.38,0.96499999999999997]
[5.3810000000000002,0.96499999999999997]
[5.3819999999999997,0.96499999999999997]
[5.383,0.96499999999999997]
[5.3840000000000003,0.96499999999999997]
[5.3849999999999998,0.96499999999999997]
[5.3860000000000001,0.96499999999999997]
[5.3869999999999996,0.96499999999999997]
[5.3879999999999999,0.96499999999999997]
[5.3890000000000002,0.96499999999999997]
[5.39,0.96499999999999997]
[5.391,0.96499999999999997]
[5.3920000000000003,0.96499999999999997]
[5.3929999999999998,0.96499999999999997]
[5.3940000000000001,0.96499999999999997]
[5.3949999999999996,0.96499999999999997]
[5.3959999999999999,0.96499999999999997]
[5.3970000000000002,0.96499999999999997]
[5.3979999999999997,0.96499999999999997]
[5.399,0.96499999999999997]
[5.4,0.96499999999999997]
[5.4009999999999998,0.96499999999999997]
[5.4020000000000001,0.96499999999999997]
[5.4029999999999996,0.96499999999999997]
[5.4039999999999999,0.96499999999999997]
[5.4050000000000002,0.96499999999999997]
[5.4059999999999997,0.96499999999999997]
[5.407,0.96499999999999997]
[5.4080000000000004,0.96499999999999997]
[5.4089999999999998,0.96499999999999997]
[5.41,0.96499999999999997]
[5.4109999999999996,0.96499999999999997]
[5.4119999999999999,0.96499999999999997]
[5.4130000000000003,0.96499999999999997]
[5.4139999999999997,0.96499999999999997]
[5.415,0.96499999999999997]
[5.4160000000000004,0.96499999999999997]
[5.4169999999999998,0.96499999999999997]
[5.4180000000000001,0.96499999999999997]
[5.4189999999999996,0.96499999999999997]
[5.42,0.96499999999999997]
[5.4210000000000003,0.96499999999999997]
[5.4219999999999997,0.96499999999999997]
[5.423,0.96499999999999997]
[5.4240000000000004,0.96499999999999997]
[5.4249999999999998,0.96499999999999997]
[5.4260000000000002,0.96499999999999997]
[5.4269999999999996,0.96499999999999997]
[5.4279999999999999,0.96499999999999997]
[5.4290000000000003,0.96499999999999997]
[5.43,0.96499999999999997]
[5.431,0.96499999999999997]
[5.4320000000000004,0.96499999999999997]
[5.4329999999999998,0.96499999999999997]
[5.4340000000000002,0.96499999999999997]
[5.4349999999999996,0.96499999999999997]
[5.4359999999999999,0.96499999999999997]
[5.4370000000000003,0.96499999999999997]
[5.4379999999999997,0.96499999999999997]
[5.4390000000000001,0.96499999999999997]
[5.44,0.96499999999999997]
[5.4409999999999998,0.96499999999999997]
[5.4420000000000002,0.96499999999999997]
[5.4429999999999996,0.96499999999999997]
[5.444,0.96499999999999997]
[5.4450000000000003,0.96499999999999997]
[5.4459999999999997,0.96499999999999997]
[5.4470000000000001,0.96499999999999997]
[5.4480000000000004,0.96499999999999997]
[5.4489999999999998,0.96499999999999997]
[5.45,0.96499999999999997]
[5.4509999999999996,0.96499999999999997]
[5.452,0.96499999999999997]
[5.4530000000000003,0.96499999999999997]
[5.4539999999999997,0.96499999999999997]
[5.4550000000000001,0.96499999999999997]
[5.4560000000000004,0.96499999999999997]
[5.4569999999999999,0.96499999999999997]
[5.4580000000000002,0.96499999999999997]
[5.4589999999999996,0.96499999999999997]
[5.46,0.96499999999999997]
[5.4610000000000003,0.96499999999999997]
[5.4619999999999997,0.96499999999999997]
[5.4630000000000001,0.96499999999999997]
[5.4640000000000004,0.96499999999999997]
[5.4649999999999999,0.96499999999999997]
[5.4660000000000002,0.96499999999999997]
[5.4669999999999996,0.96499999999999997]
[5.468,0.96499999999999997]
[5.4690000000000003,0.96499999999999997]
[5.47,0.96499999999999997]
[5.4710000000000001,0.96499999999999997]
[5.4720000000000004,0.96499999999999997]
[5.4729999999999999,0.96499999999999997]
[5.4740000000000002,0.96499999999999997]
[5.4749999999999996,0.96499999999999997]
[5.476,0.96499999999999997]
[5.4770000000000003,0.96499999999999997]
[5.4779999999999998,0.96499999999999997]
[5.4790000000000001,0.96499999999999997]
[5.48,0.96499999999999997]
[5.4809999999999999,0.96499999999999997]
[5.4820000000000002,0.96499999999999997]
[5.4829999999999997,0.96499999999999997]
[5.484,0.96499999999999997]
[5.4850000000000003,0.96499999999999997]
[5.4859999999999998,0.96499999999999997]
[5.4870000000000001,0.96499999999999997]
[5.4880000000000004,0.96499999999999997]
[5.4889999999999999,0.96499999999999997]
[5.49,0.96499999999999997]
[5.4909999999999997,0.96499999999999997]
[5.492,0.96499999999999997]
[5.4930000000000003,0.96499999999999997]
[5.4939999999999998,0.96499999999999997]
[5.4950000000000001,0.96499999999999997]
[5.4960000000000004,0.96499999999999997]
[5.4969999999999999,0.96499999999999997]
[5.4980000000000002,0.96499999999999997]
[5.4989999999999997,0.96499999999999997]
[5.5,0.96499999999999997]
[5.5010000000000003,0.96499999999999997]
[5.5019999999999998,0.96499999999999997]
[5.5030000000000001,0.96499999999999997]
[5.5039999999999996,0.96499999999999997]
[5.5049999999999999,0.96499999999999997]
[5.5060000000000002,0.96499999999999997]
[5.5069999999999997,0.96499999999999997]
[5.508,0.96499999999999997]
[5.5090000000000003,0.96499999999999997]
[5.51,0.96499999999999997]
[5.5110000000000001,0.96499999999999997]
[5.5119999999999996,0.96499999999999997]
[5.5129999999999999,0.96499999999999997]
[5.5140000000000002,0.96499999999999997]
[5.5149999999999997,0.96499999999999997]
[5.516,0.96499999999999997]
[5.5170000000000003,0.96499999999999997]
[5.5179999999999998,0.96499999999999997]
[5.5190000000000001,0.96499999999999997]
[5.52,0.96499999999999997]
[5.5209999999999999,0.96499999999999997]
[5.5220000000000002,0.96499999999999997]
[5.5229999999999997,0.96499999999999997]
[5.524,0.96499999999999997]
[5.5250000000000004,0.96499999999999997]
[5.5259999999999998,0.96499999999999997]
[5.5270000000000001,0.96499999999999997]
[5.5279999999999996,0.96499999999999997]
[5.5289999999999999,0.96499999999999997]
[5.53,0.96499999999999997]
[5.5309999999999997,0.96499999999999997]
[5.532,0.96499999999999997]
[5.5330000000000004,0.96499999999999997]
[5.5339999999999998,0.96499999999999997]
[5.5350000000000001,0.96499999999999997]
[5.5359999999999996,0.96499999999999997]
[5.5369999999999999,0.96499999999999997]
[5.5380000000000003,0.96499999999999997]
[5.5389999999999997,0.96499999999999997]
[5.54,0.96499999999999997]
[5.5410000000000004,0.96499999999999997]
[5.5419999999999998,0.96499999999999997]
[5.5430000000000001,0.96499999999999997]
[5.5439999999999996,0.96499999999999997]
[5.5449999999999999,0.96499999999999997]
[5.5460000000000003,0.96499999999999997]
[5.5469999999999997,0.96499999999999997]
[5.548,0.96499999999999997]
[5.5490000000000004,0.96499999999999997]
[5.55,0.96499999999999997]
[5.5510000000000002,0.96499999999999997]
[5.5519999999999996,0.96499999999999997]
[5.5529999999999999,0.96499999999999997]
[5.5540000000000003,0.96499999999999997]
[5.5549999999999997,0.96499999999999997]
[5.556,0.96499999999999997]
[5.5570000000000004,0.96499999999999997]
[5.5579999999999998,0.96499999999999997]
[5.5590000000000002,0.96499999999999997]
[5.56,0.96499999999999997]
[5.5609999999999999,0.96499999999999997]
[5.5620000000000003,0.96499999999999997]
[5.5629999999999997,0.96499999999999997]
[5.5640000000000001,0.96499999999999997]
[5.5650000000000004,0.96499999999999997]
[5.5659999999999998,0.96499999999999997]
[5.5670000000000002,0.96499999999999997]
[5.5679999999999996,0.96499999999999997]
[5.569,0.96499999999999997]
[5.57,0.96499999999999997]
[5.5709999999999997,0.96499999999999997]
[5.5720000000000001,0.96499999999999997]
[5.5730000000000004,0.96499999999999997]
[5.5739999999999998,0.96499999999999997]
[5.5750000000000002,0.96499999999999997]
[5.5759999999999996,0.96499999999999997]
[5.577,0.96499999999999997]
[5.5780000000000003,0.96499999999999997]
[5.5789999999999997,0.96499999999999997]
[5.58,0.96499999999999997]
[5.5810000000000004,0.96499999999999997]
[5.5819999999999999,0.96499999999999997]
[5.5830000000000002,0.96499999999999997]
[5.5839999999999996,0.96499999999999997]
[5.585,0.96499999999999997]
[5.5860000000000003,0.96499999999999997]
[5.5869999999999997,0.96499999999999997]
[5.5880000000000001,0.96499999999999997]
[5.5890000000000004,0.96499999999999997]
[5.59,0.96499999999999997]
[5.5910000000000002,0.96499999999999997]
[5.5919999999999996,0.96499999999999997]
[5.593,0.96499999999999997]
[5.5940000000000003,0.96499999999999997]
[5.5949999999999998,0.96499999999999997]
[5.5960000000000001,0.96499999999999997]
[5.5970000000000004,0.96499999999999997]
[5.5979999999999999,0.96499999999999997]
[5.5990000000000002,0.96499999999999997]
[5.6,0.96499999999999997]
[5.601,0.96499999999999997]
[5.6020000000000003,0.96499999999999997]
[5.6029999999999998,0.96499999999999997]
[5.6040000000000001,0.96499999999999997]
[5.6050000000000004,0.96499999999999997]
[5.6059999999999999,0.96499999999999997]
[5.6070000000000002,0.96499999999999997]
[5.6079999999999997,0.96499999999999997]
[5.609,0.96499999999999997]
[5.61,0.96499999999999997]
[5.6109999999999998,0.96499999999999997]
[5.6120000000000001,0.96499999999999997]
[5.6130000000000004,0.96499999999999997]
[5.6139999999999999,0.96499999999999997]
[5.6150000000000002,0.96499999999999997]
[5.6159999999999997,0.96499999999999997]
[5.617,0.96499999999999997]
[5.6180000000000003,0.96499999999999997]
[5.6189999999999998,0.96499999999999997]
[5.62,0.96499999999999997]
[5.6210000000000004,0.96499999999999997]
[5.6219999999999999,0.96499999999999997]
[5.6230000000000002,0.96499999999999997]
[5.6239999999999997,0.96499999999999997]
[5.625,0.96499999999999997]
[5.6260000000000003,0.96499999999999997]
[5.6269999999999998,0.96499999999999997]
[5.6280000000000001,0.96499999999999997]
[5.6289999999999996,0.96499999999999997]
[5.63,0.96499999999999997]
[5.6310000000000002,0.96499999999999997]
[5.6319999999999997,0.96499999999999997]
[5.633,0.96499999999999997]
[5.6340000000000003,0.96499999999999997]
[5.6349999999999998,0.96499999999999997]
[5.6360000000000001,0.96499999999999997]
[5.6369999999999996,0.96499999999999997]
[5.6379999999999999,0.96499999999999997]
[5.6390000000000002,0.96499999999999997]
[5.64,0.96499999999999997]
[5.641,0.96499999999999997]
[5.6420000000000003,0.96499999999999997]
[5.6429999999999998,0.96499999999999997]
[5.6440000000000001,0.96499999999999997]
[5.6449999999999996,0.96499999999999997]
[5.6459999999999999,0.96499999999999997]
[5.6470000000000002,0.96499999999999997]
[5.6479999999999997,0.96499999999999997]
[5.649,0.96499999999999997]
[5.65,0.96499999999999997]
[5.6509999999999998,0.96499999999999997]
[5.6520000000000001,0.96499999999999997]
[5.6529999999999996,0.96499999999999997]
[5.6539999999999999,0.96499999999999997]
[5.6550000000000002,0.96499999999999997]
[5.6559999999999997,0.96499999999999997]
[5.657,0.96499999999999997]
[5.6580000000000004,0.96499999999999997]
[5.6589999999999998,0.96499999999999997]
[5.66,0.96499999999999997]
[5.6609999999999996,0.96499999999999997]
[5.6619999999999999,0.96499999999999997]
[5.6630000000000003,0.96499999999999997]
[5.6639999999999997,0.96499999999999997]
[5.665,0.96499999999999997]
[5.6660000000000004,0.96499999999999997]
[5.6669999999999998,0.96499999999999997]
[5.6680000000000001,0.96499999999999997]
[5.6689999999999996,0.96499999999999997]
[5.67,0.96499999999999997]
[5.6710000000000003,0.96499999999999997]
[5.6719999999999997,0.96499999999999997]
[5.673,0.96499999999999997]
[5.6740000000000004,0.96499999999999997]
[5.6749999999999998,0.96499999999999997]
[5.6760000000000002,0.96499999999999997]
[5.6769999999999996,0.96499999999999997]
[5.6779999999999999,0.96499999999999997]
[5.6790000000000003,0.96499999999999997]
[5.68,0.96499999999999997]
[5.681,0.96499999999999997]
[5.6820000000000004,0.96499999999999997]
[5.6829999999999998,0.96499999999999997]
[5.6840000000000002,0.96499999999999997]
[5.6849999999999996,0.96499999999999997]
[5.6859999999999999,0.96499999999999997]
[5.6870000000000003,0.96499999999999997]
[5.6879999999999997,0.96499999999999997]
[5.6890000000000001,0.96499999999999997]
[5.69,0.96499999999999997]
[5.6909999999999998,0.96499999999999997]
[5.6920000000000002,0.96499999999999997]
[5.6929999999999996,0.96499999999999997]
[5.694,0.96499999999999997]
[5.6950000000000003,0.96499999999999997]
[5.6959999999999997,0.96499999999999997]
[5.6970000000000001,0.96499999999999997]
[5.6980000000000004,0.96499999999999997]
[5.6989999999999998,0.96499999999999997]
[5.7,0.96499999999999997]
[5.7009999999999996,0.96499999999999997]
[5.702,0.96499999999999997]
[5.7030000000000003,0.96499999999999997]
[5.7039999999999997,0.96499999999999997]
[5.7050000000000001,0.96499999999999997]
[5.7060000000000004,0.96499999999999997]
[5.7069999999999999,0.96499999999999997]
[5.7080000000000002,0.96499999999999997]
[5.7089999999999996,0.96499999999999997]
[5.71,0.96499999999999997]
[5.7110000000000003,0.96499999999999997]
[5.7119999999999997,0.96499999999999997]
[5.7130000000000001,0.96499999999999997]
[5.7140000000000004,0.96499999999999997]
[5.7149999999999999,0.96499999999999997]
[5.7160000000000002,0.96499999999999997]
[5.7169999999999996,0.96499999999999997]
[5.718,0.96499999999999997]
[5.7190000000000003,0.96499999999999997]
[5.72,0.96499999999999997]
[5.7210000000000001,0.96499999999999997]
[5.7220000000000004,0.96499999999999997]
[5.7229999999999999,0.96499999999999997]
[5.7240000000000002,0.96499999999999997]
[5.7249999999999996,0.96499999999999997]
[5.726,0.96499999999999997]
[5.7270000000000003,0.96499999999999997]
[5.7279999999999998,0.96499999999999997]
[5.7290000000000001,0.96499999999999997]
[5.73,0.96499999999999997]
[5.7309999999999999,0.96499999999999997]
[5.7320000000000002,0.96499999999999997]
[5.7329999999999997,0.96499999999999997]
[5.734,0.96499999999999997]
[5.7350000000000003,0.96499999999999997]
[5.7359999999999998,0.96499999999999997]
[5.7370000000000001,0.96499999999999997]
[5.7380000000000004,0.96499999999999997]
[5.7389999999999999,0.96499999999999997]
[5.74,0.96499999999999997]
[5.7409999999999997,0.96499999999999997]
[5.742,0.96499999999999997]
[5.7430000000000003,0.96499999999999997]
[5.7439999999999998,0.96499999999999997]
[5.7450000000000001,0.96499999999999997]
[5.7460000000000004,0.96499999999999997]
[5.7469999999999999,0.96499999999999997]
[5.7480000000000002,0.96499999999999997]
[5.7489999999999997,0.96499999999999997]
[5.75,0.96499999999999997]
[5.7510000000000003,0.96499999999999997]
[5.7519999999999998,0.96499999999999997]
[5.7530000000000001,0.96499999999999997]
[5.7539999999999996,0.96499999999999997]
[5.7549999999999999,0.96499999999999997]
[5.7560000000000002,0.96499999999999997]
[5.7569999999999997,0.96499999999999997]
[5.758,0.96499999999999997]
[5.7590000000000003,0.96499999999999997]
[5.76,0.96499999999999997]
[5.7610000000000001,0.96499999999999997]
[5.7619999999999996,0.96499999999999997]
[5.7629999999999999,0.96499999999999997]
[5.7640000000000002,0.96499999999999997]
[5.7649999999999997,0.96499999999999997]
[5.766,0.96499999999999997]
[5.7670000000000003,0.96499999999999997]
[5.7679999999999998,0.96499999999999997]
[5.7690000000000001,0.96499999999999997]
[5.77,0.96499999999999997]
[5.7709999999999999,0.96499999999999997]
[5.7720000000000002,0.96499999999999997]
[5.7729999999999997,0.96499999999999997]
[5.774,0.96499999999999997]
[5.7750000000000004,0.96499999999999997]
[5.7759999999999998,0.96499999999999997]
[5.7770000000000001,0.96499999999999997]
[5.7779999999999996,0.96499999999999997]
[5.7789999999999999,0.96499999999999997]
[5.78,0.96499999999999997]
[5.7809999999999997,0.96499999999999997]
[5.782,0.96499999999999997]
[5.7830000000000004,0.96499999999999997]
[5.7839999999999998,0.96499999999999997]
[5.7850000000000001,0.96499999999999997]
[5.7859999999999996,0.96499999999999997]
[5.7869999999999999,0.96499999999999997]
[5.7880000000000003,0.96499999999999997]
[5.7889999999999997,0.96499999999999997]
[5.79,0.96499999999999997]
[5.7910000000000004,0.96499999999999997]
[5.7919999999999998,0.96499999999999997]
[5.7930000000000001,0.96499999999999997]
[5.7939999999999996,0.96499999999999997]
[5.7949999999999999,0.96499999999999997]
[5.7960000000000003,0.96499999999999997]
[5.7969999999999997,0.96499999999999997]
[5.798,0.96499999999999997]
[5.7990000000000004,0.96499999999999997]
[5.8,0.96499999999999997]
[5.8010000000000002,0.96499999999999997]
[5.8019999999999996,0.96499999999999997]
[5.8029999999999999,0.96499999999999997]
[5.8040000000000003,0.96499999999999997]
[5.8049999999999997,0.96499999999999997]
[5.806,0.96499999999999997]
[5.8070000000000004,0.96499999999999997]
[5.8079999999999998,0.96499999999999997]
[5.8090000000000002,0.96499999999999997]
[5.81,0.96499999999999997]
[5.8109999999999999,0.96499999999999997]
[5.8120000000000003,0.96499999999999997]
[5.8129999999999997,0.96499999999999997]
[5.8140000000000001,0.96499999999999997]
[5.8150000000000004,0.96499999999999997]
[5.8159999999999998,0.96499999999999997]
[5.8170000000000002,0.96499999999999997]
[5.8179999999999996,0.96499999999999997]
[5.819,0.96499999999999997]
[5.82,0.96499999999999997]
[5.8209999999999997,0.96499999999999997]
[5.8220000000000001,0.96499999999999997]
[5.8230000000000004,0.96499999999999997]
[5.8239999999999998,0.96499999999999997]
[5.8250000000000002,0.96499999999999997]
[5.8259999999999996,0.96499999999999997]
[5.827,0.96499999999999997]
[5.8280000000000003,0.96499999999999997]
[5.8289999999999997,0.96499999999999997]
[5.83,0.96499999999999997]
[5.8310000000000004,0.96499999999999997]
[5.8319999999999999,0.96499999999999997]
[5.8330000000000002,0.96499999999999997]
[5.8339999999999996,0.96499999999999997]
[5.835,0.96499999999999997]
[5.8360000000000003,0.96499999999999997]
[5.8369999999999997,0.96499999999999997]
[5.8380000000000001,0.96499999999999997]
[5.8390000000000004,0.96499999999999997]
[5.84,0.96499999999999997]
[5.8410000000000002,0.96499999999999997]
[5.8419999999999996,0.96499999999999997]
[5.843,0.96499999999999997]
[5.8440000000000003,0.96499999999999997]
[5.8449999999999998,0.96499999999999997]
[5.8460000000000001,0.96499999999999997]
[5.8470000000000004,0.96499999999999997]
[5.8479999999999999,0.96499999999999997]
[5.8490000000000002,0.96499999999999997]
[5.85,0.96499999999999997]
[5.851,0.96499999999999997]
[5.8520000000000003,0.96499999999999997]
[5.8529999999999998,0.96499999999999997]
[5.8540000000000001,0.96499999999999997]
[5.8550000000000004,0.96499999999999997]
[5.8559999999999999,0.96499999999999997]
[5.8570000000000002,0.96499999999999997]
[5.8579999999999997,0.96499999999999997]
[5.859,0.96499999999999997]
[5.86,0.96499999999999997]
[5.8609999999999998,0.96499999999999997]
[5.8620000000000001,0.96499999999999997]
[5.8630000000000004,0.96499999999999997]
[5.8639999999999999,0.96499999999999997]
[5.8650000000000002,0.96499999999999997]
[5.8659999999999997,0.96499999999999997]
[5.867,0.96499999999999997]
[5.8680000000000003,0.96499999999999997]
[5.8689999999999998,0.96499999999999997]
[5.87,0.96499999999999997]
[5.8710000000000004,0.96499999999999997]
[5.8719999999999999,0.96499999999999997]
[5.8730000000000002,0.96499999999999997]
[5.8739999999999997,0.96499999999999997]
[5.875,0.96499999999999997]
[5.8760000000000003,0.96499999999999997]
[5.8769999999999998,0.96499999999999997]
[5.8780000000000001,0.96499999999999997]
[5.8789999999999996,0.96499999999999997]
[5.88,0.96499999999999997]
[5.8810000000000002,0.96499999999999997]
[5.8819999999999997,0.96499999999999997]
[5.883,0.96499999999999997]
[5.8840000000000003,0.96499999999999997]
[5.8849999999999998,0.96499999999999997]
[5.8860000000000001,0.96499999999999997]
[5.8869999999999996,0.96499999999999997]
[5.8879999999999999,0.96499999999999997]
[5.8890000000000002,0.96499999999999997]
[5.89,0.96499999999999997]
[5.891,0.96499999999999997]
[5.8920000000000003,0.96499999999999997]
[5.8929999999999998,0.96499999999999997]
[5.8940000000000001,0.96499999999999997]
[5.8949999999999996,0.96499999999999997]
[5.8959999999999999,0.96499999999999997]
[5.8970000000000002,0.96499999999999997]
[5.8979999999999997,0.96499999999999997]
[5.899,0.96499999999999997]
[5.9,0.96499999999999997]
[5.9009999999999998,0.96499999999999997]
[5.9020000000000001,0.96499999999999997]
[5.9029999999999996,0.96499999999999997]
[5.9039999999999999,0.96499999999999997]
[5.9050000000000002,0.96499999999999997]
[5.9059999999999997,0.96499999999999997]
[5.907,0.96499999999999997]
[5.9080000000000004,0.96499999999999997]
[5.9089999999999998,0.96499999999999997]
[5.91,0.96499999999999997]
[5.9109999999999996,0.96499999999999997]
[5.9119999999999999,0.96499999999999997]
[5.9130000000000003,0.96499999999999997]
[5.9139999999999997,0.96499999999999997]
[5.915,0.96499999999999997]
[5.9160000000000004,0.96499999999999997]
[5.9169999999999998,0.96499999999999997]
[5.9180000000000001,0.96499999999999997]
[5.9189999999999996,0.96499999999999997]
[5.92,0.96499999999999997]
[5.9210000000000003,0.96499999999999997]
[5.9219999999999997,0.96499999999999997]
[5.923,0.96499999999999997]
[5.9240000000000004,0.96499999999999997]
[5.9249999999999998,0.96499999999999997]
[5.9260000000000002,0.96499999999999997]
[5.9269999999999996,0.96499999999999997]
[5.9279999999999999,0.96499999999999997]
[5.9290000000000003,0.96499999999999997]
[5.93,0.96499999999999997]
[5.931,0.96499999999999997]
[5.9320000000000004,0.96499999999999997]
[5.9329999999999998,0.96499999999999997]
[5.9340000000000002,0.96499999999999997]
[5.9349999999999996,0.96499999999999997]
[5.9359999999999999,0.96499999999999997]
[5.9370000000000003,0.96499999999999997]
[5.9379999999999997,0.96499999999999997]
[5.9390000000000001,0.96499999999999997]
[5.94,0.96499999999999997]
[5.9409999999999998,0.96499999999999997]
[5.9420000000000002,0.96499999999999997]
[5.9429999999999996,0.96499999999999997]
[5.944,0.96499999999999997]
[5.9450000000000003,0.96499999999999997]
[5.9459999999999997,0.96499999999999997]
[5.9470000000000001,0.96499999999999997]
[5.9480000000000004,0.96499999999999997]
[5.9489999999999998,0.96499999999999997]
[5.95,0.96499999999999997]
[5.9509999999999996,0.96499999999999997]
[5.952,0.96499999999999997]
[5.9530000000000003,0.96499999999999997]
[5.9539999999999997,0.96499999999999997]
[5.9550000000000001,0.96499999999999997]
[5.9560000000000004,0.96499999999999997]
[5.9569999999999999,0.96499999999999997]
[5.9580000000000002,0.96499999999999997]
[5.9589999999999996,0.96499999999999997]
[5.96,0.96499999999999997]
[5.9610000000000003,0.96499999999999997]
[5.9619999999999997,0.96499999999999997]
[5.9630000000000001,0.96499999999999997]
[5.9640000000000004,0.96499999999999997]
[5.9649999999999999,0.96499999999999997]
[5.9660000000000002,0.96499999999999997]
[5.9669999999999996,0.96499999999999997]
[5.968,0.96499999999999997]
[5.9690000000000003,0.96499999999999997]
[5.97,0.96499999999999997]
[5.9710000000000001,0.96499999999999997]
[5.9720000000000004,0.96499999999999997]
[5.9729999999999999,0.96499999999999997]
[5.9740000000000002,0.96499999999999997]
[5.9749999999999996,0.96499999999999997]
[5.976,0.96499999999999997]
[5.9770000000000003,0.96499999999999997]
[5.9779999999999998,0.96499999999999997]
[5.9790000000000001,0.96499999999999997]
[5.98,0.96499999999999997]
[5.9809999999999999,0.96499999999999997]
[5.9820000000000002,0.96499999999999997]
[5.9829999999999997,0.96499999999999997]
[5.984,0.96499999999999997]
[5.9850000000000003,0.96499999999999997]
[5.9859999999999998,0.96499999999999997]
[5.9870000000000001,0.96499999999999997]
[5.9880000000000004,0.96499999999999997]
[5.9889999999999999,0.96499999999999997]
[5.99,0.96499999999999997]
[5.9909999999999997,0.96499999999999997]
[5.992,0.96499999999999997]
[5.9930000000000003,0.96499999999999997]
[5.9939999999999998,0.96499999999999997]
[5.9950000000000001,0.96499999999999997]
[5.9960000000000004,0.96499999999999997]
[5.9969999999999999,0.96499999999999997]
[5.9980000000000002,0.96499999999999997]
[5.9989999999999997,0.96499999999999997]
[6,0.96499999999999997]
[6.0010000000000003,0.96499999999999997]
[6.0019999999999998,0.96499999999999997]
[6.0030000000000001,0.96499999999999997]
[6.0039999999999996,0.96499999999999997]
[6.0049999999999999,0.96499999999999997]
[6.0060000000000002,0.96499999999999997]
[6.0069999999999997,0.96499999999999997]
[6.008,0.96499999999999997]
[6.0090000000000003,0.96499999999999997]
[6.01,0.96499999999999997]
[6.0110000000000001,0.96499999999999997]
[6.0119999999999996,0.96499999999999997]
[6.0129999999999999,0.96499999999999997]
[6.0140000000000002,0.96499999999999997]
[6.0149999999999997,0.96499999999999997]
[6.016,0.96499999999999997]
[6.0170000000000003,0.96499999999999997]
[6.0179999999999998,0.96499999999999997]
[6.0190000000000001,0.96499999999999997]
[6.02,0.96499999999999997]
[6.0209999999999999,0.96499999999999997]
[6.0220000000000002,0.96499999999999997]
[6.0229999999999997,0.96499999999999997]
[6.024,0.96499999999999997]
[6.0250000000000004,0.96499999999999997]
[6.0259999999999998,0.96499999999999997]
[6.0270000000000001,0.96499999999999997]
[6.0279999999999996,0.96499999999999997]
[6.0289999999999999,0.96499999999999997]
[6.03,0.96499999999999997]
[6.0309999999999997,0.96499999999999997]
[6.032,0.96499999999999997]
[6.0330000000000004,0.96499999999999997]
[6.0339999999999998,0.96499999999999997]
[6.0350000000000001,0.96499999999999997]
[6.0359999999999996,0.96499999999999997]
[6.0369999999999999,0.96499999999999997]
[6.0380000000000003,0.96499999999999997]
[6.0389999999999997,0.96499999999999997]
[6.04,0.96499999999999997]
[6.0410000000000004,0.96499999999999997]
[6.0419999999999998,0.96499999999999997]
[6.0430000000000001,0.96499999999999997]
[6.0439999999999996,0.96499999999999997]
[6.0449999999999999,0.96499999999999997]
[6.0460000000000003,0.96499999999999997]
[6.0469999999999997,0.96499999999999997]
[6.048,0.96499999999999997]
[6.0490000000000004,0.96499999999999997]
[6.05,0.96499999999999997]
[6.0510000000000002,0.96499999999999997]
[6.0519999999999996,0.96499999999999997]
[6.0529999999999999,0.96499999999999997]
[6.0540000000000003,0.96499999999999997]
[6.0549999999999997,0.96499999999999997]
[6.056,0.96499999999999997]
[6.0570000000000004,0.96499999999999997]
[6.0579999999999998,0.96499999999999997]
[6.0590000000000002,0.96499999999999997]
[6.06,0.96499999999999997]
[6.0609999999999999,0.96499999999999997]
[6.0620000000000003,0.96499999999999997]
[6.0629999999999997,0.96499999999999997]
[6.0640000000000001,0.96499999999999997]
[6.0650000000000004,0.96499999999999997]
[6.0659999999999998,0.96499999999999997]
[6.0670000000000002,0.96499999999999997]
[6.0679999999999996,0.96499999999999997]
[6.069,0.96499999999999997]
[6.07,0.96499999999999997]
[6.0709999999999997,0.96499999999999997]
[6.0720000000000001,0.96499999999999997]
[6.0730000000000004,0.96499999999999997]
[6.0739999999999998,0.96499999999999997]
[6.0750000000000002,0.96499999999999997]
[6.0759999999999996,0.96499999999999997]
[6.077,0.96499999999999997]
[6.0780000000000003,0.96499999999999997]
[6.0789999999999997,0.96499999999999997]
[6.08,0.96499999999999997]
[6.0810000000000004,0.96499999999999997]
[6.0819999999999999,0.96499999999999997]
[6.0830000000000002,0.96499999999999997]
[6.0839999999999996,0.96499999999999997]
[6.085,0.96499999999999997]
[6.0860000000000003,0.96499999999999997]
[6.0869999999999997,0.96499999999999997]
[6.0880000000000001,0.96499999999999997]
[6.0890000000000004,0.96499999999999997]
[6.09,0.96499999999999997]
[6.0910000000000002,0.96499999999999997]
[6.0919999999999996,0.96499999999999997]
[6.093,0.96499999999999997]
[6.0940000000000003,0.96499999999999997]
[6.0949999999999998,0.96499999999999997]
[6.0960000000000001,0.96499999999999997]
[6.0970000000000004,0.96499999999999997]
[6.0979999999999999,0.96499999999999997]
[6.0990000000000002,0.96499999999999997]
[6.1,0.96499999999999997]
[6.101,0.96499999999999997]
[6.1020000000000003,0.96499999999999997]
[6.1029999999999998,0.96499999999999997]
[6.1040000000000001,0.96499999999999997]
[6.1050000000000004,0.96499999999999997]
[6.1059999999999999,0.96499999999999997]
[6.1070000000000002,0.96499999999999997]
[6.1079999999999997,0.96499999999999997]
[6.109,0.96499999999999997]
[6.11,0.96499999999999997]
[6.1109999999999998,0.96499999999999997]
[6.1120000000000001,0.96499999999999997]
[6.1130000000000004,0.96499999999999997]
[6.1139999999999999,0.96499999999999997]
[6.1150000000000002,0.96499999999999997]
[6.1159999999999997,0.96499999999999997]
[6.117,0.96499999999999997]
[6.1180000000000003,0.96499999999999997]
[6.1189999999999998,0.96499999999999997]
[6.12,0.96499999999999997]
[6.1210000000000004,0.96499999999999997]
[6.1219999999999999,0.96499999999999997]
[6.1230000000000002,0.96499999999999997]
[6.1239999999999997,0.96499999999999997]
[6.125,0.96499999999999997]
[6.1260000000000003,0.96499999999999997]
[6.1269999999999998,0.96499999999999997]
[6.1280000000000001,0.96499999999999997]
[6.1289999999999996,0.96499999999999997]
[6.13,0.96499999999999997]
[6.1310000000000002,0.96499999999999997]
[6.1319999999999997,0.96499999999999997]
[6.133,0.96499999999999997]
[6.1340000000000003,0.96499999999999997]
[6.1349999999999998,0.96499999999999997]
[6.1360000000000001,0.96499999999999997]
[6.1369999999999996,0.96499999999999997]
[6.1379999999999999,0.96499999999999997]
[6.1390000000000002,0.96499999999999997]
[6.14,0.96499999999999997]
[6.141,0.96499999999999997]
[6.1420000000000003,0.96499999999999997]
[6.1429999999999998,0.96499999999999997]
[6.1440000000000001,0.96499999999999997]
[6.1449999999999996,0.96499999999999997]
[6.1459999999999999,0.96499999999999997]
[6.1470000000000002,0.96499999999999997]
[6.1479999999999997,0.96499999999999997]
[6.149,0.96499999999999997]
[6.15,0.96499999999999997]
[6.1509999999999998,0.96499999999999997]
[6.1520000000000001,0.96499999999999997]
[6.1529999999999996,0.96499999999999997]
[6.1539999999999999,0.96499999999999997]
[6.1550000000000002,0.96499999999999997]
[6.1559999999999997,0.96499999999999997]
[6.157,0.96499999999999997]
[6.1580000000000004,0.96499999999999997]
[6.1589999999999998,0.96499999999999997]
[6.16,0.96499999999999997]
[6.1609999999999996,0.96499999999999997]
[6.1619999999999999,0.96499999999999997]
[6.1630000000000003,0.96499999999999997]
[6.1639999999999997,0.96499999999999997]
[6.165,0.96499999999999997]
[6.1660000000000004,0.96499999999999997]
[6.1669999999999998,0.96499999999999997]
[6.1680000000000001,0.96499999999999997]
[6.1689999999999996,0.96499999999999997]
[6.17,0.96499999999999997]
[6.1710000000000003,0.96499999999999997]
[6.1719999999999997,0.96499999999999997]
[6.173,0.96499999999999997]
[6.1740000000000004,0.96499999999999997]
[6.1749999999999998,0.96499999999999997]
[6.1760000000000002,0.96499999999999997]
[6.1769999999999996,0.96499999999999997]
[6.1779999999999999,0.96499999999999997]
[6.1790000000000003,0.96499999999999997]
[6.18,0.96499999999999997]
[6.181,0.96499999999999997]
[6.1820000000000004,0.96499999999999997]
[6.1829999999999998,0.96499999999999997]
[6.1840000000000002,0.96499999999999997]
[6.1849999999999996,0.96499999999999997]
[6.1859999999999999,0.96499999999999997]
[6.1870000000000003,0.96499999999999997]
[6.1879999999999997,0.96499999999999997]
[6.1890000000000001,0.96499999999999997]
[6.19,0.96499999999999997]
[6.1909999999999998,0.96499999999999997]
[6.1920000000000002,0.96499999999999997]
[6.1929999999999996,0.96499999999999997]
[6.194,0.96499999999999997]
[6.1950000000000003,0.96499999999999997]
[6.1959999999999997,0.96499999999999997]
[6.1970000000000001,0.96499999999999997]
[6.1980000000000004,0.96499999999999997]
[6.1989999999999998,0.96499999999999997]
[6.2,0.96499999999999997]
[6.2009999999999996,0.96499999999999997]
[6.202,0.96499999999999997]
[6.2030000000000003,0.96499999999999997]
[6.2039999999999997,0.96499999999999997]
[6.2050000000000001,0.96499999999999997]
[6.2060000000000004,0.96499999999999997]
[6.2069999999999999,0.96499999999999997]
[6.2080000000000002,0.96499999999999997]
[6.2089999999999996,0.96499999999999997]
[6.21,0.96499999999999997]
[6.2110000000000003,0.96499999999999997]
[6.2119999999999997,0.96499999999999997]
[6.2130000000000001,0.96499999999999997]
[6.2140000000000004,0.96499999999999997]
[6.2149999999999999,0.96499999999999997]
[6.2160000000000002,0.96499999999999997]
[6.2169999999999996,0.96499999999999997]
[6.218,0.96499999999999997]
[6.2190000000000003,0.96499999999999997]
[6.22,0.96499999999999997]
[6.2210000000000001,0.96499999999999997]
[6.2220000000000004,0.96499999999999997]
[6.2229999999999999,0.96499999999999997]
[6.2240000000000002,0.96499999999999997]
[6.2249999999999996,0.96499999999999997]
[6.226,0.96499999999999997]
[6.2270000000000003,0.96499999999999997]
[6.2279999999999998,0.96499999999999997]
[6.2290000000000001,0.96499999999999997]
[6.23,0.96499999999999997]
[6.2309999999999999,0.96499999999999997]
[6.2320000000000002,0.96499999999999997]
[6.2329999999999997,0.96499999999999997]
[6.234,0.96499999999999997]
[6.2350000000000003,0.96499999999999997]
[6.2359999999999998,0.96499999999999997]
[6.2370000000000001,0.96499999999999997]
[6.2380000000000004,0.96499999999999997]
[6.2389999999999999,0.96499999999999997]
[6.24,0.96499999999999997]
[6.2409999999999997,0.96499999999999997]
[6.242,0.96499999999999997]
[6.2430000000000003,0.96499999999999997]
[6.2439999999999998,0.96499999999999997]
[6.2450000000000001,0.96499999999999997]
[6.2460000000000004,0.96499999999999997]
[6.2469999999999999,0.96499999999999997]
[6.2480000000000002,0.96499999999999997]
[6.2489999999999997,0.96499999999999997]
[6.25,0.96499999999999997]
[6.2510000000000003,0.96499999999999997]
[6.2519999999999998,0.96499999999999997]
[6.2530000000000001,0.96499999999999997]
[6.2539999999999996,0.96499999999999997]
[6.2549999999999999,0.96499999999999997]
[6.2560000000000002,0.96499999999999997]
[6.2569999999999997,0.96499999999999997]
[6.258,0.96499999999999997]
[6.2590000000000003,0.96499999999999997]
[6.26,0.96499999999999997]
[6.2610000000000001,0.96499999999999997]
[6.2619999999999996,0.96499999999999997]
[6.2629999999999999,0.96499999999999997]
[6.2640000000000002,0.96499999999999997]
[6.2649999999999997,0.96499999999999997]
[6.266,0.96499999999999997]
[6.2670000000000003,0.96499999999999997]
[6.2679999999999998,0.96499999999999997]
[6.2690000000000001,0.96499999999999997]
[6.27,0.96499999999999997]
[6.2709999999999999,0.96499999999999997]
[6.2720000000000002,0.96499999999999997]
[6.2729999999999997,0.96499999999999997]
[6.274,0.96499999999999997]
[6.2750000000000004,0.96499999999999997]
[6.2759999999999998,0.96499999999999997]
[6.2770000000000001,0.96499999999999997]
[6.2779999999999996,0.96499999999999997]
[6.2789999999999999,0.96499999999999997]
[6.28,0.96499999999999997]
[6.2809999999999997,0.96499999999999997]
[6.282,0.96499999999999997]
[6.2830000000000004,0.96499999999999997]
[6.2839999999999998,0.96499999999999997]
[6.2850000000000001,0.96499999999999997]
[6.2859999999999996,0.96499999999999997]
[6.2869999999999999,0.96499999999999997]
[6.2880000000000003,0.96499999999999997]
[6.2889999999999997,0.96499999999999997]
[6.29,0.96499999999999997]
[6.2910000000000004,0.96499999999999997]
[6.2919999999999998,0.96499999999999997]
[6.2930000000000001,0.96499999999999997]
[6.2939999999999996,0.96499999999999997]
[6.2949999999999999,0.96499999999999997]
[6.2960000000000003,0.96499999999999997]
[6.2969999999999997,0.96499999999999997]
[6.298,0.96499999999999997]
[6.2990000000000004,0.96499999999999997]
[6.3,0.96499999999999997]
[6.3010000000000002,0.96499999999999997]
[6.3019999999999996,0.96499999999999997]
[6.3029999999999999,0.96499999999999997]
[6.3040000000000003,0.96499999999999997]
[6.3049999999999997,0.96499999999999997]
[6.306,0.96499999999999997]
[6.3070000000000004,0.96499999999999997]
[6.3079999999999998,0.96499999999999997]
[6.3090000000000002,0.96499999999999997]
[6.31,0.96499999999999997]
[6.3109999999999999,0.96499999999999997]
[6.3120000000000003,0.96499999999999997]
[6.3129999999999997,0.96499999999999997]
[6.3140000000000001,0.96499999999999997]
[6.3150000000000004,0.96499999999999997]
[6.3159999999999998,0.96499999999999997]
[6.3170000000000002,0.96499999999999997]
[6.3179999999999996,0.96499999999999997]
[6.319,0.96499999999999997]
[6.32,0.96499999999999997]
[6.3209999999999997,0.96499999999999997]
[6.3220000000000001,0.96499999999999997]
[6.3230000000000004,0.96499999999999997]
[6.3239999999999998,0.96499999999999997]
[6.3250000000000002,0.96499999999999997]
[6.3259999999999996,0.96499999999999997]
[6.327,0.96499999999999997]
[6.3280000000000003,0.96499999999999997]
[6.3289999999999997,0.96499999999999997]
[6.33,0.96499999999999997]
[6.3310000000000004,0.96499999999999997]
[6.3319999999999999,0.96499999999999997]
[6.3330000000000002,0.96499999999999997]
[6.3339999999999996,0.96499999999999997]
[6.335,0.96499999999999997]
[6.3360000000000003,0.96499999999999997]
[6.3369999999999997,0.96499999999999997]
[6.3380000000000001,0.96499999999999997]
[6.3390000000000004,0.96499999999999997]
[6.34,0.96499999999999997]
[6.3410000000000002,0.96499999999999997]
[6.3419999999999996,0.96499999999999997]
[6.343,0.96499999999999997]
[6.3440000000000003,0.96499999999999997]
[6.3449999999999998,0.96499999999999997]
[6.3460000000000001,0.96499999999999997]
[6.3470000000000004,0.96499999999999997]
[6.3479999999999999,0.96499999999999997]
[6.3490000000000002,0.96499999999999997]
[6.35,0.96499999999999997]
[6.351,0.96499999999999997]
[6.3520000000000003,0.96499999999999997]
[6.3529999999999998,0.96499999999999997]
[6.3540000000000001,0.96499999999999997]
[6.3550000000000004,0.96499999999999997]
[6.3559999999999999,0.96499999999999997]
[6.3570000000000002,0.96499999999999997]
[6.3579999999999997,0.96499999999999997]
[6.359,0.96499999999999997]
[6.36,0.96499999999999997]
[6.3609999999999998,0.96499999999999997]
[6.3620000000000001,0.96499999999999997]
[6.3630000000000004,0.96499999999999997]
[6.3639999999999999,0.96499999999999997]
[6.3650000000000002,0.96499999999999997]
[6.3659999999999997,0.96499999999999997]
[6.367,0.96499999999999997]
[6.3680000000000003,0.96499999999999997]
[6.3689999999999998,0.96499999999999997]
[6.37,0.96499999999999997]
[6.3710000000000004,0.96499999999999997]
[6.3719999999999999,0.96499999999999997]
[6.3730000000000002,0.96499999999999997]
[6.3739999999999997,0.96499999999999997]
[6.375,0.96499999999999997]
[6.3760000000000003,0.96499999999999997]
[6.3769999999999998,0.96499999999999997]
[6.3780000000000001,0.96499999999999997]
[6.3789999999999996,0.96499999999999997]
[6.38,0.96499999999999997]
[6.3810000000000002,0.96499999999999997]
[6.3819999999999997,0.96499999999999997]
[6.383,0.96499999999999997]
[6.3840000000000003,0.96499999999999997]
[6.3849999999999998,0.96499999999999997]
[6.3860000000000001,0.96499999999999997]
[6.3869999999999996,0.96499999999999997]
[6.3879999999999999,0.96499999999999997]
[6.3890000000000002,0.96499999999999997]
[6.39,0.96499999999999997]
[6.391,0.96499999999999997]
[6.3920000000000003,0.96499999999999997]
[6.3929999999999998,0.96499999999999997]
[6.3940000000000001,0.96499999999999997]
[6.3949999999999996,0.96499999999999997]
[6.3959999999999999,0.96499999999999997]
[6.3970000000000002,0.96499999999999997]
[6.3979999999999997,0.96499999999999997]
[6.399,0.96499999999999997]
[6.4,0.96499999999999997]
[6.4009999999999998,0.96499999999999997]
[6.4020000000000001,0.96499999999999997]
[6.4029999999999996,0.96499999999999997]
[6.4039999999999999,0.96499999999999997]
[6.4050000000000002,0.96499999999999997]
[6.4059999999999997,0.96499999999999997]
[6.407,0.96499999999999997]
[6.4080000000000004,0.96499999999999997]
[6.4089999999999998,0.96499999999999997]
[6.41,0.96499999999999997]
[6.4109999999999996,0.96499999999999997]
[6.4119999999999999,0.96499999999999997]
[6.4130000000000003,0.96499999999999997]
[6.4139999999999997,0.96499999999999997]
[6.415,0.96499999999999997]
[6.4160000000000004,0.96499999999999997]
[6.4169999999999998,0.96499999999999997]
[6.4180000000000001,0.96499999999999997]
[6.4189999999999996,0.96499999999999997]
[6.42,0.96499999999999997]
[6.4210000000000003,0.96499999999999997]
[6.4219999999999997,0.96499999999999997]
[6.423,0.96499999999999997]
[6.4240000000000004,0.96499999999999997]
[6.4249999999999998,0.96499999999999997]
[6.4260000000000002,0.96499999999999997]
[6.4269999999999996,0.96499999999999997]
[6.4279999999999999,0.96499999999999997]
[6.4290000000000003,0.96499999999999997]
[6.43,0.96499999999999997]
[6.431,0.96499999999999997]
[6.4320000000000004,0.96499999999999997]
[6.4329999999999998,0.96499999999999997]
[6.4340000000000002,0.96499999999999997]
[6.4349999999999996,0.96499999999999997]
[6.4359999999999999,0.96499999999999997]
[6.4370000000000003,0.96499999999999997]
[6.4379999999999997,0.96499999999999997]
[6.4390000000000001,0.96499999999999997]
[6.44,0.96499999999999997]
[6.4409999999999998,0.96499999999999997]
[6.4420000000000002,0.96499999999999997]
[6.4429999999999996,0.96499999999999997]
[6.444,0.96499999999999997]
[6.4450000000000003,0.96499999999999997]
[6.4459999999999997,0.96499999999999997]
[6.4470000000000001,0.96499999999999997]
[6.4480000000000004,0.96499999999999997]
[6.4489999999999998,0.96499999999999997]
[6.45,0.96499999999999997]
[6.4509999999999996,0.96499999999999997]
[6.452,0.96499999999999997]
[6.4530000000000003,0.96499999999999997]
[6.4539999999999997,0.96499999999999997]
[6.4550000000000001,0.96499999999999997]
[6.4560000000000004,0.96499999999999997]
[6.4569999999999999,0.96499999999999997]
[6.4580000000000002,0.96499999999999997]
[6.4589999999999996,0.96499999999999997]
[6.46,0.96499999999999997]
[6.4610000000000003,0.96499999999999997]
[6.4619999999999997,0.96499999999999997]
[6.4630000000000001,0.96499999999999997]
[6.4640000000000004,0.96499999999999997]
[6.4649999999999999,0.96499999999999997]
[6.4660000000000002,0.96499999999999997]
[6.4669999999999996,0.96499999999999997]
[6.468,0.96499999999999997]
[6.4690000000000003,0.96499999999999997]
[6.47,0.96499999999999997]
[6.4710000000000001,0.96499999999999997]
[6.4720000000000004,0.96499999999999997]
[6.4729999999999999,0.96499999999999997]
[6.4740000000000002,0.96499999999999997]
[6.4749999999999996,0.96499999999999997]
[6.476,0.96499999999999997]
[6.4770000000000003,0.96499999999999997]
[6.4779999999999998,0.96499999999999997]
[6.4790000000000001,0.96499999999999997]
[6.48,0.96499999999999997]
[6.4809999999999999,0.96499999999999997]
[6.4820000000000002,0.96499999999999997]
[6.4829999999999997,0.96499999999999997]
[6.484,0.96499999999999997]
[6.4850000000000003,0.96499999999999997]
[6.4859999999999998,0.96499999999999997]
[6.4870000000000001,0.96499999999999997]
[6.4880000000000004,0.96499999999999997]
[6.4889999999999999,0.96499999999999997]
[6.49,0.96499999999999997]
[6.4909999999999997,0.96499999999999997]
[6.492,0.96499999999999997]
[6.4930000000000003,0.96499999999999997]
[6.4939999999999998,0.96499999999999997]
[6.4950000000000001,0.96499999999999997]
[6.4960000000000004,0.96499999999999997]
[6.4969999999999999,0.96499999999999997]
[6.4980000000000002,0.96499999999999997]
[6.4989999999999997,0.96499999999999997]
[6.5,0.96499999999999997]
[6.5010000000000003,0.96499999999999997]
[6.5019999999999998,0.96499999999999997]
[6.5030000000000001,0.96499999999999997]
[6.5039999999999996,0.96499999999999997]
[6.5049999999999999,0.96499999999999997]
[6.5060000000000002,0.96499999999999997]
[6.5069999999999997,0.96499999999999997]
[6.508,0.96499999999999997]
[6.5090000000000003,0.96499999999999997]
[6.51,0.96499999999999997]
[6.5110000000000001,0.96499999999999997]
[6.5119999999999996,0.96499999999999997]
[6.5129999999999999,0.96499999999999997]
[6.5140000000000002,0.96499999999999997]
[6.5149999999999997,0.96499999999999997]
[6.516,0.96499999999999997]
[6.5170000000000003,0.96499999999999997]
[6.5179999999999998,0.96499999999999997]
[6.5190000000000001,0.96499999999999997]
[6.52,0.96499999999999997]
[6.5209999999999999,0.96499999999999997]
[6.5220000000000002,0.96499999999999997]
[6.5229999999999997,0.96499999999999997]
[6.524,0.96499999999999997]
[6.5250000000000004,0.96499999999999997]
[6.5259999999999998,0.96499999999999997]
[6.5270000000000001,0.96499999999999997]
[6.5279999999999996,0.96499999999999997]
[6.5289999999999999,0.96499999999999997]
[6.53,0.96499999999999997]
[6.5309999999999997,0.96499999999999997]
[6.532,0.96499999999999997]
[6.5330000000000004,0.96499999999999997]
[6.5339999999999998,0.96499999999999997]
[6.5350000000000001,0.96499999999999997]
[6.5359999999999996,0.96499999999999997]
[6.5369999999999999,0.96499999999999997]
[6.5380000000000003,0.96499999999999997]
[6.5389999999999997,0.96499999999999997]
[6.54,0.96499999999999997]
[6.5410000000000004,0.96499999999999997]
[6.5419999999999998,0.96499999999999997]
[6.5430000000000001,0.96499999999999997]
[6.5439999999999996,0.96499999999999997]
[6.5449999999999999,0.96499999999999997]
[6.5460000000000003,0.96499999999999997]
[6.5469999999999997,0.96499999999999997]
[6.548,0.96499999999999997]
[6.5490000000000004,0.96499999999999997]
[6.55,0.96499999999999997]
[6.5510000000000002,0.96499999999999997]
[6.5519999999999996,0.96499999999999997]
[6.5529999999999999,0.96499999999999997]
[6.5540000000000003,0.96499999999999997]
[6.5549999999999997,0.96499999999999997]
[6.556,0.96499999999999997]
[6.5570000000000004,0.96499999999999997]
[6.5579999999999998,0.96499999999999997]
[6.5590000000000002,0.96499999999999997]
[6.56,0.96499999999999997]
[6.5609999999999999,0.96499999999999997]
[6.5620000000000003,0.96499999999999997]
[6.5629999999999997,0.96499999999999997]
[6.5640000000000001,0.96499999999999997]
[6.5650000000000004,0.96499999999999997]
[6.5659999999999998,0.96499999999999997]
[6.5670000000000002,0.96499999999999997]
[6.5679999999999996,0.96499999999999997]
[6.569,0.96499999999999997]
[6.57,0.96499999999999997]
[6.5709999999999997,0.96499999999999997]
[6.5720000000000001,0.96499999999999997]
[6.5730000000000004,0.96499999999999997]
[6.5739999999999998,0.96499999999999997]
[6.5750000000000002,0.96499999999999997]
[6.5759999999999996,0.96499999999999997]
[6.577,0.96499999999999997]
[6.5780000000000003,0.96499999999999997]
[6.5789999999999997,0.96499999999999997]
[6.58,0.96499999999999997]
[6.5810000000000004,0.96499999999999997]
[6.5819999999999999,0.96499999999999997]
[6.5830000000000002,0.96499999999999997]
[6.5839999999999996,0.96499999999999997]
[6.585,0.96499999999999997]
[6.5860000000000003,0.96499999999999997]
[6.5869999999999997,0.96499999999999997]
[6.5880000000000001,0.96499999999999997]
[6.5890000000000004,0.96499999999999997]
[6.59,0.96499999999999997]
[6.5910000000000002,0.96499999999999997]
[6.5919999999999996,0.96499999999999997]
[6.593,0.96499999999999997]
[6.5940000000000003,0.96499999999999997]
[6.5949999999999998,0.96499999999999997]
[6.5960000000000001,0.96499999999999997]
[6.5970000000000004,0.96499999999999997]
[6.5979999999999999,0.96499999999999997]
[6.5990000000000002,0.96499999999999997]
[6.6,0.96499999999999997]
[6.601,0.96499999999999997]
[6.6020000000000003,0.96499999999999997]
[6.6029999999999998,0.96499999999999997]
[6.6040000000000001,0.96499999999999997]
[6.6050000000000004,0.96499999999999997]
[6.6059999999999999,0.96499999999999997]
[6.6070000000000002,0.96499999999999997]
[6.6079999999999997,0.96499999999999997]
[6.609,0.96499999999999997]
[6.61,0.96499999999999997]
[6.6109999999999998,0.96499999999999997]
[6.6120000000000001,0.96499999999999997]
[6.6130000000000004,0.96499999999999997]
[6.6139999999999999,0.96499999999999997]
[6.6150000000000002,0.96499999999999997]
[6.6159999999999997,0.96499999999999997]
[6.617,0.96499999999999997]
[6.6180000000000003,0.96499999999999997]
[6.6189999999999998,0.96499999999999997]
[6.62,0.96499999999999997]
[6.6210000000000004,0.96499999999999997]
[6.6219999999999999,0.96499999999999997]
[6.6230000000000002,0.96499999999999997]
[6.6239999999999997,0.96499999999999997]
[6.625,0.96499999999999997]
[6.6260000000000003,0.96499999999999997]
[6.6269999999999998,0.96499999999999997]
[6.6280000000000001,0.96499999999999997]
[6.6289999999999996,0.96499999999999997]
[6.63,0.96499999999999997]
[6.6310000000000002,0.96499999999999997]
[6.6319999999999997,0.96499999999999997]
[6.633,0.96499999999999997]
[6.6340000000000003,0.96499999999999997]
[6.6349999999999998,0.96499999999999997]
[6.6360000000000001,0.96499999999999997]
[6.6369999999999996,0.96499999999999997]
[6.6379999999999999,0.96499999999999997]
[6.6390000000000002,0.96499999999999997]
[6.64,0.96499999999999997]
[6.641,0.96499999999999997]
[6.6420000000000003,0.96499999999999997]
[6.6429999999999998,0.96499999999999997]
[6.6440000000000001,0.96499999999999997]
[6.6449999999999996,0.96499999999999997]
[6.6459999999999999,0.96499999999999997]
[6.6470000000000002,0.96499999999999997]
[6.6479999999999997,0.96499999999999997]
[6.649,0.96499999999999997]
[6.65,0.96499999999999997]
[6.6509999999999998,0.96499999999999997]
[6.6520000000000001,0.96499999999999997]
[6.6529999999999996,0.96499999999999997]
[6.6539999999999999,0.96499999999999997]
[6.6550000000000002,0.96499999999999997]
[6.6559999999999997,0.96499999999999997]
[6.657,0.96499999999999997]
[6.6580000000000004,0.96499999999999997]
[6.6589999999999998,0.96499999999999997]
[6.66,0.96499999999999997]
[6.6609999999999996,0.96499999999999997]
[6.6619999999999999,0.96499999999999997]
[6.6630000000000003,0.96499999999999997]
[6.6639999999999997,0.96499999999999997]
[6.665,0.96499999999999997]
[6.6660000000000004,0.96499999999999997]
[6.6669999999999998,0.96499999999999997]
[6.6680000000000001,0.96499999999999997]
[6.6689999999999996,0.96499999999999997]
[6.67,0.96499999999999997]
[6.6710000000000003,0.96499999999999997]
[6.6719999999999997,0.96499999999999997]
[6.673,0.96499999999999997]
[6.6740000000000004,0.96499999999999997]
[6.6749999999999998,0.96499999999999997]
[6.6760000000000002,0.96499999999999997]
[6.6769999999999996,0.96499999999999997]
[6.6779999999999999,0.96499999999999997]
[6.6790000000000003,0.96499999999999997]
[6.68,0.96499999999999997]
[6.681,0.96499999999999997]
[6.6820000000000004,0.96499999999999997]
[6.6829999999999998,0.96499999999999997]
[6.6840000000000002,0.96499999999999997]
[6.6849999999999996,0.96499999999999997]
[6.6859999999999999,0.96499999999999997]
[6.6870000000000003,0.96499999999999997]
[6.6879999999999997,0.96499999999999997]
[6.6890000000000001,0.96499999999999997]
[6.69,0.96499999999999997]
[6.6909999999999998,0.96499999999999997]
[6.6920000000000002,0.96499999999999997]
[6.6929999999999996,0.96499999999999997]
[6.694,0.96499999999999997]
[6.6950000000000003,0.96499999999999997]
[6.6959999999999997,0.96499999999999997]
[6.6970000000000001,0.96499999999999997]
[6.6980000000000004,0.96499999999999997]
[6.6989999999999998,0.96499999999999997]
[6.7,0.96499999999999997]
[6.7009999999999996,0.96499999999999997]
[6.702,0.96499999999999997]
[6.7030000000000003,0.96499999999999997]
[6.7039999999999997,0.96499999999999997]
[6.7050000000000001,0.96499999999999997]
[6.7060000000000004,0.96499999999999997]
[6.7069999999999999,0.96499999999999997]
[6.7080000000000002,0.96499999999999997]
[6.7089999999999996,0.96499999999999997]
[6.71,0.96499999999999997]
[6.7110000000000003,0.96499999999999997]
[6.7119999999999997,0.96499999999999997]
[6.7130000000000001,0.96499999999999997]
[6.7140000000000004,0.96499999999999997]
[6.7149999999999999,0.96499999999999997]
[6.7160000000000002,0.96499999999999997]
[6.7169999999999996,0.96499999999999997]
[6.718,0.96499999999999997]
[6.7190000000000003,0.96499999999999997]
[6.72,0.96499999999999997]
[6.7210000000000001,0.96499999999999997]
[6.7220000000000004,0.96499999999999997]
[6.7229999999999999,0.96499999999999997]
[6.7240000000000002,0.96499999999999997]
[6.7249999999999996,0.96499999999999997]
[6.726,0.96499999999999997]
[6.7270000000000003,0.96499999999999997]
[6.7279999999999998,0.96499999999999997]
[6.7290000000000001,0.96499999999999997]
[6.73,0.96499999999999997]
[6.7309999999999999,0.96499999999999997]
[6.7320000000000002,0.96499999999999997]
[6.7329999999999997,0.96499999999999997]
[6.734,0.96499999999999997]
[6.7350000000000003,0.96499999999999997]
[6.7359999999999998,0.96499999999999997]
[6.7370000000000001,0.96499999999999997]
[6.7380000000000004,0.96499999999999997]
[6.7389999999999999,0.96499999999999997]
[6.74,0.96499999999999997]
[6.7409999999999997,0.96499999999999997]
[6.742,0.96499999999999997]
[6.7430000000000003,0.96499999999999997]
[6.7439999999999998,0.96499999999999997]
[6.7450000000000001,0.96499999999999997]
[6.7460000000000004,0.96499999999999997]
[6.7469999999999999,0.96499999999999997]
[6.7480000000000002,0.96499999999999997]
[6.7489999999999997,0.96499999999999997]
[6.75,0.96499999999999997]
[6.7510000000000003,0.96499999999999997]
[6.7519999999999998,0.96499999999999997]
[6.7530000000000001,0.96499999999999997]
[6.7539999999999996,0.96499999999999997]
[6.7549999999999999,0.96499999999999997]
[6.7560000000000002,0.96499999999999997]
[6.7569999999999997,0.96499999999999997]
[6.758,0.96499999999999997]
[6.7590000000000003,0.96499999999999997]
[6.76,0.96499999999999997]
[6.7610000000000001,0.96499999999999997]
[6.7619999999999996,0.96499999999999997]
[6.7629999999999999,0.96499999999999997]
[6.7640000000000002,0.96499999999999997]
[6.7649999999999997,0.96499999999999997]
[6.766,0.96499999999999997]
[6.7670000000000003,0.96499999999999997]
[6.7679999999999998,0.96499999999999997]
[6.7690000000000001,0.96499999999999997]
[6.77,0.96499999999999997]
[6.7709999999999999,0.96499999999999997]
[6.7720000000000002,0.96499999999999997]
[6.7729999999999997,0.96499999999999997]
[6.774,0.96499999999999997]
[6.7750000000000004,0.96499999999999997]
[6.7759999999999998,0.96499999999999997]
[6.7770000000000001,0.96499999999999997]
[6.7779999999999996,0.96499999999999997]
[6.7789999999999999,0.96499999999999997]
[6.78,0.96499999999999997]
[6.7809999999999997,0.96499999999999997]
[6.782,0.96499999999999997]
[6.7830000000000004,0.96499999999999997]
[6.7839999999999998,0.96499999999999997]
[6.7850000000000001,0.96499999999999997]
[6.7859999999999996,0.96499999999999997]
[6.7869999999999999,0.96499999999999997]
[6.7880000000000003,0.96499999999999997]
[6.7889999999999997,0.96499999999999997]
[6.79,0.96499999999999997]
[6.7910000000000004,0.96499999999999997]
[6.7919999999999998,0.96499999999999997]
[6.7930000000000001,0.96499999999999997]
[6.7939999999999996,0.96499999999999997]
[6.7949999999999999,0.96499999999999997]
[6.7960000000000003,0.96499999999999997]
[6.7969999999999997,0.96499999999999997]
[6.798,0.96499999999999997]
[6.7990000000000004,0.96499999999999997]
[6.8,0.96499999999999997]
[6.8010000000000002,0.96499999999999997]
[6.8019999999999996,0.96499999999999997]
[6.8029999999999999,0.96499999999999997]
[6.8040000000000003,0.96499999999999997]
[6.8049999999999997,0.96499999999999997]
[6.806,0.96499999999999997]
[6.8070000000000004,0.96499999999999997]
[6.8079999999999998,0.96499999999999997]
[6.8090000000000002,0.96499999999999997]
[6.81,0.96499999999999997]
[6.8109999999999999,0.96499999999999997]
[6.8120000000000003,0.96499999999999997]
[6.8129999999999997,0.96499999999999997]
[6.8140000000000001,0.96499999999999997]
[6.8150000000000004,0.96499999999999997]
[6.8159999999999998,0.96499999999999997]
[6.8170000000000002,0.96499999999999997]
[6.8179999999999996,0.96499999999999997]
[6.819,0.96499999999999997]
[6.82,0.96499999999999997]
[6.8209999999999997,0.96499999999999997]
[6.8220000000000001,0.96499999999999997]
[6.8230000000000004,0.96499999999999997]
[6.8239999999999998,0.96499999999999997]
[6.8250000000000002,0.96499999999999997]
[6.8259999999999996,0.96499999999999997]
[6.827,0.96499999999999997]
[6.8280000000000003,0.96499999999999997]
[6.8289999999999997,0.96499999999999997]
[6.83,0.96499999999999997]
[6.8310000000000004,0.96499999999999997]
[6.8319999999999999,0.96499999999999997]
[6.8330000000000002,0.96499999999999997]
[6.8339999999999996,0.96499999999999997]
[6.835,0.96499999999999997]
[6.8360000000000003,0.96499999999999997]
[6.8369999999999997,0.96499999999999997]
[6.8380000000000001,0.96499999999999997]
[6.8390000000000004,0.96499999999999997]
[6.84,0.96499999999999997]
[6.8410000000000002,0.96499999999999997]
[6.8419999999999996,0.96499999999999997]
[6.843,0.96499999999999997]
[6.8440000000000003,0.96499999999999997]
[6.8449999999999998,0.96499999999999997]
[6.8460000000000001,0.96499999999999997]
[6.8470000000000004,0.96499999999999997]
[6.8479999999999999,0.96499999999999997]
[6.8490000000000002,0.96499999999999997]
[6.85,0.96499999999999997]
[6.851,0.96499999999999997]
[6.8520000000000003,0.96499999999999997]
[6.8529999999999998,0.96499999999999997]
[6.8540000000000001,0.96499999999999997]
[6.8550000000000004,0.96499999999999997]
[6.8559999999999999,0.96499999999999997]
[6.8570000000000002,0.96499999999999997]
[6.8579999999999997,0.96499999999999997]
[6.859,0.96499999999999997]
[6.86,0.96499999999999997]
[6.8609999999999998,0.96499999999999997]
[6.8620000000000001,0.96499999999999997]
[6.8630000000000004,0.96499999999999997]
[6.8639999999999999,0.96499999999999997]
[6.8650000000000002,0.96499999999999997]
[6.8659999999999997,0.96499999999999997]
[6.867,0.96499999999999997]
[6.8680000000000003,0.96499999999999997]
[6.8689999999999998,0.96499999999999997]
[6.87,0.96499999999999997]
[6.8710000000000004,0.96499999999999997]
[6.8719999999999999,0.96499999999999997]
[6.8730000000000002,0.96499999999999997]
[6.8739999999999997,0.96499999999999997]
[6.875,0.96499999999999997]
[6.8760000000000003,0.96499999999999997]
[6.8769999999999998,0.96499999999999997]
[6.8780000000000001,0.96499999999999997]
[6.8789999999999996,0.96499999999999997]
[6.88,0.96499999999999997]
[6.8810000000000002,0.96499999999999997]
[6.8819999999999997,0.96499999999999997]
[6.883,0.96499999999999997]
[6.8840000000000003,0.96499999999999997]
[6.8849999999999998,0.96499999999999997]
[6.8860000000000001,0.96499999999999997]
[6.8869999999999996,0.96499999999999997]
[6.8879999999999999,0.96499999999999997]
[6.8890000000000002,0.96499999999999997]
[6.89,0.96499999999999997]
[6.891,0.96499999999999997]
[6.8920000000000003,0.96499999999999997]
[6.8929999999999998,0.96499999999999997]
[6.8940000000000001,0.96499999999999997]
[6.8949999999999996,0.96499999999999997]
[6.8959999999999999,0.96499999999999997]
[6.8970000000000002,0.96499999999999997]
[6.8979999999999997,0.96499999999999997]
[6.899,0.96499999999999997]
[6.9,0.96499999999999997]
[6.9009999999999998,0.96499999999999997]
[6.9020000000000001,0.96499999999999997]
[6.9029999999999996,0.96499999999999997]
[6.9039999999999999,0.96499999999999997]
[6.9050000000000002,0.96499999999999997]
[6.9059999999999997,0.96499999999999997]
[6.907,0.96499999999999997]
[6.9080000000000004,0.96499999999999997]
[6.9089999999999998,0.96499999999999997]
[6.91,0.96499999999999997]
[6.9109999999999996,0.96499999999999997]
[6.9119999999999999,0.96499999999999997]
[6.9130000000000003,0.96499999999999997]
[6.9139999999999997,0.96499999999999997]
[6.915,0.96499999999999997]
[6.9160000000000004,0.96499999999999997]
[6.9169999999999998,0.96499999999999997]
[6.9180000000000001,0.96499999999999997]
[6.9189999999999996,0.96499999999999997]
[6.92,0.96499999999999997]
[6.9210000000000003,0.96499999999999997]
[6.9219999999999997,0.96499999999999997]
[6.923,0.96499999999999997]
[6.9240000000000004,0.96499999999999997]
[6.9249999999999998,0.96499999999999997]
[6.9260000000000002,0.96499999999999997]
[6.9269999999999996,0.96499999999999997]
[6.9279999999999999,0.96499999999999997]
[6.9290000000000003,0.96499999999999997]
[6.93,0.96499999999999997]
[6.931,0.96499999999999997]
[6.9320000000000004,0.96499999999999997]
[6.9329999999999998,0.96499999999999997]
[6.9340000000000002,0.96499999999999997]
[6.9349999999999996,0.96499999999999997]
[6.9359999999999999,0.96499999999999997]
[6.9370000000000003,0.96499999999999997]
[6.9379999999999997,0.96499999999999997]
[6.9390000000000001,0.96499999999999997]
[6.94,0.96499999999999997]
[6.9409999999999998,0.96499999999999997]
[6.9420000000000002,0.96499999999999997]
[6.9429999999999996,0.96499999999999997]
[6.944,0.96499999999999997]
[6.9450000000000003,0.96499999999999997]
[6.9459999999999997,0.96499999999999997]
[6.9470000000000001,0.96499999999999997]
[6.9480000000000004,0.96499999999999997]
[6.9489999999999998,0.96499999999999997]
[6.95,0.96499999999999997]
[6.9509999999999996,0.96499999999999997]
[6.952,0.96499999999999997]
[6.9530000000000003,0.96499999999999997]
[6.9539999999999997,0.96499999999999997]
[6.9550000000000001,0.96499999999999997]
[6.9560000000000004,0.96499999999999997]
[6.9569999999999999,0.96499999999999997]
[6.9580000000000002,0.96499999999999997]
[6.9589999999999996,0.96499999999999997]
[6.96,0.96499999999999997]
[6.9610000000000003,0.96499999999999997]
[6.9619999999999997,0.96499999999999997]
[6.9630000000000001,0.96499999999999997]
[6.9640000000000004,0.96499999999999997]
[6.9649999999999999,0.96499999999999997]
[6.9660000000000002,0.96499999999999997]
[6.9669999999999996,0.96499999999999997]
[6.968,0.96499999999999997]
[6.9690000000000003,0.96499999999999997]
[6.97,0.96499999999999997]
[6.9710000000000001,0.96499999999999997]
[6.9720000000000004,0.96499999999999997]
[6.9729999999999999,0.96499999999999997]
[6.9740000000000002,0.96499999999999997]
[6.9749999999999996,0.96499999999999997]
[6.976,0.96499999999999997]
[6.9770000000000003,0.96499999999999997]
[6.9779999999999998,0.96499999999999997]
[6.9790000000000001,0.96499999999999997]
[6.98,0.96499999999999997]
[6.9809999999999999,0.96499999999999997]
[6.9820000000000002,0.96499999999999997]
[6.9829999999999997,0.96499999999999997]
[6.984,0.96499999999999997]
[6.9850000000000003,0.96499999999999997]
[6.9859999999999998,0.96499999999999997]
[6.9870000000000001,0.96499999999999997]
[6.9880000000000004,0.96499999999999997]
[6.9889999999999999,0.96499999999999997]
[6.99,0.96499999999999997]
[6.9909999999999997,0.96499999999999997]
[6.992,0.96499999999999997]
[6.9930000000000003,0.96499999999999997]
[6.9939999999999998,0.96499999999999997]
[6.9950000000000001,0.96499999999999997]
[6.9960000000000004,0.96499999999999997]
[6.9969999999999999,0.96499999999999997]
[6.9980000000000002,0.96499999999999997]
[6.9989999999999997,0.96499999999999997]
[7,0.96499999999999997]
[7.0010000000000003,0.96499999999999997]
[7.0019999999999998,0.96499999999999997]
[7.0030000000000001,0.96499999999999997]
[7.0039999999999996,0.96499999999999997]
[7.0049999999999999,0.96499999999999997]
[7.0060000000000002,0.96499999999999997]
[7.0069999999999997,0.96499999999999997]
[7.008,0.96499999999999997]
[7.0090000000000003,0.96499999999999997]
[7.01,0.96499999999999997]
[7.0110000000000001,0.96499999999999997]
[7.0119999999999996,0.96499999999999997]
[7.0129999999999999,0.96499999999999997]
[7.0140000000000002,0.96499999999999997]
[7.0149999999999997,0.96499999999999997]
[7.016,0.96499999999999997]
[7.0170000000000003,0.96499999999999997]
[7.0179999999999998,0.96499999999999997]
[7.0190000000000001,0.96499999999999997]
[7.02,0.96499999999999997]
[7.0209999999999999,0.96499999999999997]
[7.0220000000000002,0.96499999999999997]
[7.0229999999999997,0.96499999999999997]
[7.024,0.96499999999999997]
[7.0250000000000004,0.96499999999999997]
[7.0259999999999998,0.96499999999999997]
[7.0270000000000001,0.96499999999999997]
[7.0279999999999996,0.96499999999999997]
[7.0289999999999999,0.96499999999999997]
[7.03,0.96499999999999997]
[7.0309999999999997,0.96499999999999997]
[7.032,0.96499999999999997]
[7.0330000000000004,0.96499999999999997]
[7.0339999999999998,0.96499999999999997]
[7.0350000000000001,0.96499999999999997]
[7.0359999999999996,0.96499999999999997]
[7.0369999999999999,0.96499999999999997]
[7.0380000000000003,0.96499999999999997]
[7.0389999999999997,0.96499999999999997]
[7.04,0.96499999999999997]
[7.0410000000000004,0.96499999999999997]
[7.0419999999999998,0.96499999999999997]
[7.0430000000000001,0.96499999999999997]
[7.0439999999999996,0.96499999999999997]
[7.0449999999999999,0.96499999999999997]
[7.0460000000000003,0.96499999999999997]
[7.0469999999999997,0.96499999999999997]
[7.048,0.96499999999999997]
[7.0490000000000004,0.96499999999999997]
[7.05,0.96499999999999997]
[7.0510000000000002,0.96499999999999997]
[7.0519999999999996,0.96499999999999997]
[7.0529999999999999,0.96499999999999997]
[7.0540000000000003,0.96499999999999997]
[7.0549999999999997,0.96499999999999997]
[7.056,0.96499999999999997]
[7.0570000000000004,0.96499999999999997]
[7.0579999999999998,0.96499999999999997]
[7.0590000000000002,0.96499999999999997]
[7.06,0.96499999999999997]
[7.0609999999999999,0.96499999999999997]
[7.0620000000000003,0.96499999999999997]
[7.0629999999999997,0.96499999999999997]
[7.0640000000000001,0.96499999999999997]
[7.0650000000000004,0.96499999999999997]
[7.0659999999999998,0.96499999999999997]
[7.0670000000000002,0.96499999999999997]
[7.0679999999999996,0.96499999999999997]
[7.069,0.96499999999999997]
[7.07,0.96499999999999997]
[7.0709999999999997,0.96499999999999997]
[7.0720000000000001,0.96499999999999997]
[7.0730000000000004,0.96499999999999997]
[7.0739999999999998,0.96499999999999997]
[7.0750000000000002,0.96499999999999997]
[7.0759999999999996,0.96499999999999997]
[7.077,0.96499999999999997]
[7.0780000000000003,0.96499999999999997]
[7.0789999999999997,0.96499999999999997]
[7.08,0.96499999999999997]
[7.0810000000000004,0.96499999999999997]
[7.0819999999999999,0.96499999999999997]
[7.0830000000000002,0.96499999999999997]
[7.0839999999999996,0.96499999999999997]
[7.085,0.96499999999999997]
[7.0860000000000003,0.96499999999999997]
[7.0869999999999997,0.96499999999999997]
[7.0880000000000001,0.96499999999999997]
[7.0890000000000004,0.96499999999999997]
[7.09,0.96499999999999997]
[7.0910000000000002,0.96499999999999997]
[7.0919999999999996,0.96499999999999997]
[7.093,0.96499999999999997]
[7.0940000000000003,0.96499999999999997]
[7.0949999999999998,0.96499999999999997]
[7.0960000000000001,0.96499999999999997]
[7.0970000000000004,0.96499999999999997]
[7.0979999999999999,0.96499999999999997]
[7.0990000000000002,0.96499999999999997]
[7.1,0.96499999999999997]
[7.101,0.96499999999999997]
[7.1020000000000003,0.96499999999999997]
[7.1029999999999998,0.96499999999999997]
[7.1040000000000001,0.96499999999999997]
[7.1050000000000004,0.96499999999999997]
[7.1059999999999999,0.96499999999999997]
[7.1070000000000002,0.96499999999999997]
[7.1079999999999997,0.96499999999999997]
[7.109,0.96499999999999997]
[7.11,0.96499999999999997]
[7.1109999999999998,0.96499999999999997]
[7.1120000000000001,0.96499999999999997]
[7.1130000000000004,0.96499999999999997]
[7.1139999999999999,0.96499999999999997]
[7.1150000000000002,0.96499999999999997]
[7.1159999999999997,0.96499999999999997]
[7.117,0.96499999999999997]
[7.1180000000000003,0.96499999999999997]
[7.1189999999999998,0.96499999999999997]
[7.12,0.96499999999999997]
[7.1210000000000004,0.96499999999999997]
[7.1219999999999999,0.96499999999999997]
[7.1230000000000002,0.96499999999999997]
[7.1239999999999997,0.96499999999999997]
[7.125,0.96499999999999997]
[7.1260000000000003,0.96499999999999997]
[7.1269999999999998,0.96499999999999997]
[7.1280000000000001,0.96499999999999997]
[7.1289999999999996,0.96499999999999997]
[7.13,0.96499999999999997]
[7.1310000000000002,0.96499999999999997]
[7.1319999999999997,0.96499999999999997]
[7.133,0.96499999999999997]
[7.1340000000000003,0.96499999999999997]
[7.1349999999999998,0.96499999999999997]
[7.1360000000000001,0.96499999999999997]
[7.1369999999999996,0.96499999999999997]
[7.1379999999999999,0.96499999999999997]
[7.1390000000000002,0.96499999999999997]
[7.14,0.96499999999999997]
[7.141,0.96499999999999997]
[7.1420000000000003,0.96499999999999997]
[7.1429999999999998,0.96499999999999997]
[7.1440000000000001,0.96499999999999997]
[7.1449999999999996,0.96499999999999997]
[7.1459999999999999,0.96499999999999997]
[7.1470000000000002,0.96499999999999997]
[7.1479999999999997,0.96499999999999997]
[7.149,0.96499999999999997]
[7.15,0.96499999999999997]
[7.1509999999999998,0.96499999999999997]
[7.1520000000000001,0.96499999999999997]
[7.1529999999999996,0.96499999999999997]
[7.1539999999999999,0.96499999999999997]
[7.1550000000000002,0.96499999999999997]
[7.1559999999999997,0.96499999999999997]
[7.157,0.96499999999999997]
[7.1580000000000004,0.96499999999999997]
[7.1589999999999998,0.96499999999999997]
[7.16,0.96499999999999997]
[7.1609999999999996,0.96499999999999997]
[7.1619999999999999,0.96499999999999997]
[7.1630000000000003,0.96499999999999997]
[7.1639999999999997,0.96499999999999997]
[7.165,0.96499999999999997]
[7.1660000000000004,0.96499999999999997]
[7.1669999999999998,0.96499999999999997]
[7.1680000000000001,0.96499999999999997]
[7.1689999999999996,0.96499999999999997]
[7.17,0.96499999999999997]
[7.1710000000000003,0.96499999999999997]
[7.1719999999999997,0.96499999999999997]
[7.173,0.96499999999999997]
[7.1740000000000004,0.96499999999999997]
[7.1749999999999998,0.96499999999999997]
[7.1760000000000002,0.96499999999999997]
[7.1769999999999996,0.96499999999999997]
[7.1779999999999999,0.96499999999999997]
[7.1790000000000003,0.96499999999999997]
[7.18,0.96499999999999997]
[7.181,0.96499999999999997]
[7.1820000000000004,0.96499999999999997]
[7.1829999999999998,0.96499999999999997]
[7.1840000000000002,0.96499999999999997]
[7.1849999999999996,0.96499999999999997]
[7.1859999999999999,0.96499999999999997]
[7.1870000000000003,0.96499999999999997]
[7.1879999999999997,0.96499999999999997]
[7.1890000000000001,0.96499999999999997]
[7.19,0.96499999999999997]
[7.1909999999999998,0.96499999999999997]
[7.1920000000000002,0.96499999999999997]
[7.1929999999999996,0.96499999999999997]
[7.194,0.96499999999999997]
[7.1950000000000003,0.96499999999999997]
[7.1959999999999997,0.96499999999999997]
[7.1970000000000001,0.96499999999999997]
[7.1980000000000004,0.96499999999999997]
[7.1989999999999998,0.96499999999999997]
[7.2,0.96499999999999997]
[7.2009999999999996,0.96499999999999997]
[7.202,0.96499999999999997]
[7.2030000000000003,0.96499999999999997]
[7.2039999999999997,0.96499999999999997]
[7.2050000000000001,0.96499999999999997]
[7.2060000000000004,0.96499999999999997]
[7.2069999999999999,0.96499999999999997]
[7.2080000000000002,0.96499999999999997]
[7.2089999999999996,0.96499999999999997]
[7.21,0.96499999999999997]
[7.2110000000000003,0.96499999999999997]
[7.2119999999999997,0.96499999999999997]
[7.2130000000000001,0.96499999999999997]
[7.2140000000000004,0.96499999999999997]
[7.2149999999999999,0.96499999999999997]
[7.2160000000000002,0.96499999999999997]
[7.2169999999999996,0.96499999999999997]
[7.218,0.96499999999999997]
[7.2190000000000003,0.96499999999999997]
[7.22,0.96499999999999997]
[7.2210000000000001,0.96499999999999997]
[7.2220000000000004,0.96499999999999997]
[7.2229999999999999,0.96499999999999997]
[7.2240000000000002,0.96499999999999997]
[7.2249999999999996,0.96499999999999997]
[7.226,0.96499999999999997]
[7.2270000000000003,0.96499999999999997]
[7.2279999999999998,0.96499999999999997]
[7.2290000000000001,0.96499999999999997]
[7.23,0.96499999999999997]
[7.2309999999999999,0.96499999999999997]
[7.2320000000000002,0.96499999999999997]
[7.2329999999999997,0.96499999999999997]
[7.234,0.96499999999999997]
[7.2350000000000003,0.96499999999999997]
[7.2359999999999998,0.96499999999999997]
[7.2370000000000001,0.96499999999999997]
[7.2380000000000004,0.96499999999999997]
[7.2389999999999999,0.96499999999999997]
[7.24,0.96499999999999997]
[7.2409999999999997,0.96499999999999997]
[7.242,0.96499999999999997]
[7.2430000000000003,0.96499999999999997]
[7.2439999999999998,0.96499999999999997]
[7.2450000000000001,0.96499999999999997]
[7.2460000000000004,0.96499999999999997]
[7.2469999999999999,0.96499999999999997]
[7.2480000000000002,0.96499999999999997]
[7.2489999999999997,0.96499999999999997]
[7.25,0.96499999999999997]
[7.2510000000000003,0.96499999999999997]
[7.2519999999999998,0.96499999999999997]
[7.2530000000000001,0.96499999999999997]
[7.2539999999999996,0.96499999999999997]
[7.2549999999999999,0.96499999999999997]
[7.2560000000000002,0.96499999999999997]
[7.2569999999999997,0.96499999999999997]
[7.258,0.96499999999999997]
[7.2590000000000003,0.96499999999999997]
[7.26,0.96499999999999997]
[7.2610000000000001,0.96499999999999997]
[7.2619999999999996,0.96499999999999997]
[7.2629999999999999,0.96499999999999997]
[7.2640000000000002,0.96499999999999997]
[7.2649999999999997,0.96499999999999997]
[7.266,0.96499999999999997]
[7.2670000000000003,0.96499999999999997]
[7.2679999999999998,0.96499999999999997]
[7.2690000000000001,0.96499999999999997]
[7.27,0.96499999999999997]
[7.2709999999999999,0.96499999999999997]
[7.2720000000000002,0.96499999999999997]
[7.2729999999999997,0.96499999999999997]
[7.274,0.96499999999999997]
[7.2750000000000004,0.96499999999999997]
[7.2759999999999998,0.96499999999999997]
[7.2770000000000001,0.96499999999999997]
[7.2779999999999996,0.96499999999999997]
[7.2789999999999999,0.96499999999999997]
[7.28,0.96499999999999997]
[7.2809999999999997,0.96499999999999997]
[7.282,0.96499999999999997]
[7.2830000000000004,0.96499999999999997]
[7.2839999999999998,0.96499999999999997]
[7.2850000000000001,0.96499999999999997]
[7.2859999999999996,0.96499999999999997]
[7.2869999999999999,0.96499999999999997]
[7.2880000000000003,0.96499999999999997]
[7.2889999999999997,0.96499999999999997]
[7.29,0.96499999999999997]
[7.2910000000000004,0.96499999999999997]
[7.2919999999999998,0.96499999999999997]
[7.2930000000000001,0.96499999999999997]
[7.2939999999999996,0.96499999999999997]
[7.2949999999999999,0.96499999999999997]
[7.2960000000000003,0.96499999999999997]
[7.2969999999999997,0.96499999999999997]
[7.298,0.96499999999999997]
[7.2990000000000004,0.96499999999999997]
[7.3,0.96499999999999997]
[7.3010000000000002,0.96499999999999997]
[7.3019999999999996,0.96499999999999997]
[7.3029999999999999,0.96499999999999997]
[7.3040000000000003,0.96499999999999997]
[7.3049999999999997,0.96499999999999997]
[7.306,0.96499999999999997]
[7.3070000000000004,0.96499999999999997]
[7.3079999999999998,0.96499999999999997]
[7.3090000000000002,0.96499999999999997]
[7.31,0.96499999999999997]
[7.3109999999999999,0.96499999999999997]
[7.3120000000000003,0.96499999999999997]
[7.3129999999999997,0.96499999999999997]
[7.3140000000000001,0.96499999999999997]
[7.3150000000000004,0.96499999999999997]
[7.3159999999999998,0.96499999999999997]
[7.3170000000000002,0.96499999999999997]
[7.3179999999999996,0.96499999999999997]
[7.319,0.96499999999999997]
[7.32,0.96499999999999997]
[7.3209999999999997,0.96499999999999997]
[7.3220000000000001,0.96499999999999997]
[7.3230000000000004,0.96499999999999997]
[7.3239999999999998,0.96499999999999997]
[7.3250000000000002,0.96499999999999997]
[7.3259999999999996,0.96499999999999997]
[7.327,0.96499999999999997]
[7.3280000000000003,0.96499999999999997]
[7.3289999999999997,0.96499999999999997]
[7.33,0.96499999999999997]
[7.3310000000000004,0.96499999999999997]
[7.3319999999999999,0.96499999999999997]
[7.3330000000000002,0.96499999999999997]
[7.3339999999999996,0.96499999999999997]
[7.335,0.96499999999999997]
[7.3360000000000003,0.96499999999999997]
[7.3369999999999997,0.96499999999999997]
[7.3380000000000001,0.96499999999999997]
[7.3390000000000004,0.96499999999999997]
[7.34,0.96499999999999997]
[7.3410000000000002,0.96499999999999997]
[7.3419999999999996,0.96499999999999997]
[7.343,0.96499999999999997]
[7.3440000000000003,0.96499999999999997]
[7.3449999999999998,0.96499999999999997]
[7.3460000000000001,0.96499999999999997]
[7.3470000000000004,0.96499999999999997]
[7.3479999999999999,0.96499999999999997]
[7.3490000000000002,0.96499999999999997]
[7.35,0.96499999999999997]
[7.351,0.96499999999999997]
[7.3520000000000003,0.96499999999999997]
[7.3529999999999998,0.96499999999999997]
[7.3540000000000001,0.96499999999999997]
[7.3550000000000004,0.96499999999999997]
[7.3559999999999999,0.96499999999999997]
[7.3570000000000002,0.96499999999999997]
[7.3579999999999997,0.96499999999999997]
[7.359,0.96499999999999997]
[7.36,0.96499999999999997]
[7.3609999999999998,0.96499999999999997]
[7.3620000000000001,0.96499999999999997]
[7.3630000000000004,0.96499999999999997]
[7.3639999999999999,0.96499999999999997]
[7.3650000000000002,0.96499999999999997]
[7.3659999999999997,0.96499999999999997]
[7.367,0.96499999999999997]
[7.3680000000000003,0.96499999999999997]
[7.3689999999999998,0.96499999999999997]
[7.37,0.96499999999999997]
[7.3710000000000004,0.96499999999999997]
[7.3719999999999999,0.96499999999999997]
[7.3730000000000002,0.96499999999999997]
[7.3739999999999997,0.96499999999999997]
[7.375,0.96499999999999997]
[7.3760000000000003,0.96499999999999997]
[7.3769999999999998,0.96499999999999997]
[7.3780000000000001,0.96499999999999997]
[7.3789999999999996,0.96499999999999997]
[7.38,0.96499999999999997]
[7.3810000000000002,0.96499999999999997]
[7.3819999999999997,0.96499999999999997]
[7.383,0.96499999999999997]
[7.3840000000000003,0.96499999999999997]
[7.3849999999999998,0.96499999999999997]
[7.3860000000000001,0.96499999999999997]
[7.3869999999999996,0.96499999999999997]
[7.3879999999999999,0.96499999999999997]
[7.3890000000000002,0.96499999999999997]
[7.39,0.96499999999999997]
[7.391,0.96499999999999997]
[7.3920000000000003,0.96499999999999997]
[7.3929999999999998,0.96499999999999997]
[7.3940000000000001,0.96499999999999997]
[7.3949999999999996,0.96499999999999997]
[7.3959999999999999,0.96499999999999997]
[7.3970000000000002,0.96499999999999997]
[7.3979999999999997,0.96499999999999997]
[7.399,0.96499999999999997]
[7.4,0.96499999999999997]
[7.4009999999999998,0.96499999999999997]
[7.4020000000000001,0.96499999999999997]
[7.4029999999999996,0.96499999999999997]
[7.4039999999999999,0.96499999999999997]
[7.4050000000000002,0.96499999999999997]
[7.4059999999999997,0.96499999999999997]
[7.407,0.96499999999999997]
[7.4080000000000004,0.96499999999999997]
[7.4089999999999998,0.96499999999999997]
[7.41,0.96499999999999997]
[7.4109999999999996,0.96499999999999997]
[7.4119999999999999,0.96499999999999997]
[7.4130000000000003,0.96499999999999997]
[7.4139999999999997,0.96499999999999997]
[7.415,0.96499999999999997]
[7.4160000000000004,0.96499999999999997]
[7.4169999999999998,0.96499999999999997]
[7.4180000000000001,0.96499999999999997]
[7.4189999999999996,0.96499999999999997]
[7.42,0.96499999999999997]
[7.4210000000000003,0.96499999999999997]
[7.4219999999999997,0.96499999999999997]
[7.423,0.96499999999999997]
[7.4240000000000004,0.96499999999999997]
[7.4249999999999998,0.96499999999999997]
[7.4260000000000002,0.96499999999999997]
[7.4269999999999996,0.96499999999999997]
[7.4279999999999999,0.96499999999999997]
[7.4290000000000003,0.96499999999999997]
[7.43,0.96499999999999997]
[7.431,0.96499999999999997]
[7.4320000000000004,0.96499999999999997]
[7.4329999999999998,0.96499999999999997]
[7.4340000000000002,0.96499999999999997]
[7.4349999999999996,0.96499999999999997]
[7.4359999999999999,0.96499999999999997]
[7.4370000000000003,0.96499999999999997]
[7.4379999999999997,0.96499999999999997]
[7.4390000000000001,0.96499999999999997]
[7.44,0.96499999999999997]
[7.4409999999999998,0.96499999999999997]
[7.4420000000000002,0.96499999999999997]
[7.4429999999999996,0.96499999999999997]
[7.444,0.96499999999999997]
[7.4450000000000003,0.96499999999999997]
[7.4459999999999997,0.96499999999999997]
[7.4470000000000001,0.96499999999999997]
[7.4480000000000004,0.96499999999999997]
[7.4489999999999998,0.96499999999999997]
[7.45,0.96499999999999997]
[7.4509999999999996,0.96499999999999997]
[7.452,0.96499999999999997]
[7.4530000000000003,0.96499999999999997]
[7.4539999999999997,0.96499999999999997]
[7.4550000000000001,0.96499999999999997]
[7.4560000000000004,0.96499999999999997]
[7.4569999999999999,0.96499999999999997]
[7.4580000000000002,0.96499999999999997]
[7.4589999999999996,0.96499999999999997]
[7.46,0.96499999999999997]
[7.4610000000000003,0.96499999999999997]
[7.4619999999999997,0.96499999999999997]
[7.4630000000000001,0.96499999999999997]
[7.4640000000000004,0.96499999999999997]
[7.4649999999999999,0.96499999999999997]
[7.4660000000000002,0.96499999999999997]
[7.4669999999999996,0.96499999999999997]
[7.468,0.96499999999999997]
[7.4690000000000003,0.96499999999999997]
[7.47,0.96499999999999997]
[7.4710000000000001,0.96499999999999997]
[7.4720000000000004,0.96499999999999997]
[7.4729999999999999,0.96499999999999997]
[7.4740000000000002,0.96499999999999997]
[7.4749999999999996,0.96499999999999997]
[7.476,0.96499999999999997]
[7.4770000000000003,0.96499999999999997]
[7.4779999999999998,0.96499999999999997]
[7.4790000000000001,0.96499999999999997]
[7.48,0.96499999999999997]
[7.4809999999999999,0.96499999999999997]
[7.4820000000000002,0.96499999999999997]
[7.4829999999999997,0.96499999999999997]
[7.484,0.96499999999999997]
[7.4850000000000003,0.96499999999999997]
[7.4859999999999998,0.96499999999999997]
[7.4870000000000001,0.96499999999999997]
[7.4880000000000004,0.96499999999999997]
[7.4889999999999999,0.96499999999999997]
[7.49,0.96499999999999997]
[7.4909999999999997,0.96499999999999997]
[7.492,0.96499999999999997]
[7.4930000000000003,0.96499999999999997]
[7.4939999999999998,0.96499999999999997]
[7.4950000000000001,0.96499999999999997]
[7.4960000000000004,0.96499999999999997]
[7.4969999999999999,0.96499999999999997]
[7.4980000000000002,0.96499999999999997]
[7.4989999999999997,0.96499999999999997]
[7.5,0.96499999999999997]
[7.5010000000000003,0.96499999999999997]
[7.5019999999999998,0.96499999999999997]
[7.5030000000000001,0.96499999999999997]
[7.5039999999999996,0.96499999999999997]
[7.5049999999999999,0.96499999999999997]
[7.5060000000000002,0.96499999999999997]
[7.5069999999999997,0.96499999999999997]
[7.508,0.96499999999999997]
[7.5090000000000003,0.96499999999999997]
[7.51,0.96499999999999997]
[7.5110000000000001,0.96499999999999997]
[7.5119999999999996,0.96499999999999997]
[7.5129999999999999,0.96499999999999997]
[7.5140000000000002,0.96499999999999997]
[7.5149999999999997,0.96499999999999997]
[7.516,0.96499999999999997]
[7.5170000000000003,0.96499999999999997]
[7.5179999999999998,0.96499999999999997]
[7.5190000000000001,0.96499999999999997]
[7.52,0.96499999999999997]
[7.5209999999999999,0.96499999999999997]
[7.5220000000000002,0.96499999999999997]
[7.5229999999999997,0.96499999999999997]
[7.524,0.96499999999999997]
[7.5250000000000004,0.96499999999999997]
[7.5259999999999998,0.96499999999999997]
[7.5270000000000001,0.96499999999999997]
[7.5279999999999996,0.96499999999999997]
[7.5289999999999999,0.96499999999999997]
[7.53,0.96499999999999997]
[7.5309999999999997,0.96499999999999997]
[7.532,0.96499999999999997]
[7.5330000000000004,0.96499999999999997]
[7.5339999999999998,0.96499999999999997]
[7.5350000000000001,0.96499999999999997]
[7.5359999999999996,0.96499999999999997]
[7.5369999999999999,0.96499999999999997]
[7.5380000000000003,0.96499999999999997]
[7.5389999999999997,0.96499999999999997]
[7.54,0.96499999999999997]
[7.5410000000000004,0.96499999999999997]
[7.5419999999999998,0.96499999999999997]
[7.5430000000000001,0.96499999999999997]
[7.5439999999999996,0.96499999999999997]
[7.5449999999999999,0.96499999999999997]
[7.5460000000000003,0.96499999999999997]
[7.5469999999999997,0.96499999999999997]
[7.548,0.96499999999999997]
[7.5490000000000004,0.96499999999999997]
[7.55,0.96499999999999997]
[7.5510000000000002,0.96499999999999997]
[7.5519999999999996,0.96499999999999997]
[7.5529999999999999,0.96499999999999997]
[7.5540000000000003,0.96499999999999997]
[7.5549999999999997,0.96499999999999997]
[7.556,0.96499999999999997]
[7.5570000000000004,0.96499999999999997]
[7.5579999999999998,0.96499999999999997]
[7.5590000000000002,0.96499999999999997]
[7.56,0.96499999999999997]
[7.5609999999999999,0.96499999999999997]
[7.5620000000000003,0.96499999999999997]
[7.5629999999999997,0.96499999999999997]
[7.5640000000000001,0.96499999999999997]
[7.5650000000000004,0.96499999999999997]
[7.5659999999999998,0.96499999999999997]
[7.5670000000000002,0.96499999999999997]
[7.5679999999999996,0.96499999999999997]
[7.569,0.96499999999999997]
[7.57,0.96499999999999997]
[7.5709999999999997,0.96499999999999997]
[7.5720000000000001,0.96499999999999997]
[7.5730000000000004,0.96499999999999997]
[7.5739999999999998,0.96499999999999997]
[7.5750000000000002,0.96499999999999997]
[7.5759999999999996,0.96499999999999997]
[7.577,0.96499999999999997]
[7.5780000000000003,0.96499999999999997]
[7.5789999999999997,0.96499999999999997]
[7.58,0.96499999999999997]
[7.5810000000000004,0.96499999999999997]
[7.5819999999999999,0.96499999999999997]
[7.5830000000000002,0.96499999999999997]
[7.5839999999999996,0.96499999999999997]
[7.585,0.96499999999999997]
[7.5860000000000003,0.96499999999999997]
[7.5869999999999997,0.96499999999999997]
[7.5880000000000001,0.96499999999999997]
[7.5890000000000004,0.96499999999999997]
[7.59,0.96499999999999997]
[7.5910000000000002,0.96499999999999997]
[7.5919999999999996,0.96499999999999997]
[7.593,0.96499999999999997]
[7.5940000000000003,0.96499999999999997]
[7.5949999999999998,0.96499999999999997]
[7.5960000000000001,0.96499999999999997]
[7.5970000000000004,0.96499999999999997]
[7.5979999999999999,0.96499999999999997]
[7.5990000000000002,0.96499999999999997]
[7.6,0.96499999999999997]
[7.601,0.96499999999999997]
[7.6020000000000003,0.96499999999999997]
[7.6029999999999998,0.96499999999999997]
[7.6040000000000001,0.96499999999999997]
[7.6050000000000004,0.96499999999999997]
[7.6059999999999999,0.96499999999999997]
[7.6070000000000002,0.96499999999999997]
[7.6079999999999997,0.96499999999999997]
[7.609,0.96499999999999997]
[7.61,0.96499999999999997]
[7.6109999999999998,0.96499999999999997]
[7.6120000000000001,0.96499999999999997]
[7.6130000000000004,0.96499999999999997]
[7.6139999999999999,0.96499999999999997]
[7.6150000000000002,0.96499999999999997]
[7.6159999999999997,0.96499999999999997]
[7.617,0.96499999999999997]
[7.6180000000000003,0.96499999999999997]
[7.6189999999999998,0.96499999999999997]
[7.62,0.96499999999999997]
[7.6210000000000004,0.96499999999999997]
[7.6219999999999999,0.96499999999999997]
[7.6230000000000002,0.96499999999999997]
[7.6239999999999997,0.96499999999999997]
[7.625,0.96499999999999997]
[7.6260000000000003,0.96499999999999997]
[7.6269999999999998,0.96499999999999997]
[7.6280000000000001,0.96499999999999997]
[7.6289999999999996,0.96499999999999997]
[7.63,0.96499999999999997]
[7.6310000000000002,0.96499999999999997]
[7.6319999999999997,0.96499999999999997]
[7.633,0.96499999999999997]
[7.6340000000000003,0.96499999999999997]
[7.6349999999999998,0.96499999999999997]
[7.6360000000000001,0.96499999999999997]
[7.6369999999999996,0.96499999999999997]
[7.6379999999999999,0.96499999999999997]
[7.6390000000000002,0.96499999999999997]
[7.64,0.96499999999999997]
[7.641,0.96499999999999997]
[7.6420000000000003,0.96499999999999997]
[7.6429999999999998,0.96499999999999997]
[7.6440000000000001,0.96499999999999997]
[7.6449999999999996,0.96499999999999997]
[7.6459999999999999,0.96499999999999997]
[7.6470000000000002,0.96499999999999997]
[7.6479999999999997,0.96499999999999997]
[7.649,0.96499999999999997]
[7.65,0.96499999999999997]
[7.6509999999999998,0.96499999999999997]
[7.6520000000000001,0.96499999999999997]
[7.6529999999999996,0.96499999999999997]
[7.6539999999999999,0.96499999999999997]
[7.6550000000000002,0.96499999999999997]
[7.6559999999999997,0.96499999999999997]
[7.657,0.96499999999999997]
[7.6580000000000004,0.96499999999999997]
[7.6589999999999998,0.96499999999999997]
[7.66,0.96499999999999997]
[7.6609999999999996,0.96499999999999997]
[7.6619999999999999,0.96499999999999997]
[7.6630000000000003,0.96499999999999997]
[7.6639999999999997,0.96499999999999997]
[7.665,0.96499999999999997]
[7.6660000000000004,0.96499999999999997]
[7.6669999999999998,0.96499999999999997]
[7.6680000000000001,0.96499999999999997]
[7.6689999999999996,0.96499999999999997]
[7.67,0.96499999999999997]
[7.6710000000000003,0.96499999999999997]
[7.6719999999999997,0.96499999999999997]
[7.673,0.96499999999999997]
[7.6740000000000004,0.96499999999999997]
[7.6749999999999998,0.96499999999999997]
[7.6760000000000002,0.96499999999999997]
[7.6769999999999996,0.96499999999999997]
[7.6779999999999999,0.96499999999999997]
[7.6790000000000003,0.96499999999999997]
[7.68,0.96499999999999997]
[7.681,0.96499999999999997]
[7.6820000000000004,0.96499999999999997]
[7.6829999999999998,0.96499999999999997]
[7.6840000000000002,0.96499999999999997]
[7.6849999999999996,0.96499999999999997]
[7.6859999999999999,0.96499999999999997]
[7.6870000000000003,0.96499999999999997]
[7.6879999999999997,0.96499999999999997]
[7.6890000000000001,0.96499999999999997]
[7.69,0.96499999999999997]
[7.6909999999999998,0.96499999999999997]
[7.6920000000000002,0.96499999999999997]
[7.6929999999999996,0.96499999999999997]
[7.694,0.96499999999999997]
[7.6950000000000003,0.96499999999999997]
[7.6959999999999997,0.96499999999999997]
[7.6970000000000001,0.96499999999999997]
[7.6980000000000004,0.96499999999999997]
[7.6989999999999998,0.96499999999999997]
[7.7,0.96499999999999997]
[7.71,0.96499999999999997]
[7.72,0.96499999999999997]
[7.73,0.96499999999999997]
[7.74,0.96499999999999997]
[7.75,0.96499999999999997]
[7.76,0.96499999999999997]
[7.77,0.96499999999999997]
[7.78,0.96499999999999997]
[7.79,0.96499999999999997]
[7.8,0.96499999999999997]
[7.81,0.96499999999999997]
[7.82,0.96499999999999997]
[7.83,0.96499999999999997]
[7.84,0.96499999999999997]
[7.85,0.96499999999999997]
[7.86,0.96499999999999997]
[7.87,0.96499999999999997]
[7.88,0.96499999999999997]
[7.89,0.96499999999999997]
[7.9,0.96499999999999997]
[7.91,0.96499999999999997]
[7.92,0.96499999999999997]
[7.93,0.96499999999999997]
[7.94,0.96499999999999997]
[7.95,0.96499999999999997]
[7.96,0.96499999999999997]
[7.97,0.96499999999999997]
[7.98,0.96499999999999997]
[7.99,0.96499999999999997]
[8,0.96499999999999997]
[8.01,0.96499999999999997]
[8.02,0.96499999999999997]
[8.0299999999999994,0.96499999999999997]
[8.0399999999999991,0.96499999999999997]
[8.0500000000000007,0.96499999999999997]
[8.06,0.96499999999999997]
[8.07,0.96499999999999997]
[8.08,0.96499999999999997]
[8.09,0.96499999999999997]
[8.1,0.96499999999999997]
[8.11,0.96499999999999997]
[8.1199999999999992,0.96499999999999997]
[8.1300000000000008,0.96499999999999997]
[8.14,0.96499999999999997]
[8.15,0.96499999999999997]
[8.16,0.96499999999999997]
[8.17,0.96499999999999997]
[8.18,0.96499999999999997]
[8.19,0.96499999999999997]
[8.1999999999999993,0.96499999999999997]
[8.2100000000000009,0.96499999999999997]
[8.2200000000000006,0.96499999999999997]
[8.23,0.96499999999999997]
[8.24,0.96499999999999997]
[8.25,0.96499999999999997]
[8.26,0.96499999999999997]
[8.27,0.96499999999999997]
[8.2799999999999994,0.96499999999999997]
[8.2899999999999991,0.96499999999999997]
[8.3000000000000007,0.96499999999999997]
[8.31,0.96499999999999997]
[8.32,0.96499999999999997]
[8.33,0.96499999999999997]
[8.34,0.96499999999999997]
[8.35,0.96499999999999997]
[8.36,0.96499999999999997]
[8.3699999999999992,0.96499999999999997]
[8.3800000000000008,0.96499999999999997]
[8.39,0.96499999999999997]
[8.4,0.96499999999999997]
[8.41,0.96499999999999997]
[8.42,0.96499999999999997]
[8.43,0.96499999999999997]
[8.44,0.96499999999999997]
[8.4499999999999993,0.96499999999999997]
[8.4600000000000009,0.96499999999999997]
[8.4700000000000006,0.96499999999999997]
[8.48,0.96499999999999997]
[8.49,0.96499999999999997]
[8.5,0.96499999999999997]
[8.51,0.96499999999999997]
[8.52,0.96499999999999997]
[8.5299999999999994,0.96499999999999997]
[8.5399999999999991,0.96499999999999997]
[8.5500000000000007,0.96499999999999997]
[8.56,0.96499999999999997]
[8.57,0.96499999999999997]
[8.58,0.96499999999999997]
[8.59,0.96499999999999997]
[8.6,0.96499999999999997]
[8.61,0.96499999999999997]
[8.6199999999999992,0.96499999999999997]
[8.6300000000000008,0.96499999999999997]
[8.64,0.96499999999999997]
[8.65,0.96499999999999997]
[8.66,0.96499999999999997]
[8.67,0.96499999999999997]
[8.68,0.96499999999999997]
[8.69,0.96499999999999997]
[8.6999999999999993,0.96499999999999997]
[8.7100000000000009,0.96499999999999997]
[8.7200000000000006,0.96499999999999997]
[8.73,0.96499999999999997]
[8.74,0.96499999999999997]
[8.75,0.96499999999999997]
[8.76,0.96499999999999997]
[8.77,0.96499999999999997]
[8.7799999999999994,0.96499999999999997]
[8.7899999999999991,0.96499999999999997]
[8.8000000000000007,0.96499999999999997]
[8.81,0.96499999999999997]
[8.82,0.96499999999999997]
[8.83,0.96499999999999997]
[8.84,0.96499999999999997]
[8.85,0.96499999999999997]
[8.86,0.96499999999999997]
[8.8699999999999992,0.96499999999999997]
[8.8800000000000008,0.96499999999999997]
[8.89,0.96499999999999997]
[8.9,0.96499999999999997]
[8.91,0.96499999999999997]
[8.92,0.96499999999999997]
[8.93,0.96499999999999997]
[8.94,0.96499999999999997]
[8.9499999999999993,0.96499999999999997]
[8.9600000000000009,0.96499999999999997]
[8.9700000000000006,0.96499999999999997]
[8.98,0.96499999999999997]
[8.99,0.96499999999999997]
[9,0.96499999999999997]
[9.01,0.96499999999999997]
[9.02,0.96499999999999997]
[9.0299999999999994,0.96499999999999997]
[9.0399999999999991,0.96499999999999997]
[9.0500000000000007,0.96499999999999997]
[9.06,0.96499999999999997]
[9.07,0.96499999999999997]
[9.08,0.96499999999999997]
[9.09,0.96499999999999997]
[9.1,0.96499999999999997]
[9.11,0.96499999999999997]
[9.1199999999999992,0.96499999999999997]
[9.1300000000000008,0.96499999999999997]
[9.14,0.96499999999999997]
[9.15,0.96499999999999997]
[9.16,0.96499999999999997]
[9.17,0.96499999999999997]
[9.18,0.96499999999999997]
[9.19,0.96499999999999997]
[9.1999999999999993,0.96499999999999997]
[9.2100000000000009,0.96499999999999997]
[9.2200000000000006,0.96499999999999997]
[9.23,0.96499999999999997]
[9.24,0.96499999999999997]
[9.25,0.96499999999999997]
[9.26,0.96499999999999997]
[9.27,0.96499999999999997]
[9.2799999999999994,0.96499999999999997]
[9.2899999999999991,0.96499999999999997]
[9.3000000000000007,0.96499999999999997]
[9.31,0.96499999999999997]
[9.32,0.96499999999999997]
[9.33,0.96499999999999997]
[9.34,0.96499999999999997]
[9.35,0.96499999999999997]
[9.36,0.96499999999999997]
[9.3699999999999992,0.96499999999999997]
[9.3800000000000008,0.96499999999999997]
[9.39,0.96499999999999997]
[9.4,0.96499999999999997]
[9.41,0.96499999999999997]
[9.42,0.96499999999999997]
[9.43,0.96499999999999997]
[9.44,0.96499999999999997]
[9.4499999999999993,0.96499999999999997]
[9.4600000000000009,0.96499999999999997]
[9.4700000000000006,0.96499999999999997]
[9.48,0.96499999999999997]
[9.49,0.96499999999999997]
[9.5,0.96499999999999997]
[9.51,0.96499999999999997]
[9.52,0.96499999999999997]
[9.5299999999999994,0.96499999999999997]
[9.5399999999999991,0.96499999999999997]
[9.5500000000000007,0.96499999999999997]
[9.56,0.96499999999999997]
[9.57,0.96499999999999997]
[9.58,0.96499999999999997]
[9.59,0.96499999999999997]
[9.6,0.96499999999999997]
[9.61,0.96499999999999997]
[9.6199999999999992,0.96499999999999997]
[9.6300000000000008,0.96499999999999997]
[9.64,0.96499999999999997]
[9.65,0.96499999999999997]
[9.66,0.96499999999999997]
[9.67,0.96499999999999997]
[9.68,0.96499999999999997]
[9.69,0.96499999999999997]
[9.6999999999999993,0.96499999999999997]
[9.7100000000000009,0.96499999999999997]
[9.7200000000000006,0.96499999999999997]
[9.73,0.96499999999999997]
[9.74,0.96499999999999997]
[9.75,0.96499999999999997]
[9.76,0.96499999999999997]
[9.77,0.96499999999999997]
[9.7799999999999994,0.96499999999999997]
[9.7899999999999991,0.96499999999999997]
[9.8000000000000007,0.96499999999999997]
[9.81,0.96499999999999997]
[9.82,0.96499999999999997]
[9.83,0.96499999999999997]
[9.84,0.96499999999999997]
[9.85,0.96499999999999997]
[9.86,0.96499999999999997]
[9.8699999999999992,0.96499999999999997]
[9.8800000000000008,0.96499999999999997]
[9.89,0.96499999999999997]
[9.9,0.96499999999999997]
[9.91,0.96499999999999997]
[9.92,0.96499999999999997]
[9.93,0.96499999999999997]
[9.94,0.96499999999999997]
[9.9499999999999993,0.96499999999999997]
[9.9600000000000009,0.96499999999999997]
[9.9700000000000006,0.96499999999999997]
[9.98,0.96499999999999997]
[9.99,0.96499999999999997]
[10,0.96499999999999997]
[10.01,0.95]
[10.02,0.95]
[10.029999999999999,0.95]
[10.039999999999999,0.95]
[10.050000000000001,0.95]
[10.06,0.95]
[10.07,0.95]
[10.08,0.95]
[10.09,0.95]
[10.1,0.95]
[10.11,0.95]
[10.119999999999999,0.95]
[10.130000000000001,0.95]
[10.14,0.95]
[10.15,0.95]
[10.16,0.95]
[10.17,0.95]
[10.18,0.95]
[10.19,0.95]
[10.199999999999999,0.95]
[10.210000000000001,0.95]
[10.220000000000001,0.95]
[10.23,0.95]
[10.24,0.95]
[10.25,0.95]
[10.26,0.95]
[10.27,0.95]
[10.28,0.95]
[10.29,0.95]
[10.3,0.95]
[10.31,0.95]
[10.32,0.95]
[10.33,0.95]
[10.34,0.95]
[10.35,0.95]
[10.36,0.95]
[10.37,0.95]
[10.38,0.95]
[10.39,0.95]
[10.4,0.95]
[10.41,0.95]
[10.42,0.95]
[10.43,0.95]
[10.44,0.95]
[10.45,0.95]
[10.46,0.95]
[10.47,0.95]
[10.48,0.95]
[10.49,0.95]
[10.5,0.95]
[10.51,0.95]
[10.52,0.95]
[10.53,0.95]
[10.54,0.95]
[10.55,0.95]
[10.56,0.95]
[10.57,0.95]
[10.58,0.95]
[10.59,0.95]
[10.6,0.95]
[10.61,0.95]
[10.62,0.95]
[10.63,0.95]
[10.64,0.95]
[10.65,0.95]
[10.66,0.95]
[10.67,0.95]
[10.68,0.95]
[10.69,0.95]
[10.7,0.95]
[10.71,0.95]
[10.72,0.95]
[10.73,0.95]
[10.74,0.95]
[10.75,0.95]
[10.76,0.95]
[10.77,0.95]
[10.78,0.95]
[10.79,0.95]
[10.8,0.95]
[10.81,0.95]
[10.82,0.95]
[10.83,0.95]
[10.84,0.95]
[10.85,0.95]
[10.86,0.95]
[10.87,0.95]
[10.88,0.95]
[10.89,0.95]
[10.9,0.95]
[10.91,0.95]
[10.92,0.95]
[10.93,0.95]
[10.94,0.95]
[10.95,0.95]
[10.96,0.95]
[10.97,0.95]
[10.98,0.95]
[10.99,0.95]
[11,0.95]
[11.01,0.95]
[11.02,0.95]
[11.03,0.95]
[11.04,0.95]
[11.05,0.95]
[11.06,0.95]
[11.07,0.95]
[11.08,0.95]
[11.09,0.95]
[11.1,0.95]
[11.11,0.95]
[11.12,0.95]
[11.13,0.95]
[11.14,0.95]
[11.15,0.95]
[11.16,0.95]
[11.17,0.95]
[11.18,0.95]
[11.19,0.95]
[11.2,0.95]
[11.21,0.95]
[11.22,0.95]
[11.23,0.95]
[11.24,0.95]
[11.25,0.95]
[11.26,0.95]
[11.27,0.95]
[11.28,0.95]
[11.29,0.95]
[11.3,0.95]
[11.31,0.95]
[11.32,0.95]
[11.33,0.95]
[11.34,0.95]
[11.35,0.95]
[11.36,0.95]
[11.37,0.95]
[11.38,0.95]
[11.39,0.95]
[11.4,0.95]
[11.41,0.95]
[11.42,0.95]
[11.43,0.95]
[11.44,0.95]
[11.45,0.95]
[11.46,0.95]
[11.47,0.95]
[11.48,0.95]
[11.49,0.95]
[11.5,0.95]
[11.51,0.95]
[11.52,0.95]
[11.53,0.95]
[11.54,0.95]
[11.55,0.95]
[11.56,0.95]
[11.57,0.95]
[11.58,0.95]
[11.59,0.95]
[11.6,0.95]
[11.61,0.95]
[11.62,0.95]
[11.63,0.95]
[11.64,0.95]
[11.65,0.95]
[11.66,0.95]
[11.67,0.95]
[11.68,0.95]
[11.69,0.95]
[11.7,0.95]
[11.71,0.95]
[11.72,0.95]
[11.73,0.95]
[11.74,0.95]
[11.75,0.95]
[11.76,0.95]
[11.77,0.95]
[11.78,0.95]
[11.79,0.95]
[11.8,0.95]
[11.81,0.95]
[11.82,0.95]
[11.83,0.95]
[11.84,0.95]
[11.85,0.95]
[11.86,0.95]
[11.87,0.95]
[11.88,0.95]
[11.89,0.95]
[11.9,0.95]
[11.91,0.95]
[11.92,0.95]
[11.93,0.95]
[11.94,0.95]
[11.95,0.95]
[11.96,0.95]
[11.97,0.95]
[11.98,0.95]
[11.99,0.95]
[12,0.95]
[12.01,0.95]
[12.02,0.95]
[12.03,0.95]
[12.04,0.95]
[12.05,0.95]
[12.06,0.95]
[12.07,0.95]
[12.08,0.95]
[12.09,0.95]
[12.1,0.95]
[12.11,0.95]
[12.12,0.95]
[12.13,0.95]
[12.14,0.95]
[12.15,0.95]
[12.16,0.95]
[12.17,0.95]
[12.18,0.95]
[12.19,0.95]
[12.2,0.95]
[12.21,0.95]
[12.22,0.95]
[12.23,0.95]
[12.24,0.95]
[12.25,0.95]
[12.26,0.95]
[12.27,0.95]
[12.28,0.95]
[12.29,0.95]
[12.3,0.95]
[12.31,0.95]
[12.32,0.95]
[12.33,0.95]
[12.34,0.95]
[12.35,0.95]
[12.36,0.95]
[12.37,0.95]
[12.38,0.95]
[12.39,0.95]
[12.4,0.95]
[12.41,0.95]
[12.42,0.95]
[12.43,0.95]
[12.44,0.95]
[12.45,0.95]
[12.46,0.95]
[12.47,0.95]
[12.48,0.95]
[12.49,0.95]
[12.5,0.95]
[12.51,0.95]
[12.52,0.95]
[12.53,0.95]
[12.54,0.95]
[12.55,0.95]
[12.56,0.95]
[12.57,0.95]
[12.58,0.95]
[12.59,0.95]
[12.6,0.95]
[12.61,0.95]
[12.62,0.95]
[12.63,0.95]
[12.64,0.95]
[12.65,0.95]
[12.66,0.95]
[12.67,0.95]
[12.68,0.95]
[12.69,0.95]
[12.7,0.95]
[12.71,0.95]
[12.72,0.95]
[12.73,0.95]
[12.74,0.95]
[12.75,0.95]
[12.76,0.95]
[12.77,0.95]
[12.78,0.95]
[12.79,0.95]
[12.8,0.95]
[12.81,0.95]
[12.82,0.95]
[12.83,0.95]
[12.84,0.95]
[12.85,0.95]
[12.86,0.95]
[12.87,0.95]
[12.88,0.95]
[12.89,0.95]
[12.9,0.95]
[12.91,0.95]
[12.92,0.95]
[12.93,0.95]
[12.94,0.95]
[12.95,0.95]
[12.96,0.95]
[12.97,0.95]
[12.98,0.95]
[12.99,0.95]
[13,0.95]
[13.01,0.95]
[13.02,0.95]
[13.03,0.95]
[13.04,0.95]
[13.05,0.95]
[13.06,0.95]
[13.07,0.95]
[13.08,0.95]
[13.09,0.95]
[13.1,0.95]
[13.11,0.95]
[13.12,0.95]
[13.13,0.95]
[13.14,0.95]
[13.15,0.95]
[13.16,0.95]
[13.17,0.95]
[13.18,0.95]
[13.19,0.95]
[13.2,0.95]
[13.21,0.95]
[13.22,0.95]
[13.23,0.95]
[13.24,0.95]
[13.25,0.95]
[13.26,0.95]
[13.27,0.95]
[13.28,0.95]
[13.29,0.95]
[13.3,0.95]
[13.31,0.95]
[13.32,0.95]
[13.33,0.95]
[13.34,0.95]
[13.35,0.95]
[13.36,0.95]
[13.37,0.95]
[13.38,0.95]
[13.39,0.95]
[13.4,0.95]
[13.41,0.95]
[13.42,0.95]
[13.43,0.95]
[13.44,0.95]
[13.45,0.95]
[13.46,0.95]
[13.47,0.95]
[13.48,0.95]
[13.49,0.95]
[13.5,0.95]
[13.51,0.95]
[13.52,0.95]
[13.53,0.95]
[13.54,0.95]
[13.55,0.95]
[13.56,0.95]
[13.57,0.95]
[13.58,0.95]
[13.59,0.95]
[13.6,0.95]
[13.61,0.95]
[13.62,0.95]
[13.63,0.95]
[13.64,0.95]
[13.65,0.95]
[13.66,0.95]
[13.67,0.95]
[13.68,0.95]
[13.69,0.95]
[13.7,0.95]
[13.71,0.95]
[13.72,0.95]
[13.73,0.95]
[13.74,0.95]
[13.75,0.95]
[13.76,0.95]
[13.77,0.95]
[13.78,0.95]
[13.79,0.95]
[13.8,0.95]
[13.81,0.95]
[13.82,0.95]
[13.83,0.95]
[13.84,0.95]
[13.85,0.95]
[13.86,0.95]
[13.87,0.95]
[13.88,0.95]
[13.89,0.95]
[13.9,0.95]
[13.91,0.95]
[13.92,0.95]
[13.93,0.95]
[13.94,0.95]
[13.95,0.95]
[13.96,0.95]
[13.97,0.95]
[13.98,0.95]
[13.99,0.95]
[14,0.95]
[14.01,0.95]
[14.02,0.95]
[14.03,0.95]
[14.04,0.95]
[14.05,0.95]
[14.06,0.95]
[14.07,0.95]
[14.08,0.95]
[14.09,0.95]
[14.1,0.95]
[14.11,0.95]
[14.12,0.95]
[14.13,0.95]
[14.14,0.95]
[14.15,0.95]
[14.16,0.95]
[14.17,0.95]
[14.18,0.95]
[14.19,0.95]
[14.2,0.95]
[14.21,0.95]
[14.22,0.95]
[14.23,0.95]
[14.24,0.95]
[14.25,0.95]
[14.26,0.95]
[14.27,0.95]
[14.28,0.95]
[14.29,0.95]
[14.3,0.95]
[14.31,0.95]
[14.32,0.95]
[14.33,0.95]
[14.34,0.95]
[14.35,0.95]
[14.36,0.95]
[14.37,0.95]
[14.38,0.95]
[14.39,0.95]
[14.4,0.95]
[14.41,0.95]
[14.42,0.95]
[14.43,0.95]
[14.44,0.95]
[14.45,0.95]
[14.46,0.95]
[14.47,0.95]
[14.48,0.95]
[14.49,0.95]
[14.5,0.95]
[14.51,0.95]
[14.52,0.95]
[14.53,0.95]
[14.54,0.95]
[14.55,0.95]
[14.56,0.95]
[14.57,0.95]
[14.58,0.95]
[14.59,0.95]
[14.6,0.95]
[14.61,0.95]
[14.62,0.95]
[14.63,0.95]
[14.64,0.95]
[14.65,0.95]
[14.66,0.95]
[14.67,0.95]
[14.68,0.95]
[14.69,0.95]
[14.7,0.95]
[14.71,0.95]
[14.72,0.95]
[14.73,0.95]
[14.74,0.95]
[14.75,0.95]
[14.76,0.95]
[14.77,0.95]
[14.78,0.95]
[14.79,0.95]
[14.8,0.95]
[14.81,0.95]
[14.82,0.95]
[14.83,0.95]
[14.84,0.95]
[14.85,0.95]
[14.86,0.95]
[14.87,0.95]
[14.88,0.95]
[14.89,0.95]
[14.9,0.95]
[14.91,0.95]
[14.92,0.95]
[14.93,0.95]
[14.94,0.95]
[14.95,0.95]
[14.96,0.95]
[14.97,0.95]
[14.98,0.95]
[14.99,0.95]
[15,0.95]
[15.01,0.95]
[15.02,0.95]
[15.03,0.95]
[15.04,0.95]
[15.05,0.95]
[15.06,0.95]
[15.07,0.95]
[15.08,0.95]
[15.09,0.95]
[15.1,0.95]
[15.11,0.95]
[15.12,0.95]
[15.13,0.95]
[15.14,0.95]
[15.15,0.95]
[15.16,0.95]
[15.17,0.95]
[15.18,0.95]
[15.19,0.95]
[15.2,0.95]
[15.21,0.95]
[15.22,0.95]
[15.23,0.95]
[15.24,0.95]
[15.25,0.95]
[15.26,0.95]
[15.27,0.95]
[15.28,0.95]
[15.29,0.95]
[15.3,0.95]
[15.31,0.95]
[15.32,0.95]
[15.33,0.95]
[15.34,0.95]
[15.35,0.95]
[15.36,0.95]
[15.37,0.95]
[15.38,0.95]
[15.39,0.95]
[15.4,0.95]
[15.41,0.95]
[15.42,0.95]
[15.43,0.95]
[15.44,0.95]
[15.45,0.95]
[15.46,0.95]
[15.47,0.95]
[15.48,0.95]
[15.49,0.95]
[15.5,0.95]
[15.51,0.95]
[15.52,0.95]
[15.53,0.95]
[15.54,0.95]
[15.55,0.95]
[15.56,0.95]
[15.57,0.95]
[15.58,0.95]
[15.59,0.95]
[15.6,0.95]
[15.61,0.95]
[15.62,0.95]
[15.63,0.95]
[15.64,0.95]
[15.65,0.95]
[15.66,0.95]
[15.67,0.95]
[15.68,0.95]
[15.69,0.95]
[15.7,0.95]
[15.71,0.95]
[15.72,0.95]
[15.73,0.95]
[15.74,0.95]
[15.75,0.95]
[15.76,0.95]
[15.77,0.95]
[15.78,0.95]
[15.79,0.95]
[15.8,0.95]
[15.81,0.95]
[15.82,0.95]
[15.83,0.95]
[15.84,0.95]
[15.85,0.95]
[15.86,0.95]
[15.87,0.95]
[15.88,0.95]
[15.89,0.95]
[15.9,0.95]
[15.91,0.95]
[15.92,0.95]
[15.93,0.95]
[15.94,0.95]
[15.95,0.95]
[15.96,0.95]
[15.97,0.95]
[15.98,0.95]
[15.99,0.95]
[16,0.95]
[16.010000000000002,0.95]
[16.02,0.95]
[16.03,0.95]
[16.04,0.95]
[16.05,0.95]
[16.059999999999999,0.95]
[16.07,0.95]
[16.079999999999998,0.95]
[16.09,0.95]
[16.100000000000001,0.95]
[16.11,0.95]
[16.12,0.95]
[16.13,0.95]
[16.14,0.95]
[16.149999999999999,0.95]
[16.16,0.95]
[16.170000000000002,0.95]
[16.18,0.95]
[16.190000000000001,0.95]
[16.2,0.95]
[16.21,0.95]
[16.22,0.95]
[16.23,0.95]
[16.239999999999998,0.95]
[16.25,0.95]
[16.260000000000002,0.95]
[16.27,0.95]
[16.28,0.95]
[16.29,0.95]
[16.3,0.95]
[16.309999999999999,0.95]
[16.32,0.95]
[16.329999999999998,0.95]
[16.34,0.95]
[16.350000000000001,0.95]
[16.36,0.95]
[16.37,0.95]
[16.38,0.95]
[16.39,0.95]
[16.399999999999999,0.95]
[16.41,0.95]
[16.420000000000002,0.95]
[16.43,0.95]
[16.440000000000001,0.95]
[16.45,0.95]
[16.46,0.95]
[16.47,0.95]
[16.48,0.95]
[16.489999999999998,0.95]
[16.5,0.95]
[16.510000000000002,0.95]
[16.52,0.95]
[16.53,0.95]
[16.54,0.95]
[16.55,0.95]
[16.559999999999999,0.95]
[16.57,0.95]
[16.579999999999998,0.95]
[16.59,0.95]
[16.600000000000001,0.95]
[16.61,0.95]
[16.62,0.95]
[16.63,0.95]
[16.64,0.95]
[16.649999999999999,0.95]
[16.66,0.95]
[16.670000000000002,0.95]
[16.68,0.95]
[16.690000000000001,0.95]
[16.7,0.95]
[16.71,0.95]
[16.72,0.95]
[16.73,0.95]
[16.739999999999998,0.95]
[16.75,0.95]
[16.760000000000002,0.95]
[16.77,0.95]
[16.78,0.95]
[16.79,0.95]
[16.8,0.95]
[16.809999999999999,0.95]
[16.82,0.95]
[16.829999999999998,0.95]
[16.84,0.95]
[16.850000000000001,0.95]
[16.86,0.95]
[16.87,0.95]
[16.88,0.95]
[16.89,0.95]
[16.899999999999999,0.95]
[16.91,0.95]
[16.920000000000002,0.95]
[16.93,0.95]
[16.940000000000001,0.95]
[16.95,0.95]
[16.96,0.95]
[16.97,0.95]
[16.98,0.95]
[16.989999999999998,0.95]
[17,0.95]
[17.010000000000002,0.95]
[17.02,0.95]
[17.03,0.95]
[17.04,0.95]
[17.05,0.95]
[17.059999999999999,0.95]
[17.07,0.95]
[17.079999999999998,0.95]
[17.09,0.95]
[17.100000000000001,0.95]
[17.11,0.95]
[17.12,0.95]
[17.13,0.95]
[17.14,0.95]
[17.149999999999999,0.95]
[17.16,0.95]
[17.170000000000002,0.95]
[17.18,0.95]
[17.190000000000001,0.95]
[17.2,0.95]
[17.21,0.95]
[17.22,0.95]
[17.23,0.95]
[17.239999999999998,0.95]
[17.25,0.95]
[17.260000000000002,0.95]
[17.27,0.95]
[17.28,0.95]
[17.29,0.95]
[17.3,0.95]
[17.309999999999999,0.95]
[17.32,0.95]
[17.329999999999998,0.95]
[17.34,0.95]
[17.350000000000001,0.95]
[17.36,0.95]
[17.37,0.95]
[17.38,0.95]
[17.39,0.95]
[17.399999999999999,0.95]
[17.41,0.95]
[17.420000000000002,0.95]
[17.43,0.95]
[17.440000000000001,0.95]
[17.45,0.95]
[17.46,0.95]
[17.47,0.95]
[17.48,0.95]
[17.489999999999998,0.95]
[17.5,0.95]
[17.510000000000002,0.95]
[17.52,0.95]
[17.53,0.95]
[17.54,0.95]
[17.55,0.95]
[17.559999999999999,0.95]
[17.57,0.95]
[17.579999999999998,0.95]
[17.59,0.95]
[17.600000000000001,0.95]
[17.61,0.95]
[17.62,0.95]
[17.63,0.95]
[17.64,0.95]
[17.649999999999999,0.95]
[17.66,0.95]
[17.670000000000002,0.95]
[17.68,0.95]
[17.690000000000001,0.95]
[17.7,0.95]
[17.71,0.95]
[17.72,0.95]
[17.73,0.95]
[17.739999999999998,0.95]
[17.75,0.95]
[17.760000000000002,0.95]
[17.77,0.95]
[17.78,0.95]
[17.79,0.95]
[17.8,0.95]
[17.809999999999999,0.95]
[17.82,0.95]
[17.829999999999998,0.95]
[17.84,0.95]
[17.850000000000001,0.95]
[17.86,0.95]
[17.87,0.95]
[17.88,0.95]
[17.89,0.95]
[17.899999999999999,0.95]
[17.91,0.95]
[17.920000000000002,0.95]
[17.93,0.95]
[17.940000000000001,0.95]
[17.95,0.95]
[17.96,0.95]
[17.97,0.95]
[17.98,0.95]
[17.989999999999998,0.95]
[18,0.95]
[18.010000000000002,0.95]
[18.02,0.95]
[18.03,0.95]
[18.04,0.95]
[18.05,0.95]
[18.059999999999999,0.95]
[18.07,0.95]
[18.079999999999998,0.95]
[18.09,0.95]
[18.100000000000001,0.95]
[18.11,0.95]
[18.12,0.95]
[18.13,0.95]
[18.14,0.95]
[18.149999999999999,0.95]
[18.16,0.95]
[18.170000000000002,0.95]
[18.18,0.95]
[18.190000000000001,0.95]
[18.2,0.95]
[18.21,0.95]
[18.22,0.95]
[18.23,0.95]
[18.239999999999998,0.95]
[18.25,0.95]
[18.260000000000002,0.95]
[18.27,0.95]
[18.28,0.95]
[18.29,0.95]
[18.3,0.95]
[18.309999999999999,0.95]
[18.32,0.95]
[18.329999999999998,0.95]
[18.34,0.95]
[18.350000000000001,0.95]
[18.36,0.95]
[18.37,0.95]
[18.38,0.95]
[18.39,0.95]
[18.399999999999999,0.95]
[18.41,0.95]
[18.420000000000002,0.95]
[18.43,0.95]
[18.440000000000001,0.95]
[18.45,0.95]
[18.46,0.95]
[18.47,0.95]
[18.48,0.95]
[18.489999999999998,0.95]
[18.5,0.95]
[18.510000000000002,0.95]
[18.52,0.95]
[18.53,0.95]
[18.54,0.95]
[18.55,0.95]
[18.559999999999999,0.95]
[18.57,0.95]
[18.579999999999998,0.95]
[18.59,0.95]
[18.600000000000001,0.95]
[18.61,0.95]
[18.62,0.95]
[18.63,0.95]
[18.64,0.95]
[18.649999999999999,0.95]
[18.66,0.95]
[18.670000000000002,0.95]
[18.68,0.95]
[18.690000000000001,0.95]
[18.7,0.95]
[18.71,0.95]
[18.72,0.95]
[18.73,0.95]
[18.739999999999998,0.95]
[18.75,0.95]
[18.760000000000002,0.95]
[18.77,0.95]
[18.78,0.95]
[18.79,0.95]
[18.8,0.95]
[18.809999999999999,0.95]
[18.82,0.95]
[18.829999999999998,0.95]
[18.84,0.95]
[18.850000000000001,0.95]
[18.86,0.95]
[18.87,0.95]
[18.88,0.95]
[18.89,0.95]
[18.899999999999999,0.95]
[18.91,0.95]
[18.920000000000002,0.95]
[18.93,0.95]
[18.940000000000001,0.95]
[18.95,0.95]
[18.96,0.95]
[18.97,0.95]
[18.98,0.95]
[18.989999999999998,0.95]
[19,0.95]
[19.010000000000002,0.95]
[19.02,0.95]
[19.03,0.95]
[19.04,0.95]
[19.05,0.95]
[19.059999999999999,0.95]
[19.07,0.95]
[19.079999999999998,0.95]
[19.09,0.95]
[19.100000000000001,0.95]
[19.11,0.95]
[19.12,0.95]
[19.13,0.95]
[19.14,0.95]
[19.149999999999999,0.95]
[19.16,0.95]
[19.170000000000002,0.95]
[19.18,0.95]
[19.190000000000001,0.95]
[19.2,0.95]
[19.21,0.95]
[19.22,0.95]
[19.23,0.95]
[19.239999999999998,0.95]
[19.25,0.95]
[19.260000000000002,0.95]
[19.27,0.95]
[19.28,0.95]
[19.29,0.95]
[19.3,0.95]
[19.309999999999999,0.95]
[19.32,0.95]
[19.329999999999998,0.95]
[19.34,0.95]
[19.350000000000001,0.95]
[19.36,0.95]
[19.37,0.95]
[19.38,0.95]
[19.39,0.95]
[19.399999999999999,0.95]
[19.41,0.95]
[19.420000000000002,0.95]
[19.43,0.95]
[19.440000000000001,0.95]
[19.45,0.95]
[19.46,0.95]
[19.47,0.95]
[19.48,0.95]
[19.489999999999998,0.95]
[19.5,0.95]
[19.510000000000002,0.95]
[19.52,0.95]
[19.53,0.95]
[19.54,0.95]
[19.55,0.95]
[19.559999999999999,0.95]
[19.57,0.95]
[19.579999999999998,0.95]
[19.59,0.95]
[19.600000000000001,0.95]
[19.61,0.95]
[19.62,0.95]
[19.63,0.95]
[19.64,0.95]
[19.649999999999999,0.95]
[19.66,0.95]
[19.670000000000002,0.95]
[19.68,0.95]
[19.690000000000001,0.95]
[19.7,0.95]
[19.71,0.95]
[19.72,0.95]
[19.73,0.95]
[19.739999999999998,0.95]
[19.75,0.95]
[19.760000000000002,0.95]
[19.77,0.95]
[19.78,0.95]
[19.79,0.95]
[19.8,0.95]
[19.809999999999999,0.95]
[19.82,0.95]
[19.829999999999998,0.95]
[19.84,0.95]
[19.850000000000001,0.95]
[19.86,0.95]
[19.87,0.95]
[19.88,0.95]
[19.89,0.95]
[19.899999999999999,0.95]
[19.91,0.95]
[19.920000000000002,0.95]
[19.93,0.95]
[19.940000000000001,0.95]
[19.95,0.95]
[19.96,0.95]
[19.97,0.95]
[19.98,0.95]
[19.989999999999998,0.95]
[20,0.95]
[20.010000000000002,0.92]
[20.02,0.92]
[20.03,0.92]
[20.04,0.92]
[20.05,0.92]
[20.059999999999999,0.92]
[20.07,0.92]
[20.079999999999998,0.92]
[20.09,0.92]
[20.100000000000001,0.92]
[20.11,0.92]
[20.12,0.92]
[20.13,0.92]
[20.14,0.92]
[20.149999999999999,0.92]
[20.16,0.92]
[20.170000000000002,0.92]
[20.18,0.92]
[20.190000000000001,0.92]
[20.2,0.92]
[20.21,0.92]
[20.22,0.92]
[20.23,0.92]
[20.239999999999998,0.92]
[20.25,0.92]
[20.260000000000002,0.92]
[20.27,0.92]
[20.28,0.92]
[20.29,0.92]
[20.3,0.92]
[20.309999999999999,0.92]
[20.32,0.92]
[20.329999999999998,0.92]
[20.34,0.92]
[20.350000000000001,0.92]
[20.36,0.92]
[20.37,0.92]
[20.38,0.92]
[20.39,0.92]
[20.399999999999999,0.92]
[20.41,0.92]
[20.420000000000002,0.92]
[20.43,0.92]
[20.440000000000001,0.92]
[20.45,0.92]
[20.46,0.92]
[20.47,0.92]
[20.48,0.92]
[20.49,0.92]
[20.5,0.92]
[20.51,0.92]
[20.52,0.92]
[20.53,0.92]
[20.54,0.92]
[20.55,0.92]
[20.56,0.92]
[20.57,0.92]
[20.58,0.92]
[20.59,0.92]
[20.6,0.92]
[20.61,0.92]
[20.62,0.92]
[20.63,0.92]
[20.64,0.92]
[20.65,0.92]
[20.66,0.92]
[20.67,0.92]
[20.68,0.92]
[20.69,0.92]
[20.7,0.92]
[20.71,0.92]
[20.72,0.92]
[20.73,0.92]
[20.74,0.92]
[20.75,0.92]
[20.76,0.92]
[20.77,0.92]
[20.78,0.92]
[20.79,0.92]
[20.8,0.92]
[20.81,0.92]
[20.82,0.92]
[20.83,0.92]
[20.84,0.92]
[20.85,0.92]
[20.86,0.92]
[20.87,0.92]
[20.88,0.92]
[20.89,0.92]
[20.9,0.92]
[20.91,0.92]
[20.92,0.92]
[20.93,0.92]
[20.94,0.92]
[20.95,0.92]
[20.96,0.92]
[20.97,0.92]
[20.98,0.92]
[20.99,0.92]
[21,0.92]
[21.01,0.92]
[21.02,0.92]
[21.03,0.92]
[21.04,0.92]
[21.05,0.92]
[21.06,0.92]
[21.07,0.92]
[21.08,0.92]
[21.09,0.92]
[21.1,0.92]
[21.11,0.92]
[21.12,0.92]
[21.13,0.92]
[21.14,0.92]
[21.15,0.92]
[21.16,0.92]
[21.17,0.92]
[21.18,0.92]
[21.19,0.92]
[21.2,0.92]
[21.21,0.92]
[21.22,0.92]
[21.23,0.92]
[21.24,0.92]
[21.25,0.92]
[21.26,0.92]
[21.27,0.92]
[21.28,0.92]
[21.29,0.92]
[21.3,0.92]
[21.31,0.92]
[21.32,0.92]
[21.33,0.92]
[21.34,0.92]
[21.35,0.92]
[21.36,0.92]
[21.37,0.92]
[21.38,0.92]
[21.39,0.92]
[21.4,0.92]
[21.41,0.92]
[21.42,0.92]
[21.43,0.92]
[21.44,0.92]
[21.45,0.92]
[21.46,0.92]
[21.47,0.92]
[21.48,0.92]
[21.49,0.92]
[21.5,0.92]
[21.51,0.92]
[21.52,0.92]
[21.53,0.92]
[21.54,0.92]
[21.55,0.92]
[21.56,0.92]
[21.57,0.92]
[21.58,0.92]
[21.59,0.92]
[21.6,0.92]
[21.61,0.92]
[21.62,0.92]
[21.63,0.92]
[21.64,0.92]
[21.65,0.92]
[21.66,0.92]
[21.67,0.92]
[21.68,0.92]
[21.69,0.92]
[21.7,0.92]
[21.71,0.92]
[21.72,0.92]
[21.73,0.92]
[21.74,0.92]
[21.75,0.92]
[21.76,0.92]
[21.77,0.92]
[21.78,0.92]
[21.79,0.92]
[21.8,0.92]
[21.81,0.92]
[21.82,0.92]
[21.83,0.92]
[21.84,0.92]
[21.85,0.92]
[21.86,0.92]
[21.87,0.92]
[21.88,0.92]
[21.89,0.92]
[21.9,0.92]
[21.91,0.92]
[21.92,0.92]
[21.93,0.92]
[21.94,0.92]
[21.95,0.92]
[21.96,0.92]
[21.97,0.92]
[21.98,0.92]
[21.99,0.92]
[22,0.92]
[22.01,0.92]
[22.02,0.92]
[22.03,0.92]
[22.04,0.92]
[22.05,0.92]
[22.06,0.92]
[22.07,0.92]
[22.08,0.92]
[22.09,0.92]
[22.1,0.92]
[22.11,0.92]
[22.12,0.92]
[22.13,0.92]
[22.14,0.92]
[22.15,0.92]
[22.16,0.92]
[22.17,0.92]
[22.18,0.92]
[22.19,0.92]
[22.2,0.92]
[22.21,0.92]
[22.22,0.92]
[22.23,0.92]
[22.24,0.92]
[22.25,0.92]
[22.26,0.92]
[22.27,0.92]
[22.28,0.92]
[22.29,0.92]
[22.3,0.92]
[22.31,0.92]
[22.32,0.92]
[22.33,0.92]
[22.34,0.92]
[22.35,0.92]
[22.36,0.92]
[22.37,0.92]
[22.38,0.92]
[22.39,0.92]
[22.4,0.92]
[22.41,0.92]
[22.42,0.92]
[22.43,0.92]
[22.44,0.92]
[22.45,0.92]
[22.46,0.92]
[22.47,0.92]
[22.48,0.92]
[22.49,0.92]
[22.5,0.92]
[22.51,0.92]
[22.52,0.92]
[22.53,0.92]
[22.54,0.92]
[22.55,0.92]
[22.56,0.92]
[22.57,0.92]
[22.58,0.92]
[22.59,0.92]
[22.6,0.92]
[22.61,0.92]
[22.62,0.92]
[22.63,0.92]
[22.64,0.92]
[22.65,0.92]
[22.66,0.92]
[22.67,0.92]
[22.68,0.92]
[22.69,0.92]
[22.7,0.92]
[22.71,0.92]
[22.72,0.92]
[22.73,0.92]
[22.74,0.92]
[22.75,0.92]
[22.76,0.92]
[22.77,0.92]
[22.78,0.92]
[22.79,0.92]
[22.8,0.92]
[22.81,0.92]
[22.82,0.92]
[22.83,0.92]
[22.84,0.92]
[22.85,0.92]
[22.86,0.92]
[22.87,0.92]
[22.88,0.92]
[22.89,0.92]
[22.9,0.92]
[22.91,0.92]
[22.92,0.92]
[22.93,0.92]
[22.94,0.92]
[22.95,0.92]
[22.96,0.92]
[22.97,0.92]
[22.98,0.92]
[22.99,0.92]
[23,0.92]
[23.01,0.92]
[23.02,0.92]
[23.03,0.92]
[23.04,0.92]
[23.05,0.92]
[23.06,0.92]
[23.07,0.92]
[23.08,0.92]
[23.09,0.92]
[23.1,0.92]
[23.11,0.92]
[23.12,0.92]
[23.13,0.92]
[23.14,0.92]
[23.15,0.92]
[23.16,0.92]
[23.17,0.92]
[23.18,0.92]
[23.19,0.92]
[23.2,0.92]
[23.21,0.92]
[23.22,0.92]
[23.23,0.92]
[23.24,0.92]
[23.25,0.92]
[23.26,0.92]
[23.27,0.92]
[23.28,0.92]
[23.29,0.92]
[23.3,0.92]
[23.31,0.92]
[23.32,0.92]
[23.33,0.92]
[23.34,0.92]
[23.35,0.92]
[23.36,0.92]
[23.37,0.92]
[23.38,0.92]
[23.39,0.92]
[23.4,0.92]
[23.41,0.92]
[23.42,0.92]
[23.43,0.92]
[23.44,0.92]
[23.45,0.92]
[23.46,0.92]
[23.47,0.92]
[23.48,0.92]
[23.49,0.92]
[23.5,0.92]
[23.51,0.92]
[23.52,0.92]
[23.53,0.92]
[23.54,0.92]
[23.55,0.92]
[23.56,0.92]
[23.57,0.92]
[23.58,0.92]
[23.59,0.92]
[23.6,0.92]
[23.61,0.92]
[23.62,0.92]
[23.63,0.92]
[23.64,0.92]
[23.65,0.92]
[23.66,0.92]
[23.67,0.92]
[23.68,0.92]
[23.69,0.92]
[23.7,0.92]
[23.71,0.92]
[23.72,0.92]
[23.73,0.92]
[23.74,0.92]
[23.75,0.92]
[23.76,0.92]
[23.77,0.92]
[23.78,0.92]
[23.79,0.92]
[23.8,0.92]
[23.81,0.92]
[23.82,0.92]
[23.83,0.92]
[23.84,0.92]
[23.85,0.92]
[23.86,0.92]
[23.87,0.92]
[23.88,0.92]
[23.89,0.92]
[23.9,0.92]
[23.91,0.92]
[23.92,0.92]
[23.93,0.92]
[23.94,0.92]
[23.95,0.92]
[23.96,0.92]
[23.97,0.92]
[23.98,0.92]
[23.99,0.92]
[24,0.92]
[24.01,0.92]
[24.02,0.92]
[24.03,0.92]
[24.04,0.92]
[24.05,0.92]
[24.06,0.92]
[24.07,0.92]
[24.08,0.92]
[24.09,0.92]
[24.1,0.92]
[24.11,0.92]
[24.12,0.92]
[24.13,0.92]
[24.14,0.92]
[24.15,0.92]
[24.16,0.92]
[24.17,0.92]
[24.18,0.92]
[24.19,0.92]
[24.2,0.92]
[24.21,0.92]
[24.22,0.92]
[24.23,0.92]
[24.24,0.92]
[24.25,0.92]
[24.26,0.92]
[24.27,0.92]
[24.28,0.92]
[24.29,0.92]
[24.3,0.92]
[24.31,0.92]
[24.32,0.92]
[24.33,0.92]
[24.34,0.92]
[24.35,0.92]
[24.36,0.92]
[24.37,0.92]
[24.38,0.92]
[24.39,0.92]
[24.4,0.92]
[24.41,0.92]
[24.42,0.92]
[24.43,0.92]
[24.44,0.92]
[24.45,0.92]
[24.46,0.92]
[24.47,0.92]
[24.48,0.92]
[24.49,0.92]
[24.5,0.92]
[24.51,0.92]
[24.52,0.92]
[24.53,0.92]
[24.54,0.92]
[24.55,0.92]
[24.56,0.92]
[24.57,0.92]
[24.58,0.92]
[24.59,0.92]
[24.6,0.92]
[24.61,0.92]
[24.62,0.92]
[24.63,0.92]
[24.64,0.92]
[24.65,0.92]
[24.66,0.92]
[24.67,0.92]
[24.68,0.92]
[24.69,0.92]
[24.7,0.92]
[24.71,0.92]
[24.72,0.92]
[24.73,0.92]
[24.74,0.92]
[24.75,0.92]
[24.76,0.92]
[24.77,0.92]
[24.78,0.92]
[24.79,0.92]
[24.8,0.92]
[24.81,0.92]
[24.82,0.92]
[24.83,0.92]
[24.84,0.92]
[24.85,0.92]
[24.86,0.92]
[24.87,0.92]
[24.88,0.92]
[24.89,0.92]
[24.9,0.92]
[24.91,0.92]
[24.92,0.92]
[24.93,0.92]
[24.94,0.92]
[24.95,0.92]
[24.96,0.92]
[24.97,0.92]
[24.98,0.92]
[24.99,0.92]
[25,0.92]
[25.01,0.92]
[25.02,0.92]
[25.03,0.92]
[25.04,0.92]
[25.05,0.92]
[25.06,0.92]
[25.07,0.92]
[25.08,0.92]
[25.09,0.92]
[25.1,0.92]
[25.11,0.92]
[25.12,0.92]
[25.13,0.92]
[25.14,0.92]
[25.15,0.92]
[25.16,0.92]
[25.17,0.92]
[25.18,0.92]
[25.19,0.92]
[25.2,0.92]
[25.21,0.92]
[25.22,0.92]
[25.23,0.92]
[25.24,0.92]
[25.25,0.92]
[25.26,0.92]
[25.27,0.92]
[25.28,0.92]
[25.29,0.92]
[25.3,0.92]
[25.31,0.92]
[25.32,0.92]
[25.33,0.92]
[25.34,0.92]
[25.35,0.92]
[25.36,0.92]
[25.37,0.92]
[25.38,0.92]
[25.39,0.92]
[25.4,0.92]
[25.41,0.92]
[25.42,0.92]
[25.43,0.92]
[25.44,0.92]
[25.45,0.92]
[25.46,0.92]
[25.47,0.92]
[25.48,0.92]
[25.49,0.92]
[25.5,0.92]
[25.51,0.92]
[25.52,0.92]
[25.53,0.92]
[25.54,0.92]
[25.55,0.92]
[25.56,0.92]
[25.57,0.92]
[25.58,0.92]
[25.59,0.92]
[25.6,0.92]
[25.61,0.92]
[25.62,0.92]
[25.63,0.92]
[25.64,0.92]
[25.65,0.92]
[25.66,0.92]
[25.67,0.92]
[25.68,0.92]
[25.69,0.92]
[25.7,0.92]
[25.71,0.92]
[25.72,0.92]
[25.73,0.92]
[25.74,0.92]
[25.75,0.92]
[25.76,0.92]
[25.77,0.92]
[25.78,0.92]
[25.79,0.92]
[25.8,0.92]
[25.81,0.92]
[25.82,0.92]
[25.83,0.92]
[25.84,0.92]
[25.85,0.92]
[25.86,0.92]
[25.87,0.92]
[25.88,0.92]
[25.89,0.92]
[25.9,0.92]
[25.91,0.92]
[25.92,0.92]
[25.93,0.92]
[25.94,0.92]
[25.95,0.92]
[25.96,0.92]
[25.97,0.92]
[25.98,0.92]
[25.99,0.92]
[26,0.92]
[26.01,0.92]
[26.02,0.92]
[26.03,0.92]
[26.04,0.92]
[26.05,0.92]
[26.06,0.92]
[26.07,0.92]
[26.08,0.92]
[26.09,0.92]
[26.1,0.92]
[26.11,0.92]
[26.12,0.92]
[26.13,0.92]
[26.14,0.92]
[26.15,0.92]
[26.16,0.92]
[26.17,0.92]
[26.18,0.92]
[26.19,0.92]
[26.2,0.92]
[26.21,0.92]
[26.22,0.92]
[26.23,0.92]
[26.24,0.92]
[26.25,0.92]
[26.26,0.92]
[26.27,0.92]
[26.28,0.92]
[26.29,0.92]
[26.3,0.92]
[26.31,0.92]
[26.32,0.92]
[26.33,0.92]
[26.34,0.92]
[26.35,0.92]
[26.36,0.92]
[26.37,0.92]
[26.38,0.92]
[26.39,0.92]
[26.4,0.92]
[26.41,0.92]
[26.42,0.92]
[26.43,0.92]
[26.44,0.92]
[26.45,0.92]
[26.46,0.92]
[26.47,0.92]
[26.48,0.92]
[26.49,0.92]
[26.5,0.92]
[26.51,0.92]
[26.52,0.92]
[26.53,0.92]
[26.54,0.92]
[26.55,0.92]
[26.56,0.92]
[26.57,0.92]
[26.58,0.92]
[26.59,0.92]
[26.6,0.92]
[26.61,0.92]
[26.62,0.92]
[26.63,0.92]
[26.64,0.92]
[26.65,0.92]
[26.66,0.92]
[26.67,0.92]
[26.68,0.92]
[26.69,0.92]
[26.7,0.92]
[26.71,0.92]
[26.72,0.92]
[26.73,0.92]
[26.74,0.92]
[26.75,0.92]
[26.76,0.92]
[26.77,0.92]
[26.78,0.92]
[26.79,0.92]
[26.8,0.92]
[26.81,0.92]
[26.82,0.92]
[26.83,0.92]
[26.84,0.92]
[26.85,0.92]
[26.86,0.92]
[26.87,0.92]
[26.88,0.92]
[26.89,0.92]
[26.9,0.92]
[26.91,0.92]
[26.92,0.92]
[26.93,0.92]
[26.94,0.92]
[26.95,0.92]
[26.96,0.92]
[26.97,0.92]
[26.98,0.92]
[26.99,0.92]
[27,0.92]
[27.01,0.92]
[27.02,0.92]
[27.03,0.92]
[27.04,0.92]
[27.05,0.92]
[27.06,0.92]
[27.07,0.92]
[27.08,0.92]
[27.09,0.92]
[27.1,0.92]
[27.11,0.92]
[27.12,0.92]
[27.13,0.92]
[27.14,0.92]
[27.15,0.92]
[27.16,0.92]
[27.17,0.92]
[27.18,0.92]
[27.19,0.92]
[27.2,0.92]
[27.21,0.92]
[27.22,0.92]
[27.23,0.92]
[27.24,0.92]
[27.25,0.92]
[27.26,0.92]
[27.27,0.92]
[27.28,0.92]
[27.29,0.92]
[27.3,0.92]
[27.31,0.92]
[27.32,0.92]
[27.33,0.92]
[27.34,0.92]
[27.35,0.92]
[27.36,0.92]
[27.37,0.92]
[27.38,0.92]
[27.39,0.92]
[27.4,0.92]
[27.41,0.92]
[27.42,0.92]
[27.43,0.92]
[27.44,0.92]
[27.45,0.92]
[27.46,0.92]
[27.47,0.92]
[27.48,0.92]
[27.49,0.92]
[27.5,0.92]
[27.51,0.92]
[27.52,0.92]
[27.53,0.92]
[27.54,0.92]
[27.55,0.92]
[27.56,0.92]
[27.57,0.92]
[27.58,0.92]
[27.59,0.92]
[27.6,0.92]
[27.61,0.92]
[27.62,0.92]
[27.63,0.92]
[27.64,0.92]
[27.65,0.92]
[27.66,0.92]
[27.67,0.92]
[27.68,0.92]
[27.69,0.92]
[27.7,0.92]
[27.71,0.92]
[27.72,0.92]
[27.73,0.92]
[27.74,0.92]
[27.75,0.92]
[27.76,0.92]
[27.77,0.92]
[27.78,0.92]
[27.79,0.92]
[27.8,0.92]
[27.81,0.92]
[27.82,0.92]
[27.83,0.92]
[27.84,0.92]
[27.85,0.92]
[27.86,0.92]
[27.87,0.92]
[27.88,0.92]
[27.89,0.92]
[27.9,0.92]
[27.91,0.92]
[27.92,0.92]
[27.93,0.92]
[27.94,0.92]
[27.95,0.92]
[27.96,0.92]
[27.97,0.92]
[27.98,0.92]
[27.99,0.92]
[28,0.92]
[28.01,0.92]
[28.02,0.92]
[28.03,0.92]
[28.04,0.92]
[28.05,0.92]
[28.06,0.92]
[28.07,0.92]
[28.08,0.92]
[28.09,0.92]
[28.1,0.92]
[28.11,0.92]
[28.12,0.92]
[28.13,0.92]
[28.14,0.92]
[28.15,0.92]
[28.16,0.92]
[28.17,0.92]
[28.18,0.92]
[28.19,0.92]
[28.2,0.92]
[28.21,0.92]
[28.22,0.92]
[28.23,0.92]
[28.24,0.92]
[28.25,0.92]
[28.26,0.92]
[28.27,0.92]
[28.28,0.92]
[28.29,0.92]
[28.3,0.92]
[28.31,0.92]
[28.32,0.92]
[28.33,0.92]
[28.34,0.92]
[28.35,0.92]
[28.36,0.92]
[28.37,0.92]
[28.38,0.92]
[28.39,0.92]
[28.4,0.92]
[28.41,0.92]
[28.42,0.92]
[28.43,0.92]
[28.44,0.92]
[28.45,0.92]
[28.46,0.92]
[28.47,0.92]
[28.48,0.92]
[28.49,0.92]
[28.5,0.92]
[28.51,0.92]
[28.52,0.92]
[28.53,0.92]
[28.54,0.92]
[28.55,0.92]
[28.56,0.92]
[28.57,0.92]
[28.58,0.92]
[28.59,0.92]
[28.6,0.92]
[28.61,0.92]
[28.62,0.92]
[28.63,0.92]
[28.64,0.92]
[28.65,0.92]
[28.66,0.92]
[28.67,0.92]
[28.68,0.92]
[28.69,0.92]
[28.7,0.92]
[28.71,0.92]
[28.72,0.92]
[28.73,0.92]
[28.74,0.92]
[28.75,0.92]
[28.76,0.92]
[28.77,0.92]
[28.78,0.92]
[28.79,0.92]
[28.8,0.92]
[28.81,0.92]
[28.82,0.92]
[28.83,0.92]
[28.84,0.92]
[28.85,0.92]
[28.86,0.92]
[28.87,0.92]
[28.88,0.92]
[28.89,0.92]
[28.9,0.92]
[28.91,0.92]
[28.92,0.92]
[28.93,0.92]
[28.94,0.92]
[28.95,0.92]
[28.96,0.92]
[28.97,0.92]
[28.98,0.92]
[28.99,0.92]
[29,0.92]
[29.01,0.92]
[29.02,0.92]
[29.03,0.92]
[29.04,0.92]
[29.05,0.92]
[29.06,0.92]
[29.07,0.92]
[29.08,0.92]
[29.09,0.92]
[29.1,0.92]
[29.11,0.92]
[29.12,0.92]
[29.13,0.92]
[29.14,0.92]
[29.15,0.92]
[29.16,0.92]
[29.17,0.92]
[29.18,0.92]
[29.19,0.92]
[29.2,0.92]
[29.21,0.92]
[29.22,0.92]
[29.23,0.92]
[29.24,0.92]
[29.25,0.92]
[29.26,0.92]
[29.27,0.92]
[29.28,0.92]
[29.29,0.92]
[29.3,0.92]
[29.31,0.92]
[29.32,0.92]
[29.33,0.92]
[29.34,0.92]
[29.35,0.92]
[29.36,0.92]
[29.37,0.92]
[29.38,0.92]
[29.39,0.92]
[29.4,0.92]
[29.41,0.92]
[29.42,0.92]
[29.43,0.92]
[29.44,0.92]
[29.45,0.92]
[29.46,0.92]
[29.47,0.92]
[29.48,0.92]
[29.49,0.92]
[29.5,0.92]
[29.51,0.92]
[29.52,0.92]
[29.53,0.92]
[29.54,0.92]
[29.55,0.92]
[29.56,0.92]
[29.57,0.92]
[29.58,0.92]
[29.59,0.92]
[29.6,0.92]
[29.61,0.92]
[29.62,0.92]
[29.63,0.92]
[29.64,0.92]
[29.65,0.92]
[29.66,0.92]
[29.67,0.92]
[29.68,0.92]
[29.69,0.92]
[29.7,0.92]
[29.71,0.92]
[29.72,0.92]
[29.73,0.92]
[29.74,0.92]
[29.75,0.92]
[29.76,0.92]
[29.77,0.92]
[29.78,0.92]
[29.79,0.92]
[29.8,0.92]
[29.81,0.92]
[29.82,0.92]
[29.83,0.92]
[29.84,0.92]
[29.85,0.92]
[29.86,0.92]
[29.87,0.92]
[29.88,0.92]
[29.89,0.92]
[29.9,0.92]
[29.91,0.92]
[29.92,0.92]
[29.93,0.92]
[29.94,0.92]
[29.95,0.92]
[29.96,0.92]
[29.97,0.92]
[29.98,0.92]
[29.99,0.92]
[30,0.92]
[30.01,0.92]
[30.02,0.92]
[30.03,0.92]
[30.04,0.92]
[30.05,0.92]
[30.06,0.92]
[30.07,0.92]
[30.08,0.92]
[30.09,0.92]
[30.1,0.92]
[30.11,0.92]
[30.12,0.92]
[30.13,0.92]
[30.14,0.92]
[30.15,0.92]
[30.16,0.92]
[30.17,0.92]
[30.18,0.92]
[30.19,0.92]
[30.2,0.92]
[30.21,0.92]
[30.22,0.92]
[30.23,0.92]
[30.24,0.92]
[30.25,0.92]
[30.26,0.92]
[30.27,0.92]
[30.28,0.92]
[30.29,0.92]
[30.3,0.92]
[30.31,0.92]
[30.32,0.92]
[30.33,0.92]
[30.34,0.92]
[30.35,0.92]
[30.36,0.92]
[30.37,0.92]
[30.38,0.92]
[30.39,0.92]
[30.4,0.92]
[30.41,0.92]
[30.42,0.92]
[30.43,0.92]
[30.44,0.92]
[30.45,0.92]
[30.46,0.92]
[30.47,0.92]
[30.48,0.92]
[30.49,0.92]
[30.5,0.92]
[30.51,0.92]
[30.52,0.92]
[30.53,0.92]
[30.54,0.92]
[30.55,0.92]
[30.56,0.92]
[30.57,0.92]
[30.58,0.92]
[30.59,0.92]
[30.6,0.92]
[30.61,0.92]
[30.62,0.92]
[30.63,0.92]
[30.64,0.92]
[30.65,0.92]
[30.66,0.92]
[30.67,0.92]
[30.68,0.92]
[30.69,0.92]
[30.7,0.92]
[30.71,0.92]
[30.72,0.92]
[30.73,0.92]
[30.74,0.92]
[30.75,0.92]
[30.76,0.92]
[30.77,0.92]
[30.78,0.92]
[30.79,0.92]
[30.8,0.92]
[30.81,0.92]
[30.82,0.92]
[30.83,0.92]
[30.84,0.92]
[30.85,0.92]
[30.86,0.92]
[30.87,0.92]
[30.88,0.92]
[30.89,0.92]
[30.9,0.92]
[30.91,0.92]
[30.92,0.92]
[30.93,0.92]
[30.94,0.92]
[30.95,0.92]
[30.96,0.92]
[30.97,0.92]
[30.98,0.92]
[30.99,0.92]
[31,0.92]
[31.01,0.92]
[31.02,0.92]
[31.03,0.92]
[31.04,0.92]
[31.05,0.92]
[31.06,0.92]
[31.07,0.92]
[31.08,0.92]
[31.09,0.92]
[31.1,0.92]
[31.11,0.92]
[31.12,0.92]
[31.13,0.92]
[31.14,0.92]
[31.15,0.92]
[31.16,0.92]
[31.17,0.92]
[31.18,0.92]
[31.19,0.92]
[31.2,0.92]
[31.21,0.92]
[31.22,0.92]
[31.23,0.92]
[31.24,0.92]
[31.25,0.92]
[31.26,0.92]
[31.27,0.92]
[31.28,0.92]
[31.29,0.92]
[31.3,0.92]
[31.31,0.92]
[31.32,0.92]
[31.33,0.92]
[31.34,0.92]
[31.35,0.92]
[31.36,0.92]
[31.37,0.92]
[31.38,0.92]
[31.39,0.92]
[31.4,0.92]
[31.41,0.92]
[31.42,0.92]
[31.43,0.92]
[31.44,0.92]
[31.45,0.92]
[31.46,0.92]
[31.47,0.92]
[31.48,0.92]
[31.49,0.92]
[31.5,0.92]
[31.51,0.92]
[31.52,0.92]
[31.53,0.92]
[31.54,0.92]
[31.55,0.92]
[31.56,0.92]
[31.57,0.92]
[31.58,0.92]
[31.59,0.92]
[31.6,0.92]
[31.61,0.92]
[31.62,0.92]
[31.63,0.92]
[31.64,0.92]
[31.65,0.92]
[31.66,0.92]
[31.67,0.92]
[31.68,0.92]
[31.69,0.92]
[31.7,0.92]
[31.71,0.92]
[31.72,0.92]
[31.73,0.92]
[31.74,0.92]
[31.75,0.92]
[31.76,0.92]
[31.77,0.92]
[31.78,0.92]
[31.79,0.92]
[31.8,0.92]
[31.81,0.92]
[31.82,0.92]
[31.83,0.92]
[31.84,0.92]
[31.85,0.92]
[31.86,0.92]
[31.87,0.92]
[31.88,0.92]
[31.89,0.92]
[31.9,0.92]
[31.91,0.92]
[31.92,0.92]
[31.93,0.92]
[31.94,0.92]
[31.95,0.92]
[31.96,0.92]
[31.97,0.92]
[31.98,0.92]
[31.99,0.92]
[32,0.92]
[32.01,0.92]
[32.020000000000003,0.92]
[32.03,0.92]
[32.04,0.92]
[32.049999999999997,0.92]
[32.06,0.92]
[32.07,0.92]
[32.08,0.92]
[32.090000000000003,0.92]
[32.1,0.92]
[32.11,0.92]
[32.119999999999997,0.92]
[32.130000000000003,0.92]
[32.14,0.92]
[32.15,0.92]
[32.159999999999997,0.92]
[32.17,0.92]
[32.18,0.92]
[32.19,0.92]
[32.200000000000003,0.92]
[32.21,0.92]
[32.22,0.92]
[32.229999999999997,0.92]
[32.24,0.92]
[32.25,0.92]
[32.26,0.92]
[32.270000000000003,0.92]
[32.28,0.92]
[32.29,0.92]
[32.299999999999997,0.92]
[32.31,0.92]
[32.32,0.92]
[32.33,0.92]
[32.340000000000003,0.92]
[32.35,0.92]
[32.36,0.92]
[32.369999999999997,0.92]
[32.380000000000003,0.92]
[32.39,0.92]
[32.4,0.92]
[32.409999999999997,0.92]
[32.42,0.92]
[32.43,0.92]
[32.44,0.92]
[32.450000000000003,0.92]
[32.46,0.92]
[32.47,0.92]
[32.479999999999997,0.92]
[32.49,0.92]
[32.5,0.92]
[32.51,0.92]
[32.520000000000003,0.92]
[32.53,0.92]
[32.54,0.92]
[32.549999999999997,0.92]
[32.56,0.92]
[32.57,0.92]
[32.58,0.92]
[32.590000000000003,0.92]
[32.6,0.92]
[32.61,0.92]
[32.619999999999997,0.92]
[32.630000000000003,0.92]
[32.64,0.92]
[32.65,0.92]
[32.659999999999997,0.92]
[32.67,0.92]
[32.68,0.92]
[32.69,0.92]
[32.700000000000003,0.92]
[32.71,0.92]
[32.72,0.92]
[32.729999999999997,0.92]
[32.74,0.92]
[32.75,0.92]
[32.76,0.92]
[32.770000000000003,0.92]
[32.78,0.92]
[32.79,0.92]
[32.799999999999997,0.92]
[32.81,0.92]
[32.82,0.92]
[32.83,0.92]
[32.840000000000003,0.92]
[32.85,0.92]
[32.86,0.92]
[32.869999999999997,0.92]
[32.880000000000003,0.92]
[32.89,0.92]
[32.9,0.92]
[32.909999999999997,0.92]
[32.92,0.92]
[32.93,0.92]
[32.94,0.92]
[32.950000000000003,0.92]
[32.96,0.92]
[32.97,0.92]
[32.979999999999997,0.92]
[32.99,0.92]
[33,0.92]
[33.01,0.92]
[33.020000000000003,0.92]
[33.03,0.92]
[33.04,0.92]
[33.049999999999997,0.92]
[33.06,0.92]
[33.07,0.92]
[33.08,0.92]
[33.090000000000003,0.92]
[33.1,0.92]
[33.11,0.92]
[33.119999999999997,0.92]
[33.130000000000003,0.92]
[33.14,0.92]
[33.15,0.92]
[33.159999999999997,0.92]
[33.17,0.92]
[33.18,0.92]
[33.19,0.92]
[33.200000000000003,0.92]
[33.21,0.92]
[33.22,0.92]
[33.229999999999997,0.92]
[33.24,0.92]
[33.25,0.92]
[33.26,0.92]
[33.270000000000003,0.92]
[33.28,0.92]
[33.29,0.92]
[33.299999999999997,0.92]
[33.31,0.92]
[33.32,0.92]
[33.33,0.92]
[33.340000000000003,0.92]
[33.35,0.92]
[33.36,0.92]
[33.369999999999997,0.92]
[33.380000000000003,0.92]
[33.39,0.92]
[33.4,0.92]
[33.409999999999997,0.92]
[33.42,0.92]
[33.43,0.92]
[33.44,0.92]
[33.450000000000003,0.92]
[33.46,0.92]
[33.47,0.92]
[33.479999999999997,0.92]
[33.49,0.92]
[33.5,0.92]
[33.51,0.92]
[33.520000000000003,0.92]
[33.53,0.92]
[33.54,0.92]
[33.549999999999997,0.92]
[33.56,0.92]
[33.57,0.92]
[33.58,0.92]
[33.590000000000003,0.92]
[33.6,0.92]
[33.61,0.92]
[33.619999999999997,0.92]
[33.630000000000003,0.92]
[33.64,0.92]
[33.65,0.92]
[33.659999999999997,0.92]
[33.67,0.92]
[33.68,0.92]
[33.69,0.92]
[33.700000000000003,0.92]
[33.71,0.92]
[33.72,0.92]
[33.729999999999997,0.92]
[33.74,0.92]
[33.75,0.92]
[33.76,0.92]
[33.770000000000003,0.92]
[33.78,0.92]
[33.79,0.92]
[33.799999999999997,0.92]
[33.81,0.92]
[33.82,0.92]
[33.83,0.92]
[33.840000000000003,0.92]
[33.85,0.92]
[33.86,0.92]
[33.869999999999997,0.92]
[33.880000000000003,0.92]
[33.89,0.92]
[33.9,0.92]
[33.909999999999997,0.92]
[33.92,0.92]
[33.93,0.92]
[33.94,0.92]
[33.950000000000003,0.92]
[33.96,0.92]
[33.97,0.92]
[33.979999999999997,0.92]
[33.99,0.92]
[34,0.92]
[34.01,0.92]
[34.020000000000003,0.92]
[34.03,0.92]
[34.04,0.92]
[34.049999999999997,0.92]
[34.06,0.92]
[34.07,0.92]
[34.08,0.92]
[34.090000000000003,0.92]
[34.1,0.92]
[34.11,0.92]
[34.119999999999997,0.92]
[34.130000000000003,0.92]
[34.14,0.92]
[34.15,0.92]
[34.159999999999997,0.92]
[34.17,0.92]
[34.18,0.92]
[34.19,0.92]
[34.200000000000003,0.92]
[34.21,0.92]
[34.22,0.92]
[34.229999999999997,0.92]
[34.24,0.92]
[34.25,0.92]
[34.26,0.92]
[34.270000000000003,0.92]
[34.28,0.92]
[34.29,0.92]
[34.299999999999997,0.92]
[34.31,0.92]
[34.32,0.92]
[34.33,0.92]
[34.340000000000003,0.92]
[34.35,0.92]
[34.36,0.92]
[34.369999999999997,0.92]
[34.380000000000003,0.92]
[34.39,0.92]
[34.4,0.92]
[34.409999999999997,0.92]
[34.42,0.92]
[34.43,0.92]
[34.44,0.92]
[34.450000000000003,0.92]
[34.46,0.92]
[34.47,0.92]
[34.479999999999997,0.92]
[34.49,0.92]
[34.5,0.92]
[34.51,0.92]
[34.520000000000003,0.92]
[34.53,0.92]
[34.54,0.92]
[34.549999999999997,0.92]
[34.56,0.92]
[34.57,0.92]
[34.58,0.92]
[34.590000000000003,0.92]
[34.6,0.92]
[34.61,0.92]
[34.619999999999997,0.92]
[34.630000000000003,0.92]
[34.64,0.92]
[34.65,0.92]
[34.659999999999997,0.92]
[34.67,0.92]
[34.68,0.92]
[34.69,0.92]
[34.700000000000003,0.92]
[34.71,0.92]
[34.72,0.92]
[34.729999999999997,0.92]
[34.74,0.92]
[34.75,0.92]
[34.76,0.92]
[34.770000000000003,0.92]
[34.78,0.92]
[34.79,0.92]
[34.799999999999997,0.92]
[34.81,0.92]
[34.82,0.92]
[34.83,0.92]
[34.840000000000003,0.92]
[34.85,0.92]
[34.86,0.92]
[34.869999999999997,0.92]
[34.880000000000003,0.92]
[34.89,0.92]
[34.9,0.92]
[34.909999999999997,0.92]
[34.92,0.92]
[34.93,0.92]
[34.94,0.92]
[34.950000000000003,0.92]
[34.96,0.92]
[34.97,0.92]
[34.979999999999997,0.92]
[34.99,0.92]
[35,0.92]
[35.01,0.92]
[35.020000000000003,0.92]
[35.03,0.92]
[35.04,0.92]
[35.049999999999997,0.92]
[35.06,0.92]
[35.07,0.92]
[35.08,0.92]
[35.090000000000003,0.92]
[35.1,0.92]
[35.11,0.92]
[35.119999999999997,0.92]
[35.130000000000003,0.92]
[35.14,0.92]
[35.15,0.92]
[35.159999999999997,0.92]
[35.17,0.92]
[35.18,0.92]
[35.19,0.92]
[35.200000000000003,0.92]
[35.21,0.92]
[35.22,0.92]
[35.229999999999997,0.92]
[35.24,0.92]
[35.25,0.92]
[35.26,0.92]
[35.270000000000003,0.92]
[35.28,0.92]
[35.29,0.92]
[35.299999999999997,0.92]
[35.31,0.92]
[35.32,0.92]
[35.33,0.92]
[35.340000000000003,0.92]
[35.35,0.92]
[35.36,0.92]
[35.369999999999997,0.92]
[35.380000000000003,0.92]
[35.39,0.92]
[35.4,0.92]
[35.409999999999997,0.92]
[35.42,0.92]
[35.43,0.92]
[35.44,0.92]
[35.450000000000003,0.92]
[35.46,0.92]
[35.47,0.92]
[35.479999999999997,0.92]
[35.49,0.92]
[35.5,0.92]
[35.51,0.92]
[35.520000000000003,0.92]
[35.53,0.92]
[35.54,0.92]
[35.549999999999997,0.92]
[35.56,0.92]
[35.57,0.92]
[35.58,0.92]
[35.590000000000003,0.92]
[35.6,0.92]
[35.61,0.92]
[35.619999999999997,0.92]
[35.630000000000003,0.92]
[35.64,0.92]
[35.65,0.92]
[35.659999999999997,0.92]
[35.67,0.92]
[35.68,0.92]
[35.69,0.92]
[35.700000000000003,0.92]
[35.71,0.92]
[35.72,0.92]
[35.729999999999997,0.92]
[35.74,0.92]
[35.75,0.92]
[35.76,0.92]
[35.770000000000003,0.92]
[35.78,0.92]
[35.79,0.92]
[35.799999999999997,0.92]
[35.81,0.92]
[35.82,0.92]
[35.83,0.92]
[35.840000000000003,0.92]
[35.85,0.92]
[35.86,0.92]
[35.869999999999997,0.92]
[35.880000000000003,0.92]
[35.89,0.92]
[35.9,0.92]
[35.909999999999997,0.92]
[35.92,0.92]
[35.93,0.92]
[35.94,0.92]
[35.950000000000003,0.92]
[35.96,0.92]
[35.97,0.92]
[35.979999999999997,0.92]
[35.99,0.92]
[36,0.92]
[36.01,0.92]
[36.020000000000003,0.92]
[36.03,0.92]
[36.04,0.92]
[36.049999999999997,0.92]
[36.06,0.92]
[36.07,0.92]
[36.08,0.92]
[36.090000000000003,0.92]
[36.1,0.92]
[36.11,0.92]
[36.119999999999997,0.92]
[36.130000000000003,0.92]
[36.14,0.92]
[36.15,0.92]
[36.159999999999997,0.92]
[36.17,0.92]
[36.18,0.92]
[36.19,0.92]
[36.200000000000003,0.92]
[36.21,0.92]
[36.22,0.92]
[36.229999999999997,0.92]
[36.24,0.92]
[36.25,0.92]
[36.26,0.92]
[36.270000000000003,0.92]
[36.28,0.92]
[36.29,0.92]
[36.299999999999997,0.92]
[36.31,0.92]
[36.32,0.92]
[36.33,0.92]
[36.340000000000003,0.92]
[36.35,0.92]
[36.36,0.92]
[36.369999999999997,0.92]
[36.380000000000003,0.92]
[36.39,0.92]
[36.4,0.92]
[36.409999999999997,0.92]
[36.42,0.92]
[36.43,0.92]
[36.44,0.92]
[36.450000000000003,0.92]
[36.46,0.92]
[36.47,0.92]
[36.479999999999997,0.92]
[36.49,0.92]
[36.5,0.92]
[36.51,0.92]
[36.520000000000003,0.92]
[36.53,0.92]
[36.54,0.92]
[36.549999999999997,0.92]
[36.56,0.92]
[36.57,0.92]
[36.58,0.92]
[36.590000000000003,0.92]
[36.6,0.92]
[36.61,0.92]
[36.619999999999997,0.92]
[36.630000000000003,0.92]
[36.64,0.92]
[36.65,0.92]
[36.659999999999997,0.92]
[36.67,0.92]
[36.68,0.92]
[36.69,0.92]
[36.700000000000003,0.92]
[36.71,0.92]
[36.72,0.92]
[36.729999999999997,0.92]
[36.74,0.92]
[36.75,0.92]
[36.76,0.92]
[36.770000000000003,0.92]
[36.78,0.92]
[36.79,0.92]
[36.799999999999997,0.92]
[36.81,0.92]
[36.82,0.92]
[36.83,0.92]
[36.840000000000003,0.92]
[36.85,0.92]
[36.86,0.92]
[36.869999999999997,0.92]
[36.880000000000003,0.92]
[36.89,0.92]
[36.9,0.92]
[36.909999999999997,0.92]
[36.92,0.92]
[36.93,0.92]
[36.94,0.92]
[36.950000000000003,0.92]
[36.96,0.92]
[36.97,0.92]
[36.979999999999997,0.92]
[36.99,0.92]
[37,0.92]
[37.01,0.92]
[37.020000000000003,0.92]
[37.03,0.92]
[37.04,0.92]
[37.049999999999997,0.92]
[37.06,0.92]
[37.07,0.92]
[37.08,0.92]
[37.090000000000003,0.92]
[37.1,0.92]
[37.11,0.92]
[37.119999999999997,0.92]
[37.130000000000003,0.92]
[37.14,0.92]
[37.15,0.92]
[37.159999999999997,0.92]
[37.17,0.92]
[37.18,0.92]
[37.19,0.92]
[37.200000000000003,0.92]
[37.21,0.92]
[37.22,0.92]
[37.229999999999997,0.92]
[37.24,0.92]
[37.25,0.92]
[37.26,0.92]
[37.270000000000003,0.92]
[37.28,0.92]
[37.29,0.92]
[37.299999999999997,0.92]
[37.31,0.92]
[37.32,0.92]
[37.33,0.92]
[37.340000000000003,0.92]
[37.35,0.92]
[37.36,0.92]
[37.369999999999997,0.92]
[37.380000000000003,0.92]
[37.39,0.92]
[37.4,0.92]
[37.409999999999997,0.92]
[37.42,0.92]
[37.43,0.92]
[37.44,0.92]
[37.450000000000003,0.92]
[37.46,0.92]
[37.47,0.92]
[37.479999999999997,0.92]
[37.49,0.92]
[37.5,0.92]
[37.51,0.92]
[37.520000000000003,0.92]
[37.53,0.92]
[37.54,0.92]
[37.549999999999997,0.92]
[37.56,0.92]
[37.57,0.92]
[37.58,0.92]
[37.590000000000003,0.92]
[37.6,0.92]
[37.61,0.92]
[37.619999999999997,0.92]
[37.630000000000003,0.92]
[37.64,0.92]
[37.65,0.92]
[37.659999999999997,0.92]
[37.67,0.92]
[37.68,0.92]
[37.69,0.92]
[37.700000000000003,0.92]
[37.71,0.92]
[37.72,0.92]
[37.729999999999997,0.92]
[37.74,0.92]
[37.75,0.92]
[37.76,0.92]
[37.770000000000003,0.92]
[37.78,0.92]
[37.79,0.92]
[37.799999999999997,0.92]
[37.81,0.92]
[37.82,0.92]
[37.83,0.92]
[37.840000000000003,0.92]
[37.85,0.92]
[37.86,0.92]
[37.869999999999997,0.92]
[37.880000000000003,0.92]
[37.89,0.92]
[37.9,0.92]
[37.909999999999997,0.92]
[37.92,0.92]
[37.93,0.92]
[37.94,0.92]
[37.950000000000003,0.92]
[37.96,0.92]
[37.97,0.92]
[37.979999999999997,0.92]
[37.99,0.92]
[38,0.92]
[38.01,0.92]
[38.020000000000003,0.92]
[38.03,0.92]
[38.04,0.92]
[38.049999999999997,0.92]
[38.06,0.92]
[38.07,0.92]
[38.08,0.92]
[38.090000000000003,0.92]
[38.1,0.92]
[38.11,0.92]
[38.119999999999997,0.92]
[38.130000000000003,0.92]
[38.14,0.92]
[38.15,0.92]
[38.159999999999997,0.92]
[38.17,0.92]
[38.18,0.92]
[38.19,0.92]
[38.200000000000003,0.92]
[38.21,0.92]
[38.22,0.92]
[38.229999999999997,0.92]
[38.24,0.92]
[38.25,0.92]
[38.26,0.92]
[38.270000000000003,0.92]
[38.28,0.92]
[38.29,0.92]
[38.299999999999997,0.92]
[38.31,0.92]
[38.32,0.92]
[38.33,0.92]
[38.340000000000003,0.92]
[38.35,0.92]
[38.36,0.92]
[38.369999999999997,0.92]
[38.380000000000003,0.92]
[38.39,0.92]
[38.4,0.92]
[38.409999999999997,0.92]
[38.42,0.92]
[38.43,0.92]
[38.44,0.92]
[38.450000000000003,0.92]
[38.46,0.92]
[38.47,0.92]
[38.479999999999997,0.92]
[38.49,0.92]
[38.5,0.92]
[38.51,0.92]
[38.520000000000003,0.92]
[38.53,0.92]
[38.54,0.92]
[38.549999999999997,0.92]
[38.56,0.92]
[38.57,0.92]
[38.58,0.92]
[38.590000000000003,0.92]
[38.6,0.92]
[38.61,0.92]
[38.619999999999997,0.92]
[38.630000000000003,0.92]
[38.64,0.92]
[38.65,0.92]
[38.659999999999997,0.92]
[38.67,0.92]
[38.68,0.92]
[38.69,0.92]
[38.700000000000003,0.92]
[38.71,0.92]
[38.72,0.92]
[38.729999999999997,0.92]
[38.74,0.92]
[38.75,0.92]
[38.76,0.92]
[38.770000000000003,0.92]
[38.78,0.92]
[38.79,0.92]
[38.799999999999997,0.92]
[38.81,0.92]
[38.82,0.92]
[38.83,0.92]
[38.840000000000003,0.92]
[38.85,0.92]
[38.86,0.92]
[38.869999999999997,0.92]
[38.880000000000003,0.92]
[38.89,0.92]
[38.9,0.92]
[38.909999999999997,0.92]
[38.92,0.92]
[38.93,0.92]
[38.94,0.92]
[38.950000000000003,0.92]
[38.96,0.92]
[38.97,0.92]
[38.979999999999997,0.92]
[38.99,0.92]
[39,0.92]
[39.01,0.92]
[39.020000000000003,0.92]
[39.03,0.92]
[39.04,0.92]
[39.049999999999997,0.92]
[39.06,0.92]
[39.07,0.92]
[39.08,0.92]
[39.090000000000003,0.92]
[39.1,0.92]
[39.11,0.92]
[39.119999999999997,0.92]
[39.130000000000003,0.92]
[39.14,0.92]
[39.15,0.92]
[39.159999999999997,0.92]
[39.17,0.92]
[39.18,0.92]
[39.19,0.92]
[39.200000000000003,0.92]
[39.21,0.92]
[39.22,0.92]
[39.229999999999997,0.92]
[39.24,0.92]
[39.25,0.92]
[39.26,0.92]
[39.270000000000003,0.92]
[39.28,0.92]
[39.29,0.92]
[39.299999999999997,0.92]
[39.31,0.92]
[39.32,0.92]
[39.33,0.92]
[39.340000000000003,0.92]
[39.35,0.92]
[39.36,0.92]
[39.369999999999997,0.92]
[39.380000000000003,0.92]
[39.39,0.92]
[39.4,0.92]
[39.409999999999997,0.92]
[39.42,0.92]
[39.43,0.92]
[39.44,0.92]
[39.450000000000003,0.92]
[39.46,0.92]
[39.47,0.92]
[39.479999999999997,0.92]
[39.49,0.92]
[39.5,0.92]
[39.51,0.92]
[39.520000000000003,0.92]
[39.53,0.92]
[39.54,0.92]
[39.549999999999997,0.92]
[39.56,0.92]
[39.57,0.92]
[39.58,0.92]
[39.590000000000003,0.92]
[39.6,0.92]
[39.61,0.92]
[39.619999999999997,0.92]
[39.630000000000003,0.92]
[39.64,0.92]
[39.65,0.92]
[39.659999999999997,0.92]
[39.67,0.92]
[39.68,0.92]
[39.69,0.92]
[39.700000000000003,0.92]
[39.71,0.92]
[39.72,0.92]
[39.729999999999997,0.92]
[39.74,0.92]
[39.75,0.92]
[39.76,0.92]
[39.770000000000003,0.92]
[39.78,0.92]
[39.79,0.92]
[39.799999999999997,0.92]
[39.81,0.92]
[39.82,0.92]
[39.83,0.92]
[39.840000000000003,0.92]
[39.85,0.92]
[39.86,0.92]
[39.869999999999997,0.92]
[39.880000000000003,0.92]
[39.89,0.92]
[39.9,0.92]
[39.909999999999997,0.92]
[39.92,0.92]
[39.93,0.92]
[39.94,0.92]
[39.950000000000003,0.92]
[39.96,0.92]
[39.97,0.92]
[39.979999999999997,0.92]
[39.99,0.92]
[40,0.92]
[40.01,0.89]
[40.020000000000003,0.89]
[40.03,0.89]
[40.04,0.89]
[40.049999999999997,0.89]
[40.06,0.89]
[40.07,0.89]
[40.08,0.89]
[40.090000000000003,0.89]
[40.1,0.89]
[40.11,0.89]
[40.119999999999997,0.89]
[40.130000000000003,0.89]
[40.14,0.89]
[40.15,0.89]
[40.159999999999997,0.89]
[40.17,0.89]
[40.18,0.89]
[40.19,0.89]
[40.200000000000003,0.89]
[40.21,0.89]
[40.22,0.89]
[40.229999999999997,0.89]
[40.24,0.89]
[40.25,0.89]
[40.26,0.89]
[40.270000000000003,0.89]
[40.28,0.89]
[40.29,0.89]
[40.299999999999997,0.89]
[40.31,0.89]
[40.32,0.89]
[40.33,0.89]
[40.340000000000003,0.89]
[40.35,0.89]
[40.36,0.89]
[40.369999999999997,0.89]
[40.380000000000003,0.89]
[40.39,0.89]
[40.4,0.89]
[40.409999999999997,0.89]
[40.42,0.89]
[40.43,0.89]
[40.44,0.89]
[40.450000000000003,0.89]
[40.46,0.89]
[40.47,0.89]
[40.479999999999997,0.89]
[40.49,0.89]
[40.5,0.89]
[40.51,0.89]
[40.520000000000003,0.89]
[40.53,0.89]
[40.54,0.89]
[40.549999999999997,0.89]
[40.56,0.89]
[40.57,0.89]
[40.58,0.89]
[40.590000000000003,0.89]
[40.6,0.89]
[40.61,0.89]
[40.619999999999997,0.89]
[40.630000000000003,0.89]
[40.64,0.89]
[40.65,0.89]
[40.659999999999997,0.89]
[40.67,0.89]
[40.68,0.89]
[40.69,0.89]
[40.700000000000003,0.89]
[40.71,0.89]
[40.72,0.89]
[40.729999999999997,0.89]
[40.74,0.89]
[40.75,0.89]
[40.76,0.89]
[40.770000000000003,0.89]
[40.78,0.89]
[40.79,0.89]
[40.799999999999997,0.89]
[40.81,0.89]
[40.82,0.89]
[40.83,0.89]
[40.840000000000003,0.89]
[40.85,0.89]
[40.86,0.89]
[40.869999999999997,0.89]
[40.880000000000003,0.89]
[40.89,0.89]
[40.9,0.89]
[40.909999999999997,0.89]
[40.92,0.89]
[40.93,0.89]
[40.94,0.89]
[40.950000000000003,0.89]
[40.96,0.89]
[40.97,0.89]
[40.98,0.89]
[40.99,0.89]
[41,0.89]
[41.01,0.89]
[41.02,0.89]
[41.03,0.89]
[41.04,0.89]
[41.05,0.89]
[41.06,0.89]
[41.07,0.89]
[41.08,0.89]
[41.09,0.89]
[41.1,0.89]
[41.11,0.89]
[41.12,0.89]
[41.13,0.89]
[41.14,0.89]
[41.15,0.89]
[41.16,0.89]
[41.17,0.89]
[41.18,0.89]
[41.19,0.89]
[41.2,0.89]
[41.21,0.89]
[41.22,0.89]
[41.23,0.89]
[41.24,0.89]
[41.25,0.89]
[41.26,0.89]
[41.27,0.89]
[41.28,0.89]
[41.29,0.89]
[41.3,0.89]
[41.31,0.89]
[41.32,0.89]
[41.33,0.89]
[41.34,0.89]
[41.35,0.89]
[41.36,0.89]
[41.37,0.89]
[41.38,0.89]
[41.39,0.89]
[41.4,0.89]
[41.41,0.89]
[41.42,0.89]
[41.43,0.89]
[41.44,0.89]
[41.45,0.89]
[41.46,0.89]
[41.47,0.89]
[41.48,0.89]
[41.49,0.89]
[41.5,0.89]
[41.51,0.89]
[41.52,0.89]
[41.53,0.89]
[41.54,0.89]
[41.55,0.89]
[41.56,0.89]
[41.57,0.89]
[41.58,0.89]
[41.59,0.89]
[41.6,0.89]
[41.61,0.89]
[41.62,0.89]
[41.63,0.89]
[41.64,0.89]
[41.65,0.89]
[41.66,0.89]
[41.67,0.89]
[41.68,0.89]
[41.69,0.89]
[41.7,0.89]
[41.71,0.89]
[41.72,0.89]
[41.73,0.89]
[41.74,0.89]
[41.75,0.89]
[41.76,0.89]
[41.77,0.89]
[41.78,0.89]
[41.79,0.89]
[41.8,0.89]
[41.81,0.89]
[41.82,0.89]
[41.83,0.89]
[41.84,0.89]
[41.85,0.89]
[41.86,0.89]
[41.87,0.89]
[41.88,0.89]
[41.89,0.89]
[41.9,0.89]
[41.91,0.89]
[41.92,0.89]
[41.93,0.89]
[41.94,0.89]
[41.95,0.89]
[41.96,0.89]
[41.97,0.89]
[41.98,0.89]
[41.99,0.89]
[42,0.89]
[42.01,0.89]
[42.02,0.89]
[42.03,0.89]
[42.04,0.89]
[42.05,0.89]
[42.06,0.89]
[42.07,0.89]
[42.08,0.89]
[42.09,0.89]
[42.1,0.89]
[42.11,0.89]
[42.12,0.89]
[42.13,0.89]
[42.14,0.89]
[42.15,0.89]
[42.16,0.89]
[42.17,0.89]
[42.18,0.89]
[42.19,0.89]
[42.2,0.89]
[42.21,0.89]
[42.22,0.89]
[42.23,0.89]
[42.24,0.89]
[42.25,0.89]
[42.26,0.89]
[42.27,0.89]
[42.28,0.89]
[42.29,0.89]
[42.3,0.89]
[42.31,0.89]
[42.32,0.89]
[42.33,0.89]
[42.34,0.89]
[42.35,0.89]
[42.36,0.89]
[42.37,0.89]
[42.38,0.89]
[42.39,0.89]
[42.4,0.89]
[42.41,0.89]
[42.42,0.89]
[42.43,0.89]
[42.44,0.89]
[42.45,0.89]
[42.46,0.89]
[42.47,0.89]
[42.48,0.89]
[42.49,0.89]
[42.5,0.89]
[42.51,0.89]
[42.52,0.89]
[42.53,0.89]
[42.54,0.89]
[42.55,0.89]
[42.56,0.89]
[42.57,0.89]
[42.58,0.89]
[42.59,0.89]
[42.6,0.89]
[42.61,0.89]
[42.62,0.89]
[42.63,0.89]
[42.64,0.89]
[42.65,0.89]
[42.66,0.89]
[42.67,0.89]
[42.68,0.89]
[42.69,0.89]
[42.7,0.89]
[42.71,0.89]
[42.72,0.89]
[42.73,0.89]
[42.74,0.89]
[42.75,0.89]
[42.76,0.89]
[42.77,0.89]
[42.78,0.89]
[42.79,0.89]
[42.8,0.89]
[42.81,0.89]
[42.82,0.89]
[42.83,0.89]
[42.84,0.89]
[42.85,0.89]
[42.86,0.89]
[42.87,0.89]
[42.88,0.89]
[42.89,0.89]
[42.9,0.89]
[42.91,0.89]
[42.92,0.89]
[42.93,0.89]
[42.94,0.89]
[42.95,0.89]
[42.96,0.89]
[42.97,0.89]
[42.98,0.89]
[42.99,0.89]
[43,0.89]
[43.01,0.89]
[43.02,0.89]
[43.03,0.89]
[43.04,0.89]
[43.05,0.89]
[43.06,0.89]
[43.07,0.89]
[43.08,0.89]
[43.09,0.89]
[43.1,0.89]
[43.11,0.89]
[43.12,0.89]
[43.13,0.89]
[43.14,0.89]
[43.15,0.89]
[43.16,0.89]
[43.17,0.89]
[43.18,0.89]
[43.19,0.89]
[43.2,0.89]
[43.21,0.89]
[43.22,0.89]
[43.23,0.89]
[43.24,0.89]
[43.25,0.89]
[43.26,0.89]
[43.27,0.89]
[43.28,0.89]
[43.29,0.89]
[43.3,0.89]
[43.31,0.89]
[43.32,0.89]
[43.33,0.89]
[43.34,0.89]
[43.35,0.89]
[43.36,0.89]
[43.37,0.89]
[43.38,0.89]
[43.39,0.89]
[43.4,0.89]
[43.41,0.89]
[43.42,0.89]
[43.43,0.89]
[43.44,0.89]
[43.45,0.89]
[43.46,0.89]
[43.47,0.89]
[43.48,0.89]
[43.49,0.89]
[43.5,0.89]
[43.51,0.89]
[43.52,0.89]
[43.53,0.89]
[43.54,0.89]
[43.55,0.89]
[43.56,0.89]
[43.57,0.89]
[43.58,0.89]
[43.59,0.89]
[43.6,0.89]
[43.61,0.89]
[43.62,0.89]
[43.63,0.89]
[43.64,0.89]
[43.65,0.89]
[43.66,0.89]
[43.67,0.89]
[43.68,0.89]
[43.69,0.89]
[43.7,0.89]
[43.71,0.89]
[43.72,0.89]
[43.73,0.89]
[43.74,0.89]
[43.75,0.89]
[43.76,0.89]
[43.77,0.89]
[43.78,0.89]
[43.79,0.89]
[43.8,0.89]
[43.81,0.89]
[43.82,0.89]
[43.83,0.89]
[43.84,0.89]
[43.85,0.89]
[43.86,0.89]
[43.87,0.89]
[43.88,0.89]
[43.89,0.89]
[43.9,0.89]
[43.91,0.89]
[43.92,0.89]
[43.93,0.89]
[43.94,0.89]
[43.95,0.89]
[43.96,0.89]
[43.97,0.89]
[43.98,0.89]
[43.99,0.89]
[44,0.89]
[44.01,0.89]
[44.02,0.89]
[44.03,0.89]
[44.04,0.89]
[44.05,0.89]
[44.06,0.89]
[44.07,0.89]
[44.08,0.89]
[44.09,0.89]
[44.1,0.89]
[44.11,0.89]
[44.12,0.89]
[44.13,0.89]
[44.14,0.89]
[44.15,0.89]
[44.16,0.89]
[44.17,0.89]
[44.18,0.89]
[44.19,0.89]
[44.2,0.89]
[44.21,0.89]
[44.22,0.89]
[44.23,0.89]
[44.24,0.89]
[44.25,0.89]
[44.26,0.89]
[44.27,0.89]
[44.28,0.89]
[44.29,0.89]
[44.3,0.89]
[44.31,0.89]
[44.32,0.89]
[44.33,0.89]
[44.34,0.89]
[44.35,0.89]
[44.36,0.89]
[44.37,0.89]
[44.38,0.89]
[44.39,0.89]
[44.4,0.89]
[44.41,0.89]
[44.42,0.89]
[44.43,0.89]
[44.44,0.89]
[44.45,0.89]
[44.46,0.89]
[44.47,0.89]
[44.48,0.89]
[44.49,0.89]
[44.5,0.89]
[44.51,0.89]
[44.52,0.89]
[44.53,0.89]
[44.54,0.89]
[44.55,0.89]
[44.56,0.89]
[44.57,0.89]
[44.58,0.89]
[44.59,0.89]
[44.6,0.89]
[44.61,0.89]
[44.62,0.89]
[44.63,0.89]
[44.64,0.89]
[44.65,0.89]
[44.66,0.89]
[44.67,0.89]
[44.68,0.89]
[44.69,0.89]
[44.7,0.89]
[44.71,0.89]
[44.72,0.89]
[44.73,0.89]
[44.74,0.89]
[44.75,0.89]
[44.76,0.89]
[44.77,0.89]
[44.78,0.89]
[44.79,0.89]
[44.8,0.89]
[44.81,0.89]
[44.82,0.89]
[44.83,0.89]
[44.84,0.89]
[44.85,0.89]
[44.86,0.89]
[44.87,0.89]
[44.88,0.89]
[44.89,0.89]
[44.9,0.89]
[44.91,0.89]
[44.92,0.89]
[44.93,0.89]
[44.94,0.89]
[44.95,0.89]
[44.96,0.89]
[44.97,0.89]
[44.98,0.89]
[44.99,0.89]
[45,0.89]
[45.01,0.89]
[45.02,0.89]
[45.03,0.89]
[45.04,0.89]
[45.05,0.89]
[45.06,0.89]
[45.07,0.89]
[45.08,0.89]
[45.09,0.89]
[45.1,0.89]
[45.11,0.89]
[45.12,0.89]
[45.13,0.89]
[45.14,0.89]
[45.15,0.89]
[45.16,0.89]
[45.17,0.89]
[45.18,0.89]
[45.19,0.89]
[45.2,0.89]
[45.21,0.89]
[45.22,0.89]
[45.23,0.89]
[45.24,0.89]
[45.25,0.89]
[45.26,0.89]
[45.27,0.89]
[45.28,0.89]
[45.29,0.89]
[45.3,0.89]
[45.31,0.89]
[45.32,0.89]
[45.33,0.89]
[45.34,0.89]
[45.35,0.89]
[45.36,0.89]
[45.37,0.89]
[45.38,0.89]
[45.39,0.89]
[45.4,0.89]
[45.41,0.89]
[45.42,0.89]
[45.43,0.89]
[45.44,0.89]
[45.45,0.89]
[45.46,0.89]
[45.47,0.89]
[45.48,0.89]
[45.49,0.89]
[45.5,0.89]
[45.51,0.89]
[45.52,0.89]
[45.53,0.89]
[45.54,0.89]
[45.55,0.89]
[45.56,0.89]
[45.57,0.89]
[45.58,0.89]
[45.59,0.89]
[45.6,0.89]
[45.61,0.89]
[45.62,0.89]
[45.63,0.89]
[45.64,0.89]
[45.65,0.89]
[45.66,0.89]
[45.67,0.89]
[45.68,0.89]
[45.69,0.89]
[45.7,0.89]
[45.71,0.89]
[45.72,0.89]
[45.73,0.89]
[45.74,0.89]
[45.75,0.89]
[45.76,0.89]
[45.77,0.89]
[45.78,0.89]
[45.79,0.89]
[45.8,0.89]
[45.81,0.89]
[45.82,0.89]
[45.83,0.89]
[45.84,0.89]
[45.85,0.89]
[45.86,0.89]
[45.87,0.89]
[45.88,0.89]
[45.89,0.89]
[45.9,0.89]
[45.91,0.89]
[45.92,0.89]
[45.93,0.89]
[45.94,0.89]
[45.95,0.89]
[45.96,0.89]
[45.97,0.89]
[45.98,0.89]
[45.99,0.89]
[46,0.89]
[46.01,0.89]
[46.02,0.89]
[46.03,0.89]
[46.04,0.89]
[46.05,0.89]
[46.06,0.89]
[46.07,0.89]
[46.08,0.89]
[46.09,0.89]
[46.1,0.89]
[46.11,0.89]
[46.12,0.89]
[46.13,0.89]
[46.14,0.89]
[46.15,0.89]
[46.16,0.89]
[46.17,0.89]
[46.18,0.89]
[46.19,0.89]
[46.2,0.89]
[46.21,0.89]
[46.22,0.89]
[46.23,0.89]
[46.24,0.89]
[46.25,0.89]
[46.26,0.89]
[46.27,0.89]
[46.28,0.89]
[46.29,0.89]
[46.3,0.89]
[46.31,0.89]
[46.32,0.89]
[46.33,0.89]
[46.34,0.89]
[46.35,0.89]
[46.36,0.89]
[46.37,0.89]
[46.38,0.89]
[46.39,0.89]
[46.4,0.89]
[46.41,0.89]
[46.42,0.89]
[46.43,0.89]
[46.44,0.89]
[46.45,0.89]
[46.46,0.89]
[46.47,0.89]
[46.48,0.89]
[46.49,0.89]
[46.5,0.89]
[46.51,0.89]
[46.52,0.89]
[46.53,0.89]
[46.54,0.89]
[46.55,0.89]
[46.56,0.89]
[46.57,0.89]
[46.58,0.89]
[46.59,0.89]
[46.6,0.89]
[46.61,0.89]
[46.62,0.89]
[46.63,0.89]
[46.64,0.89]
[46.65,0.89]
[46.66,0.89]
[46.67,0.89]
[46.68,0.89]
[46.69,0.89]
[46.7,0.89]
[46.71,0.89]
[46.72,0.89]
[46.73,0.89]
[46.74,0.89]
[46.75,0.89]
[46.76,0.89]
[46.77,0.89]
[46.78,0.89]
[46.79,0.89]
[46.8,0.89]
[46.81,0.89]
[46.82,0.89]
[46.83,0.89]
[46.84,0.89]
[46.85,0.89]
[46.86,0.89]
[46.87,0.89]
[46.88,0.89]
[46.89,0.89]
[46.9,0.89]
[46.91,0.89]
[46.92,0.89]
[46.93,0.89]
[46.94,0.89]
[46.95,0.89]
[46.96,0.89]
[46.97,0.89]
[46.98,0.89]
[46.99,0.89]
[47,0.89]
[47.01,0.89]
[47.02,0.89]
[47.03,0.89]
[47.04,0.89]
[47.05,0.89]
[47.06,0.89]
[47.07,0.89]
[47.08,0.89]
[47.09,0.89]
[47.1,0.89]
[47.11,0.89]
[47.12,0.89]
[47.13,0.89]
[47.14,0.89]
[47.15,0.89]
[47.16,0.89]
[47.17,0.89]
[47.18,0.89]
[47.19,0.89]
[47.2,0.89]
[47.21,0.89]
[47.22,0.89]
[47.23,0.89]
[47.24,0.89]
[47.25,0.89]
[47.26,0.89]
[47.27,0.89]
[47.28,0.89]
[47.29,0.89]
[47.3,0.89]
[47.31,0.89]
[47.32,0.89]
[47.33,0.89]
[47.34,0.89]
[47.35,0.89]
[47.36,0.89]
[47.37,0.89]
[47.38,0.89]
[47.39,0.89]
[47.4,0.89]
[47.41,0.89]
[47.42,0.89]
[47.43,0.89]
[47.44,0.89]
[47.45,0.89]
[47.46,0.89]
[47.47,0.89]
[47.48,0.89]
[47.49,0.89]
[47.5,0.89]
[47.51,0.89]
[47.52,0.89]
[47.53,0.89]
[47.54,0.89]
[47.55,0.89]
[47.56,0.89]
[47.57,0.89]
[47.58,0.89]
[47.59,0.89]
[47.6,0.89]
[47.61,0.89]
[47.62,0.89]
[47.63,0.89]
[47.64,0.89]
[47.65,0.89]
[47.66,0.89]
[47.67,0.89]
[47.68,0.89]
[47.69,0.89]
[47.7,0.89]
[47.71,0.89]
[47.72,0.89]
[47.73,0.89]
[47.74,0.89]
[47.75,0.89]
[47.76,0.89]
[47.77,0.89]
[47.78,0.89]
[47.79,0.89]
[47.8,0.89]
[47.81,0.89]
[47.82,0.89]
[47.83,0.89]
[47.84,0.89]
[47.85,0.89]
[47.86,0.89]
[47.87,0.89]
[47.88,0.89]
[47.89,0.89]
[47.9,0.89]
[47.91,0.89]
[47.92,0.89]
[47.93,0.89]
[47.94,0.89]
[47.95,0.89]
[47.96,0.89]
[47.97,0.89]
[47.98,0.89]
[47.99,0.89]
[48,0.89]
[48.01,0.89]
[48.02,0.89]
[48.03,0.89]
[48.04,0.89]
[48.05,0.89]
[48.06,0.89]
[48.07,0.89]
[48.08,0.89]
[48.09,0.89]
[48.1,0.89]
[48.11,0.89]
[48.12,0.89]
[48.13,0.89]
[48.14,0.89]
[48.15,0.89]
[48.16,0.89]
[48.17,0.89]
[48.18,0.89]
[48.19,0.89]
[48.2,0.89]
[48.21,0.89]
[48.22,0.89]
[48.23,0.89]
[48.24,0.89]
[48.25,0.89]
[48.26,0.89]
[48.27,0.89]
[48.28,0.89]
[48.29,0.89]
[48.3,0.89]
[48.31,0.89]
[48.32,0.89]
[48.33,0.89]
[48.34,0.89]
[48.35,0.89]
[48.36,0.89]
[48.37,0.89]
[48.38,0.89]
[48.39,0.89]
[48.4,0.89]
[48.41,0.89]
[48.42,0.89]
[48.43,0.89]
[48.44,0.89]
[48.45,0.89]
[48.46,0.89]
[48.47,0.89]
[48.48,0.89]
[48.49,0.89]
[48.5,0.89]
[48.51,0.89]
[48.52,0.89]
[48.53,0.89]
[48.54,0.89]
[48.55,0.89]
[48.56,0.89]
[48.57,0.89]
[48.58,0.89]
[48.59,0.89]
[48.6,0.89]
[48.61,0.89]
[48.62,0.89]
[48.63,0.89]
[48.64,0.89]
[48.65,0.89]
[48.66,0.89]
[48.67,0.89]
[48.68,0.89]
[48.69,0.89]
[48.7,0.89]
[48.71,0.89]
[48.72,0.89]
[48.73,0.89]
[48.74,0.89]
[48.75,0.89]
[48.76,0.89]
[48.77,0.89]
[48.78,0.89]
[48.79,0.89]
[48.8,0.89]
[48.81,0.89]
[48.82,0.89]
[48.83,0.89]
[48.84,0.89]
[48.85,0.89]
[48.86,0.89]
[48.87,0.89]
[48.88,0.89]
[48.89,0.89]
[48.9,0.89]
[48.91,0.89]
[48.92,0.89]
[48.93,0.89]
[48.94,0.89]
[48.95,0.89]
[48.96,0.89]
[48.97,0.89]
[48.98,0.89]
[48.99,0.89]
[49,0.89]
[49.01,0.89]
[49.02,0.89]
[49.03,0.89]
[49.04,0.89]
[49.05,0.89]
[49.06,0.89]
[49.07,0.89]
[49.08,0.89]
[49.09,0.89]
[49.1,0.89]
[49.11,0.89]
[49.12,0.89]
[49.13,0.89]
[49.14,0.89]
[49.15,0.89]
[49.16,0.89]
[49.17,0.89]
[49.18,0.89]
[49.19,0.89]
[49.2,0.89]
[49.21,0.89]
[49.22,0.89]
[49.23,0.89]
[49.24,0.89]
[49.25,0.89]
[49.26,0.89]
[49.27,0.89]
[49.28,0.89]
[49.29,0.89]
[49.3,0.89]
[49.31,0.89]
[49.32,0.89]
[49.33,0.89]
[49.34,0.89]
[49.35,0.89]
[49.36,0.89]
[49.37,0.89]
[49.38,0.89]
[49.39,0.89]
[49.4,0.89]
[49.41,0.89]
[49.42,0.89]
[49.43,0.89]
[49.44,0.89]
[49.45,0.89]
[49.46,0.89]
[49.47,0.89]
[49.48,0.89]
[49.49,0.89]
[49.5,0.89]
[49.51,0.89]
[49.52,0.89]
[49.53,0.89]
[49.54,0.89]
[49.55,0.89]
[49.56,0.89]
[49.57,0.89]
[49.58,0.89]
[49.59,0.89]
[49.6,0.89]
[49.61,0.89]
[49.62,0.89]
[49.63,0.89]
[49.64,0.89]
[49.65,0.89]
[49.66,0.89]
[49.67,0.89]
[49.68,0.89]
[49.69,0.89]
[49.7,0.89]
[49.71,0.89]
[49.72,0.89]
[49.73,0.89]
[49.74,0.89]
[49.75,0.89]
[49.76,0.89]
[49.77,0.89]
[49.78,0.89]
[49.79,0.89]
[49.8,0.89]
[49.81,0.89]
[49.82,0.89]
[49.83,0.89]
[49.84,0.89]
[49.85,0.89]
[49.86,0.89]
[49.87,0.89]
[49.88,0.89]
[49.89,0.89]
[49.9,0.89]
[49.91,0.89]
[49.92,0.89]
[49.93,0.89]
[49.94,0.89]
[49.95,0.89]
[49.96,0.89]
[49.97,0.89]
[49.98,0.89]
[49.99,0.89]
[50,0.89]
[50.01,0.89]
[50.02,0.89]
[50.03,0.89]
[50.04,0.89]
[50.05,0.89]
[50.06,0.89]
[50.07,0.89]
[50.08,0.89]
[50.09,0.89]
[50.1,0.89]
[50.11,0.89]
[50.12,0.89]
[50.13,0.89]
[50.14,0.89]
[50.15,0.89]
[50.16,0.89]
[50.17,0.89]
[50.18,0.89]
[50.19,0.89]
[50.2,0.89]
[50.21,0.89]
[50.22,0.89]
[50.23,0.89]
[50.24,0.89]
[50.25,0.89]
[50.26,0.89]
[50.27,0.89]
[50.28,0.89]
[50.29,0.89]
[50.3,0.89]
[50.31,0.89]
[50.32,0.89]
[50.33,0.89]
[50.34,0.89]
[50.35,0.89]
[50.36,0.89]
[50.37,0.89]
[50.38,0.89]
[50.39,0.89]
[50.4,0.89]
[50.41,0.89]
[50.42,0.89]
[50.43,0.89]
[50.44,0.89]
[50.45,0.89]
[50.46,0.89]
[50.47,0.89]
[50.48,0.89]
[50.49,0.89]
[50.5,0.89]
[50.51,0.89]
[50.52,0.89]
[50.53,0.89]
[50.54,0.89]
[50.55,0.89]
[50.56,0.89]
[50.57,0.89]
[50.58,0.89]
[50.59,0.89]
[50.6,0.89]
[50.61,0.89]
[50.62,0.89]
[50.63,0.89]
[50.64,0.89]
[50.65,0.89]
[50.66,0.89]
[50.67,0.89]
[50.68,0.89]
[50.69,0.89]
[50.7,0.89]
[50.71,0.89]
[50.72,0.89]
[50.73,0.89]
[50.74,0.89]
[50.75,0.89]
[50.76,0.89]
[50.77,0.89]
[50.78,0.89]
[50.79,0.89]
[50.8,0.89]
[50.81,0.89]
[50.82,0.89]
[50.83,0.89]
[50.84,0.89]
[50.85,0.89]
[50.86,0.89]
[50.87,0.89]
[50.88,0.89]
[50.89,0.89]
[50.9,0.89]
[50.91,0.89]
[50.92,0.89]
[50.93,0.89]
[50.94,0.89]
[50.95,0.89]
[50.96,0.89]
[50.97,0.89]
[50.98,0.89]
[50.99,0.89]
[51,0.89]
[51.01,0.89]
[51.02,0.89]
[51.03,0.89]
[51.04,0.89]
[51.05,0.89]
[51.06,0.89]
[51.07,0.89]
[51.08,0.89]
[51.09,0.89]
[51.1,0.89]
[51.11,0.89]
[51.12,0.89]
[51.13,0.89]
[51.14,0.89]
[51.15,0.89]
[51.16,0.89]
[51.17,0.89]
[51.18,0.89]
[51.19,0.89]
[51.2,0.89]
[51.21,0.89]
[51.22,0.89]
[51.23,0.89]
[51.24,0.89]
[51.25,0.89]
[51.26,0.89]
[51.27,0.89]
[51.28,0.89]
[51.29,0.89]
[51.3,0.89]
[51.31,0.89]
[51.32,0.89]
[51.33,0.89]
[51.34,0.89]
[51.35,0.89]
[51.36,0.89]
[51.37,0.89]
[51.38,0.89]
[51.39,0.89]
[51.4,0.89]
[51.41,0.89]
[51.42,0.89]
[51.43,0.89]
[51.44,0.89]
[51.45,0.89]
[51.46,0.89]
[51.47,0.89]
[51.48,0.89]
[51.49,0.89]
[51.5,0.89]
[51.51,0.89]
[51.52,0.89]
[51.53,0.89]
[51.54,0.89]
[51.55,0.89]
[51.56,0.89]
[51.57,0.89]
[51.58,0.89]
[51.59,0.89]
[51.6,0.89]
[51.61,0.89]
[51.62,0.89]
[51.63,0.89]
[51.64,0.89]
[51.65,0.89]
[51.66,0.89]
[51.67,0.89]
[51.68,0.89]
[51.69,0.89]
[51.7,0.89]
[51.71,0.89]
[51.72,0.89]
[51.73,0.89]
[51.74,0.89]
[51.75,0.89]
[51.76,0.89]
[51.77,0.89]
[51.78,0.89]
[51.79,0.89]
[51.8,0.89]
[51.81,0.89]
[51.82,0.89]
[51.83,0.89]
[51.84,0.89]
[51.85,0.89]
[51.86,0.89]
[51.87,0.89]
[51.88,0.89]
[51.89,0.89]
[51.9,0.89]
[51.91,0.89]
[51.92,0.89]
[51.93,0.89]
[51.94,0.89]
[51.95,0.89]
[51.96,0.89]
[51.97,0.89]
[51.98,0.89]
[51.99,0.89]
[52,0.89]
[52.01,0.89]
[52.02,0.89]
[52.03,0.89]
[52.04,0.89]
[52.05,0.89]
[52.06,0.89]
[52.07,0.89]
[52.08,0.89]
[52.09,0.89]
[52.1,0.89]
[52.11,0.89]
[52.12,0.89]
[52.13,0.89]
[52.14,0.89]
[52.15,0.89]
[52.16,0.89]
[52.17,0.89]
[52.18,0.89]
[52.19,0.89]
[52.2,0.89]
[52.21,0.89]
[52.22,0.89]
[52.23,0.89]
[52.24,0.89]
[52.25,0.89]
[52.26,0.89]
[52.27,0.89]
[52.28,0.89]
[52.29,0.89]
[52.3,0.89]
[52.31,0.89]
[52.32,0.89]
[52.33,0.89]
[52.34,0.89]
[52.35,0.89]
[52.36,0.89]
[52.37,0.89]
[52.38,0.89]
[52.39,0.89]
[52.4,0.89]
[52.41,0.89]
[52.42,0.89]
[52.43,0.89]
[52.44,0.89]
[52.45,0.89]
[52.46,0.89]
[52.47,0.89]
[52.48,0.89]
[52.49,0.89]
[52.5,0.89]
[52.51,0.89]
[52.52,0.89]
[52.53,0.89]
[52.54,0.89]
[52.55,0.89]
[52.56,0.89]
[52.57,0.89]
[52.58,0.89]
[52.59,0.89]
[52.6,0.89]
[52.61,0.89]
[52.62,0.89]
[52.63,0.89]
[52.64,0.89]
[52.65,0.89]
[52.66,0.89]
[52.67,0.89]
[52.68,0.89]
[52.69,0.89]
[52.7,0.89]
[52.71,0.89]
[52.72,0.89]
[52.73,0.89]
[52.74,0.89]
[52.75,0.89]
[52.76,0.89]
[52.77,0.89]
[52.78,0.89]
[52.79,0.89]
[52.8,0.89]
[52.81,0.89]
[52.82,0.89]
[52.83,0.89]
[52.84,0.89]
[52.85,0.89]
[52.86,0.89]
[52.87,0.89]
[52.88,0.89]
[52.89,0.89]
[52.9,0.89]
[52.91,0.89]
[52.92,0.89]
[52.93,0.89]
[52.94,0.89]
[52.95,0.89]
[52.96,0.89]
[52.97,0.89]
[52.98,0.89]
[52.99,0.89]
[53,0.89]
[53.01,0.89]
[53.02,0.89]
[53.03,0.89]
[53.04,0.89]
[53.05,0.89]
[53.06,0.89]
[53.07,0.89]
[53.08,0.89]
[53.09,0.89]
[53.1,0.89]
[53.11,0.89]
[53.12,0.89]
[53.13,0.89]
[53.14,0.89]
[53.15,0.89]
[53.16,0.89]
[53.17,0.89]
[53.18,0.89]
[53.19,0.89]
[53.2,0.89]
[53.21,0.89]
[53.22,0.89]
[53.23,0.89]
[53.24,0.89]
[53.25,0.89]
[53.26,0.89]
[53.27,0.89]
[53.28,0.89]
[53.29,0.89]
[53.3,0.89]
[53.31,0.89]
[53.32,0.89]
[53.33,0.89]
[53.34,0.89]
[53.35,0.89]
[53.36,0.89]
[53.37,0.89]
[53.38,0.89]
[53.39,0.89]
[53.4,0.89]
[53.41,0.89]
[53.42,0.89]
[53.43,0.89]
[53.44,0.89]
[53.45,0.89]
[53.46,0.89]
[53.47,0.89]
[53.48,0.89]
[53.49,0.89]
[53.5,0.89]
[53.51,0.89]
[53.52,0.89]
[53.53,0.89]
[53.54,0.89]
[53.55,0.89]
[53.56,0.89]
[53.57,0.89]
[53.58,0.89]
[53.59,0.89]
[53.6,0.89]
[53.61,0.89]
[53.62,0.89]
[53.63,0.89]
[53.64,0.89]
[53.65,0.89]
[53.66,0.89]
[53.67,0.89]
[53.68,0.89]
[53.69,0.89]
[53.7,0.89]
[53.71,0.89]
[53.72,0.89]
[53.73,0.89]
[53.74,0.89]
[53.75,0.89]
[53.76,0.89]
[53.77,0.89]
[53.78,0.89]
[53.79,0.89]
[53.8,0.89]
[53.81,0.89]
[53.82,0.89]
[53.83,0.89]
[53.84,0.89]
[53.85,0.89]
[53.86,0.89]
[53.87,0.89]
[53.88,0.89]
[53.89,0.89]
[53.9,0.89]
[53.91,0.89]
[53.92,0.89]
[53.93,0.89]
[53.94,0.89]
[53.95,0.89]
[53.96,0.89]
[53.97,0.89]
[53.98,0.89]
[53.99,0.89]
[54,0.89]
[54.01,0.89]
[54.02,0.89]
[54.03,0.89]
[54.04,0.89]
[54.05,0.89]
[54.06,0.89]
[54.07,0.89]
[54.08,0.89]
[54.09,0.89]
[54.1,0.89]
[54.11,0.89]
[54.12,0.89]
[54.13,0.89]
[54.14,0.89]
[54.15,0.89]
[54.16,0.89]
[54.17,0.89]
[54.18,0.89]
[54.19,0.89]
[54.2,0.89]
[54.21,0.89]
[54.22,0.89]
[54.23,0.89]
[54.24,0.89]
[54.25,0.89]
[54.26,0.89]
[54.27,0.89]
[54.28,0.89]
[54.29,0.89]
[54.3,0.89]
[54.31,0.89]
[54.32,0.89]
[54.33,0.89]
[54.34,0.89]
[54.35,0.89]
[54.36,0.89]
[54.37,0.89]
[54.38,0.89]
[54.39,0.89]
[54.4,0.89]
[54.41,0.89]
[54.42,0.89]
[54.43,0.89]
[54.44,0.89]
[54.45,0.89]
[54.46,0.89]
[54.47,0.89]
[54.48,0.89]
[54.49,0.89]
[54.5,0.89]
[54.51,0.89]
[54.52,0.89]
[54.53,0.89]
[54.54,0.89]
[54.55,0.89]
[54.56,0.89]
[54.57,0.89]
[54.58,0.89]
[54.59,0.89]
[54.6,0.89]
[54.61,0.89]
[54.62,0.89]
[54.63,0.89]
[54.64,0.89]
[54.65,0.89]
[54.66,0.89]
[54.67,0.89]
[54.68,0.89]
[54.69,0.89]
[54.7,0.89]
[54.71,0.89]
[54.72,0.89]
[54.73,0.89]
[54.74,0.89]
[54.75,0.89]
[54.76,0.89]
[54.77,0.89]
[54.78,0.89]
[54.79,0.89]
[54.8,0.89]
[54.81,0.89]
[54.82,0.89]
[54.83,0.89]
[54.84,0.89]
[54.85,0.89]
[54.86,0.89]
[54.87,0.89]
[54.88,0.89]
[54.89,0.89]
[54.9,0.89]
[54.91,0.89]
[54.92,0.89]
[54.93,0.89]
[54.94,0.89]
[54.95,0.89]
[54.96,0.89]
[54.97,0.89]
[54.98,0.89]
[54.99,0.89]
[55,0.89]
[55.01,0.89]
[55.02,0.89]
[55.03,0.89]
[55.04,0.89]
[55.05,0.89]
[55.06,0.89]
[55.07,0.89]
[55.08,0.89]
[55.09,0.89]
[55.1,0.89]
[55.11,0.89]
[55.12,0.89]
[55.13,0.89]
[55.14,0.89]
[55.15,0.89]
[55.16,0.89]
[55.17,0.89]
[55.18,0.89]
[55.19,0.89]
[55.2,0.89]
[55.21,0.89]
[55.22,0.89]
[55.23,0.89]
[55.24,0.89]
[55.25,0.89]
[55.26,0.89]
[55.27,0.89]
[55.28,0.89]
[55.29,0.89]
[55.3,0.89]
[55.31,0.89]
[55.32,0.89]
[55.33,0.89]
[55.34,0.89]
[55.35,0.89]
[55.36,0.89]
[55.37,0.89]
[55.38,0.89]
[55.39,0.89]
[55.4,0.89]
[55.41,0.89]
[55.42,0.89]
[55.43,0.89]
[55.44,0.89]
[55.45,0.89]
[55.46,0.89]
[55.47,0.89]
[55.48,0.89]
[55.49,0.89]
[55.5,0.89]
[55.51,0.89]
[55.52,0.89]
[55.53,0.89]
[55.54,0.89]
[55.55,0.89]
[55.56,0.89]
[55.57,0.89]
[55.58,0.89]
[55.59,0.89]
[55.6,0.89]
[55.61,0.89]
[55.62,0.89]
[55.63,0.89]
[55.64,0.89]
[55.65,0.89]
[55.66,0.89]
[55.67,0.89]
[55.68,0.89]
[55.69,0.89]
[55.7,0.89]
[55.71,0.89]
[55.72,0.89]
[55.73,0.89]
[55.74,0.89]
[55.75,0.89]
[55.76,0.89]
[55.77,0.89]
[55.78,0.89]
[55.79,0.89]
[55.8,0.89]
[55.81,0.89]
[55.82,0.89]
[55.83,0.89]
[55.84,0.89]
[55.85,0.89]
[55.86,0.89]
[55.87,0.89]
[55.88,0.89]
[55.89,0.89]
[55.9,0.89]
[55.91,0.89]
[55.92,0.89]
[55.93,0.89]
[55.94,0.89]
[55.95,0.89]
[55.96,0.89]
[55.97,0.89]
[55.98,0.89]
[55.99,0.89]
[56,0.89]
[56.01,0.89]
[56.02,0.89]
[56.03,0.89]
[56.04,0.89]
[56.05,0.89]
[56.06,0.89]
[56.07,0.89]
[56.08,0.89]
[56.09,0.89]
[56.1,0.89]
[56.11,0.89]
[56.12,0.89]
[56.13,0.89]
[56.14,0.89]
[56.15,0.89]
[56.16,0.89]
[56.17,0.89]
[56.18,0.89]
[56.19,0.89]
[56.2,0.89]
[56.21,0.89]
[56.22,0.89]
[56.23,0.89]
[56.24,0.89]
[56.25,0.89]
[56.26,0.89]
[56.27,0.89]
[56.28,0.89]
[56.29,0.89]
[56.3,0.89]
[56.31,0.89]
[56.32,0.89]
[56.33,0.89]
[56.34,0.89]
[56.35,0.89]
[56.36,0.89]
[56.37,0.89]
[56.38,0.89]
[56.39,0.89]
[56.4,0.89]
[56.41,0.89]
[56.42,0.89]
[56.43,0.89]
[56.44,0.89]
[56.45,0.89]
[56.46,0.89]
[56.47,0.89]
[56.48,0.89]
[56.49,0.89]
[56.5,0.89]
[56.51,0.89]
[56.52,0.89]
[56.53,0.89]
[56.54,0.89]
[56.55,0.89]
[56.56,0.89]
[56.57,0.89]
[56.58,0.89]
[56.59,0.89]
[56.6,0.89]
[56.61,0.89]
[56.62,0.89]
[56.63,0.89]
[56.64,0.89]
[56.65,0.89]
[56.66,0.89]
[56.67,0.89]
[56.68,0.89]
[56.69,0.89]
[56.7,0.89]
[56.71,0.89]
[56.72,0.89]
[56.73,0.89]
[56.74,0.89]
[56.75,0.89]
[56.76,0.89]
[56.77,0.89]
[56.78,0.89]
[56.79,0.89]
[56.8,0.89]
[56.81,0.89]
[56.82,0.89]
[56.83,0.89]
[56.84,0.89]
[56.85,0.89]
[56.86,0.89]
[56.87,0.89]
[56.88,0.89]
[56.89,0.89]
[56.9,0.89]
[56.91,0.89]
[56.92,0.89]
[56.93,0.89]
[56.94,0.89]
[56.95,0.89]
[56.96,0.89]
[56.97,0.89]
[56.98,0.89]
[56.99,0.89]
[57,0.89]
[57.01,0.89]
[57.02,0.89]
[57.03,0.89]
[57.04,0.89]
[57.05,0.89]
[57.06,0.89]
[57.07,0.89]
[57.08,0.89]
[57.09,0.89]
[57.1,0.89]
[57.11,0.89]
[57.12,0.89]
[57.13,0.89]
[57.14,0.89]
[57.15,0.89]
[57.16,0.89]
[57.17,0.89]
[57.18,0.89]
[57.19,0.89]
[57.2,0.89]
[57.21,0.89]
[57.22,0.89]
[57.23,0.89]
[57.24,0.89]
[57.25,0.89]
[57.26,0.89]
[57.27,0.89]
[57.28,0.89]
[57.29,0.89]
[57.3,0.89]
[57.31,0.89]
[57.32,0.89]
[57.33,0.89]
[57.34,0.89]
[57.35,0.89]
[57.36,0.89]
[57.37,0.89]
[57.38,0.89]
[57.39,0.89]
[57.4,0.89]
[57.41,0.89]
[57.42,0.89]
[57.43,0.89]
[57.44,0.89]
[57.45,0.89]
[57.46,0.89]
[57.47,0.89]
[57.48,0.89]
[57.49,0.89]
[57.5,0.89]
[57.51,0.89]
[57.52,0.89]
[57.53,0.89]
[57.54,0.89]
[57.55,0.89]
[57.56,0.89]
[57.57,0.89]
[57.58,0.89]
[57.59,0.89]
[57.6,0.89]
[57.61,0.89]
[57.62,0.89]
[57.63,0.89]
[57.64,0.89]
[57.65,0.89]
[57.66,0.89]
[57.67,0.89]
[57.68,0.89]
[57.69,0.89]
[57.7,0.89]
[57.71,0.89]
[57.72,0.89]
[57.73,0.89]
[57.74,0.89]
[57.75,0.89]
[57.76,0.89]
[57.77,0.89]
[57.78,0.89]
[57.79,0.89]
[57.8,0.89]
[57.81,0.89]
[57.82,0.89]
[57.83,0.89]
[57.84,0.89]
[57.85,0.89]
[57.86,0.89]
[57.87,0.89]
[57.88,0.89]
[57.89,0.89]
[57.9,0.89]
[57.91,0.89]
[57.92,0.89]
[57.93,0.89]
[57.94,0.89]
[57.95,0.89]
[57.96,0.89]
[57.97,0.89]
[57.98,0.89]
[57.99,0.89]
[58,0.89]
[58.01,0.89]
[58.02,0.89]
[58.03,0.89]
[58.04,0.89]
[58.05,0.89]
[58.06,0.89]
[58.07,0.89]
[58.08,0.89]
[58.09,0.89]
[58.1,0.89]
[58.11,0.89]
[58.12,0.89]
[58.13,0.89]
[58.14,0.89]
[58.15,0.89]
[58.16,0.89]
[58.17,0.89]
[58.18,0.89]
[58.19,0.89]
[58.2,0.89]
[58.21,0.89]
[58.22,0.89]
[58.23,0.89]
[58.24,0.89]
[58.25,0.89]
[58.26,0.89]
[58.27,0.89]
[58.28,0.89]
[58.29,0.89]
[58.3,0.89]
[58.31,0.89]
[58.32,0.89]
[58.33,0.89]
[58.34,0.89]
[58.35,0.89]
[58.36,0.89]
[58.37,0.89]
[58.38,0.89]
[58.39,0.89]
[58.4,0.89]
[58.41,0.89]
[58.42,0.89]
[58.43,0.89]
[58.44,0.89]
[58.45,0.89]
[58.46,0.89]
[58.47,0.89]
[58.48,0.89]
[58.49,0.89]
[58.5,0.89]
[58.51,0.89]
[58.52,0.89]
[58.53,0.89]
[58.54,0.89]
[58.55,0.89]
[58.56,0.89]
[58.57,0.89]
[58.58,0.89]
[58.59,0.89]
[58.6,0.89]
[58.61,0.89]
[58.62,0.89]
[58.63,0.89]
[58.64,0.89]
[58.65,0.89]
[58.66,0.89]
[58.67,0.89]
[58.68,0.89]
[58.69,0.89]
[58.7,0.89]
[58.71,0.89]
[58.72,0.89]
[58.73,0.89]
[58.74,0.89]
[58.75,0.89]
[58.76,0.89]
[58.77,0.89]
[58.78,0.89]
[58.79,0.89]
[58.8,0.89]
[58.81,0.89]
[58.82,0.89]
[58.83,0.89]
[58.84,0.89]
[58.85,0.89]
[58.86,0.89]
[58.87,0.89]
[58.88,0.89]
[58.89,0.89]
[58.9,0.89]
[58.91,0.89]
[58.92,0.89]
[58.93,0.89]
[58.94,0.89]
[58.95,0.89]
[58.96,0.89]
[58.97,0.89]
[58.98,0.89]
[58.99,0.89]
[59,0.89]
[59.01,0.89]
[59.02,0.89]
[59.03,0.89]
[59.04,0.89]
[59.05,0.89]
[59.06,0.89]
[59.07,0.89]
[59.08,0.89]
[59.09,0.89]
[59.1,0.89]
[59.11,0.89]
[59.12,0.89]
[59.13,0.89]
[59.14,0.89]
[59.15,0.89]
[59.16,0.89]
[59.17,0.89]
[59.18,0.89]
[59.19,0.89]
[59.2,0.89]
[59.21,0.89]
[59.22,0.89]
[59.23,0.89]
[59.24,0.89]
[59.25,0.89]
[59.26,0.89]
[59.27,0.89]
[59.28,0.89]
[59.29,0.89]
[59.3,0.89]
[59.31,0.89]
[59.32,0.89]
[59.33,0.89]
[59.34,0.89]
[59.35,0.89]
[59.36,0.89]
[59.37,0.89]
[59.38,0.89]
[59.39,0.89]
[59.4,0.89]
[59.41,0.89]
[59.42,0.89]
[59.43,0.89]
[59.44,0.89]
[59.45,0.89]
[59.46,0.89]
[59.47,0.89]
[59.48,0.89]
[59.49,0.89]
[59.5,0.89]
[59.51,0.89]
[59.52,0.89]
[59.53,0.89]
[59.54,0.89]
[59.55,0.89]
[59.56,0.89]
[59.57,0.89]
[59.58,0.89]
[59.59,0.89]
[59.6,0.89]
[59.61,0.89]
[59.62,0.89]
[59.63,0.89]
[59.64,0.89]
[59.65,0.89]
[59.66,0.89]
[59.67,0.89]
[59.68,0.89]
[59.69,0.89]
[59.7,0.89]
[59.71,0.89]
[59.72,0.89]
[59.73,0.89]
[59.74,0.89]
[59.75,0.89]
[59.76,0.89]
[59.77,0.89]
[59.78,0.89]
[59.79,0.89]
[59.8,0.89]
[59.81,0.89]
[59.82,0.89]
[59.83,0.89]
[59.84,0.89]
[59.85,0.89]
[59.86,0.89]
[59.87,0.89]
[59.88,0.89]
[59.89,0.89]
[59.9,0.89]
[59.91,0.89]
[59.92,0.89]
[59.93,0.89]
[59.94,0.89]
[59.95,0.89]
[59.96,0.89]
[59.97,0.89]
[59.98,0.89]
[59.99,0.89]
[60,0.89]
[60.01,0.86]
[60.02,0.86]
[60.03,0.86]
[60.04,0.86]
[60.05,0.86]
[60.06,0.86]
[60.07,0.86]
[60.08,0.86]
[60.09,0.86]
[60.1,0.86]
[60.11,0.86]
[60.12,0.86]
[60.13,0.86]
[60.14,0.86]
[60.15,0.86]
[60.16,0.86]
[60.17,0.86]
[60.18,0.86]
[60.19,0.86]
[60.2,0.86]
[60.21,0.86]
[60.22,0.86]
[60.23,0.86]
[60.24,0.86]
[60.25,0.86]
[60.26,0.86]
[60.27,0.86]
[60.28,0.86]
[60.29,0.86]
[60.3,0.86]
[60.31,0.86]
[60.32,0.86]
[60.33,0.86]
[60.34,0.86]
[60.35,0.86]
[60.36,0.86]
[60.37,0.86]
[60.38,0.86]
[60.39,0.86]
[60.4,0.86]
[60.41,0.86]
[60.42,0.86]
[60.43,0.86]
[60.44,0.86]
[60.45,0.86]
[60.46,0.86]
[60.47,0.86]
[60.48,0.86]
[60.49,0.86]
[60.5,0.86]
[60.51,0.86]
[60.52,0.86]
[60.53,0.86]
[60.54,0.86]
[60.55,0.86]
[60.56,0.86]
[60.57,0.86]
[60.58,0.86]
[60.59,0.86]
[60.6,0.86]
[60.61,0.86]
[60.62,0.86]
[60.63,0.86]
[60.64,0.86]
[60.65,0.86]
[60.66,0.86]
[60.67,0.86]
[60.68,0.86]
[60.69,0.86]
[60.7,0.86]
[60.71,0.86]
[60.72,0.86]
[60.73,0.86]
[60.74,0.86]
[60.75,0.86]
[60.76,0.86]
[60.77,0.86]
[60.78,0.86]
[60.79,0.86]
[60.8,0.86]
[60.81,0.86]
[60.82,0.86]
[60.83,0.86]
[60.84,0.86]
[60.85,0.86]
[60.86,0.86]
[60.87,0.86]
[60.88,0.86]
[60.89,0.86]
[60.9,0.86]
[60.91,0.86]
[60.92,0.86]
[60.93,0.86]
[60.94,0.86]
[60.95,0.86]
[60.96,0.86]
[60.97,0.86]
[60.98,0.86]
[60.99,0.86]
[61,0.86]
[61.01,0.86]
[61.02,0.86]
[61.03,0.86]
[61.04,0.86]
[61.05,0.86]
[61.06,0.86]
[61.07,0.86]
[61.08,0.86]
[61.09,0.86]
[61.1,0.86]
[61.11,0.86]
[61.12,0.86]
[61.13,0.86]
[61.14,0.86]
[61.15,0.86]
[61.16,0.86]
[61.17,0.86]
[61.18,0.86]
[61.19,0.86]
[61.2,0.86]
[61.21,0.86]
[61.22,0.86]
[61.23,0.86]
[61.24,0.86]
[61.25,0.86]
[61.26,0.86]
[61.27,0.86]
[61.28,0.86]
[61.29,0.86]
[61.3,0.86]
[61.31,0.86]
[61.32,0.86]
[61.33,0.86]
[61.34,0.86]
[61.35,0.86]
[61.36,0.86]
[61.37,0.86]
[61.38,0.86]
[61.39,0.86]
[61.4,0.86]
[61.41,0.86]
[61.42,0.86]
[61.43,0.86]
[61.44,0.86]
[61.45,0.86]
[61.46,0.86]
[61.47,0.86]
[61.48,0.86]
[61.49,0.86]
[61.5,0.86]
[61.51,0.86]
[61.52,0.86]
[61.53,0.86]
[61.54,0.86]
[61.55,0.86]
[61.56,0.86]
[61.57,0.86]
[61.58,0.86]
[61.59,0.86]
[61.6,0.86]
[61.61,0.86]
[61.62,0.86]
[61.63,0.86]
[61.64,0.86]
[61.65,0.86]
[61.66,0.86]
[61.67,0.86]
[61.68,0.86]
[61.69,0.86]
[61.7,0.86]
[61.71,0.86]
[61.72,0.86]
[61.73,0.86]
[61.74,0.86]
[61.75,0.86]
[61.76,0.86]
[61.77,0.86]
[61.78,0.86]
[61.79,0.86]
[61.8,0.86]
[61.81,0.86]
[61.82,0.86]
[61.83,0.86]
[61.84,0.86]
[61.85,0.86]
[61.86,0.86]
[61.87,0.86]
[61.88,0.86]
[61.89,0.86]
[61.9,0.86]
[61.91,0.86]
[61.92,0.86]
[61.93,0.86]
[61.94,0.86]
[61.95,0.86]
[61.96,0.86]
[61.97,0.86]
[61.98,0.86]
[61.99,0.86]
[62,0.86]
[62.01,0.86]
[62.02,0.86]
[62.03,0.86]
[62.04,0.86]
[62.05,0.86]
[62.06,0.86]
[62.07,0.86]
[62.08,0.86]
[62.09,0.86]
[62.1,0.86]
[62.11,0.86]
[62.12,0.86]
[62.13,0.86]
[62.14,0.86]
[62.15,0.86]
[62.16,0.86]
[62.17,0.86]
[62.18,0.86]
[62.19,0.86]
[62.2,0.86]
[62.21,0.86]
[62.22,0.86]
[62.23,0.86]
[62.24,0.86]
[62.25,0.86]
[62.26,0.86]
[62.27,0.86]
[62.28,0.86]
[62.29,0.86]
[62.3,0.86]
[62.31,0.86]
[62.32,0.86]
[62.33,0.86]
[62.34,0.86]
[62.35,0.86]
[62.36,0.86]
[62.37,0.86]
[62.38,0.86]
[62.39,0.86]
[62.4,0.86]
[62.41,0.86]
[62.42,0.86]
[62.43,0.86]
[62.44,0.86]
[62.45,0.86]
[62.46,0.86]
[62.47,0.86]
[62.48,0.86]
[62.49,0.86]
[62.5,0.86]
[62.51,0.86]
[62.52,0.86]
[62.53,0.86]
[62.54,0.86]
[62.55,0.86]
[62.56,0.86]
[62.57,0.86]
[62.58,0.86]
[62.59,0.86]
[62.6,0.86]
[62.61,0.86]
[62.62,0.86]
[62.63,0.86]
[62.64,0.86]
[62.65,0.86]
[62.66,0.86]
[62.67,0.86]
[62.68,0.86]
[62.69,0.86]
[62.7,0.86]
[62.71,0.86]
[62.72,0.86]
[62.73,0.86]
[62.74,0.86]
[62.75,0.86]
[62.76,0.86]
[62.77,0.86]
[62.78,0.86]
[62.79,0.86]
[62.8,0.86]
[62.81,0.86]
[62.82,0.86]
[62.83,0.86]
[62.84,0.86]
[62.85,0.86]
[62.86,0.86]
[62.87,0.86]
[62.88,0.86]
[62.89,0.86]
[62.9,0.86]
[62.91,0.86]
[62.92,0.86]
[62.93,0.86]
[62.94,0.86]
[62.95,0.86]
[62.96,0.86]
[62.97,0.86]
[62.98,0.86]
[62.99,0.86]
[63,0.86]
[63.01,0.86]
[63.02,0.86]
[63.03,0.86]
[63.04,0.86]
[63.05,0.86]
[63.06,0.86]
[63.07,0.86]
[63.08,0.86]
[63.09,0.86]
[63.1,0.86]
[63.11,0.86]
[63.12,0.86]
[63.13,0.86]
[63.14,0.86]
[63.15,0.86]
[63.16,0.86]
[63.17,0.86]
[63.18,0.86]
[63.19,0.86]
[63.2,0.86]
[63.21,0.86]
[63.22,0.86]
[63.23,0.86]
[63.24,0.86]
[63.25,0.86]
[63.26,0.86]
[63.27,0.86]
[63.28,0.86]
[63.29,0.86]
[63.3,0.86]
[63.31,0.86]
[63.32,0.86]
[63.33,0.86]
[63.34,0.86]
[63.35,0.86]
[63.36,0.86]
[63.37,0.86]
[63.38,0.86]
[63.39,0.86]
[63.4,0.86]
[63.41,0.86]
[63.42,0.86]
[63.43,0.86]
[63.44,0.86]
[63.45,0.86]
[63.46,0.86]
[63.47,0.86]
[63.48,0.86]
[63.49,0.86]
[63.5,0.86]
[63.51,0.86]
[63.52,0.86]
[63.53,0.86]
[63.54,0.86]
[63.55,0.86]
[63.56,0.86]
[63.57,0.86]
[63.58,0.86]
[63.59,0.86]
[63.6,0.86]
[63.61,0.86]
[63.62,0.86]
[63.63,0.86]
[63.64,0.86]
[63.65,0.86]
[63.66,0.86]
[63.67,0.86]
[63.68,0.86]
[63.69,0.86]
[63.7,0.86]
[63.71,0.86]
[63.72,0.86]
[63.73,0.86]
[63.74,0.86]
[63.75,0.86]
[63.76,0.86]
[63.77,0.86]
[63.78,0.86]
[63.79,0.86]
[63.8,0.86]
[63.81,0.86]
[63.82,0.86]
[63.83,0.86]
[63.84,0.86]
[63.85,0.86]
[63.86,0.86]
[63.87,0.86]
[63.88,0.86]
[63.89,0.86]
[63.9,0.86]
[63.91,0.86]
[63.92,0.86]
[63.93,0.86]
[63.94,0.86]
[63.95,0.86]
[63.96,0.86]
[63.97,0.86]
[63.98,0.86]
[63.99,0.86]
[64,0.86]
[64.010000000000005,0.86]
[64.02,0.86]
[64.03,0.86]
[64.040000000000006,0.86]
[64.05,0.86]
[64.06,0.86]
[64.069999999999993,0.86]
[64.08,0.86]
[64.09,0.86]
[64.099999999999994,0.86]
[64.11,0.86]
[64.12,0.86]
[64.13,0.86]
[64.14,0.86]
[64.150000000000006,0.86]
[64.16,0.86]
[64.17,0.86]
[64.180000000000007,0.86]
[64.19,0.86]
[64.2,0.86]
[64.209999999999994,0.86]
[64.22,0.86]
[64.23,0.86]
[64.239999999999995,0.86]
[64.25,0.86]
[64.260000000000005,0.86]
[64.27,0.86]
[64.28,0.86]
[64.290000000000006,0.86]
[64.3,0.86]
[64.31,0.86]
[64.319999999999993,0.86]
[64.33,0.86]
[64.34,0.86]
[64.349999999999994,0.86]
[64.36,0.86]
[64.37,0.86]
[64.38,0.86]
[64.39,0.86]
[64.400000000000006,0.86]
[64.41,0.86]
[64.42,0.86]
[64.430000000000007,0.86]
[64.44,0.86]
[64.45,0.86]
[64.459999999999994,0.86]
[64.47,0.86]
[64.48,0.86]
[64.489999999999995,0.86]
[64.5,0.86]
[64.510000000000005,0.86]
[64.52,0.86]
[64.53,0.86]
[64.540000000000006,0.86]
[64.55,0.86]
[64.56,0.86]
[64.569999999999993,0.86]
[64.58,0.86]
[64.59,0.86]
[64.599999999999994,0.86]
[64.61,0.86]
[64.62,0.86]
[64.63,0.86]
[64.64,0.86]
[64.650000000000006,0.86]
[64.66,0.86]
[64.67,0.86]
[64.680000000000007,0.86]
[64.69,0.86]
[64.7,0.86]
[64.709999999999994,0.86]
[64.72,0.86]
[64.73,0.86]
[64.739999999999995,0.86]
[64.75,0.86]
[64.760000000000005,0.86]
[64.77,0.86]
[64.78,0.86]
[64.790000000000006,0.86]
[64.8,0.86]
[64.81,0.86]
[64.819999999999993,0.86]
[64.83,0.86]
[64.84,0.86]
[64.849999999999994,0.86]
[64.86,0.86]
[64.87,0.86]
[64.88,0.86]
[64.89,0.86]
[64.900000000000006,0.86]
[64.91,0.86]
[64.92,0.86]
[64.930000000000007,0.86]
[64.94,0.86]
[64.95,0.86]
[64.959999999999994,0.86]
[64.97,0.86]
[64.98,0.86]
[64.989999999999995,0.86]
[65,0.86]
[65.010000000000005,0.86]
[65.02,0.86]
[65.03,0.86]
[65.040000000000006,0.86]
[65.05,0.86]
[65.06,0.86]
[65.069999999999993,0.86]
[65.08,0.86]
[65.09,0.86]
[65.099999999999994,0.86]
[65.11,0.86]
[65.12,0.86]
[65.13,0.86]
[65.14,0.86]
[65.150000000000006,0.86]
[65.16,0.86]
[65.17,0.86]
[65.180000000000007,0.86]
[65.19,0.86]
[65.2,0.86]
[65.209999999999994,0.86]
[65.22,0.86]
[65.23,0.86]
[65.239999999999995,0.86]
[65.25,0.86]
[65.260000000000005,0.86]
[65.27,0.86]
[65.28,0.86]
[65.290000000000006,0.86]
[65.3,0.86]
[65.31,0.86]
[65.319999999999993,0.86]
[65.33,0.86]
[65.34,0.86]
[65.349999999999994,0.86]
[65.36,0.86]
[65.37,0.86]
[65.38,0.86]
[65.39,0.86]
[65.400000000000006,0.86]
[65.41,0.86]
[65.42,0.86]
[65.430000000000007,0.86]
[65.44,0.86]
[65.45,0.86]
[65.459999999999994,0.86]
[65.47,0.86]
[65.48,0.86]
[65.489999999999995,0.86]
[65.5,0.86]
[65.510000000000005,0.86]
[65.52,0.86]
[65.53,0.86]
[65.540000000000006,0.86]
[65.55,0.86]
[65.56,0.86]
[65.569999999999993,0.86]
[65.58,0.86]
[65.59,0.86]
[65.599999999999994,0.86]
[65.61,0.86]
[65.62,0.86]
[65.63,0.86]
[65.64,0.86]
[65.650000000000006,0.86]
[65.66,0.86]
[65.67,0.86]
[65.680000000000007,0.86]
[65.69,0.86]
[65.7,0.86]
[65.709999999999994,0.86]
[65.72,0.86]
[65.73,0.86]
[65.739999999999995,0.86]
[65.75,0.86]
[65.760000000000005,0.86]
[65.77,0.86]
[65.78,0.86]
[65.790000000000006,0.86]
[65.8,0.86]
[65.81,0.86]
[65.819999999999993,0.86]
[65.83,0.86]
[65.84,0.86]
[65.849999999999994,0.86]
[65.86,0.86]
[65.87,0.86]
[65.88,0.86]
[65.89,0.86]
[65.900000000000006,0.86]
[65.91,0.86]
[65.92,0.86]
[65.930000000000007,0.86]
[65.94,0.86]
[65.95,0.86]
[65.959999999999994,0.86]
[65.97,0.86]
[65.98,0.86]
[65.989999999999995,0.86]
[66,0.86]
[66.010000000000005,0.86]
[66.02,0.86]
[66.03,0.86]
[66.040000000000006,0.86]
[66.05,0.86]
[66.06,0.86]
[66.069999999999993,0.86]
[66.08,0.86]
[66.09,0.86]
[66.099999999999994,0.86]
[66.11,0.86]
[66.12,0.86]
[66.13,0.86]
[66.14,0.86]
[66.150000000000006,0.86]
[66.16,0.86]
[66.17,0.86]
[66.180000000000007,0.86]
[66.19,0.86]
[66.2,0.86]
[66.209999999999994,0.86]
[66.22,0.86]
[66.23,0.86]
[66.239999999999995,0.86]
[66.25,0.86]
[66.260000000000005,0.86]
[66.27,0.86]
[66.28,0.86]
[66.290000000000006,0.86]
[66.3,0.86]
[66.31,0.86]
[66.319999999999993,0.86]
[66.33,0.86]
[66.34,0.86]
[66.349999999999994,0.86]
[66.36,0.86]
[66.37,0.86]
[66.38,0.86]
[66.39,0.86]
[66.400000000000006,0.86]
[66.41,0.86]
[66.42,0.86]
[66.430000000000007,0.86]
[66.44,0.86]
[66.45,0.86]
[66.459999999999994,0.86]
[66.47,0.86]
[66.48,0.86]
[66.489999999999995,0.86]
[66.5,0.86]
[66.510000000000005,0.86]
[66.52,0.86]
[66.53,0.86]
[66.540000000000006,0.86]
[66.55,0.86]
[66.56,0.86]
[66.569999999999993,0.86]
[66.58,0.86]
[66.59,0.86]
[66.599999999999994,0.86]
[66.61,0.86]
[66.62,0.86]
[66.63,0.86]
[66.64,0.86]
[66.650000000000006,0.86]
[66.66,0.86]
[66.67,0.86]
[66.680000000000007,0.86]
[66.69,0.86]
[66.7,0.86]
[66.709999999999994,0.86]
[66.72,0.86]
[66.73,0.86]
[66.739999999999995,0.86]
[66.75,0.86]
[66.760000000000005,0.86]
[66.77,0.86]
[66.78,0.86]
[66.790000000000006,0.86]
[66.8,0.86]
[66.81,0.86]
[66.819999999999993,0.86]
[66.83,0.86]
[66.84,0.86]
[66.849999999999994,0.86]
[66.86,0.86]
[66.87,0.86]
[66.88,0.86]
[66.89,0.86]
[66.900000000000006,0.86]
[66.91,0.86]
[66.92,0.86]
[66.930000000000007,0.86]
[66.94,0.86]
[66.95,0.86]
[66.959999999999994,0.86]
[66.97,0.86]
[66.98,0.86]
[66.989999999999995,0.86]
[67,0.86]
[67.010000000000005,0.86]
[67.02,0.86]
[67.03,0.86]
[67.040000000000006,0.86]
[67.05,0.86]
[67.06,0.86]
[67.069999999999993,0.86]
[67.08,0.86]
[67.09,0.86]
[67.099999999999994,0.86]
[67.11,0.86]
[67.12,0.86]
[67.13,0.86]
[67.14,0.86]
[67.150000000000006,0.86]
[67.16,0.86]
[67.17,0.86]
[67.180000000000007,0.86]
[67.19,0.86]
[67.2,0.86]
[67.209999999999994,0.86]
[67.22,0.86]
[67.23,0.86]
[67.239999999999995,0.86]
[67.25,0.86]
[67.260000000000005,0.86]
[67.27,0.86]
[67.28,0.86]
[67.290000000000006,0.86]
[67.3,0.86]
[67.31,0.86]
[67.319999999999993,0.86]
[67.33,0.86]
[67.34,0.86]
[67.349999999999994,0.86]
[67.36,0.86]
[67.37,0.86]
[67.38,0.86]
[67.39,0.86]
[67.400000000000006,0.86]
[67.41,0.86]
[67.42,0.86]
[67.430000000000007,0.86]
[67.44,0.86]
[67.45,0.86]
[67.459999999999994,0.86]
[67.47,0.86]
[67.48,0.86]
[67.489999999999995,0.86]
[67.5,0.86]
[67.510000000000005,0.86]
[67.52,0.86]
[67.53,0.86]
[67.540000000000006,0.86]
[67.55,0.86]
[67.56,0.86]
[67.569999999999993,0.86]
[67.58,0.86]
[67.59,0.86]
[67.599999999999994,0.86]
[67.61,0.86]
[67.62,0.86]
[67.63,0.86]
[67.64,0.86]
[67.650000000000006,0.86]
[67.66,0.86]
[67.67,0.86]
[67.680000000000007,0.86]
[67.69,0.86]
[67.7,0.86]
[67.709999999999994,0.86]
[67.72,0.86]
[67.73,0.86]
[67.739999999999995,0.86]
[67.75,0.86]
[67.760000000000005,0.86]
[67.77,0.86]
[67.78,0.86]
[67.790000000000006,0.86]
[67.8,0.86]
[67.81,0.86]
[67.819999999999993,0.86]
[67.83,0.86]
[67.84,0.86]
[67.849999999999994,0.86]
[67.86,0.86]
[67.87,0.86]
[67.88,0.86]
[67.89,0.86]
[67.900000000000006,0.86]
[67.91,0.86]
[67.92,0.86]
[67.930000000000007,0.86]
[67.94,0.86]
[67.95,0.86]
[67.959999999999994,0.86]
[67.97,0.86]
[67.98,0.86]
[67.989999999999995,0.86]
[68,0.86]
[68.010000000000005,0.86]
[68.02,0.86]
[68.03,0.86]
[68.040000000000006,0.86]
[68.05,0.86]
[68.06,0.86]
[68.069999999999993,0.86]
[68.08,0.86]
[68.09,0.86]
[68.099999999999994,0.86]
[68.11,0.86]
[68.12,0.86]
[68.13,0.86]
[68.14,0.86]
[68.150000000000006,0.86]
[68.16,0.86]
[68.17,0.86]
[68.180000000000007,0.86]
[68.19,0.86]
[68.2,0.86]
[68.209999999999994,0.86]
[68.22,0.86]
[68.23,0.86]
[68.239999999999995,0.86]
[68.25,0.86]
[68.260000000000005,0.86]
[68.27,0.86]
[68.28,0.86]
[68.290000000000006,0.86]
[68.3,0.86]
[68.31,0.86]
[68.319999999999993,0.86]
[68.33,0.86]
[68.34,0.86]
[68.349999999999994,0.86]
[68.36,0.86]
[68.37,0.86]
[68.38,0.86]
[68.39,0.86]
[68.400000000000006,0.86]
[68.41,0.86]
[68.42,0.86]
[68.430000000000007,0.86]
[68.44,0.86]
[68.45,0.86]
[68.459999999999994,0.86]
[68.47,0.86]
[68.48,0.86]
[68.489999999999995,0.86]
[68.5,0.86]
[68.510000000000005,0.86]
[68.52,0.86]
[68.53,0.86]
[68.540000000000006,0.86]
[68.55,0.86]
[68.56,0.86]
[68.569999999999993,0.86]
[68.58,0.86]
[68.59,0.86]
[68.599999999999994,0.86]
[68.61,0.86]
[68.62,0.86]
[68.63,0.86]
[68.64,0.86]
[68.650000000000006,0.86]
[68.66,0.86]
[68.67,0.86]
[68.680000000000007,0.86]
[68.69,0.86]
[68.7,0.86]
[68.709999999999994,0.86]
[68.72,0.86]
[68.73,0.86]
[68.739999999999995,0.86]
[68.75,0.86]
[68.760000000000005,0.86]
[68.77,0.86]
[68.78,0.86]
[68.790000000000006,0.86]
[68.8,0.86]
[68.81,0.86]
[68.819999999999993,0.86]
[68.83,0.86]
[68.84,0.86]
[68.849999999999994,0.86]
[68.86,0.86]
[68.87,0.86]
[68.88,0.86]
[68.89,0.86]
[68.900000000000006,0.86]
[68.91,0.86]
[68.92,0.86]
[68.930000000000007,0.86]
[68.94,0.86]
[68.95,0.86]
[68.959999999999994,0.86]
[68.97,0.86]
[68.98,0.86]
[68.989999999999995,0.86]
[69,0.86]
[69.010000000000005,0.86]
[69.02,0.86]
[69.03,0.86]
[69.040000000000006,0.86]
[69.05,0.86]
[69.06,0.86]
[69.069999999999993,0.86]
[69.08,0.86]
[69.09,0.86]
[69.099999999999994,0.86]
[69.11,0.86]
[69.12,0.86]
[69.13,0.86]
[69.14,0.86]
[69.150000000000006,0.86]
[69.16,0.86]
[69.17,0.86]
[69.180000000000007,0.86]
[69.19,0.86]
[69.2,0.86]
[69.209999999999994,0.86]
[69.22,0.86]
[69.23,0.86]
[69.239999999999995,0.86]
[69.25,0.86]
[69.260000000000005,0.86]
[69.27,0.86]
[69.28,0.86]
[69.290000000000006,0.86]
[69.3,0.86]
[69.31,0.86]
[69.319999999999993,0.86]
[69.33,0.86]
[69.34,0.86]
[69.349999999999994,0.86]
[69.36,0.86]
[69.37,0.86]
[69.38,0.86]
[69.39,0.86]
[69.400000000000006,0.86]
[69.41,0.86]
[69.42,0.86]
[69.430000000000007,0.86]
[69.44,0.86]
[69.45,0.86]
[69.459999999999994,0.86]
[69.47,0.86]
[69.48,0.86]
[69.489999999999995,0.86]
[69.5,0.86]
[69.510000000000005,0.86]
[69.52,0.86]
[69.53,0.86]
[69.540000000000006,0.86]
[69.55,0.86]
[69.56,0.86]
[69.569999999999993,0.86]
[69.58,0.86]
[69.59,0.86]
[69.599999999999994,0.86]
[69.61,0.86]
[69.62,0.86]
[69.63,0.86]
[69.64,0.86]
[69.650000000000006,0.86]
[69.66,0.86]
[69.67,0.86]
[69.680000000000007,0.86]
[69.69,0.86]
[69.7,0.86]
[69.709999999999994,0.86]
[69.72,0.86]
[69.73,0.86]
[69.739999999999995,0.86]
[69.75,0.86]
[69.760000000000005,0.86]
[69.77,0.86]
[69.78,0.86]
[69.790000000000006,0.86]
[69.8,0.86]
[69.81,0.86]
[69.819999999999993,0.86]
[69.83,0.86]
[69.84,0.86]
[69.849999999999994,0.86]
[69.86,0.86]
[69.87,0.86]
[69.88,0.86]
[69.89,0.86]
[69.900000000000006,0.86]
[69.91,0.86]
[69.92,0.86]
[69.930000000000007,0.86]
[69.94,0.86]
[69.95,0.86]
[69.959999999999994,0.86]
[69.97,0.86]
[69.98,0.86]
[69.989999999999995,0.86]
[70,0.86]
[70.010000000000005,0.86]
[70.02,0.86]
[70.03,0.86]
[70.040000000000006,0.86]
[70.05,0.86]
[70.06,0.86]
[70.069999999999993,0.86]
[70.08,0.86]
[70.09,0.86]
[70.099999999999994,0.86]
[70.11,0.86]
[70.12,0.86]
[70.13,0.86]
[70.14,0.86]
[70.150000000000006,0.86]
[70.16,0.86]
[70.17,0.86]
[70.180000000000007,0.86]
[70.19,0.86]
[70.2,0.86]
[70.209999999999994,0.86]
[70.22,0.86]
[70.23,0.86]
[70.239999999999995,0.86]
[70.25,0.86]
[70.260000000000005,0.86]
[70.27,0.86]
[70.28,0.86]
[70.290000000000006,0.86]
[70.3,0.86]
[70.31,0.86]
[70.319999999999993,0.86]
[70.33,0.86]
[70.34,0.86]
[70.349999999999994,0.86]
[70.36,0.86]
[70.37,0.86]
[70.38,0.86]
[70.39,0.86]
[70.400000000000006,0.86]
[70.41,0.86]
[70.42,0.86]
[70.430000000000007,0.86]
[70.44,0.86]
[70.45,0.86]
[70.459999999999994,0.86]
[70.47,0.86]
[70.48,0.86]
[70.489999999999995,0.86]
[70.5,0.86]
[70.510000000000005,0.86]
[70.52,0.86]
[70.53,0.86]
[70.540000000000006,0.86]
[70.55,0.86]
[70.56,0.86]
[70.569999999999993,0.86]
[70.58,0.86]
[70.59,0.86]
[70.599999999999994,0.86]
[70.61,0.86]
[70.62,0.86]
[70.63,0.86]
[70.64,0.86]
[70.650000000000006,0.86]
[70.66,0.86]
[70.67,0.86]
[70.680000000000007,0.86]
[70.69,0.86]
[70.7,0.86]
[70.709999999999994,0.86]
[70.72,0.86]
[70.73,0.86]
[70.739999999999995,0.86]
[70.75,0.86]
[70.760000000000005,0.86]
[70.77,0.86]
[70.78,0.86]
[70.790000000000006,0.86]
[70.8,0.86]
[70.81,0.86]
[70.819999999999993,0.86]
[70.83,0.86]
[70.84,0.86]
[70.849999999999994,0.86]
[70.86,0.86]
[70.87,0.86]
[70.88,0.86]
[70.89,0.86]
[70.900000000000006,0.86]
[70.91,0.86]
[70.92,0.86]
[70.930000000000007,0.86]
[70.94,0.86]
[70.95,0.86]
[70.959999999999994,0.86]
[70.97,0.86]
[70.98,0.86]
[70.989999999999995,0.86]
[71,0.86]
[71.010000000000005,0.86]
[71.02,0.86]
[71.03,0.86]
[71.040000000000006,0.86]
[71.05,0.86]
[71.06,0.86]
[71.069999999999993,0.86]
[71.08,0.86]
[71.09,0.86]
[71.099999999999994,0.86]
[71.11,0.86]
[71.12,0.86]
[71.13,0.86]
[71.14,0.86]
[71.150000000000006,0.86]
[71.16,0.86]
[71.17,0.86]
[71.180000000000007,0.86]
[71.19,0.86]
[71.2,0.86]
[71.209999999999994,0.86]
[71.22,0.86]
[71.23,0.86]
[71.239999999999995,0.86]
[71.25,0.86]
[71.260000000000005,0.86]
[71.27,0.86]
[71.28,0.86]
[71.290000000000006,0.86]
[71.3,0.86]
[71.31,0.86]
[71.319999999999993,0.86]
[71.33,0.86]
[71.34,0.86]
[71.349999999999994,0.86]
[71.36,0.86]
[71.37,0.86]
[71.38,0.86]
[71.39,0.86]
[71.400000000000006,0.86]
[71.41,0.86]
[71.42,0.86]
[71.430000000000007,0.86]
[71.44,0.86]
[71.45,0.86]
[71.459999999999994,0.86]
[71.47,0.86]
[71.48,0.86]
[71.489999999999995,0.86]
[71.5,0.86]
[71.510000000000005,0.86]
[71.52,0.86]
[71.53,0.86]
[71.540000000000006,0.86]
[71.55,0.86]
[71.56,0.86]
[71.569999999999993,0.86]
[71.58,0.86]
[71.59,0.86]
[71.599999999999994,0.86]
[71.61,0.86]
[71.62,0.86]
[71.63,0.86]
[71.64,0.86]
[71.650000000000006,0.86]
[71.66,0.86]
[71.67,0.86]
[71.680000000000007,0.86]
[71.69,0.86]
[71.7,0.86]
[71.709999999999994,0.86]
[71.72,0.86]
[71.73,0.86]
[71.739999999999995,0.86]
[71.75,0.86]
[71.760000000000005,0.86]
[71.77,0.86]
[71.78,0.86]
[71.790000000000006,0.86]
[71.8,0.86]
[71.81,0.86]
[71.819999999999993,0.86]
[71.83,0.86]
[71.84,0.86]
[71.849999999999994,0.86]
[71.86,0.86]
[71.87,0.86]
[71.88,0.86]
[71.89,0.86]
[71.900000000000006,0.86]
[71.91,0.86]
[71.92,0.86]
[71.930000000000007,0.86]
[71.94,0.86]
[71.95,0.86]
[71.959999999999994,0.86]
[71.97,0.86]
[71.98,0.86]
[71.989999999999995,0.86]
[72,0.86]
[72.010000000000005,0.86]
[72.02,0.86]
[72.03,0.86]
[72.040000000000006,0.86]
[72.05,0.86]
[72.06,0.86]
[72.069999999999993,0.86]
[72.08,0.86]
[72.09,0.86]
[72.099999999999994,0.86]
[72.11,0.86]
[72.12,0.86]
[72.13,0.86]
[72.14,0.86]
[72.150000000000006,0.86]
[72.16,0.86]
[72.17,0.86]
[72.180000000000007,0.86]
[72.19,0.86]
[72.2,0.86]
[72.209999999999994,0.86]
[72.22,0.86]
[72.23,0.86]
[72.239999999999995,0.86]
[72.25,0.86]
[72.260000000000005,0.86]
[72.27,0.86]
[72.28,0.86]
[72.290000000000006,0.86]
[72.3,0.86]
[72.31,0.86]
[72.319999999999993,0.86]
[72.33,0.86]
[72.34,0.86]
[72.349999999999994,0.86]
[72.36,0.86]
[72.37,0.86]
[72.38,0.86]
[72.39,0.86]
[72.400000000000006,0.86]
[72.41,0.86]
[72.42,0.86]
[72.430000000000007,0.86]
[72.44,0.86]
[72.45,0.86]
[72.459999999999994,0.86]
[72.47,0.86]
[72.48,0.86]
[72.489999999999995,0.86]
[72.5,0.86]
[72.510000000000005,0.86]
[72.52,0.86]
[72.53,0.86]
[72.540000000000006,0.86]
[72.55,0.86]
[72.56,0.86]
[72.569999999999993,0.86]
[72.58,0.86]
[72.59,0.86]
[72.599999999999994,0.86]
[72.61,0.86]
[72.62,0.86]
[72.63,0.86]
[72.64,0.86]
[72.650000000000006,0.86]
[72.66,0.86]
[72.67,0.86]
[72.680000000000007,0.86]
[72.69,0.86]
[72.7,0.86]
[72.709999999999994,0.86]
[72.72,0.86]
[72.73,0.86]
[72.739999999999995,0.86]
[72.75,0.86]
[72.760000000000005,0.86]
[72.77,0.86]
[72.78,0.86]
[72.790000000000006,0.86]
[72.8,0.86]
[72.81,0.86]
[72.819999999999993,0.86]
[72.83,0.86]
[72.84,0.86]
[72.849999999999994,0.86]
[72.86,0.86]
[72.87,0.86]
[72.88,0.86]
[72.89,0.86]
[72.900000000000006,0.86]
[72.91,0.86]
[72.92,0.86]
[72.930000000000007,0.86]
[72.94,0.86]
[72.95,0.86]
[72.959999999999994,0.86]
[72.97,0.86]
[72.98,0.86]
[72.989999999999995,0.86]
[73,0.86]
[73.010000000000005,0.86]
[73.02,0.86]
[73.03,0.86]
[73.040000000000006,0.86]
[73.05,0.86]
[73.06,0.86]
[73.069999999999993,0.86]
[73.08,0.86]
[73.09,0.86]
[73.099999999999994,0.86]
[73.11,0.86]
[73.12,0.86]
[73.13,0.86]
[73.14,0.86]
[73.150000000000006,0.86]
[73.16,0.86]
[73.17,0.86]
[73.180000000000007,0.86]
[73.19,0.86]
[73.2,0.86]
[73.209999999999994,0.86]
[73.22,0.86]
[73.23,0.86]
[73.239999999999995,0.86]
[73.25,0.86]
[73.260000000000005,0.86]
[73.27,0.86]
[73.28,0.86]
[73.290000000000006,0.86]
[73.3,0.86]
[73.31,0.86]
[73.319999999999993,0.86]
[73.33,0.86]
[73.34,0.86]
[73.349999999999994,0.86]
[73.36,0.86]
[73.37,0.86]
[73.38,0.86]
[73.39,0.86]
[73.400000000000006,0.86]
[73.41,0.86]
[73.42,0.86]
[73.430000000000007,0.86]
[73.44,0.86]
[73.45,0.86]
[73.459999999999994,0.86]
[73.47,0.86]
[73.48,0.86]
[73.489999999999995,0.86]
[73.5,0.86]
[73.510000000000005,0.86]
[73.52,0.86]
[73.53,0.86]
[73.540000000000006,0.86]
[73.55,0.86]
[73.56,0.86]
[73.569999999999993,0.86]
[73.58,0.86]
[73.59,0.86]
[73.599999999999994,0.86]
[73.61,0.86]
[73.62,0.86]
[73.63,0.86]
[73.64,0.86]
[73.650000000000006,0.86]
[73.66,0.86]
[73.67,0.86]
[73.680000000000007,0.86]
[73.69,0.86]
[73.7,0.86]
[73.709999999999994,0.86]
[73.72,0.86]
[73.73,0.86]
[73.739999999999995,0.86]
[73.75,0.86]
[73.760000000000005,0.86]
[73.77,0.86]
[73.78,0.86]
[73.790000000000006,0.86]
[73.8,0.86]
[73.81,0.86]
[73.819999999999993,0.86]
[73.83,0.86]
[73.84,0.86]
[73.849999999999994,0.86]
[73.86,0.86]
[73.87,0.86]
[73.88,0.86]
[73.89,0.86]
[73.900000000000006,0.86]
[73.91,0.86]
[73.92,0.86]
[73.930000000000007,0.86]
[73.94,0.86]
[73.95,0.86]
[73.959999999999994,0.86]
[73.97,0.86]
[73.98,0.86]
[73.989999999999995,0.86]
[74,0.86]
[74.010000000000005,0.86]
[74.02,0.86]
[74.03,0.86]
[74.040000000000006,0.86]
[74.05,0.86]
[74.06,0.86]
[74.069999999999993,0.86]
[74.08,0.86]
[74.09,0.86]
[74.099999999999994,0.86]
[74.11,0.86]
[74.12,0.86]
[74.13,0.86]
[74.14,0.86]
[74.150000000000006,0.86]
[74.16,0.86]
[74.17,0.86]
[74.180000000000007,0.86]
[74.19,0.86]
[74.2,0.86]
[74.209999999999994,0.86]
[74.22,0.86]
[74.23,0.86]
[74.239999999999995,0.86]
[74.25,0.86]
[74.260000000000005,0.86]
[74.27,0.86]
[74.28,0.86]
[74.290000000000006,0.86]
[74.3,0.86]
[74.31,0.86]
[74.319999999999993,0.86]
[74.33,0.86]
[74.34,0.86]
[74.349999999999994,0.86]
[74.36,0.86]
[74.37,0.86]
[74.38,0.86]
[74.39,0.86]
[74.400000000000006,0.86]
[74.41,0.86]
[74.42,0.86]
[74.430000000000007,0.86]
[74.44,0.86]
[74.45,0.86]
[74.459999999999994,0.86]
[74.47,0.86]
[74.48,0.86]
[74.489999999999995,0.86]
[74.5,0.86]
[74.510000000000005,0.86]
[74.52,0.86]
[74.53,0.86]
[74.540000000000006,0.86]
[74.55,0.86]
[74.56,0.86]
[74.569999999999993,0.86]
[74.58,0.86]
[74.59,0.86]
[74.599999999999994,0.86]
[74.61,0.86]
[74.62,0.86]
[74.63,0.86]
[74.64,0.86]
[74.650000000000006,0.86]
[74.66,0.86]
[74.67,0.86]
[74.680000000000007,0.86]
[74.69,0.86]
[74.7,0.86]
[74.709999999999994,0.86]
[74.72,0.86]
[74.73,0.86]
[74.739999999999995,0.86]
[74.75,0.86]
[74.760000000000005,0.86]
[74.77,0.86]
[74.78,0.86]
[74.790000000000006,0.86]
[74.8,0.86]
[74.81,0.86]
[74.819999999999993,0.86]
[74.83,0.86]
[74.84,0.86]
[74.849999999999994,0.86]
[74.86,0.86]
[74.87,0.86]
[74.88,0.86]
[74.89,0.86]
[74.900000000000006,0.86]
[74.91,0.86]
[74.92,0.86]
[74.930000000000007,0.86]
[74.94,0.86]
[74.95,0.86]
[74.959999999999994,0.86]
[74.97,0.86]
[74.98,0.86]
[74.989999999999995,0.86]
[75,0.86]
[75.010000000000005,0.86]
[75.02,0.86]
[75.03,0.86]
[75.040000000000006,0.86]
[75.05,0.86]
[75.06,0.86]
[75.069999999999993,0.86]
[75.08,0.86]
[75.09,0.86]
[75.099999999999994,0.86]
[75.11,0.86]
[75.12,0.86]
[75.13,0.86]
[75.14,0.86]
[75.150000000000006,0.86]
[75.16,0.86]
[75.17,0.86]
[75.180000000000007,0.86]
[75.19,0.86]
[75.2,0.86]
[75.209999999999994,0.86]
[75.22,0.86]
[75.23,0.86]
[75.239999999999995,0.86]
[75.25,0.86]
[75.260000000000005,0.86]
[75.27,0.86]
[75.28,0.86]
[75.290000000000006,0.86]
[75.3,0.86]
[75.31,0.86]
[75.319999999999993,0.86]
[75.33,0.86]
[75.34,0.86]
[75.349999999999994,0.86]
[75.36,0.86]
[75.37,0.86]
[75.38,0.86]
[75.39,0.86]
[75.400000000000006,0.86]
[75.41,0.86]
[75.42,0.86]
[75.430000000000007,0.86]
[75.44,0.86]
[75.45,0.86]
[75.459999999999994,0.86]
[75.47,0.86]
[75.48,0.86]
[75.489999999999995,0.86]
[75.5,0.86]
[75.510000000000005,0.86]
[75.52,0.86]
[75.53,0.86]
[75.540000000000006,0.86]
[75.55,0.86]
[75.56,0.86]
[75.569999999999993,0.86]
[75.58,0.86]
[75.59,0.86]
[75.599999999999994,0.86]
[75.61,0.86]
[75.62,0.86]
[75.63,0.86]
[75.64,0.86]
[75.650000000000006,0.86]
[75.66,0.86]
[75.67,0.86]
[75.680000000000007,0.86]
[75.69,0.86]
[75.7,0.86]
[75.709999999999994,0.86]
[75.72,0.86]
[75.73,0.86]
[75.739999999999995,0.86]
[75.75,0.86]
[75.760000000000005,0.86]
[75.77,0.86]
[75.78,0.86]
[75.790000000000006,0.86]
[75.8,0.86]
[75.81,0.86]
[75.819999999999993,0.86]
[75.83,0.86]
[75.84,0.86]
[75.849999999999994,0.86]
[75.86,0.86]
[75.87,0.86]
[75.88,0.86]
[75.89,0.86]
[75.900000000000006,0.86]
[75.91,0.86]
[75.92,0.86]
[75.930000000000007,0.86]
[75.94,0.86]
[75.95,0.86]
[75.959999999999994,0.86]
[75.97,0.86]
[75.98,0.86]
[75.989999999999995,0.86]
[76,0.86]
[76.010000000000005,0.86]
[76.02,0.86]
[76.03,0.86]
[76.040000000000006,0.86]
[76.05,0.86]
[76.06,0.86]
[76.069999999999993,0.86]
[76.08,0.86]
[76.09,0.86]
[76.099999999999994,0.86]
[76.11,0.86]
[76.12,0.86]
[76.13,0.86]
[76.14,0.86]
[76.150000000000006,0.86]
[76.16,0.86]
[76.17,0.86]
[76.180000000000007,0.86]
[76.19,0.86]
[76.2,0.86]
[76.209999999999994,0.86]
[76.22,0.86]
[76.23,0.86]
[76.239999999999995,0.86]
[76.25,0.86]
[76.260000000000005,0.86]
[76.27,0.86]
[76.28,0.86]
[76.290000000000006,0.86]
[76.3,0.86]
[76.31,0.86]
[76.319999999999993,0.86]
[76.33,0.86]
[76.34,0.86]
[76.349999999999994,0.86]
[76.36,0.86]
[76.37,0.86]
[76.38,0.86]
[76.39,0.86]
[76.400000000000006,0.86]
[76.41,0.86]
[76.42,0.86]
[76.430000000000007,0.86]
[76.44,0.86]
[76.45,0.86]
[76.459999999999994,0.86]
[76.47,0.86]
[76.48,0.86]
[76.489999999999995,0.86]
[76.5,0.86]
[76.510000000000005,0.86]
[76.52,0.86]
[76.53,0.86]
[76.540000000000006,0.86]
[76.55,0.86]
[76.56,0.86]
[76.569999999999993,0.86]
[76.58,0.86]
[76.59,0.86]
[76.599999999999994,0.86]
[76.61,0.86]
[76.62,0.86]
[76.63,0.86]
[76.64,0.86]
[76.650000000000006,0.86]
[76.66,0.86]
[76.67,0.86]
[76.680000000000007,0.86]
[76.69,0.86]
[76.7,0.86]
[76.709999999999994,0.86]
[76.72,0.86]
[76.73,0.86]
[76.739999999999995,0.86]
[76.75,0.86]
[76.760000000000005,0.86]
[76.77,0.86]
[76.78,0.86]
[76.790000000000006,0.86]
[76.8,0.86]
[76.81,0.86]
[76.819999999999993,0.86]
[76.83,0.86]
[76.84,0.86]
[76.849999999999994,0.86]
[76.86,0.86]
[76.87,0.86]
[76.88,0.86]
[76.89,0.86]
[76.900000000000006,0.86]
[76.91,0.86]
[76.92,0.86]
[76.930000000000007,0.86]
[76.94,0.86]
[76.95,0.86]
[76.959999999999994,0.86]
[76.97,0.86]
[76.98,0.86]
[76.989999999999995,0.86]
[77,0.86]
[77.010000000000005,0.86]
[77.02,0.86]
[77.03,0.86]
[77.040000000000006,0.86]
[77.05,0.86]
[77.06,0.86]
[77.069999999999993,0.86]
[77.08,0.86]
[77.09,0.86]
[77.099999999999994,0.86]
[77.11,0.86]
[77.12,0.86]
[77.13,0.86]
[77.14,0.86]
[77.150000000000006,0.86]
[77.16,0.86]
[77.17,0.86]
[77.180000000000007,0.86]
[77.19,0.86]
[77.2,0.86]
[77.209999999999994,0.86]
[77.22,0.86]
[77.23,0.86]
[77.239999999999995,0.86]
[77.25,0.86]
[77.260000000000005,0.86]
[77.27,0.86]
[77.28,0.86]
[77.290000000000006,0.86]
[77.3,0.86]
[77.31,0.86]
[77.319999999999993,0.86]
[77.33,0.86]
[77.34,0.86]
[77.349999999999994,0.86]
[77.36,0.86]
[77.37,0.86]
[77.38,0.86]
[77.39,0.86]
[77.400000000000006,0.86]
[77.41,0.86]
[77.42,0.86]
[77.430000000000007,0.86]
[77.44,0.86]
[77.45,0.86]
[77.459999999999994,0.86]
[77.47,0.86]
[77.48,0.86]
[77.489999999999995,0.86]
[77.5,0.86]
[77.510000000000005,0.86]
[77.52,0.86]
[77.53,0.86]
[77.540000000000006,0.86]
[77.55,0.86]
[77.56,0.86]
[77.569999999999993,0.86]
[77.58,0.86]
[77.59,0.86]
[77.599999999999994,0.86]
[77.61,0.86]
[77.62,0.86]
[77.63,0.86]
[77.64,0.86]
[77.650000000000006,0.86]
[77.66,0.86]
[77.67,0.86]
[77.680000000000007,0.86]
[77.69,0.86]
[77.7,0.86]
[77.709999999999994,0.86]
[77.72,0.86]
[77.73,0.86]
[77.739999999999995,0.86]
[77.75,0.86]
[77.760000000000005,0.86]
[77.77,0.86]
[77.78,0.86]
[77.790000000000006,0.86]
[77.8,0.86]
[77.81,0.86]
[77.819999999999993,0.86]
[77.83,0.86]
[77.84,0.86]
[77.849999999999994,0.86]
[77.86,0.86]
[77.87,0.86]
[77.88,0.86]
[77.89,0.86]
[77.900000000000006,0.86]
[77.91,0.86]
[77.92,0.86]
[77.930000000000007,0.86]
[77.94,0.86]
[77.95,0.86]
[77.959999999999994,0.86]
[77.97,0.86]
[77.98,0.86]
[77.989999999999995,0.86]
[78,0.86]
[78.010000000000005,0.86]
[78.02,0.86]
[78.03,0.86]
[78.040000000000006,0.86]
[78.05,0.86]
[78.06,0.86]
[78.069999999999993,0.86]
[78.08,0.86]
[78.09,0.86]
[78.099999999999994,0.86]
[78.11,0.86]
[78.12,0.86]
[78.13,0.86]
[78.14,0.86]
[78.150000000000006,0.86]
[78.16,0.86]
[78.17,0.86]
[78.180000000000007,0.86]
[78.19,0.86]
[78.2,0.86]
[78.209999999999994,0.86]
[78.22,0.86]
[78.23,0.86]
[78.239999999999995,0.86]
[78.25,0.86]
[78.260000000000005,0.86]
[78.27,0.86]
[78.28,0.86]
[78.290000000000006,0.86]
[78.3,0.86]
[78.31,0.86]
[78.319999999999993,0.86]
[78.33,0.86]
[78.34,0.86]
[78.349999999999994,0.86]
[78.36,0.86]
[78.37,0.86]
[78.38,0.86]
[78.39,0.86]
[78.400000000000006,0.86]
[78.41,0.86]
[78.42,0.86]
[78.430000000000007,0.86]
[78.44,0.86]
[78.45,0.86]
[78.459999999999994,0.86]
[78.47,0.86]
[78.48,0.86]
[78.489999999999995,0.86]
[78.5,0.86]
[78.510000000000005,0.86]
[78.52,0.86]
[78.53,0.86]
[78.540000000000006,0.86]
[78.55,0.86]
[78.56,0.86]
[78.569999999999993,0.86]
[78.58,0.86]
[78.59,0.86]
[78.599999999999994,0.86]
[78.61,0.86]
[78.62,0.86]
[78.63,0.86]
[78.64,0.86]
[78.650000000000006,0.86]
[78.66,0.86]
[78.67,0.86]
[78.680000000000007,0.86]
[78.69,0.86]
[78.7,0.86]
[78.709999999999994,0.86]
[78.72,0.86]
[78.73,0.86]
[78.739999999999995,0.86]
[78.75,0.86]
[78.760000000000005,0.86]
[78.77,0.86]
[78.78,0.86]
[78.790000000000006,0.86]
[78.8,0.86]
[78.81,0.86]
[78.819999999999993,0.86]
[78.83,0.86]
[78.84,0.86]
[78.849999999999994,0.86]
[78.86,0.86]
[78.87,0.86]
[78.88,0.86]
[78.89,0.86]
[78.900000000000006,0.86]
[78.91,0.86]
[78.92,0.86]
[78.930000000000007,0.86]
[78.94,0.86]
[78.95,0.86]
[78.959999999999994,0.86]
[78.97,0.86]
[78.98,0.86]
[78.989999999999995,0.86]
[79,0.86]
[79.010000000000005,0.86]
[79.02,0.86]
[79.03,0.86]
[79.040000000000006,0.86]
[79.05,0.86]
[79.06,0.86]
[79.069999999999993,0.86]
[79.08,0.86]
[79.09,0.86]
[79.099999999999994,0.86]
[79.11,0.86]
[79.12,0.86]
[79.13,0.86]
[79.14,0.86]
[79.150000000000006,0.86]
[79.16,0.86]
[79.17,0.86]
[79.180000000000007,0.86]
[79.19,0.86]
[79.2,0.86]
[79.209999999999994,0.86]
[79.22,0.86]
[79.23,0.86]
[79.239999999999995,0.86]
[79.25,0.86]
[79.260000000000005,0.86]
[79.27,0.86]
[79.28,0.86]
[79.290000000000006,0.86]
[79.3,0.86]
[79.31,0.86]
[79.319999999999993,0.86]
[79.33,0.86]
[79.34,0.86]
[79.349999999999994,0.86]
[79.36,0.86]
[79.37,0.86]
[79.38,0.86]
[79.39,0.86]
[79.400000000000006,0.86]
[79.41,0.86]
[79.42,0.86]
[79.430000000000007,0.86]
[79.44,0.86]
[79.45,0.86]
[79.459999999999994,0.86]
[79.47,0.86]
[79.48,0.86]
[79.489999999999995,0.86]
[79.5,0.86]
[79.510000000000005,0.86]
[79.52,0.86]
[79.53,0.86]
[79.540000000000006,0.86]
[79.55,0.86]
[79.56,0.86]
[79.569999999999993,0.86]
[79.58,0.86]
[79.59,0.86]
[79.599999999999994,0.86]
[79.61,0.86]
[79.62,0.86]
[79.63,0.86]
[79.64,0.86]
[79.650000000000006,0.86]
[79.66,0.86]
[79.67,0.86]
[79.680000000000007,0.86]
[79.69,0.86]
[79.7,0.86]
[79.709999999999994,0.86]
[79.72,0.86]
[79.73,0.86]
[79.739999999999995,0.86]
[79.75,0.86]
[79.760000000000005,0.86]
[79.77,0.86]
[79.78,0.86]
[79.790000000000006,0.86]
[79.8,0.86]
[79.81,0.86]
[79.819999999999993,0.86]
[79.83,0.86]
[79.84,0.86]
[79.849999999999994,0.86]
[79.86,0.86]
[79.87,0.86]
[79.88,0.86]
[79.89,0.86]
[79.900000000000006,0.86]
[79.91,0.86]
[79.92,0.86]
[79.930000000000007,0.86]
[79.94,0.86]
[79.95,0.86]
[79.959999999999994,0.86]
[79.97,0.86]
[79.98,0.86]
[79.989999999999995,0.86]
[80,0.86]
[80.010000000000005,0.83]
[80.02,0.83]
[80.03,0.83]
[80.040000000000006,0.83]
[80.05,0.83]
[80.06,0.83]
[80.069999999999993,0.83]
[80.08,0.83]
[80.09,0.83]
[80.099999999999994,0.83]
[80.11,0.83]
[80.12,0.83]
[80.13,0.83]
[80.14,0.83]
[80.150000000000006,0.83]
[80.16,0.83]
[80.17,0.83]
[80.180000000000007,0.83]
[80.19,0.83]
[80.2,0.83]
[80.209999999999994,0.83]
[80.22,0.83]
[80.23,0.83]
[80.239999999999995,0.83]
[80.25,0.83]
[80.260000000000005,0.83]
[80.27,0.83]
[80.28,0.83]
[80.290000000000006,0.83]
[80.3,0.83]
[80.31,0.83]
[80.319999999999993,0.83]
[80.33,0.83]
[80.34,0.83]
[80.349999999999994,0.83]
[80.36,0.83]
[80.37,0.83]
[80.38,0.83]
[80.39,0.83]
[80.400000000000006,0.83]
[80.41,0.83]
[80.42,0.83]
[80.430000000000007,0.83]
[80.44,0.83]
[80.45,0.83]
[80.459999999999994,0.83]
[80.47,0.83]
[80.48,0.83]
[80.489999999999995,0.83]
[80.5,0.83]
[80.510000000000005,0.83]
[80.52,0.83]
[80.53,0.83]
[80.540000000000006,0.83]
[80.55,0.83]
[80.56,0.83]
[80.569999999999993,0.83]
[80.58,0.83]
[80.59,0.83]
[80.599999999999994,0.83]
[80.61,0.83]
[80.62,0.83]
[80.63,0.83]
[80.64,0.83]
[80.650000000000006,0.83]
[80.66,0.83]
[80.67,0.83]
[80.680000000000007,0.83]
[80.69,0.83]
[80.7,0.83]
[80.709999999999994,0.83]
[80.72,0.83]
[80.73,0.83]
[80.739999999999995,0.83]
[80.75,0.83]
[80.760000000000005,0.83]
[80.77,0.83]
[80.78,0.83]
[80.790000000000006,0.83]
[80.8,0.83]
[80.81,0.83]
[80.819999999999993,0.83]
[80.83,0.83]
[80.84,0.83]
[80.849999999999994,0.83]
[80.86,0.83]
[80.87,0.83]
[80.88,0.83]
[80.89,0.83]
[80.900000000000006,0.83]
[80.91,0.83]
[80.92,0.83]
[80.930000000000007,0.83]
[80.94,0.83]
[80.95,0.83]
[80.959999999999994,0.83]
[80.97,0.83]
[80.98,0.83]
[80.989999999999995,0.83]
[81,0.83]
[81.010000000000005,0.83]
[81.02,0.83]
[81.03,0.83]
[81.040000000000006,0.83]
[81.05,0.83]
[81.06,0.83]
[81.069999999999993,0.83]
[81.08,0.83]
[81.09,0.83]
[81.099999999999994,0.83]
[81.11,0.83]
[81.12,0.83]
[81.13,0.83]
[81.14,0.83]
[81.150000000000006,0.83]
[81.16,0.83]
[81.17,0.83]
[81.180000000000007,0.83]
[81.19,0.83]
[81.2,0.83]
[81.209999999999994,0.83]
[81.22,0.83]
[81.23,0.83]
[81.239999999999995,0.83]
[81.25,0.83]
[81.260000000000005,0.83]
[81.27,0.83]
[81.28,0.83]
[81.290000000000006,0.83]
[81.3,0.83]
[81.31,0.83]
[81.319999999999993,0.83]
[81.33,0.83]
[81.34,0.83]
[81.349999999999994,0.83]
[81.36,0.83]
[81.37,0.83]
[81.38,0.83]
[81.39,0.83]
[81.400000000000006,0.83]
[81.41,0.83]
[81.42,0.83]
[81.430000000000007,0.83]
[81.44,0.83]
[81.45,0.83]
[81.459999999999994,0.83]
[81.47,0.83]
[81.48,0.83]
[81.489999999999995,0.83]
[81.5,0.83]
[81.510000000000005,0.83]
[81.52,0.83]
[81.53,0.83]
[81.540000000000006,0.83]
[81.55,0.83]
[81.56,0.83]
[81.569999999999993,0.83]
[81.58,0.83]
[81.59,0.83]
[81.599999999999994,0.83]
[81.61,0.83]
[81.62,0.83]
[81.63,0.83]
[81.64,0.83]
[81.650000000000006,0.83]
[81.66,0.83]
[81.67,0.83]
[81.680000000000007,0.83]
[81.69,0.83]
[81.7,0.83]
[81.709999999999994,0.83]
[81.72,0.83]
[81.73,0.83]
[81.739999999999995,0.83]
[81.75,0.83]
[81.760000000000005,0.83]
[81.77,0.83]
[81.78,0.83]
[81.790000000000006,0.83]
[81.8,0.83]
[81.81,0.83]
[81.819999999999993,0.83]
[81.83,0.83]
[81.84,0.83]
[81.849999999999994,0.83]
[81.86,0.83]
[81.87,0.83]
[81.88,0.83]
[81.89,0.83]
[81.900000000000006,0.83]
[81.91,0.83]
[81.92,0.83]
[81.93,0.83]
[81.94,0.83]
[81.95,0.83]
[81.96,0.83]
[81.97,0.83]
[81.98,0.83]
[81.99,0.83]
[82,0.83]
[82.01,0.83]
[82.02,0.83]
[82.03,0.83]
[82.04,0.83]
[82.05,0.83]
[82.06,0.83]
[82.07,0.83]
[82.08,0.83]
[82.09,0.83]
[82.1,0.83]
[82.11,0.83]
[82.12,0.83]
[82.13,0.83]
[82.14,0.83]
[82.15,0.83]
[82.16,0.83]
[82.17,0.83]
[82.18,0.83]
[82.19,0.83]
[82.2,0.83]
[82.21,0.83]
[82.22,0.83]
[82.23,0.83]
[82.24,0.83]
[82.25,0.83]
[82.26,0.83]
[82.27,0.83]
[82.28,0.83]
[82.29,0.83]
[82.3,0.83]
[82.31,0.83]
[82.32,0.83]
[82.33,0.83]
[82.34,0.83]
[82.35,0.83]
[82.36,0.83]
[82.37,0.83]
[82.38,0.83]
[82.39,0.83]
[82.4,0.83]
[82.41,0.83]
[82.42,0.83]
[82.43,0.83]
[82.44,0.83]
[82.45,0.83]
[82.46,0.83]
[82.47,0.83]
[82.48,0.83]
[82.49,0.83]
[82.5,0.83]
[82.51,0.83]
[82.52,0.83]
[82.53,0.83]
[82.54,0.83]
[82.55,0.83]
[82.56,0.83]
[82.57,0.83]
[82.58,0.83]
[82.59,0.83]
[82.6,0.83]
[82.61,0.83]
[82.62,0.83]
[82.63,0.83]
[82.64,0.83]
[82.65,0.83]
[82.66,0.83]
[82.67,0.83]
[82.68,0.83]
[82.69,0.83]
[82.7,0.83]
[82.71,0.83]
[82.72,0.83]
[82.73,0.83]
[82.74,0.83]
[82.75,0.83]
[82.76,0.83]
[82.77,0.83]
[82.78,0.83]
[82.79,0.83]
[82.8,0.83]
[82.81,0.83]
[82.82,0.83]
[82.83,0.83]
[82.84,0.83]
[82.85,0.83]
[82.86,0.83]
[82.87,0.83]
[82.88,0.83]
[82.89,0.83]
[82.9,0.83]
[82.91,0.83]
[82.92,0.83]
[82.93,0.83]
[82.94,0.83]
[82.95,0.83]
[82.96,0.83]
[82.97,0.83]
[82.98,0.83]
[82.99,0.83]
[83,0.83]
[83.01,0.83]
[83.02,0.83]
[83.03,0.83]
[83.04,0.83]
[83.05,0.83]
[83.06,0.83]
[83.07,0.83]
[83.08,0.83]
[83.09,0.83]
[83.1,0.83]
[83.11,0.83]
[83.12,0.83]
[83.13,0.83]
[83.14,0.83]
[83.15,0.83]
[83.16,0.83]
[83.17,0.83]
[83.18,0.83]
[83.19,0.83]
[83.2,0.83]
[83.21,0.83]
[83.22,0.83]
[83.23,0.83]
[83.24,0.83]
[83.25,0.83]
[83.26,0.83]
[83.27,0.83]
[83.28,0.83]
[83.29,0.83]
[83.3,0.83]
[83.31,0.83]
[83.32,0.83]
[83.33,0.83]
[83.34,0.83]
[83.35,0.83]
[83.36,0.83]
[83.37,0.83]
[83.38,0.83]
[83.39,0.83]
[83.4,0.83]
[83.41,0.83]
[83.42,0.83]
[83.43,0.83]
[83.44,0.83]
[83.45,0.83]
[83.46,0.83]
[83.47,0.83]
[83.48,0.83]
[83.49,0.83]
[83.5,0.83]
[83.51,0.83]
[83.52,0.83]
[83.53,0.83]
[83.54,0.83]
[83.55,0.83]
[83.56,0.83]
[83.57,0.83]
[83.58,0.83]
[83.59,0.83]
[83.6,0.83]
[83.61,0.83]
[83.62,0.83]
[83.63,0.83]
[83.64,0.83]
[83.65,0.83]
[83.66,0.83]
[83.67,0.83]
[83.68,0.83]
[83.69,0.83]
[83.7,0.83]
[83.71,0.83]
[83.72,0.83]
[83.73,0.83]
[83.74,0.83]
[83.75,0.83]
[83.76,0.83]
[83.77,0.83]
[83.78,0.83]
[83.79,0.83]
[83.8,0.83]
[83.81,0.83]
[83.82,0.83]
[83.83,0.83]
[83.84,0.83]
[83.85,0.83]
[83.86,0.83]
[83.87,0.83]
[83.88,0.83]
[83.89,0.83]
[83.9,0.83]
[83.91,0.83]
[83.92,0.83]
[83.93,0.83]
[83.94,0.83]
[83.95,0.83]
[83.96,0.83]
[83.97,0.83]
[83.98,0.83]
[83.99,0.83]
[84,0.83]
[84.01,0.83]
[84.02,0.83]
[84.03,0.83]
[84.04,0.83]
[84.05,0.83]
[84.06,0.83]
[84.07,0.83]
[84.08,0.83]
[84.09,0.83]
[84.1,0.83]
[84.11,0.83]
[84.12,0.83]
[84.13,0.83]
[84.14,0.83]
[84.15,0.83]
[84.16,0.83]
[84.17,0.83]
[84.18,0.83]
[84.19,0.83]
[84.2,0.83]
[84.21,0.83]
[84.22,0.83]
[84.23,0.83]
[84.24,0.83]
[84.25,0.83]
[84.26,0.83]
[84.27,0.83]
[84.28,0.83]
[84.29,0.83]
[84.3,0.83]
[84.31,0.83]
[84.32,0.83]
[84.33,0.83]
[84.34,0.83]
[84.35,0.83]
[84.36,0.83]
[84.37,0.83]
[84.38,0.83]
[84.39,0.83]
[84.4,0.83]
[84.41,0.83]
[84.42,0.83]
[84.43,0.83]
[84.44,0.83]
[84.45,0.83]
[84.46,0.83]
[84.47,0.83]
[84.48,0.83]
[84.49,0.83]
[84.5,0.83]
[84.51,0.83]
[84.52,0.83]
[84.53,0.83]
[84.54,0.83]
[84.55,0.83]
[84.56,0.83]
[84.57,0.83]
[84.58,0.83]
[84.59,0.83]
[84.6,0.83]
[84.61,0.83]
[84.62,0.83]
[84.63,0.83]
[84.64,0.83]
[84.65,0.83]
[84.66,0.83]
[84.67,0.83]
[84.68,0.83]
[84.69,0.83]
[84.7,0.83]
[84.71,0.83]
[84.72,0.83]
[84.73,0.83]
[84.74,0.83]
[84.75,0.83]
[84.76,0.83]
[84.77,0.83]
[84.78,0.83]
[84.79,0.83]
[84.8,0.83]
[84.81,0.83]
[84.82,0.83]
[84.83,0.83]
[84.84,0.83]
[84.85,0.83]
[84.86,0.83]
[84.87,0.83]
[84.88,0.83]
[84.89,0.83]
[84.9,0.83]
[84.91,0.83]
[84.92,0.83]
[84.93,0.83]
[84.94,0.83]
[84.95,0.83]
[84.96,0.83]
[84.97,0.83]
[84.98,0.83]
[84.99,0.83]
[85,0.83]
[85.01,0.83]
[85.02,0.83]
[85.03,0.83]
[85.04,0.83]
[85.05,0.83]
[85.06,0.83]
[85.07,0.83]
[85.08,0.83]
[85.09,0.83]
[85.1,0.83]
[85.11,0.83]
[85.12,0.83]
[85.13,0.83]
[85.14,0.83]
[85.15,0.83]
[85.16,0.83]
[85.17,0.83]
[85.18,0.83]
[85.19,0.83]
[85.2,0.83]
[85.21,0.83]
[85.22,0.83]
[85.23,0.83]
[85.24,0.83]
[85.25,0.83]
[85.26,0.83]
[85.27,0.83]
[85.28,0.83]
[85.29,0.83]
[85.3,0.83]
[85.31,0.83]
[85.32,0.83]
[85.33,0.83]
[85.34,0.83]
[85.35,0.83]
[85.36,0.83]
[85.37,0.83]
[85.38,0.83]
[85.39,0.83]
[85.4,0.83]
[85.41,0.83]
[85.42,0.83]
[85.43,0.83]
[85.44,0.83]
[85.45,0.83]
[85.46,0.83]
[85.47,0.83]
[85.48,0.83]
[85.49,0.83]
[85.5,0.83]
[85.51,0.83]
[85.52,0.83]
[85.53,0.83]
[85.54,0.83]
[85.55,0.83]
[85.56,0.83]
[85.57,0.83]
[85.58,0.83]
[85.59,0.83]
[85.6,0.83]
[85.61,0.83]
[85.62,0.83]
[85.63,0.83]
[85.64,0.83]
[85.65,0.83]
[85.66,0.83]
[85.67,0.83]
[85.68,0.83]
[85.69,0.83]
[85.7,0.83]
[85.71,0.83]
[85.72,0.83]
[85.73,0.83]
[85.74,0.83]
[85.75,0.83]
[85.76,0.83]
[85.77,0.83]
[85.78,0.83]
[85.79,0.83]
[85.8,0.83]
[85.81,0.83]
[85.82,0.83]
[85.83,0.83]
[85.84,0.83]
[85.85,0.83]
[85.86,0.83]
[85.87,0.83]
[85.88,0.83]
[85.89,0.83]
[85.9,0.83]
[85.91,0.83]
[85.92,0.83]
[85.93,0.83]
[85.94,0.83]
[85.95,0.83]
[85.96,0.83]
[85.97,0.83]
[85.98,0.83]
[85.99,0.83]
[86,0.83]
[86.01,0.83]
[86.02,0.83]
[86.03,0.83]
[86.04,0.83]
[86.05,0.83]
[86.06,0.83]
[86.07,0.83]
[86.08,0.83]
[86.09,0.83]
[86.1,0.83]
[86.11,0.83]
[86.12,0.83]
[86.13,0.83]
[86.14,0.83]
[86.15,0.83]
[86.16,0.83]
[86.17,0.83]
[86.18,0.83]
[86.19,0.83]
[86.2,0.83]
[86.21,0.83]
[86.22,0.83]
[86.23,0.83]
[86.24,0.83]
[86.25,0.83]
[86.26,0.83]
[86.27,0.83]
[86.28,0.83]
[86.29,0.83]
[86.3,0.83]
[86.31,0.83]
[86.32,0.83]
[86.33,0.83]
[86.34,0.83]
[86.35,0.83]
[86.36,0.83]
[86.37,0.83]
[86.38,0.83]
[86.39,0.83]
[86.4,0.83]
[86.41,0.83]
[86.42,0.83]
[86.43,0.83]
[86.44,0.83]
[86.45,0.83]
[86.46,0.83]
[86.47,0.83]
[86.48,0.83]
[86.49,0.83]
[86.5,0.83]
[86.51,0.83]
[86.52,0.83]
[86.53,0.83]
[86.54,0.83]
[86.55,0.83]
[86.56,0.83]
[86.57,0.83]
[86.58,0.83]
[86.59,0.83]
[86.6,0.83]
[86.61,0.83]
[86.62,0.83]
[86.63,0.83]
[86.64,0.83]
[86.65,0.83]
[86.66,0.83]
[86.67,0.83]
[86.68,0.83]
[86.69,0.83]
[86.7,0.83]
[86.71,0.83]
[86.72,0.83]
[86.73,0.83]
[86.74,0.83]
[86.75,0.83]
[86.76,0.83]
[86.77,0.83]
[86.78,0.83]
[86.79,0.83]
[86.8,0.83]
[86.81,0.83]
[86.82,0.83]
[86.83,0.83]
[86.84,0.83]
[86.85,0.83]
[86.86,0.83]
[86.87,0.83]
[86.88,0.83]
[86.89,0.83]
[86.9,0.83]
[86.91,0.83]
[86.92,0.83]
[86.93,0.83]
[86.94,0.83]
[86.95,0.83]
[86.96,0.83]
[86.97,0.83]
[86.98,0.83]
[86.99,0.83]
[87,0.83]
[87.01,0.83]
[87.02,0.83]
[87.03,0.83]
[87.04,0.83]
[87.05,0.83]
[87.06,0.83]
[87.07,0.83]
[87.08,0.83]
[87.09,0.83]
[87.1,0.83]
[87.11,0.83]
[87.12,0.83]
[87.13,0.83]
[87.14,0.83]
[87.15,0.83]
[87.16,0.83]
[87.17,0.83]
[87.18,0.83]
[87.19,0.83]
[87.2,0.83]
[87.21,0.83]
[87.22,0.83]
[87.23,0.83]
[87.24,0.83]
[87.25,0.83]
[87.26,0.83]
[87.27,0.83]
[87.28,0.83]
[87.29,0.83]
[87.3,0.83]
[87.31,0.83]
[87.32,0.83]
[87.33,0.83]
[87.34,0.83]
[87.35,0.83]
[87.36,0.83]
[87.37,0.83]
[87.38,0.83]
[87.39,0.83]
[87.4,0.83]
[87.41,0.83]
[87.42,0.83]
[87.43,0.83]
[87.44,0.83]
[87.45,0.83]
[87.46,0.83]
[87.47,0.83]
[87.48,0.83]
[87.49,0.83]
[87.5,0.83]
[87.51,0.83]
[87.52,0.83]
[87.53,0.83]
[87.54,0.83]
[87.55,0.83]
[87.56,0.83]
[87.57,0.83]
[87.58,0.83]
[87.59,0.83]
[87.6,0.83]
[87.61,0.83]
[87.62,0.83]
[87.63,0.83]
[87.64,0.83]
[87.65,0.83]
[87.66,0.83]
[87.67,0.83]
[87.68,0.83]
[87.69,0.83]
[87.7,0.83]
[87.71,0.83]
[87.72,0.83]
[87.73,0.83]
[87.74,0.83]
[87.75,0.83]
[87.76,0.83]
[87.77,0.83]
[87.78,0.83]
[87.79,0.83]
[87.8,0.83]
[87.81,0.83]
[87.82,0.83]
[87.83,0.83]
[87.84,0.83]
[87.85,0.83]
[87.86,0.83]
[87.87,0.83]
[87.88,0.83]
[87.89,0.83]
[87.9,0.83]
[87.91,0.83]
[87.92,0.83]
[87.93,0.83]
[87.94,0.83]
[87.95,0.83]
[87.96,0.83]
[87.97,0.83]
[87.98,0.83]
[87.99,0.83]
[88,0.83]
[88.01,0.83]
[88.02,0.83]
[88.03,0.83]
[88.04,0.83]
[88.05,0.83]
[88.06,0.83]
[88.07,0.83]
[88.08,0.83]
[88.09,0.83]
[88.1,0.83]
[88.11,0.83]
[88.12,0.83]
[88.13,0.83]
[88.14,0.83]
[88.15,0.83]
[88.16,0.83]
[88.17,0.83]
[88.18,0.83]
[88.19,0.83]
[88.2,0.83]
[88.21,0.83]
[88.22,0.83]
[88.23,0.83]
[88.24,0.83]
[88.25,0.83]
[88.26,0.83]
[88.27,0.83]
[88.28,0.83]
[88.29,0.83]
[88.3,0.83]
[88.31,0.83]
[88.32,0.83]
[88.33,0.83]
[88.34,0.83]
[88.35,0.83]
[88.36,0.83]
[88.37,0.83]
[88.38,0.83]
[88.39,0.83]
[88.4,0.83]
[88.41,0.83]
[88.42,0.83]
[88.43,0.83]
[88.44,0.83]
[88.45,0.83]
[88.46,0.83]
[88.47,0.83]
[88.48,0.83]
[88.49,0.83]
[88.5,0.83]
[88.51,0.83]
[88.52,0.83]
[88.53,0.83]
[88.54,0.83]
[88.55,0.83]
[88.56,0.83]
[88.57,0.83]
[88.58,0.83]
[88.59,0.83]
[88.6,0.83]
[88.61,0.83]
[88.62,0.83]
[88.63,0.83]
[88.64,0.83]
[88.65,0.83]
[88.66,0.83]
[88.67,0.83]
[88.68,0.83]
[88.69,0.83]
[88.7,0.83]
[88.71,0.83]
[88.72,0.83]
[88.73,0.83]
[88.74,0.83]
[88.75,0.83]
[88.76,0.83]
[88.77,0.83]
[88.78,0.83]
[88.79,0.83]
[88.8,0.83]
[88.81,0.83]
[88.82,0.83]
[88.83,0.83]
[88.84,0.83]
[88.85,0.83]
[88.86,0.83]
[88.87,0.83]
[88.88,0.83]
[88.89,0.83]
[88.9,0.83]
[88.91,0.83]
[88.92,0.83]
[88.93,0.83]
[88.94,0.83]
[88.95,0.83]
[88.96,0.83]
[88.97,0.83]
[88.98,0.83]
[88.99,0.83]
[89,0.83]
[89.01,0.83]
[89.02,0.83]
[89.03,0.83]
[89.04,0.83]
[89.05,0.83]
[89.06,0.83]
[89.07,0.83]
[89.08,0.83]
[89.09,0.83]
[89.1,0.83]
[89.11,0.83]
[89.12,0.83]
[89.13,0.83]
[89.14,0.83]
[89.15,0.83]
[89.16,0.83]
[89.17,0.83]
[89.18,0.83]
[89.19,0.83]
[89.2,0.83]
[89.21,0.83]
[89.22,0.83]
[89.23,0.83]
[89.24,0.83]
[89.25,0.83]
[89.26,0.83]
[89.27,0.83]
[89.28,0.83]
[89.29,0.83]
[89.3,0.83]
[89.31,0.83]
[89.32,0.83]
[89.33,0.83]
[89.34,0.83]
[89.35,0.83]
[89.36,0.83]
[89.37,0.83]
[89.38,0.83]
[89.39,0.83]
[89.4,0.83]
[89.41,0.83]
[89.42,0.83]
[89.43,0.83]
[89.44,0.83]
[89.45,0.83]
[89.46,0.83]
[89.47,0.83]
[89.48,0.83]
[89.49,0.83]
[89.5,0.83]
[89.51,0.83]
[89.52,0.83]
[89.53,0.83]
[89.54,0.83]
[89.55,0.83]
[89.56,0.83]
[89.57,0.83]
[89.58,0.83]
[89.59,0.83]
[89.6,0.83]
[89.61,0.83]
[89.62,0.83]
[89.63,0.83]
[89.64,0.83]
[89.65,0.83]
[89.66,0.83]
[89.67,0.83]
[89.68,0.83]
[89.69,0.83]
[89.7,0.83]
[89.71,0.83]
[89.72,0.83]
[89.73,0.83]
[89.74,0.83]
[89.75,0.83]
[89.76,0.83]
[89.77,0.83]
[89.78,0.83]
[89.79,0.83]
[89.8,0.83]
[89.81,0.83]
[89.82,0.83]
[89.83,0.83]
[89.84,0.83]
[89.85,0.83]
[89.86,0.83]
[89.87,0.83]
[89.88,0.83]
[89.89,0.83]
[89.9,0.83]
[89.91,0.83]
[89.92,0.83]
[89.93,0.83]
[89.94,0.83]
[89.95,0.83]
[89.96,0.83]
[89.97,0.83]
[89.98,0.83]
[89.99,0.83]
[90,0.83]
[90.01,0.83]
[90.02,0.83]
[90.03,0.83]
[90.04,0.83]
[90.05,0.83]
[90.06,0.83]
[90.07,0.83]
[90.08,0.83]
[90.09,0.83]
[90.1,0.83]
[90.11,0.83]
[90.12,0.83]
[90.13,0.83]
[90.14,0.83]
[90.15,0.83]
[90.16,0.83]
[90.17,0.83]
[90.18,0.83]
[90.19,0.83]
[90.2,0.83]
[90.21,0.83]
[90.22,0.83]
[90.23,0.83]
[90.24,0.83]
[90.25,0.83]
[90.26,0.83]
[90.27,0.83]
[90.28,0.83]
[90.29,0.83]
[90.3,0.83]
[90.31,0.83]
[90.32,0.83]
[90.33,0.83]
[90.34,0.83]
[90.35,0.83]
[90.36,0.83]
[90.37,0.83]
[90.38,0.83]
[90.39,0.83]
[90.4,0.83]
[90.41,0.83]
[90.42,0.83]
[90.43,0.83]
[90.44,0.83]
[90.45,0.83]
[90.46,0.83]
[90.47,0.83]
[90.48,0.83]
[90.49,0.83]
[90.5,0.83]
[90.51,0.83]
[90.52,0.83]
[90.53,0.83]
[90.54,0.83]
[90.55,0.83]
[90.56,0.83]
[90.57,0.83]
[90.58,0.83]
[90.59,0.83]
[90.6,0.83]
[90.61,0.83]
[90.62,0.83]
[90.63,0.83]
[90.64,0.83]
[90.65,0.83]
[90.66,0.83]
[90.67,0.83]
[90.68,0.83]
[90.69,0.83]
[90.7,0.83]
[90.71,0.83]
[90.72,0.83]
[90.73,0.83]
[90.74,0.83]
[90.75,0.83]
[90.76,0.83]
[90.77,0.83]
[90.78,0.83]
[90.79,0.83]
[90.8,0.83]
[90.81,0.83]
[90.82,0.83]
[90.83,0.83]
[90.84,0.83]
[90.85,0.83]
[90.86,0.83]
[90.87,0.83]
[90.88,0.83]
[90.89,0.83]
[90.9,0.83]
[90.91,0.83]
[90.92,0.83]
[90.93,0.83]
[90.94,0.83]
[90.95,0.83]
[90.96,0.83]
[90.97,0.83]
[90.98,0.83]
[90.99,0.83]
[91,0.83]
[91.01,0.83]
[91.02,0.83]
[91.03,0.83]
[91.04,0.83]
[91.05,0.83]
[91.06,0.83]
[91.07,0.83]
[91.08,0.83]
[91.09,0.83]
[91.1,0.83]
[91.11,0.83]
[91.12,0.83]
[91.13,0.83]
[91.14,0.83]
[91.15,0.83]
[91.16,0.83]
[91.17,0.83]
[91.18,0.83]
[91.19,0.83]
[91.2,0.83]
[91.21,0.83]
[91.22,0.83]
[91.23,0.83]
[91.24,0.83]
[91.25,0.83]
[91.26,0.83]
[91.27,0.83]
[91.28,0.83]
[91.29,0.83]
[91.3,0.83]
[91.31,0.83]
[91.32,0.83]
[91.33,0.83]
[91.34,0.83]
[91.35,0.83]
[91.36,0.83]
[91.37,0.83]
[91.38,0.83]
[91.39,0.83]
[91.4,0.83]
[91.41,0.83]
[91.42,0.83]
[91.43,0.83]
[91.44,0.83]
[91.45,0.83]
[91.46,0.83]
[91.47,0.83]
[91.48,0.83]
[91.49,0.83]
[91.5,0.83]
[91.51,0.83]
[91.52,0.83]
[91.53,0.83]
[91.54,0.83]
[91.55,0.83]
[91.56,0.83]
[91.57,0.83]
[91.58,0.83]
[91.59,0.83]
[91.6,0.83]
[91.61,0.83]
[91.62,0.83]
[91.63,0.83]
[91.64,0.83]
[91.65,0.83]
[91.66,0.83]
[91.67,0.83]
[91.68,0.83]
[91.69,0.83]
[91.7,0.83]
[91.71,0.83]
[91.72,0.83]
[91.73,0.83]
[91.74,0.83]
[91.75,0.83]
[91.76,0.83]
[91.77,0.83]
[91.78,0.83]
[91.79,0.83]
[91.8,0.83]
[91.81,0.83]
[91.82,0.83]
[91.83,0.83]
[91.84,0.83]
[91.85,0.83]
[91.86,0.83]
[91.87,0.83]
[91.88,0.83]
[91.89,0.83]
[91.9,0.83]
[91.91,0.83]
[91.92,0.83]
[91.93,0.83]
[91.94,0.83]
[91.95,0.83]
[91.96,0.83]
[91.97,0.83]
[91.98,0.83]
[91.99,0.83]
[92,0.83]
[92.01,0.83]
[92.02,0.83]
[92.03,0.83]
[92.04,0.83]
[92.05,0.83]
[92.06,0.83]
[92.07,0.83]
[92.08,0.83]
[92.09,0.83]
[92.1,0.83]
[92.11,0.83]
[92.12,0.83]
[92.13,0.83]
[92.14,0.83]
[92.15,0.83]
[92.16,0.83]
[92.17,0.83]
[92.18,0.83]
[92.19,0.83]
[92.2,0.83]
[92.21,0.83]
[92.22,0.83]
[92.23,0.83]
[92.24,0.83]
[92.25,0.83]
[92.26,0.83]
[92.27,0.83]
[92.28,0.83]
[92.29,0.83]
[92.3,0.83]
[92.31,0.83]
[92.32,0.83]
[92.33,0.83]
[92.34,0.83]
[92.35,0.83]
[92.36,0.83]
[92.37,0.83]
[92.38,0.83]
[92.39,0.83]
[92.4,0.83]
[92.41,0.83]
[92.42,0.83]
[92.43,0.83]
[92.44,0.83]
[92.45,0.83]
[92.46,0.83]
[92.47,0.83]
[92.48,0.83]
[92.49,0.83]
[92.5,0.83]
[92.51,0.83]
[92.52,0.83]
[92.53,0.83]
[92.54,0.83]
[92.55,0.83]
[92.56,0.83]
[92.57,0.83]
[92.58,0.83]
[92.59,0.83]
[92.6,0.83]
[92.61,0.83]
[92.62,0.83]
[92.63,0.83]
[92.64,0.83]
[92.65,0.83]
[92.66,0.83]
[92.67,0.83]
[92.68,0.83]
[92.69,0.83]
[92.7,0.83]
[92.71,0.83]
[92.72,0.83]
[92.73,0.83]
[92.74,0.83]
[92.75,0.83]
[92.76,0.83]
[92.77,0.83]
[92.78,0.83]
[92.79,0.83]
[92.8,0.83]
[92.81,0.83]
[92.82,0.83]
[92.83,0.83]
[92.84,0.83]
[92.85,0.83]
[92.86,0.83]
[92.87,0.83]
[92.88,0.83]
[92.89,0.83]
[92.9,0.83]
[92.91,0.83]
[92.92,0.83]
[92.93,0.83]
[92.94,0.83]
[92.95,0.83]
[92.96,0.83]
[92.97,0.83]
[92.98,0.83]
[92.99,0.83]
[93,0.83]
[93.01,0.83]
[93.02,0.83]
[93.03,0.83]
[93.04,0.83]
[93.05,0.83]
[93.06,0.83]
[93.07,0.83]
[93.08,0.83]
[93.09,0.83]
[93.1,0.83]
[93.11,0.83]
[93.12,0.83]
[93.13,0.83]
[93.14,0.83]
[93.15,0.83]
[93.16,0.83]
[93.17,0.83]
[93.18,0.83]
[93.19,0.83]
[93.2,0.83]
[93.21,0.83]
[93.22,0.83]
[93.23,0.83]
[93.24,0.83]
[93.25,0.83]
[93.26,0.83]
[93.27,0.83]
[93.28,0.83]
[93.29,0.83]
[93.3,0.83]
[93.31,0.83]
[93.32,0.83]
[93.33,0.83]
[93.34,0.83]
[93.35,0.83]
[93.36,0.83]
[93.37,0.83]
[93.38,0.83]
[93.39,0.83]
[93.4,0.83]
[93.41,0.83]
[93.42,0.83]
[93.43,0.83]
[93.44,0.83]
[93.45,0.83]
[93.46,0.83]
[93.47,0.83]
[93.48,0.83]
[93.49,0.83]
[93.5,0.83]
[93.51,0.83]
[93.52,0.83]
[93.53,0.83]
[93.54,0.83]
[93.55,0.83]
[93.56,0.83]
[93.57,0.83]
[93.58,0.83]
[93.59,0.83]
[93.6,0.83]
[93.61,0.83]
[93.62,0.83]
[93.63,0.83]
[93.64,0.83]
[93.65,0.83]
[93.66,0.83]
[93.67,0.83]
[93.68,0.83]
[93.69,0.83]
[93.7,0.83]
[93.71,0.83]
[93.72,0.83]
[93.73,0.83]
[93.74,0.83]
[93.75,0.83]
[93.76,0.83]
[93.77,0.83]
[93.78,0.83]
[93.79,0.83]
[93.8,0.83]
[93.81,0.83]
[93.82,0.83]
[93.83,0.83]
[93.84,0.83]
[93.85,0.83]
[93.86,0.83]
[93.87,0.83]
[93.88,0.83]
[93.89,0.83]
[93.9,0.83]
[93.91,0.83]
[93.92,0.83]
[93.93,0.83]
[93.94,0.83]
[93.95,0.83]
[93.96,0.83]
[93.97,0.83]
[93.98,0.83]
[93.99,0.83]
[94,0.83]
[94.01,0.83]
[94.02,0.83]
[94.03,0.83]
[94.04,0.83]
[94.05,0.83]
[94.06,0.83]
[94.07,0.83]
[94.08,0.83]
[94.09,0.83]
[94.1,0.83]
[94.11,0.83]
[94.12,0.83]
[94.13,0.83]
[94.14,0.83]
[94.15,0.83]
[94.16,0.83]
[94.17,0.83]
[94.18,0.83]
[94.19,0.83]
[94.2,0.83]
[94.21,0.83]
[94.22,0.83]
[94.23,0.83]
[94.24,0.83]
[94.25,0.83]
[94.26,0.83]
[94.27,0.83]
[94.28,0.83]
[94.29,0.83]
[94.3,0.83]
[94.31,0.83]
[94.32,0.83]
[94.33,0.83]
[94.34,0.83]
[94.35,0.83]
[94.36,0.83]
[94.37,0.83]
[94.38,0.83]
[94.39,0.83]
[94.4,0.83]
[94.41,0.83]
[94.42,0.83]
[94.43,0.83]
[94.44,0.83]
[94.45,0.83]
[94.46,0.83]
[94.47,0.83]
[94.48,0.83]
[94.49,0.83]
[94.5,0.83]
[94.51,0.83]
[94.52,0.83]
[94.53,0.83]
[94.54,0.83]
[94.55,0.83]
[94.56,0.83]
[94.57,0.83]
[94.58,0.83]
[94.59,0.83]
[94.6,0.83]
[94.61,0.83]
[94.62,0.83]
[94.63,0.83]
[94.64,0.83]
[94.65,0.83]
[94.66,0.83]
[94.67,0.83]
[94.68,0.83]
[94.69,0.83]
[94.7,0.83]
[94.71,0.83]
[94.72,0.83]
[94.73,0.83]
[94.74,0.83]
[94.75,0.83]
[94.76,0.83]
[94.77,0.83]
[94.78,0.83]
[94.79,0.83]
[94.8,0.83]
[94.81,0.83]
[94.82,0.83]
[94.83,0.83]
[94.84,0.83]
[94.85,0.83]
[94.86,0.83]
[94.87,0.83]
[94.88,0.83]
[94.89,0.83]
[94.9,0.83]
[94.91,0.83]
[94.92,0.83]
[94.93,0.83]
[94.94,0.83]
[94.95,0.83]
[94.96,0.83]
[94.97,0.83]
[94.98,0.83]
[94.99,0.83]
[95,0.83]
[95.01,0.83]
[95.02,0.83]
[95.03,0.83]
[95.04,0.83]
[95.05,0.83]
[95.06,0.83]
[95.07,0.83]
[95.08,0.83]
[95.09,0.83]
[95.1,0.83]
[95.11,0.83]
[95.12,0.83]
[95.13,0.83]
[95.14,0.83]
[95.15,0.83]
[95.16,0.83]
[95.17,0.83]
[95.18,0.83]
[95.19,0.83]
[95.2,0.83]
[95.21,0.83]
[95.22,0.83]
[95.23,0.83]
[95.24,0.83]
[95.25,0.83]
[95.26,0.83]
[95.27,0.83]
[95.28,0.83]
[95.29,0.83]
[95.3,0.83]
[95.31,0.83]
[95.32,0.83]
[95.33,0.83]
[95.34,0.83]
[95.35,0.83]
[95.36,0.83]
[95.37,0.83]
[95.38,0.83]
[95.39,0.83]
[95.4,0.83]
[95.41,0.83]
[95.42,0.83]
[95.43,0.83]
[95.44,0.83]
[95.45,0.83]
[95.46,0.83]
[95.47,0.83]
[95.48,0.83]
[95.49,0.83]
[95.5,0.83]
[95.51,0.83]
[95.52,0.83]
[95.53,0.83]
[95.54,0.83]
[95.55,0.83]
[95.56,0.83]
[95.57,0.83]
[95.58,0.83]
[95.59,0.83]
[95.6,0.83]
[95.61,0.83]
[95.62,0.83]
[95.63,0.83]
[95.64,0.83]
[95.65,0.83]
[95.66,0.83]
[95.67,0.83]
[95.68,0.83]
[95.69,0.83]
[95.7,0.83]
[95.71,0.83]
[95.72,0.83]
[95.73,0.83]
[95.74,0.83]
[95.75,0.83]
[95.76,0.83]
[95.77,0.83]
[95.78,0.83]
[95.79,0.83]
[95.8,0.83]
[95.81,0.83]
[95.82,0.83]
[95.83,0.83]
[95.84,0.83]
[95.85,0.83]
[95.86,0.83]
[95.87,0.83]
[95.88,0.83]
[95.89,0.83]
[95.9,0.83]
[95.91,0.83]
[95.92,0.83]
[95.93,0.83]
[95.94,0.83]
[95.95,0.83]
[95.96,0.83]
[95.97,0.83]
[95.98,0.83]
[95.99,0.83]
[96,0.83]
[96.01,0.83]
[96.02,0.83]
[96.03,0.83]
[96.04,0.83]
[96.05,0.83]
[96.06,0.83]
[96.07,0.83]
[96.08,0.83]
[96.09,0.83]
[96.1,0.83]
[96.11,0.83]
[96.12,0.83]
[96.13,0.83]
[96.14,0.83]
[96.15,0.83]
[96.16,0.83]
[96.17,0.83]
[96.18,0.83]
[96.19,0.83]
[96.2,0.83]
[96.21,0.83]
[96.22,0.83]
[96.23,0.83]
[96.24,0.83]
[96.25,0.83]
[96.26,0.83]
[96.27,0.83]
[96.28,0.83]
[96.29,0.83]
[96.3,0.83]
[96.31,0.83]
[96.32,0.83]
[96.33,0.83]
[96.34,0.83]
[96.35,0.83]
[96.36,0.83]
[96.37,0.83]
[96.38,0.83]
[96.39,0.83]
[96.4,0.83]
[96.41,0.83]
[96.42,0.83]
[96.43,0.83]
[96.44,0.83]
[96.45,0.83]
[96.46,0.83]
[96.47,0.83]
[96.48,0.83]
[96.49,0.83]
[96.5,0.83]
[96.51,0.83]
[96.52,0.83]
[96.53,0.83]
[96.54,0.83]
[96.55,0.83]
[96.56,0.83]
[96.57,0.83]
[96.58,0.83]
[96.59,0.83]
[96.6,0.83]
[96.61,0.83]
[96.62,0.83]
[96.63,0.83]
[96.64,0.83]
[96.65,0.83]
[96.66,0.83]
[96.67,0.83]
[96.68,0.83]
[96.69,0.83]
[96.7,0.83]
[96.71,0.83]
[96.72,0.83]
[96.73,0.83]
[96.74,0.83]
[96.75,0.83]
[96.76,0.83]
[96.77,0.83]
[96.78,0.83]
[96.79,0.83]
[96.8,0.83]
[96.81,0.83]
[96.82,0.83]
[96.83,0.83]
[96.84,0.83]
[96.85,0.83]
[96.86,0.83]
[96.87,0.83]
[96.88,0.83]
[96.89,0.83]
[96.9,0.83]
[96.91,0.83]
[96.92,0.83]
[96.93,0.83]
[96.94,0.83]
[96.95,0.83]
[96.96,0.83]
[96.97,0.83]
[96.98,0.83]
[96.99,0.83]
[97,0.83]
[97.01,0.83]
[97.02,0.83]
[97.03,0.83]
[97.04,0.83]
[97.05,0.83]
[97.06,0.83]
[97.07,0.83]
[97.08,0.83]
[97.09,0.83]
[97.1,0.83]
[97.11,0.83]
[97.12,0.83]
[97.13,0.83]
[97.14,0.83]
[97.15,0.83]
[97.16,0.83]
[97.17,0.83]
[97.18,0.83]
[97.19,0.83]
[97.2,0.83]
[97.21,0.83]
[97.22,0.83]
[97.23,0.83]
[97.24,0.83]
[97.25,0.83]
[97.26,0.83]
[97.27,0.83]
[97.28,0.83]
[97.29,0.83]
[97.3,0.83]
[97.31,0.83]
[97.32,0.83]
[97.33,0.83]
[97.34,0.83]
[97.35,0.83]
[97.36,0.83]
[97.37,0.83]
[97.38,0.83]
[97.39,0.83]
[97.4,0.83]
[97.41,0.83]
[97.42,0.83]
[97.43,0.83]
[97.44,0.83]
[97.45,0.83]
[97.46,0.83]
[97.47,0.83]
[97.48,0.83]
[97.49,0.83]
[97.5,0.83]
[97.51,0.83]
[97.52,0.83]
[97.53,0.83]
[97.54,0.83]
[97.55,0.83]
[97.56,0.83]
[97.57,0.83]
[97.58,0.83]
[97.59,0.83]
[97.6,0.83]
[97.61,0.83]
[97.62,0.83]
[97.63,0.83]
[97.64,0.83]
[97.65,0.83]
[97.66,0.83]
[97.67,0.83]
[97.68,0.83]
[97.69,0.83]
[97.7,0.83]
[97.71,0.83]
[97.72,0.83]
[97.73,0.83]
[97.74,0.83]
[97.75,0.83]
[97.76,0.83]
[97.77,0.83]
[97.78,0.83]
[97.79,0.83]
[97.8,0.83]
[97.81,0.83]
[97.82,0.83]
[97.83,0.83]
[97.84,0.83]
[97.85,0.83]
[97.86,0.83]
[97.87,0.83]
[97.88,0.83]
[97.89,0.83]
[97.9,0.83]
[97.91,0.83]
[97.92,0.83]
[97.93,0.83]
[97.94,0.83]
[97.95,0.83]
[97.96,0.83]
[97.97,0.83]
[97.98,0.83]
[97.99,0.83]
[98,0.83]
[98.01,0.83]
[98.02,0.83]
[98.03,0.83]
[98.04,0.83]
[98.05,0.83]
[98.06,0.83]
[98.07,0.83]
[98.08,0.83]
[98.09,0.83]
[98.1,0.83]
[98.11,0.83]
[98.12,0.83]
[98.13,0.83]
[98.14,0.83]
[98.15,0.83]
[98.16,0.83]
[98.17,0.83]
[98.18,0.83]
[98.19,0.83]
[98.2,0.83]
[98.21,0.83]
[98.22,0.83]
[98.23,0.83]
[98.24,0.83]
[98.25,0.83]
[98.26,0.83]
[98.27,0.83]
[98.28,0.83]
[98.29,0.83]
[98.3,0.83]
[98.31,0.83]
[98.32,0.83]
[98.33,0.83]
[98.34,0.83]
[98.35,0.83]
[98.36,0.83]
[98.37,0.83]
[98.38,0.83]
[98.39,0.83]
[98.4,0.83]
[98.41,0.83]
[98.42,0.83]
[98.43,0.83]
[98.44,0.83]
[98.45,0.83]
[98.46,0.83]
[98.47,0.83]
[98.48,0.83]
[98.49,0.83]
[98.5,0.83]
[98.51,0.83]
[98.52,0.83]
[98.53,0.83]
[98.54,0.83]
[98.55,0.83]
[98.56,0.83]
[98.57,0.83]
[98.58,0.83]
[98.59,0.83]
[98.6,0.83]
[98.61,0.83]
[98.62,0.83]
[98.63,0.83]
[98.64,0.83]
[98.65,0.83]
[98.66,0.83]
[98.67,0.83]
[98.68,0.83]
[98.69,0.83]
[98.7,0.83]
[98.71,0.83]
[98.72,0.83]
[98.73,0.83]
[98.74,0.83]
[98.75,0.83]
[98.76,0.83]
[98.77,0.83]
[98.78,0.83]
[98.79,0.83]
[98.8,0.83]
[98.81,0.83]
[98.82,0.83]
[98.83,0.83]
[98.84,0.83]
[98.85,0.83]
[98.86,0.83]
[98.87,0.83]
[98.88,0.83]
[98.89,0.83]
[98.9,0.83]
[98.91,0.83]
[98.92,0.83]
[98.93,0.83]
[98.94,0.83]
[98.95,0.83]
[98.96,0.83]
[98.97,0.83]
[98.98,0.83]
[98.99,0.83]
[99,0.83]
[99.01,0.83]
[99.02,0.83]
[99.03,0.83]
[99.04,0.83]
[99.05,0.83]
[99.06,0.83]
[99.07,0.83]
[99.08,0.83]
[99.09,0.83]
[99.1,0.83]
[99.11,0.83]
[99.12,0.83]
[99.13,0.83]
[99.14,0.83]
[99.15,0.83]
[99.16,0.83]
[99.17,0.83]
[99.18,0.83]
[99.19,0.83]
[99.2,0.83]
[99.21,0.83]
[99.22,0.83]
[99.23,0.83]
[99.24,0.83]
[99.25,0.83]
[99.26,0.83]
[99.27,0.83]
[99.28,0.83]
[99.29,0.83]
[99.3,0.83]
[99.31,0.83]
[99.32,0.83]
[99.33,0.83]
[99.34,0.83]
[99.35,0.83]
[99.36,0.83]
[99.37,0.83]
[99.38,0.83]
[99.39,0.83]
[99.4,0.83]
[99.41,0.83]
[99.42,0.83]
[99.43,0.83]
[99.44,0.83]
[99.45,0.83]
[99.46,0.83]
[99.47,0.83]
[99.48,0.83]
[99.49,0.83]
[99.5,0.83]
[99.51,0.83]
[99.52,0.83]
[99.53,0.83]
[99.54,0.83]
[99.55,0.83]
[99.56,0.83]
[99.57,0.83]
[99.58,0.83]
[99.59,0.83]
[99.6,0.83]
[99.61,0.83]
[99.62,0.83]
[99.63,0.83]
[99.64,0.83]
[99.65,0.83]
[99.66,0.83]
[99.67,0.83]
[99.68,0.83]
[99.69,0.83]
[99.7,0.83]
[99.71,0.83]
[99.72,0.83]
[99.73,0.83]
[99.74,0.83]
[99.75,0.83]
[99.76,0.83]
[99.77,0.83]
[99.78,0.83]
[99.79,0.83]
[99.8,0.83]
[99.81,0.83]
[99.82,0.83]
[99.83,0.83]
[99.84,0.83]
[99.85,0.83]
[99.86,0.83]
[99.87,0.83]
[99.88,0.83]
[99.89,0.83]
[99.9,0.83]
[99.91,0.83]
[99.92,0.83]
[99.93,0.83]
[99.94,0.83]
[99.95,0.83]
[99.96,0.83]
[99.97,0.83]
[99.98,0.83]
[99.99,0.83]
[100,0.83]
[100.01,0.8]